Workbook
Name Constr: '04-40697-0-0-АС.ЛС'!#REF!
Name Constr: '04-40697-0-0-ОВ.ЛС'!#REF!
Name FOT: '04-40697-0-0-АС.ЛС'!#REF!
Name FOT: '04-40697-0-0-ОВ.ЛС'!#REF!
Name Ind: '04-40697-0-0-АС.ЛС'!#REF!
Name Ind: '04-40697-0-0-ОВ.ЛС'!#REF!
Name Obj: '04-40697-0-0-АС.ЛС'!#REF!
Name Obj: '04-40697-0-0-ОВ.ЛС'!#REF!
Name Obosn: '04-40697-0-0-АС.ЛС'!#REF!
Name Obosn: '04-40697-0-0-ОВ.ЛС'!#REF!
Name SmPr: '04-40697-0-0-АС.ЛС'!#REF!
Name SmPr: '04-40697-0-0-ОВ.ЛС'!#REF!
Name аааааппппппрррппппппп: #REF!
Name аараооооооооооооо: #REF!
Name автом: #REF!
Name алшрльоплварл: #REF!
Name аолвлддддддддддддддддввввввввв: #REF!
Name апарв: #REF!
Name апрлдджаоырыфрпопрлпрлпрлп: #REF!
Name арлггаджаш: #REF!
Name ароррбллтблпроорапииас: #REF!
Name арррррблллпдрлдддддддддд: #REF!
Name варпаааааааааа: #REF!
Name ввпьььььлднд: #REF!
Name вед: #REF!
Name вертикальная: #REF!
Name вертикплан: #REF!
Name волен: #REF!
Name вп: #REF!
Name впырпфдыпл: #REF!
Name впьглорьтитттттттттт: #REF!
Name всввввввввввввввввввввввввв: #REF!
Name выб: #REF!
Name выпуск: #REF!
Name выьлепвввввпмп: #REF!
Name еваопродолжэрщэрзшщщх: #REF!
Name измен: #REF!
Name итого: #REF!
Name итого_сантех: #REF!
Name итого_стр: #REF!
Name итого_строит: #REF!
Name итого_технол: #REF!
Name итого_электр: #REF!
Name квота: #REF!
Name кккккккккк: #REF!
Name корек: #REF!
Name корект: #REF!
Name корректир: #REF!
Name лен: #REF!
Name лот: #REF!
Name мамиааааааааааааааааааааааааааааа: #REF!
Name ммпоослччччччччччрччапппппппппр: #REF!
Name мрол: #REF!
Name оз: #REF!
Name озелен: #REF!
Name озеленение: #REF!
Name озеленение2: #REF!
Name ОСР: #REF!
Name ОСР110: #REF!
Name ОСР111: #REF!

Sheet 04-40697-0-0-АС.ЛС
A1: СОГЛАСОВАНО: | M1: УТВЕРЖДАЮ:
A4: _________________ | M4: _________________
A5: " _____ " ________________ 2014 г. | M5: "______ " _______________2014 г.
G7: (наименование стройки)
G9: ЛОКАЛЬНЫЙ СМЕТНЫЙ РАСЧЕТ № 04-40697-0-0-АС.ЛС
G10: (локальная смета)
C12: на | D12: Архитектурно-строительные решения
G13: (наименование работ и затрат, наименование объекта)
D15: Основание: РД 04-40697-0-0-АС
D16: Сметная стоимость строительных работ _______________________________________________________________________________________________ | J16: ___________________________9,095 | L16: тыс. руб.
D17: Средства на оплату труда _______________________________________________________________________________________________ | J17: ___________________________1,260 | L17: тыс. руб.
D18: Сметная трудоемкость _______________________________________________________________________________________________ | J18: _______________________________________________________________________________________________90,79 | L18: чел.час
D19: Составлен(а) в текущих (прогнозных) ценах по состоянию на ______________
A22: № пп | B22: Обосно- вание | C22: Наименование | D22: Ед. изм. | E22: Кол. | F22: Стоимость единицы, руб. | J22: Общая стоимость, руб. | O22: Т/з осн. раб.на ед. | P22: Т/з осн. раб. Всего | Q22: Общая масса обору-дования, т
F23: Всего | G23: В том числе | J23: Обору- дование | K23: Всего | L23: В том числе
G24: Осн.З/п | H24: Эк.Маш | I24: З/пМех | L24: Осн.З/п | M24: Эк.Маш | N24: З/пМех
A25: 1 | B25: 2 | C25: 3 | D25: 4 | E25: 5 | F25: 6 | G25: 7 | H25: 8 | I25: 9 | J25: 10 | K25: 11 | L25: 12 | M25: 13 | N25: 14 | O25: 15 | P25: 16 | Q25: 17
A26: Раздел 1. Лист 6. 3 Технические требования
A27: 1 | B27: ТЕР13-03-002-01 Постан.Правит.Свердл.обл. от 10.11.10 №1616-ПП прим.= Огрунтовка металлических поверхностей за два раза грунтовкой Цинотан | C27: Огрунтовка металлических поверхностей за один раз грунтовкой ХС-068 (ПЗ=2 (ОЗП=2; ЭМ=2 к расх.; ЗПМ=2; МАТ=2 к расх.; ТЗ=2; ТЗМ=2)) | D27: 100 м2 окрашиваемой поверхности | E27: 0.09 | F27: 888.16 | G27: 120.9 | H27: 22.48 | I27: 0.32 | K27: 80 | L27: 11 | M27: 2 | O27: 7.84 | P27: 0.71
A28: 2 | B28: ТСЦ-113-0031 Постан.Правит.Свердл.обл. от 10.11.10 №1616-ПП | C28: Грунтовка ХС-068 красно-коричневая | D28: т | E28: -0.0029 | F28: 17433.5 | K28: -51
A29: 3 | B29: цена поставщика | C29: Композиция антикоррозионная грунтовочная ЦИНОТАН ( 335 руб./кг) (Итого без НДС (МАТ=МАТ/1,18-МАТ); приведение к базисному уровню цен на материалы (МАТ=МАТ/5,73-МАТ)) | D29: кг | E29: 2.9 | F29: 49.55 | K29: 144
A30: 4 | B30: ТЕР13-03-004-09 Постан.Правит.Свердл.обл. от 10.11.10 №1616-ПП прим. = Окраска металлических огрунтованных поверхностей эмалью Политон-Ур | C30: Окраска металлических огрунтованных поверхностей эмалью ЭП-773 (ПЗ=2 (ОЗП=2; ЭМ=2 к расх.; ЗПМ=2; МАТ=2 к расх.; ТЗ=2; ТЗМ=2)) | D30: 100 м2 окрашиваемой поверхности | E30: 0.09 | F30: 961.56 | G30: 63.14 | H30: 20.3 | I30: 0.32 | K30: 87 | L30: 6 | M30: 2 | O30: 4.94 | P30: 0.44
A31: 5 | B31: ТСЦ-113-0210 Постан.Правит.Свердл.обл. от 10.11.10 №1616-ПП | C31: Эмаль эпоксидная ЭП-733 зеленая | D31: т | E31: -0.0018 | F31: 39311.65 | K31: -71
A32: 6 | B32: цена поставщика | C32: Эмаль полиуретановая защитно-декоративная "Политон-УР" (320 руб./кг) (Итого без НДС (МАТ=МАТ/1,18-МАТ); приведение к базисному уровню цен на материалы (МАТ=МАТ/5,73-МАТ)) | D32: кг | E32: 1.8 | F32: 47.33 | K32: 85
A33: 7 | B33: ТЕР13-03-002-04 Постан.Правит.Свердл.обл. от 10.11.10 №1616-ПП | C33: Огрунтовка металлических поверхностей за один раз грунтовкой ГФ-021 | D33: 100 м2 окрашиваемой поверхности | E33: 0.013 | F33: 417.46 | G33: 79.65 | H33: 10.15 | I33: 0.16 | K33: 5 | L33: 1 | O33: 5.31 | P33: 0.07
A34: 8 | B34: ТЕР13-03-004-26 Постан.Правит.Свердл.обл. от 10.11.10 №1616-ПП | C34: Окраска металлических огрунтованных поверхностей эмалью ПФ-115 (ПЗ=2 (ОЗП=2; ЭМ=2 к расх.; ЗПМ=2; МАТ=2 к расх.; ТЗ=2; ТЗМ=2)) | D34: 100 м2 окрашиваемой поверхности | E34: 0.013 | F34: 1261.82 | G34: 97.9 | H34: 13.36 | I34: 0.32 | K34: 16 | L34: 1 | O34: 7.66 | P34: 0.1
A35: Раздел 2. Лист 7. Схема расположения отверстий в стенах на отм.0,000 между осями 6-9 и У-Х/У
A36: 9 | B36: ТЕРр53-25-1 Постан.Правит.Свердл.обл. от 10.11.10 №1616-ПП | C36: Устройство металлических перемычек в стенах существующих зданий | D36: 1 т металлоконструкций перемычек | E36: 0.0102 | F36: 15207.66 | G36: 2018.76 | H36: 98 | I36: 6.37 | K36: 155 | L36: 21 | M36: 1 | O36: 165.88 | P36: 1.69
A37: 10 | B37: ТЕР46-04-001-04 Постан.Правит.Свердл.обл. от 10.11.10 №1616-ПП | C37: Разборка кирпичных стен | D37: 1 м3 | E37: 0.0378 | F37: 296.8 | G37: 102.84 | H37: 193.96 | I37: 17.96 | K37: 11 | L37: 4 | M37: 7 | N37: 1 | O37: 8.24 | P37: 0.31
A38: 11 | B38: ФССЦпг01-01-01-041 И1-Пр. Минрегион от 05.05.12 №189 | C38: Погрузочные работы при автомобильных перевозках: мусора строительного с погрузкой вручную (ОП п.1.1.9 Прил.1 Прил.1Поясной коэффициент: Пермский край (кроме Красновишерского, Чердынского, Гайнского, Косинского, Кочевского районов), Республика Башкортостан, Республика Алтай, Вологодская, Кемеровская, Кировская, Курганская, Омская, Оренбургская, Новосибирская, Свердловская, Челябинская области ПЗ=1,1 (ОЗП=1,1; ЭМ=1,1; ЗПМ=1,1; МАТ=1,1)) | D38: 1 т груза | E38: 0.07 | F38: 47.28 | G38: 47.28 | K38: 3 | L38: 3
A39: 12 | B39: ФССЦпг03-21-01-043 Пр. Минрегион от 20.07.11 №354 | C39: Перевозка грузов автомобилями-самосвалами грузоподъемностью 10 т, работающих вне карьера, на расстояние: до 43 км I класс груза (15Поясные коэффициенты к сметным ценам на перевозку грузов автомобильным транспортом: Республика Башкортостан, Алтайский край, Вологодская, Кемеровская, Кировская, Курганская, Омская, Оренбургская, Новосибирская, Свердловская, Челябинская и Пермская области (за исключением Коми-Пермяцкого автономного округа). ПЗ=1,1 (ОЗП=1,1; ЭМ=1,1; ЗПМ=1,1; МАТ=1,1)) | D39: 1 т груза | E39: 0.07 | F39: 26.85 | H39: 26.85 | K39: 2 | M39: 2
A40: 13 | B40: ТЕРр69-2-1 Постан.Правит.Свердл.обл. от 10.11.10 №1616-ПП | C40: Сверление отверстий в кирпичных стенах электроперфоратором диаметром до 20 мм, толщина стен 0,5 кирпича | D40: 100 отверстий | E40: 0.04 | F40: 83.02 | G40: 65.93 | H40: 17.09 | K40: 3 | L40: 3 | O40: 5.49 | P40: 0.22
A41: 14 | B41: ТЕР06-01-015-01 Постан.Правит.Свердл.обл. от 10.11.10 №1616-ПП прим. | C41: Установка анкерных болтов в готовые гнезда с заделкой длиной до 1 м | D41: 1 т | E41: 0.0004 | F41: 14827.9 | G41: 3931.32 | H41: 72.26 | I41: 4.55 | K41: 6 | L41: 2 | O41: 315.01 | P41: 0.13
A42: 15 | B42: ТЕР46-02-007-01 Постан.Правит.Свердл.обл. от 10.11.10 №1616-ПП | C42: Кладка отдельных участков кирпичных стен и заделка проемов в кирпичных стенах при объеме кладки в одном месте до 5 м3 | D42: 1 м3 | E42: 0.12 | F42: 729.34 | G42: 168.39 | H42: 2.31 | K42: 88 | L42: 20 | O42: 14.63 | P42: 1.76
A43: 16 | B43: ТЕР15-02-016-03 Постан.Правит.Свердл.обл. от 10.11.10 №1616-ПП | C43: Штукатурка поверхностей внутри здания цементно-известковым или цементным раствором по камню и бетону улучшенная стен | D43: 100 м2 оштукатуриваемой поверхности | E43: 0.014 | F43: 2722.42 | G43: 1137.38 | H43: 182.31 | I43: 78.56 | K43: 38 | L43: 16 | M43: 3 | N43: 1 | O43: 85.84 | P43: 1.2
A44: 17 | B44: ТЕР15-04-005-03 Постан.Правит.Свердл.обл. от 10.11.10 №1616-ПП прим. | C44: Окраска поливинилацетатными водоэмульсионными составами улучшенная по штукатурке стен | D44: 100 м2 окрашиваемой поверхности | E44: 0.014 | F44: 2492.22 | G44: 541.83 | H44: 17.18 | I44: 0.31 | K44: 35 | L44: 8 | O44: 42.9 | P44: 0.6
A45: 18 | B45: ТЕР11-01-017-02 Постан.Правит.Свердл.обл. от 10.11.10 №1616-ПП прим.=Устройство покрытия толщиной 50 мм | C45: Устройство покрытий мозаичных терраццо толщиной 20 мм без рисунка | D45: 100 м2 покрытия | E45: 0.068 | F45: 4671.9 | G45: 2201.03 | H45: 339.3 | I45: 32.65 | K45: 318 | L45: 150 | M45: 23 | N45: 2 | O45: 174.27 | P45: 11.85
A46: 19 | B46: ТЕР11-01-017-04 Постан.Правит.Свердл.обл. от 10.11.10 №1616-ПП | C46: Устройство покрытий мозаичных на каждые 5 мм изменения толщины добавлять сверх 20 мм к расценкам 11-01-017-02, 11-01-017-003 (ПЗ=6 (ОЗП=6; ЭМ=6 к расх.; ЗПМ=6; МАТ=6 к расх.; ТЗ=6; ТЗМ=6)) | D46: 100 м2 покрытия | E46: 0.068 | F46: 4306.92 | G46: 1321.62 | H46: 40.32 | I46: 4.68 | K46: 293 | L46: 90 | M46: 3 | O46: 104.64 | P46: 7.12
A47: Лист 8. Схема расположения отверстия в покрытии между осями 8-9 и Ч/Щ-Э
A48: 20 | B48: ТЕР07-01-044-04 Постан.Правит.Свердл.обл. от 10.11.10 №1616-ПП прим.=Демонтаж сущ. стакана | C48: Установка монтажных изделий массой более 20 кг (МДС 81-36.2004 п.п.3.3.1.Демонтаж (разборка) сборных бетонных и железобетонных конструкций ОЗП=0,8; ЭМ=0,8 к расх.; ЗПМ=0,8; МАТ=0 к расх.; ТЗ=0,8; ТЗМ=0,8) | D48: 1 т стальных элементов | E48: 0.108 | F48: 596.19 | G48: 361.22 | H48: 234.97 | K48: 64 | L48: 39 | M48: 25 | O48: 25.12 | P48: 2.71
...

Sheet 04-40697-0-0-ОВ.ЛС
A1: _________________ | M1: _________________
A2: " _____ " ________________ 2014 г. | M2: "______ " _______________2014 г.
G4: (наименование стройки)
G6: ЛОКАЛЬНЫЙ СМЕТНЫЙ РАСЧЕТ № 04-40697-0-0-ОВ.ЛС
G7: (локальная смета)
C9: на | D9: Вентиляция
G10: (наименование работ и затрат, наименование объекта)
D12: Основание: РД 04-40697-0-0-ОВ
D13: Сметная стоимость _______________________________________________________________________________________________ | J13: ___________________________368,199 | L13: тыс. руб.
D14: строительных работ _______________________________________________________________________________________________ | J14: _______________________________________________________________________________________________359,531 | L14: тыс. руб.
D15: монтажных работ _______________________________________________________________________________________________ | J15: _______________________________________________________________________________________________8,668 | L15: тыс. руб.
D16: Средства на оплату труда _______________________________________________________________________________________________ | J16: ___________________________13,127 | L16: тыс. руб.
D17: Сметная трудоемкость _______________________________________________________________________________________________ | J17: _______________________________________________________________________________________________1004,14 | L17: чел.час
D18: Составлен(а) в текущих (прогнозных) ценах по состоянию на ______________
A21: № пп | B21: Обосно- вание | C21: Наименование | D21: Ед. изм. | E21: Кол. | F21: Стоимость единицы, руб. | J21: Общая стоимость, руб. | O21: Т/з осн. раб.на ед. | P21: Т/з осн. раб. Всего | Q21: Общая масса обору-дования, т
F22: Всего | G22: В том числе | J22: Обору- дование | K22: Всего | L22: В том числе
G23: Осн.З/п | H23: Эк.Маш | I23: З/пМех | L23: Осн.З/п | M23: Эк.Маш | N23: З/пМех
A24: 1 | B24: 2 | C24: 3 | D24: 4 | E24: 5 | F24: 6 | G24: 7 | H24: 8 | I24: 9 | J24: 10 | K24: 11 | L24: 12 | M24: 13 | N24: 14 | O24: 15 | P24: 16 | Q24: 17
A25: Раздел 1. Демонтажные работы (04-40697-0-0-ОВ.ВР)
A26: 1 | B26: ТЕР20-03-001-04 Постан.Правит.Свердл.обл. от 10.11.10 №1616-ПП ДЕМОНТАЖ ВР лист 1 поз.1 | C26: Установка вентиляторов радиальных массой до 0,4 т (МДС 81-36.2004 п.п.3.3.1.Демонтаж (разборка) внутренних санитарно-технических устройств (водопровода, газопровода, канализации, водостоков, отопления, вентиляции) ОЗП=0,4; ЭМ=0,4 к расх.; ЗПМ=0,4; МАТ=0 к расх.; ТЗ=0,4; ТЗМ=0,4) | D26: 1 вентилятор | E26: 2 | F26: 74 | G26: 56.02 | H26: 17.98 | I26: 0.95 | K26: 148 | L26: 112 | M26: 36 | N26: 2 | O26: 4.66 | P26: 9.32
A27: 2 | B27: ТЕР20-01-002-13 Постан.Правит.Свердл.обл. от 10.11.10 №1616-ПП ДЕМОНТАЖ ВР лист 1 поз.2 | C27: Прокладка воздуховодов из листовой оцинкованной стали и алюминия класса П (плотные) толщиной 0,7 мм, периметром до 3600 мм (МДС 81-36.2004 п.п.3.3.1.Демонтаж (разборка) внутренних санитарно-технических устройств (водопровода, газопровода, канализации, водостоков, отопления, вентиляции) ОЗП=0,4; ЭМ=0,4 к расх.; ЗПМ=0,4; МАТ=0 к расх.; ТЗ=0,4; ТЗМ=0,4) | D27: 100 м2 поверхности воздуховодов | E27: 0.84 | F27: 418.98 | G27: 366.89 | H27: 52.09 | I27: 2.26 | K27: 352 | L27: 308 | M27: 44 | N27: 2 | O27: 29.78 | P27: 25.02
A28: 3 | B28: ТЕР20-02-004-03 Постан.Правит.Свердл.обл. от 10.11.10 №1616-ПП ДЕМОНТАЖ ВР лист 1 поз.3 | C28: Установка клапанов обратных диаметром до 800 мм (МДС 81-36.2004 п.п.3.3.1.Демонтаж (разборка) внутренних санитарно-технических устройств (водопровода, газопровода, канализации, водостоков, отопления, вентиляции) ОЗП=0,4; ЭМ=0,4 к расх.; ЗПМ=0,4; МАТ=0 к расх.; ТЗ=0,4; ТЗМ=0,4) | D28: 1 клапан | E28: 2 | F28: 11.88 | G28: 10.38 | H28: 1.5 | I28: 0.07 | K28: 24 | L28: 21 | M28: 3 | O28: 0.83 | P28: 1.66
A29: 4 | B29: ТЕР20-02-013-04 Постан.Правит.Свердл.обл. от 10.11.10 №1616-ПП ДЕМОНТАЖ ВР лист 1 поз.4 | C29: Установка узлов прохода вытяжных вентиляционных шахт диаметром патрубка до 800 мм (МДС 81-36.2004 п.п.3.3.1.Демонтаж (разборка) внутренних санитарно-технических устройств (водопровода, газопровода, канализации, водостоков, отопления, вентиляции) ОЗП=0,4; ЭМ=0,4 к расх.; ЗПМ=0,4; МАТ=0 к расх.; ТЗ=0,4; ТЗМ=0,4) | D29: 10 узлов | E29: 0.1 | F29: 230.11 | G29: 222.04 | H29: 8.07 | I29: 0.22 | K29: 23 | L29: 22 | M29: 1 | O29: 18.49 | P29: 1.85
A30: 5 | B30: ТЕР20-01-002-08 Постан.Правит.Свердл.обл. от 10.11.10 №1616-ПП ДЕМОНТАЖ ВР лист 1 поз.5 | C30: Прокладка воздуховодов из листовой оцинкованной стали и алюминия класса П (плотные) толщиной 0,7 мм, диаметром до 800 мм (МДС 81-36.2004 п.п.3.3.1.Демонтаж (разборка) внутренних санитарно-технических устройств (водопровода, газопровода, канализации, водостоков, отопления, вентиляции) ОЗП=0,4; ЭМ=0,4 к расх.; ЗПМ=0,4; МАТ=0 к расх.; ТЗ=0,4; ТЗМ=0,4; 3.1Прокладка воздуховодов на высоте от пола, м: св. 8-ми до 10-ти ОЗП=1,22; ТЗ=1,22) | D30: 100 м2 поверхности воздуховодов | E30: 0.05 | F30: 663.8 | G30: 601.58 | H30: 62.22 | I30: 2.62 | K30: 33 | L30: 30 | M30: 3 | O30: 48.82 | P30: 2.44
A31: Раздел 2. ВI
A32: 6 | B32: ТЕР20-05-001-02 Постан.Правит.Свердл.обл. от 10.11.10 №1616-ПП лист 1 поз.2 | C32: Установка фильтров аэрозольных | D32: 1 м2 поверхности в свету | E32: 0.096 | F32: 378.69 | G32: 40.77 | H32: 18.66 | K32: 36 | L32: 4 | M32: 2 | O32: 3.19 | P32: 0.31
A33: 7 | B33: Цена поставщика МАТ прайс "Маяк" лист 1 поз.1 | C33: Фильтр аэрозольный ФПП-15-3,0 (Итого без НДС (МАТ=МАТ/1,18-МАТ); приведение к базисному уровню цен на материалы (МАТ=МАТ/5,73-МАТ)) | D33: шт. | E33: 1 | F33: 5999.05 | K33: 5999
A34: 8 | B34: ТЕРм12-10-001-01 Постан.Правит.Свердл.обл. от 10.11.10 №1616-ПП лист 1 поз.2 | C34: Бобышки, штуцеры на условное давление до 10 МПа | D34: 100 шт. | E34: 0.02 | F34: 3444.75 | G34: 886.17 | H34: 492.2 | K34: 69 | L34: 18 | M34: 10 | O34: 65.4 | P34: 1.31
A35: 9 | B35: ТСЦ-108-0081 Постан.Правит.Свердл.обл. от 10.11.10 №1616-ПП ИСКЛЮЧИТЬ | C35: Бобышки скошенные | D35: шт. | E35: -2 | F35: 9.4 | K35: -19
A36: 10 | B36: ТСЦ-301-3240 Постан.Правит.Свердл.обл. от 10.11.10 №1616-ПП ИСКЛЮЧИТЬ | C36: Колпачки-заглушки 1" | D36: шт. | E36: -2 | F36: 3.57 | K36: -7
A37: 11 | B37: ТСЦ-507-2630 Постан.Правит.Свердл.обл. от 10.11.10 №1616-ПП ИСКЛЮЧИТЬ | C37: Пробки П-М27х2 | D37: шт. | E37: -2 | F37: 5.4 | K37: -11
A38: 12 | B38: Калькуляция №04-12/2417 лист 1 поз.2 | C38: Штуцер для отбора проб 18017-0-0-1 (Итого без НДС (МАТ=МАТ/1,18-МАТ); приведение к базисному уровню цен на материалы (МАТ=МАТ/5,73-МАТ)) | D38: шт. | E38: 2 | F38: 4200.31 | K38: 8401
A39: 13 | B39: ТЕР20-02-008-02 Постан.Правит.Свердл.обл. от 10.11.10 №1616-ПП лист 1 поз.3 | C39: Установка отсосов бортовых | D39: 100 кг отсосов | E39: 0.7446 | F39: 124.84 | G39: 45.18 | H39: 15.28 | K39: 93 | L39: 34 | M39: 11 | O39: 3.41 | P39: 2.54
A40: 14 | B40: Калькуляция лист 1 поз.3 | C40: Бортовой отсос (Итого без НДС (МАТ=МАТ/1,18-МАТ); приведение к базисному уровню цен на материалы (МАТ=МАТ/5,73-МАТ)) | D40: шт. | E40: 6 | F40: 2662.17 | K40: 15973
A41: 15 | B41: Калькуляция №04-12/2419 лист 1 поз.4 | C41: Лючок для чистки воздуховода O250 А1К 149.000-04_x000D_ А9-58 (Итого без НДС (МАТ=МАТ/1,18-МАТ); приведение к базисному уровню цен на материалы (МАТ=МАТ/5,73-МАТ)) | D41: шт. | E41: 1 | F41: 6034.25 | K41: 6034
A42: 16 | B42: ТЕРм11-02-001-01 Постан.Правит.Свердл.обл. от 10.11.10 №1616-ПП лист 1 поз.5 | C42: Прибор, устанавливаемый на резьбовых соединениях, масса до 1,5 кг | D42: 1 шт. | E42: 1 | F42: 15.88 | G42: 14.39 | K42: 16 | L42: 14 | O42: 1.03 | P42: 1.03
A43: 17 | B43: Цена поставщика "Компания ТЕПЛОЛИДЕР" лист 1 поз.5 | C43: Дифманометр-тягомер мембранный показывающий ДТмМП-100-М1-У3-1,5-_x000D_ -10 кПа (Итого без НДС (МАТ=МАТ/1,18-МАТ); приведение к базисному уровню цен на материалы (МАТ=МАТ/5,73-МАТ)) | D43: 1 шт. | E43: 1 | F43: 258.82 | K43: 259
A44: 18 | B44: ТЕРм12-10-001-01 Постан.Правит.Свердл.обл. от 10.11.10 №1616-ПП Прим.лист 1 поз.6.1 | C44: Бобышки, штуцеры на условное давление до 10 МПа | D44: 100 шт. | E44: 0.02 | F44: 3444.75 | G44: 886.17 | H44: 492.2 | K44: 69 | L44: 18 | M44: 10 | O44: 65.4 | P44: 1.31
A45: 19 | B45: ТЕРм12-01-165-01 Постан.Правит.Свердл.обл. от 10.11.10 №1616-ПП Прим. лист 2 поз. 6.2, 6.3 | C45: Трубопровод из полиэтиленовых труб с применением готовых деталей, диаметр труб наружный 40-90 мм | D45: 100 м | E45: 0.04 | F45: 1722.64 | G45: 1476.95 | H45: 160.06 | I45: 2.91 | K45: 69 | L45: 59 | M45: 6 | O45: 109 | P45: 4.36
A46: 20 | B46: ТСЦ-101-2091 Постан.Правит.Свердл.обл. от 10.11.10 №1616-ПП Прим. лист 2 поз.6.2 | C46: Хомутик | D46: шт. | E46: 2 | F46: 7.2 | K46: 14
...

Sheet 04-40697-0-0-ЭМ.ЛС
A1: СОГЛАСОВАНО: | M1: УТВЕРЖДАЮ:
A4: _________________ | M4: _________________
A5: " _____ " ________________ 2014 г. | M5: "______ " _______________2014 г.
G7: (наименование стройки)
G9: ЛОКАЛЬНЫЙ СМЕТНЫЙ РАСЧЕТ № 04-40697-0-0-ЭМ.ЛС
G10: (локальная смета)
C12: на | D12: Силовое электрооборудование
G13: (наименование работ и затрат, наименование объекта)
D15: Основание: РД 04-40697-0-0-ЭМ
D16: Сметная стоимость _______________________________________________________________________________________________ | J16: ___________________________67,118 | L16: тыс. руб.
D17: строительных работ _______________________________________________________________________________________________ | J17: _______________________________________________________________________________________________7,433 | L17: тыс. руб.
D18: монтажных работ _______________________________________________________________________________________________ | J18: _______________________________________________________________________________________________39,535 | L18: тыс. руб.
D19: оборудования _______________________________________________________________________________________________ | J19: _______________________________________________________________________________________________20,150 | L19: тыс. руб.
D20: Средства на оплату труда _______________________________________________________________________________________________ | J20: ___________________________7,161 | L20: тыс. руб.
D21: Сметная трудоемкость _______________________________________________________________________________________________ | J21: _______________________________________________________________________________________________430,02 | L21: чел.час
D22: Составлен(а) в текущих (прогнозных) ценах по состоянию на ______________
A25: № пп | B25: Обосно- вание | C25: Наименование | D25: Ед. изм. | E25: Кол. | F25: Стоимость единицы, руб. | J25: Общая стоимость, руб. | O25: Т/з осн. раб.на ед. | P25: Т/з осн. раб. Всего | Q25: Общая масса обору-дования, т
F26: Всего | G26: В том числе | J26: Обору- дование | K26: Всего | L26: В том числе
G27: Осн.З/п | H27: Эк.Маш | I27: З/пМех | L27: Осн.З/п | M27: Эк.Маш | N27: З/пМех
A28: 1 | B28: 2 | C28: 3 | D28: 4 | E28: 5 | F28: 6 | G28: 7 | H28: 8 | I28: 9 | J28: 10 | K28: 11 | L28: 12 | M28: 13 | N28: 14 | O28: 15 | P28: 16 | Q28: 17
A29: Раздел 1. Электрооборудование
A30: 1 О | B30: ООО"РОСЭК" Сч.№ Р8-00016723 от 01.10.2014 г. Спф. л.1, п. 1 | C30: Шкаф ШУВ-ВI/1,_x000D_ габаритом (ШхГхВ) (650х285х1000) мм (Итого без НДС (ПЗ=ПЗ/1,18-ПЗ); приведение к базисному уровню цен на оборудование, мебель, инвентарь (ПЗ=ПЗ/4,48-ПЗ); Расходы на комплектацию оборудования - согласно п.4.63 из МДС 81-35.2004 ПЗ=1% (ОЗП=1%; ЭМ=1%; МАТ=1%); Транспортные расходы - согласно п.4.60 из МДС 81-35.2004 ПЗ=3% (ОЗП=3%; ЭМ=3%; МАТ=3%); Заготовительно-складские расходы - согласно п.4.64 из МДС 81-35.2004 ПЗ=1,2% (ОЗП=1,2%; ЭМ=1,2%; МАТ=1,2%)) | D30: 1 шт. | E30: 1 | F30: 5908.82 | J30: 5909 | K30: 5909
A31: 2 О | B31: ООО"РОСЭК" Сч.№ Р8-00016723 от 01.10.2014 г. Спф. л.1, п. 1 | C31: Шкаф ШУВ-ВI/2,_x000D_ габаритом (ШхГхВ) (650х285х1000) мм (Итого без НДС (ПЗ=ПЗ/1,18-ПЗ); приведение к базисному уровню цен на оборудование, мебель, инвентарь (ПЗ=ПЗ/4,48-ПЗ); Расходы на комплектацию оборудования - согласно п.4.63 из МДС 81-35.2004 ПЗ=1% (ОЗП=1%; ЭМ=1%; МАТ=1%); Транспортные расходы - согласно п.4.60 из МДС 81-35.2004 ПЗ=3% (ОЗП=3%; ЭМ=3%; МАТ=3%); Заготовительно-складские расходы - согласно п.4.64 из МДС 81-35.2004 ПЗ=1,2% (ОЗП=1,2%; ЭМ=1,2%; МАТ=1,2%)) | D31: 1 шт. | E31: 1 | F31: 5908.82 | J31: 5909 | K31: 5909
A32: 3 | B32: ТЕРм08-03-572-04 Постан.Правит.Свердл.обл. от 10.11.10 №1616-ПП Спф. л.1, п. 1 | C32: Блок управления шкафного исполнения или распределительный пункт (шкаф), устанавливаемый на стене, высота и ширина до 1200х1000 мм | D32: 1 шт. | E32: 2 | F32: 555.09 | G32: 48.76 | H32: 95.07 | I32: 5.28 | K32: 1110 | L32: 98 | M32: 190 | N32: 11 | O32: 3.49 | P32: 6.98
A33: 4 О | B33: ООО"РОСЭК" Сч.№ Р8-00016723 от 01.10.2014 г. Спф. л.1, п. 2 | C33: Шкаф ШУВ-ВII, IР54,_x000D_ габаритом (ШхГхВ) (650х250х800) мм (Итого без НДС (ПЗ=ПЗ/1,18-ПЗ); приведение к базисному уровню цен на оборудование, мебель, инвентарь (ПЗ=ПЗ/4,48-ПЗ); Расходы на комплектацию оборудования - согласно п.4.63 из МДС 81-35.2004 ПЗ=1% (ОЗП=1%; ЭМ=1%; МАТ=1%); Транспортные расходы - согласно п.4.60 из МДС 81-35.2004 ПЗ=3% (ОЗП=3%; ЭМ=3%; МАТ=3%); Заготовительно-складские расходы - согласно п.4.64 из МДС 81-35.2004 ПЗ=1,2% (ОЗП=1,2%; ЭМ=1,2%; МАТ=1,2%)) | D33: 1 шт. | E33: 1 | F33: 4887.69 | J33: 4888 | K33: 4888
A34: 5 | B34: ТЕРм08-03-572-04 Постан.Правит.Свердл.обл. от 10.11.10 №1616-ПП Спф. л.1, п. 2 | C34: Блок управления шкафного исполнения или распределительный пункт (шкаф), устанавливаемый на стене, высота и ширина до 1200х1000 мм | D34: 1 шт. | E34: 1 | F34: 555.09 | G34: 48.76 | H34: 95.07 | I34: 5.28 | K34: 555 | L34: 49 | M34: 95 | N34: 5 | O34: 3.49 | P34: 3.49
A35: 6 О | B35: ООО"РОСЭК" Сч.№ Р8-00014038 от 21.08.2014 г. Спф. л.1, п. 3 (прим.) | C35: Шкаф АВР, IP31,_x000D_ габаритом (ШхГхВ) (500х400х600) мм (Итого без НДС (ПЗ=ПЗ/1,18-ПЗ); приведение к базисному уровню цен на оборудование, мебель, инвентарь (ПЗ=ПЗ/4,48-ПЗ); Расходы на комплектацию оборудования - согласно п.4.63 из МДС 81-35.2004 ПЗ=1% (ОЗП=1%; ЭМ=1%; МАТ=1%); Транспортные расходы - согласно п.4.60 из МДС 81-35.2004 ПЗ=3% (ОЗП=3%; ЭМ=3%; МАТ=3%); Заготовительно-складские расходы - согласно п.4.64 из МДС 81-35.2004 ПЗ=1,2% (ОЗП=1,2%; ЭМ=1,2%; МАТ=1,2%)) | D35: 1 шт. | E35: 1 | F35: 1860.83 | J35: 1861 | K35: 1861
A36: 7 | B36: ТЕРм08-03-572-03 Постан.Правит.Свердл.обл. от 10.11.10 №1616-ПП Спф. л.1, п. 3 | C36: Блок управления шкафного исполнения или распределительный пункт (шкаф), устанавливаемый на стене, высота и ширина до 600х600 мм | D36: 1 шт. | E36: 1 | F36: 316.86 | G36: 32.41 | H36: 36.13 | I36: 1.82 | K36: 317 | L36: 32 | M36: 36 | N36: 2 | O36: 2.32 | P36: 2.32
A37: 8 О | B37: ООО"РОСЭК" Сч.№ Р8-00016723 от 01.10.2014 г. Спф. л.1, п. 4 | C37: Пост сигнализации ПС(ВI), IР54,_x000D_ габаритом (ШхГхВ) (210х150х300) мм (Итого без НДС (ПЗ=ПЗ/1,18-ПЗ); приведение к базисному уровню цен на оборудование, мебель, инвентарь (ПЗ=ПЗ/4,48-ПЗ); Расходы на комплектацию оборудования - согласно п.4.63 из МДС 81-35.2004 ПЗ=1% (ОЗП=1%; ЭМ=1%; МАТ=1%); Транспортные расходы - согласно п.4.60 из МДС 81-35.2004 ПЗ=3% (ОЗП=3%; ЭМ=3%; МАТ=3%); Заготовительно-складские расходы - согласно п.4.64 из МДС 81-35.2004 ПЗ=1,2% (ОЗП=1,2%; ЭМ=1,2%; МАТ=1,2%)) | D37: 1 шт. | E37: 1 | F37: 1583.38 | J37: 1583 | K37: 1583
A38: 9 | B38: ТЕРм08-03-572-03 Постан.Правит.Свердл.обл. от 10.11.10 №1616-ПП Спф. л.1, п. 4 | C38: Блок управления шкафного исполнения или распределительный пункт (шкаф), устанавливаемый на стене, высота и ширина до 600х600 мм | D38: 1 шт. | E38: 1 | F38: 316.86 | G38: 32.41 | H38: 36.13 | I38: 1.82 | K38: 317 | L38: 32 | M38: 36 | N38: 2 | O38: 2.32 | P38: 2.32
A39: 10 | B39: ТЕРм08-03-532-05 Постан.Правит.Свердл.обл. от 10.11.10 №1616-ПП Спф. л.2, п. 9 | C39: Пост управления кнопочный общего назначения, устанавливаемый на конструкции на стене или колонне, количество элементов поста до 6 | D39: 1 шт. | E39: 1 | F39: 132.94 | G39: 31.76 | H39: 1.28 | K39: 133 | L39: 32 | M39: 1 | O39: 2.37 | P39: 2.37
A40: 11 | B40: ТЕРм08-03-545-01 Постан.Правит.Свердл.обл. от 10.11.10 №1616-ПП Спф. л.2, п. 10 | C40: Коробка (ящик) с зажимами для кабелей и проводов сечением до 6 мм2, устанавливаемая на конструкции на стене или колонне, количество зажимов до 10 | D40: 1 шт. | E40: 4 | F40: 160.78 | G40: 43.86 | H40: 2.36 | K40: 643 | L40: 175 | M40: 9 | O40: 3.31 | P40: 13.24
A41: 12 | B41: ТЕРм08-02-472-10 Постан.Правит.Свердл.обл. от 10.11.10 №1616-ПП Спф. л.3, п. 20 | C41: Проводник заземляющий из медного изолированного провода сечением 25 мм2 открыто по строительным основаниям | D41: 100 м | E41: 0.6 | F41: 4732.43 | G41: 617.45 | H41: 45.38 | I41: 0.55 | K41: 2839 | L41: 370 | M41: 27 | O41: 46.6 | P41: 27.96
A42: 13 | B42: ТЕРм08-02-146-01 Постан.Правит.Свердл.обл. от 10.11.10 №1616-ПП Спф. л.3, п. 21 | C42: Кабель до 35 кВ с креплением накладными скобами, масса 1 м кабеля до 0,5 кг (1.8.3.ОППри производстве работ на высоте свыше расстояний, указанных в вводных указаниях к разделам сборника: при высоте свыше 2 до 8 м ОЗП=1,05; ТЗ=1,05) | D42: 100 м кабеля | E42: 0.6762 | F42: 2838.69 | G42: 209.15 | H42: 1292.95 | I42: 147.72 | K42: 1920 | L42: 141 | M42: 874 | N42: 100 | O42: 15.44 | P42: 10.44
A43: 14 | B43: ТЕРм08-02-148-01 Постан.Правит.Свердл.обл. от 10.11.10 №1616-ПП Спф. л.3, п. 21 | C43: Кабель до 35 кВ в проложенных трубах, блоках и коробах, масса 1 м кабеля до 1 кг (1.8.3.ОППри производстве работ на высоте свыше расстояний, указанных в вводных указаниях к разделам сборника: при высоте свыше 2 до 8 м ОЗП=1,05; ТЗ=1,05) | D43: 100 м кабеля | E43: 1.96 | F43: 807.24 | G43: 176.42 | H43: 544.81 | I43: 57.87 | K43: 1582 | L43: 346 | M43: 1068 | N43: 113 | O43: 13.02 | P43: 25.52
A44: 15 | B44: ТЕРм08-02-147-01 Постан.Правит.Свердл.обл. от 10.11.10 №1616-ПП Спф. л.3, п. 22 | C44: Кабель до 35 кВ по установленным конструкциям и лоткам с креплением на поворотах и в конце трассы, масса 1 м кабеля до 1 кг (1.8.3.ОППри производстве работ на высоте свыше расстояний, указанных в вводных указаниях к разделам сборника: при высоте свыше 2 до 8 м ОЗП=1,05; ТЗ=1,05) | D44: 100 м кабеля | E44: 0.4018 | F44: 813.92 | G44: 165.04 | H44: 456.3 | I44: 50.35 | K44: 327 | L44: 66 | M44: 183 | N44: 20 | O44: 12.18 | P44: 4.89
A45: 16 | B45: ТЕРм08-02-146-01 Постан.Правит.Свердл.обл. от 10.11.10 №1616-ПП Спф. л.3, п. 23 | C45: Кабель до 35 кВ с креплением накладными скобами, масса 1 м кабеля до 0,5 кг (1.8.3.ОППри производстве работ на высоте свыше расстояний, указанных в вводных указаниях к разделам сборника: при высоте свыше 2 до 8 м ОЗП=1,05; ТЗ=1,05) | D45: 100 м кабеля | E45: 0.8134 | F45: 2838.69 | G45: 209.15 | H45: 1292.95 | I45: 147.72 | K45: 2309 | L45: 170 | M45: 1052 | N45: 120 | O45: 15.44 | P45: 12.56
A46: 17 | B46: ТЕРм08-02-147-01 Постан.Правит.Свердл.обл. от 10.11.10 №1616-ПП Спф. л.3, п. 24, 25 | C46: Кабель до 35 кВ по установленным конструкциям и лоткам с креплением на поворотах и в конце трассы, масса 1 м кабеля до 1 кг (1.8.3.ОППри производстве работ на высоте свыше расстояний, указанных в вводных указаниях к разделам сборника: при высоте свыше 2 до 8 м ОЗП=1,05; ТЗ=1,05) | D46: 100 м кабеля | E46: 3.6358 | F46: 813.92 | G46: 165.04 | H46: 456.3 | I46: 50.35 | K46: 2959 | L46: 600 | M46: 1659 | N46: 183 | O46: 12.18 | P46: 44.28
A47: 18 | B47: ТЕРм08-02-148-01 Постан.Правит.Свердл.обл. от 10.11.10 №1616-ПП Спф. л.3, п. 26, 27 | C47: Кабель до 35 кВ в проложенных трубах, блоках и коробах, масса 1 м кабеля до 1 кг | D47: 100 м кабеля | E47: 1.0094 | F47: 798.84 | G47: 168.02 | H47: 544.81 | I47: 57.87 | K47: 806 | L47: 170 | M47: 550 | N47: 58 | O47: 12.4 | P47: 12.52
A48: 19 | B48: ТЕРм08-02-148-01 Постан.Правит.Свердл.обл. от 10.11.10 №1616-ПП Спф. л.3, п. 28 | C48: Кабель до 35 кВ в проложенных трубах, блоках и коробах, масса 1 м кабеля до 1 кг | D48: 100 м кабеля | E48: 0.4704 | F48: 798.84 | G48: 168.02 | H48: 544.81 | I48: 57.87 | K48: 376 | L48: 79 | M48: 256 | N48: 27 | O48: 12.4 | P48: 5.83
...

Sheet 04-40697-0-0-АТХ.ЛС
A1: СОГЛАСОВАНО: | M1: УТВЕРЖДАЮ:
A4: _________________ | M4: _________________
A5: " _____ " ________________ 2014 г. | M5: "______ " _______________2014 г.
G7: (наименование стройки)
G9: ЛОКАЛЬНЫЙ СМЕТНЫЙ РАСЧЕТ № 04-40697-0-0-АТХ.ЛС
G10: (локальная смета)
C12: на | D12: Автоматизация технологии производства
G13: (наименование работ и затрат, наименование объекта)
D15: Основание: РД 04-40697-0-0-АТХ
D16: Сметная стоимость _______________________________________________________________________________________________ | J16: ___________________________383,126 | L16: тыс. руб.
D17: строительных работ _______________________________________________________________________________________________ | J17: _______________________________________________________________________________________________6,859 | L17: тыс. руб.
D18: монтажных работ _______________________________________________________________________________________________ | J18: _______________________________________________________________________________________________16,245 | L18: тыс. руб.
D19: оборудования _______________________________________________________________________________________________ | J19: _______________________________________________________________________________________________360,022 | L19: тыс. руб.
D20: Средства на оплату труда _______________________________________________________________________________________________ | J20: ___________________________3,632 | L20: тыс. руб.
D21: Сметная трудоемкость _______________________________________________________________________________________________ | J21: _______________________________________________________________________________________________213,94 | L21: чел.час
D22: Составлен(а) в текущих (прогнозных) ценах по состоянию на ______________
A25: № пп | B25: Обосно- вание | C25: Наименование | D25: Ед. изм. | E25: Кол. | F25: Стоимость единицы, руб. | J25: Общая стоимость, руб. | O25: Т/з осн. раб.на ед. | P25: Т/з осн. раб. Всего | Q25: Общая масса обору-дования, т
F26: Всего | G26: В том числе | J26: Обору- дование | K26: Всего | L26: В том числе
G27: Осн.З/п | H27: Эк.Маш | I27: З/пМех | L27: Осн.З/п | M27: Эк.Маш | N27: З/пМех
A28: 1 | B28: 2 | C28: 3 | D28: 4 | E28: 5 | F28: 6 | G28: 7 | H28: 8 | I28: 9 | J28: 10 | K28: 11 | L28: 12 | M28: 13 | N28: 14 | O28: 15 | P28: 16 | Q28: 17
A29: Раздел 1. Приборы
A30: 1 О | B30: КП №75/730 от 15.09 2014 ОАО "МАНОТОМЬ " лист1 поз.1 | C30: Манометр показывающий сигнализирующий взрывозащищенный коррозионностойкий ДМ 2005Сг-У3-4 кгс/кв.см (приведение к базисному уровню цен на оборудование, мебель, инвентарь (ПЗ=ПЗ/4,48-ПЗ); Расходы на комплектацию оборудования - согласно п.4.63 из МДС 81-35.2004 ПЗ=1% (ОЗП=1%; ЭМ=1%; МАТ=1%); Транспортные расходы - согласно п.4.60 из МДС 81-35.2004 ПЗ=3% (ОЗП=3%; ЭМ=3%; МАТ=3%); Заготовительно-складские расходы - согласно п.4.64 из МДС 81-35.2004 ПЗ=1,2% (ОЗП=1,2%; ЭМ=1,2%; МАТ=1,2%)) | D30: шт | E30: 2 | F30: 2028.02 | J30: 4056 | K30: 4056
A31: 2 | B31: ТЕРм11-02-001-02 Постан.Правит.Свердл.обл. от 10.11.10 №1616-ПП лист1 поз.1 | C31: Прибор, устанавливаемый на резьбовых соединениях, масса до 5 кг | D31: 1 шт. | E31: 2 | F31: 23.43 | G31: 21.79 | K31: 47 | L31: 44 | O31: 1.56 | P31: 3.12
A32: 3 О | B32: КП №193-19.3/6264 от 18.09.2014 ФГУП "ПО Маяк " лист1 поз.2 | C32: Датчик сигнализатора уровня СУЭ-ДАС-150 (приведение к базисному уровню цен на оборудование, мебель, инвентарь (ПЗ=ПЗ/4,48-ПЗ); Расходы на комплектацию оборудования - согласно п.4.63 из МДС 81-35.2004 ПЗ=1% (ОЗП=1%; ЭМ=1%; МАТ=1%); Транспортные расходы - согласно п.4.60 из МДС 81-35.2004 ПЗ=3% (ОЗП=3%; ЭМ=3%; МАТ=3%); Заготовительно-складские расходы - согласно п.4.64 из МДС 81-35.2004 ПЗ=1,2% (ОЗП=1,2%; ЭМ=1,2%; МАТ=1,2%)) | D32: шт | E32: 7 | F32: 21960.41 | J32: 153723 | K32: 153723
A33: 4 | B33: ТЕРм11-02-001-02 Постан.Правит.Свердл.обл. от 10.11.10 №1616-ПП лист1 поз.2 | C33: Прибор, устанавливаемый на резьбовых соединениях, масса до 5 кг | D33: 1 шт. | E33: 7 | F33: 23.43 | G33: 21.79 | K33: 164 | L33: 153 | O33: 1.56 | P33: 10.92
A34: Раздел 2. Щиты и пульты
A35: 5 О | B35: КП №2014-2370 от 03.09.2014 " " лист1 поз.5 | C35: Шкаф АS 04-40695-0-0-ИОС7.ОЛ (приведение к базисному уровню цен на оборудование, мебель, инвентарь (ПЗ=ПЗ/4,48-ПЗ); Расходы на комплектацию оборудования - согласно п.4.63 из МДС 81-35.2004 ПЗ=1% (ОЗП=1%; ЭМ=1%; МАТ=1%); Транспортные расходы - согласно п.4.60 из МДС 81-35.2004 ПЗ=3% (ОЗП=3%; ЭМ=3%; МАТ=3%); Заготовительно-складские расходы - согласно п.4.64 из МДС 81-35.2004 ПЗ=1,2% (ОЗП=1,2%; ЭМ=1,2%; МАТ=1,2%)) | D35: шт | E35: 1 | F35: 200451.88 | J35: 200452 | K35: 200452
A36: 6 | B36: ТЕРм11-06-001-03 Постан.Правит.Свердл.обл. от 10.11.10 №1616-ПП лист 1 поз.5 | C36: Щиты и пульты, масса до 150 кг | D36: 1 шт. | E36: 1 | F36: 401.8 | G36: 127.56 | H36: 37.28 | I36: 2.18 | K36: 402 | L36: 128 | M36: 37 | N36: 2 | O36: 10.1 | P36: 10.1
A37: Раздел 3. Кабели и провода
A38: 7 | B38: ТЕРм08-03-574-01 Постан.Правит.Свердл.обл. от 10.11.10 №1616-ПП лист 1 поз.6-8 | C38: Разводка по устройствам и подключение жил кабелей или проводов сечением до 10 мм2 | D38: 100 жил | E38: 0.84 | F38: 1652.15 | G38: 234.7 | H38: 2.92 | I38: 0.18 | K38: 1388 | L38: 197 | M38: 2 | O38: 16.8 | P38: 14.11
A39: 8 | B39: ТЕРм11-04-020-01 Постан.Правит.Свердл.обл. от 10.11.10 №1616-ПП ВР лист 2 поз.15 | C39: Разъемы штепсельные с разделкой и включением экранированного кабеля, сечение жилы до 1 мм2, количество подключаемых жил 14 шт. (1.11.38.ОППри монтаже неэкранированных кабелей в штепсельные разъемы ОЗП=0,85; ЭМ=0,85 к расх.; ЗПМ=0,85; МАТ=0,85 к расх.; ТЗ=0,85; ТЗМ=0,85) | D39: 1 шт. | E39: 8 | F39: 28.79 | G39: 23.21 | K39: 230 | L39: 186 | O39: 1.75 | P39: 14
A40: 9 | B40: ТЕРм11-04-020-01 Постан.Правит.Свердл.обл. от 10.11.10 №1616-ПП ВР лист 2 поз.16 | C40: Разъемы штепсельные с разделкой и включением экранированного кабеля, сечение жилы до 1 мм2, количество подключаемых жил 14 шт. (1.11.38.ОППри монтаже неэкранированных кабелей в штепсельные разъемы ОЗП=0,85; ЭМ=0,85 к расх.; ЗПМ=0,85; МАТ=0,85 к расх.; ТЗ=0,85; ТЗМ=0,85) | D40: 1 шт. | E40: 7 | F40: 28.79 | G40: 23.21 | K40: 202 | L40: 162 | O40: 1.75 | P40: 12.25
A41: 10 | B41: ТЕРм08-02-409-01 Постан.Правит.Свердл.обл. от 10.11.10 №1616-ПП лист 2 поз.11 | C41: Труба винипластовая по установленным конструкциям, по стенам и колоннам с креплением скобами, диаметр до 25 мм | D41: 100 м | E41: 0.3822 | F41: 2435.2 | G41: 315.35 | H41: 611.58 | I41: 248.83 | K41: 931 | L41: 121 | M41: 234 | N41: 95 | O41: 23.8 | P41: 9.1
A42: 11 | B42: ТЕРм08-02-407-03 Постан.Правит.Свердл.обл. от 10.11.10 №1616-ПП лист 3 поз.42 | C42: Труба стальная по установленным конструкциям, по стенам с креплением скобами, диаметр до 50 мм | D42: 100 м | E42: 0.0776 | F42: 3549 | G42: 628.05 | H42: 1373.2 | I42: 497.53 | K42: 275 | L42: 49 | M42: 107 | N42: 39 | O42: 47.4 | P42: 3.68
A43: 12 | B43: ТЕРм08-02-396-02 Постан.Правит.Свердл.обл. от 10.11.10 №1616-ПП лист 2 поз.15 | C43: Короб металлический на конструкциях, кронштейнах, по фермам и колоннам, длина 3 м | D43: 100 м | E43: 0.12 | F43: 1882.24 | G43: 420.03 | H43: 824.1 | I43: 180.73 | K43: 226 | L43: 50 | M43: 99 | N43: 22 | O43: 31.7 | P43: 3.8
A44: 13 | B44: ТЕРм08-02-396-02 Постан.Правит.Свердл.обл. от 10.11.10 №1616-ПП лист 2 поз.17 | C44: Короб металлический на конструкциях, кронштейнах, по фермам и колоннам, длина 3 м | D44: 100 м | E44: 0.15 | F44: 1882.24 | G44: 420.03 | H44: 824.1 | I44: 180.73 | K44: 282 | L44: 63 | M44: 124 | N44: 27 | O44: 31.7 | P44: 4.76
A45: 14 | B45: ТЕРм08-02-396-01 Постан.Правит.Свердл.обл. от 10.11.10 №1616-ПП лист 3 поз.36 | C45: Короб металлический на конструкциях, кронштейнах, по фермам и колоннам, длина 2 м | D45: 100 м | E45: 0.04 | F45: 2088.43 | G45: 498.2 | H45: 950.56 | I45: 216.12 | K45: 84 | L45: 20 | M45: 38 | N45: 9 | O45: 37.6 | P45: 1.5
A46: 15 | B46: ТЕРм08-02-397-01 Постан.Правит.Свердл.обл. от 10.11.10 №1616-ПП лист 3 поз.37 | C46: Профиль перфорированный монтажный длиной 2 м | D46: 100 м | E46: 0.16 | F46: 1392.25 | G46: 141.78 | H46: 242.87 | I46: 57.25 | K46: 223 | L46: 23 | M46: 39 | N46: 9 | O46: 10.7 | P46: 1.71
A47: 16 | B47: ТЕРм08-02-148-01 Постан.Правит.Свердл.обл. от 10.11.10 №1616-ПП ВР лист 1 поз.9,10,11 | C47: Кабель до 35 кВ в проложенных трубах, блоках и коробах, масса 1 м кабеля до 1 кг | D47: 100 м кабеля | E47: 2.6852 | F47: 798.84 | G47: 168.02 | H47: 544.81 | I47: 57.87 | K47: 2145 | L47: 451 | M47: 1463 | N47: 155 | O47: 12.4 | P47: 33.3
A48: 17 | B48: ТЕРм08-02-147-01 Постан.Правит.Свердл.обл. от 10.11.10 №1616-ПП ВР лист 2 поз.12 | C48: Кабель до 35 кВ по установленным конструкциям и лоткам с креплением на поворотах и в конце трассы, масса 1 м кабеля до 1 кг | D48: 100 м кабеля | E48: 0.147 | F48: 806.06 | G48: 157.18 | H48: 456.3 | I48: 50.35 | K48: 118 | L48: 23 | M48: 67 | N48: 7 | O48: 11.6 | P48: 1.71
...

Sheet 04-40697-0-0-ТХ.ЛС
A1: СОГЛАСОВАНО: | M1: УТВЕРЖДАЮ:
A4: _________________ | M4: _________________
A5: " _____ " ________________ 2014 г. | M5: "______ " _______________2014 г.
G7: (наименование стройки)
G9: ЛОКАЛЬНЫЙ СМЕТНЫЙ РАСЧЕТ № 04-40697-0-0-ТХ.ЛС
G10: (локальная смета)
C12: на | D12: Технология производства
G13: (наименование работ и затрат, наименование объекта)
D15: Основание: РД 04-40697-0-0-ТХ
D16: Сметная стоимость _______________________________________________________________________________________________ | J16: ___________________________520,565 | L16: тыс. руб.
D17: строительных работ _______________________________________________________________________________________________ | J17: _______________________________________________________________________________________________88,173 | L17: тыс. руб.
D18: монтажных работ _______________________________________________________________________________________________ | J18: _______________________________________________________________________________________________136,008 | L18: тыс. руб.
D19: оборудования _______________________________________________________________________________________________ | J19: _______________________________________________________________________________________________296,384 | L19: тыс. руб.
D20: Средства на оплату труда _______________________________________________________________________________________________ | J20: ___________________________38,911 | L20: тыс. руб.
D21: Сметная трудоемкость _______________________________________________________________________________________________ | J21: _______________________________________________________________________________________________2570,41 | L21: чел.час
D22: Составлен(а) в текущих (прогнозных) ценах по состоянию на ______________
A25: № пп | B25: Обосно- вание | C25: Наименование | D25: Ед. изм. | E25: Кол. | F25: Стоимость единицы, руб. | J25: Общая стоимость, руб. | O25: Т/з осн. раб.на ед. | P25: Т/з осн. раб. Всего | Q25: Общая масса обору-дования, т
F26: Всего | G26: В том числе | J26: Обору- дование | K26: Всего | L26: В том числе
G27: Осн.З/п | H27: Эк.Маш | I27: З/пМех | L27: Осн.З/п | M27: Эк.Маш | N27: З/пМех
A28: 1 | B28: 2 | C28: 3 | D28: 4 | E28: 5 | F28: 6 | G28: 7 | H28: 8 | I28: 9 | J28: 10 | K28: 11 | L28: 12 | M28: 13 | N28: 14 | O28: 15 | P28: 16 | Q28: 17
A29: Раздел 1. Демонтажные работы
A30: 1 | B30: ТЕРм37-01-002-03 Постан.Правит.Свердл.обл. от 10.11.10 №1616-ПП ВР лист 1 поз.1 | C30: Монтаж оборудования без механизмов в помещении, масса оборудования 0,1 т=емкость буферная черт.А.11.1077.000 (МДС81-37.2004 п.п.4.3.1 т.2.Коэффициент изменения массы оборудования 1,61-1,7 ПЗ=1,35 (ОЗП=1,35; ЭМ=1,35 к расх.; ЗПМ=1,35; МАТ=1,35 к расх.; ТЗ=1,35; ТЗМ=1,35); МДС 81-37.2004 п.п.3.2.1.Демонтаж оборудования, которое подлежит дальнейшему использованию, со снятием с места установки, необходимой (частичной) разборкой и консервированием с целью длительного или кратковременною хранения ОЗП=0,7; ЭМ=0,7 к расх.; ЗПМ=0,7; МАТ=0 к расх.; ТЗ=0,7; ТЗМ=0,7) | D30: 1 шт. | E30: 2 | F30: 385.86 | G30: 306.93 | H30: 78.93 | I30: 5.16 | K30: 772 | L30: 614 | M30: 158 | N30: 10 | O30: 23.72 | P30: 47.44
A31: 2 | B31: ТЕРм07-04-001-02 Постан.Правит.Свердл.обл. от 10.11.10 №1616-ПП ВР лист 1 поз.2 | C31: Агрегат насосный лопастный центробежный одноступенчатый, многоступенчатый объемный, вихревой, поршневой, приводной, роторный на общей фундаментной плите или моноблочный, масса 0,17 т (МДС 81-37.2004 п.п.3.2.1.Демонтаж оборудования, которое подлежит дальнейшему использованию, со снятием с места установки, необходимой (частичной) разборкой и консервированием с целью длительного или кратковременною хранения ОЗП=0,7; ЭМ=0,7 к расх.; ЗПМ=0,7; МАТ=0 к расх.; ТЗ=0,7; ТЗМ=0,7; МДС81-37.2004 п.п.4.3.1 т.2.Коэффициент изменения массы оборудования 0,61-0,7 ПЗ=0,85 (ОЗП=0,85; ЭМ=0,85 к расх.; ЗПМ=0,85; МАТ=0,85 к расх.; ТЗ=0,85; ТЗМ=0,85)) | D31: 1 шт. | E31: 2 | F31: 293.44 | G31: 247.56 | H31: 45.88 | I31: 1.08 | K31: 587 | L31: 495 | M31: 92 | N31: 2 | O31: 18.68 | P31: 37.36
A32: 3 | B32: ТЕРм37-01-002-04 Постан.Правит.Свердл.обл. от 10.11.10 №1616-ПП ВР лист 1 поз.3 | C32: Монтаж оборудования без механизмов в помещении, масса оборудования 0,5 т=бак дренажный черт.А.17.674.000 (МДС 81-37.2004 п.п.3.2.1.Демонтаж оборудования, которое подлежит дальнейшему использованию, со снятием с места установки, необходимой (частичной) разборкой и консервированием с целью длительного или кратковременною хранения ОЗП=0,7; ЭМ=0,7 к расх.; ЗПМ=0,7; МАТ=0 к расх.; ТЗ=0,7; ТЗМ=0,7) | D32: 1 шт. | E32: 1 | F32: 352.5 | G32: 250.91 | H32: 101.59 | I32: 8.79 | K32: 353 | L32: 251 | M32: 102 | N32: 9 | O32: 19.39 | P32: 19.39
A33: 4 | B33: ТЕРм37-01-002-03 Постан.Правит.Свердл.обл. от 10.11.10 №1616-ПП ВР лист 1 поз.4 | C33: Монтаж оборудования без механизмов в помещении, масса оборудования 0,1 т=бак приемный черт.А.11.1076.000 (МДС 81-37.2004 п.п.3.2.1.Демонтаж оборудования, которое подлежит дальнейшему использованию, со снятием с места установки, необходимой (частичной) разборкой и консервированием с целью длительного или кратковременною хранения ОЗП=0,7; ЭМ=0,7 к расх.; ЗПМ=0,7; МАТ=0 к расх.; ТЗ=0,7; ТЗМ=0,7; МДС81-37.2004 п.п.4.3.1 т.2.Коэффициент изменения массы оборудования 1,11-1,2 ПЗ=1,11 (ОЗП=1,11; ЭМ=1,11 к расх.; ЗПМ=1,11; МАТ=1,11 к расх.; ТЗ=1,11; ТЗМ=1,11)) | D33: 1 шт. | E33: 1 | F33: 317.25 | G33: 252.36 | H33: 64.89 | I33: 4.24 | K33: 317 | L33: 252 | M33: 65 | N33: 4 | O33: 19.5 | P33: 19.5
A34: 5 | B34: ТЕРм12-01-066-01 Постан.Правит.Свердл.обл. от 10.11.10 №1616-ПП ВР лист 1 поз.5 | C34: Трубопровод в помещениях или на открытых площадках в пределах цехов из труб высоколегированных сталей, монтируемый из труб и готовых деталей, на условное давление не более 2,5 МПа, диаметр трубопровода наружный 45 мм=трубопровод DN 15 мм (МДС 81-37.2004 п.п.3.2.1.Демонтаж оборудования, которое не подлежит дальнейшему использованию (предназначено в лом) с разборкой и резкой на части ОЗП=0,5; ЭМ=0,5 к расх.; ЗПМ=0,5; МАТ=0 к расх.; ТЗ=0,5; ТЗМ=0,5) | D34: 100 м трубопровода | E34: 0.2 | F34: 4519.15 | G34: 1415.98 | H34: 3103.17 | I34: 225.81 | K34: 904 | L34: 283 | M34: 621 | N34: 45 | O34: 104.5 | P34: 20.9
A35: 6 | B35: ТЕР09-03-039-01 Постан.Правит.Свердл.обл. от 10.11.10 №1616-ПП ВР лист 1 поз.6 | C35: Монтаж опорных конструкций для крепления трубопроводов внутри зданий и сооружений массой до 0,1 т=рама для бака дренажного черт.А.17.674.140 (МДС 81-37.2004 п.п.3.2.1.Демонтаж оборудования, которое подлежит дальнейшему использованию, со снятием с места установки, необходимой (частичной) разборкой и консервированием с целью длительного или кратковременною хранения ОЗП=0,7; ЭМ=0,7 к расх.; ЗПМ=0,7; МАТ=0 к расх.; ТЗ=0,7; ТЗМ=0,7) | D35: 1 т конструкций | E35: 0.1 | F35: 988.26 | G35: 717.65 | H35: 270.61 | I35: 1.4 | K35: 99 | L35: 72 | M35: 27 | O35: 56.15 | P35: 5.62
A36: Раздел 2. Оборудование и монтажные работы
A37: 7 О | B37: Калькуляция № 04-12/1586 от 07.08.2014 ВР лист 1 поз.1 | C37: Емкость буферная черт.А.11.1077.000 (Итого без НДС (ПЗ=ПЗ/1,18-ПЗ); приведение к базисному уровню цен на оборудование, мебель, инвентарь (ПЗ=ПЗ/4,48-ПЗ); Расходы на комплектацию оборудования - согласно п.4.63 из МДС 81-35.2004 ПЗ=1% (ОЗП=1%; ЭМ=1%; МАТ=1%); Транспортные расходы - согласно п.4.60 из МДС 81-35.2004 ПЗ=3% (ОЗП=3%; ЭМ=3%; МАТ=3%); Заготовительно-складские расходы - согласно п.4.64 из МДС 81-35.2004 ПЗ=1,2% (ОЗП=1,2%; ЭМ=1,2%; МАТ=1,2%); МДС 81-35.2004 п.4.58.Стоимость тары и упаковки - для крупного технологического оборудования ПЗ=1,005 (ОЗП=1,005; ЭМ=1,005; МАТ=1,005 к расх.)) | D37: шт | E37: 4 | F37: 30522.14 | J37: 122089 | K37: 122089
A38: 8 | B38: ТЕРм37-01-002-03 Постан.Правит.Свердл.обл. от 10.11.10 №1616-ПП ВР лист 1 поз.1 | C38: Монтаж оборудования без механизмов в помещении, масса оборудования 0,1 т=емкость буферная черт.А.11.1077.000 - 2 шт.исп.сущ. (МДС81-37.2004 п.п.4.3.1 т.2.Коэффициент изменения массы оборудования 1,61-1,7 ПЗ=1,35 (ОЗП=1,35; ЭМ=1,35 к расх.; ЗПМ=1,35; МАТ=1,35 к расх.; ТЗ=1,35; ТЗМ=1,35)) | D38: 1 шт. | E38: 6 | F38: 818.1 | G38: 438.47 | H38: 112.75 | I38: 7.37 | K38: 4909 | L38: 2631 | M38: 677 | N38: 44 | O38: 33.89 | P38: 203.34
A39: 9 | B39: ТЕРм07-04-001-02 Постан.Правит.Свердл.обл. от 10.11.10 №1616-ПП ВР лист 1 поз.2 | C39: Агрегат насосный лопастный центробежный одноступенчатый, многоступенчатый объемный, вихревой, поршневой, приводной, роторный на общей фундаментной плите или моноблочный, масса 0,17 т (МДС81-37.2004 п.п.4.3.1 т.2.Коэффициент изменения массы оборудования 0,61-0,7 ПЗ=0,85 (ОЗП=0,85; ЭМ=0,85 к расх.; ЗПМ=0,85; МАТ=0,85 к расх.; ТЗ=0,85; ТЗМ=0,85)) | D39: 1 шт. | E39: 3 | F39: 593.49 | G39: 353.64 | H39: 65.55 | I39: 1.55 | K39: 1780 | L39: 1061 | M39: 197 | N39: 5 | O39: 26.69 | P39: 80.07
A40: 10 | B40: ТЕРм37-01-002-04 Постан.Правит.Свердл.обл. от 10.11.10 №1616-ПП ВР лист 1 поз.3 | C40: Монтаж оборудования без механизмов в помещении, масса оборудования 0,5 т=бак дренажный черт.А.17.674.000 - 1 шт.исп.сущ. | D40: 1 шт. | E40: 1 | F40: 1139.13 | G40: 358.44 | H40: 145.13 | I40: 12.56 | K40: 1139 | L40: 358 | M40: 145 | N40: 13 | O40: 27.7 | P40: 27.7
A41: 11 | B41: ТЕР09-03-039-01 Постан.Правит.Свердл.обл. от 10.11.10 №1616-ПП ВР лист 2 поз.4 | C41: Монтаж опорных конструкций для крепления трубопроводов внутри зданий и сооружений массой до 0,1 т=рама для бака дренажного черт.А.17.674.140 (МАТ=0 к расх.) | D41: 1 т конструкций | E41: 0.1 | F41: 1411.79 | G41: 1025.21 | H41: 386.58 | I41: 2 | K41: 141 | L41: 103 | M41: 38 | O41: 80.22 | P41: 8.02
A42: 12 | B42: ТЕРм37-01-002-03 Постан.Правит.Свердл.обл. от 10.11.10 №1616-ПП ВР лист 2 поз.5 | C42: Монтаж оборудования без механизмов в помещении, масса оборудования 0,1 т=бак приемный черт.А.11.1076.000 -1 шт.исп.сущ. (МДС81-37.2004 п.п.4.3.1 т.2.Коэффициент изменения массы оборудования 1,11-1,2 ПЗ=1,11 (ОЗП=1,11; ЭМ=1,11 к расх.; ЗПМ=1,11; МАТ=1,11 к расх.; ТЗ=1,11; ТЗМ=1,11)) | D42: 1 шт. | E42: 1 | F42: 672.66 | G42: 360.52 | H42: 92.71 | I42: 6.06 | K42: 673 | L42: 361 | M42: 93 | N42: 6 | O42: 27.86 | P42: 27.86
A43: 13 | B43: ТЕРм37-01-002-01 Постан.Правит.Свердл.обл. от 10.11.10 №1616-ПП ВР лист 2 поз.6 | C43: Монтаж оборудования без механизмов в помещении, масса оборудования 0,03 т=устройство выгрузное черт.А.99.1010.000 -1 шт.исп.сущ. (МДС81-37.2004 п.п.4.3.1 т.2.Коэффициент изменения массы оборудования 0,41-0,5 ПЗ=0,75 (ОЗП=0,75; ЭМ=0,75 к расх.; ЗПМ=0,75; МАТ=0,75 к расх.; ТЗ=0,75; ТЗМ=0,75)) | D43: 1 шт. | E43: 1 | F43: 357.95 | G43: 176.63 | H43: 34.39 | K43: 358 | L43: 177 | M43: 34 | O43: 13.65 | P43: 13.65
A44: 14 О | B44: Прайс "Megal " Спец-ия лист 2 поз.12 | C44: Вышка-стремянка разборная, на колесах ВС-1,0 (Итого без НДС (ПЗ=ПЗ/1,18-ПЗ); приведение к базисному уровню цен на оборудование, мебель, инвентарь (ПЗ=ПЗ/4,48-ПЗ); Транспортные расходы - согласно п.4.60 из МДС 81-35.2004 ПЗ=3% (ОЗП=3%; ЭМ=3%; МАТ=3%); Заготовительно-складские расходы - согласно п.4.64 из МДС 81-35.2004 ПЗ=1,2% (ОЗП=1,2%; ЭМ=1,2%; МАТ=1,2%)) | D44: шт | E44: 1 | F44: 4485.8 | J44: 4486 | K44: 4486
A45: 15 | B45: Прайс ООО "Силтон " Спец-ия лист 2 поз.16 | C45: Соединение KAMLOK SSA-019 (Итого без НДС (МАТ=МАТ/1,18-МАТ); приведение к базисному уровню цен на материалы (МАТ=МАТ/5,73-МАТ)) | D45: шт | E45: 2 | F45: 53.24 | K45: 106
A46: 16 | B46: Прайс ООО "Силтон " Спец-ия лист 2 поз.17 | C46: Соединение KAMLOK SSA-051 (Итого без НДС (МАТ=МАТ/1,18-МАТ); приведение к базисному уровню цен на материалы (МАТ=МАТ/5,73-МАТ)) | D46: шт | E46: 1 | F46: 130.15 | K46: 130
A47: 17 | B47: Прайс ООО "Силтон " Спец-ия лист 3 поз.18 | C47: Соединение KAMLOK SSС-019 (Итого без НДС (МАТ=МАТ/1,18-МАТ); приведение к базисному уровню цен на материалы (МАТ=МАТ/5,73-МАТ)) | D47: шт | E47: 2 | F47: 53.24 | K47: 106
A48: 18 | B48: Прайс ООО "Силтон " Спец-ия лист 3 поз.19 | C48: Соединение KAMLOK SSС-051 (Итого без НДС (МАТ=МАТ/1,18-МАТ); приведение к базисному уровню цен на материалы (МАТ=МАТ/5,73-МАТ)) | D48: шт | E48: 1 | F48: 218.89 | K48: 219
...

Sheet 04-40697-0-0-ОВ.ЛС1 ПНР
A1: СОГЛАСОВАНО: | J1: УТВЕРЖДАЮ:
A4: ________________ | J4: ________________
A5: " _____ " ________________ 2011 г. | J5: "______ " _______________2011 г.
E7: (наименование стройки)
D9: ЛОКАЛЬНЫЙ СМЕТНЫЙ РАСЧЕТ № 04-40697-0-0-ОВ.ЛС1
D10: (локальная смета)
B12: на | C12: Вентиляция. Пусконаладочные работы
E13: (наименование работ и затрат, наименование объекта)
C15: Основание: 04-40697-0-0-ОВ.ВР1
C16: Сметная стоимость прочих _______________________________________________________________________________________________ | E16: ___________________________6,780 | G16: тыс. руб.
C17: Средства на оплату труда _______________________________________________________________________________________________ | E17: ___________________________3,307 | G17: тыс. руб.
C18: Сметная трудоемкость _______________________________________________________________________________________________ | E18: _______________________________________________________________________________________________169,95 | G18: чел.час
C19: Составлен(а) в текущих (прогнозных) ценах по состоянию на _______2011 г.
A22: № пп | B22: Обоснование | C22: Наименование | D22: Ед. изм. | E22: Кол. | F22: Стоимость единицы, руб. | J22: Общая стоимость, руб.
F23: Всего | G23: В том числе | J23: Всего | K23: В том числе
G24: Осн.З/п | H24: Эк.Маш. | I24: З/пМех | K24: Осн.З/п | L24: Эк.Маш. | M24: З/пМех
A25: 1 | B25: 2 | C25: 3 | D25: 4 | E25: 5 | F25: 6 | G25: 7 | H25: 8 | I25: 9 | J25: 10 | K25: 11 | L25: 12 | M25: 13
A26: Раздел 1.
B27: ТЕРп03-01-002-01 Постан.Правит.Свердл.обл. от 10.11.10 №1616-ПП | C27: Вентилятор осевой с входными элементами сети, установленный в воздуховоде, шахте, проеме или крышечного типа № 4-8 НР (141 руб.): 65% от ФОТ (217 руб.) СП (87 руб.): 40% от ФОТ (217 руб.) | D27: 1 устройство | E27: 3 2+1 | F27: 92.24 | G27: 92.24 | J27: 277 | K27: 277
B28: ТЕРп03-01-011-01 Постан.Правит.Свердл.обл. от 10.11.10 №1616-ПП | C28: Регулировочно-запорное устройство клапан воздушный проходной с электрическим, пневматическим приводом НР (58 руб.): 65% от ФОТ (89 руб.) СП (36 руб.): 40% от ФОТ (89 руб.) | D28: 1 устройство | E28: 4 | F28: 28.59 | G28: 28.59 | J28: 114 | K28: 114
B29: ТЕРп03-01-022-02 Постан.Правит.Свердл.обл. от 10.11.10 №1616-ПП | C29: Сеть систем вентиляции и кондиционирования воздуха при количестве сечений до 10 НР (272 руб.): 65% от ФОТ (418 руб.) СП (167 руб.): 40% от ФОТ (418 руб.) | D29: 1 вентиляционная сеть | E29: 2 | F29: 266.81 | G29: 266.81 | J29: 534 | K29: 534
B30: ТЕРп03-01-041-05 Постан.Правит.Свердл.обл. от 10.11.10 №1616-ПП | C30: Определение потерь (подсосов) воздуха в вентиляционной сети переносным вентилятором при суммарной длине воздуховода до 30 м, площадь сечения воздуховода в месте присоединения переносного вентилятора до 0,5 м2 НР (1586 руб.): 65% от ФОТ (2440 руб.) СП (976 руб.): 40% от ФОТ (2440 руб.) | D30: 1 участок вентиляционной сети | E30: 8 | F30: 389.72 | G30: 389.72 | J30: 3118 | K30: 3118
B31: ТЕРп03-01-045-01 Постан.Правит.Свердл.обл. от 10.11.10 №1616-ПП | C31: Система воздухораспределения в одном помещении для регулирования метеорологических условий в рабочей зоне при количестве приточных насадков (воздухораспределителей) до 4 НР (93 руб.): 65% от ФОТ (143 руб.) СП (57 руб.): 40% от ФОТ (143 руб.) | D31: 1 помещение | E31: 3 1+2 | F31: 60.99 | G31: 60.99 | J31: 183 | K31: 183
A32: Итого по разделу 1 | J32: 6780
A33: ИТОГИ ПО СМЕТЕ:
A34: Итого прямые затраты по смете в ценах 2001г. | J34: 4226 | K34: 4226
A35: Итого прямые затраты по смете с учетом коэффициентов к итогам | J35: 3307 | K35: 3307
A36: Накладные расходы | J36: 2150
A37: Сметная прибыль | J37: 1323
A38: Итоги по смете:
A39: Пусконаладочные работы: 'вхолостую' - 75%, 'под нагрузкой' - 25%:
A40: Итого Поз. | J40: 4226 | K40: 4226
A41: Всего с учетом районного к-та 4,34% | J41: 4409 | K41: 4409
A42: Всего с учетом "Пусконаладочные работы: 'вхолостую' - 75% ПЗ=0,75 (ОЗП=0,75; ЭМ=0,75; ЗПМ=0,75; МАТ=0,75; ТЗ=0,75; ТЗМ=0,75)" | J42: 3307 | K42: 3307
A43: Накладные расходы 65% ФОТ (от 3 307) | J43: 2150
A44: Сметная прибыль 40% ФОТ (от 3 307) | J44: 1323
A45: Итого c накладными и см. прибылью | J45: 6780
A46: Итого | J46: 6780
A47: В том числе:
A48: ФОТ | J48: 3307
...

Sheet 04-40697-0-0-ЭМ.ЛС1 ПНР
A1: СОГЛАСОВАНО: | J1: УТВЕРЖДАЮ:
A4: ________________ | J4: ________________
A5: " _____ " ________________ 2011 г. | J5: "______ " _______________2011 г.
E7: (наименование стройки)
D9: ЛОКАЛЬНЫЙ СМЕТНЫЙ РАСЧЕТ № 04-40697-0-0-ЭМ.ЛС1
D10: (локальная смета)
B12: на | C12: Силовое электрооборудование. Пусконаладочные работы
E13: (наименование работ и затрат, наименование объекта)
C15: Основание: РД 04-40697-0-0-ЭМ.ВР1
C16: Сметная стоимость прочих _______________________________________________________________________________________________ | E16: ___________________________2,800 | G16: тыс. руб.
C17: Средства на оплату труда _______________________________________________________________________________________________ | E17: ___________________________1,366 | G17: тыс. руб.
C18: Сметная трудоемкость _______________________________________________________________________________________________ | E18: _______________________________________________________________________________________________76,08 | G18: чел.час
C19: Составлен(а) в текущих (прогнозных) ценах по состоянию на _______2011 г.
A22: № пп | B22: Обоснование | C22: Наименование | D22: Ед. изм. | E22: Кол. | F22: Стоимость единицы, руб. | J22: Общая стоимость, руб.
F23: Всего | G23: В том числе | J23: Всего | K23: В том числе
G24: Осн.З/п | H24: Эк.Маш. | I24: З/пМех | K24: Осн.З/п | L24: Эк.Маш. | M24: З/пМех
A25: 1 | B25: 2 | C25: 3 | D25: 4 | E25: 5 | F25: 6 | G25: 7 | H25: 8 | I25: 9 | J25: 10 | K25: 11 | L25: 12 | M25: 13
A26: Раздел 1. Пуско-наладочные работы
B27: ТЕРп01-05-015-02 Постан.Правит.Свердл.обл. от 10.11.10 №1616-ПП л.1, п. 1 | C27: Устройство АВР линии напряжением ниже 1 кВ без схемы восстановления напряжения КОЭФ. К ПОЗИЦИИ: МДС81-40.2006 т.2 п.5._В электроустановках, находящихся под напряжением с оформлением при этом наряда-допуска или распоряжения (с учетом письма Госстроя от 14.02.2006 № СК-481/02) ОЗП=1,3; ТЗ=1,3 НР (189 руб.): 65% от ФОТ (291 руб.) СП (116 руб.): 40% от ФОТ (291 руб.) | D27: 1 устройство | E27: 1 | F27: 348.66 | G27: 348.66 | J27: 349 | K27: 349
B28: ТЕРп01-11-028-01 Постан.Правит.Свердл.обл. от 10.11.10 №1616-ПП л.1, п. 2 | C28: Измерение сопротивления изоляции мегаомметром кабельных и других линий напряжением до 1 кВ, предназначенных для передачи электроэнергии к распределительным устройствам, щитам, шкафам, коммутационным аппаратам и электропотребителям НР (51 руб.): 65% от ФОТ (78 руб.) СП (31 руб.): 40% от ФОТ (78 руб.) | D28: 1 линия | E28: 13 | F28: 7.22 | G28: 7.22 | J28: 94 | K28: 94
B29: ТЕРп01-03-002-04 Постан.Правит.Свердл.обл. от 10.11.10 №1616-ПП л.1, п. 3 | C29: Выключатель трехполюсный напряжением до 1 кВ с электромагнитным, тепловым или комбинированным расцепителем, номинальный ток до 50 А КОЭФ. К ПОЗИЦИИ: МДС81-40.2006 т.2 п.5._В электроустановках, находящихся под напряжением с оформлением при этом наряда-допуска или распоряжения (с учетом письма Госстроя от 14.02.2006 № СК-481/02) ОЗП=1,3; ТЗ=1,3 НР (112 руб.): 65% от ФОТ (172 руб.) СП (69 руб.): 40% от ФОТ (172 руб.) | D29: 1 шт. | E29: 6 | F29: 34.41 | G29: 34.41 | J29: 206 | K29: 206
B30: ТЕРп01-11-013-01 Постан.Правит.Свердл.обл. от 10.11.10 №1616-ПП л.1, п. 4 | C30: Замер полного сопротивления цепи «фаза-нуль» КОЭФ. К ПОЗИЦИИ: МДС81-40.2006 т.2 п.5._В электроустановках, находящихся под напряжением с оформлением при этом наряда-допуска или распоряжения (с учетом письма Госстроя от 14.02.2006 № СК-481/02) ОЗП=1,3; ТЗ=1,3 НР (152 руб.): 65% от ФОТ (234 руб.) СП (94 руб.): 40% от ФОТ (234 руб.) | D30: 1 токоприемник | E30: 8 | F30: 35.18 | G30: 35.18 | J30: 281 | K30: 281
B31: ТЕРп01-11-011-01 Постан.Правит.Свердл.обл. от 10.11.10 №1616-ПП л.2, п. 5 | C31: Проверка наличия цепи между заземлителями и заземленными элементами НР (32 руб.): 65% от ФОТ (49 руб.) СП (20 руб.): 40% от ФОТ (49 руб.) | D31: 100 точек | E31: 0.2 | F31: 288.64 | G31: 288.64 | J31: 58 | K31: 58
