Workbook
Name Constr: '24506'!$A$7
Name Constr: '24524'!$A$1
Name Constr: '24534-2'!$A$1
Name Constr: '24553-2'!$A$1
Name Constr: '24629-2'!$A$1
Name Constr: '24653'!$A$1
Name FOT: '24506'!$D$12
Name FOT: '24524'!$D$17
Name FOT: '24534-2'!$D$16
Name FOT: '24553-2'!$D$16
Name FOT: '24629-2'!$D$14
Name FOT: '24653'!$D$16
Name Ind: '24506'!$H$9
Name Ind: '24524'!$G$9
Name Ind: '24534-2'!$G$9
Name Ind: '24553-2'!$G$9
Name Ind: '24629-2'!$G$9
Name Ind: '24653'!#REF!
Name Obj: '24506'!#REF!
Name Obj: '24524'!#REF!
Name Obj: '24534-2'!#REF!
Name Obj: '24553-2'!#REF!
Name Obj: '24629-2'!#REF!
Name Obj: '24653'!$D$9
Name Obosn: '24506'!$D$10
Name Obosn: '24524'!$D$12
Name Obosn: '24534-2'!$D$12
Name Obosn: '24553-2'!$D$12
Name Obosn: '24629-2'!$D$12
Name Obosn: '24653'!$D$12
Name SmPr: '24506'!$D$11
Name SmPr: '24524'!$D$13
Name SmPr: '24534-2'!$D$13
Name SmPr: '24553-2'!$D$13
Name SmPr: '24629-2'!$D$13
Name SmPr: '24653'!$D$13
Name аааааппппппрррппппппп: #REF!
Name аараооооооооооооо: #REF!
Name автом: #REF!
Name алшрльоплварл: #REF!
Name аолвлддддддддддддддддввввввввв: #REF!
Name апарв: #REF!
Name апрлдджаоырыфрпопрлпрлпрлп: #REF!
Name арлггаджаш: #REF!
Name ароррбллтблпроорапииас: #REF!
Name арррррблллпдрлдддддддддд: #REF!
Name варпаааааааааа: #REF!
Name ввпьььььлднд: #REF!
Name вед: #REF!
Name вертикальная: #REF!
Name вертикплан: #REF!
Name волен: #REF!
Name вп: #REF!
Name впырпфдыпл: #REF!
Name впьглорьтитттттттттт: #REF!
Name всввввввввввввввввввввввввв: #REF!
Name выб: #REF!
Name выпуск: #REF!
Name выьлепвввввпмп: #REF!
Name еваопродолжэрщэрзшщщх: #REF!

Sheet 24629-2
A1: СОГЛАСОВАНО: | E1: ФГУП "Комбинат "Электрохимприбор" | M1: УТВЕРЖДАЮ:
G2: (наименование стройки) | M2: Зам. генерального директора
M3: Е.В.Гордеев
A4: _________________ | M4: _________________
A5: " _____ " ________________ 2012 г. | M5: "______ " __________2012 г.
G6: ЛОКАЛЬНЫЙ СМЕТНЫЙ РАСЧЕТ № 24629-2
G7: (локальная смета)
C9: на | D9: Электроснабжение шкафов УДГБ.
H10: (наименование работ и затрат, наименование объекта)
D12: Основание: Проект № 24424-12-ЭМ Тема КПМ Ж6288.219
D13: Сметная стоимость монтажных работ _______________________________________________________________________________________________ | J13: ___________________________5,460 | L13: тыс. руб.
D14: Средства на оплату труда _______________________________________________________________________________________________ | J14: ___________________________0,735 | L14: тыс. руб.
D15: Сметная трудоемкость _______________________________________________________________________________________________ | J15: _______________________________________________________________________________________________45,77 | L15: чел.час
D16: Составлен(а) в базовых ценах 2001г. в редакции 2009г.
A18: № пп | B18: Обоснова-ние | C18: Наименование | D18: Ед. изм. | E18: Кол. | F18: Стоимость единицы, руб. | J18: Общая стоимость, руб. | O18: Т/з осн. раб.на ед. | P18: Т/з осн. раб. Всего | Q18: Общая масса обору-дования, т
F19: Всего | G19: В том числе | J19: Обору-дование | K19: Всего | L19: В том числе
G20: Осн.З/п | H20: Эк.Маш | I20: З/пМех | L20: Осн.З/п | M20: Эк.Маш | N20: З/пМех
A21: 1 | B21: 2 | C21: 3 | D21: 4 | E21: 5 | F21: 6 | G21: 7 | H21: 8 | I21: 9 | J21: 10 | K21: 11 | L21: 12 | M21: 13 | N21: 14 | O21: 15 | P21: 16 | Q21: 17
A22: 1 | B22: ТЕРм08-03-526-01 | C22: Автомат одно-, двух-, трехполюсный, устанавливаемый на конструкции на ток до 25 А | D22: 1 шт. | E22: 2 | F22: 174.77 | G22: 20.9 | H22: 1.28 | K22: 350 | L22: 42 | M22: 3 | O22: 1.56 | P22: 3.12
A23: 2 | B23: ТСЦ-509-0323 | C23: Выключатели автоматические ВА47-29 | D23: шт. | E23: 2 | F23: 33.29 | K23: 67
A24: 3 | B24: ТЕРм08-02-146-01 | C24: Кабель до 35 кВ с креплением накладными скобами, масса 1 м кабеля до 0,5 кг КОЭФ. К ПОЗИЦИИ: 1.8.3.ОП При производстве работ на высоте свыше расстояний, указанных в вводных указаниях к разделам сборника: при высоте свыше 2 до 8 м ОЗП=1,05; ТЗ=1,05 | D24: 100 м кабеля | E24: 0.06 | F24: 2838.69 | G24: 209.15 | H24: 1292.95 | I24: 147.72 | K24: 170 | L24: 13 | M24: 78 | N24: 9 | O24: 15.44 | P24: 0.93
A25: 4 | B25: ТЕРм08-02-147-01 | C25: Кабель до 35 кВ по установленным конструкциям и лоткам с креплением на поворотах и в конце трассы, масса 1 м кабеля до 1 кг КОЭФ. К ПОЗИЦИИ: 1.8.3.ОП При производстве работ на высоте свыше расстояний, указанных в вводных указаниях к разделам сборника: при высоте свыше 2 до 8 м ОЗП=1,05; ТЗ=1,05 | D25: 100 м кабеля | E25: 1.09 | F25: 813.92 | G25: 165.04 | H25: 456.3 | I25: 50.35 | K25: 887 | L25: 180 | M25: 497 | N25: 55 | O25: 12.18 | P25: 13.28
A26: 5 | B26: ТЕРм08-02-144-01 | C26: Присоединение к зажимам жил проводов или кабелей сечением до 2,5 мм2 | D26: 100 шт. | E26: 0.12 | F26: 165.85 | G26: 162.6 | K26: 20 | L26: 20 | O26: 12 | P26: 1.44
A27: 6 | B27: ТСЦ-501-8190 | C27: Кабель силовой с медными жилами с поливинилхлоридной изоляцией в поливинилхлоридной оболочке без защитного покрова ВВГ, напряжением 0,66 Кв, число жил 3 и сечением 1,5 мм2 | D27: 1000 м | E27: 0.1173 | F27: 6962.8 | K27: 817
A28: 7 | B28: ТЕРм08-02-158-04 | C28: Заделка концевая сухая для контрольного кабеля сечением одной жилы до 2,5 мм2, количество жил до 4 | D28: 1 шт. | E28: 4 | F28: 38.4 | G28: 3.52 | H28: 2.92 | I28: 0.18 | K28: 154 | L28: 14 | M28: 12 | N28: 1 | O28: 0.26 | P28: 1.04
A29: 8 | B29: ФЕРм08-02-390-01 | C29: Короба пластмассовые: шириной до 40 мм КОЭФ. К ПОЗИЦИИ: Приведение расценок ФЕР к территориальному уровню (Письмо УРЦЦС Ц-297 от 12.04.2011) ОЗП=1,41; ЭМ=1,242; ЗПМ=1,41; МАТ=1,052 | D29: 100 м | E29: 0.15 | F29: 311.4 | G29: 218.44 | H29: 38.75 | I29: 0.17 | K29: 47 | L29: 33 | M29: 6 | O29: 16.29 | P29: 2.44
A30: 9 | B30: Цена поставщика | C30: Кабель-канал 30х25 "ЭЛЕКОР" CKK10-030-025-1-K01 (Ц:33,33руб:1,18:4,42) | D30: м | E30: 15 | F30: 6.39 | K30: 96
A31: 10 | B31: ТЕРм08-02-472-10 | C31: Проводник заземляющий из медного изолированного провода сечением 25 мм2 открыто по строительным основаниям | D31: 100 м | E31: 0.25 | F31: 4732.43 | G31: 617.45 | H31: 45.38 | I31: 0.55 | K31: 1183 | L31: 154 | M31: 11 | O31: 46.6 | P31: 11.65
A32: 11 | B32: ТСЦ-502-0518 | C32: Провода силовые для электрических установок на напряжение до 450 В с медной жилой марки ПВ3, сечением 4 мм2 | D32: 1000 м | E32: 0.025 | F32: 3471 | K32: 87
A33: Итого прямые затраты по смете в ценах 2001г. | K33: 3878 | L33: 456 | M33: 607 | N33: 65 | P33: 33.9
A34: Итого прямые затраты по смете с учетом коэффициентов к итогам | K34: 4284 | L34: 643 | M34: 824 | N34: 92 | P34: 45.77
A35: В том числе, справочно:
A36: Районный к-т 4,3% (Поз. 1, 3-5, 7-8, 10) | K36: 23 | L36: 20 | M36: 3 | N36: 3
A37: Заготовительно-складские расходы на материалы - согласно п.4.64 из МДС 81-35.2004 МАТ=1,02 (Поз. 9) | K37: 2
A38: 2. Производство монтажных работ в существующих зданиях и сооружениях в стесненных условиях ОЗП=1,35; ЭМ=1,35; ЗПМ=1,35; ТЗ=1,35; ТЗМ=1,35 (Поз. 1, 3-5, 7-8, 10) | K38: 381 | L38: 167 | M38: 214 | N38: 24 | P38: 11.865
A39: Накладные расходы | K39: 698
A40: В том числе, справочно:
A41: 95% ФОТ (от 735) (Поз. 1, 3-5, 7-8, 10) | K41: 698
A42: Сметная прибыль | K42: 478
A43: В том числе, справочно:
...

Sheet 24534-2
A1: СОГЛАСОВАНО: | E1: ФГУП "Комбинат "Электрохимприбор" | M1: УТВЕРЖДАЮ:
G2: (наименование стройки) | M2: Зам. генерального директора
M3: Е.В.Гордеев
A4: _________________ | M4: _________________
A5: " _____ " ________________ 2012 г. | M5: "______ " __________2012 г.
G6: ЛОКАЛЬНЫЙ СМЕТНЫЙ РАСЧЕТ № 24534-2
G7: (локальная смета)
C9: на | D9: электроснабжение. Оборудование рабочих мест разборки.
G10: (наименование работ и затрат, наименование объекта)
D12: Основание: проект № 24360-12-ЭМ
D13: Сметная стоимость _______________________________________________________________________________________________ | J13: ___________________________283,288 | L13: тыс. руб.
D14: монтажных работ _______________________________________________________________________________________________ | J14: _______________________________________________________________________________________________238,873 | L14: тыс. руб.
D15: оборудования _______________________________________________________________________________________________ | J15: _______________________________________________________________________________________________44,415 | L15: тыс. руб.
D16: Средства на оплату труда _______________________________________________________________________________________________ | J16: ___________________________21,856 | L16: тыс. руб.
D17: Сметная трудоемкость _______________________________________________________________________________________________ | J17: _______________________________________________________________________________________________1287,11 | L17: чел.час
D18: Составлен(а) в базовых ценах 2001г. в редакции 2009г.
A20: № пп | B20: Обоснова-ние | C20: Наименование | D20: Ед. изм. | E20: Кол. | F20: Стоимость единицы, руб. | J20: Общая стоимость, руб. | O20: Т/з осн. раб.на ед. | P20: Т/з осн. раб. Всего | Q20: Общая масса обору-дования, т
F21: Всего | G21: В том числе | J21: Обору-дование | K21: Всего | L21: В том числе
G22: Осн.З/п | H22: Эк.Маш | I22: З/пМех | L22: Осн.З/п | M22: Эк.Маш | N22: З/пМех
A23: 1 | B23: 2 | C23: 3 | D23: 4 | E23: 5 | F23: 6 | G23: 7 | H23: 8 | I23: 9 | J23: 10 | K23: 11 | L23: 12 | M23: 13 | N23: 14 | O23: 15 | P23: 16 | Q23: 17
A24: Раздел 1. Демонтажные работы
A25: 1 | B25: ТЕРм08-03-532-04 | C25: Демонтаж: пост управления кнопочный общего назначения, устанавливаемый на конструкции на стене или колонне, количество элементов поста до 3 КОЭФ. К ПОЗИЦИИ: демонтаж ОЗП=0,6; ЭМ=0,6 к расх.; ЗПМ=0,6; МАТ=0 к расх.; ТЗ=0,6; ТЗМ=0,6 | D25: 1 шт. | E25: 14 | F25: 15.24 | G25: 14.47 | H25: 0.77 | K25: 213 | L25: 203 | M25: 10 | O25: 1.08 | P25: 15.12
A26: 2 | B26: ТЕРм10-02-030-01 | C26: Демонтаж: аппарат телефонный КОЭФ. К ПОЗИЦИИ: демонтаж ОЗП=0,6; ЭМ=0,6 к расх.; ЗПМ=0,6; МАТ=0 к расх.; ТЗ=0,6; ТЗМ=0,6 | D26: 1 шт. | E26: 4 | F26: 58.54 | G26: 58.54 | K26: 234 | L26: 234 | O26: 4.32 | P26: 17.28
A27: 3 | B27: ТЕРм08-02-148-01 | C27: Демонтаж: кабель до 35 кВ в проложенных трубах, блоках и коробах, масса 1 м кабеля до 1 кг КОЭФ. К ПОЗИЦИИ: 1.8.3.ОП При производстве работ на высоте свыше расстояний, указанных в вводных указаниях к разделам сборника: при высоте свыше 2 до 8 м ОЗП=1,05; ТЗ=1,05; демонтаж ОЗП=0,3; ЭМ=0,3 к расх.; ЗПМ=0,3; МАТ=0 к расх.; ТЗ=0,3; ТЗМ=0,3 | D27: 100 м кабеля | E27: 15 | F27: 216.37 | G27: 52.93 | H27: 163.44 | I27: 17.36 | K27: 3246 | L27: 794 | M27: 2452 | N27: 260 | O27: 3.91 | P27: 58.65
A28: Переустановка конструкций и приборов
A29: 4 | B29: ТЕРм08-03-543-02 | C29: Демонтаж: светофор с количеством ламп до трех, устанавливаемый на конструкции на стене, колонне или балке КОЭФ. К ПОЗИЦИИ: 1.8.3.ОП При производстве работ на высоте свыше расстояний, указанных в вводных указаниях к разделам сборника: при высоте свыше 2 до 8 м ОЗП=1,05; ТЗ=1,05; демонтаж ОЗП=0,6; ЭМ=0,6 к расх.; ЗПМ=0,6; МАТ=0 к расх.; ТЗ=0,6; ТЗМ=0,6 | D29: 1 шт. | E29: 6 | F29: 22.38 | G29: 20.12 | H29: 2.26 | K29: 134 | L29: 121 | M29: 13 | O29: 1.52 | P29: 9.12
A30: 5 | B30: ТЕРм08-03-543-02 | C30: Монтаж: светофор с количеством ламп до трех, устанавливаемый на конструкции на стене, колонне или балке КОЭФ. К ПОЗИЦИИ: 1.8.3.ОП При производстве работ на высоте свыше расстояний, указанных в вводных указаниях к разделам сборника: при высоте свыше 2 до 8 м ОЗП=1,05; ТЗ=1,05 | D30: 1 шт. | E30: 6 | F30: 94.17 | G30: 33.53 | H30: 3.77 | K30: 565 | L30: 201 | M30: 23 | O30: 2.53 | P30: 15.18
A31: 6 | B31: ТЕРм08-02-396-05 | C31: Демонтаж: короб металлический по стенам и потолкам, длина 2 м КОЭФ. К ПОЗИЦИИ: 1.8.3.ОП При производстве работ на высоте свыше расстояний, указанных в вводных указаниях к разделам сборника: при высоте свыше 2 до 8 м ОЗП=1,05; ТЗ=1,05; демонтаж ОЗП=0,6; ЭМ=0,6 к расх.; ЗПМ=0,6; МАТ=0 к расх.; ТЗ=0,6; ТЗМ=0,6 | D31: 100 м | E31: 1.5 | F31: 786.76 | G31: 313.87 | H31: 472.89 | I31: 121.77 | K31: 1180 | L31: 471 | M31: 709 | N31: 183 | O31: 23.69 | P31: 35.54
A32: 7 | B32: ТЕРм08-02-396-05 | C32: Монтаж: короб металлический по стенам и потолкам, длина 2 м КОЭФ. К ПОЗИЦИИ: 1.8.3.ОП При производстве работ на высоте свыше расстояний, указанных в вводных указаниях к разделам сборника: при высоте свыше 2 до 8 м ОЗП=1,05; ТЗ=1,05 | D32: 100 м | E32: 1.5 | F32: 1865.12 | G32: 523.11 | H32: 788.16 | I32: 202.95 | K32: 2798 | L32: 785 | M32: 1182 | N32: 304 | O32: 39.48 | P32: 59.22
A33: 8 | B33: ТЕРм11-03-011-01 | C33: Демонтаж: преобразователь температуры и влажности КОЭФ. К ПОЗИЦИИ: 1.8.3.ОП При производстве работ на высоте свыше расстояний, указанных в вводных указаниях к разделам сборника: при высоте свыше 2 до 8 м ОЗП=1,05; ТЗ=1,05; демонтаж ОЗП=0,6; ЭМ=0,6 к расх.; ЗПМ=0,6; МАТ=0 к расх.; ТЗ=0,6; ТЗМ=0,6 | D33: 1 компл. | E33: 2 | F33: 64.3 | G33: 38.93 | H33: 25.37 | I33: 1.64 | K33: 129 | L33: 78 | M33: 51 | N33: 3 | O33: 2.83 | P33: 5.66
A34: 9 | B34: ТЕРм11-03-011-01 | C34: Монтаж: преобразователь температуры и влажности | D34: 1 компл. | E34: 2 | F34: 114.59 | G34: 61.78 | H34: 42.29 | I34: 2.73 | K34: 229 | L34: 124 | M34: 85 | N34: 5 | O34: 4.49 | P34: 8.98
A35: Раздел 2. Монтажные работы
A36: 10 | B36: ТСЦ-501-8369 | C36: Кабель силовой с медными жилами с поливинилхлоридной изоляцией с броней из стальной ленты в шланге из поливинилхлорида ВБбШв, напряжением 0,66 Кв, число жил 3 и сечением 1,5 мм2 | D36: 1000 м | E36: 1.02 | F36: 13425 | K36: 13694
A37: 11 | B37: Цена поставщика | C37: Кабель контрольный с броней из стальной ленты в шланге из поливинилхлорида КВБбШв, число жил 7 и сечением 1,5 мм2 (Ц:81185руб:1,18:4,42) | D37: 1000 м | E37: 0.408 | F37: 15565.8 | K37: 6351
A38: 12 | B38: Цена поставщика | C38: Кабель контрольный с броней из стальной ленты в шланге из поливинилхлорида КВБбШв, число жил 10 и сечением 1,5 мм2 (Ц:104493руб:1,18:4,42) | D38: 1000 м | E38: 0.255 | F38: 20034.7 | K38: 5109
A39: 13 | B39: Цена поставщика | C39: Кабель контрольный с броней из стальной ленты в шланге из поливинилхлорида КВБбШв, число жил 27 и сечением 1,5 мм2 (Ц:242695руб:1,18:4,42) | D39: 1000 м | E39: 0.255 | F39: 46532.52 | K39: 11866
A40: 14 | B40: Цена поставщика | C40: Кабель контрольный с броней из стальной ленты в шланге из поливинилхлорида КВБбШв, число жил 37 и сечением 1,5 мм2 (Ц:325015руб:1,18:4,42) | D40: 1000 м | E40: 0.1938 | F40: 62315.94 | K40: 12077
A41: 15 | B41: ТЕРм08-02-148-01 | C41: Кабель до 35 кВ в проложенных трубах, блоках и коробах, масса 1 м кабеля до 1 кг КОЭФ. К ПОЗИЦИИ: 1.8.3.ОП При производстве работ на высоте свыше расстояний, указанных в вводных указаниях к разделам сборника: при высоте свыше 2 до 8 м ОЗП=1,05; ТЗ=1,05 | D41: 100 м кабеля | E41: 10 | F41: 807.24 | G41: 176.42 | H41: 544.81 | I41: 57.87 | K41: 8072 | L41: 1764 | M41: 5448 | N41: 579 | O41: 13.02 | P41: 130.2
A42: 16 | B42: ТЕРм08-02-148-02 | C42: Кабель до 35 кВ в проложенных трубах, блоках и коробах, масса 1 м кабеля до 2 кг КОЭФ. К ПОЗИЦИИ: 1.8.3.ОП При производстве работ на высоте свыше расстояний, указанных в вводных указаниях к разделам сборника: при высоте свыше 2 до 8 м ОЗП=1,05; ТЗ=1,05 | D42: 100 м кабеля | E42: 9 | F42: 1123.42 | G42: 260.37 | H42: 775.44 | I42: 82.28 | K42: 10111 | L42: 2343 | M42: 6979 | N42: 741 | O42: 19.22 | P42: 172.98
A43: 17 | B43: ТЕРм08-02-148-03 | C43: Кабель до 35 кВ в проложенных трубах, блоках и коробах, масса 1 м кабеля до 3 кг КОЭФ. К ПОЗИЦИИ: 1.8.3.ОП При производстве работ на высоте свыше расстояний, указанных в вводных указаниях к разделам сборника: при высоте свыше 2 до 8 м ОЗП=1,05; ТЗ=1,05 | D43: 100 м кабеля | E43: 1.9 | F43: 1524.91 | G43: 330.08 | H43: 1105.89 | I43: 111.48 | K43: 2897 | L43: 627 | M43: 2101 | N43: 212 | O43: 24.36 | P43: 46.28
...

Sheet 24553-2
A1: СОГЛАСОВАНО: | E1: ФГУП "Комбинат "Электрохимприбор" | M1: УТВЕРЖДАЮ:
G2: (наименование стройки) | M2: Зам. генерального директора
M3: Е.В.Гордеев
A4: _________________ | M4: _________________
A5: " _____ " ________________ 2012 г. | M5: "______ " __________2012 г.
G6: ЛОКАЛЬНЫЙ СМЕТНЫЙ РАСЧЕТ № 24553-2
G7: (локальная смета)
C9: на | D9: Электроснабжение. Электрооборудование. Площадка 2. Здание 292 А/3. Помещения 116, 126. | O9: инв.№ 9109052
G10: (наименование работ и затрат, наименование объекта)
D12: Основание: проект № 24387-12-ЭМ
D13: Сметная стоимость _______________________________________________________________________________________________ | J13: ___________________________146,039 | L13: тыс. руб.
D14: монтажных работ _______________________________________________________________________________________________ | J14: _______________________________________________________________________________________________91,777 | L14: тыс. руб.
D15: оборудования _______________________________________________________________________________________________ | J15: _______________________________________________________________________________________________54,262 | L15: тыс. руб.
D16: Средства на оплату труда _______________________________________________________________________________________________ | J16: ___________________________9,292 | L16: тыс. руб.
D17: Сметная трудоемкость _______________________________________________________________________________________________ | J17: _______________________________________________________________________________________________567,19 | L17: чел.час
D18: Составлен(а) в базовых ценах 2001г. в редакции 2009г.
A20: № пп | B20: Обоснова-ние | C20: Наименование | D20: Ед. изм. | E20: Кол. | F20: Стоимость единицы, руб. | J20: Общая стоимость, руб. | O20: Т/з осн. раб.на ед. | P20: Т/з осн. раб. Всего | Q20: Общая масса обору-дования, т
F21: Всего | G21: В том числе | J21: Обору-дование | K21: Всего | L21: В том числе
G22: Осн.З/п | H22: Эк.Маш | I22: З/пМех | L22: Осн.З/п | M22: Эк.Маш | N22: З/пМех
A23: 1 | B23: 2 | C23: 3 | D23: 4 | E23: 5 | F23: 6 | G23: 7 | H23: 8 | I23: 9 | J23: 10 | K23: 11 | L23: 12 | M23: 13 | N23: 14 | O23: 15 | P23: 16 | Q23: 17
A24: Раздел 1. Демонтажные работы
A25: 1 | B25: ТЕРм08-03-526-01 | C25: Демонтаж: автомат одно-, двух-, трехполюсный, устанавливаемый на конструкции на стене или колонне, на ток до 25 А КОЭФ. К ПОЗИЦИИ: демонтаж ОЗП=0,3; ЭМ=0,3 к расх.; ЗПМ=0,3; МАТ=0 к расх.; ТЗ=0,3; ТЗМ=0,3 | D25: 1 шт. | E25: 1 | F25: 6.65 | G25: 6.27 | H25: 0.38 | K25: 7 | L25: 7 | O25: 0.47 | P25: 0.47
A26: Раздел 2. Монтажные работы
A27: 2 | B27: ТСЦ-504-0290 | C27: Ящики с понижающим трансформатором автомат. выключателем, 36в ЯТП-0,25-2 | D27: шт. | E27: 2 | F27: 487 | K27: 974
A28: 3 | B28: ТЕРм08-03-603-01 | C28: Монтаж: ящик с понижающим трансформатором | D28: 1 шт. | E28: 2 | F28: 30.68 | G28: 19.98 | H28: 6.59 | I28: 0.36 | K28: 61 | L28: 40 | M28: 13 | N28: 1 | O28: 1.43 | P28: 2.86
A29: 4 | B29: Цена поставщика | C29: Светильник взрывозащищенный переносной СПВ-9 (Ц:1920руб:1,18:4,42) | D29: шт | E29: 4 | F29: 368.13 | K29: 1473
A30: 5 | B30: ТСЦ-509-0732 | C30: Лампы | D30: 10 шт. | E30: 0.4 | F30: 26.77 | K30: 11
A31: 6 | B31: Цена поставщика | C31: Пост управления взрывозащищенный CCFE-01 (Ц:652х42руб:1,18:4,42) | D31: шт | E31: 4 | F31: 5250.4 | K31: 21002
A32: 7 | B32: Цена поставщика | C32: Пост управления взрывозащищенный CCFE-01-PPLL (Ц:624х42руб:1,18:4,42) | D32: шт | E32: 2 | F32: 5024.93 | K32: 10050
A33: 8 | B33: ТЕРм08-03-532-09 | C33: Монтаж: пост управления кнопочный взрывозащищенный с количеством элементов поста до 3, устанавливаемый на конструкции на стене или колонне КОЭФ. К ПОЗИЦИИ: 1.8.3.ОП При производстве работ на высоте свыше расстояний, указанных в вводных указаниях к разделам сборника: при высоте свыше 2 до 8 м ОЗП=1,05; ТЗ=1,05 | D33: 1 шт. | E33: 6 | F33: 176 | G33: 40.8 | H33: 4.2 | I33: 0.18 | K33: 1056 | L33: 245 | M33: 25 | N33: 1 | O33: 3.05 | P33: 18.3
A34: 9 | B34: ТСЦ-504-0296 прим. | C34: Ящики управления приводами Я5113-2574 | D34: шт. | E34: 2 | J34: 3286 | K34: 3286
A35: 10 | B35: ТЕРм08-03-573-05 | C35: Монтаж: шкаф (пульт) управления навесной, высота, ширина и глубина до 900х600х500 мм | D35: 1 шт. | E35: 2 | F35: 126.83 | G35: 33.11 | H35: 89.04 | I35: 6.72 | K35: 254 | L35: 66 | M35: 178 | N35: 13 | O35: 2.37 | P35: 4.74
A36: 11 | B36: Цена поставщика | C36: Блок реле промежуточных БРП (Ц:46890,50руб:4,19) | D36: шт. | E36: 2 | J36: 22382 | K36: 22382
A37: 12 | B37: ТЕРм10-02-016-06 прим. | C37: Монтаж: блок реле | D37: 1 шт. | E37: 2 | F37: 256.7 | G37: 157.76 | H37: 33.83 | I37: 6.87 | K37: 513 | L37: 316 | M37: 68 | N37: 14 | O37: 10.1 | P37: 20.2
A38: 13 | B38: Цена поставщика | C38: Блок питания потребителей БПП (Ц:55566,37руб:4,19) | D38: шт. | E38: 2 | J38: 26523 | K38: 26523
A39: 14 | B39: ТЕРм10-02-016-06 прим. | C39: Монтаж: блок питания | D39: 1 шт. | E39: 2 | F39: 256.7 | G39: 157.76 | H39: 33.83 | I39: 6.87 | K39: 513 | L39: 316 | M39: 68 | N39: 14 | O39: 10.1 | P39: 20.2
A40: 15 | B40: ТСЦ-502-0578 | C40: Провода монтажные с волокнистой или пленочной и поливинилхлоридной изоляцией марки МГШВ экранированные с двумя жилами из медной луженной проволоки сечением 0,50 мм | D40: 1000 м | E40: 0.085 | F40: 1853.8 | K40: 158
A41: 16 | B41: ТЕРм11-06-002-02 | C41: Электрические проводки в щитах и пультах малогабаритных | D41: 100 м | E41: 0.85 | F41: 207.18 | G41: 193.69 | K41: 176 | L41: 165 | O41: 12.4 | P41: 10.54
A42: 17 | B42: Цена поставщика | C42: Коробка ответвительная IP 56 100х100х50 53810 (Ц:68руб:1,18:4,42) | D42: шт. | E42: 4 | F42: 13.04 | K42: 52
A43: 18 | B43: Цена поставщика | C43: Колодка клеммная DKC на 12 полюсов 43112NY (Цена:47,65руб :1,18:4,42) | D43: шт | E43: 4 | F43: 9.14 | K43: 37
...

Sheet 24653
A1: СОГЛАСОВАНО: | E1: ФГУП "Комбинат "Электрохимприбор" | M1: УТВЕРЖДАЮ:
G2: (наименование стройки) | M2: Зам. генерального директора
M3: Е.В.Гордеев
A4: _________________ | M4: _________________
A5: " _____ " ________________ 2012 г. | M5: "______ " __________2012 г.
G6: ЛОКАЛЬНЫЙ СМЕТНЫЙ РАСЧЕТ № 24653
G7: (локальная смета)
D9: на систему КРБ.
G10: (наименование работ и затрат, наименование объекта)
D12: Основание: проекты ЖАЕ.10950.400; Ж54ТА2341. Тема КПМ Ж6288.219
D13: Сметная стоимость _______________________________________________________________________________________________ | J13: ___________________________385,623 | L13: тыс. руб.
D14: монтажных работ _______________________________________________________________________________________________ | J14: _______________________________________________________________________________________________8,562 | L14: тыс. руб.
D15: оборудования _______________________________________________________________________________________________ | J15: _______________________________________________________________________________________________377,061 | L15: тыс. руб.
D16: Средства на оплату труда _______________________________________________________________________________________________ | J16: ___________________________1,492 | L16: тыс. руб.
D17: Сметная трудоемкость _______________________________________________________________________________________________ | J17: _______________________________________________________________________________________________97,34 | L17: чел.час
D18: Материалы ______________________________________ | K18: =K67/1000 -> 3.841 | L18: тыс.руб.
D19: Составлен(а) в базовых ценах 2001г. в редакции 2009г.
A21: № пп | B21: Обоснова-ние | C21: Наименование | D21: Ед. изм. | E21: Кол. | F21: Стоимость единицы, руб. | J21: Общая стоимость, руб. | O21: Т/з осн. раб.на ед. | P21: Т/з осн. раб. Всего | Q21: Общая масса обору-дования, т
F22: Всего | G22: В том числе | J22: Обору-дование | K22: Всего | L22: В том числе
G23: Осн.З/п | H23: Эк.Маш | I23: З/пМех | L23: Осн.З/п | M23: Эк.Маш | N23: З/пМех
A24: 1 | B24: 2 | C24: 3 | D24: 4 | E24: 5 | F24: 6 | G24: 7 | H24: 8 | I24: 9 | J24: 10 | K24: 11 | L24: 12 | M24: 13 | N24: 14 | O24: 15 | P24: 16 | Q24: 17
A25: 1 | B25: Цена завода | C25: Стоимость блока аварийной сигнализации БАС-01 (Цена: 47500руб:1,18:4,19) | D25: шт | E25: 3 | J25: 28822 | K25: 28822
A26: 2 | B26: ТЕРм11-04-004-01 | C26: Монтаж блока аварийной сигнализации БАС-01 | D26: 1 шт. | E26: 2 | F26: 287.29 | G26: 132.21 | H26: 126.56 | I26: 7.83 | K26: 575 | L26: 264 | M26: 253 | N26: 16 | O26: 10.1 | P26: 20.2
A27: Шкаф УДГБ
A28: 3 | B28: Цена завода | C28: Шкаф сетевой TS8 (Цена:17000руб:1,18:4,19) | E28: 2 | J28: 6877 | K28: 6877
A29: 4 | B29: ТЕРм10-06-037-05 | C29: Монтаж: шкаф настенный для приборов | D29: 1 шт. | E29: 2 | F29: 121.87 | G29: 26.33 | H29: 2.39 | K29: 244 | L29: 53 | M29: 5 | O29: 2.06 | P29: 4.12
A30: 5 | B30: Цена завода | C30: Стоимость установки УДГБ-01Т (Цена: 806000руб:1,18:4,19) | E30: 2 | J30: 326039 | K30: 326039
A31: 6 | B31: ТЕРм11-04-004-01 | C31: Монтаж: установка радиометрическая УДГБ-01Т) | D31: 1 шт. | E31: 2 | F31: 287.29 | G31: 132.21 | H31: 126.56 | I31: 7.83 | K31: 575 | L31: 264 | M31: 253 | N31: 16 | O31: 10.1 | P31: 20.2
A32: 7 | B32: ТЕРм08-03-591-08 | C32: Розетка штепсельная неутопленного типа при открытой проводке | D32: 100 шт. | E32: 0.1 | F32: 813.8 | G32: 603.5 | H32: 29.99 | I32: 0.73 | K32: 81 | L32: 60 | M32: 3 | O32: 43.2 | P32: 4.32
A33: 8 | B33: ТСЦ-503-0471 | C33: Розетка открытой проводки с заземлением | D33: шт. | E33: 4 | F33: 10.82 | K33: 43
A34: 9 | B34: ТЕРм11-06-002-02 | C34: Электрические проводки в щитах и пультах малогабаритных | D34: 100 м | E34: 0.02 | F34: 207.18 | G34: 193.69 | K34: 4 | L34: 4 | O34: 12.4 | P34: 0.25
A35: 10 | B35: ТСЦ-502-0578 | C35: Провода монтажные с волокнистой или пленочной и поливинилхлоридной изоляцией марки МГШВЭ экранированные с двумя жилами из медной луженной проволоки сечением 0,50 мм | D35: 1000 м | E35: 0.002 | F35: 1853.8 | K35: 4
A36: 11 | B36: ТСЦ-301-1380 | C36: Трубки защитные | D36: м | E36: 4 | F36: 10.01 | K36: 40
A37: 12 | B37: ТЕРм11-06-002-05 | C37: Трубные проводки в щитах и пультах из пластмассовых труб | D37: 100 м | E37: 0.04 | F37: 593.9 | G37: 362.38 | H37: 153.88 | I37: 24.66 | K37: 24 | L37: 14 | M37: 6 | N37: 1 | O37: 23.2 | P37: 0.93
A38: Кабельные проводки
A39: 13 | B39: ТСЦ-101-2161 прим. | C39: Рукава металлические диаметром 18 мм РЗ-Ц-Х | D39: м | E39: 25 | F39: 11.9 | K39: 298
A40: 14 | B40: ТЕРм08-02-411-01 | C40: Рукав металлический наружным диаметром до 48 мм КОЭФ. К ПОЗИЦИИ: 1.8.3.ОП При производстве работ на высоте свыше расстояний, указанных в вводных указаниях к разделам сборника: при высоте свыше 2 до 8 м ОЗП=1,05; ТЗ=1,05 | D40: 100 м | E40: 0.25 | F40: 3970.4 | G40: 482.77 | H40: 240.22 | I40: 4 | K40: 993 | L40: 121 | M40: 60 | N40: 1 | O40: 36.44 | P40: 9.11
A41: 15 | B41: ТЕРм08-02-412-02 | C41: Затягивание провода в проложенные трубы и металлические рукава первого одножильного или многожильного в общей оплетке, суммарное сечение до 6 мм2 | D41: 100 м | E41: 0.25 | F41: 676.59 | G41: 89.31 | H41: 5.85 | I41: 0.36 | K41: 169 | L41: 22 | M41: 1 | O41: 6.74 | P41: 1.69
A42: 16 | B42: ТЕРм08-02-399-01 | C42: Провод (кабель) в коробах, сечением до 6 мм2 КОЭФ. К ПОЗИЦИИ: 1.8.3.ОП При производстве работ на высоте свыше расстояний, указанных в вводных указаниях к разделам сборника: при высоте свыше 2 до 8 м ОЗП=1,05; ТЗ=1,05 | D42: 100 м | E42: 3.05 | F42: 191.56 | G42: 48.97 | H42: 56.09 | I42: 24.55 | K42: 584 | L42: 149 | M42: 171 | N42: 75 | O42: 3.7 | P42: 11.29
A43: 17 | B43: Цена завода | C43: Кабель UTR 4-парн. Cat 5e экранированный 0-1711006-1 (Ц:32руб :1,18:4,42) | D43: м | E43: 305 | F43: 6.14 | K43: 1873
...

Sheet 24524
A1: СОГЛАСОВАНО: | E1: ФГУП "Комбинат "Электрохимприбор" | M1: УТВЕРЖДАЮ:
G2: (наименование стройки) | M2: Зам. генерального директора
M3: Е.В.Гордеев
A4: _________________ | M4: _________________
A5: " _____ " ________________ 2012 г. | M5: "______ " __________2012 г.
G6: ЛОКАЛЬНЫЙ СМЕТНЫЙ РАСЧЕТ № 24524
G7: (локальная смета)
C9: на | D9: устройство вентиляции. Оборудование рабочих мест в помещениях 116, 126.
G10: (наименование работ и затрат, наименование объекта)
D12: Основание: проект № 24350-12-ОВ Тема ПМ № 037-10/261 ДСП
D13: Сметная стоимость _______________________________________________________________________________________________ | J13: ___________________________113,596 | L13: тыс. руб.
D14: строительных работ _______________________________________________________________________________________________ | J14: _______________________________________________________________________________________________37,175 | L14: тыс. руб.
D15: монтажных работ _______________________________________________________________________________________________ | J15: _______________________________________________________________________________________________45,822 | L15: тыс. руб.
D16: оборудования _______________________________________________________________________________________________ | J16: _______________________________________________________________________________________________30,599 | L16: тыс. руб.
D17: Средства на оплату труда _______________________________________________________________________________________________ | J17: ___________________________3,593 | L17: тыс. руб.
D18: Сметная трудоемкость _______________________________________________________________________________________________ | J18: _______________________________________________________________________________________________278,33 | L18: чел.час
D19: Материалы ______________________________________ | K19: =K73/1000 -> 71.212 | L19: тыс.руб.
D20: Составлен(а) в базовых ценах 2001г. в редакции 2009г.
A22: № пп | B22: Обоснова-ние | C22: Наименование | D22: Ед. изм. | E22: Кол. | F22: Стоимость единицы, руб. | J22: Общая стоимость, руб. | O22: Т/з осн. раб.на ед. | P22: Т/з осн. раб. Всего | Q22: Общая масса обору-дования, т
F23: Всего | G23: В том числе | J23: Обору-дование | K23: Всего | L23: В том числе
G24: Осн.З/п | H24: Эк.Маш | I24: З/пМех | L24: Осн.З/п | M24: Эк.Маш | N24: З/пМех
A25: 1 | B25: 2 | C25: 3 | D25: 4 | E25: 5 | F25: 6 | G25: 7 | H25: 8 | I25: 9 | J25: 10 | K25: 11 | L25: 12 | M25: 13 | N25: 14 | O25: 15 | P25: 16 | Q25: 17
A26: Раздел 1. Разборка конструкций
A27: 1 | B27: ТЕРр65-30-4 | C27: Разборка воздуховодов из листовой стали толщиной до 0,9 мм диаметром/периметром до 660 мм /2070 мм | D27: 100 м2 | E27: 0.157 | F27: 326.88 | G27: 296.65 | H27: 30.23 | I27: 11.72 | K27: 51 | L27: 47 | M27: 4 | N27: 2 | O27: 24.7 | P27: 3.88
A28: 2 | B28: ТЕР20-02-003-11 | C28: Разборка решеток жалюзийных стальных щелевых регулирующих (Р), номер 200, размер 200х200 мм КОЭФ. К ПОЗИЦИИ: разборка ОЗП=0,4; ЭМ=0,4 к расх.; ЗПМ=0,4; МАТ=0 к расх.; ТЗ=0,4; ТЗМ=0,4 | D28: 1 решетка | E28: 2 | F28: 6.15 | G28: 5.41 | H28: 0.74 | K28: 12 | L28: 11 | M28: 1 | O28: 0.43 | P28: 0.86
A29: Раздел 2. Системы В 13*, В 14*.
A30: 3 | B30: ТЕР20-03-001-01 | C30: Установка вентиляторов радиальных массой до 0,05 т | D30: 1 вентилятор | E30: 2 | F30: 100.35 | G30: 78.55 | H30: 6.66 | I30: 0.18 | K30: 201 | L30: 157 | M30: 13 | O30: 6.54 | P30: 13.08
A31: 4 | B31: Цена постащика | C31: Вентилятор центробежный FUK-3000/SP (Ц:15815,25:4,42х1,02) | D31: шт. | E31: 2 | F31: 3649.67 | K31: 7299
A32: 5 | B32: Цена постащика | C32: Гибкая соединительная муфта SC-250 (Ц:2786,95:4,42х1,02) | D32: шт. | E32: 4 | F32: 643.14 | K32: 2573
A33: 6 | B33: ТЕР20-03-004-01 | C33: Установка подъёмно-поворотныго вытяжного устройства | D33: 1 агрегат | E33: 4 | F33: 188.18 | G33: 70.01 | H33: 21.99 | K33: 753 | L33: 280 | M33: 88 | O33: 6.03 | P33: 24.12
A34: 7 | B34: Цена постащика | C34: Консольное подъемно-поворотное устройство FM-200-2530/SP (Ц:37839,45:4,42х1,02) | D34: шт. | E34: 4 | F34: 8732.18 | K34: 34929
A35: 8 | B35: ТЕР20-05-001-02 | C35: Установка фильтров аэрозольных | D35: 1 м2 поверхности в свету | E35: 10.6 | F35: 378.69 | G35: 40.77 | H35: 18.66 | K35: 4014 | L35: 432 | M35: 198 | O35: 3.19 | P35: 33.81
A36: 9 | B36: Цена постащика | C36: Фильтр аэрозольный ФПП 15-3,0 (Ц:61500:4,19х1,03х1,012) | D36: шт. | E36: 2 | J36: 30599 | K36: 30599
A37: 10 | B37: ТЕР20-02-005-02 | C37: Установка заслонок воздушных и клапанов воздушных КВР с ручным приводом диаметром до 355 мм | D37: 1 шт. | E37: 4 | F37: 41.25 | G37: 17.18 | H37: 1.95 | K37: 165 | L37: 69 | M37: 8 | O37: 1.36 | P37: 5.44
A38: 11 | B38: ТСЦ-301-0272 | C38: Заслонки воздушные круглого сечения с ручным управлением диаметром 200 мм | D38: шт. | E38: 4 | F38: 443.41 | K38: 1774
A39: 12 | B39: ТЕР20-01-001-01 | C39: Прокладка воздуховодов из листовой, оцинкованной стали и алюминия класса Н (нормальные) толщиной 0,5 мм, диаметром до 200 мм | D39: 100 м2 поверхности воздуховодов | E39: 0.333 | F39: 2810.67 | G39: 2068.04 | H39: 170.31 | I39: 9.46 | K39: 936 | L39: 689 | M39: 57 | N39: 3 | O39: 167.86 | P39: 55.9
A40: 13 | B40: ТСЦ-301-1786 | C40: Воздуховоды из оцинкованной стали толщиной 0,5 мм, диаметром до 200 мм | D40: м2 | E40: 33.3 | F40: 347.48 | K40: 11571
A41: 14 | B41: ТЕР20-01-004-01 прим. | C41: Прокладка воздуховодов из оцинкованной стали толщиной 1,4 мм, диаметром 200 мм | D41: 100 м2 поверхности воздуховодов | E41: 0.006 | F41: 4607.64 | G41: 2367.87 | H41: 1618.87 | I41: 244.91 | K41: 28 | L41: 14 | M41: 10 | N41: 1 | O41: 187.48 | P41: 1.12
A42: 15 | B42: ТСЦ-301-1799 прим. | C42: Воздуховоды из оцинкованной стали толщиной 1,4 мм, диаметром 200 мм | D42: м2 | E42: 0.6 | F42: 272.33 | K42: 163
A43: 16 | B43: ТЕР20-01-001-04 | C43: Прокладка воздуховодов из листовой, оцинкованной стали и алюминия класса Н (нормальные) толщиной 0,6 мм, диаметром до 250 мм | D43: 100 м2 поверхности воздуховодов | E43: 0.204 | F43: 2812.85 | G43: 2068.04 | H43: 172.49 | I43: 9.46 | K43: 574 | L43: 422 | M43: 35 | N43: 2 | O43: 167.86 | P43: 34.24
...

Sheet 24506
A1: СОГЛАСОВАНО: | E1: ФГУП "Комбинат "Электрохимприбор" | M1: УТВЕРЖДАЮ:
G2: (наименование стройки) | M2: Зам. генерального директора
A3: _____________________________ | M3: Е.В.Гордеев
A4: " _____ " ________________ 2012г. | G4: ЛОКАЛЬНЫЙ СМЕТНЫЙ РАСЧЕТ № 24506
G5: (локальная смета) | M5: "______ " __________2012 г.
C7: на | D7: Водоснабжение. Установка стволов-распылителей.
H8: (наименование работ и затрат, наименование объекта)
D10: Основание: № 24357-12-ВК
D11: Сметная стоимость строительных работ _______________________________________________________________________________________________ | J11: ___________________________15,182 | L11: тыс. руб.
D12: Средства на оплату труда _______________________________________________________________________________________________ | J12: ___________________________1,408 | L12: тыс. руб.
D13: Сметная трудоемкость _______________________________________________________________________________________________ | J13: _______________________________________________________________________________________________98,46 | L13: чел.час
D14: Материалы ___________________________________________________________ | J14: =J45/1000 -> 10.736 | L14: тыс.руб.
D15: Составлен(а) в базовых ценах 2001г. в редакции 2009г.
A17: № пп | B17: Обоснование | C17: Наименование | D17: Ед. изм. | E17: Кол. | F17: Стоимость единицы, руб. | J17: Общая стоимость, руб. | N17: Т/з осн. раб.на ед. | O17: Т/з осн. раб. Всего | P17: Т/з мех. на ед. | Q17: Т/з мех. Всего
F18: Всего | G18: В том числе | J18: Всего | K18: В том числе
G19: Осн.З/п | H19: Эк.Маш | I19: З/пМех | K19: Осн.З/п | L19: Эк.Маш | M19: З/пМех
A20: 1 | B20: 2 | C20: 3 | D20: 4 | E20: 5 | F20: 6 | G20: 7 | H20: 8 | I20: 9 | J20: 10 | K20: 11 | L20: 12 | M20: 13 | N20: 14 | O20: 15 | P20: 16 | Q20: 17
A21: Раздел 1. Разборка.
A22: 1 | B22: ТЕР16-02-005-04 | C22: Разборка трубопроводов отопления и водоснабжения из стальных электросварных труб диаметром 80 мм КОЭФ. К ПОЗИЦИИ: Разборка. ОЗП=0,4; МАТ=0 | D22: 100 м | E22: 0.04 | F22: 550.14 | G22: 438.94 | H22: 111.2 | I22: 2.69 | J22: 22 | K22: 18 | L22: 4 | N22: 31.9 | O22: 1.28 | P22: 0.15 | Q22: 0.01
A23: 2 | B23: ТЕР16-07-001-01 прим. | C23: Разборка ствола распылительного. КОЭФ. К ПОЗИЦИИ: Разборка ОЗП=0,4; МАТ=0 | D23: 1 кран | E23: 4 | F23: 7.6 | G23: 5.48 | H23: 2.12 | I23: 0.07 | J23: 30 | K23: 22 | L23: 8 | N23: 0.4 | O23: 1.6
A24: Раздел 2. Установка стволов-распылителей.
A25: 3 | B25: ТЕР16-02-005-04 | C25: Прокладка трубопроводов отопления и водоснабжения из стальных электросварных труб диаметром 80 мм | D25: 100 м | E25: 0.36 | F25: 10756.23 | G25: 1097.36 | H25: 278 | I25: 6.73 | J25: 3872 | K25: 395 | L25: 100 | M25: 2 | N25: 79.75 | O25: 28.71 | P25: 0.37 | Q25: 0.13
A26: 4 | B26: ТЕР16-07-001-01 прим. | C26: Установка ствола распылительного РС-А-70 | D26: 1 кран | E26: 4 | F26: 161.84 | G26: 13.69 | H26: 5.32 | I26: 0.18 | J26: 647 | K26: 55 | L26: 21 | M26: 1 | N26: 1.01 | O26: 4.04 | P26: 0.01 | Q26: 0.04
A27: Уд | B27: 1. 301-1226 | C27: Рукава пожарные льняные сухого прядения нормальные, диаметром 51 мм | D27: м | E27: 10 40 | F27: 48.19 | J27: 1927.6
A28: Уд | B28: 2. 302-1133 | C28: Вентили пожарные 50-10 для воды давлением 1 МПа (10 кгс/см2), диаметром 50 мм | D28: шт. | E28: 1 4 | F28: 245.14 | J28: 980.56
A29: 5 | B29: ТСЦ-302-1827 прим. | C29: Краны шаровые диаметром 65 мм | D29: шт. | E29: 4 | F29: 1080.92 | J29: 4324
A30: 6 | B30: ТСЦ-301-1224 | C30: Крепления для трубопроводов: кронштейны, планки, хомуты | D30: кг | E30: 7.2 | F30: 17.02 | J30: 123
A31: 7 | B31: ТЕР16-07-003-07 | C31: Врезка в действующие внутренние сети трубопроводов отопления и водоснабжения диаметром 80 мм | D31: 1 врезка | E31: 4 | F31: 680.07 | G31: 101.08 | H31: 14.56 | I31: 0.36 | J31: 2720 | K31: 404 | L31: 58 | M31: 1 | N31: 7.46 | O31: 29.84 | P31: 0.02 | Q31: 0.08
A32: 8 | B32: ТЕР16-07-005-01 | C32: Гидравлическое испытание трубопроводов систем отопления, водопровода и горячего водоснабжения диаметром до 50 мм | D32: 100 м | E32: 0.36 | F32: 104.4 | G32: 82.16 | H32: 15.29 | J32: 38 | K32: 30 | L32: 6 | N32: 5.01 | O32: 1.8
A33: 9 | B33: ТЕР15-04-030-03 | C33: Масляная окраска труб диаметром более 50 мм , количество окрасок 2 | D33: 100 м2 | E33: 0.1656 | F33: 1003.82 | G33: 506.56 | H33: 3.68 | I33: 0.16 | J33: 166 | K33: 84 | L33: 1 | N33: 40.59 | O33: 6.72 | P33: 0.01
A34: Итого прямые затраты по смете в ценах 2001г. | J34: 11942 | K34: 1008 | L34: 198 | M34: 4 | O34: 73.99 | Q34: 0.26
A35: Итого прямые затраты по смете с учетом коэффициентов к итогам | J35: 12428 | K35: 1402 | L35: 290 | M35: 6 | O35: 98.46 | Q35: 0.38
A36: В том числе, справочно:
A37: Районный к-т 4,3% (Поз. 1-9) | J37: 44 | K37: 43
A38: При ремонте и реконструкции зданий и сооружений работы, аналогичные технологическим процессам в новом строительстве ОЗП=1,15; ЭМ=1,25; ЗПМ=1,25; ТЗ=1,15; ТЗМ=1,25 (Поз. 3-8) | J38: 184 | K38: 138 | L38: 46 | M38: 1 | O38: 9.6585 | Q38: 0.0625
A39: Условия производства работ ОЗП=1,2; ЭМ=1,2; ЗПМ=1,2; ТЗ=1,2; ТЗМ=1,2 (Поз. 3-8) | J39: 258 | K39: 212 | L39: 46 | M39: 1 | O39: 14.81 | Q39: 0.062
A40: Накладные расходы | J40: 1782
A41: Сметная прибыль | J41: 972
A42: Итоги по смете:
A43: Итого | J43: 15182 | O43: 98.46 | Q43: 0.38
...

Sheet НМЦ
A1: г. Лесной ФГУП "Комбинат "Электрохимприбор"
A3: Расчет начальной (максимальной) цены
A5: Выполнение строительно-монтажных работ по реконструкции помещений 116, 126 здания 292А/3 на ФГУП "Комбинат "Электрохимприбор"
A7: Составлен в ценах по состоянию на 01.01.2000 г. с переводом в цены 2012г. | D7: руб.
A8: Наименование глав ССР, объектных сметных расчетов, локальных сметных расчетов, видов работ | B8: Сметная стоимость в базисных ценах на 01.01.2000 | C8: Текущая стоимость на момент определения начальной (максимальной) цены | D8: № обосновывающего расчета
A9: 1 | B9: 2 | C9: 3 | D9: 4
A10: Электроснабжение шкафов УДГБ | B10: ='24629-2'!K53 -> 5460 | C10: =ROUND('сводка 292А-3'!D11*5.56+'сводка 292А-3'!E11*5.56+'сводка 292А-3'!F11*4.19,0) -> 30358 | D10: 24629-2
A11: Электроснабжение. Оборудование рабочих мест разборки. | B11: ='24534-2'!K100 -> 283288 | C11: =ROUND('сводка 292А-3'!D12*5.56+'сводка 292А-3'!E12*5.56+'сводка 292А-3'!F12*4.19,0) -> 1514233 | D11: 24534-2
A12: Электроснабжение. Электрооборудование. | B12: ='24553-2'!K103 -> 146039 | C12: =ROUND('сводка 292А-3'!D13*5.56+'сводка 292А-3'!E13*5.56+'сводка 292А-3'!F13*4.19,0) -> 737638 | D12: 24553-2
A13: Система КРБ. | B13: ='24653'!K73 -> 385623 | C13: =ROUND('сводка 292А-3'!D14*5.56+'сводка 292А-3'!E14*5.56+'сводка 292А-3'!F14*4.19,0) -> 1627490 | D13: 24653
A14: Устройство вентиляции. Оборудование рабочих мест в помещениях 116, 126. | B14: ='24524'!K79 -> 113596 | C14: =ROUND('сводка 292А-3'!D15*5.56+'сводка 292А-3'!E15*5.56+'сводка 292А-3'!F15*4.19,0) -> 589673 | D14: 24524
A15: Водоснабжение. Установка стволов-распылителей. | B15: ='24506'!J50 -> 15182 | C15: =ROUND('сводка 292А-3'!D16*5.56+'сводка 292А-3'!E16*5.56+'сводка 292А-3'!F16*4.19,0) -> 84412 | D15: 24506
A16: Итого | B16: =SUM(B10:B15) -> 949188 | C16: =SUM(C10:C15) -> 4583804
A17: НДС 18% | C17: =ROUND(C16*18%,2) -> 825084.72
A18: Всего с НДС | C18: =SUM(C16:C17) -> 5408888.7
A22: Начальник отдела
A23: капитального строительства | C23: Л.В. Грибанова
A25: Инженер по проектно-сметной работе | C25: Т.Ш. Ковязина
A28: Согласовано | C28: отдел 028

Sheet сводка 292А-3
E1: к договору от "___"_____201_ №_________
A3: г. Лесной ФГУП "Комбинат "Электрохимприбор"
A4: СВОДКА ЗАТРАТ
A5: Выполнение строительно-монтажных работ по реконструкции помещений 116, 126 здания 292А/3
A6: на ФГУП "Комбинат "Электрохимприбор"
A7: Составлена в ценах по состоянию на 01.01.2000 г. с переводом в текущие
A8: № п/п | B8: Номера сметных расчетов и смет | C8: Наименование объектов, работ и затрат | D8: Сметная стоимость в руб. | H8: Общая сметная стоимость, руб.
D9: строительных работ | E9: монтажных работ | F9: оборудования, мебели и инвентаря | G9: прочих затрат
A10: 1 | B10: 2 | C10: 3 | D10: 4 | E10: 5 | F10: 6 | G10: 7 | H10: 8
A11: 1 | B11: 24629-2 | C11: Электроснабжение шкафов УДГБ | D11: 0 | E11: ='24629-2'!K53 -> 5460 | F11: 0 | G11: 0 | H11: =SUM(D11:G11) -> 5460
A12: 2 | B12: 24534-2 | C12: Электроснабжение. Оборудование рабочих мест разборки. | D12: 0 | E12: ='24534-2'!K90 -> 238873 | F12: ='24534-2'!K91 -> 44415 | G12: 0 | H12: =SUM(D12:G12) -> 283288
A13: 3 | B13: 24553-2 | C13: Электроснабжение. Электрооборудование. | D13: 0 | E13: ='24553-2'!K93 -> 91777 | F13: ='24553-2'!K94 -> 54262 | G13: 0 | H13: =SUM(D13:G13) -> 146039
A14: 4 | B14: 24653 | C14: Система КРБ. | D14: 0 | E14: ='24653'!K63 -> 8562 | F14: ='24653'!K64 -> 377061 | G14: 0 | H14: =SUM(D14:G14) -> 385623
A15: 5 | B15: 24524 | C15: Устройство вентиляции. Оборудование рабочих мест в помещениях 116, 126. | D15: ='24524'!K68 -> 37175 | E15: ='24524'!K69 -> 45822 | F15: ='24524'!K70 -> 30599 | G15: 0 | H15: =SUM(D15:G15) -> 113596
A16: 6 | B16: 24506 | C16: Водоснабжение. Установка стволов-распылителей. | D16: ='24506'!J50 -> 15182 | E16: 0 | F16: 0 | G16: 0 | H16: =SUM(D16:G16) -> 15182
C17: Итого в базисных ценах 2000г. | D17: =SUM(D11:D16) -> 52357 | E17: =SUM(E11:E16) -> 390494 | F17: =SUM(F11:F16) -> 506337 | G17: =SUM(G11:G16) -> 0 | H17: =SUM(D17:G17) -> 949188
C18: Всего в текущих ценах 2012г. (Ксмр=5,56; Коборуд=4,19) | D18: =ROUND(D17*5.56,0) -> 291105 | E18: =ROUND(E17*5.56,0) -> 2171147 | F18: =ROUND(F17*4.19,0) -> 2121552 | G18: 0 | H18: =SUM(D18:G18) -> 4583804
C19: НДС 18% | D19: =D18*18% -> 52398.9 | E19: =E18*18% -> 390806.46 | F19: =F18*18% -> 381879.36 | G19: =G18*18% -> 0 | H19: =ROUND(H18*18%,2) -> 825084.72
C20: Всего с НДС | D20: =D18+D19 -> 343503.9 | E20: =E18+E19 -> 2561953.5 | F20: =F18+F19 -> 2503431.4 | G20: =G18+G19 -> 0 | H20: =H18+H19 -> 5408888.7
C24: Заказчик: | F24: Подрядчик:
