Workbook
Name Constr: '24718'!$A$1
Name FOT: '24718'!$D$17
Name Ind: '24718'!$G$9
Name Obj: '24718'!#REF!
Name Obosn: '24718'!$D$12
Name SmPr: '24718'!$D$13
Name аааааппппппрррппппппп: #REF!
Name аааааппппппрррппппппп: #REF!
Name аараооооооооооооо: #REF!
Name аараооооооооооооо: #REF!
Name автом: #REF!
Name автом: #REF!
Name алшрльоплварл: #REF!
Name алшрльоплварл: #REF!
Name аолвлддддддддддддддддввввввввв: #REF!
Name аолвлддддддддддддддддввввввввв: #REF!
Name апарв: #REF!
Name апарв: #REF!
Name апрлдджаоырыфрпопрлпрлпрлп: #REF!
Name апрлдджаоырыфрпопрлпрлпрлп: #REF!
Name арлггаджаш: #REF!
Name арлггаджаш: #REF!
Name ароррбллтблпроорапииас: #REF!
Name ароррбллтблпроорапииас: #REF!
Name арррррблллпдрлдддддддддд: #REF!
Name арррррблллпдрлдддддддддд: #REF!
Name варпаааааааааа: #REF!
Name варпаааааааааа: #REF!
Name ввпьььььлднд: #REF!
Name ввпьььььлднд: #REF!
Name вед: #REF!
Name вед: #REF!
Name вертикальная: #REF!
Name вертикальная: #REF!
Name вертикплан: #REF!
Name вертикплан: #REF!
Name волен: #REF!
Name волен: #REF!
Name вп: #REF!
Name вп: #REF!
Name впырпфдыпл: #REF!
Name впырпфдыпл: #REF!
Name впьглорьтитттттттттт: #REF!
Name впьглорьтитттттттттт: #REF!
Name всввввввввввввввввввввввввв: #REF!
Name всввввввввввввввввввввввввв: #REF!
Name выб: #REF!
Name выб: #REF!
Name выпуск: #REF!
Name выпуск: #REF!
Name выьлепвввввпмп: #REF!
Name выьлепвввввпмп: #REF!
Name еваопродолжэрщэрзшщщх: #REF!
Name еваопродолжэрщэрзшщщх: #REF!
Name измен: #REF!
Name измен: #REF!
Name итого: #REF!
Name итого: #REF!
Name итого: #REF!
Name итого_сантех: #REF!

Sheet 24718
A1: СОГЛАСОВАНО: | E1: ФГУП "Комбинат "Электрохимприбор" | M1: УТВЕРЖДАЮ:
G2: (наименование стройки) | M2: Зам. генерального директора
M3: Е.В.Гордеев
A4: _________________ | M4: _________________
A5: " _____ " ________________ 201_ г. | M5: "______ " __________201_ г.
G6: ЛОКАЛЬНЫЙ СМЕТНЫЙ РАСЧЕТ № 24718
G7: (локальная смета)
C9: на | D9: электроснабжение. Перенос групповых щитков. Площадка 3. Здание 106. Инв.№ 6101000
G10: (наименование работ и затрат, наименование объекта)
D12: Основание: проект № 24423-12-ЭМ
D13: Сметная стоимость _______________________________________________________________________________________________ | J13: ___________________________64,507 | L13: тыс. руб.
D14: строительных работ _______________________________________________________________________________________________ | J14: _______________________________________________________________________________________________0,725 | L14: тыс. руб.
D15: монтажных работ _______________________________________________________________________________________________ | J15: _______________________________________________________________________________________________58,192 | L15: тыс. руб.
D16: оборудования _______________________________________________________________________________________________ | J16: _______________________________________________________________________________________________5,590 | L16: тыс. руб.
D17: Средства на оплату труда _______________________________________________________________________________________________ | J17: ___________________________9,223 | L17: тыс. руб.
D18: Сметная трудоемкость _______________________________________________________________________________________________ | J18: _______________________________________________________________________________________________534,41 | L18: чел.час
D19: Материалы ______________________________________ | K19: =K122/1000 -> 31.279 | L19: тыс.руб.
D20: Составлен(а) в базовых ценах 2001г. в редакции 2009г.
A22: № пп | B22: Обоснова-ние | C22: Наименование | D22: Ед. изм. | E22: Кол. | F22: Стоимость единицы, руб. | J22: Общая стоимость, руб. | O22: Т/з осн. раб.на ед. | P22: Т/з осн. раб. Всего | Q22: Общая масса обору-дования, т
F23: Всего | G23: В том числе | J23: Обору-дование | K23: Всего | L23: В том числе
G24: Осн.З/п | H24: Эк.Маш | I24: З/пМех | L24: Осн.З/п | M24: Эк.Маш | N24: З/пМех
A25: 1 | B25: 2 | C25: 3 | D25: 4 | E25: 5 | F25: 6 | G25: 7 | H25: 8 | I25: 9 | J25: 10 | K25: 11 | L25: 12 | M25: 13 | N25: 14 | O25: 15 | P25: 16 | Q25: 17
A26: Раздел 1. Демонтажные работы
A27: 1 | B27: ТЕРм08-03-526-02 | C27: Демонтаж: автомат одно-, двух-, трехполюсный, устанавливаемый на конструкции на ток до 100 А КОЭФ. К ПОЗИЦИИ: демонтаж ОЗП=0,3; ЭМ=0,3 к расх.; ЗПМ=0,3; МАТ=0 к расх.; ТЗ=0,3; ТЗМ=0,3 | D27: 1 шт. | E27: 50 | F27: 10.69 | G27: 9.33 | H27: 1.36 | I27: 0.05 | K27: 535 | L27: 467 | M27: 68 | N27: 3 | O27: 0.7 | P27: 35
A28: 2 | B28: ТЕРм08-03-573-05 | C28: Демонтаж: шкаф (пульт) управления навесной, высота, ширина и глубина до 900х600х500 мм КОЭФ. К ПОЗИЦИИ: демонтаж ОЗП=0,3; ЭМ=0,3 к расх.; ЗПМ=0,3; МАТ=0 к расх.; ТЗ=0,3; ТЗМ=0,3 | D28: 1 шт. | E28: 1 | F28: 36.65 | G28: 9.93 | H28: 26.72 | I28: 2.02 | K28: 37 | L28: 10 | M28: 27 | N28: 2 | O28: 0.71 | P28: 0.71
A29: 3 | B29: ТЕРр67-3-1 | C29: Демонтаж кабеля | D29: 100 м | E29: 5 | F29: 106.34 | G29: 105.94 | H29: 0.4 | I29: 0.16 | K29: 532 | L29: 530 | M29: 2 | N29: 1 | O29: 9.64 | P29: 48.2
A30: 4 | B30: ТЕРм08-02-144-03 | C30: Отключение зажимов жил проводов или кабелей сечением до 16 мм2 (сущ. групповых щитков) | D30: 100 шт. | E30: 0.28 | F30: 210.08 | G30: 205.96 | K30: 59 | L30: 58 | O30: 15.2 | P30: 4.26
A31: Раздел 2. Монтажные работы
A32: 5 | B32: ТЕРм08-03-573-05 | C32: Шкаф (пульт) управления навесной, высота, ширина и глубина до 900х600х500 мм | D32: 1 шт. | E32: 1 | F32: 126.83 | G32: 33.11 | H32: 89.04 | I32: 6.72 | K32: 127 | L32: 33 | M32: 89 | N32: 7 | O32: 2.37 | P32: 2.37
A33: Шкаф силовой СШ-3 в комплекте:
A34: 6 | B34: цена поставщика | C34: Корпус металлический ПР-1-0 36 УХЛ3 IP31 YKM14-01-31 (Ц:3553,26руб:1,18:4,19) | D34: шт. | E34: 1 | J34: 719 | K34: 719
A35: 7 | B35: цена поставщика | C35: Авт. выкл. ВА88-35 3Р 250А 35кА ИЭК SVA30-3-0250 (Ц:3608,98руб:1,18:4,19) | D35: шт. | E35: 1 | J35: 550 | K35: 550
A36: 8 | B36: ТЕРм08-03-526-03 | C36: Автомат одно-, двух-, трехполюсный, устанавливаемый на конструкции на ток до 250 А | D36: 1 шт. | E36: 1 | F36: 243.6 | G36: 40.27 | H36: 4.58 | I36: 0.18 | K36: 244 | L36: 40 | M36: 5 | O36: 2.76 | P36: 2.76
A37: 9 | B37: цена поставщика | C37: Авт. выкл. ВА 47-100 3Р 100А 10 кА х-ка С ИЭК MVA40-3-100-C (Ц:808,89руб:1,18:4,19) | D37: шт. | E37: 2 | J37: 327 | K37: 327
A38: 10 | B38: цена поставщика | C38: Авт. выкл. ВА 47-100 3Р 80А 10 кА х-ка С ИЭК MVA40-3-080-C (Ц:808,89руб:1,18:4,19) | D38: шт. | E38: 1 | J38: 164 | K38: 164
A39: 11 | B39: цена поставщика | C39: Авт. выкл. ВА 47-100 3Р 63А 10 кА х-ка С ИЭК MVA40-3-063-C (Ц:808,89руб:1,18:4,19) | D39: шт. | E39: 4 | J39: 654 | K39: 654
A40: 12 | B40: цена поставщика | C40: Авт. выкл. ВА 47-100 3Р 40А 10 кА х-ка С ИЭК MVA40-3-040-C (Ц:845,43руб:1,18:4,19) | D40: шт. | E40: 1 | J40: 171 | K40: 171
A41: 13 | B41: ТЕРм08-03-526-02 | C41: Автомат одно-, двух-, трехполюсный, устанавливаемый на конструкции на ток до 100 А | D41: 1 шт. | E41: 8 | F41: 215.9 | G41: 31.09 | H41: 4.53 | I41: 0.18 | K41: 1727 | L41: 249 | M41: 36 | N41: 1 | O41: 2.32 | P41: 18.56
A42: 14 | B42: цена поставщика | C42: Авт. выкл. ВА 47-100 3Р 25А 10 кА х-ка С ИЭК MVA40-3-025-C (Ц:845,43руб:1,18:4,19) | D42: шт. | E42: 1 | J42: 171 | K42: 171
A43: 15 | B43: ТЕРм08-03-526-01 | C43: Автомат одно-, двух-, трехполюсный, устанавливаемый на конструкции на ток до 25 А | D43: 1 шт. | E43: 1 | F43: 174.77 | G43: 20.9 | H43: 1.28 | K43: 175 | L43: 21 | M43: 1 | O43: 1.56 | P43: 1.56
...

Sheet НМЦ
A1: г. Лесной ФГУП "Комбинат "Электрохимприбор"
A3: Расчет начальной (максимальной) цены
A5: Выполнение строительно-монтажных работ
A6: по переносу групповых щитков в здании 106 производство 518
A7: на ФГУП «Комбинат «Электрохимприбор»
A10: Составлен в ценах по состоянию на 01.01.2000 г. с переводом в текущие | D10: руб.
A11: Наименование глав ССР, объектных сметных расчетов, локальных сметных расчетов, видов работ | B11: Сметная стоимость в базисных ценах на 01.01.2000 | C11: Текущая стоимость на момент определения начальной (максимальной) цены | D11: № обосновывающего расчета
A15: 1 | B15: 2 | C15: 3 | D15: 4
A16: Электроснабжение. Перенос групповых щитков. Площадка 3. Здание 106. Инв.№ 6101000 | B16: ='Сводка затрат'!H13 -> 64507 | C16: ='Сводка затрат'!H15 -> 351001 | D16: 24718
A17: Итого | B17: =SUM(B16:B16) -> 64507 | C17: =SUM(C16:C16) -> 351001
A19: НДС 18% | C19: =ROUND(C17*18%,2) -> 63180.18
A21: Всего | C21: =SUM(C17:C20) -> 414181.18
A24: Начальник отдела
A25: капитального строительства | C25: В.В. Моляков
A27: Инженер по проектно-сметной работе | C27: Т.Ш. Ковязина
A30: Согласовано | C30: отдел 028

Sheet Сводка затрат
A1: Приложение №__ к договору от "__"______2013 №_______
A3: г. Лесной. ФГУП "Комбинат "Электрохимприбор"
A5: Сводка затрат
A7: Выполнение строительно-монтажных работ по переносу групповых щитков в здании 106 производство 518 на ФГУП «Комбинат «Электрохимприбор»
A9: Составлен в ценах по состоянию на 01.01.2000 г.
A10: № п/п | B10: Номера сметных расчетов и смет | C10: Наименование работ и затрат | D10: Сметная стоимость | H10: Общая сметная стоимость, руб.
D11: строительных работ | E11: монтажных работ | F11: оборудования, мебели, инвентаря | G11: прочих затрат
A12: 1 | B12: 2 | C12: 3 | D12: 4 | E12: 5 | F12: 6 | G12: 7 | H12: 8
A13: 1 | B13: 24718 | C13: Электроснабжение. Перенос групповых щитков. Площадка 3. Здание 106. Инв.№ 6101000 | D13: ='24718'!K117 -> 725 | E13: ='24718'!K118 -> 58192 | F13: ='24718'!K119 -> 5590 | G13: 0 | H13: =SUM(D13:G13) -> 64507
C14: Итого в базисных ценах 2001 г. | D14: =SUM(D13:D13) -> 725 | E14: =SUM(E13:E13) -> 58192 | F14: =SUM(F13:F13) -> 5590 | G14: =SUM(G13:G13) -> 0 | H14: =SUM(D14:G14) -> 64507
C15: Всего в ценах 2013 (Ксмр=5,56, Коб.=4,19) | D15: =ROUND(D14*5.56,0) -> 4031 | E15: =ROUND(E14*5.56,0) -> 323548 | F15: =ROUND(F14*4.19,0) -> 23422 | G15: =ROUND(G14*9.32,0) -> 0 | H15: =SUM(D15:G15) -> 351001
C16: НДС 18% | D16: =ROUND(D15*18%,2) -> 725.58 | E16: =ROUND(E15*18%,2) -> 58238.64 | F16: =ROUND(F15*18%,2) -> 4215.96 | G16: =ROUND(G15*18%,2) -> 0 | H16: =SUM(D16:G16) -> 63180.18
C17: Всего в ценах 2012 с НДС | D17: =SUM(D15:D16) -> 4756.58 | E17: =SUM(E15:E16) -> 381786.64 | F17: =SUM(F15:F16) -> 27637.96 | G17: =SUM(G15:G16) -> 0 | H17: =SUM(D17:G17) -> 414181.18
C20: ЗАКАЗЧИК: | G20: ПОДРЯДЧИК:
