Workbook

Sheet Смета 12 гр. по ФЕР
A1: =Source!B1 -> Smeta.RU (495) 974-1589
H3: Приложение 1 к Форме 7
B9: =CONCATENATE( "ЛОКАЛЬНЫЙ СМЕТНЫЙ РАСЧЕТ № 1 ",IF(Source!F20<>"Новая локальная смета", Source!F20, "")) -> ЛОКАЛЬНЫЙ СМЕТНЫЙ РАСЧЕТ № 1
A11: =IF(Source!G12<>"Новый объект", Source!G12, "") -> на монтаж систем подпора воздуха и дымоудаления комплекса систем пожарной безопасности согласно рабочей документации № 93/51-2017-4-ОВ в здании общежития НИЯУ МИФИ по адресу: г. Москва, ул. Кошкина, д. 11, к. 1. | AD11: =IF(Source!G12<>"Новый объект", Source!G12, "") -> на монтаж систем подпора воздуха и дымоудаления комплекса систем пожарной безопасности согласно рабочей документации № 93/51-2017-4-ОВ в здании общежития НИЯУ МИФИ по адресу: г. Москва, ул. Кошкина, д. 11, к. 1.
B12: (наименование работ и затрат, наименование объекта)
A13: =CONCATENATE("Основание: ", Source!J20) -> Основание: 93/51-2017-ОВ
G15: базовая цена | I15: текущая цена
C16: Сметная стоимость | G16: =SUM(O26:O409)/1000 -> 230.85756 | I16: =(Source!P428/1000) -> 2133.7339 | K16: тыс. руб.
C17: Строительные работы | G17: =SUM(W26:W409)/1000 -> 202.99403 | I17: =(Source!P415)/1000 -> 1563.0545 | K17: тыс. руб.
C18: Монтажные работы | G18: =SUM(X26:X409)/1000 -> 18.43963 | I18: =(Source!P416)/1000 -> 141.9846 | K18: тыс. руб.
C19: Прочие работы | G19: =SUM(Z26:Z409)/1000 -> 9.4239 | I19: =(Source!P417+Source!P418)/1000 -> 103.20997 | K19: тыс. руб.
C20: Нормативная трудоемкость | G20: =I20 -> 666.72357 | I20: =(Source!P420+Source!P421) -> 666.72357 | K20: чел. -ч.
C21: Средства на оплату труда | G21: =SUM(R26:R409)/1000 -> 6.62909 | I21: =((Source!P413 + Source!P412)/1000) -> 65.99318 | K21: тыс. руб.
A23: Составлена в ценах IV квартал 2017 года
A24: № п/п | B24: Шифр расценки и коды ресурсов | C24: Наименование работ и затрат | D24: Ед. изм. | E24: Кол-во единиц | F24: Цена на ед. изм. | G24: Попра-вочные коэфф. | H24: Стоимость в ценах 2001г. | I24: Пункт коэфф. пересчета | J24: Коэфф. пересчета | K24: Стоимость в текущих ценах | L24: ЗТР всего чел.-час
A25: 1 | B25: 2 | C25: 3 | D25: 4 | E25: 5 | F25: 6 | G25: 7 | H25: 8 | I25: 9 | J25: 10 | K25: 11 | L25: 12
A27: =CONCATENATE("Раздел: ",IF(Source!G24<>"Новый раздел", Source!G24, "")) -> Раздел: Дымоудаление
A28: =Source!E29 -> 1 | B28: =Source!F29 -> 20-03-001-02 | C28: =Source!G29 -> Установка вентиляторов радиальных массой до 0,12 т | D28: =Source!H29 -> ШТ | E28: =Source!I29 -> 1 | F28: =Source!AL29+Source!AM29+Source!AO29 -> 89.88 | I28: =Source!BO29 | S28: =ROUND((Source!FX29/100)*((ROUND(Source!AF29*Source!I29, 2)+ROUND(Source!AE29*Source!I29, 2))), 2) -> 119.44 | T28: =Source!X29 -> 919.65 | U28: =ROUND((Source!FY29/100)*((ROUND(Source!AF29*Source!I29, 2)+ROUND(Source!AE29*Source!I29, 2))), 2) -> 77.45 | V28: =Source!Y29 -> 596.34
C29: Зарплата | F29: =Source!AO29 -> 76.77 | G29: =Source!DG29 -> )*1,2 | H29: =ROUND(Source!AF29*Source!I29, 2) -> 92.12 | J29: =IF(Source!BA29<> 0, Source!BA29, 1) -> 7.7 | K29: =Source!S29 -> 709.32 | R29: =H29 -> 92.12
C30: Эксплуатация машин | F30: =Source!AM29 -> 13.11 | G30: =Source!DE29 -> )*1,2 | H30: =ROUND(Source!AD29*Source!I29, 2) -> 15.73 | J30: =IF(Source!BB29<> 0, Source!BB29, 1) -> 7.7 | K30: =Source!Q29 -> 121.12
C31: в т.ч. зарплата машинистов | F31: =Source!AN29 -> 0.99 | G31: =Source!DF29 -> )*1,2 | H31: =ROUND(Source!AE29*Source!I29, 2) -> 1.19 | J31: =IF(Source!BS29<> 0, Source!BS29, 1) -> 7.7 | K31: =Source!R29 -> 9.16 | R31: =H31 -> 1.19
C32: НР от ФОТ | D32: % | E32: =Source!BZ29 -> 128 | H32: =SUM(S28:S36) -> 119.44 | J32: =Source!AT29 -> 128 | K32: =SUM(T28:T36) -> 919.65
C33: СП от ФОТ | D33: % | E33: =Source!CA29 -> 83 | H33: =SUM(U28:U36) -> 77.45 | J33: =Source!AU29 -> 83 | K33: =SUM(V28:V36) -> 596.34
C34: Затраты труда | D34: чел-ч | E34: =Source!AQ29 -> 9 | G34: =Source!DI29 -> )*1,2 | L34: =Source!U29 -> 10.8
A35: =Source!E31 -> 1,1 | B35: =Source!F31 -> Цена поставщика | C35: Вентилятор дымоудаления радиальный KORF KLR - DU-80B-15х15 (левый) Базисная стоимость: 21 236,79 = [163 523,26 / 7,7] | D35: =Source!H31 -> ШТ | E35: =Source!I31 -> 1 | F35: =Source!AL31+Source!AM31+Source!AO31 -> 21236.79 | H35: =ROUND(Source!AC31*Source!I31, 2)+ROUND(Source!AD31*Source!I31, 2)+ROUND(Source!AF31*Source!I31, 2) -> 21236.79 | J35: =IF(Source!BC31<> 0, Source!BC31, 1) -> 7.7 | K35: =Source!O31 -> 163523.28 | S35: =ROUND((Source!FX31/100)*((ROUND(Source!AF31*Source!I31, 2)+ROUND(Source!AE31*Source!I31, 2))), 2) -> 0 | T35: =Source!X31 -> 0 | U35: =ROUND((Source!FY31/100)*((ROUND(Source!AF31*Source!I31, 2)+ROUND(Source!AE31*Source!I31, 2))), 2) -> 0 | V35: =Source!Y31 -> 0 | W35: =IF(Source!BI31<=1,H35, 0) -> 21236.79 | X35: =IF(Source!BI31=2,H35, 0) -> 0 | Y35: =IF(Source!BI31=3,H35, 0) -> 0 | Z35: =IF(Source!BI31=4,H35, 0) -> 0
A36: =Source!E33 -> 1,2 | B36: =Source!F33 -> Цена поставщика | C36: Комплект виброопор ДО-800 Базисная стоимость: 559,67 = [4 309,45 / 7,7] | D36: =Source!H33 -> компл. | E36: =Source!I33 -> 1 | F36: =Source!AL33+Source!AM33+Source!AO33 -> 559.67 | H36: =ROUND(Source!AC33*Source!I33, 2)+ROUND(Source!AD33*Source!I33, 2)+ROUND(Source!AF33*Source!I33, 2) -> 559.67 | J36: =IF(Source!BC33<> 0, Source!BC33, 1) -> 7.7 | K36: =Source!O33 -> 4309.46 | S36: =ROUND((Source!FX33/100)*((ROUND(Source!AF33*Source!I33, 2)+ROUND(Source!AE33*Source!I33, 2))), 2) -> 0 | T36: =Source!X33 -> 0 | U36: =ROUND((Source!FY33/100)*((ROUND(Source!AF33*Source!I33, 2)+ROUND(Source!AE33*Source!I33, 2))), 2) -> 0 | V36: =Source!Y33 -> 0 | W36: =IF(Source!BI33<=1,H36, 0) -> 559.67 | X36: =IF(Source!BI33=2,H36, 0) -> 0 | Y36: =IF(Source!BI33=3,H36, 0) -> 0 | Z36: =IF(Source!BI33=4,H36, 0) -> 0
G37: =H29+H30+H32+H33+SUM(H35:H36) -> 22101.2 | J37: =K29+K30+K32+K33+SUM(K35:K36) -> 170179.17 | L37: =Source!U29 -> 10.8 | O37: =G37 -> 22101.2 | P37: =J37 -> 170179.17 | Q37: =L37 -> 10.8 | W37: =IF(Source!BI29<=1,H29+H30+H32+H33, 0) -> 304.74 | X37: =IF(Source!BI29=2,H29+H30+H32+H33, 0) -> 0 | Y37: =IF(Source!BI29=3,H29+H30+H32+H33, 0) -> 0 | Z37: =IF(Source!BI29=4,H29+H30+H32+H33, 0) -> 0
A38: =Source!E35 -> 2 | B38: =Source!F35 -> 20-02-018-01 | C38: =Source!G35 -> Установка вставок гибких к радиальным вентиляторам | D38: =Source!H35 -> м2 | E38: =Source!I35 -> 2.01 | F38: =Source!AL35+Source!AM35+Source!AO35 -> 54.58 | I38: =Source!BO35 | S38: =ROUND((Source!FX35/100)*((ROUND(Source!AF35*Source!I35, 2)+ROUND(Source!AE35*Source!I35, 2))), 2) -> 155.52 | T38: =Source!X35 -> 1197.56 | U38: =ROUND((Source!FY35/100)*((ROUND(Source!AF35*Source!I35, 2)+ROUND(Source!AE35*Source!I35, 2))), 2) -> 100.85 | V38: =Source!Y35 -> 776.54
C39: Зарплата | F39: =Source!AO35 -> 50.26 | G39: =Source!DG35 -> )*1,2 | H39: =ROUND(Source!AF35*Source!I35, 2) -> 121.22 | J39: =IF(Source!BA35<> 0, Source!BA35, 1) -> 7.7 | K39: =Source!S35 -> 933.42 | R39: =H39 -> 121.22
C40: Эксплуатация машин | F40: =Source!AM35 -> 0.66 | G40: =Source!DE35 -> )*1,2 | H40: =ROUND(Source!AD35*Source!I35, 2) -> 1.59 | J40: =IF(Source!BB35<> 0, Source!BB35, 1) -> 7.7 | K40: =Source!Q35 -> 12.23
C41: в т.ч. зарплата машинистов | F41: =Source!AN35 -> 0.12 | G41: =Source!DF35 -> )*1,2 | H41: =ROUND(Source!AE35*Source!I35, 2) -> 0.28 | J41: =IF(Source!BS35<> 0, Source!BS35, 1) -> 7.7 | K41: =Source!R35 -> 2.17 | R41: =H41 -> 0.28
C42: Материальные ресурсы | F42: =Source!AL35 -> 3.66 | G42: =Source!DD35 | H42: =ROUND(Source!AC35*Source!I35, 2) -> 7.36 | J42: =IF(Source!BC35<> 0, Source!BC35, 1) -> 7.7 | K42: =Source!P35 -> 56.65
C43: НР от ФОТ | D43: % | E43: =Source!BZ35 -> 128 | H43: =SUM(S38:S46) -> 155.52 | J43: =Source!AT35 -> 128 | K43: =SUM(T38:T46) -> 1197.56
C44: СП от ФОТ | D44: % | E44: =Source!CA35 -> 83 | H44: =SUM(U38:U46) -> 100.85 | J44: =Source!AU35 -> 83 | K44: =SUM(V38:V46) -> 776.54
C45: Затраты труда | D45: чел-ч | E45: =Source!AQ35 -> 5.75 | G45: =Source!DI35 -> )*1,2 | L45: =Source!U35 -> 13.869
A46: =Source!E37 -> 2,1 | B46: =Source!F37 -> Цена поставщика | C46: Вставка гибкая круглого сечения СДКК-400-800-EX-KR Базисная стоимость: 1 139,10 = [8 771,06 / 7,7] | D46: =Source!H37 -> ШТ | E46: =Source!I37 -> 1 | F46: =Source!AL37+Source!AM37+Source!AO37 -> 1139.1 | H46: =ROUND(Source!AC37*Source!I37, 2)+ROUND(Source!AD37*Source!I37, 2)+ROUND(Source!AF37*Source!I37, 2) -> 1139.1 | J46: =IF(Source!BC37<> 0, Source!BC37, 1) -> 7.7 | K46: =Source!O37 -> 8771.07 | S46: =ROUND((Source!FX37/100)*((ROUND(Source!AF37*Source!I37, 2)+ROUND(Source!AE37*Source!I37, 2))), 2) -> 0 | T46: =Source!X37 -> 0 | U46: =ROUND((Source!FY37/100)*((ROUND(Source!AF37*Source!I37, 2)+ROUND(Source!AE37*Source!I37, 2))), 2) -> 0 | V46: =Source!Y37 -> 0 | W46: =IF(Source!BI37<=1,H46, 0) -> 1139.1 | X46: =IF(Source!BI37=2,H46, 0) -> 0 | Y46: =IF(Source!BI37=3,H46, 0) -> 0 | Z46: =IF(Source!BI37=4,H46, 0) -> 0
G47: =H39+H40+H42+H43+H44+SUM(H46:H46) -> 1525.64 | J47: =K39+K40+K42+K43+K44+SUM(K46:K46) -> 11747.47 | L47: =Source!U35 -> 13.869 | O47: =G47 -> 1525.64 | P47: =J47 -> 11747.47 | Q47: =L47 -> 13.869 | W47: =IF(Source!BI35<=1,H39+H40+H42+H43+H44, 0) -> 386.54 | X47: =IF(Source!BI35=2,H39+H40+H42+H43+H44, 0) -> 0 | Y47: =IF(Source!BI35=3,H39+H40+H42+H43+H44, 0) -> 0 | Z47: =IF(Source!BI35=4,H39+H40+H42+H43+H44, 0) -> 0
A48: =Source!E39 -> 3 | B48: =Source!F39 -> 20-02-006-04 | C48: =Source!G39 -> Установка заслонок воздушных и клапанов воздушных КВР с электрическим или пневматическим приводом диаметром до 800 мм | D48: =Source!H39 -> ШТ | E48: =Source!I39 -> 1 | F48: =Source!AL39+Source!AM39+Source!AO39 -> 60.9 | I48: =Source!BO39 | S48: =ROUND((Source!FX39/100)*((ROUND(Source!AF39*Source!I39, 2)+ROUND(Source!AE39*Source!I39, 2))), 2) -> 47.55 | T48: =Source!X39 -> 366.16 | U48: =ROUND((Source!FY39/100)*((ROUND(Source!AF39*Source!I39, 2)+ROUND(Source!AE39*Source!I39, 2))), 2) -> 30.83 | V48: =Source!Y39 -> 237.43
C49: Зарплата | F49: =Source!AO39 -> 30.59 | G49: =Source!DG39 -> )*1,2 | H49: =ROUND(Source!AF39*Source!I39, 2) -> 36.71 | J49: =IF(Source!BA39<> 0, Source!BA39, 1) -> 7.7 | K49: =Source!S39 -> 282.67 | R49: =H49 -> 36.71
C50: Эксплуатация машин | F50: =Source!AM39 -> 4.55 | G50: =Source!DE39 -> )*1,2 | H50: =ROUND(Source!AD39*Source!I39, 2) -> 5.46 | J50: =IF(Source!BB39<> 0, Source!BB39, 1) -> 7.7 | K50: =Source!Q39 -> 42.04
...

Sheet Source
A1: 0 | B1: Smeta.RU (495) 974-1589 | D1: _PS_ | F1: 0 | G1: 0 | H1: 0 | I1: Smeta.RU | J1: НИЯУ МИФИ Доп. раб. место MCCS-0016187 | K1: 0 | L1: 16187 | M1: 10
A12: 1 | B12: 491 | C12: 0 | D12: =ROW(A430) -> 430 | E12: 0 | G12: на монтаж систем подпора воздуха и дымоудаления комплекса систем пожарной безопасности согласно рабочей документации № 93/51-2017-4-ОВ в здании общежития НИЯУ МИФИ по адресу: г. Москва, ул. Кошкина, д. 11, к. 1. | I12: 0 | K12: 0 | O12: 0 | P12: 0 | Q12: 0 | R12: 0 | S12: 0 | V12: 0 | BH12: Сметные нормы списания | BI12: Коды ценников | BJ12: 1 | BK12: 1 | BL12: 0 | BM12: 0 | BN12: 1 | BO12: 0 | BP12: 2 | BQ12: 2 | BR12: 1 | BS12: 1 | BT12: 0 | BU12: 0 | BV12: 0 | BW12: 0 | BX12: 0 | BY12: ФЕР-2017 | BZ12: ТР для Версии 10: Центральные регионы (с учетом п-ма 2536-ИП/12/ГС от 22.03.2017 г | CA12: ФЕР-2017 | CB12: ФЕР-2017 | CC12: ФЕР-2017 | CD12: ФЕР-2017 | CE12: Поправки для ГСН 2017 от 31.03.2017 г | CF12: 0 | CG12: 0 | CH12: 524288 | CK12: 4 | EC12: 0
A15: 15 | B15: 1
A18: 52 | B18: =B430 -> 491 | C18: =C430 -> 1 | D18: =D430 -> 12 | E18: =E430 -> 0 | F18: =F430 | G18: =G430 -> на монтаж систем подпора воздуха и дымоудаления комплекса систем пожарной безопасности согласно рабочей документации № 93/51-2017-4-ОВ в здании общежития НИЯУ МИФИ по адресу: г. Москва, ул. Кошкина, д. 11, к. 1. | O18: =O430 -> 220024.72 | P18: =P430 -> 211656.22 | Q18: =Q430 -> 1846.16 | R18: =R430 -> 106.75 | S18: =S430 -> 6522.34 | T18: =T430 -> 0 | U18: =U430 -> 657.86087 | V18: =V430 -> 8.862708 | ... GX18: =GX430 -> 0
A20: 3 | B20: 1 | D20: =ROW(A398) -> 398 | I20: 0 | J20: 93/51-2017-ОВ | K20: 1 | V20: 0 | BX20: 0 | CF20: 0 | CG20: 0
A22: 52 | B22: =B398 -> 1 | C22: =C398 -> 3 | D22: =D398 -> 20 | E22: =E398 -> 0 | F22: =F398 | G22: =G398 | O22: =O398 -> 220024.72 | P22: =P398 -> 211656.22 | Q22: =Q398 -> 1846.16 | R22: =R398 -> 106.75 | S22: =S398 -> 6522.34 | T22: =T398 -> 0 | U22: =U398 -> 657.86087 | V22: =V398 -> 8.862708 | ... GX22: =GX398 -> 0
A24: 4 | B24: 1 | D24: =ROW(A83) -> 83 | F24: Дымоудаление | G24: Дымоудаление | I24: 0 | K24: 1 | V24: 0 | BX24: 0 | CJ24: 0
A26: 52 | B26: =B83 -> 1 | C26: =C83 -> 4 | D26: =D83 -> 24 | E26: =E83 -> 0 | F26: =F83 -> Дымоудаление | G26: =G83 -> Дымоудаление | O26: =O83 -> 140410.35 | P26: =P83 -> 135230.57 | Q26: =Q83 -> 1402.2 | R26: =R83 -> 58.17 | S26: =S83 -> 3777.58 | T26: =T83 -> 0 | U26: =U83 -> 409.14992 | V26: =V83 -> 4.90326 | ... GX26: =GX83 -> 0
A28: 17 | B28: 1 | C28: =ROW(SmtRes!A7) -> 7 | D28: =ROW(EtalonRes!A6) -> 6 | E28: 1 | F28: 20-03-001-02 | G28: Установка вентиляторов радиальных массой до 0,12 т | H28: ШТ | I28: 1 | J28: 0 | O28: =ROUND(CP28,2) -> 107.85 | P28: =ROUND(CQ28*I28,2) -> 0 | Q28: =ROUND(CR28*I28,2) -> 15.73 | R28: =ROUND(CS28*I28,2) -> 1.19 | S28: =ROUND(CT28*I28,2) -> 92.12 | T28: =ROUND(CU28*I28,2) -> 0 | U28: =CV28*I28 -> 10.8 | V28: =CW28*I28 -> 0.096 | W28: =ROUND(CX28*I28,2) -> 0 | X28: =ROUND(CY28,2) -> 119.44 | Y28: =ROUND(CZ28,2) -> 77.45 | AA28: 27795993 | AB28: =ROUND((AC28+AD28+AF28),2) -> 107.85 | AC28: =ROUND((ES28),2) -> 0 | AD28: =ROUND(((((ET28*1.2))-((EU28*1.2)))+AE28),2) -> 15.73 | AE28: =ROUND(((EU28*1.2)),2) -> 1.19 | AF28: =ROUND(((EV28*1.2)),2) -> 92.12 | AG28: =ROUND((AP28),2) -> 0 | AH28: =((EW28*1.2)) -> 10.8 | AI28: =((EX28*1.2)) -> 0.096 | AJ28: =ROUND((AS28),2) -> 0 | AK28: 89.88 | AL28: 0 | AM28: 13.11 | AN28: 0.99 | AO28: 76.77 | AP28: 0 | AQ28: 9 | AR28: 0.08 | AS28: 0 | AT28: 128 | AU28: 83 | AV28: 1 | AW28: 1 | AZ28: 1 | BA28: 1 | BB28: 1 | BC28: 1 | BH28: 0 | BI28: 1 | BJ28: ФЕР-2001, 20-03-001-02, приказ Минстроя России №1039/пр от 30.12.2016г. | BM28: 20001 | BN28: 0 | BP28: 0 | BQ28: 2 | BR28: 0 | BS28: 1 | BT28: 1 | BU28: 1 | BV28: 1 | BW28: 1 | BX28: 1 | BZ28: 128 | CA28: 83 | CF28: 0 | CG28: 0 | CM28: 0 | CN28: Поправка: МДС 81-35.2004, прил.1, т.1, п.2 Наименование: Производство строительных и других работ в существующих зданиях и сооружениях, освобожденных от оборудования и других предметов, мешающих нормальному производству работ. | CO28: 0 | CP28: =(P28+Q28+S28) -> 107.85 | CQ28: =AC28*BC28 -> 0 | CR28: =AD28*BB28 -> 15.73 | CS28: =AE28*BS28 -> 1.19 | CT28: =AF28*BA28 -> 92.12 | CU28: =AG28 -> 0 | CV28: =AH28 -> 10.8 | CW28: =AI28 -> 0.096 | CX28: =AJ28 -> 0 | CY28: =(((S28+R28)*AT28)/100) -> 119.4368 | CZ28: =(((S28+R28)*AU28)/100) -> 77.4473 | DE28: )*1,2 | DF28: )*1,2 | DG28: )*1,2 | DI28: )*1,2 | DJ28: )*1,2 | DN28: 0 | DO28: 0 | DP28: 1 | DQ28: 1 | DU28: 1013 | DV28: ШТ | DW28: ШТ | DX28: 1 | EE28: 27029054 | EF28: 2 | EG28: Общестроительные работы | EH28: 0 | EJ28: 1 | EK28: 20001 | EL28: Вентиляция и кондиционирование | EM28: ФЕР-20 | EO28: Поправка: МДС 81-35.2004, прил.1, т.1, п.2 | EQ28: 0 | ER28: 89.88 | ES28: 0 | ET28: 13.11 | EU28: 0.99 | EV28: 76.77 | EW28: 9 | EX28: 0.08 | EY28: 0 | FQ28: 0 | FR28: =ROUND(IF(AND(BH28=3,BI28=3),P28,0),2) -> 0 | FS28: 0 | FX28: 128 | FY28: 83 | GD28: 0 | GF28: -1768176583 | GG28: 2 | GH28: 1 | GI28: -2 | GJ28: 0 | GK28: =ROUND(R28*(R12)/100,2) -> 0 | GL28: =ROUND(IF(AND(BH28=3,BI28=3,FS28<>0),P28,0),2) -> 0 | GM28: =ROUND(O28+X28+Y28+GK28,2)+GX28 -> 304.74 | GN28: =IF(OR(BI28=0,BI28=1),ROUND(O28+X28+Y28+GK28,2),0) -> 304.74 | GO28: =IF(BI28=2,ROUND(O28+X28+Y28+GK28,2),0) -> 0 | GP28: =IF(BI28=4,ROUND(O28+X28+Y28+GK28,2)+GX28,0) -> 0 | GR28: 0 | GS28: 3 | GT28: 0 | GV28: =ROUND(GT28,2) -> 0 | GW28: 1 | GX28: =ROUND(GV28*GW28*I28,2) -> 0 | HA28: 0 | HB28: 0 | IK28: 0
A29: 17 | B29: 1 | C29: =ROW(SmtRes!A14) -> 14 | D29: =ROW(EtalonRes!A12) -> 12 | E29: 1 | F29: 20-03-001-02 | G29: Установка вентиляторов радиальных массой до 0,12 т | H29: ШТ | I29: 1 | J29: 0 | O29: =ROUND(CP29,2) -> 830.44 | P29: =ROUND(CQ29*I29,2) -> 0 | Q29: =ROUND(CR29*I29,2) -> 121.12 | R29: =ROUND(CS29*I29,2) -> 9.16 | S29: =ROUND(CT29*I29,2) -> 709.32 | T29: =ROUND(CU29*I29,2) -> 0 | U29: =CV29*I29 -> 10.8 | V29: =CW29*I29 -> 0.096 | W29: =ROUND(CX29*I29,2) -> 0 | X29: =ROUND(CY29,2) -> 919.65 | Y29: =ROUND(CZ29,2) -> 596.34 | AA29: 27796868 | AB29: =ROUND((AC29+AD29+AF29),2) -> 107.85 | AC29: =ROUND((ES29),2) -> 0 | AD29: =ROUND(((((ET29*1.2))-((EU29*1.2)))+AE29),2) -> 15.73 | AE29: =ROUND(((EU29*1.2)),2) -> 1.19 | AF29: =ROUND(((EV29*1.2)),2) -> 92.12 | AG29: =ROUND((AP29),2) -> 0 | AH29: =((EW29*1.2)) -> 10.8 | AI29: =((EX29*1.2)) -> 0.096 | AJ29: =ROUND((AS29),2) -> 0 | AK29: 89.88 | AL29: 0 | AM29: 13.11 | AN29: 0.99 | AO29: 76.77 | AP29: 0 | AQ29: 9 | AR29: 0.08 | AS29: 0 | AT29: 128 | AU29: 83 | AV29: 1 | AW29: 1 | AZ29: 7.7 | BA29: 7.7 | BB29: 7.7 | BC29: 7.7 | BH29: 0 | BI29: 1 | BJ29: ФЕР-2001, 20-03-001-02, приказ Минстроя России №1039/пр от 30.12.2016г. | BM29: 20001 | BN29: 0 | BP29: 0 | BQ29: 2 | BR29: 0 | BS29: 7.7 | BT29: 1 | BU29: 1 | BV29: 1 | BW29: 1 | BX29: 1 | BZ29: 128 | CA29: 83 | CF29: 0 | CG29: 0 | CM29: 0 | CN29: Поправка: МДС 81-35.2004, прил.1, т.1, п.2 Наименование: Производство строительных и других работ в существующих зданиях и сооружениях, освобожденных от оборудования и других предметов, мешающих нормальному производству работ. | CO29: 0 | CP29: =(P29+Q29+S29) -> 830.44 | CQ29: =AC29*BC29 -> 0 | CR29: =AD29*BB29 -> 121.121 | CS29: =AE29*BS29 -> 9.163 | CT29: =AF29*BA29 -> 709.324 | CU29: =AG29 -> 0 | CV29: =AH29 -> 10.8 | CW29: =AI29 -> 0.096 | CX29: =AJ29 -> 0 | CY29: =(((S29+R29)*AT29)/100) -> 919.6544 | CZ29: =(((S29+R29)*AU29)/100) -> 596.3384 | DE29: )*1,2 | DF29: )*1,2 | DG29: )*1,2 | DI29: )*1,2 | DJ29: )*1,2 | DN29: 0 | DO29: 0 | DP29: 1 | DQ29: 1 | DU29: 1013 | DV29: ШТ | DW29: ШТ | DX29: 1 | EE29: 27029054 | EF29: 2 | EG29: Общестроительные работы | EH29: 0 | EJ29: 1 | EK29: 20001 | EL29: Вентиляция и кондиционирование | EM29: ФЕР-20 | EO29: Поправка: МДС 81-35.2004, прил.1, т.1, п.2 | EQ29: 0 | ER29: 89.88 | ES29: 0 | ET29: 13.11 | EU29: 0.99 | EV29: 76.77 | EW29: 9 | EX29: 0.08 | EY29: 0 | FQ29: 0 | FR29: =ROUND(IF(AND(BH29=3,BI29=3),P29,0),2) -> 0 | FS29: 0 | FX29: 128 | FY29: 83 | GD29: 0 | GF29: -1768176583 | GG29: 1 | GH29: 1 | GI29: 4 | GJ29: 0 | GK29: =ROUND(R29*(S12)/100,2) -> 0 | GL29: =ROUND(IF(AND(BH29=3,BI29=3,FS29<>0),P29,0),2) -> 0 | GM29: =ROUND(O29+X29+Y29+GK29,2)+GX29 -> 2346.43 | GN29: =IF(OR(BI29=0,BI29=1),ROUND(O29+X29+Y29+GK29,2),0) -> 2346.43 | GO29: =IF(BI29=2,ROUND(O29+X29+Y29+GK29,2),0) -> 0 | GP29: =IF(BI29=4,ROUND(O29+X29+Y29+GK29,2)+GX29,0) -> 0 | GR29: 0 | GS29: 3 | GT29: 0 | GV29: =ROUND(GT29,2) -> 0 | GW29: 1 | GX29: =ROUND(GV29*GW29*I29,2) -> 0 | HA29: 0 | HB29: 0 | IK29: 0
A30: 18 | B30: 1 | C30: 6 | E30: 1,1 | F30: Цена поставщика | G30: Вентилятор дымоудаления радиальный KORF KLR - DU-80B-15х15 (левый) | H30: ШТ | I30: =I28*J30 -> 1 | J30: 1 | O30: =ROUND(CP30,2) -> 21236.79 | P30: =ROUND(CQ30*I30,2) -> 21236.79 | Q30: =ROUND(CR30*I30,2) -> 0 | R30: =ROUND(CS30*I30,2) -> 0 | S30: =ROUND(CT30*I30,2) -> 0 | T30: =ROUND(CU30*I30,2) -> 0 | U30: =CV30*I30 -> 0 | V30: =CW30*I30 -> 0 | W30: =ROUND(CX30*I30,2) -> 0 | X30: =ROUND(CY30,2) -> 0 | Y30: =ROUND(CZ30,2) -> 0 | AA30: 27795993 | AB30: =ROUND((AC30+AD30+AF30),2) -> 21236.79 | AC30: =ROUND((ES30),2) -> 21236.79 | AD30: =ROUND((((ET30)-(EU30))+AE30),2) -> 0 | AE30: =ROUND((EU30),2) -> 0 | AF30: =ROUND((EV30),2) -> 0 | AG30: =ROUND((AP30),2) -> 0 | AH30: =(EW30) -> 0 | AI30: =(EX30) -> 0 | AJ30: =ROUND((AS30),2) -> 0 | AK30: 21236.79 | AL30: 21236.79 | AM30: 0 | AN30: 0 | AO30: 0 | AP30: 0 | AQ30: 0 | AR30: 0 | AS30: 0 | AT30: 122 | AU30: 80 | AV30: 1 | AW30: 1 | AZ30: 1 | BA30: 1 | BB30: 1 | BC30: 1 | BH30: 3 | BI30: 1 | BM30: 14 | BN30: 0 | BP30: 0 | BQ30: 2 | BR30: 0 | BS30: 1 | BT30: 1 | BU30: 1 | BV30: 1 | BW30: 1 | BX30: 1 | BZ30: 122 | CA30: 80 | CF30: 0 | CG30: 0 | CM30: 0 | CO30: 0 | CP30: =(P30+Q30+S30) -> 21236.79 | CQ30: =AC30*BC30 -> 21236.79 | CR30: =AD30*BB30 -> 0 | CS30: =AE30*BS30 -> 0 | CT30: =AF30*BA30 -> 0 | CU30: =AG30 -> 0 | CV30: =AH30 -> 0 | CW30: =AI30 -> 0 | CX30: =AJ30 -> 0 | CY30: =(((S30+R30)*AT30)/100) -> 0 | CZ30: =(((S30+R30)*AU30)/100) -> 0 | DN30: 0 | DO30: 0 | DP30: 1 | DQ30: 1 | DU30: 1013 | DV30: ШТ | DW30: ШТ | DX30: 1 | EE30: 27028976 | EF30: 2 | EG30: Общестроительные работы | EH30: 0 | EJ30: 1 | EK30: 14 | EL30: Конструкции из кирпича и блоков | EM30: ФЕР-08 (03) | EQ30: 512 | ER30: 21236.79 | ES30: 21236.79 | ET30: 0 | EU30: 0 | EV30: 0 | EW30: 0 | EX30: 0 | FQ30: 0 | FR30: =ROUND(IF(AND(BH30=3,BI30=3),P30,0),2) -> 0 | FS30: 0 | FX30: 122 | FY30: 80 | GA30: занесена вручную | GD30: 0 | GF30: -662525012 | GG30: 2 | GH30: 0 | GI30: -2 | GJ30: 0 | GK30: =ROUND(R30*(R12)/100,2) -> 0 | GL30: =ROUND(IF(AND(BH30=3,BI30=3,FS30<>0),P30,0),2) -> 0 | GM30: =ROUND(O30+X30+Y30+GK30,2)+GX30 -> 21236.79 | GN30: =IF(OR(BI30=0,BI30=1),ROUND(O30+X30+Y30+GK30,2),0) -> 21236.79 | GO30: =IF(BI30=2,ROUND(O30+X30+Y30+GK30,2),0) -> 0 | GP30: =IF(BI30=4,ROUND(O30+X30+Y30+GK30,2)+GX30,0) -> 0 | GR30: 0 | GS30: 4 | GT30: 0 | GV30: =ROUND(GT30,2) -> 0 | GW30: 1 | GX30: =ROUND(GV30*GW30*I30,2) -> 0 | HA30: 0 | HB30: 0 | IK30: 0
A31: 18 | B31: 1 | C31: 13 | E31: 1,1 | F31: Цена поставщика | G31: Вентилятор дымоудаления радиальный KORF KLR - DU-80B-15х15 (левый) | H31: ШТ | I31: =I29*J31 -> 1 | J31: 1 | O31: =ROUND(CP31,2) -> 163523.28 | P31: =ROUND(CQ31*I31,2) -> 163523.28 | Q31: =ROUND(CR31*I31,2) -> 0 | R31: =ROUND(CS31*I31,2) -> 0 | S31: =ROUND(CT31*I31,2) -> 0 | T31: =ROUND(CU31*I31,2) -> 0 | U31: =CV31*I31 -> 0 | V31: =CW31*I31 -> 0 | W31: =ROUND(CX31*I31,2) -> 0 | X31: =ROUND(CY31,2) -> 0 | Y31: =ROUND(CZ31,2) -> 0 | AA31: 27796868 | AB31: =ROUND((AC31+AD31+AF31),2) -> 21236.79 | AC31: =ROUND((ES31),2) -> 21236.79 | AD31: =ROUND((((ET31)-(EU31))+AE31),2) -> 0 | AE31: =ROUND((EU31),2) -> 0 | AF31: =ROUND((EV31),2) -> 0 | AG31: =ROUND((AP31),2) -> 0 | AH31: =(EW31) -> 0 | AI31: =(EX31) -> 0 | AJ31: =ROUND((AS31),2) -> 0 | AK31: 21236.79 | AL31: 21236.79 | AM31: 0 | AN31: 0 | AO31: 0 | AP31: 0 | AQ31: 0 | AR31: 0 | AS31: 0 | AT31: 122 | AU31: 80 | AV31: 1 | AW31: 1 | AZ31: 7.7 | BA31: 1 | BB31: 1 | BC31: 7.7 | BH31: 3 | BI31: 1 | BM31: 14 | BN31: 0 | BP31: 0 | BQ31: 2 | BR31: 0 | BS31: 1 | BT31: 1 | BU31: 1 | BV31: 1 | BW31: 1 | BX31: 1 | BZ31: 122 | CA31: 80 | CF31: 0 | CG31: 0 | CM31: 0 | CO31: 0 | CP31: =(P31+Q31+S31) -> 163523.28 | CQ31: =AC31*BC31 -> 163523.28 | CR31: =AD31*BB31 -> 0 | CS31: =AE31*BS31 -> 0 | CT31: =AF31*BA31 -> 0 | CU31: =AG31 -> 0 | CV31: =AH31 -> 0 | CW31: =AI31 -> 0 | CX31: =AJ31 -> 0 | CY31: =(((S31+R31)*AT31)/100) -> 0 | CZ31: =(((S31+R31)*AU31)/100) -> 0 | DN31: 0 | DO31: 0 | DP31: 1 | DQ31: 1 | DU31: 1013 | DV31: ШТ | DW31: ШТ | DX31: 1 | EE31: 27028976 | EF31: 2 | EG31: Общестроительные работы | EH31: 0 | EJ31: 1 | EK31: 14 | EL31: Конструкции из кирпича и блоков | EM31: ФЕР-08 (03) | EQ31: 512 | ER31: 21236.79 | ES31: 21236.79 | ET31: 0 | EU31: 0 | EV31: 0 | EW31: 0 | EX31: 0 | EZ31: 5 | FC31: 0 | FD31: 18 | FF31: 163523.26 | FQ31: 0 | FR31: =ROUND(IF(AND(BH31=3,BI31=3),P31,0),2) -> 0 | FS31: 0 | FX31: 122 | FY31: 80 | GA31: [163 523,26 / 7,7] | GD31: 0 | GF31: -662525012 | GG31: 1 | GH31: 3 | GI31: 4 | GJ31: 0 | GK31: =ROUND(R31*(S12)/100,2) -> 0 | GL31: =ROUND(IF(AND(BH31=3,BI31=3,FS31<>0),P31,0),2) -> 0 | GM31: =ROUND(O31+X31+Y31+GK31,2)+GX31 -> 163523.28 | GN31: =IF(OR(BI31=0,BI31=1),ROUND(O31+X31+Y31+GK31,2),0) -> 163523.28 | GO31: =IF(BI31=2,ROUND(O31+X31+Y31+GK31,2),0) -> 0 | GP31: =IF(BI31=4,ROUND(O31+X31+Y31+GK31,2)+GX31,0) -> 0 | GR31: 1 | GS31: 1 | GT31: 0 | GV31: =ROUND(GT31,2) -> 0 | GW31: 1 | GX31: =ROUND(GV31*GW31*I31,2) -> 0 | HA31: 0 | HB31: 0 | IK31: 0
A32: 18 | B32: 1 | C32: 7 | E32: 1,2 | F32: Цена поставщика | G32: Комплект виброопор ДО-800 | H32: компл. | I32: =I28*J32 -> 1 | J32: 1 | O32: =ROUND(CP32,2) -> 559.67 | P32: =ROUND(CQ32*I32,2) -> 559.67 | Q32: =ROUND(CR32*I32,2) -> 0 | R32: =ROUND(CS32*I32,2) -> 0 | S32: =ROUND(CT32*I32,2) -> 0 | T32: =ROUND(CU32*I32,2) -> 0 | U32: =CV32*I32 -> 0 | V32: =CW32*I32 -> 0 | W32: =ROUND(CX32*I32,2) -> 0 | X32: =ROUND(CY32,2) -> 0 | Y32: =ROUND(CZ32,2) -> 0 | AA32: 27795993 | AB32: =ROUND((AC32+AD32+AF32),2) -> 559.67 | AC32: =ROUND((ES32),2) -> 559.67 | AD32: =ROUND((((ET32)-(EU32))+AE32),2) -> 0 | AE32: =ROUND((EU32),2) -> 0 | AF32: =ROUND((EV32),2) -> 0 | AG32: =ROUND((AP32),2) -> 0 | AH32: =(EW32) -> 0 | AI32: =(EX32) -> 0 | AJ32: =ROUND((AS32),2) -> 0 | AK32: 559.67 | AL32: 559.67 | AM32: 0 | AN32: 0 | AO32: 0 | AP32: 0 | AQ32: 0 | AR32: 0 | AS32: 0 | AT32: 122 | AU32: 80 | AV32: 1 | AW32: 1 | AZ32: 1 | BA32: 1 | BB32: 1 | BC32: 1 | BH32: 3 | BI32: 1 | BM32: 14 | BN32: 0 | BP32: 0 | BQ32: 2 | BR32: 0 | BS32: 1 | BT32: 1 | BU32: 1 | BV32: 1 | BW32: 1 | BX32: 1 | BZ32: 122 | CA32: 80 | CF32: 0 | CG32: 0 | CM32: 0 | CO32: 0 | CP32: =(P32+Q32+S32) -> 559.67 | CQ32: =AC32*BC32 -> 559.67 | CR32: =AD32*BB32 -> 0 | CS32: =AE32*BS32 -> 0 | CT32: =AF32*BA32 -> 0 | CU32: =AG32 -> 0 | CV32: =AH32 -> 0 | CW32: =AI32 -> 0 | CX32: =AJ32 -> 0 | CY32: =(((S32+R32)*AT32)/100) -> 0 | CZ32: =(((S32+R32)*AU32)/100) -> 0 | DN32: 0 | DO32: 0 | DP32: 1 | DQ32: 1 | DU32: 1013 | DV32: компл. | DW32: компл. | DX32: 1 | EE32: 27028976 | EF32: 2 | EG32: Общестроительные работы | EH32: 0 | EJ32: 1 | EK32: 14 | EL32: Конструкции из кирпича и блоков | EM32: ФЕР-08 (03) | EQ32: 512 | ER32: 559.67 | ES32: 559.67 | ET32: 0 | EU32: 0 | EV32: 0 | EW32: 0 | EX32: 0 | FQ32: 0 | FR32: =ROUND(IF(AND(BH32=3,BI32=3),P32,0),2) -> 0 | FS32: 0 | FX32: 122 | FY32: 80 | GA32: занесена вручную | GD32: 0 | GF32: -1247699383 | GG32: 2 | GH32: 0 | GI32: -2 | GJ32: 0 | GK32: =ROUND(R32*(R12)/100,2) -> 0 | GL32: =ROUND(IF(AND(BH32=3,BI32=3,FS32<>0),P32,0),2) -> 0 | GM32: =ROUND(O32+X32+Y32+GK32,2)+GX32 -> 559.67 | GN32: =IF(OR(BI32=0,BI32=1),ROUND(O32+X32+Y32+GK32,2),0) -> 559.67 | GO32: =IF(BI32=2,ROUND(O32+X32+Y32+GK32,2),0) -> 0 | GP32: =IF(BI32=4,ROUND(O32+X32+Y32+GK32,2)+GX32,0) -> 0 | GR32: 0 | GS32: 4 | GT32: 0 | GV32: =ROUND(GT32,2) -> 0 | GW32: 1 | GX32: =ROUND(GV32*GW32*I32,2) -> 0 | HA32: 0 | HB32: 0 | IK32: 0
A33: 18 | B33: 1 | C33: 14 | E33: 1,2 | F33: Цена поставщика | G33: Комплект виброопор ДО-800 | H33: компл. | I33: =I29*J33 -> 1 | J33: 1 | O33: =ROUND(CP33,2) -> 4309.46 | P33: =ROUND(CQ33*I33,2) -> 4309.46 | Q33: =ROUND(CR33*I33,2) -> 0 | R33: =ROUND(CS33*I33,2) -> 0 | S33: =ROUND(CT33*I33,2) -> 0 | T33: =ROUND(CU33*I33,2) -> 0 | U33: =CV33*I33 -> 0 | V33: =CW33*I33 -> 0 | W33: =ROUND(CX33*I33,2) -> 0 | X33: =ROUND(CY33,2) -> 0 | Y33: =ROUND(CZ33,2) -> 0 | AA33: 27796868 | AB33: =ROUND((AC33+AD33+AF33),2) -> 559.67 | AC33: =ROUND((ES33),2) -> 559.67 | AD33: =ROUND((((ET33)-(EU33))+AE33),2) -> 0 | AE33: =ROUND((EU33),2) -> 0 | AF33: =ROUND((EV33),2) -> 0 | AG33: =ROUND((AP33),2) -> 0 | AH33: =(EW33) -> 0 | AI33: =(EX33) -> 0 | AJ33: =ROUND((AS33),2) -> 0 | AK33: 559.67 | AL33: 559.67 | AM33: 0 | AN33: 0 | AO33: 0 | AP33: 0 | AQ33: 0 | AR33: 0 | AS33: 0 | AT33: 122 | AU33: 80 | AV33: 1 | AW33: 1 | AZ33: 7.7 | BA33: 1 | BB33: 1 | BC33: 7.7 | BH33: 3 | BI33: 1 | BM33: 14 | BN33: 0 | BP33: 0 | BQ33: 2 | BR33: 0 | BS33: 1 | BT33: 1 | BU33: 1 | BV33: 1 | BW33: 1 | BX33: 1 | BZ33: 122 | CA33: 80 | CF33: 0 | CG33: 0 | CM33: 0 | CO33: 0 | CP33: =(P33+Q33+S33) -> 4309.46 | CQ33: =AC33*BC33 -> 4309.459 | CR33: =AD33*BB33 -> 0 | CS33: =AE33*BS33 -> 0 | CT33: =AF33*BA33 -> 0 | CU33: =AG33 -> 0 | CV33: =AH33 -> 0 | CW33: =AI33 -> 0 | CX33: =AJ33 -> 0 | CY33: =(((S33+R33)*AT33)/100) -> 0 | CZ33: =(((S33+R33)*AU33)/100) -> 0 | DN33: 0 | DO33: 0 | DP33: 1 | DQ33: 1 | DU33: 1013 | DV33: компл. | DW33: компл. | DX33: 1 | EE33: 27028976 | EF33: 2 | EG33: Общестроительные работы | EH33: 0 | EJ33: 1 | EK33: 14 | EL33: Конструкции из кирпича и блоков | EM33: ФЕР-08 (03) | EQ33: 512 | ER33: 559.67 | ES33: 559.67 | ET33: 0 | EU33: 0 | EV33: 0 | EW33: 0 | EX33: 0 | EZ33: 5 | FC33: 0 | FD33: 18 | FF33: 4309.45 | FQ33: 0 | FR33: =ROUND(IF(AND(BH33=3,BI33=3),P33,0),2) -> 0 | FS33: 0 | FX33: 122 | FY33: 80 | GA33: [4 309,45 / 7,7] | GD33: 0 | GF33: -1247699383 | GG33: 1 | GH33: 3 | GI33: 4 | GJ33: 0 | GK33: =ROUND(R33*(S12)/100,2) -> 0 | GL33: =ROUND(IF(AND(BH33=3,BI33=3,FS33<>0),P33,0),2) -> 0 | GM33: =ROUND(O33+X33+Y33+GK33,2)+GX33 -> 4309.46 | GN33: =IF(OR(BI33=0,BI33=1),ROUND(O33+X33+Y33+GK33,2),0) -> 4309.46 | GO33: =IF(BI33=2,ROUND(O33+X33+Y33+GK33,2),0) -> 0 | GP33: =IF(BI33=4,ROUND(O33+X33+Y33+GK33,2)+GX33,0) -> 0 | GR33: 1 | GS33: 1 | GT33: 0 | GV33: =ROUND(GT33,2) -> 0 | GW33: 1 | GX33: =ROUND(GV33*GW33*I33,2) -> 0 | HA33: 0 | HB33: 0 | IK33: 0
A34: 17 | B34: 1 | C34: =ROW(SmtRes!A20) -> 20 | D34: =ROW(EtalonRes!A18) -> 18 | E34: 2 | F34: 20-02-018-01 | G34: Установка вставок гибких к радиальным вентиляторам | H34: м2 | I34: 2.01 | J34: 0 | O34: =ROUND(CP34,2) -> 130.17 | P34: =ROUND(CQ34*I34,2) -> 7.36 | Q34: =ROUND(CR34*I34,2) -> 1.59 | R34: =ROUND(CS34*I34,2) -> 0.28 | S34: =ROUND(CT34*I34,2) -> 121.22 | T34: =ROUND(CU34*I34,2) -> 0 | U34: =CV34*I34 -> 13.869 | V34: =CW34*I34 -> 0.02412 | W34: =ROUND(CX34*I34,2) -> 0 | X34: =ROUND(CY34,2) -> 155.52 | Y34: =ROUND(CZ34,2) -> 100.85 | AA34: 27795993 | AB34: =ROUND((AC34+AD34+AF34),2) -> 64.76 | AC34: =ROUND((ES34),2) -> 3.66 | AD34: =ROUND(((((ET34*1.2))-((EU34*1.2)))+AE34),2) -> 0.79 | AE34: =ROUND(((EU34*1.2)),2) -> 0.14 | AF34: =ROUND(((EV34*1.2)),2) -> 60.31 | AG34: =ROUND((AP34),2) -> 0 | AH34: =((EW34*1.2)) -> 6.9 | AI34: =((EX34*1.2)) -> 0.012 | AJ34: =ROUND((AS34),2) -> 0 | AK34: 54.58 | AL34: 3.66 | AM34: 0.66 | AN34: 0.12 | AO34: 50.26 | AP34: 0 | AQ34: 5.75 | AR34: 0.01 | AS34: 0 | AT34: 128 | AU34: 83 | AV34: 1 | AW34: 1 | AZ34: 1 | BA34: 1 | BB34: 1 | BC34: 1 | BH34: 0 | BI34: 1 | BJ34: ФЕР-2001, 20-02-018-01, приказ Минстроя России №1039/пр от 30.12.2016г. | BM34: 20001 | BN34: 0 | BP34: 0 | BQ34: 2 | BR34: 0 | BS34: 1 | BT34: 1 | BU34: 1 | BV34: 1 | BW34: 1 | BX34: 1 | BZ34: 128 | CA34: 83 | CF34: 0 | CG34: 0 | CM34: 0 | CN34: Поправка: МДС 81-35.2004, прил.1, т.1, п.2 Наименование: Производство строительных и других работ в существующих зданиях и сооружениях, освобожденных от оборудования и других предметов, мешающих нормальному производству работ. | CO34: 0 | CP34: =(P34+Q34+S34) -> 130.17 | CQ34: =AC34*BC34 -> 3.66 | CR34: =AD34*BB34 -> 0.79 | CS34: =AE34*BS34 -> 0.14 | CT34: =AF34*BA34 -> 60.31 | CU34: =AG34 -> 0 | CV34: =AH34 -> 6.9 | CW34: =AI34 -> 0.012 | CX34: =AJ34 -> 0 | CY34: =(((S34+R34)*AT34)/100) -> 155.52 | CZ34: =(((S34+R34)*AU34)/100) -> 100.845 | DE34: )*1,2 | DF34: )*1,2 | DG34: )*1,2 | DI34: )*1,2 | DJ34: )*1,2 | DN34: 0 | DO34: 0 | DP34: 1 | DQ34: 1 | DU34: 1005 | DV34: м2 | DW34: м2 | DX34: 1 | EE34: 27029054 | EF34: 2 | EG34: Общестроительные работы | EH34: 0 | EJ34: 1 | EK34: 20001 | EL34: Вентиляция и кондиционирование | EM34: ФЕР-20 | EO34: Поправка: МДС 81-35.2004, прил.1, т.1, п.2 | EQ34: 0 | ER34: 54.58 | ES34: 3.66 | ET34: 0.66 | EU34: 0.12 | EV34: 50.26 | EW34: 5.75 | EX34: 0.01 | EY34: 0 | FQ34: 0 | FR34: =ROUND(IF(AND(BH34=3,BI34=3),P34,0),2) -> 0 | FS34: 0 | FX34: 128 | FY34: 83 | GD34: 0 | GF34: 115509146 | GG34: 2 | GH34: 1 | GI34: -2 | GJ34: 0 | GK34: =ROUND(R34*(R12)/100,2) -> 0 | GL34: =ROUND(IF(AND(BH34=3,BI34=3,FS34<>0),P34,0),2) -> 0 | GM34: =ROUND(O34+X34+Y34+GK34,2)+GX34 -> 386.54 | GN34: =IF(OR(BI34=0,BI34=1),ROUND(O34+X34+Y34+GK34,2),0) -> 386.54 | GO34: =IF(BI34=2,ROUND(O34+X34+Y34+GK34,2),0) -> 0 | GP34: =IF(BI34=4,ROUND(O34+X34+Y34+GK34,2)+GX34,0) -> 0 | GR34: 0 | GS34: 3 | GT34: 0 | GV34: =ROUND(GT34,2) -> 0 | GW34: 1 | GX34: =ROUND(GV34*GW34*I34,2) -> 0 | HA34: 0 | HB34: 0 | IK34: 0
A35: 17 | B35: 1 | C35: =ROW(SmtRes!A26) -> 26 | D35: =ROW(EtalonRes!A24) -> 24 | E35: 2 | F35: 20-02-018-01 | G35: Установка вставок гибких к радиальным вентиляторам | H35: м2 | I35: 2.01 | J35: 0 | O35: =ROUND(CP35,2) -> 1002.3 | P35: =ROUND(CQ35*I35,2) -> 56.65 | Q35: =ROUND(CR35*I35,2) -> 12.23 | R35: =ROUND(CS35*I35,2) -> 2.17 | S35: =ROUND(CT35*I35,2) -> 933.42 | T35: =ROUND(CU35*I35,2) -> 0 | U35: =CV35*I35 -> 13.869 | V35: =CW35*I35 -> 0.02412 | W35: =ROUND(CX35*I35,2) -> 0 | X35: =ROUND(CY35,2) -> 1197.56 | Y35: =ROUND(CZ35,2) -> 776.54 | AA35: 27796868 | AB35: =ROUND((AC35+AD35+AF35),2) -> 64.76 | AC35: =ROUND((ES35),2) -> 3.66 | AD35: =ROUND(((((ET35*1.2))-((EU35*1.2)))+AE35),2) -> 0.79 | AE35: =ROUND(((EU35*1.2)),2) -> 0.14 | AF35: =ROUND(((EV35*1.2)),2) -> 60.31 | AG35: =ROUND((AP35),2) -> 0 | AH35: =((EW35*1.2)) -> 6.9 | AI35: =((EX35*1.2)) -> 0.012 | AJ35: =ROUND((AS35),2) -> 0 | AK35: 54.58 | AL35: 3.66 | AM35: 0.66 | AN35: 0.12 | AO35: 50.26 | AP35: 0 | AQ35: 5.75 | AR35: 0.01 | AS35: 0 | AT35: 128 | AU35: 83 | AV35: 1 | AW35: 1 | AZ35: 7.7 | BA35: 7.7 | BB35: 7.7 | BC35: 7.7 | BH35: 0 | BI35: 1 | BJ35: ФЕР-2001, 20-02-018-01, приказ Минстроя России №1039/пр от 30.12.2016г. | BM35: 20001 | BN35: 0 | BP35: 0 | BQ35: 2 | BR35: 0 | BS35: 7.7 | BT35: 1 | BU35: 1 | BV35: 1 | BW35: 1 | BX35: 1 | BZ35: 128 | CA35: 83 | CF35: 0 | CG35: 0 | CM35: 0 | CN35: Поправка: МДС 81-35.2004, прил.1, т.1, п.2 Наименование: Производство строительных и других работ в существующих зданиях и сооружениях, освобожденных от оборудования и других предметов, мешающих нормальному производству работ. | CO35: 0 | CP35: =(P35+Q35+S35) -> 1002.3 | CQ35: =AC35*BC35 -> 28.182 | CR35: =AD35*BB35 -> 6.083 | CS35: =AE35*BS35 -> 1.078 | CT35: =AF35*BA35 -> 464.387 | CU35: =AG35 -> 0 | CV35: =AH35 -> 6.9 | CW35: =AI35 -> 0.012 | CX35: =AJ35 -> 0 | CY35: =(((S35+R35)*AT35)/100) -> 1197.5552 | CZ35: =(((S35+R35)*AU35)/100) -> 776.5397 | DE35: )*1,2 | DF35: )*1,2 | DG35: )*1,2 | DI35: )*1,2 | DJ35: )*1,2 | DN35: 0 | DO35: 0 | DP35: 1 | DQ35: 1 | DU35: 1005 | DV35: м2 | DW35: м2 | DX35: 1 | EE35: 27029054 | EF35: 2 | EG35: Общестроительные работы | EH35: 0 | EJ35: 1 | EK35: 20001 | EL35: Вентиляция и кондиционирование | EM35: ФЕР-20 | EO35: Поправка: МДС 81-35.2004, прил.1, т.1, п.2 | EQ35: 0 | ER35: 54.58 | ES35: 3.66 | ET35: 0.66 | EU35: 0.12 | EV35: 50.26 | EW35: 5.75 | EX35: 0.01 | EY35: 0 | FQ35: 0 | FR35: =ROUND(IF(AND(BH35=3,BI35=3),P35,0),2) -> 0 | FS35: 0 | FX35: 128 | FY35: 83 | GD35: 0 | GF35: 115509146 | GG35: 1 | GH35: 1 | GI35: 4 | GJ35: 0 | GK35: =ROUND(R35*(S12)/100,2) -> 0 | GL35: =ROUND(IF(AND(BH35=3,BI35=3,FS35<>0),P35,0),2) -> 0 | GM35: =ROUND(O35+X35+Y35+GK35,2)+GX35 -> 2976.4 | GN35: =IF(OR(BI35=0,BI35=1),ROUND(O35+X35+Y35+GK35,2),0) -> 2976.4 | GO35: =IF(BI35=2,ROUND(O35+X35+Y35+GK35,2),0) -> 0 | GP35: =IF(BI35=4,ROUND(O35+X35+Y35+GK35,2)+GX35,0) -> 0 | GR35: 0 | GS35: 3 | GT35: 0 | GV35: =ROUND(GT35,2) -> 0 | GW35: 1 | GX35: =ROUND(GV35*GW35*I35,2) -> 0 | HA35: 0 | HB35: 0 | IK35: 0
A36: 18 | B36: 1 | C36: 20 | E36: 2,1 | F36: Цена поставщика | G36: Вставка гибкая круглого сечения СДКК-400-800-EX-KR | H36: ШТ | I36: =I34*J36 -> 1 | J36: 0.49751244 | O36: =ROUND(CP36,2) -> 1139.1 | P36: =ROUND(CQ36*I36,2) -> 1139.1 | Q36: =ROUND(CR36*I36,2) -> 0 | R36: =ROUND(CS36*I36,2) -> 0 | S36: =ROUND(CT36*I36,2) -> 0 | T36: =ROUND(CU36*I36,2) -> 0 | U36: =CV36*I36 -> 0 | V36: =CW36*I36 -> 0 | W36: =ROUND(CX36*I36,2) -> 0 | X36: =ROUND(CY36,2) -> 0 | Y36: =ROUND(CZ36,2) -> 0 | AA36: 27795993 | AB36: =ROUND((AC36+AD36+AF36),2) -> 1139.1 | AC36: =ROUND((ES36),2) -> 1139.1 | AD36: =ROUND((((ET36)-(EU36))+AE36),2) -> 0 | AE36: =ROUND((EU36),2) -> 0 | AF36: =ROUND((EV36),2) -> 0 | AG36: =ROUND((AP36),2) -> 0 | AH36: =(EW36) -> 0 | AI36: =(EX36) -> 0 | AJ36: =ROUND((AS36),2) -> 0 | AK36: 1139.1 | AL36: 1139.1 | AM36: 0 | AN36: 0 | AO36: 0 | AP36: 0 | AQ36: 0 | AR36: 0 | AS36: 0 | AT36: 95 | AU36: 50 | AV36: 1 | AW36: 1 | AZ36: 1 | BA36: 1 | BB36: 1 | BC36: 1 | BH36: 3 | BI36: 1 | BM36: 1 | BN36: 0 | BP36: 0 | BQ36: 2 | BR36: 0 | BS36: 1 | BT36: 1 | BU36: 1 | BV36: 1 | BW36: 1 | BX36: 1 | BZ36: 95 | CA36: 50 | CF36: 0 | CG36: 0 | CM36: 0 | CO36: 0 | CP36: =(P36+Q36+S36) -> 1139.1 | CQ36: =AC36*BC36 -> 1139.1 | CR36: =AD36*BB36 -> 0 | CS36: =AE36*BS36 -> 0 | CT36: =AF36*BA36 -> 0 | CU36: =AG36 -> 0 | CV36: =AH36 -> 0 | CW36: =AI36 -> 0 | CX36: =AJ36 -> 0 | CY36: =(((S36+R36)*AT36)/100) -> 0 | CZ36: =(((S36+R36)*AU36)/100) -> 0 | DN36: 0 | DO36: 0 | DP36: 1 | DQ36: 1 | DU36: 1013 | DV36: ШТ | DW36: ШТ | DX36: 1 | EE36: 27029165 | EF36: 2 | EG36: Общестроительные работы | EH36: 0 | EJ36: 1 | EK36: 1 | EL36: Земляные работы, выполняемые механизированным способом | EM36: ФЕР-01 (03) | EQ36: 512 | ER36: 1139.1 | ES36: 1139.1 | ET36: 0 | EU36: 0 | EV36: 0 | EW36: 0 | EX36: 0 | FQ36: 0 | FR36: =ROUND(IF(AND(BH36=3,BI36=3),P36,0),2) -> 0 | FS36: 0 | FX36: 95 | FY36: 50 | GA36: занесена вручную | GD36: 0 | GF36: -1161653191 | GG36: 2 | GH36: 0 | GI36: -2 | GJ36: 0 | GK36: =ROUND(R36*(R12)/100,2) -> 0 | GL36: =ROUND(IF(AND(BH36=3,BI36=3,FS36<>0),P36,0),2) -> 0 | GM36: =ROUND(O36+X36+Y36+GK36,2)+GX36 -> 1139.1 | GN36: =IF(OR(BI36=0,BI36=1),ROUND(O36+X36+Y36+GK36,2),0) -> 1139.1 | GO36: =IF(BI36=2,ROUND(O36+X36+Y36+GK36,2),0) -> 0 | GP36: =IF(BI36=4,ROUND(O36+X36+Y36+GK36,2)+GX36,0) -> 0 | GR36: 0 | GS36: 4 | GT36: 0 | GV36: =ROUND(GT36,2) -> 0 | GW36: 1 | GX36: =ROUND(GV36*GW36*I36,2) -> 0 | HA36: 0 | HB36: 0 | IK36: 0
A37: 18 | B37: 1 | C37: 26 | E37: 2,1 | F37: Цена поставщика | G37: Вставка гибкая круглого сечения СДКК-400-800-EX-KR | H37: ШТ | I37: =I35*J37 -> 1 | J37: 0.49751244 | O37: =ROUND(CP37,2) -> 8771.07 | P37: =ROUND(CQ37*I37,2) -> 8771.07 | Q37: =ROUND(CR37*I37,2) -> 0 | R37: =ROUND(CS37*I37,2) -> 0 | S37: =ROUND(CT37*I37,2) -> 0 | T37: =ROUND(CU37*I37,2) -> 0 | U37: =CV37*I37 -> 0 | V37: =CW37*I37 -> 0 | W37: =ROUND(CX37*I37,2) -> 0 | X37: =ROUND(CY37,2) -> 0 | Y37: =ROUND(CZ37,2) -> 0 | AA37: 27796868 | AB37: =ROUND((AC37+AD37+AF37),2) -> 1139.1 | AC37: =ROUND((ES37),2) -> 1139.1 | AD37: =ROUND((((ET37)-(EU37))+AE37),2) -> 0 | AE37: =ROUND((EU37),2) -> 0 | AF37: =ROUND((EV37),2) -> 0 | AG37: =ROUND((AP37),2) -> 0 | AH37: =(EW37) -> 0 | AI37: =(EX37) -> 0 | AJ37: =ROUND((AS37),2) -> 0 | AK37: 1139.1 | AL37: 1139.1 | AM37: 0 | AN37: 0 | AO37: 0 | AP37: 0 | AQ37: 0 | AR37: 0 | AS37: 0 | AT37: 95 | AU37: 50 | AV37: 1 | AW37: 1 | AZ37: 7.7 | BA37: 1 | BB37: 1 | BC37: 7.7 | BH37: 3 | BI37: 1 | BM37: 1 | BN37: 0 | BP37: 0 | BQ37: 2 | BR37: 0 | BS37: 1 | BT37: 1 | BU37: 1 | BV37: 1 | BW37: 1 | BX37: 1 | BZ37: 95 | CA37: 50 | CF37: 0 | CG37: 0 | CM37: 0 | CO37: 0 | CP37: =(P37+Q37+S37) -> 8771.07 | CQ37: =AC37*BC37 -> 8771.07 | CR37: =AD37*BB37 -> 0 | CS37: =AE37*BS37 -> 0 | CT37: =AF37*BA37 -> 0 | CU37: =AG37 -> 0 | CV37: =AH37 -> 0 | CW37: =AI37 -> 0 | CX37: =AJ37 -> 0 | CY37: =(((S37+R37)*AT37)/100) -> 0 | CZ37: =(((S37+R37)*AU37)/100) -> 0 | DN37: 0 | DO37: 0 | DP37: 1 | DQ37: 1 | DU37: 1013 | DV37: ШТ | DW37: ШТ | DX37: 1 | EE37: 27029165 | EF37: 2 | EG37: Общестроительные работы | EH37: 0 | EJ37: 1 | EK37: 1 | EL37: Земляные работы, выполняемые механизированным способом | EM37: ФЕР-01 (03) | EQ37: 512 | ER37: 1139.1 | ES37: 1139.1 | ET37: 0 | EU37: 0 | EV37: 0 | EW37: 0 | EX37: 0 | EZ37: 5 | FC37: 0 | FD37: 18 | FF37: 8771.06 | FQ37: 0 | FR37: =ROUND(IF(AND(BH37=3,BI37=3),P37,0),2) -> 0 | FS37: 0 | FX37: 95 | FY37: 50 | GA37: [8 771,06 / 7,7] | GD37: 0 | GF37: -1161653191 | GG37: 1 | GH37: 3 | GI37: 4 | GJ37: 0 | GK37: =ROUND(R37*(S12)/100,2) -> 0 | GL37: =ROUND(IF(AND(BH37=3,BI37=3,FS37<>0),P37,0),2) -> 0 | GM37: =ROUND(O37+X37+Y37+GK37,2)+GX37 -> 8771.07 | GN37: =IF(OR(BI37=0,BI37=1),ROUND(O37+X37+Y37+GK37,2),0) -> 8771.07 | GO37: =IF(BI37=2,ROUND(O37+X37+Y37+GK37,2),0) -> 0 | GP37: =IF(BI37=4,ROUND(O37+X37+Y37+GK37,2)+GX37,0) -> 0 | GR37: 1 | GS37: 1 | GT37: 0 | GV37: =ROUND(GT37,2) -> 0 | GW37: 1 | GX37: =ROUND(GV37*GW37*I37,2) -> 0 | HA37: 0 | HB37: 0 | IK37: 0
A38: 17 | B38: 1 | C38: =ROW(SmtRes!A35) -> 35 | D38: =ROW(EtalonRes!A32) -> 32 | E38: 3 | F38: 20-02-006-04 | G38: Установка заслонок воздушных и клапанов воздушных КВР с электрическим или пневматическим приводом диаметром до 800 мм | H38: ШТ | I38: 1 | J38: 0 | O38: =ROUND(CP38,2) -> 67.93 | P38: =ROUND(CQ38*I38,2) -> 25.76 | Q38: =ROUND(CR38*I38,2) -> 5.46 | R38: =ROUND(CS38*I38,2) -> 0.44 | S38: =ROUND(CT38*I38,2) -> 36.71 | T38: =ROUND(CU38*I38,2) -> 0 | U38: =CV38*I38 -> 4.092 | V38: =CW38*I38 -> 0.036 | W38: =ROUND(CX38*I38,2) -> 0 | X38: =ROUND(CY38,2) -> 47.55 | Y38: =ROUND(CZ38,2) -> 30.83 | AA38: 27795993 | AB38: =ROUND((AC38+AD38+AF38),2) -> 67.93 | AC38: =ROUND((ES38),2) -> 25.76 | AD38: =ROUND(((((ET38*1.2))-((EU38*1.2)))+AE38),2) -> 5.46 | AE38: =ROUND(((EU38*1.2)),2) -> 0.44 | AF38: =ROUND(((EV38*1.2)),2) -> 36.71 | AG38: =ROUND((AP38),2) -> 0 | AH38: =((EW38*1.2)) -> 4.092 | AI38: =((EX38*1.2)) -> 0.036 | AJ38: =ROUND((AS38),2) -> 0 | AK38: 60.9 | AL38: 25.76 | AM38: 4.55 | AN38: 0.37 | AO38: 30.59 | AP38: 0 | AQ38: 3.41 | AR38: 0.03 | AS38: 0 | AT38: 128 | AU38: 83 | AV38: 1 | AW38: 1 | AZ38: 1 | BA38: 1 | BB38: 1 | BC38: 1 | BH38: 0 | BI38: 1 | BJ38: ФЕР-2001, 20-02-006-04, приказ Минстроя России №1039/пр от 30.12.2016г. | BM38: 20001 | BN38: 0 | BP38: 0 | BQ38: 2 | BR38: 0 | BS38: 1 | BT38: 1 | BU38: 1 | BV38: 1 | BW38: 1 | BX38: 1 | BZ38: 128 | CA38: 83 | CF38: 0 | CG38: 0 | CM38: 0 | CN38: Поправка: МДС 81-35.2004, прил.1, т.1, п.2 Наименование: Производство строительных и других работ в существующих зданиях и сооружениях, освобожденных от оборудования и других предметов, мешающих нормальному производству работ. | CO38: 0 | CP38: =(P38+Q38+S38) -> 67.93 | CQ38: =AC38*BC38 -> 25.76 | CR38: =AD38*BB38 -> 5.46 | CS38: =AE38*BS38 -> 0.44 | CT38: =AF38*BA38 -> 36.71 | CU38: =AG38 -> 0 | CV38: =AH38 -> 4.092 | CW38: =AI38 -> 0.036 | CX38: =AJ38 -> 0 | CY38: =(((S38+R38)*AT38)/100) -> 47.552 | CZ38: =(((S38+R38)*AU38)/100) -> 30.8345 | DE38: )*1,2 | DF38: )*1,2 | DG38: )*1,2 | DI38: )*1,2 | DJ38: )*1,2 | DN38: 0 | DO38: 0 | DP38: 1 | DQ38: 1 | DU38: 1013 | DV38: ШТ | DW38: ШТ | DX38: 1 | EE38: 27029054 | EF38: 2 | EG38: Общестроительные работы | EH38: 0 | EJ38: 1 | EK38: 20001 | EL38: Вентиляция и кондиционирование | EM38: ФЕР-20 | EO38: Поправка: МДС 81-35.2004, прил.1, т.1, п.2 | EQ38: 0 | ER38: 60.9 | ES38: 25.76 | ET38: 4.55 | EU38: 0.37 | EV38: 30.59 | EW38: 3.41 | EX38: 0.03 | EY38: 0 | FQ38: 0 | FR38: =ROUND(IF(AND(BH38=3,BI38=3),P38,0),2) -> 0 | FS38: 0 | FX38: 128 | FY38: 83 | GD38: 0 | GF38: -732246212 | GG38: 2 | GH38: 1 | GI38: -2 | GJ38: 0 | GK38: =ROUND(R38*(R12)/100,2) -> 0 | GL38: =ROUND(IF(AND(BH38=3,BI38=3,FS38<>0),P38,0),2) -> 0 | GM38: =ROUND(O38+X38+Y38+GK38,2)+GX38 -> 146.31 | GN38: =IF(OR(BI38=0,BI38=1),ROUND(O38+X38+Y38+GK38,2),0) -> 146.31 | GO38: =IF(BI38=2,ROUND(O38+X38+Y38+GK38,2),0) -> 0 | GP38: =IF(BI38=4,ROUND(O38+X38+Y38+GK38,2)+GX38,0) -> 0 | GR38: 0 | GS38: 3 | GT38: 0 | GV38: =ROUND(GT38,2) -> 0 | GW38: 1 | GX38: =ROUND(GV38*GW38*I38,2) -> 0 | HA38: 0 | HB38: 0 | IK38: 0
A39: 17 | B39: 1 | C39: =ROW(SmtRes!A44) -> 44 | D39: =ROW(EtalonRes!A40) -> 40 | E39: 3 | F39: 20-02-006-04 | G39: Установка заслонок воздушных и клапанов воздушных КВР с электрическим или пневматическим приводом диаметром до 800 мм | H39: ШТ | I39: 1 | J39: 0 | O39: =ROUND(CP39,2) -> 523.06 | P39: =ROUND(CQ39*I39,2) -> 198.35 | Q39: =ROUND(CR39*I39,2) -> 42.04 | R39: =ROUND(CS39*I39,2) -> 3.39 | S39: =ROUND(CT39*I39,2) -> 282.67 | T39: =ROUND(CU39*I39,2) -> 0 | U39: =CV39*I39 -> 4.092 | V39: =CW39*I39 -> 0.036 | W39: =ROUND(CX39*I39,2) -> 0 | X39: =ROUND(CY39,2) -> 366.16 | Y39: =ROUND(CZ39,2) -> 237.43 | AA39: 27796868 | AB39: =ROUND((AC39+AD39+AF39),2) -> 67.93 | AC39: =ROUND((ES39),2) -> 25.76 | AD39: =ROUND(((((ET39*1.2))-((EU39*1.2)))+AE39),2) -> 5.46 | AE39: =ROUND(((EU39*1.2)),2) -> 0.44 | AF39: =ROUND(((EV39*1.2)),2) -> 36.71 | AG39: =ROUND((AP39),2) -> 0 | AH39: =((EW39*1.2)) -> 4.092 | AI39: =((EX39*1.2)) -> 0.036 | AJ39: =ROUND((AS39),2) -> 0 | AK39: 60.9 | AL39: 25.76 | AM39: 4.55 | AN39: 0.37 | AO39: 30.59 | AP39: 0 | AQ39: 3.41 | AR39: 0.03 | AS39: 0 | AT39: 128 | AU39: 83 | AV39: 1 | AW39: 1 | AZ39: 7.7 | BA39: 7.7 | BB39: 7.7 | BC39: 7.7 | BH39: 0 | BI39: 1 | BJ39: ФЕР-2001, 20-02-006-04, приказ Минстроя России №1039/пр от 30.12.2016г. | BM39: 20001 | BN39: 0 | BP39: 0 | BQ39: 2 | BR39: 0 | BS39: 7.7 | BT39: 1 | BU39: 1 | BV39: 1 | BW39: 1 | BX39: 1 | BZ39: 128 | CA39: 83 | CF39: 0 | CG39: 0 | CM39: 0 | CN39: Поправка: МДС 81-35.2004, прил.1, т.1, п.2 Наименование: Производство строительных и других работ в существующих зданиях и сооружениях, освобожденных от оборудования и других предметов, мешающих нормальному производству работ. | CO39: 0 | CP39: =(P39+Q39+S39) -> 523.06 | CQ39: =AC39*BC39 -> 198.352 | CR39: =AD39*BB39 -> 42.042 | CS39: =AE39*BS39 -> 3.388 | CT39: =AF39*BA39 -> 282.667 | CU39: =AG39 -> 0 | CV39: =AH39 -> 4.092 | CW39: =AI39 -> 0.036 | CX39: =AJ39 -> 0 | CY39: =(((S39+R39)*AT39)/100) -> 366.1568 | CZ39: =(((S39+R39)*AU39)/100) -> 237.4298 | DE39: )*1,2 | DF39: )*1,2 | DG39: )*1,2 | DI39: )*1,2 | DJ39: )*1,2 | DN39: 0 | DO39: 0 | DP39: 1 | DQ39: 1 | DU39: 1013 | DV39: ШТ | DW39: ШТ | DX39: 1 | EE39: 27029054 | EF39: 2 | EG39: Общестроительные работы | EH39: 0 | EJ39: 1 | EK39: 20001 | EL39: Вентиляция и кондиционирование | EM39: ФЕР-20 | EO39: Поправка: МДС 81-35.2004, прил.1, т.1, п.2 | EQ39: 0 | ER39: 60.9 | ES39: 25.76 | ET39: 4.55 | EU39: 0.37 | EV39: 30.59 | EW39: 3.41 | EX39: 0.03 | EY39: 0 | FQ39: 0 | FR39: =ROUND(IF(AND(BH39=3,BI39=3),P39,0),2) -> 0 | FS39: 0 | FX39: 128 | FY39: 83 | GD39: 0 | GF39: -732246212 | GG39: 1 | GH39: 1 | GI39: 4 | GJ39: 0 | GK39: =ROUND(R39*(S12)/100,2) -> 0 | GL39: =ROUND(IF(AND(BH39=3,BI39=3,FS39<>0),P39,0),2) -> 0 | GM39: =ROUND(O39+X39+Y39+GK39,2)+GX39 -> 1126.65 | GN39: =IF(OR(BI39=0,BI39=1),ROUND(O39+X39+Y39+GK39,2),0) -> 1126.65 | GO39: =IF(BI39=2,ROUND(O39+X39+Y39+GK39,2),0) -> 0 | GP39: =IF(BI39=4,ROUND(O39+X39+Y39+GK39,2)+GX39,0) -> 0 | GR39: 0 | GS39: 3 | GT39: 0 | GV39: =ROUND(GT39,2) -> 0 | GW39: 1 | GX39: =ROUND(GV39*GW39*I39,2) -> 0 | HA39: 0 | HB39: 0 | IK39: 0
A40: 18 | B40: 1 | C40: 34 | E40: 3,1 | F40: Цена поставщика | G40: Клапан защитный KVZ-800-EX.B-KR | H40: ШТ | I40: =I38*J40 -> 1 | J40: 1 | O40: =ROUND(CP40,2) -> 524.65 | P40: =ROUND(CQ40*I40,2) -> 524.65 | Q40: =ROUND(CR40*I40,2) -> 0 | R40: =ROUND(CS40*I40,2) -> 0 | S40: =ROUND(CT40*I40,2) -> 0 | T40: =ROUND(CU40*I40,2) -> 0 | U40: =CV40*I40 -> 0 | V40: =CW40*I40 -> 0 | W40: =ROUND(CX40*I40,2) -> 0 | X40: =ROUND(CY40,2) -> 0 | Y40: =ROUND(CZ40,2) -> 0 | AA40: 27795993 | AB40: =ROUND((AC40+AD40+AF40),2) -> 524.65 | AC40: =ROUND((ES40),2) -> 524.65 | AD40: =ROUND((((ET40)-(EU40))+AE40),2) -> 0 | AE40: =ROUND((EU40),2) -> 0 | AF40: =ROUND((EV40),2) -> 0 | AG40: =ROUND((AP40),2) -> 0 | AH40: =(EW40) -> 0 | AI40: =(EX40) -> 0 | AJ40: =ROUND((AS40),2) -> 0 | AK40: 524.65 | AL40: 524.65 | AM40: 0 | AN40: 0 | AO40: 0 | AP40: 0 | AQ40: 0 | AR40: 0 | AS40: 0 | AT40: 122 | AU40: 80 | AV40: 1 | AW40: 1 | AZ40: 1 | BA40: 1 | BB40: 1 | BC40: 1 | BH40: 3 | BI40: 1 | BM40: 14 | BN40: 0 | BP40: 0 | BQ40: 2 | BR40: 0 | BS40: 1 | BT40: 1 | BU40: 1 | BV40: 1 | BW40: 1 | BX40: 1 | BZ40: 122 | CA40: 80 | CF40: 0 | CG40: 0 | CM40: 0 | CO40: 0 | CP40: =(P40+Q40+S40) -> 524.65 | CQ40: =AC40*BC40 -> 524.65 | CR40: =AD40*BB40 -> 0 | CS40: =AE40*BS40 -> 0 | CT40: =AF40*BA40 -> 0 | CU40: =AG40 -> 0 | CV40: =AH40 -> 0 | CW40: =AI40 -> 0 | CX40: =AJ40 -> 0 | CY40: =(((S40+R40)*AT40)/100) -> 0 | CZ40: =(((S40+R40)*AU40)/100) -> 0 | DN40: 0 | DO40: 0 | DP40: 1 | DQ40: 1 | DU40: 1013 | DV40: ШТ | DW40: ШТ | DX40: 1 | EE40: 27028976 | EF40: 2 | EG40: Общестроительные работы | EH40: 0 | EJ40: 1 | EK40: 14 | EL40: Конструкции из кирпича и блоков | EM40: ФЕР-08 (03) | EQ40: 512 | ER40: 524.65 | ES40: 524.65 | ET40: 0 | EU40: 0 | EV40: 0 | EW40: 0 | EX40: 0 | FQ40: 0 | FR40: =ROUND(IF(AND(BH40=3,BI40=3),P40,0),2) -> 0 | FS40: 0 | FX40: 122 | FY40: 80 | GA40: занесена вручную | GD40: 0 | GF40: -2019111836 | GG40: 2 | GH40: 0 | GI40: -2 | GJ40: 0 | GK40: =ROUND(R40*(R12)/100,2) -> 0 | GL40: =ROUND(IF(AND(BH40=3,BI40=3,FS40<>0),P40,0),2) -> 0 | GM40: =ROUND(O40+X40+Y40+GK40,2)+GX40 -> 524.65 | GN40: =IF(OR(BI40=0,BI40=1),ROUND(O40+X40+Y40+GK40,2),0) -> 524.65 | GO40: =IF(BI40=2,ROUND(O40+X40+Y40+GK40,2),0) -> 0 | GP40: =IF(BI40=4,ROUND(O40+X40+Y40+GK40,2)+GX40,0) -> 0 | GR40: 0 | GS40: 4 | GT40: 0 | GV40: =ROUND(GT40,2) -> 0 | GW40: 1 | GX40: =ROUND(GV40*GW40*I40,2) -> 0 | HA40: 0 | HB40: 0 | IK40: 0
A41: 18 | B41: 1 | C41: 43 | E41: 3,1 | F41: Цена поставщика | G41: Клапан защитный KVZ-800-EX.B-KR | H41: ШТ | I41: =I39*J41 -> 1 | J41: 1 | O41: =ROUND(CP41,2) -> 4039.81 | P41: =ROUND(CQ41*I41,2) -> 4039.81 | Q41: =ROUND(CR41*I41,2) -> 0 | R41: =ROUND(CS41*I41,2) -> 0 | S41: =ROUND(CT41*I41,2) -> 0 | T41: =ROUND(CU41*I41,2) -> 0 | U41: =CV41*I41 -> 0 | V41: =CW41*I41 -> 0 | W41: =ROUND(CX41*I41,2) -> 0 | X41: =ROUND(CY41,2) -> 0 | Y41: =ROUND(CZ41,2) -> 0 | AA41: 27796868 | AB41: =ROUND((AC41+AD41+AF41),2) -> 524.65 | AC41: =ROUND((ES41),2) -> 524.65 | AD41: =ROUND((((ET41)-(EU41))+AE41),2) -> 0 | AE41: =ROUND((EU41),2) -> 0 | AF41: =ROUND((EV41),2) -> 0 | AG41: =ROUND((AP41),2) -> 0 | AH41: =(EW41) -> 0 | AI41: =(EX41) -> 0 | AJ41: =ROUND((AS41),2) -> 0 | AK41: 524.65 | AL41: 524.65 | AM41: 0 | AN41: 0 | AO41: 0 | AP41: 0 | AQ41: 0 | AR41: 0 | AS41: 0 | AT41: 122 | AU41: 80 | AV41: 1 | AW41: 1 | AZ41: 7.7 | BA41: 1 | BB41: 1 | BC41: 7.7 | BH41: 3 | BI41: 1 | BM41: 14 | BN41: 0 | BP41: 0 | BQ41: 2 | BR41: 0 | BS41: 1 | BT41: 1 | BU41: 1 | BV41: 1 | BW41: 1 | BX41: 1 | BZ41: 122 | CA41: 80 | CF41: 0 | CG41: 0 | CM41: 0 | CO41: 0 | CP41: =(P41+Q41+S41) -> 4039.81 | CQ41: =AC41*BC41 -> 4039.805 | CR41: =AD41*BB41 -> 0 | CS41: =AE41*BS41 -> 0 | CT41: =AF41*BA41 -> 0 | CU41: =AG41 -> 0 | CV41: =AH41 -> 0 | CW41: =AI41 -> 0 | CX41: =AJ41 -> 0 | CY41: =(((S41+R41)*AT41)/100) -> 0 | CZ41: =(((S41+R41)*AU41)/100) -> 0 | DN41: 0 | DO41: 0 | DP41: 1 | DQ41: 1 | DU41: 1013 | DV41: ШТ | DW41: ШТ | DX41: 1 | EE41: 27028976 | EF41: 2 | EG41: Общестроительные работы | EH41: 0 | EJ41: 1 | EK41: 14 | EL41: Конструкции из кирпича и блоков | EM41: ФЕР-08 (03) | EQ41: 512 | ER41: 524.65 | ES41: 524.65 | ET41: 0 | EU41: 0 | EV41: 0 | EW41: 0 | EX41: 0 | EZ41: 5 | FC41: 0 | FD41: 18 | FF41: 4039.83 | FQ41: 0 | FR41: =ROUND(IF(AND(BH41=3,BI41=3),P41,0),2) -> 0 | FS41: 0 | FX41: 122 | FY41: 80 | GA41: [4 039,83 / 7,7] | GD41: 0 | GF41: -2019111836 | GG41: 1 | GH41: 3 | GI41: 3 | GJ41: 0 | GK41: =ROUND(R41*(S12)/100,2) -> 0 | GL41: =ROUND(IF(AND(BH41=3,BI41=3,FS41<>0),P41,0),2) -> 0 | GM41: =ROUND(O41+X41+Y41+GK41,2)+GX41 -> 4039.81 | GN41: =IF(OR(BI41=0,BI41=1),ROUND(O41+X41+Y41+GK41,2),0) -> 4039.81 | GO41: =IF(BI41=2,ROUND(O41+X41+Y41+GK41,2),0) -> 0 | GP41: =IF(BI41=4,ROUND(O41+X41+Y41+GK41,2)+GX41,0) -> 0 | GR41: 1 | GS41: 1 | GT41: 0 | GV41: =ROUND(GT41,2) -> 0 | GW41: 1 | GX41: =ROUND(GV41*GW41*I41,2) -> 0 | HA41: 0 | HB41: 0 | IK41: 0
A42: 18 | B42: 1 | C42: 35 | E42: 3,2 | F42: Цена поставщика | G42: Кожух двигателя PTA-800-EX-KR | H42: компл. | I42: =I38*J42 -> 1 | J42: 1 | O42: =ROUND(CP42,2) -> 369.68 | P42: =ROUND(CQ42*I42,2) -> 369.68 | Q42: =ROUND(CR42*I42,2) -> 0 | R42: =ROUND(CS42*I42,2) -> 0 | S42: =ROUND(CT42*I42,2) -> 0 | T42: =ROUND(CU42*I42,2) -> 0 | U42: =CV42*I42 -> 0 | V42: =CW42*I42 -> 0 | W42: =ROUND(CX42*I42,2) -> 0 | X42: =ROUND(CY42,2) -> 0 | Y42: =ROUND(CZ42,2) -> 0 | AA42: 27795993 | AB42: =ROUND((AC42+AD42+AF42),2) -> 369.68 | AC42: =ROUND((ES42),2) -> 369.68 | AD42: =ROUND((((ET42)-(EU42))+AE42),2) -> 0 | AE42: =ROUND((EU42),2) -> 0 | AF42: =ROUND((EV42),2) -> 0 | AG42: =ROUND((AP42),2) -> 0 | AH42: =(EW42) -> 0 | AI42: =(EX42) -> 0 | AJ42: =ROUND((AS42),2) -> 0 | AK42: 369.68 | AL42: 369.68 | AM42: 0 | AN42: 0 | AO42: 0 | AP42: 0 | AQ42: 0 | AR42: 0 | AS42: 0 | AT42: 122 | AU42: 80 | AV42: 1 | AW42: 1 | AZ42: 1 | BA42: 1 | BB42: 1 | BC42: 1 | BH42: 3 | BI42: 1 | BM42: 14 | BN42: 0 | BP42: 0 | BQ42: 2 | BR42: 0 | BS42: 1 | BT42: 1 | BU42: 1 | BV42: 1 | BW42: 1 | BX42: 1 | BZ42: 122 | CA42: 80 | CF42: 0 | CG42: 0 | CM42: 0 | CO42: 0 | CP42: =(P42+Q42+S42) -> 369.68 | CQ42: =AC42*BC42 -> 369.68 | CR42: =AD42*BB42 -> 0 | CS42: =AE42*BS42 -> 0 | CT42: =AF42*BA42 -> 0 | CU42: =AG42 -> 0 | CV42: =AH42 -> 0 | CW42: =AI42 -> 0 | CX42: =AJ42 -> 0 | CY42: =(((S42+R42)*AT42)/100) -> 0 | CZ42: =(((S42+R42)*AU42)/100) -> 0 | DN42: 0 | DO42: 0 | DP42: 1 | DQ42: 1 | DU42: 1013 | DV42: компл. | DW42: компл. | DX42: 1 | EE42: 27028976 | EF42: 2 | EG42: Общестроительные работы | EH42: 0 | EJ42: 1 | EK42: 14 | EL42: Конструкции из кирпича и блоков | EM42: ФЕР-08 (03) | EQ42: 512 | ER42: 369.68 | ES42: 369.68 | ET42: 0 | EU42: 0 | EV42: 0 | EW42: 0 | EX42: 0 | FQ42: 0 | FR42: =ROUND(IF(AND(BH42=3,BI42=3),P42,0),2) -> 0 | FS42: 0 | FX42: 122 | FY42: 80 | GA42: занесена вручную | GD42: 0 | GF42: 96706656 | GG42: 2 | GH42: 0 | GI42: -2 | GJ42: 0 | GK42: =ROUND(R42*(R12)/100,2) -> 0 | GL42: =ROUND(IF(AND(BH42=3,BI42=3,FS42<>0),P42,0),2) -> 0 | GM42: =ROUND(O42+X42+Y42+GK42,2)+GX42 -> 369.68 | GN42: =IF(OR(BI42=0,BI42=1),ROUND(O42+X42+Y42+GK42,2),0) -> 369.68 | GO42: =IF(BI42=2,ROUND(O42+X42+Y42+GK42,2),0) -> 0 | GP42: =IF(BI42=4,ROUND(O42+X42+Y42+GK42,2)+GX42,0) -> 0 | GR42: 0 | GS42: 4 | GT42: 0 | GV42: =ROUND(GT42,2) -> 0 | GW42: 1 | GX42: =ROUND(GV42*GW42*I42,2) -> 0 | HA42: 0 | HB42: 0 | IK42: 0
A43: 18 | B43: 1 | C43: 44 | E43: 3,2 | F43: Цена поставщика | G43: Кожух двигателя PTA-800-EX-KR | H43: компл. | I43: =I39*J43 -> 1 | J43: 1 | O43: =ROUND(CP43,2) -> 2846.54 | P43: =ROUND(CQ43*I43,2) -> 2846.54 | Q43: =ROUND(CR43*I43,2) -> 0 | R43: =ROUND(CS43*I43,2) -> 0 | S43: =ROUND(CT43*I43,2) -> 0 | T43: =ROUND(CU43*I43,2) -> 0 | U43: =CV43*I43 -> 0 | V43: =CW43*I43 -> 0 | W43: =ROUND(CX43*I43,2) -> 0 | X43: =ROUND(CY43,2) -> 0 | Y43: =ROUND(CZ43,2) -> 0 | AA43: 27796868 | AB43: =ROUND((AC43+AD43+AF43),2) -> 369.68 | AC43: =ROUND((ES43),2) -> 369.68 | AD43: =ROUND((((ET43)-(EU43))+AE43),2) -> 0 | AE43: =ROUND((EU43),2) -> 0 | AF43: =ROUND((EV43),2) -> 0 | AG43: =ROUND((AP43),2) -> 0 | AH43: =(EW43) -> 0 | AI43: =(EX43) -> 0 | AJ43: =ROUND((AS43),2) -> 0 | AK43: 369.68 | AL43: 369.68 | AM43: 0 | AN43: 0 | AO43: 0 | AP43: 0 | AQ43: 0 | AR43: 0 | AS43: 0 | AT43: 122 | AU43: 80 | AV43: 1 | AW43: 1 | AZ43: 7.7 | BA43: 1 | BB43: 1 | BC43: 7.7 | BH43: 3 | BI43: 1 | BM43: 14 | BN43: 0 | BP43: 0 | BQ43: 2 | BR43: 0 | BS43: 1 | BT43: 1 | BU43: 1 | BV43: 1 | BW43: 1 | BX43: 1 | BZ43: 122 | CA43: 80 | CF43: 0 | CG43: 0 | CM43: 0 | CO43: 0 | CP43: =(P43+Q43+S43) -> 2846.54 | CQ43: =AC43*BC43 -> 2846.536 | CR43: =AD43*BB43 -> 0 | CS43: =AE43*BS43 -> 0 | CT43: =AF43*BA43 -> 0 | CU43: =AG43 -> 0 | CV43: =AH43 -> 0 | CW43: =AI43 -> 0 | CX43: =AJ43 -> 0 | CY43: =(((S43+R43)*AT43)/100) -> 0 | CZ43: =(((S43+R43)*AU43)/100) -> 0 | DN43: 0 | DO43: 0 | DP43: 1 | DQ43: 1 | DU43: 1013 | DV43: компл. | DW43: компл. | DX43: 1 | EE43: 27028976 | EF43: 2 | EG43: Общестроительные работы | EH43: 0 | EJ43: 1 | EK43: 14 | EL43: Конструкции из кирпича и блоков | EM43: ФЕР-08 (03) | EQ43: 512 | ER43: 369.68 | ES43: 369.68 | ET43: 0 | EU43: 0 | EV43: 0 | EW43: 0 | EX43: 0 | EZ43: 5 | FC43: 0 | FD43: 18 | FF43: 2846.57 | FQ43: 0 | FR43: =ROUND(IF(AND(BH43=3,BI43=3),P43,0),2) -> 0 | FS43: 0 | FX43: 122 | FY43: 80 | GA43: [2 846,57 / 7,7] | GD43: 0 | GF43: 96706656 | GG43: 1 | GH43: 3 | GI43: 4 | GJ43: 0 | GK43: =ROUND(R43*(S12)/100,2) -> 0 | GL43: =ROUND(IF(AND(BH43=3,BI43=3,FS43<>0),P43,0),2) -> 0 | GM43: =ROUND(O43+X43+Y43+GK43,2)+GX43 -> 2846.54 | GN43: =IF(OR(BI43=0,BI43=1),ROUND(O43+X43+Y43+GK43,2),0) -> 2846.54 | GO43: =IF(BI43=2,ROUND(O43+X43+Y43+GK43,2),0) -> 0 | GP43: =IF(BI43=4,ROUND(O43+X43+Y43+GK43,2)+GX43,0) -> 0 | GR43: 1 | GS43: 1 | GT43: 0 | GV43: =ROUND(GT43,2) -> 0 | GW43: 1 | GX43: =ROUND(GV43*GW43*I43,2) -> 0 | HA43: 0 | HB43: 0 | IK43: 0
A44: 17 | B44: 1 | C44: =ROW(SmtRes!A55) -> 55 | D44: =ROW(EtalonRes!A50) -> 50 | E44: 4 | F44: м08-01-102-01 | G44: Шкаф управления и регулирования | H44: шкаф | I44: 1 | J44: 0 | O44: =ROUND(CP44,2) -> 435.37 | P44: =ROUND(CQ44*I44,2) -> 96.23 | Q44: =ROUND(CR44*I44,2) -> 170.6 | R44: =ROUND(CS44*I44,2) -> 24.1 | S44: =ROUND(CT44*I44,2) -> 168.54 | T44: =ROUND(CU44*I44,2) -> 0 | U44: =CV44*I44 -> 17.52 | V44: =CW44*I44 -> 1.92 | W44: =ROUND(CX44*I44,2) -> 0 | X44: =ROUND(CY44,2) -> 183.01 | Y44: =ROUND(CZ44,2) -> 125.22 | AA44: 27795993 | AB44: =ROUND((AC44+AD44+AF44),2) -> 435.37 | AC44: =ROUND((ES44),2) -> 96.23 | AD44: =ROUND(((((ET44*1.2))-((EU44*1.2)))+AE44),2) -> 170.6 | AE44: =ROUND(((EU44*1.2)),2) -> 24.1 | AF44: =ROUND(((EV44*1.2)),2) -> 168.54 | AG44: =ROUND((AP44),2) -> 0 | AH44: =((EW44*1.2)) -> 17.52 | AI44: =((EX44*1.2)) -> 1.92 | AJ44: =ROUND((AS44),2) -> 0 | AK44: 378.84 | AL44: 96.23 | AM44: 142.16 | AN44: 20.08 | AO44: 140.45 | AP44: 0 | AQ44: 14.6 | AR44: 1.6 | AS44: 0 | AT44: 95 | AU44: 65 | AV44: 1 | AW44: 1 | AZ44: 1 | BA44: 1 | BB44: 1 | BC44: 1 | BH44: 0 | BI44: 2 | BJ44: ФЕРм-2001, м08-01-102-01, приказ Минстроя России №1039/пр от 30.12.2016г. | BM44: 108001 | BN44: 0 | BP44: 0 | BQ44: 3 | BR44: 0 | BS44: 1 | BT44: 1 | BU44: 1 | BV44: 1 | BW44: 1 | BX44: 1 | BZ44: 95 | CA44: 65 | CF44: 0 | CG44: 0 | CM44: 0 | CN44: Поправка: МДС 81-35.2004, прил.1, т.2, п.1 Наименование: Производство монтажных работ в существующих зданиях и сооружениях, освобожденных от оборудования и других предметов, мешающих нормальному производству работ. | CO44: 0 | CP44: =(P44+Q44+S44) -> 435.37 | CQ44: =AC44*BC44 -> 96.23 | CR44: =AD44*BB44 -> 170.6 | CS44: =AE44*BS44 -> 24.1 | CT44: =AF44*BA44 -> 168.54 | CU44: =AG44 -> 0 | CV44: =AH44 -> 17.52 | CW44: =AI44 -> 1.92 | CX44: =AJ44 -> 0 | CY44: =(((S44+R44)*AT44)/100) -> 183.008 | CZ44: =(((S44+R44)*AU44)/100) -> 125.216 | DE44: )*1,2 | DF44: )*1,2 | DG44: )*1,2 | DI44: )*1,2 | DJ44: )*1,2 | DN44: 0 | DO44: 0 | DP44: 1 | DQ44: 1 | DU44: 1013 | DV44: шкаф | DW44: шкаф | DX44: 1 | EE44: 27028906 | EF44: 3 | EG44: Монтажные работы | EH44: 0 | EJ44: 2 | EK44: 108001 | EL44: Электромонтажные работы , отдел 01-03 : ( на АЭС НР = 110% ) - (работы по упр. авиа.- движением: СП=55% ( {АВИА}=1; обычные работы : СП=65 - {AВИА}=0), при работе на АЭС СП= 68% ) | EM44: мФЕР-08 | EO44: Поправка: МДС 81-35.2004, прил.1, т.2, п.1 | EQ44: 0 | ER44: 378.84 | ES44: 96.23 | ET44: 142.16 | EU44: 20.08 | EV44: 140.45 | EW44: 14.6 | EX44: 1.6 | EY44: 0 | FQ44: 0 | FR44: =ROUND(IF(AND(BH44=3,BI44=3),P44,0),2) -> 0 | FS44: 0 | FX44: 95 | FY44: 65 | GD44: 0 | GF44: 399785800 | GG44: 2 | GH44: 1 | GI44: -2 | GJ44: 0 | GK44: =ROUND(R44*(R12)/100,2) -> 0 | GL44: =ROUND(IF(AND(BH44=3,BI44=3,FS44<>0),P44,0),2) -> 0 | GM44: =ROUND(O44+X44+Y44+GK44,2)+GX44 -> 743.6 | GN44: =IF(OR(BI44=0,BI44=1),ROUND(O44+X44+Y44+GK44,2),0) -> 0 | GO44: =IF(BI44=2,ROUND(O44+X44+Y44+GK44,2),0) -> 743.6 | GP44: =IF(BI44=4,ROUND(O44+X44+Y44+GK44,2)+GX44,0) -> 0 | GR44: 0 | GS44: 3 | GT44: 0 | GV44: =ROUND(GT44,2) -> 0 | GW44: 1 | GX44: =ROUND(GV44*GW44*I44,2) -> 0 | HA44: 0 | HB44: 0 | IK44: 0
