Workbook
Name Constr: '25205'!$A$1
Name Constr: '25252'!$A$1
Name FOT: '25205'!$B$17
Name FOT: '25252'!$B$20
Name Ind: '25205'!$D$9
Name Ind: '25252'!$D$9
Name Obj: '25205'!#REF!
Name Obj: '25252'!#REF!
Name Obosn: '25205'!$B$15
Name Obosn: '25252'!$B$15
Name SmPr: '25205'!$B$16
Name SmPr: '25252'!$B$16
Name аааааппппппрррппппппп: #REF!
Name аараооооооооооооо: #REF!
Name автом: #REF!
Name алшрльоплварл: #REF!
Name аолвлддддддддддддддддввввввввв: #REF!
Name апарв: #REF!
Name апрлдджаоырыфрпопрлпрлпрлп: #REF!
Name арлггаджаш: #REF!
Name ароррбллтблпроорапииас: #REF!
Name арррррблллпдрлдддддддддд: #REF!
Name варпаааааааааа: #REF!
Name ввпьььььлднд: #REF!
Name вед: #REF!
Name вертикальная: #REF!
Name вертикплан: #REF!
Name волен: #REF!
Name вп: #REF!
Name впырпфдыпл: #REF!
Name впьглорьтитттттттттт: #REF!
Name всввввввввввввввввввввввввв: #REF!
Name выб: #REF!
Name выпуск: #REF!
Name выьлепвввввпмп: #REF!
Name еваопродолжэрщэрзшщщх: #REF!
Name измен: #REF!
Name итого: #REF!
Name итого_сантех: #REF!
Name итого_стр: #REF!
Name итого_строит: #REF!
Name итого_технол: #REF!
Name итого_электр: #REF!
Name квота: #REF!
Name кккккккккк: #REF!
Name корек: #REF!
Name корект: #REF!
Name корректир: #REF!
Name лен: #REF!
Name лот: #REF!
Name мамиааааааааааааааааааааааааааааа: #REF!
Name ммпоослччччччччччрччапппппппппр: #REF!
Name мрол: #REF!
Name оз: #REF!
Name озелен: #REF!
Name озеленение: #REF!
Name озеленение2: #REF!
Name ОСР: #REF!
Name ОСР110: #REF!
Name ОСР111: #REF!

Sheet 25205
A1: СОГЛАСОВАНО: | E1: ФГУП "Комбинат "Электрохимприбор" | M1: УТВЕРЖДАЮ:
G2: (наименование стройки) | M2: Зам. генерального директора
M3: Е.В.Гордеев
A4: _________________ | M4: _________________
A5: " _____ " ________________ 2014 г. | M5: "______ " __________2014 г.
G6: ЛОКАЛЬНЫЙ СМЕТНЫЙ РАСЧЕТ № 25205
G7: (локальная смета)
C9: на | D9: реконструкцию фасада г.Лесной М-Сибиряка, 3. Инв. № 4900006
E10: Раздел: Архитектурно-строительные решения.
H11: (наименование работ и затрат, наименование объекта)
D13: Основание: проект № 24811-14-АС
D14: Сметная стоимость _______________________________________________________________________________________________ | J14: ___________________________967,082 | L14: тыс. руб.
D15: строительных работ _______________________________________________________________________________________________ | J15: _______________________________________________________________________________________________963,025 | L15: тыс. руб.
D16: монтажных работ _______________________________________________________________________________________________ | J16: _______________________________________________________________________________________________4,057 | L16: тыс. руб.
D17: Средства на оплату труда _______________________________________________________________________________________________ | J17: ___________________________126,589 | L17: тыс. руб.
D18: Сметная трудоемкость _______________________________________________________________________________________________ | J18: _______________________________________________________________________________________________9213,05 | L18: чел.час
D19: Составлен(а) в базовых ценах 2001г. в редакции 2009г.
A21: № пп | B21: Обоснование | C21: Наименование | D21: Ед. изм. | E21: Кол. | F21: Стоимость единицы, руб. | J21: Общая стоимость, руб. | N21: Т/з осн. раб.на ед. | O21: Т/з осн. раб. Всего | P21: Т/з мех. на ед. | Q21: Т/з мех. Всего
F22: Всего | G22: В том числе | J22: Всего | K22: В том числе
G23: Осн.З/п | H23: Эк.Маш | I23: З/пМех | K23: Осн.З/п | L23: Эк.Маш | M23: З/пМех
A24: 1 | B24: 2 | C24: 3 | D24: 4 | E24: 5 | F24: 6 | G24: 7 | H24: 8 | I24: 9 | J24: 10 | K24: 11 | L24: 12 | M24: 13 | N24: 14 | O24: 15 | P24: 16 | Q24: 17
A25: 1 | B25: ТЕР15-01-064-01 | C25: Облицовка стен фасадов зданий искусственными плитами типа <ФАССТ> на металлическом каркасе | D25: 100 м2 | E25: 18.32 | F25: 29957.57 | G25: 3658.5 | H25: 130.54 | I25: 7.19 | J25: 548823 | K25: 67024 | L25: 2391 | M25: 132 | N25: 270 | O25: 4946.4 | P25: 0.46 | Q25: 8.43
A26: 2 | B26: Цена поставщика | C26: Лента ЕПДМ уплотнительная | D26: м | E26: 3664 | F26: 1,42 10/1.18/5,98 | J26: 5203
A27: 3 | B27: ФЕР26-01-036-01 | C27: Изоляция изделиями из волокнистых и зернистых материалов с креплением дюбелями холодных поверхностей: наружных стен КОЭФ. К ПОЗИЦИИ: Приведение расценок ФЕР к территориальному уровню (Письмо УРЦЦС Ц-297 от 12.04.2011) ОЗП=1,41; ЭМ=1,242; ЗПМ=1,41; МАТ=1,052 | D27: 100 м2 поверхности | E27: 18.32 | F27: 198.29 | G27: 186.59 | H27: 11.65 | I27: 0.58 | J27: 3633 | K27: 3418 | L27: 213 | M27: 11 | N27: 16.06 | O27: 294.22 | P27: 0.03 | Q27: 0.55
A28: 4 | B28: Цена поставщика | C28: Утеплитель плита LINEROCK Венти Оптимал | D28: м3 | E28: 91.6 | F28: 493,17 3480/1,18/5,98 | J28: 45174
A29: 5 | B29: ТСЦ-101-2930 | C29: Распорный дюбель, пластмассовый стержень для крепления тяжелых и легких термоизоляционных материалов, марка IZL, размер 10х120 мм | D29: шт. | E29: 9160 | F29: 1.18 | J29: 10809
A30: 6 | B30: ТЕР26-01-055-02 прим. | C30: Установка пароизоляционного слоя из мембраны Изоспан А | D30: 100 м2 | E30: 23.81 | F30: 645.88 | G30: 176.92 | H30: 27.29 | J30: 15378 | K30: 4212 | L30: 650 | N30: 14.36 | O30: 341.91
A31: 7 | B31: Цена поставщика | C31: Мембрана ветровлагозащитная Изоспан А | D31: м2 | E31: 2619 | F31: 3,54 25/1,18/5,98 | J31: 9271
A32: 8 | B32: ТЕР12-01-010-01 | C32: Устройство мелких покрытий (парапеты, свесы и т.п.) из листовой оцинкованной стали | D32: 100 м2 | E32: 0.913 | F32: 15322.3 | G32: 1354.13 | H32: 58.83 | I32: 3.64 | J32: 13989 | K32: 1236 | L32: 54 | M32: 3 | N32: 112.75 | O32: 102.94 | P32: 0.2 | Q32: 0.18
A33: 9 | B33: ТЕР08-07-001-01 | C33: Установка и разборка наружных инвентарных лесов высотой до 16 м трубчатых для кладки облицовки | D33: 100 м2 вертик. проекции | E33: 23.73 | F33: 973.75 | G33: 528.18 | H33: 7.64 | J33: 23107 | K33: 12534 | L33: 181 | N33: 43.4 | O33: 1029.88
A34: 10 | B34: ТЕР12-01-009-01 | C34: Устройство желобов настенных | D34: 100 м желобов | E34: 1.31 | F34: 7910.42 | G34: 1017.85 | H34: 559.04 | I34: 38.4 | J34: 10363 | K34: 1333 | L34: 732 | M34: 50 | N34: 84.75 | O34: 111.02 | P34: 2.11 | Q34: 2.76
A35: 11 | B35: Цена поставщика | C35: Дополнительные элементы: желоб водосточный оцинкованный белый, длиной 2000 мм | D35: шт. | E35: 66 | F35: 46,77 330/1,18/5,98 | J35: 3087
A36: 12 | B36: Цена поставщика | C36: Дополнительные элементы: заглушка | D36: шт. | E36: 8 | F36: 12,05 85/1,18/5,98 | J36: 96
A37: 13 | B37: Цена поставщика | C37: Дополнительные элементы: держатель желоба | D37: шт. | E37: 263 | F37: 18,42 130/1,18/5,98 | J37: 4844
A38: 14 | B38: Цена поставщика | C38: Дополнительные элементы: замок для желоба | D38: шт. | E38: 66 | F38: 13,46 95/1,18/5,98 | J38: 888
A39: 15 | B39: ТЕРр58-10-1 | C39: Установка прямых звеньев водосточных труб с земли, лестниц или подмостей | D39: 100 м | E39: 1.28 | F39: 458.55 | G39: 441.97 | H39: 14.19 | J39: 587 | K39: 566 | L39: 18 | N39: 36.8 | O39: 47.1
A40: 16 | B40: Цена поставщика | C40: Дополнительные элементы: водосточная труба L=2000мм | D40: шт. | E40: 64 | F40: 58,81 415/1,18/5,98 | J40: 3764
A41: 17 | B41: ФССЦ-101-5466 прим. | C41: Дополнительные элементы: трубный стык КОЭФ. К ПОЗИЦИИ: Приведение расценок ФЕР к территориальному уровню (Письмо УРЦЦС Ц-297 от 12.04.2011) ОЗП=1,41; ЭМ=1,242; ЗПМ=1,41; МАТ=1,052 | D41: шт. | E41: 112 | F41: 5.4 | J41: 605
A42: 18 | B42: Цена поставщика | C42: Дополнительные элементы кровли: хомут | D42: шт. | E42: 208 | F42: 15,59 110/1,18/5,98 | J42: 3243
A43: 19 | B43: ТЕРр58-10-3 | C43: Установка колен водосточных труб с земли, лестниц и подмостей | D43: 100 шт. | E43: 0.32 | F43: 778.08 | G43: 767.44 | H43: 8.73 | J43: 249 | K43: 246 | L43: 3 | N43: 63.9 | O43: 20.45
...

Sheet 25252
A1: СОГЛАСОВАНО: | E1: ФГУП "Комбинат "Электрохимприбор" | L1: УТВЕРЖДАЮ:
G2: (наименование стройки) | L2: Зам.генерального директора
A3: _________________ | M3: Е.В. Гордеев
A4: " _____ " ________________ 2014 г. | L4: __________________
L5: "______ " __________2014 г.
H7: ЛОКАЛЬНЫЙ СМЕТНЫЙ РАСЧЕТ № 25252
H8: (локальная смета)
C10: на | D10: реконструкцию фасада г.Лесной М-Сибиряка, 3. Инв. № 4900006
E11: Раздел:электрооборудование, электроосвещение
E12: (наименование работ и затрат, наименование объекта)
D14: Основание: Проект №24827-14-ЭМО
D15: Сметная стоимость _______________________________________________________________________________________________ | J15: ___________________________9,819 | L15: тыс. руб.
D16: строительных работ _______________________________________________________________________________________________ | J16: _______________________________________________________________________________________________0,318 | L16: тыс. руб.
D17: монтажных работ _______________________________________________________________________________________________ | J17: _______________________________________________________________________________________________9,501 | L17: тыс. руб.
D18: Средства на оплату труда _______________________________________________________________________________________________ | J18: ___________________________1,256 | L18: тыс. руб.
D19: Сметная трудоемкость _______________________________________________________________________________________________ | J19: _______________________________________________________________________________________________61,43 | L19: чел.час
D20: Материалы____________________________________________________ | K20: 5.247 | L20: тыс. руб.
D21: Составлен(а) в базовых ценах 2001г. в редакции 2009г.
A24: № пп | B24: Обоснование | C24: Наименование | D24: Ед. изм. | E24: Кол. | F24: Стоимость единицы, руб. | J24: Общая стоимость, руб. | N24: Т/з осн. раб.на ед. | O24: Т/з осн. раб. Всего | P24: Т/з мех. на ед. | Q24: Т/з мех. Всего
F25: Всего | G25: В том числе | J25: Всего | K25: В том числе
G26: Осн.З/п | H26: Эк.Маш | I26: З/пМех | K26: Осн.З/п | L26: Эк.Маш | M26: З/пМех
A27: 1 | B27: 2 | C27: 3 | D27: 4 | E27: 5 | F27: 6 | G27: 7 | H27: 8 | I27: 9 | J27: 10 | K27: 11 | L27: 12 | M27: 13 | N27: 14 | O27: 15 | P27: 16 | Q27: 17
A28: Раздел 1. Разборка конструкций
A29: 1 | B29: ТЕРр67-4-3 | C29: Демонтаж светильников с лампами накаливания | D29: 100 шт. | E29: 0.02 | F29: 70.67 | G29: 69.46 | H29: 1.21 | I29: 0.47 | J29: 1 | K29: 1 | N29: 6.32 | O29: 0.13 | P29: 0.03
A30: 2 | B30: ТЕРр67-3-1 | C30: Демонтаж кабеля | D30: 100 м | E30: 0.48 | F30: 106.34 | G30: 105.94 | H30: 0.4 | I30: 0.16 | J30: 51 | K30: 51 | N30: 9.64 | O30: 4.63 | P30: 0.01
A31: 3 | B31: ТЕРм08-03-545-01 | C31: Демонтаж коробки КОЭФ. К ПОЗИЦИИ: Демонтаж оборудования, которое не подлежит дальнейшему использованию (предназначено в лом) без разборки и резки ОЗП=0,3; ЭМ=0,3 к расх.; ЗПМ=0,3; МАТ=0 к расх.; ТЗ=0,3; ТЗМ=0,3 | D31: 1 шт. | E31: 1 | F31: 13.87 | G31: 13.16 | H31: 0.71 | J31: 14 | K31: 13 | L31: 1 | N31: 0.99 | O31: 0.99
A32: Раздел 2. Трубы
A33: 4 | B33: ТЕР46-03-002-06 | C33: Сверление кольцевыми алмазными сверлами в железобетонных конструкциях с применением охлаждающей жидкости (воды) горизонтальных отверстий глубиной 200 мм диаметром 50 мм | D33: 100 отверстий | E33: 0.02 | F33: 4167.46 | G33: 424.12 | H33: 1412.5 | I33: 399.73 | J33: 83 | K33: 8 | L33: 28 | M33: 8 | N33: 31.3 | O33: 0.63 | P33: 29.5 | Q33: 0.59
A34: 5 | B34: ТЕР46-03-002-22 | C34: На каждые 10 мм изменения глубины сверления добавляется или исключается к расценке 46-03-002-06 КОЭФ. К ПОЗИЦИИ: Поправка на глубину (толщина стены 510мм) ПЗ=31 (ОЗП=31; ЭМ=31 к расх.; ЗПМ=31; МАТ=31 к расх.; ТЗ=31; ТЗМ=31) | D34: 100 отверстий | E34: 0.02 | F34: 5759.8 | G34: 268.77 | H34: 1878.29 | I34: 617.52 | J34: 115 | K34: 5 | L34: 38 | M34: 12 | N34: 19.84 | O34: 0.4 | P34: 45.57 | Q34: 0.91
A35: 6 | B35: ТЕРм08-02-374-01 | C35: Устройство ввода в стальной трубе, провод сечением до 16 мм2, количество проводов в линии 2 | D35: 1 шт. | E35: 2 | F35: 499.66 | G35: 47.48 | H35: 437.69 | I35: 50.96 | J35: 999 | K35: 95 | L35: 875 | M35: 102 | N35: 3.21 | O35: 6.42 | P35: 2.8 | Q35: 5.6
A36: 7 | B36: ТСЦ-103-0004 | C36: Трубы стальные сварные водогазопроводные с резьбой черные легкие (неоцинкованные) диаметр условного прохода 32 мм, толщина стенки 2,8 мм | D36: м | E36: 2 | F36: 26.35 | J36: 53
A37: 8 | B37: ТЕРм08-02-155-01 | C37: Герметизация проходов при вводе кабелей в помещения уплотнительной массой | D37: 1 проход кабеля | E37: 2 | F37: 22.58 | G37: 6.37 | J37: 45 | K37: 13 | N37: 0.47 | O37: 0.94
A38: 9 | B38: ТЕРр69-4-1 | C38: Заделка отверстий в местах прохода трубопроводов в стенах и перегородках оштукатуренных | D38: 100 отверстий | E38: 0.02 | F38: 1343.1 | G38: 944.71 | H38: 2.02 | I38: 0.78 | J38: 27 | K38: 19 | N38: 78.66 | O38: 1.57 | P38: 0.05
A39: 10 | B39: ФССЦ-103-2405 | C39: Трубы гибкие гофрированные из самозатухающего ПВХ-пластиката (ГОСТ Р 50827-95) легкого типа, со стальной протяжкой (зондом), наружным диаметром 25 мм КОЭФ. К ПОЗИЦИИ: Приведение расценок ФЕР к территориальному уровню (Письмо УРЦЦС Ц-297 от 12.04.2011) ОЗП=1,41; ЭМ=1,242; ЗПМ=1,41; МАТ=1,052 | D39: м | E39: 26 | F39: 3.61 | J39: 94
A40: 11 | B40: ТЕРм08-02-409-01 | C40: Труба винипластовая по установленным конструкциям, по стенам и колоннам с креплением скобами, диаметр до 25 мм КОЭФ. К ПОЗИЦИИ: 1.8.3. При производстве работ на высоте св. 2 до 8 м ОЗП=1,05; ТЗ=1,05 | D40: 100 м | E40: 0.26 | F40: 2450.97 | G40: 331.12 | H40: 611.58 | I40: 248.83 | J40: 637 | K40: 86 | L40: 159 | M40: 65 | N40: 24.99 | O40: 6.5 | P40: 15.91 | Q40: 4.14
A41: 12 | B41: ФССЦ-509-1841 | C41: Кабель-канал (короб) "Legrand" 40х16 мм КОЭФ. К ПОЗИЦИИ: Приведение расценок ФЕР к территориальному уровню (Письмо УРЦЦС Ц-297 от 12.04.2011) ОЗП=1,41; ЭМ=1,242; ЗПМ=1,41; МАТ=1,052 | D41: м | E41: 2 | F41: 7.52 | J41: 15
A42: 13 | B42: ФЕРм08-02-390-01 | C42: Короба пластмассовые: шириной до 40 мм КОЭФ. К ПОЗИЦИИ: 1.8.3. При производстве работ на высоте св. 2 до 8 м ОЗП=1,05; ТЗ=1,05; Приведение расценок ФЕР к территориальному уровню (Письмо УРЦЦС Ц-297 от 12.04.2011) ОЗП=1,41; ЭМ=1,242; ЗПМ=1,41; МАТ=1,052 | D42: 100 м | E42: 0.02 | F42: 322.32 | G42: 229.36 | H42: 38.75 | I42: 0.17 | J42: 6 | K42: 5 | L42: 1 | N42: 17.1 | O42: 0.34 | P42: 0.01
A43: Раздел 3. Кабели
A44: 14 | B44: ФССЦ-501-8442 | C44: Кабель силовой с медными жилами с поливинилхлоридной изоляцией и оболочкой, не распространяющий горение марки ВВГнг, напряжением 0,66 кВ, с числом жил - 3 и сечением 1,5 мм2 КОЭФ. К ПОЗИЦИИ: Приведение расценок ФЕР к территориальному уровню (Письмо УРЦЦС Ц-297 от 12.04.2011) ОЗП=1,41; ЭМ=1,242; ЗПМ=1,41; МАТ=1,052 | D44: 1000 м | E44: 0.07 | F44: 3194.61 | J44: 224
A45: 15 | B45: ТЕРм08-02-401-01 | C45: Кабель двух-четырехжильный сечением жилы до 16 мм2 с креплением накладными скобами, полосками с установкой ответвительных коробок | D45: 100 м | E45: 0.32 | F45: 4032.86 | G45: 683.7 | H45: 957.86 | I45: 390.47 | J45: 1291 | K45: 219 | L45: 307 | M45: 125 | N45: 51.6 | O45: 16.51 | P45: 24.95 | Q45: 7.98
...

Sheet СМР
A1: Расчет начальной (максимальной) цены на
A2: выполнение строительно- монтажных работ по реконструкции фасада здания г.Лесной Мамина-Сибиряка, 3 (инв.№4900006).
A4: Наименование глав ССР, объектный сметных расчетов, локальных сметных расчетов, видов прочих работ | B4: Сметная стоимость строительства в базисном уровне цен на 01.01.2000г. по ССР | F4: Остаток сметной стоимости в базисном уровне цен на 01.01.2015 | J4: Сметная стоимость строительства в базисном уровне цен на 01.01.2000г., выставленная на конкурс | N4: Текущая стоимость на момент определения начальной (максимальной) цены | O4: № обосновывающего расчета | P4: 2015 год | S4: 2016 год
B5: Всего | C5: СМР | D5: Оборудование | E5: Прочие | F5: Всего | G5: СМР | H5: Оборудование | I5: Прочие | J5: Всего | K5: СМР | L5: Оборудование | M5: Прочие | P5: СМР | Q5: Оборудование | R5: Прочие | S5: СМР | T5: Оборудование | U5: Прочие
A6: 1 | B6: 2 | C6: 3 | D6: 4 | E6: 5 | F6: 6 | G6: 7 | H6: 8 | I6: 9 | J6: 10 | K6: 11 | L6: 12 | M6: 13 | N6: 14 | O6: 15 | P6: 19 | Q6: 20 | R6: 21 | S6: 19 | T6: 20 | U6: 21
A7: Архитектурно-строительные решения. | B7: =SUM(C7:E7) -> 967082 | C7: ='25205'!J74+'25205'!J75 -> 967082 | D7: 0 | E7: 0 | F7: =SUM(G7:I7) -> 967082 | G7: =C7 -> 967082 | H7: =D7 -> 0 | I7: =E7 -> 0 | J7: =SUM(K7:M7) -> 967082 | K7: =G7 -> 967082 | N7: =SUM(P7:U7) -> 6048924 | O7: 25205 (0154см2) | S7: =ROUND(K7*5.94*1.053,0) -> 6048924
A8: Электрооборудование, электроосвещение | B8: =SUM(C8:E8) -> 9819 | C8: ='25252'!J77+'25252'!J78 -> 9819 | D8: 0 | E8: 0 | F8: =SUM(G8:I8) -> 9819 | G8: =C8 -> 9819 | H8: =D8 -> 0 | I8: =E8 -> 0 | J8: =SUM(K8:M8) -> 9819 | K8: =G8 -> 9819 | N8: =SUM(P8:U8) -> 61416 | O8: 25252 (0154см1) | S8: =ROUND(K8*5.94*1.053,0) -> 61416
A9: Благоустройство территории здания Мимина-Сибиряка 3 (правое крыло). Инв. №4900006. Раздел: водоотвод и гидроизоляция. | B9: =SUM(C9:E9) -> 58332 | C9: 58332 | D9: 0 | E9: 0 | F9: =SUM(G9:I9) -> 58332 | G9: =C9 -> 58332 | J9: =SUM(K9:M9) -> 58332 | K9: =C9 -> 58332 | N9: =SUM(P9:U9) -> 364856 | O9: 25535 (178см110) | S9: =ROUND(K9*5.94*1.053,0) -> 364856
A10: Благоустройство территории здания Мимина-Сибиряка 3 (правое крыло). Инв. №4900006. | B10: =SUM(C10:E10) -> 180790 | C10: 180790 | D10: 0 | F10: =SUM(G10:I10) -> 180790 | G10: =C10 -> 180790 | J10: =SUM(K10:M10) -> 180790 | K10: =G10 -> 180790 | N10: =SUM(P10:U10) -> 1130809 | O10: 25539 (178см111) | S10: =ROUND(K10*5.94*1.053,0) -> 1130809
A11: Реконструкция шиферной кровли и замена деревянных окон на пластиковые, зд. ул. Мамина-Сибиряка №3 инв.№4900006 | B11: =SUM(C11:E11) -> 819701 | C11: 819701 | F11: =SUM(G11:I11) -> 819701 | G11: =C11 -> 819701 | J11: =SUM(K11:M11) -> 819701 | K11: =G11 -> 819701 | N11: =SUM(P11:U11) -> 4869024 | O11: 244гн-15 | P11: =ROUND(K11*5.94,0) -> 4869024
A12: Реконструкция фасада. г. Лесной, ул.Мамина-Сибиряка 3. Инв.№4900006. Раздел: электрооборудование, электроосвещение | B12: =SUM(C12:E12) -> 265 | E12: 265 | F12: =SUM(G12:I12) -> 265 | G12: =C12 -> 0 | I12: =E12 -> 265 | J12: =SUM(K12:M12) -> 265 | K12: =G12 -> 0 | M12: =E12 -> 265 | N12: =U12 -> 2902 | O12: 26043 (178см349) | U12: =ROUND(M12*10.4*1.053,0) -> 2902
A13: Итого в ценах 2000 года: | B13: =SUM(B7:B12) -> 2035989 | C13: =SUM(C7:C12) -> 2035724 | D13: =SUM(D7:D10) -> 0 | E13: =SUM(E12) -> 265 | F13: =SUM(F7:F12) -> 2035989 | G13: =SUM(G7:G12) -> 2035724 | I13: =SUM(I12) -> 265 | J13: =SUM(J7:J12) -> 2035989 | K13: =SUM(K7:K12) -> 2035724 | L13: =SUM(L7:L10) -> 0 | M13: =SUM(M12) -> 265 | N13: =SUM(P13:U13) -> 12477931 | P13: =SUM(P7:P11) -> 4869024 | S13: =SUM(S7:S11) -> 7606005 | U13: =SUM(U12) -> 2902
A14: НДС 18% | N14: =SUM(P14:U14) -> 2246027.6 | P14: =ROUND(P13*18%,2) -> 876424.32 | S14: =ROUND(S13*18%,2) -> 1369080.9 | U14: =ROUND(U13*18%,2) -> 522.36
A15: Всего: | N15: =SUM(P15:U15) -> 14723959 | P15: =SUM(P13:P14) -> 5745448.3 | S15: =SUM(S13:S14) -> 8975085.9 | U15: =SUM(U13:U14) -> 3424.36
A17: * В расчете использованы индексы:
A18: - 5,94 индекс изменения сметной стоимости СМР к ТЕР 2001 (письмо Минстроя России от 13.08.2015 года № 25760-ЮР/08 приложение 1, прочие объекты)
A19: - 10,40 индекс изменения сметной стоимости Прочих затрат к ТЕР 2001 (письмо Минстроя России от 13.08.2015 года № 25760-ЮР/08 приложение 1, пусконаладочные работы)
A20: ** В расчете использован индекс-дефлятор по инвестициям в основной капитал 2016/2015 - 1,053 по письму Госкорпорации "Росатом" от 09.09.2014 № 1-12.8/34083
A22: И.о. начальника отдела капитального строительства
A23: ФГУП "Комбинат "Электрохимприбор" | H23: С.С. Батаев
A25: Инженер по проектно-сметной работе | H25: Н.А. Басова
A27: Согласовано | H27: отд. 028

Sheet НМЦ договора
A5: Определение начальной (максимальной) цены договора генерального подряда
A6: на выполнение строительно- монтажных работ по реконструкции фасада здания г. Лесной Мамина-Сибиряка, 3 (инв.№4900006).
A7: на 2015, 2016 год
A9: Способ закупки: открытый запрос предложений
F10: ц.2000г./текущие цены, руб.
A11: Наименование услуг и работ (затрат) | C11: Сметная стоимость строительства в базисном уровне цен на 01.01.2000 г. | D11: Сметная стоимость строительства в текущем уровне цен, пресчитанная на момент проведения процедуры закупки | F11: Начальная (максимальная) цена | G11: в том числе по годам строительства | H11: в том числе по годам строительства
G14: 2015 г. | H14: 2016 г.
A18: 1 | C18: 2 | D18: 3 | F18: 4 | G18: 5 | H18: 5
A19: СМР | C19: =СМР!G13 -> 2035724 | D19: =СМР!P13+СМР!S13 -> 12475029 | F19: =D19 -> 12475029 | G19: =СМР!P13 -> 4869024 | H19: =СМР!S13 -> 7606005
A20: Оборудование | C20: 0 | D20: 0 | F20: =G20 -> 0 | G20: 0 | H20: 0
A21: Прочие затраты | C21: =СМР!I13 -> 265 | D21: =СМР!U13 -> 2902 | F21: =G21+H21 -> 2902 | G21: 0 | H21: =СМР!U13 -> 2902
A22: Всего: | C22: =SUM(C19:C21) -> 2035989 | D22: =SUM(D19:E21) -> 12477931 | F22: =SUM(F19:F21) -> 12477931 | G22: =SUM(G19:G21) -> 4869024 | H22: =SUM(H19:H21) -> 7608907
A23: НДС | D23: =СМР!P14+СМР!S14+СМР!U14 -> 2246027.6 | F23: =D23 -> 2246027.6 | G23: =СМР!P14 -> 876424.32 | H23: =СМР!S14+СМР!U14 -> 1369603.3
A24: Итого с НДС | D24: =SUM(D22:E23) -> 14723959 | F24: =SUM(F22:F23) -> 14723959 | G24: =SUM(G22:G23) -> 5745448.3 | H24: =SUM(H22:H23) -> 8978510.3
A26: В расчете использованы индексы:
A28: - 5,94 индекс изменения сметной стоимости СМР к ТЕР 2001 (письмо Минстроя России от 13.08.2015 года № 25760-ЮР/08 приложение 1, прочие объекты) - 10,40 индекс изменения сметной стоимости Прочих затрат к ТЕР 2001 (письмо Минстроя России от 13.08.2015 года № 25760-ЮР/08 приложение 1, пусконаладочные работы) ** В расчете использован индекс-дефлятор по инвестициям в основной капитал 2016/2015 - 1,053 по письму Госкорпорации "Росатом" от 09.09.2014 № 1-12.8/34083
A30: И.о. начальника отдела капитального строительства
A31: ФГУП "Комбинат "Электрохимприбор" | G31: С.С. Батаев
A33: Инженер по проектно-сметной работе | G33: Н.А. Басова
A35: Согласовано | G35: отд. 028

Sheet 25539
A1: СОГЛАСОВАНО: | E1: ФГУП "Комбинат "Электрохимприбор" | M1: УТВЕРЖДАЮ:
G2: (наименование стройки) | M2: Зам.генерального директора
A3: _________________ | N3: Е.В. Гордеев
A4: " _____ " ________________ 2014 г. | M4: __________________
M5: "______ " __________2014 г.
H7: ЛОКАЛЬНЫЙ СМЕТНЫЙ РАСЧЕТ №25539
H8: (локальная смета)
C10: на | D10: благоустройство территории Мамина-Сибиряка 3 (правое крыло). Инв.№4900006
H11: (наименование работ и затрат, наименование объекта)
D13: Основание: Проект №24949-14-ГП, изм.№52-14
D14: Сметная стоимость строительных работ _______________________________________________________________________________________________ | J14: ___________________________180,790 | L14: тыс. руб.
D15: Средства на оплату труда _______________________________________________________________________________________________ | J15: ___________________________11,553 | L15: тыс. руб.
D16: Сметная трудоемкость _______________________________________________________________________________________________ | J16: _______________________________________________________________________________________________627,02 | L16: чел.час
D17: Материалы________________________________________________134,414 | L17: тыс. руб.
D18: Составлен(а) в базовых ценах 2001г. в редакции 2009г.
A20: № пп | B20: Обосно- вание | C20: Наименование | D20: Ед. изм. | E20: Кол. | F20: Стоимость единицы, руб. | J20: Общая стоимость, руб. | N20: Т/з осн. раб.на ед. | O20: Т/з осн. раб. Всего | P20: Т/з мех. на ед. | Q20: Т/з мех. Всего
F21: Всего | G21: В том числе | J21: Всего | K21: В том числе
G22: Осн.З/п | H22: Эк.Маш | I22: З/пМех | K22: Осн.З/п | L22: Эк.Маш | M22: З/пМех
A23: 1 | B23: 2 | C23: 3 | D23: 4 | E23: 5 | F23: 6 | G23: 7 | H23: 8 | I23: 9 | J23: 10 | K23: 11 | L23: 12 | M23: 13 | N23: 14 | O23: 15 | P23: 16 | Q23: 17
A24: Раздел 1. Разборка конструкций
A25: 1 | B25: ТЕР27-03-010-02 | C25: Разборка бортовых камней на щебеночном основании (Демонтаж (разборка) сборных бетонных и железобетонных конструкций ОЗП=0,8; ЭМ=0,8 к расх.; ЗПМ=0,8; МАТ=0 к расх.; ТЗ=0,8; ТЗМ=0,8) | D25: 100 м | E25: 0,94 94/100 | F25: 510.31 | G25: 510.31 | J25: 480 | K25: 480 | N25: 45.2 | O25: 42.49
A26: 2 | B26: ТЕР27-03-008-04 | C26: Разборка покрытий и оснований асфальтобетонных (Демонтаж (разборка) сборных бетонных и железобетонных конструкций ОЗП=0,8; ЭМ=0,8 к расх.; ЗПМ=0,8; МАТ=0 к расх.; ТЗ=0,8; ТЗМ=0,8) | D26: 100 м3 конструкций | E26: 0,164 (328*0,05)/100 | F26: 7839 | G26: 1684.37 | H26: 6154.63 | I26: 573.48 | J26: 1286 | K26: 276 | L26: 1010 | M26: 94 | N26: 143.84 | O26: 23.59 | P26: 36.504 | Q26: 5.99
A27: 3 | B27: ТЕРр68-13-2 | C27: Разборка асфальтобетонных покрытий тротуаров толщиной до 4 см с помощью молотков отбойных пневматических | D27: 1000 м2 | E27: 0,058 (50+8)/1000 | F27: 3523.25 | G27: 676.37 | H27: 2846.88 | I27: 212.74 | J27: 204 | K27: 39 | L27: 165 | M27: 12 | N27: 57.76 | O27: 3.35 | P27: 15.7 | Q27: 0.91
A28: 4 | B28: ТЕРр68-3-4 | C28: Валка деревьев в городских условиях диаметром более 300 мм | D28: 1 складочный м3 кряжей | E28: 2,49 0,83*3 | F28: 103.59 | G28: 72.16 | H28: 31.43 | J28: 258 | K28: 180 | L28: 78 | N28: 6.11 | O28: 15.21
A29: 5 | B29: ФССЦпг01-01-01-041 | C29: Погрузочные работы при автомобильных перевозках: мусора строительного с погрузкой вручную (ОП п.1.1.9 Прил.1Поясной коэффициент:Свердловская область ПЗ=1,1 (ОЗП=1,1; ЭМ=1,1; ЗПМ=1,1; МАТ=1,1)) | D29: 1 т груза | E29: 48,6 (0,126*32*2,4)+(16,4+2,3)*2+2,5*0,6 | F29: 47.28 | G29: 47.28 | J29: 2298 | K29: 2298
A30: 6 | B30: ФССЦпг03-21-01-015 | C30: Перевозка грузов автомобилями-самосвалами грузоподъемностью 10 т, работающих вне карьера, на расстояние: до 15 км I класс груза (ОП п.1.1.9Поясные коэффициенты к сметным ценам на перевозку грузов автомобильным транспортом: Свердловская область ПЗ=1,1 (ОЗП=1,1; ЭМ=1,1; ЗПМ=1,1; МАТ=1,1)) | D30: 1 т груза | E30: 48,6 (0,126*32*2,4)+(16,4+2,3)*2+2,5*0,6 | F30: 14.72 | H30: 14.72 | J30: 715 | L30: 715
A31: Итого прямые затраты по разделу в ценах 2001г. | J31: 5241 | K31: 3273 | L31: 1968 | M31: 106 | O31: 84.64 | Q31: 6.9
A32: Итого прямые затраты по разделу с учетом коэффициентов к итогам | J32: 5728 | K32: 3566 | L32: 2162 | M32: 128 | O32: 97.33 | Q32: 7.94
A33: Накладные расходы | J33: 1736
A34: Сметная прибыль | J34: 1135
A35: Итого по разделу 1 Разборка конструкций | J35: 8599 | O35: 97.33 | Q35: 7.94
A36: Раздел 2. Устройство автодороги
A37: 7 | B37: ТЕР01-01-009-08 | C37: Разработка грунта в траншеях экскаватором «обратная лопата» с ковшом вместимостью 0,65 (0,5-1) м3, группа грунтов 2 | D37: 1000 м3 грунта | E37: 0,0228 22,8*1/1000 | F37: 4496.6 | H37: 4496.6 | I37: 472.91 | J37: 103 | L37: 103 | M37: 11 | P37: 27.95 | Q37: 0.64
A38: 8 | B38: ТЕР22-01-011-03 | C38: Укладка стальных водопроводных труб диаметром 100 мм | D38: 1 км трубопровода | E38: 0,181 181/1000 | F38: 102266.83 | G38: 5150.27 | H38: 4754.2 | I38: 605.7 | J38: 18510 | K38: 932 | L38: 861 | M38: 110 | N38: 353 | O38: 63.89 | P38: 41.26 | Q38: 7.47
A39: 9 | B39: ТЕР01-01-033-05 | C39: Засыпка траншей и котлованов с перемещением грунта до 5 м бульдозерами мощностью 79 кВт (108 л.с.), группа грунтов 2 | D39: 1000 м3 грунта | E39: 0,0225 22,5*1/1000 | F39: 445.76 | H39: 445.76 | I39: 70.73 | J39: 10 | L39: 10 | M39: 2 | P39: 4.18 | Q39: 0.09
A40: 10 | B40: ТЕРр66-22-1 | C40: Восстановление кладки горловин колодцев: снятие крышки и крепления обоймы; разборка кирпичной кладки горловины; новая кладка горловины из кирпича; установка и закрепление обоймы с заделкой обоймы бетоном и установкой крышки. 276,36 = 905,14 - 1 x 611,67 - 0,017 x 1 006,39 | D40: 1 люк | E40: 4 | F40: 276.36 | G40: 54.41 | H40: 10.92 | J40: 1105 | K40: 218 | L40: 44 | N40: 4.53 | O40: 18.12
A41: 11 | B41: ТСЦ-404-0005 | C41: Кирпич керамический одинарный, размером 250х120х65 мм, марка 100 | D41: 1000 шт. | E41: 0,076 0,019*4 | F41: 1006.39 | J41: 76
A42: 12 | B42: ТЕР27-04-006-01прим. | C42: Устройство оснований толщиной 15 см из щебня фракции 10-20 мм при укатке каменных материалов с пределом прочности на сжатие свыше 68,6 до 98,1 МПа (свыше 700 до 1000 кгс/см2) однослойных | D42: 1000 м2 основания | E42: 0,113 113/1000 | F42: 31210.59 | G42: 425.41 | H42: 4994.84 | I42: 695.53 | J42: 3527 | K42: 48 | L42: 564 | M42: 79 | N42: 36.96 | O42: 4.18 | P42: 41.95 | Q42: 4.74
A43: 13 | B43: ТЕР27-04-006-04 | C43: На каждый 1 см изменения толщины слоя добавлять или исключать к расценке 27-04-006-01 (Поправка на толщ., всего толщ.4см ПЗ=11 (ОЗП=11; ЭМ=11 к расх.; ЗПМ=11; МАТ=11 к расх.; ТЗ=11; ТЗМ=11)) | D43: 1000 м2 основания | E43: -0,113 -113/1000 | F43: 19966.98 | H43: 2737.57 | I43: 442.86 | J43: -2256 | L43: -309 | M43: -50 | P43: 27.61 | Q43: -3.12
A44: 14 | B44: ТЕР27-06-001-03 | C44: Устройство дорожных покрытий из сборных прямоугольных железобетонных плит площадью до 10,5 м2 | D44: 100 м3 | E44: 0,2025 25*0,81/100 | F44: 15092.14 | G44: 1848.64 | H44: 9786.17 | I44: 853.26 | J44: 3056 | K44: 374 | L44: 1982 | M44: 173 | N44: 139.52 | O44: 28.25 | P44: 49.84 | Q44: 10.09
...

Sheet 25535
A1: СОГЛАСОВАНО: | E1: ФГУП "Комбинат "Электрохимприбор" | M1: УТВЕРЖДАЮ:
G2: (наименование стройки) | M2: Зам.генерального директора
A3: _________________ | N3: Е.В. Гордеев
A4: " _____ " ________________ 2014 г. | M4: __________________
M5: "______ " __________2014 г.
H7: ЛОКАЛЬНЫЙ СМЕТНЫЙ РАСЧЕТ №25535
H8: (локальная смета)
C10: на | D10: благоустройство территории здания Мамина-Сибиряка 3 (правое крыло).
D11: Инв.№4900006 Раздел: водоотвод и гидроизоляция.
D13: Основание: Проект №24949-14-ГП, изм.№52-14
D14: Сметная стоимость строительных работ _______________________________________________________________________________________________ | J14: ___________________________58,332 | L14: тыс. руб.
D15: Средства на оплату труда _______________________________________________________________________________________________ | J15: ___________________________3,411 | L15: тыс. руб.
D16: Сметная трудоемкость _______________________________________________________________________________________________ | J16: _______________________________________________________________________________________________197,33 | L16: чел.час
D17: Материалы__________________________________________________44,726 | L17: тыс. руб.
D18: Составлен(а) в базовых ценах 2001г. в редакции 2009г.
A20: № пп | B20: Обосно- вание | C20: Наименование | D20: Ед. изм. | E20: Кол. | F20: Стоимость единицы, руб. | J20: Общая стоимость, руб. | N20: Т/з осн. раб.на ед. | O20: Т/з осн. раб. Всего | P20: Т/з мех. на ед. | Q20: Т/з мех. Всего
F21: Всего | G21: В том числе | J21: Всего | K21: В том числе
G22: Осн.З/п | H22: Эк.Маш | I22: З/пМех | K22: Осн.З/п | L22: Эк.Маш | M22: З/пМех
A23: 1 | B23: 2 | C23: 3 | D23: 4 | E23: 5 | F23: 6 | G23: 7 | H23: 8 | I23: 9 | J23: 10 | K23: 11 | L23: 12 | M23: 13 | N23: 14 | O23: 15 | P23: 16 | Q23: 17
A24: Раздел 1. Устройство водоотвода
A25: 1 | B25: ТЕР01-01-009-08 | C25: Разработка грунта в траншеях экскаватором «обратная лопата» с ковшом вместимостью 0,65 (0,5-1) м3, группа грунтов 2 | D25: 1000 м3 грунта | E25: 0,006 6/1000 | F25: 4496.6 | H25: 4496.6 | I25: 472.91 | J25: 27 | L25: 27 | M25: 3 | P25: 27.95 | Q25: 0.17
A26: 2 | B26: ТЕР27-04-001-01 | C26: Устройство подстилающих и выравнивающих слоев оснований | D26: 100 м3 | E26: 0,01 1/100 | F26: 2575.64 | G26: 177.48 | H26: 2373.76 | I26: 232.49 | J26: 26 | K26: 2 | L26: 24 | M26: 2 | N26: 15.72 | O26: 0.16 | P26: 13.88 | Q26: 0.14
A27: 3 | B27: ТСЦ-407-0028 | C27: Смесь пескоцементная | D27: м3 | E27: 1,1 1*1,1 | F27: 207.43 | J27: 228
A28: 4 | B28: ФЕР11-01-050-01 | C28: Устройство пароизоляции из полиэтиленовой пленки в один слой насухо (Поправка на кол-во слоев (2 слоя) ПЗ=2 (ОЗП=2; ЭМ=2 к расх.; ЗПМ=2; МАТ=2 к расх.; ТЗ=2; ТЗМ=2); Приведение расценок ФЕР к территориальному уровню Свердловской области (Межрегиональный сборник к-тов пересчета сметной стоимости СМР по субъектам РФ, выпуск №3) ОЗП=1,41; ЭМ=1,242; ЗПМ=1,41; МАТ=1,052) | D28: 100 м2 поверхности | E28: 0,18 18/100 | F28: 3226.61 | G28: 82.99 | H28: 4.32 | J28: 581 | K28: 15 | L28: 1 | N28: 6.9 | O28: 1.24
A29: 5 | B29: ТЕР06-01-005-01 | C29: Устройство бетонных фундаментов общего назначения объемом до 5 м3 (бетонная обойма) 14 027,20 = 68 858,32 - 102 x 537,56 | D29: 100 м3 | E29: 0,04 4/100 | F29: 14027.2 | G29: 5255.64 | H29: 4236.84 | I29: 628.66 | J29: 561 | K29: 210 | L29: 169 | M29: 25 | N29: 441.28 | O29: 17.65 | P29: 34.58 | Q29: 1.38
A30: 6 | B30: ТСЦ-401-0069 | C30: Бетон тяжелый, крупность заполнителя 20 мм, класс В25 (М350) | D30: м3 | E30: 4.08 | F30: 660.86 | J30: 2696
A31: 7 | B31: ТЕР06-01-005-08 | C31: Дополнительные затраты на устройство сложных фундаментов | D31: 100 м3 | E31: 0,04 4/100 | F31: 4364.15 | G31: 2573.81 | H31: 686.94 | I31: 82.31 | J31: 175 | K31: 103 | L31: 27 | M31: 3 | N31: 194.25 | O31: 7.77 | P31: 4.56 | Q31: 0.18
A32: 8 | B32: ТЕР27-02-010-01Прим. | C32: Установка лотков 1 157,32 = 3 353,64 - 3,9 x 563,16 | D32: 100 м бортового камня | E32: 0,415 41,5/100 | F32: 1157.32 | G32: 906.11 | H32: 91.05 | I32: 12.38 | J32: 480 | K32: 376 | L32: 38 | M32: 5 | N32: 76.08 | O32: 31.57 | P32: 0.68 | Q32: 0.28
A33: 9 | B33: П/л 11.12.2014г. лист 1 | C33: Лоток ЛВ-20.24,6.12 водоотводный полимербетонный (габаритные размеры 1000х246х120) | D33: шт. | E33: 42 | F33: 311,67 2100/1,18/5,71 | J33: 13090
A34: 10 | B34: ТЕР07-05-039-07 | C34: Устройство герметизации горизонтальных и вертикальных стыков стеновых панелей мастикой герметизирующей нетвердеющей | D34: 100 м шва | E34: 0,103 0,246*42/100 | F34: 2930.61 | G34: 257.26 | H34: 1266.84 | I34: 105.12 | J34: 302 | K34: 26 | L34: 130 | M34: 11 | N34: 20.13 | O34: 2.07 | P34: 6.73 | Q34: 0.69
A35: 11 | B35: ТЕР23-04-011-01Прим. | C35: Установка водоприемной решетки (щелевой чугунной) РВ-20.24.50 24,06 = 635,73 - 1 x 611,67 | D35: 1 шт. | E35: 3 | F35: 24.06 | G35: 15.94 | H35: 7.64 | J35: 72 | K35: 48 | L35: 23 | N35: 1.31 | O35: 3.93
A36: 12 | B36: П/л 11.12.2014г. лист 1 | C36: Решетка водоприемная РВ-20.24.50 щелевая чугунная ВЧ, кл.С250 (габаритные размеры 500х237х24) | D36: шт. | E36: 3 | F36: 121,7 820/1,18/5,71 | J36: 365
A37: Итого прямые затраты по разделу в ценах 2001г. | J37: 18603 | K37: 780 | L37: 439 | M37: 49 | O37: 64.39 | Q37: 2.84
A38: Итого прямые затраты по разделу с учетом коэффициентов к итогам | J38: 19094 | K38: 935 | L38: 506 | M38: 57 | O38: 74.05 | Q38: 3.26
A39: Накладные расходы | J39: 1251
A40: Сметная прибыль | J40: 815
A41: Итого по разделу 1 Устройство водоотвода | J41: 21160 | O41: 74.05 | Q41: 3.26
A42: Раздел 2. Устройство подпорной стенки
A43: 13 | B43: ТЕР01-02-005-01 | C43: Уплотнение грунта пневматическими трамбовками, группа грунтов 1-2 | D43: 100 м3 уплотненного грунта | E43: 0,018 18*0,1/100 | F43: 604.71 | G43: 150.49 | H43: 454.22 | I43: 47.48 | J43: 11 | K43: 3 | L43: 8 | M43: 1 | N43: 12.53 | O43: 0.23 | P43: 3.04 | Q43: 0.05
A44: 14 | B44: ТЕР27-06-018-01 | C44: Устройство покрытия из черного щебня толщиной 6 см с плотностью каменных материалов 2,5-2,9 т/м3 (Поправка на толщину: всего толщ.80мм ПЗ=1,3 (ОЗП=1,3; ЭМ=1,3 к расх.; ЗПМ=1,3; МАТ=1,3 к расх.; ТЗ=1,3; ТЗМ=1,3)) | D44: 1000 м2 | E44: 0,018 18/1000 | F44: 79196.53 | G44: 953.13 | H44: 5808.96 | I44: 500.18 | J44: 1426 | K44: 17 | L44: 105 | M44: 9 | N44: 73.658 | O44: 1.33 | P44: 29.614 | Q44: 0.53
...
