Workbook

Sheet Смета 12 гр. по ФЕР
A1: =Source!B1 -> Smeta.RU (495) 974-1589
I2: Приложение 1 к ФОРМЕ 7
B4: =CONCATENATE( "ЛОКАЛЬНАЯ СМЕТА",IF(Source!F20<>"Новая локальная смета", Source!F20, "")) -> ЛОКАЛЬНАЯ СМЕТА
B6: =IF(Source!G12<>"Новый объект", Source!G12, "") -> Капитальный ремонт входной группы, лестницы "А", лестницы "Б" с цокольного по технический этаж, коридора цокольного этажа, вестибюля, коридора "1в", помещения в осях 1-1/А-Б первого этажа лабораторного корпуса "Д" НИЯУ МИФИ по адресу: г. Москва. Каширское шоссе, д.31, стр.17 | AD6: =IF(Source!G12<>"Новый объект", Source!G12, "") -> Капитальный ремонт входной группы, лестницы "А", лестницы "Б" с цокольного по технический этаж, коридора цокольного этажа, вестибюля, коридора "1в", помещения в осях 1-1/А-Б первого этажа лабораторного корпуса "Д" НИЯУ МИФИ по адресу: г. Москва. Каширское шоссе, д.31, стр.17
B7: (наименование работ и затрат, наименование объекта)
G9: базовая цена | I9: текущая цена
C10: Сметная стоимость | G10: =SUM(O20:O1705)/1000 -> 539.21575 | I10: =(Source!P938/1000) -> 4161.3425 | K10: тыс. руб.
C11: Строительные работы | G11: =SUM(W20:W1705)/1000 -> 515.1152 | I11: =(Source!P925)/1000 -> 515.33735 | K11: тыс. руб.
C12: Монтажные работы | G12: =SUM(X20:X1705)/1000 -> 23.77328 | I12: =(Source!P926)/1000 -> 23.77328 | K12: тыс. руб.
C13: Прочие работы | G13: =SUM(Z20:Z1705)/1000 -> 0.32727 | I13: =(Source!P927+Source!P928)/1000 -> 0.32727 | K13: тыс. руб.
C14: Нормативная трудоемкость | G14: =I14 -> 5941.39 | I14: =(Source!P930+Source!P931) -> 5941.39 | K14: чел. -ч.
C15: Средства на оплату труда | G15: =SUM(R20:R1705)/1000 -> 54.05545 | I15: =((Source!P923 + Source!P922)/1000) -> 54.05545 | K15: тыс. руб.
A17: Составлена в ценах январь 2000 года
A18: № п/п | B18: Шифр расценки и коды ресурсов | C18: Наименование работ и затрат | D18: Ед. изм. | E18: Кол-во единиц | F18: Цена на ед. изм. | G18: Попра-вочные коэфф. | H18: Стоимость в ценах 2001г. | I18: Пункт коэфф. пересчета | J18: Коэфф. пересчета | K18: Стоимость в текущих ценах | L18: ЗТР всего чел.-час
A19: 1 | B19: 2 | C19: 3 | D19: 4 | E19: 5 | F19: 6 | G19: 7 | H19: 8 | I19: 9 | J19: 10 | K19: 11 | L19: 12
A21: =CONCATENATE("Раздел: ",IF(Source!G24<>"Новый раздел", Source!G24, "")) -> Раздел: Крыльцо
A22: =Source!E29 -> 1 | B22: =Source!F29 -> 15-01-039-01 | C22: =Source!G29 -> Разборка цельных гранитных ступеней толщиной 150 мм для последующей установки | D22: =Source!H29 -> 100 м | E22: =Source!I29 -> 0.2573 | F22: =Source!AL29+Source!AM29+Source!AO29 -> 14557.96 | I22: =Source!BO29 | S22: =ROUND((Source!FX29/100)*((ROUND(Source!AF29*Source!I29, 2)+ROUND(Source!AE29*Source!I29, 2))), 2) -> 1652.94 | T22: =Source!X29 -> 1661.68 | U22: =ROUND((Source!FY29/100)*((ROUND(Source!AF29*Source!I29, 2)+ROUND(Source!AE29*Source!I29, 2))), 2) -> 817.72 | V22: =Source!Y29 -> 822.1
C23: ="Объем: "&Source!I29&"=25,73/"&"100" -> Объем: 0,2573=25,73/100
C24: Зарплата | F24: =Source!AO29 -> 8410.03 | G24: =Source!DG29 -> )*0,8 | H24: =ROUND(Source!AF29*Source!I29, 2) -> 1731.12 | J24: =IF(Source!BA29<> 0, Source!BA29, 1) -> 1 | K24: =Source!S29 -> 1731.12 | R24: =H24 -> 1731.12
C25: Эксплуатация машин | F25: =Source!AM29 -> 282.73 | G25: =Source!DE29 -> )*0,8 | H25: =ROUND(Source!AD29*Source!I29, 2) -> 58.2 | J25: =IF(Source!BB29<> 0, Source!BB29, 1) -> 1 | K25: =Source!Q29 -> 58.2
C26: в т.ч. зарплата машинистов | F26: =Source!AN29 -> 87.54 | G26: =Source!DF29 -> )*0,8 | H26: =ROUND(Source!AE29*Source!I29, 2) -> 18.02 | J26: =IF(Source!BS29<> 0, Source!BS29, 1) -> 1 | K26: =Source!R29 -> 18.02 | R26: =H26 -> 18.02
C27: НР от ФОТ | D27: % | E27: =Source!BZ29 -> 105 | F27: =CONCATENATE(" )", Source!DL29, Source!FT29, "=", Source!FX29) -> )*0,9=94,5 | H27: =SUM(S22:S29) -> 1652.94 | J27: =Source!AT29 -> 95 | K27: =SUM(T22:T29) -> 1661.68
C28: СП от ФОТ | D28: % | E28: =Source!CA29 -> 55 | F28: =CONCATENATE(" )", Source!DM29, Source!FU29, "=", Source!FY29) -> )*0,85=46,75 | H28: =SUM(U22:U29) -> 817.72 | J28: =Source!AU29 -> 47 | K28: =SUM(V22:V29) -> 822.1
C29: Затраты труда | D29: чел-ч | E29: =Source!AQ29 -> 734.5 | G29: =Source!DI29 -> )*0,8 | L29: =Source!U29 -> 151.18948
G30: =H24+H25+H27+H28 -> 4259.98 | J30: =K24+K25+K27+K28 -> 4273.1 | L30: =Source!U29 -> 151.18948 | O30: =G30 -> 4259.98 | P30: =J30 -> 4273.1 | Q30: =L30 -> 151.18948 | W30: =IF(Source!BI29<=1,H24+H25+H27+H28, 0) -> 4259.98 | X30: =IF(Source!BI29=2,H24+H25+H27+H28, 0) -> 0 | Y30: =IF(Source!BI29=3,H24+H25+H27+H28, 0) -> 0 | Z30: =IF(Source!BI29=4,H24+H25+H27+H28, 0) -> 0
A31: =Source!E31 -> 2 | B31: =Source!F31 -> 46-02-009-02 | C31: =Source!G31 -> Отбивка штукатурки с поверхностей стен кирпичных | D31: =Source!H31 -> 100 м2 | E31: =Source!I31 -> 0.108 | F31: =Source!AL31+Source!AM31+Source!AO31 -> 178 | I31: =Source!BO31 | S31: =ROUND((Source!FX31/100)*((ROUND(Source!AF31*Source!I31, 2)+ROUND(Source!AE31*Source!I31, 2))), 2) -> 19.03 | T31: =Source!X31 -> 19.03 | U31: =ROUND((Source!FY31/100)*((ROUND(Source!AF31*Source!I31, 2)+ROUND(Source!AE31*Source!I31, 2))), 2) -> 11.44 | V31: =Source!Y31 -> 11.53
C32: ="Объем: "&Source!I31&"=10,8/"&"100" -> Объем: 0,108=10,8/100
C33: Зарплата | F33: =Source!AO31 -> 178 | G33: =Source!DG31 | H33: =ROUND(Source!AF31*Source!I31, 2) -> 19.22 | J33: =IF(Source!BA31<> 0, Source!BA31, 1) -> 1 | K33: =Source!S31 -> 19.22 | R33: =H33 -> 19.22
C34: НР от ФОТ | D34: % | E34: =Source!BZ31 -> 110 | F34: =CONCATENATE(" )", Source!DL31, Source!FT31, "=", Source!FX31) -> )*0,9=99 | H34: =SUM(S31:S36) -> 19.03 | J34: =Source!AT31 -> 99 | K34: =SUM(T31:T36) -> 19.03
C35: СП от ФОТ | D35: % | E35: =Source!CA31 -> 70 | F35: =CONCATENATE(" )", Source!DM31, Source!FU31, "=", Source!FY31) -> )*0,85=59,5 | H35: =SUM(U31:U36) -> 11.44 | J35: =Source!AU31 -> 60 | K35: =SUM(V31:V36) -> 11.53
C36: Затраты труда | D36: чел-ч | E36: =Source!AQ31 -> 22.82 | G36: =Source!DI31 | L36: =Source!U31 -> 2.46456
G37: =H33+H34+H35 -> 49.69 | J37: =K33+K34+K35 -> 49.78 | L37: =Source!U31 -> 2.46456 | O37: =G37 -> 49.69 | P37: =J37 -> 49.78 | Q37: =L37 -> 2.46456 | W37: =IF(Source!BI31<=1,H33+H34+H35, 0) -> 49.69 | X37: =IF(Source!BI31=2,H33+H34+H35, 0) -> 0 | Y37: =IF(Source!BI31=3,H33+H34+H35, 0) -> 0 | Z37: =IF(Source!BI31=4,H33+H34+H35, 0) -> 0
A38: =Source!E33 -> 3 | B38: =Source!F33 -> 58-3-1 | C38: =Source!G33 -> Разборка мелких покрытий и обделок из листовой стали поясков, сандриков, желобов, отливов, свесов и т.п. | D38: =Source!H33 -> 100 м | E38: =Source!I33 -> 0.1502 | F38: =Source!AL33+Source!AM33+Source!AO33 -> 71.18 | I38: =Source!BO33 | S38: =ROUND((Source!FX33/100)*((ROUND(Source!AF33*Source!I33, 2)+ROUND(Source!AE33*Source!I33, 2))), 2) -> 8.85 | T38: =Source!X33 -> 8.85 | U38: =ROUND((Source!FY33/100)*((ROUND(Source!AF33*Source!I33, 2)+ROUND(Source!AE33*Source!I33, 2))), 2) -> 6.93 | V38: =Source!Y33 -> 6.93
C39: ="Объем: "&Source!I33&"=15,02/"&"100" -> Объем: 0,1502=15,02/100
C40: Зарплата | F40: =Source!AO33 -> 70.98 | G40: =Source!DG33 | H40: =ROUND(Source!AF33*Source!I33, 2) -> 10.66 | J40: =IF(Source!BA33<> 0, Source!BA33, 1) -> 1 | K40: =Source!S33 -> 10.66 | R40: =H40 -> 10.66
C41: Эксплуатация машин | F41: =Source!AM33 -> 0.2 | G41: =Source!DE33 | H41: =ROUND(Source!AD33*Source!I33, 2) -> 0.03 | J41: =IF(Source!BB33<> 0, Source!BB33, 1) -> 1 | K41: =Source!Q33 -> 0.03
C42: НР от ФОТ | D42: % | E42: =Source!BZ33 -> 83 | H42: =SUM(S38:S45) -> 8.85 | J42: =Source!AT33 -> 83 | K42: =SUM(T38:T45) -> 8.85
C43: СП от ФОТ | D43: % | E43: =Source!CA33 -> 65 | H43: =SUM(U38:U45) -> 6.93 | J43: =Source!AU33 -> 65 | K43: =SUM(V38:V45) -> 6.93
C44: Затраты труда | D44: чел-ч | E44: =Source!AQ33 -> 9.1 | G44: =Source!DI33 | L44: =Source!U33 -> 1.36682
A45: =Source!E35 -> 3,1 | B45: =Source!F35 -> 01.7.07.07 | C45: =Source!G35 -> Строительный мусор | D45: =Source!H35 -> т | E45: =Source!I35 -> 0.018024 | F45: =Source!AL35+Source!AM35+Source!AO35 -> 0 | H45: =ROUND(Source!AC35*Source!I35, 2)+ROUND(Source!AD35*Source!I35, 2)+ROUND(Source!AF35*Source!I35, 2) -> 0 | J45: =IF(Source!BC35<> 0, Source!BC35, 1) -> 1 | K45: =Source!O35 -> 0 | S45: =ROUND((Source!FX35/100)*((ROUND(Source!AF35*Source!I35, 2)+ROUND(Source!AE35*Source!I35, 2))), 2) -> 0 | T45: =Source!X35 -> 0 | U45: =ROUND((Source!FY35/100)*((ROUND(Source!AF35*Source!I35, 2)+ROUND(Source!AE35*Source!I35, 2))), 2) -> 0 | V45: =Source!Y35 -> 0 | W45: =IF(Source!BI35<=1,H45, 0) -> 0 | X45: =IF(Source!BI35=2,H45, 0) -> 0 | Y45: =IF(Source!BI35=3,H45, 0) -> 0 | Z45: =IF(Source!BI35=4,H45, 0) -> 0
...

Sheet Source
A1: 0 | B1: Smeta.RU (495) 974-1589 | D1: _PS_ | F1: 0 | G1: 0 | H1: 0 | I1: Smeta.RU | J1: НИЯУ МИФИ Доп. раб. место MCCS-0016187 | K1: 0 | L1: 16187 | M1: 10
A12: 1 | B12: 1001 | C12: 0 | D12: =ROW(A940) -> 940 | E12: 0 | F12: Новый объект 3 | G12: Капитальный ремонт входной группы, лестницы "А", лестницы "Б" с цокольного по технический этаж, коридора цокольного этажа, вестибюля, коридора "1в", помещения в осях 1-1/А-Б первого этажа лабораторного корпуса "Д" НИЯУ МИФИ по адресу: г. Москва. Каширское шоссе, д.31, стр.17 | I12: 0 | K12: 0 | O12: 0 | P12: 0 | Q12: 0 | R12: 0 | S12: 0 | V12: 0 | BH12: Сметные нормы списания | BI12: Коды ценников | BJ12: 1 | BK12: 1 | BL12: 0 | BM12: 0 | BN12: 1 | BO12: 0 | BP12: 2 | BQ12: 2 | BR12: 1 | BS12: 1 | BT12: 0 | BU12: 0 | BV12: 0 | BW12: 0 | BX12: 0 | BY12: ФЕР-2017 | BZ12: ТР для Версии 10: Центральные регионы (с учетом п-ма 2536-ИП/12/ГС от 22.03.2017 г | CA12: ФЕР-2017 | CB12: ФЕР-2017 | CC12: ФЕР-2017 | CD12: ФЕР-2017 | CE12: Поправки для ГСН 2017 от 31.03.2017 г | CF12: 0 | CG12: 0 | CH12: 524288 | CK12: 4 | EC12: 0
A15: 15 | B15: 1
A18: 52 | B18: =B940 -> 1001 | C18: =C940 -> 1 | D18: =D940 -> 12 | E18: =E940 -> 0 | F18: =F940 -> Новый объект 3 | G18: =G940 -> Капитальный ремонт входной группы, лестницы "А", лестницы "Б" с цокольного по технический этаж, коридора цокольного этажа, вестибюля, коридора "1в", помещения в осях 1-1/А-Б первого этажа лабораторного корпуса "Д" НИЯУ МИФИ по адресу: г. Москва. Каширское шоссе, д.31, стр.17 | O18: =O940 -> 451516.07 | P18: =P940 -> 389079.28 | Q18: =Q940 -> 9921.38 | R18: =R940 -> 1540.04 | S18: =S940 -> 52515.41 | T18: =T940 -> 0 | U18: =U940 -> 5815.5784 | V18: =V940 -> 125.8071 | ... GX18: =GX940 -> 0
A20: 3 | B20: 1 | D20: =ROW(A908) -> 908 | F20: Новая локальная смета | G20: Новая локальная смета | I20: 0 | K20: 0 | V20: 0 | BX20: 0 | CF20: 0 | CG20: 0
A22: 52 | B22: =B908 -> 1 | C22: =C908 -> 3 | D22: =D908 -> 20 | E22: =E908 -> 0 | F22: =F908 -> Новая локальная смета | G22: =G908 -> Новая локальная смета | O22: =O908 -> 451516.07 | P22: =P908 -> 389079.28 | Q22: =Q908 -> 9921.38 | R22: =R908 -> 1540.04 | S22: =S908 -> 52515.41 | T22: =T908 -> 0 | U22: =U908 -> 5815.5784 | V22: =V908 -> 125.8071 | ... GX22: =GX908 -> 0
A24: 4 | B24: 1 | D24: =ROW(A135) -> 135 | F24: Новый раздел | G24: Крыльцо | I24: 0 | K24: 0 | V24: 0 | BX24: 0 | CJ24: 0
A26: 52 | B26: =B135 -> 1 | C26: =C135 -> 4 | D26: =D135 -> 24 | E26: =E135 -> 0 | F26: =F135 -> Новый раздел | G26: =G135 -> Крыльцо | O26: =O135 -> 58589.05 | P26: =P135 -> 49298.36 | Q26: =Q135 -> 1400 | R26: =R135 -> 183.87 | S26: =S135 -> 7890.69 | T26: =T135 -> 0 | U26: =U135 -> 786.72057 | V26: =V135 -> 15.69074 | ... GX26: =GX135 -> 0
A28: 17 | B28: 1 | C28: =ROW(SmtRes!A11) -> 11 | D28: =ROW(EtalonRes!A13) -> 13 | E28: 1 | F28: 15-01-039-01 | G28: Разборка цельных гранитных ступеней толщиной 150 мм для последующей установки | H28: 100 м | I28: =ROUND(25.73/100,9) -> 0.2573 | J28: 0 | O28: =ROUND(CP28,2) -> 1789.32 | P28: =ROUND(CQ28*I28,2) -> 0 | Q28: =ROUND(CR28*I28,2) -> 58.2 | R28: =ROUND(CS28*I28,2) -> 18.02 | S28: =ROUND(CT28*I28,2) -> 1731.12 | T28: =ROUND(CU28*I28,2) -> 0 | U28: =CV28*I28 -> 151.18948 | V28: =CW28*I28 -> 1.3976536 | W28: =ROUND(CX28*I28,2) -> 0 | X28: =ROUND(CY28,2) -> 1661.68 | Y28: =ROUND(CZ28,2) -> 822.1 | AA28: 27721505 | AB28: =ROUND((AC28+AD28+AF28),2) -> 6954.2 | AC28: =ROUND(((ES28*0)),2) -> 0 | AD28: =ROUND(((((ET28*0.8))-((EU28*0.8)))+AE28),2) -> 226.18 | AE28: =ROUND(((EU28*0.8)),2) -> 70.03 | AF28: =ROUND(((EV28*0.8)),2) -> 6728.02 | AG28: =ROUND((AP28),2) -> 0 | AH28: =((EW28*0.8)) -> 587.6 | AI28: =((EX28*0.8)) -> 5.432 | AJ28: =ROUND((AS28),2) -> 0 | AK28: 14557.96 | AL28: 5865.2 | AM28: 282.73 | AN28: 87.54 | AO28: 8410.03 | AP28: 0 | AQ28: 734.5 | AR28: 6.79 | AS28: 0 | AT28: 95 | AU28: 47 | AV28: 1 | AW28: 1 | AZ28: 1 | BA28: 1 | BB28: 1 | BC28: 1 | BH28: 0 | BI28: 1 | BJ28: ФЕР-2001, 15-01-039-01, приказ Минстроя России №1039/пр от 30.12.2016г. | BM28: 15001 | BN28: 0 | BP28: 0 | BQ28: 2 | BR28: 0 | BS28: 1 | BT28: 1 | BU28: 1 | BV28: 1 | BW28: 1 | BX28: 1 | BZ28: 105 | CA28: 55 | CF28: 0 | CG28: 0 | CM28: 0 | CN28: Поправка: МДС 81-36.2004, п.3.3.1.а Наименование: При демонтаже (разборке) сборных бетонных и железобетонных конструкций | CO28: 0 | CP28: =(P28+Q28+S28) -> 1789.32 | CQ28: =AC28*BC28 -> 0 | CR28: =AD28*BB28 -> 226.18 | CS28: =AE28*BS28 -> 70.03 | CT28: =AF28*BA28 -> 6728.02 | CU28: =AG28 -> 0 | CV28: =AH28 -> 587.6 | CW28: =AI28 -> 5.432 | CX28: =AJ28 -> 0 | CY28: =(((S28+R28)*AT28)/100) -> 1661.683 | CZ28: =(((S28+R28)*AU28)/100) -> 822.0958 | DD28: )*0 | DE28: )*0,8 | DF28: )*0,8 | DG28: )*0,8 | DI28: )*0,8 | DJ28: )*0,8 | DN28: 0 | DO28: 0 | DP28: 1 | DQ28: 1 | DU28: 1003 | DV28: 100 м | DW28: 100 м | DX28: 100 | EE28: 27029049 | EF28: 2 | EG28: Общестроительные работы | EH28: 0 | EJ28: 1 | EK28: 15001 | EL28: Отделочные работы | EM28: ФЕР-15 | EO28: Поправка: МДС 81-36.2004, п.3.3.1.а | EQ28: 0 | ER28: 14557.96 | ES28: 5865.2 | ET28: 282.73 | EU28: 87.54 | EV28: 8410.03 | EW28: 734.5 | EX28: 6.79 | EY28: 0 | FQ28: 0 | FR28: =ROUND(IF(AND(BH28=3,BI28=3),P28,0),2) -> 0 | FS28: 0 | FT28: *0,9 | FU28: *0,85 | FX28: 94.5 | FY28: 46.75 | GD28: 0 | GF28: -277556662 | GG28: 2 | GH28: 1 | GI28: -2 | GJ28: 0 | GK28: =ROUND(R28*(R12)/100,2) -> 0 | GL28: =ROUND(IF(AND(BH28=3,BI28=3,FS28<>0),P28,0),2) -> 0 | GM28: =ROUND(O28+X28+Y28+GK28,2)+GX28 -> 4273.1 | GN28: =IF(OR(BI28=0,BI28=1),ROUND(O28+X28+Y28+GK28,2),0) -> 4273.1 | GO28: =IF(BI28=2,ROUND(O28+X28+Y28+GK28,2),0) -> 0 | GP28: =IF(BI28=4,ROUND(O28+X28+Y28+GK28,2)+GX28,0) -> 0 | GR28: 0 | GS28: 3 | GT28: 0 | GV28: =ROUND(GT28,2) -> 0 | GW28: 1 | GX28: =ROUND(GV28*GW28*I28,2) -> 0 | HA28: 0 | HB28: 0 | IK28: 0
A29: 17 | B29: 1 | C29: =ROW(SmtRes!A22) -> 22 | D29: =ROW(EtalonRes!A26) -> 26 | E29: 1 | F29: 15-01-039-01 | G29: Разборка цельных гранитных ступеней толщиной 150 мм для последующей установки | H29: 100 м | I29: =ROUND(25.73/100,9) -> 0.2573 | J29: 0 | O29: =ROUND(CP29,2) -> 1789.32 | P29: =ROUND(CQ29*I29,2) -> 0 | Q29: =ROUND(CR29*I29,2) -> 58.2 | R29: =ROUND(CS29*I29,2) -> 18.02 | S29: =ROUND(CT29*I29,2) -> 1731.12 | T29: =ROUND(CU29*I29,2) -> 0 | U29: =CV29*I29 -> 151.18948 | V29: =CW29*I29 -> 1.3976536 | W29: =ROUND(CX29*I29,2) -> 0 | X29: =ROUND(CY29,2) -> 1661.68 | Y29: =ROUND(CZ29,2) -> 822.1 | AA29: 27721504 | AB29: =ROUND((AC29+AD29+AF29),2) -> 6954.2 | AC29: =ROUND(((ES29*0)),2) -> 0 | AD29: =ROUND(((((ET29*0.8))-((EU29*0.8)))+AE29),2) -> 226.18 | AE29: =ROUND(((EU29*0.8)),2) -> 70.03 | AF29: =ROUND(((EV29*0.8)),2) -> 6728.02 | AG29: =ROUND((AP29),2) -> 0 | AH29: =((EW29*0.8)) -> 587.6 | AI29: =((EX29*0.8)) -> 5.432 | AJ29: =ROUND((AS29),2) -> 0 | AK29: 14557.96 | AL29: 5865.2 | AM29: 282.73 | AN29: 87.54 | AO29: 8410.03 | AP29: 0 | AQ29: 734.5 | AR29: 6.79 | AS29: 0 | AT29: 95 | AU29: 47 | AV29: 1 | AW29: 1 | AZ29: 1 | BA29: 1 | BB29: 1 | BC29: 1 | BH29: 0 | BI29: 1 | BJ29: ФЕР-2001, 15-01-039-01, приказ Минстроя России №1039/пр от 30.12.2016г. | BM29: 15001 | BN29: 0 | BP29: 0 | BQ29: 2 | BR29: 0 | BS29: 1 | BT29: 1 | BU29: 1 | BV29: 1 | BW29: 1 | BX29: 1 | BZ29: 105 | CA29: 55 | CF29: 0 | CG29: 0 | CM29: 0 | CN29: Поправка: МДС 81-36.2004, п.3.3.1.а Наименование: При демонтаже (разборке) сборных бетонных и железобетонных конструкций | CO29: 0 | CP29: =(P29+Q29+S29) -> 1789.32 | CQ29: =AC29*BC29 -> 0 | CR29: =AD29*BB29 -> 226.18 | CS29: =AE29*BS29 -> 70.03 | CT29: =AF29*BA29 -> 6728.02 | CU29: =AG29 -> 0 | CV29: =AH29 -> 587.6 | CW29: =AI29 -> 5.432 | CX29: =AJ29 -> 0 | CY29: =(((S29+R29)*AT29)/100) -> 1661.683 | CZ29: =(((S29+R29)*AU29)/100) -> 822.0958 | DD29: )*0 | DE29: )*0,8 | DF29: )*0,8 | DG29: )*0,8 | DI29: )*0,8 | DJ29: )*0,8 | DN29: 0 | DO29: 0 | DP29: 1 | DQ29: 1 | DU29: 1003 | DV29: 100 м | DW29: 100 м | DX29: 100 | EE29: 27029049 | EF29: 2 | EG29: Общестроительные работы | EH29: 0 | EJ29: 1 | EK29: 15001 | EL29: Отделочные работы | EM29: ФЕР-15 | EO29: Поправка: МДС 81-36.2004, п.3.3.1.а | EQ29: 0 | ER29: 14557.96 | ES29: 5865.2 | ET29: 282.73 | EU29: 87.54 | EV29: 8410.03 | EW29: 734.5 | EX29: 6.79 | EY29: 0 | FQ29: 0 | FR29: =ROUND(IF(AND(BH29=3,BI29=3),P29,0),2) -> 0 | FS29: 0 | FT29: *0,9 | FU29: *0,85 | FX29: 94.5 | FY29: 46.75 | GD29: 0 | GF29: -277556662 | GG29: 2 | GH29: 1 | GI29: -2 | GJ29: 0 | GK29: =ROUND(R29*(S12)/100,2) -> 0 | GL29: =ROUND(IF(AND(BH29=3,BI29=3,FS29<>0),P29,0),2) -> 0 | GM29: =ROUND(O29+X29+Y29+GK29,2)+GX29 -> 4273.1 | GN29: =IF(OR(BI29=0,BI29=1),ROUND(O29+X29+Y29+GK29,2),0) -> 4273.1 | GO29: =IF(BI29=2,ROUND(O29+X29+Y29+GK29,2),0) -> 0 | GP29: =IF(BI29=4,ROUND(O29+X29+Y29+GK29,2)+GX29,0) -> 0 | GR29: 0 | GS29: 0 | GT29: 0 | GV29: =ROUND(GT29,2) -> 0 | GW29: 1 | GX29: =ROUND(GV29*GW29*I29,2) -> 0 | HA29: 0 | HB29: 0 | IK29: 0
A30: 17 | B30: 1 | C30: =ROW(SmtRes!A23) -> 23 | D30: =ROW(EtalonRes!A27) -> 27 | E30: 2 | F30: 46-02-009-02 | G30: Отбивка штукатурки с поверхностей стен кирпичных | H30: 100 м2 | I30: =ROUND(10.8/100,9) -> 0.108 | J30: 0 | O30: =ROUND(CP30,2) -> 19.22 | P30: =ROUND(CQ30*I30,2) -> 0 | Q30: =ROUND(CR30*I30,2) -> 0 | R30: =ROUND(CS30*I30,2) -> 0 | S30: =ROUND(CT30*I30,2) -> 19.22 | T30: =ROUND(CU30*I30,2) -> 0 | U30: =CV30*I30 -> 2.46456 | V30: =CW30*I30 -> 0 | W30: =ROUND(CX30*I30,2) -> 0 | X30: =ROUND(CY30,2) -> 19.03 | Y30: =ROUND(CZ30,2) -> 11.53 | AA30: 27721505 | AB30: =ROUND((AC30+AD30+AF30),2) -> 178 | AC30: =ROUND((ES30),2) -> 0 | AD30: =ROUND((((ET30)-(EU30))+AE30),2) -> 0 | AE30: =ROUND((EU30),2) -> 0 | AF30: =ROUND((EV30),2) -> 178 | AG30: =ROUND((AP30),2) -> 0 | AH30: =(EW30) -> 22.82 | AI30: =(EX30) -> 0 | AJ30: =ROUND((AS30),2) -> 0 | AK30: 178 | AL30: 0 | AM30: 0 | AN30: 0 | AO30: 178 | AP30: 0 | AQ30: 22.82 | AR30: 0 | AS30: 0 | AT30: 99 | AU30: 60 | AV30: 1 | AW30: 1 | AZ30: 1 | BA30: 1 | BB30: 1 | BC30: 1 | BH30: 0 | BI30: 1 | BJ30: ФЕР-2001, 46-02-009-02, приказ Минстроя России №1039/пр от 30.12.2016г. | BM30: 46001 | BN30: 0 | BP30: 0 | BQ30: 2 | BR30: 0 | BS30: 1 | BT30: 1 | BU30: 1 | BV30: 1 | BW30: 1 | BX30: 1 | BZ30: 110 | CA30: 70 | CF30: 0 | CG30: 0 | CM30: 0 | CO30: 0 | CP30: =(P30+Q30+S30) -> 19.22 | CQ30: =AC30*BC30 -> 0 | CR30: =AD30*BB30 -> 0 | CS30: =AE30*BS30 -> 0 | CT30: =AF30*BA30 -> 178 | CU30: =AG30 -> 0 | CV30: =AH30 -> 22.82 | CW30: =AI30 -> 0 | CX30: =AJ30 -> 0 | CY30: =(((S30+R30)*AT30)/100) -> 19.0278 | CZ30: =(((S30+R30)*AU30)/100) -> 11.532 | DN30: 0 | DO30: 0 | DP30: 1 | DQ30: 1 | DU30: 1005 | DV30: 100 м2 | DW30: 100 м2 | DX30: 100 | EE30: 27029091 | EF30: 2 | EG30: Общестроительные работы | EH30: 0 | EJ30: 1 | EK30: 46001 | EL30: Реконструкция зданий и сооружений | EM30: ФЕР-46 | EQ30: 0 | ER30: 178 | ES30: 0 | ET30: 0 | EU30: 0 | EV30: 178 | EW30: 22.82 | EX30: 0 | EY30: 0 | FQ30: 0 | FR30: =ROUND(IF(AND(BH30=3,BI30=3),P30,0),2) -> 0 | FS30: 0 | FT30: *0,9 | FU30: *0,85 | FX30: 99 | FY30: 59.5 | GD30: 0 | GF30: -832498853 | GG30: 2 | GH30: 1 | GI30: -2 | GJ30: 0 | GK30: =ROUND(R30*(R12)/100,2) -> 0 | GL30: =ROUND(IF(AND(BH30=3,BI30=3,FS30<>0),P30,0),2) -> 0 | GM30: =ROUND(O30+X30+Y30+GK30,2)+GX30 -> 49.78 | GN30: =IF(OR(BI30=0,BI30=1),ROUND(O30+X30+Y30+GK30,2),0) -> 49.78 | GO30: =IF(BI30=2,ROUND(O30+X30+Y30+GK30,2),0) -> 0 | GP30: =IF(BI30=4,ROUND(O30+X30+Y30+GK30,2)+GX30,0) -> 0 | GR30: 0 | GS30: 3 | GT30: 0 | GV30: =ROUND(GT30,2) -> 0 | GW30: 1 | GX30: =ROUND(GV30*GW30*I30,2) -> 0 | HA30: 0 | HB30: 0 | IK30: 0
A31: 17 | B31: 1 | C31: =ROW(SmtRes!A24) -> 24 | D31: =ROW(EtalonRes!A28) -> 28 | E31: 2 | F31: 46-02-009-02 | G31: Отбивка штукатурки с поверхностей стен кирпичных | H31: 100 м2 | I31: =ROUND(10.8/100,9) -> 0.108 | J31: 0 | O31: =ROUND(CP31,2) -> 19.22 | P31: =ROUND(CQ31*I31,2) -> 0 | Q31: =ROUND(CR31*I31,2) -> 0 | R31: =ROUND(CS31*I31,2) -> 0 | S31: =ROUND(CT31*I31,2) -> 19.22 | T31: =ROUND(CU31*I31,2) -> 0 | U31: =CV31*I31 -> 2.46456 | V31: =CW31*I31 -> 0 | W31: =ROUND(CX31*I31,2) -> 0 | X31: =ROUND(CY31,2) -> 19.03 | Y31: =ROUND(CZ31,2) -> 11.53 | AA31: 27721504 | AB31: =ROUND((AC31+AD31+AF31),2) -> 178 | AC31: =ROUND((ES31),2) -> 0 | AD31: =ROUND((((ET31)-(EU31))+AE31),2) -> 0 | AE31: =ROUND((EU31),2) -> 0 | AF31: =ROUND((EV31),2) -> 178 | AG31: =ROUND((AP31),2) -> 0 | AH31: =(EW31) -> 22.82 | AI31: =(EX31) -> 0 | AJ31: =ROUND((AS31),2) -> 0 | AK31: 178 | AL31: 0 | AM31: 0 | AN31: 0 | AO31: 178 | AP31: 0 | AQ31: 22.82 | AR31: 0 | AS31: 0 | AT31: 99 | AU31: 60 | AV31: 1 | AW31: 1 | AZ31: 1 | BA31: 1 | BB31: 1 | BC31: 1 | BH31: 0 | BI31: 1 | BJ31: ФЕР-2001, 46-02-009-02, приказ Минстроя России №1039/пр от 30.12.2016г. | BM31: 46001 | BN31: 0 | BP31: 0 | BQ31: 2 | BR31: 0 | BS31: 1 | BT31: 1 | BU31: 1 | BV31: 1 | BW31: 1 | BX31: 1 | BZ31: 110 | CA31: 70 | CF31: 0 | CG31: 0 | CM31: 0 | CO31: 0 | CP31: =(P31+Q31+S31) -> 19.22 | CQ31: =AC31*BC31 -> 0 | CR31: =AD31*BB31 -> 0 | CS31: =AE31*BS31 -> 0 | CT31: =AF31*BA31 -> 178 | CU31: =AG31 -> 0 | CV31: =AH31 -> 22.82 | CW31: =AI31 -> 0 | CX31: =AJ31 -> 0 | CY31: =(((S31+R31)*AT31)/100) -> 19.0278 | CZ31: =(((S31+R31)*AU31)/100) -> 11.532 | DN31: 0 | DO31: 0 | DP31: 1 | DQ31: 1 | DU31: 1005 | DV31: 100 м2 | DW31: 100 м2 | DX31: 100 | EE31: 27029091 | EF31: 2 | EG31: Общестроительные работы | EH31: 0 | EJ31: 1 | EK31: 46001 | EL31: Реконструкция зданий и сооружений | EM31: ФЕР-46 | EQ31: 0 | ER31: 178 | ES31: 0 | ET31: 0 | EU31: 0 | EV31: 178 | EW31: 22.82 | EX31: 0 | EY31: 0 | FQ31: 0 | FR31: =ROUND(IF(AND(BH31=3,BI31=3),P31,0),2) -> 0 | FS31: 0 | FT31: *0,9 | FU31: *0,85 | FX31: 99 | FY31: 59.5 | GD31: 0 | GF31: -832498853 | GG31: 2 | GH31: 1 | GI31: -2 | GJ31: 0 | GK31: =ROUND(R31*(S12)/100,2) -> 0 | GL31: =ROUND(IF(AND(BH31=3,BI31=3,FS31<>0),P31,0),2) -> 0 | GM31: =ROUND(O31+X31+Y31+GK31,2)+GX31 -> 49.78 | GN31: =IF(OR(BI31=0,BI31=1),ROUND(O31+X31+Y31+GK31,2),0) -> 49.78 | GO31: =IF(BI31=2,ROUND(O31+X31+Y31+GK31,2),0) -> 0 | GP31: =IF(BI31=4,ROUND(O31+X31+Y31+GK31,2)+GX31,0) -> 0 | GR31: 0 | GS31: 0 | GT31: 0 | GV31: =ROUND(GT31,2) -> 0 | GW31: 1 | GX31: =ROUND(GV31*GW31*I31,2) -> 0 | HA31: 0 | HB31: 0 | IK31: 0
A32: 17 | B32: 1 | C32: =ROW(SmtRes!A27) -> 27 | D32: =ROW(EtalonRes!A31) -> 31 | E32: 3 | F32: 58-3-1 | G32: Разборка мелких покрытий и обделок из листовой стали поясков, сандриков, желобов, отливов, свесов и т.п. | H32: 100 м | I32: =ROUND(15.02/100,9) -> 0.1502 | J32: 0 | O32: =ROUND(CP32,2) -> 10.69 | P32: =ROUND(CQ32*I32,2) -> 0 | Q32: =ROUND(CR32*I32,2) -> 0.03 | R32: =ROUND(CS32*I32,2) -> 0 | S32: =ROUND(CT32*I32,2) -> 10.66 | T32: =ROUND(CU32*I32,2) -> 0 | U32: =CV32*I32 -> 1.36682 | V32: =CW32*I32 -> 0 | W32: =ROUND(CX32*I32,2) -> 0 | X32: =ROUND(CY32,2) -> 8.85 | Y32: =ROUND(CZ32,2) -> 6.93 | AA32: 27721505 | AB32: =ROUND((AC32+AD32+AF32),2) -> 71.18 | AC32: =ROUND((ES32),2) -> 0 | AD32: =ROUND((((ET32)-(EU32))+AE32),2) -> 0.2 | AE32: =ROUND((EU32),2) -> 0 | AF32: =ROUND((EV32),2) -> 70.98 | AG32: =ROUND((AP32),2) -> 0 | AH32: =(EW32) -> 9.1 | AI32: =(EX32) -> 0 | AJ32: =ROUND((AS32),2) -> 0 | AK32: 71.18 | AL32: 0 | AM32: 0.2 | AN32: 0 | AO32: 70.98 | AP32: 0 | AQ32: 9.1 | AR32: 0 | AS32: 0 | AT32: 83 | AU32: 65 | AV32: 1 | AW32: 1 | AZ32: 1 | BA32: 1 | BB32: 1 | BC32: 1 | BH32: 0 | BI32: 1 | BJ32: ФЕР-2001, 58-3-1, приказ Минстроя России №1039/пр от 30.12.2016г. | BM32: 58001 | BN32: 0 | BP32: 0 | BQ32: 6 | BR32: 0 | BS32: 1 | BT32: 1 | BU32: 1 | BV32: 1 | BW32: 1 | BX32: 1 | BZ32: 83 | CA32: 65 | CF32: 0 | CG32: 0 | CM32: 0 | CO32: 0 | CP32: =(P32+Q32+S32) -> 10.69 | CQ32: =AC32*BC32 -> 0 | CR32: =AD32*BB32 -> 0.2 | CS32: =AE32*BS32 -> 0 | CT32: =AF32*BA32 -> 70.98 | CU32: =AG32 -> 0 | CV32: =AH32 -> 9.1 | CW32: =AI32 -> 0 | CX32: =AJ32 -> 0 | CY32: =(((S32+R32)*AT32)/100) -> 8.8478 | CZ32: =(((S32+R32)*AU32)/100) -> 6.929 | DN32: 0 | DO32: 0 | DP32: 1 | DQ32: 1 | DU32: 1003 | DV32: 100 м | DW32: 100 м | DX32: 100 | EE32: 27029103 | EF32: 6 | EG32: Ремонтно-строительные работы | EH32: 0 | EJ32: 1 | EK32: 58001 | EL32: Крыши, кровля | EM32: рФЕР-58 | EQ32: 0 | ER32: 71.18 | ES32: 0 | ET32: 0.2 | EU32: 0 | EV32: 70.98 | EW32: 9.1 | EX32: 0 | EY32: 0 | FQ32: 0 | FR32: =ROUND(IF(AND(BH32=3,BI32=3),P32,0),2) -> 0 | FS32: 0 | FX32: 83 | FY32: 65 | GD32: 0 | GF32: -1944869968 | GG32: 2 | GH32: 1 | GI32: -2 | GJ32: 0 | GK32: =ROUND(R32*(R12)/100,2) -> 0 | GL32: =ROUND(IF(AND(BH32=3,BI32=3,FS32<>0),P32,0),2) -> 0 | GM32: =ROUND(O32+X32+Y32+GK32,2)+GX32 -> 26.47 | GN32: =IF(OR(BI32=0,BI32=1),ROUND(O32+X32+Y32+GK32,2),0) -> 26.47 | GO32: =IF(BI32=2,ROUND(O32+X32+Y32+GK32,2),0) -> 0 | GP32: =IF(BI32=4,ROUND(O32+X32+Y32+GK32,2)+GX32,0) -> 0 | GR32: 0 | GS32: 3 | GT32: 0 | GV32: =ROUND(GT32,2) -> 0 | GW32: 1 | GX32: =ROUND(GV32*GW32*I32,2) -> 0 | HA32: 0 | HB32: 0 | IK32: 0
A33: 17 | B33: 1 | C33: =ROW(SmtRes!A30) -> 30 | D33: =ROW(EtalonRes!A34) -> 34 | E33: 3 | F33: 58-3-1 | G33: Разборка мелких покрытий и обделок из листовой стали поясков, сандриков, желобов, отливов, свесов и т.п. | H33: 100 м | I33: =ROUND(15.02/100,9) -> 0.1502 | J33: 0 | O33: =ROUND(CP33,2) -> 10.69 | P33: =ROUND(CQ33*I33,2) -> 0 | Q33: =ROUND(CR33*I33,2) -> 0.03 | R33: =ROUND(CS33*I33,2) -> 0 | S33: =ROUND(CT33*I33,2) -> 10.66 | T33: =ROUND(CU33*I33,2) -> 0 | U33: =CV33*I33 -> 1.36682 | V33: =CW33*I33 -> 0 | W33: =ROUND(CX33*I33,2) -> 0 | X33: =ROUND(CY33,2) -> 8.85 | Y33: =ROUND(CZ33,2) -> 6.93 | AA33: 27721504 | AB33: =ROUND((AC33+AD33+AF33),2) -> 71.18 | AC33: =ROUND((ES33),2) -> 0 | AD33: =ROUND((((ET33)-(EU33))+AE33),2) -> 0.2 | AE33: =ROUND((EU33),2) -> 0 | AF33: =ROUND((EV33),2) -> 70.98 | AG33: =ROUND((AP33),2) -> 0 | AH33: =(EW33) -> 9.1 | AI33: =(EX33) -> 0 | AJ33: =ROUND((AS33),2) -> 0 | AK33: 71.18 | AL33: 0 | AM33: 0.2 | AN33: 0 | AO33: 70.98 | AP33: 0 | AQ33: 9.1 | AR33: 0 | AS33: 0 | AT33: 83 | AU33: 65 | AV33: 1 | AW33: 1 | AZ33: 1 | BA33: 1 | BB33: 1 | BC33: 1 | BH33: 0 | BI33: 1 | BJ33: ФЕР-2001, 58-3-1, приказ Минстроя России №1039/пр от 30.12.2016г. | BM33: 58001 | BN33: 0 | BP33: 0 | BQ33: 6 | BR33: 0 | BS33: 1 | BT33: 1 | BU33: 1 | BV33: 1 | BW33: 1 | BX33: 1 | BZ33: 83 | CA33: 65 | CF33: 0 | CG33: 0 | CM33: 0 | CO33: 0 | CP33: =(P33+Q33+S33) -> 10.69 | CQ33: =AC33*BC33 -> 0 | CR33: =AD33*BB33 -> 0.2 | CS33: =AE33*BS33 -> 0 | CT33: =AF33*BA33 -> 70.98 | CU33: =AG33 -> 0 | CV33: =AH33 -> 9.1 | CW33: =AI33 -> 0 | CX33: =AJ33 -> 0 | CY33: =(((S33+R33)*AT33)/100) -> 8.8478 | CZ33: =(((S33+R33)*AU33)/100) -> 6.929 | DN33: 0 | DO33: 0 | DP33: 1 | DQ33: 1 | DU33: 1003 | DV33: 100 м | DW33: 100 м | DX33: 100 | EE33: 27029103 | EF33: 6 | EG33: Ремонтно-строительные работы | EH33: 0 | EJ33: 1 | EK33: 58001 | EL33: Крыши, кровля | EM33: рФЕР-58 | EQ33: 0 | ER33: 71.18 | ES33: 0 | ET33: 0.2 | EU33: 0 | EV33: 70.98 | EW33: 9.1 | EX33: 0 | EY33: 0 | FQ33: 0 | FR33: =ROUND(IF(AND(BH33=3,BI33=3),P33,0),2) -> 0 | FS33: 0 | FX33: 83 | FY33: 65 | GD33: 0 | GF33: -1944869968 | GG33: 2 | GH33: 1 | GI33: -2 | GJ33: 0 | GK33: =ROUND(R33*(S12)/100,2) -> 0 | GL33: =ROUND(IF(AND(BH33=3,BI33=3,FS33<>0),P33,0),2) -> 0 | GM33: =ROUND(O33+X33+Y33+GK33,2)+GX33 -> 26.47 | GN33: =IF(OR(BI33=0,BI33=1),ROUND(O33+X33+Y33+GK33,2),0) -> 26.47 | GO33: =IF(BI33=2,ROUND(O33+X33+Y33+GK33,2),0) -> 0 | GP33: =IF(BI33=4,ROUND(O33+X33+Y33+GK33,2)+GX33,0) -> 0 | GR33: 0 | GS33: 0 | GT33: 0 | GV33: =ROUND(GT33,2) -> 0 | GW33: 1 | GX33: =ROUND(GV33*GW33*I33,2) -> 0 | HA33: 0 | HB33: 0 | IK33: 0
A34: 18 | B34: 1 | C34: 27 | E34: 3,1 | F34: 01.7.07.07 | G34: Строительный мусор | H34: т | I34: =I32*J34 -> 0.018024 | J34: 0.12 | O34: =ROUND(CP34,2) -> 0 | P34: =ROUND(CQ34*I34,2) -> 0 | Q34: =ROUND(CR34*I34,2) -> 0 | R34: =ROUND(CS34*I34,2) -> 0 | S34: =ROUND(CT34*I34,2) -> 0 | T34: =ROUND(CU34*I34,2) -> 0 | U34: =CV34*I34 -> 0 | V34: =CW34*I34 -> 0 | W34: =ROUND(CX34*I34,2) -> 0 | X34: =ROUND(CY34,2) -> 0 | Y34: =ROUND(CZ34,2) -> 0 | AA34: 27721505 | AB34: =ROUND((AC34+AD34+AF34),2) -> 0 | AC34: =ROUND((ES34),2) -> 0 | AD34: =ROUND((((ET34)-(EU34))+AE34),2) -> 0 | AE34: =ROUND((EU34),2) -> 0 | AF34: =ROUND((EV34),2) -> 0 | AG34: =ROUND((AP34),2) -> 0 | AH34: =(EW34) -> 0 | AI34: =(EX34) -> 0 | AJ34: =ROUND((AS34),2) -> 0 | AK34: 0 | AL34: 0 | AM34: 0 | AN34: 0 | AO34: 0 | AP34: 0 | AQ34: 0 | AR34: 0 | AS34: 0 | AT34: 83 | AU34: 65 | AV34: 1 | AW34: 1 | AZ34: 1 | BA34: 1 | BB34: 1 | BC34: 1 | BH34: 3 | BI34: 1 | BM34: 58001 | BN34: 0 | BP34: 0 | BQ34: 6 | BR34: 0 | BS34: 1 | BT34: 1 | BU34: 1 | BV34: 1 | BW34: 1 | BX34: 1 | BZ34: 83 | CA34: 65 | CF34: 0 | CG34: 0 | CM34: 0 | CO34: 0 | CP34: =(P34+Q34+S34) -> 0 | CQ34: =AC34*BC34 -> 0 | CR34: =AD34*BB34 -> 0 | CS34: =AE34*BS34 -> 0 | CT34: =AF34*BA34 -> 0 | CU34: =AG34 -> 0 | CV34: =AH34 -> 0 | CW34: =AI34 -> 0 | CX34: =AJ34 -> 0 | CY34: =(((S34+R34)*AT34)/100) -> 0 | CZ34: =(((S34+R34)*AU34)/100) -> 0 | DN34: 0 | DO34: 0 | DP34: 1 | DQ34: 1 | DU34: 1009 | DV34: т | DW34: т | DX34: 1000 | EE34: 27029103 | EF34: 6 | EG34: Ремонтно-строительные работы | EH34: 0 | EJ34: 1 | EK34: 58001 | EL34: Крыши, кровля | EM34: рФЕР-58 | EQ34: 0 | ER34: 0 | ES34: 0 | ET34: 0 | EU34: 0 | EV34: 0 | EW34: 0 | EX34: 0 | FQ34: 0 | FR34: =ROUND(IF(AND(BH34=3,BI34=3),P34,0),2) -> 0 | FS34: 0 | FX34: 83 | FY34: 65 | GA34: занесена вручную | GD34: 0 | GF34: -179832266 | GG34: 2 | GH34: 1 | GI34: -2 | GJ34: 0 | GK34: =ROUND(R34*(R12)/100,2) -> 0 | GL34: =ROUND(IF(AND(BH34=3,BI34=3,FS34<>0),P34,0),2) -> 0 | GM34: =ROUND(O34+X34+Y34+GK34,2)+GX34 -> 0 | GN34: =IF(OR(BI34=0,BI34=1),ROUND(O34+X34+Y34+GK34,2),0) -> 0 | GO34: =IF(BI34=2,ROUND(O34+X34+Y34+GK34,2),0) -> 0 | GP34: =IF(BI34=4,ROUND(O34+X34+Y34+GK34,2)+GX34,0) -> 0 | GR34: 0 | GS34: 4 | GT34: 0 | GV34: =ROUND(GT34,2) -> 0 | GW34: 1 | GX34: =ROUND(GV34*GW34*I34,2) -> 0 | HA34: 0 | HB34: 0 | IK34: 0
A35: 18 | B35: 1 | C35: 30 | E35: 3,1 | F35: 01.7.07.07 | G35: Строительный мусор | H35: т | I35: =I33*J35 -> 0.018024 | J35: 0.12 | O35: =ROUND(CP35,2) -> 0 | P35: =ROUND(CQ35*I35,2) -> 0 | Q35: =ROUND(CR35*I35,2) -> 0 | R35: =ROUND(CS35*I35,2) -> 0 | S35: =ROUND(CT35*I35,2) -> 0 | T35: =ROUND(CU35*I35,2) -> 0 | U35: =CV35*I35 -> 0 | V35: =CW35*I35 -> 0 | W35: =ROUND(CX35*I35,2) -> 0 | X35: =ROUND(CY35,2) -> 0 | Y35: =ROUND(CZ35,2) -> 0 | AA35: 27721504 | AB35: =ROUND((AC35+AD35+AF35),2) -> 0 | AC35: =ROUND((ES35),2) -> 0 | AD35: =ROUND((((ET35)-(EU35))+AE35),2) -> 0 | AE35: =ROUND((EU35),2) -> 0 | AF35: =ROUND((EV35),2) -> 0 | AG35: =ROUND((AP35),2) -> 0 | AH35: =(EW35) -> 0 | AI35: =(EX35) -> 0 | AJ35: =ROUND((AS35),2) -> 0 | AK35: 0 | AL35: 0 | AM35: 0 | AN35: 0 | AO35: 0 | AP35: 0 | AQ35: 0 | AR35: 0 | AS35: 0 | AT35: 83 | AU35: 65 | AV35: 1 | AW35: 1 | AZ35: 1 | BA35: 1 | BB35: 1 | BC35: 1 | BH35: 3 | BI35: 1 | BM35: 58001 | BN35: 0 | BP35: 0 | BQ35: 6 | BR35: 0 | BS35: 1 | BT35: 1 | BU35: 1 | BV35: 1 | BW35: 1 | BX35: 1 | BZ35: 83 | CA35: 65 | CF35: 0 | CG35: 0 | CM35: 0 | CO35: 0 | CP35: =(P35+Q35+S35) -> 0 | CQ35: =AC35*BC35 -> 0 | CR35: =AD35*BB35 -> 0 | CS35: =AE35*BS35 -> 0 | CT35: =AF35*BA35 -> 0 | CU35: =AG35 -> 0 | CV35: =AH35 -> 0 | CW35: =AI35 -> 0 | CX35: =AJ35 -> 0 | CY35: =(((S35+R35)*AT35)/100) -> 0 | CZ35: =(((S35+R35)*AU35)/100) -> 0 | DN35: 0 | DO35: 0 | DP35: 1 | DQ35: 1 | DU35: 1009 | DV35: т | DW35: т | DX35: 1000 | EE35: 27029103 | EF35: 6 | EG35: Ремонтно-строительные работы | EH35: 0 | EJ35: 1 | EK35: 58001 | EL35: Крыши, кровля | EM35: рФЕР-58 | EQ35: 0 | ER35: 0 | ES35: 0 | ET35: 0 | EU35: 0 | EV35: 0 | EW35: 0 | EX35: 0 | FQ35: 0 | FR35: =ROUND(IF(AND(BH35=3,BI35=3),P35,0),2) -> 0 | FS35: 0 | FX35: 83 | FY35: 65 | GD35: 0 | GF35: -179832266 | GG35: 2 | GH35: 1 | GI35: -2 | GJ35: 0 | GK35: =ROUND(R35*(S12)/100,2) -> 0 | GL35: =ROUND(IF(AND(BH35=3,BI35=3,FS35<>0),P35,0),2) -> 0 | GM35: =ROUND(O35+X35+Y35+GK35,2)+GX35 -> 0 | GN35: =IF(OR(BI35=0,BI35=1),ROUND(O35+X35+Y35+GK35,2),0) -> 0 | GO35: =IF(BI35=2,ROUND(O35+X35+Y35+GK35,2),0) -> 0 | GP35: =IF(BI35=4,ROUND(O35+X35+Y35+GK35,2)+GX35,0) -> 0 | GR35: 0 | GS35: 0 | GT35: 0 | GV35: =ROUND(GT35,2) -> 0 | GW35: 1 | GX35: =ROUND(GV35*GW35*I35,2) -> 0 | HA35: 0 | HB35: 0 | IK35: 0
A36: 17 | B36: 1 | C36: =ROW(SmtRes!A48) -> 48 | D36: =ROW(EtalonRes!A53) -> 53 | E36: 4 | F36: 09-06-001-02 | G36: Демонтаж решеток из полосовой и тонколистовой стали | H36: т | I36: 0.04128 | J36: 0 | O36: =ROUND(CP36,2) -> 16.16 | P36: =ROUND(CQ36*I36,2) -> 0 | Q36: =ROUND(CR36*I36,2) -> 3.64 | R36: =ROUND(CS36*I36,2) -> 0.11 | S36: =ROUND(CT36*I36,2) -> 12.52 | T36: =ROUND(CU36*I36,2) -> 0 | U36: =CV36*I36 -> 1.4676278 | V36: =CW36*I36 -> 0.00895776 | W36: =ROUND(CX36*I36,2) -> 0 | X36: =ROUND(CY36,2) -> 10.23 | Y36: =ROUND(CZ36,2) -> 9.09 | AA36: 27721505 | AB36: =ROUND((AC36+AD36+AF36),2) -> 391.33 | AC36: =ROUND(((ES36*0)),2) -> 0 | AD36: =ROUND(((((ET36*0.7))-((EU36*0.7)))+AE36),2) -> 88.06 | AE36: =ROUND(((EU36*0.7)),2) -> 2.67 | AF36: =ROUND(((EV36*0.7)),2) -> 303.27 | AG36: =ROUND((AP36),2) -> 0 | AH36: =((EW36*0.7)) -> 35.553 | AI36: =((EX36*0.7)) -> 0.217 | AJ36: =ROUND((AS36),2) -> 0 | AK36: 641 | AL36: 81.96 | AM36: 125.8 | AN36: 3.82 | AO36: 433.24 | AP36: 0 | AQ36: 50.79 | AR36: 0.31 | AS36: 0 | AT36: 81 | AU36: 72 | AV36: 1 | AW36: 1 | AZ36: 1 | BA36: 1 | BB36: 1 | BC36: 1 | BH36: 0 | BI36: 1 | BJ36: ФЕР-2001, 09-06-001-02, приказ Минстроя России №1039/пр от 30.12.2016г. | BM36: 9001 | BN36: 0 | BP36: 0 | BQ36: 2 | BR36: 0 | BS36: 1 | BT36: 1 | BU36: 1 | BV36: 1 | BW36: 1 | BX36: 1 | BZ36: 90 | CA36: 85 | CF36: 0 | CG36: 0 | CM36: 0 | CN36: Поправка: МДС 81-36.2004, п.3.3.1.д Наименование: При демонтаже металлических конструкций | CO36: 0 | CP36: =(P36+Q36+S36) -> 16.16 | CQ36: =AC36*BC36 -> 0 | CR36: =AD36*BB36 -> 88.06 | CS36: =AE36*BS36 -> 2.67 | CT36: =AF36*BA36 -> 303.27 | CU36: =AG36 -> 0 | CV36: =AH36 -> 35.553 | CW36: =AI36 -> 0.217 | CX36: =AJ36 -> 0 | CY36: =(((S36+R36)*AT36)/100) -> 10.2303 | CZ36: =(((S36+R36)*AU36)/100) -> 9.0936 | DD36: )*0 | DE36: )*0,7 | DF36: )*0,7 | DG36: )*0,7 | DI36: )*0,7 | DJ36: )*0,7 | DN36: 0 | DO36: 0 | DP36: 1 | DQ36: 1 | DU36: 1009 | DV36: т | DW36: т | DX36: 1000 | EE36: 27029022 | EF36: 2 | EG36: Общестроительные работы | EH36: 0 | EJ36: 1 | EK36: 9001 | EL36: Металлические конструкции | EM36: ФЕР-09 | EO36: Поправка: МДС 81-36.2004, п.3.3.1.д | EQ36: 0 | ER36: 641 | ES36: 81.96 | ET36: 125.8 | EU36: 3.82 | EV36: 433.24 | EW36: 50.79 | EX36: 0.31 | EY36: 0 | FQ36: 0 | FR36: =ROUND(IF(AND(BH36=3,BI36=3),P36,0),2) -> 0 | FS36: 0 | FT36: *0,9 | FU36: *0,85 | FX36: 81 | FY36: 72.25 | GD36: 0 | GF36: -1527117950 | GG36: 2 | GH36: 1 | GI36: -2 | GJ36: 0 | GK36: =ROUND(R36*(R12)/100,2) -> 0 | GL36: =ROUND(IF(AND(BH36=3,BI36=3,FS36<>0),P36,0),2) -> 0 | GM36: =ROUND(O36+X36+Y36+GK36,2)+GX36 -> 35.48 | GN36: =IF(OR(BI36=0,BI36=1),ROUND(O36+X36+Y36+GK36,2),0) -> 35.48 | GO36: =IF(BI36=2,ROUND(O36+X36+Y36+GK36,2),0) -> 0 | GP36: =IF(BI36=4,ROUND(O36+X36+Y36+GK36,2)+GX36,0) -> 0 | GR36: 0 | GS36: 3 | GT36: 0 | GV36: =ROUND(GT36,2) -> 0 | GW36: 1 | GX36: =ROUND(GV36*GW36*I36,2) -> 0 | HA36: 0 | HB36: 0 | IK36: 0
A37: 17 | B37: 1 | C37: =ROW(SmtRes!A66) -> 66 | D37: =ROW(EtalonRes!A72) -> 72 | E37: 4 | F37: 09-06-001-02 | G37: Демонтаж решеток из полосовой и тонколистовой стали | H37: т | I37: 0.04128 | J37: 0 | O37: =ROUND(CP37,2) -> 16.16 | P37: =ROUND(CQ37*I37,2) -> 0 | Q37: =ROUND(CR37*I37,2) -> 3.64 | R37: =ROUND(CS37*I37,2) -> 0.11 | S37: =ROUND(CT37*I37,2) -> 12.52 | T37: =ROUND(CU37*I37,2) -> 0 | U37: =CV37*I37 -> 1.4676278 | V37: =CW37*I37 -> 0.00895776 | W37: =ROUND(CX37*I37,2) -> 0 | X37: =ROUND(CY37,2) -> 10.23 | Y37: =ROUND(CZ37,2) -> 9.09 | AA37: 27721504 | AB37: =ROUND((AC37+AD37+AF37),2) -> 391.33 | AC37: =ROUND(((ES37*0)),2) -> 0 | AD37: =ROUND(((((ET37*0.7))-((EU37*0.7)))+AE37),2) -> 88.06 | AE37: =ROUND(((EU37*0.7)),2) -> 2.67 | AF37: =ROUND(((EV37*0.7)),2) -> 303.27 | AG37: =ROUND((AP37),2) -> 0 | AH37: =((EW37*0.7)) -> 35.553 | AI37: =((EX37*0.7)) -> 0.217 | AJ37: =ROUND((AS37),2) -> 0 | AK37: 641 | AL37: 81.96 | AM37: 125.8 | AN37: 3.82 | AO37: 433.24 | AP37: 0 | AQ37: 50.79 | AR37: 0.31 | AS37: 0 | AT37: 81 | AU37: 72 | AV37: 1 | AW37: 1 | AZ37: 1 | BA37: 1 | BB37: 1 | BC37: 1 | BH37: 0 | BI37: 1 | BJ37: ФЕР-2001, 09-06-001-02, приказ Минстроя России №1039/пр от 30.12.2016г. | BM37: 9001 | BN37: 0 | BP37: 0 | BQ37: 2 | BR37: 0 | BS37: 1 | BT37: 1 | BU37: 1 | BV37: 1 | BW37: 1 | BX37: 1 | BZ37: 90 | CA37: 85 | CF37: 0 | CG37: 0 | CM37: 0 | CN37: Поправка: МДС 81-36.2004, п.3.3.1.д Наименование: При демонтаже металлических конструкций | CO37: 0 | CP37: =(P37+Q37+S37) -> 16.16 | CQ37: =AC37*BC37 -> 0 | CR37: =AD37*BB37 -> 88.06 | CS37: =AE37*BS37 -> 2.67 | CT37: =AF37*BA37 -> 303.27 | CU37: =AG37 -> 0 | CV37: =AH37 -> 35.553 | CW37: =AI37 -> 0.217 | CX37: =AJ37 -> 0 | CY37: =(((S37+R37)*AT37)/100) -> 10.2303 | CZ37: =(((S37+R37)*AU37)/100) -> 9.0936 | DD37: )*0 | DE37: )*0,7 | DF37: )*0,7 | DG37: )*0,7 | DI37: )*0,7 | DJ37: )*0,7 | DN37: 0 | DO37: 0 | DP37: 1 | DQ37: 1 | DU37: 1009 | DV37: т | DW37: т | DX37: 1000 | EE37: 27029022 | EF37: 2 | EG37: Общестроительные работы | EH37: 0 | EJ37: 1 | EK37: 9001 | EL37: Металлические конструкции | EM37: ФЕР-09 | EO37: Поправка: МДС 81-36.2004, п.3.3.1.д | EQ37: 0 | ER37: 641 | ES37: 81.96 | ET37: 125.8 | EU37: 3.82 | EV37: 433.24 | EW37: 50.79 | EX37: 0.31 | EY37: 0 | FQ37: 0 | FR37: =ROUND(IF(AND(BH37=3,BI37=3),P37,0),2) -> 0 | FS37: 0 | FT37: *0,9 | FU37: *0,85 | FX37: 81 | FY37: 72.25 | GD37: 0 | GF37: -1527117950 | GG37: 2 | GH37: 1 | GI37: -2 | GJ37: 0 | GK37: =ROUND(R37*(S12)/100,2) -> 0 | GL37: =ROUND(IF(AND(BH37=3,BI37=3,FS37<>0),P37,0),2) -> 0 | GM37: =ROUND(O37+X37+Y37+GK37,2)+GX37 -> 35.48 | GN37: =IF(OR(BI37=0,BI37=1),ROUND(O37+X37+Y37+GK37,2),0) -> 35.48 | GO37: =IF(BI37=2,ROUND(O37+X37+Y37+GK37,2),0) -> 0 | GP37: =IF(BI37=4,ROUND(O37+X37+Y37+GK37,2)+GX37,0) -> 0 | GR37: 0 | GS37: 0 | GT37: 0 | GV37: =ROUND(GT37,2) -> 0 | GW37: 1 | GX37: =ROUND(GV37*GW37*I37,2) -> 0 | HA37: 0 | HB37: 0 | IK37: 0
A38: 17 | B38: 1 | C38: =ROW(SmtRes!A69) -> 69 | D38: =ROW(EtalonRes!A75) -> 75 | E38: 5 | F38: 46-04-010-02 | G38: Разборка покрытий полов дощатых | H38: 100 м2 | I38: =ROUND(5.75/100,9) -> 0.0575 | J38: 0 | O38: =ROUND(CP38,2) -> 20.25 | P38: =ROUND(CQ38*I38,2) -> 0 | Q38: =ROUND(CR38*I38,2) -> 6.56 | R38: =ROUND(CS38*I38,2) -> 2.83 | S38: =ROUND(CT38*I38,2) -> 13.69 | T38: =ROUND(CU38*I38,2) -> 0 | U38: =CV38*I38 -> 1.755475 | V38: =CW38*I38 -> 0.209875 | W38: =ROUND(CX38*I38,2) -> 0 | X38: =ROUND(CY38,2) -> 16.35 | Y38: =ROUND(CZ38,2) -> 9.91 | AA38: 27721505 | AB38: =ROUND((AC38+AD38+AF38),2) -> 352.23 | AC38: =ROUND((ES38),2) -> 0 | AD38: =ROUND((((ET38)-(EU38))+AE38),2) -> 114.1 | AE38: =ROUND((EU38),2) -> 49.28 | AF38: =ROUND((EV38),2) -> 238.13 | AG38: =ROUND((AP38),2) -> 0 | AH38: =(EW38) -> 30.53 | AI38: =(EX38) -> 3.65 | AJ38: =ROUND((AS38),2) -> 0 | AK38: 352.23 | AL38: 0 | AM38: 114.1 | AN38: 49.28 | AO38: 238.13 | AP38: 0 | AQ38: 30.53 | AR38: 3.65 | AS38: 0 | AT38: 99 | AU38: 60 | AV38: 1 | AW38: 1 | AZ38: 1 | BA38: 1 | BB38: 1 | BC38: 1 | BH38: 0 | BI38: 1 | BJ38: ФЕР-2001, 46-04-010-02, приказ Минстроя России №1039/пр от 30.12.2016г. | BM38: 46001 | BN38: 0 | BP38: 0 | BQ38: 2 | BR38: 0 | BS38: 1 | BT38: 1 | BU38: 1 | BV38: 1 | BW38: 1 | BX38: 1 | BZ38: 110 | CA38: 70 | CF38: 0 | CG38: 0 | CM38: 0 | CO38: 0 | CP38: =(P38+Q38+S38) -> 20.25 | CQ38: =AC38*BC38 -> 0 | CR38: =AD38*BB38 -> 114.1 | CS38: =AE38*BS38 -> 49.28 | CT38: =AF38*BA38 -> 238.13 | CU38: =AG38 -> 0 | CV38: =AH38 -> 30.53 | CW38: =AI38 -> 3.65 | CX38: =AJ38 -> 0 | CY38: =(((S38+R38)*AT38)/100) -> 16.3548 | CZ38: =(((S38+R38)*AU38)/100) -> 9.912 | DN38: 0 | DO38: 0 | DP38: 1 | DQ38: 1 | DU38: 1005 | DV38: 100 м2 | DW38: 100 м2 | DX38: 100 | EE38: 27029091 | EF38: 2 | EG38: Общестроительные работы | EH38: 0 | EJ38: 1 | EK38: 46001 | EL38: Реконструкция зданий и сооружений | EM38: ФЕР-46 | EQ38: 0 | ER38: 352.23 | ES38: 0 | ET38: 114.1 | EU38: 49.28 | EV38: 238.13 | EW38: 30.53 | EX38: 3.65 | EY38: 0 | FQ38: 0 | FR38: =ROUND(IF(AND(BH38=3,BI38=3),P38,0),2) -> 0 | FS38: 0 | FT38: *0,9 | FU38: *0,85 | FX38: 99 | FY38: 59.5 | GD38: 0 | GF38: 1684720523 | GG38: 2 | GH38: 1 | GI38: -2 | GJ38: 0 | GK38: =ROUND(R38*(R12)/100,2) -> 0 | GL38: =ROUND(IF(AND(BH38=3,BI38=3,FS38<>0),P38,0),2) -> 0 | GM38: =ROUND(O38+X38+Y38+GK38,2)+GX38 -> 46.51 | GN38: =IF(OR(BI38=0,BI38=1),ROUND(O38+X38+Y38+GK38,2),0) -> 46.51 | GO38: =IF(BI38=2,ROUND(O38+X38+Y38+GK38,2),0) -> 0 | GP38: =IF(BI38=4,ROUND(O38+X38+Y38+GK38,2)+GX38,0) -> 0 | GR38: 0 | GS38: 3 | GT38: 0 | GV38: =ROUND(GT38,2) -> 0 | GW38: 1 | GX38: =ROUND(GV38*GW38*I38,2) -> 0 | HA38: 0 | HB38: 0 | IK38: 0
A39: 17 | B39: 1 | C39: =ROW(SmtRes!A72) -> 72 | D39: =ROW(EtalonRes!A78) -> 78 | E39: 5 | F39: 46-04-010-02 | G39: Разборка покрытий полов дощатых | H39: 100 м2 | I39: =ROUND(5.75/100,9) -> 0.0575 | J39: 0 | O39: =ROUND(CP39,2) -> 20.25 | P39: =ROUND(CQ39*I39,2) -> 0 | Q39: =ROUND(CR39*I39,2) -> 6.56 | R39: =ROUND(CS39*I39,2) -> 2.83 | S39: =ROUND(CT39*I39,2) -> 13.69 | T39: =ROUND(CU39*I39,2) -> 0 | U39: =CV39*I39 -> 1.755475 | V39: =CW39*I39 -> 0.209875 | W39: =ROUND(CX39*I39,2) -> 0 | X39: =ROUND(CY39,2) -> 16.35 | Y39: =ROUND(CZ39,2) -> 9.91 | AA39: 27721504 | AB39: =ROUND((AC39+AD39+AF39),2) -> 352.23 | AC39: =ROUND((ES39),2) -> 0 | AD39: =ROUND((((ET39)-(EU39))+AE39),2) -> 114.1 | AE39: =ROUND((EU39),2) -> 49.28 | AF39: =ROUND((EV39),2) -> 238.13 | AG39: =ROUND((AP39),2) -> 0 | AH39: =(EW39) -> 30.53 | AI39: =(EX39) -> 3.65 | AJ39: =ROUND((AS39),2) -> 0 | AK39: 352.23 | AL39: 0 | AM39: 114.1 | AN39: 49.28 | AO39: 238.13 | AP39: 0 | AQ39: 30.53 | AR39: 3.65 | AS39: 0 | AT39: 99 | AU39: 60 | AV39: 1 | AW39: 1 | AZ39: 1 | BA39: 1 | BB39: 1 | BC39: 1 | BH39: 0 | BI39: 1 | BJ39: ФЕР-2001, 46-04-010-02, приказ Минстроя России №1039/пр от 30.12.2016г. | BM39: 46001 | BN39: 0 | BP39: 0 | BQ39: 2 | BR39: 0 | BS39: 1 | BT39: 1 | BU39: 1 | BV39: 1 | BW39: 1 | BX39: 1 | BZ39: 110 | CA39: 70 | CF39: 0 | CG39: 0 | CM39: 0 | CO39: 0 | CP39: =(P39+Q39+S39) -> 20.25 | CQ39: =AC39*BC39 -> 0 | CR39: =AD39*BB39 -> 114.1 | CS39: =AE39*BS39 -> 49.28 | CT39: =AF39*BA39 -> 238.13 | CU39: =AG39 -> 0 | CV39: =AH39 -> 30.53 | CW39: =AI39 -> 3.65 | CX39: =AJ39 -> 0 | CY39: =(((S39+R39)*AT39)/100) -> 16.3548 | CZ39: =(((S39+R39)*AU39)/100) -> 9.912 | DN39: 0 | DO39: 0 | DP39: 1 | DQ39: 1 | DU39: 1005 | DV39: 100 м2 | DW39: 100 м2 | DX39: 100 | EE39: 27029091 | EF39: 2 | EG39: Общестроительные работы | EH39: 0 | EJ39: 1 | EK39: 46001 | EL39: Реконструкция зданий и сооружений | EM39: ФЕР-46 | EQ39: 0 | ER39: 352.23 | ES39: 0 | ET39: 114.1 | EU39: 49.28 | EV39: 238.13 | EW39: 30.53 | EX39: 3.65 | EY39: 0 | FQ39: 0 | FR39: =ROUND(IF(AND(BH39=3,BI39=3),P39,0),2) -> 0 | FS39: 0 | FT39: *0,9 | FU39: *0,85 | FX39: 99 | FY39: 59.5 | GD39: 0 | GF39: 1684720523 | GG39: 2 | GH39: 1 | GI39: -2 | GJ39: 0 | GK39: =ROUND(R39*(S12)/100,2) -> 0 | GL39: =ROUND(IF(AND(BH39=3,BI39=3,FS39<>0),P39,0),2) -> 0 | GM39: =ROUND(O39+X39+Y39+GK39,2)+GX39 -> 46.51 | GN39: =IF(OR(BI39=0,BI39=1),ROUND(O39+X39+Y39+GK39,2),0) -> 46.51 | GO39: =IF(BI39=2,ROUND(O39+X39+Y39+GK39,2),0) -> 0 | GP39: =IF(BI39=4,ROUND(O39+X39+Y39+GK39,2)+GX39,0) -> 0 | GR39: 0 | GS39: 0 | GT39: 0 | GV39: =ROUND(GT39,2) -> 0 | GW39: 1 | GX39: =ROUND(GV39*GW39*I39,2) -> 0 | HA39: 0 | HB39: 0 | IK39: 0
A40: 17 | B40: 1 | C40: =ROW(SmtRes!A75) -> 75 | D40: =ROW(EtalonRes!A81) -> 81 | E40: 6 | F40: 69-19-2 | G40: Разборка горизонтальных поверхностей бетонных конструкций при помощи отбойных молотков, бетон марки 150 | H40: м3 | I40: 1.19 | J40: 0 | O40: =ROUND(CP40,2) -> 522.43 | P40: =ROUND(CQ40*I40,2) -> 0 | Q40: =ROUND(CR40*I40,2) -> 344.89 | R40: =ROUND(CS40*I40,2) -> 0 | S40: =ROUND(CT40*I40,2) -> 177.54 | T40: =ROUND(CU40*I40,2) -> 0 | U40: =CV40*I40 -> 20.8131 | V40: =CW40*I40 -> 0 | W40: =ROUND(CX40*I40,2) -> 0 | X40: =ROUND(CY40,2) -> 138.48 | Y40: =ROUND(CZ40,2) -> 88.77 | AA40: 27721505 | AB40: =ROUND((AC40+AD40+AF40),2) -> 439.01 | AC40: =ROUND((ES40),2) -> 0 | AD40: =ROUND((((ET40)-(EU40))+AE40),2) -> 289.82 | AE40: =ROUND((EU40),2) -> 0 | AF40: =ROUND((EV40),2) -> 149.19 | AG40: =ROUND((AP40),2) -> 0 | AH40: =(EW40) -> 17.49 | AI40: =(EX40) -> 0 | AJ40: =ROUND((AS40),2) -> 0 | AK40: 439.01 | AL40: 0 | AM40: 289.82 | AN40: 0 | AO40: 149.19 | AP40: 0 | AQ40: 17.49 | AR40: 0 | AS40: 0 | AT40: 78 | AU40: 50 | AV40: 1 | AW40: 1 | AZ40: 1 | BA40: 1 | BB40: 1 | BC40: 1 | BH40: 0 | BI40: 1 | BJ40: ФЕР-2001, 69-19-2, приказ Минстроя России №1039/пр от 30.12.2016г. | BM40: 69001 | BN40: 0 | BP40: 0 | BQ40: 6 | BR40: 0 | BS40: 1 | BT40: 1 | BU40: 1 | BV40: 1 | BW40: 1 | BX40: 1 | BZ40: 78 | CA40: 50 | CF40: 0 | CG40: 0 | CM40: 0 | CO40: 0 | CP40: =(P40+Q40+S40) -> 522.43 | CQ40: =AC40*BC40 -> 0 | CR40: =AD40*BB40 -> 289.82 | CS40: =AE40*BS40 -> 0 | CT40: =AF40*BA40 -> 149.19 | CU40: =AG40 -> 0 | CV40: =AH40 -> 17.49 | CW40: =AI40 -> 0 | CX40: =AJ40 -> 0 | CY40: =(((S40+R40)*AT40)/100) -> 138.4812 | CZ40: =(((S40+R40)*AU40)/100) -> 88.77 | DN40: 0 | DO40: 0 | DP40: 1 | DQ40: 1 | DU40: 1007 | DV40: м3 | DW40: м3 | DX40: 1 | EE40: 27029150 | EF40: 6 | EG40: Ремонтно-строительные работы | EH40: 0 | EJ40: 1 | EK40: 69001 | EL40: Прочие ремонтно-строительные работы | EM40: рФЕР-69 | EQ40: 0 | ER40: 439.01 | ES40: 0 | ET40: 289.82 | EU40: 0 | EV40: 149.19 | EW40: 17.49 | EX40: 0 | EY40: 0 | FQ40: 0 | FR40: =ROUND(IF(AND(BH40=3,BI40=3),P40,0),2) -> 0 | FS40: 0 | FX40: 78 | FY40: 50 | GD40: 0 | GF40: -576118124 | GG40: 2 | GH40: 1 | GI40: -2 | GJ40: 0 | GK40: =ROUND(R40*(R12)/100,2) -> 0 | GL40: =ROUND(IF(AND(BH40=3,BI40=3,FS40<>0),P40,0),2) -> 0 | GM40: =ROUND(O40+X40+Y40+GK40,2)+GX40 -> 749.68 | GN40: =IF(OR(BI40=0,BI40=1),ROUND(O40+X40+Y40+GK40,2),0) -> 749.68 | GO40: =IF(BI40=2,ROUND(O40+X40+Y40+GK40,2),0) -> 0 | GP40: =IF(BI40=4,ROUND(O40+X40+Y40+GK40,2)+GX40,0) -> 0 | GR40: 0 | GS40: 3 | GT40: 0 | GV40: =ROUND(GT40,2) -> 0 | GW40: 1 | GX40: =ROUND(GV40*GW40*I40,2) -> 0 | HA40: 0 | HB40: 0 | IK40: 0
A41: 17 | B41: 1 | C41: =ROW(SmtRes!A78) -> 78 | D41: =ROW(EtalonRes!A84) -> 84 | E41: 6 | F41: 69-19-2 | G41: Разборка горизонтальных поверхностей бетонных конструкций при помощи отбойных молотков, бетон марки 150 | H41: м3 | I41: 1.19 | J41: 0 | O41: =ROUND(CP41,2) -> 522.43 | P41: =ROUND(CQ41*I41,2) -> 0 | Q41: =ROUND(CR41*I41,2) -> 344.89 | R41: =ROUND(CS41*I41,2) -> 0 | S41: =ROUND(CT41*I41,2) -> 177.54 | T41: =ROUND(CU41*I41,2) -> 0 | U41: =CV41*I41 -> 20.8131 | V41: =CW41*I41 -> 0 | W41: =ROUND(CX41*I41,2) -> 0 | X41: =ROUND(CY41,2) -> 138.48 | Y41: =ROUND(CZ41,2) -> 88.77 | AA41: 27721504 | AB41: =ROUND((AC41+AD41+AF41),2) -> 439.01 | AC41: =ROUND((ES41),2) -> 0 | AD41: =ROUND((((ET41)-(EU41))+AE41),2) -> 289.82 | AE41: =ROUND((EU41),2) -> 0 | AF41: =ROUND((EV41),2) -> 149.19 | AG41: =ROUND((AP41),2) -> 0 | AH41: =(EW41) -> 17.49 | AI41: =(EX41) -> 0 | AJ41: =ROUND((AS41),2) -> 0 | AK41: 439.01 | AL41: 0 | AM41: 289.82 | AN41: 0 | AO41: 149.19 | AP41: 0 | AQ41: 17.49 | AR41: 0 | AS41: 0 | AT41: 78 | AU41: 50 | AV41: 1 | AW41: 1 | AZ41: 1 | BA41: 1 | BB41: 1 | BC41: 1 | BH41: 0 | BI41: 1 | BJ41: ФЕР-2001, 69-19-2, приказ Минстроя России №1039/пр от 30.12.2016г. | BM41: 69001 | BN41: 0 | BP41: 0 | BQ41: 6 | BR41: 0 | BS41: 1 | BT41: 1 | BU41: 1 | BV41: 1 | BW41: 1 | BX41: 1 | BZ41: 78 | CA41: 50 | CF41: 0 | CG41: 0 | CM41: 0 | CO41: 0 | CP41: =(P41+Q41+S41) -> 522.43 | CQ41: =AC41*BC41 -> 0 | CR41: =AD41*BB41 -> 289.82 | CS41: =AE41*BS41 -> 0 | CT41: =AF41*BA41 -> 149.19 | CU41: =AG41 -> 0 | CV41: =AH41 -> 17.49 | CW41: =AI41 -> 0 | CX41: =AJ41 -> 0 | CY41: =(((S41+R41)*AT41)/100) -> 138.4812 | CZ41: =(((S41+R41)*AU41)/100) -> 88.77 | DN41: 0 | DO41: 0 | DP41: 1 | DQ41: 1 | DU41: 1007 | DV41: м3 | DW41: м3 | DX41: 1 | EE41: 27029150 | EF41: 6 | EG41: Ремонтно-строительные работы | EH41: 0 | EJ41: 1 | EK41: 69001 | EL41: Прочие ремонтно-строительные работы | EM41: рФЕР-69 | EQ41: 0 | ER41: 439.01 | ES41: 0 | ET41: 289.82 | EU41: 0 | EV41: 149.19 | EW41: 17.49 | EX41: 0 | EY41: 0 | FQ41: 0 | FR41: =ROUND(IF(AND(BH41=3,BI41=3),P41,0),2) -> 0 | FS41: 0 | FX41: 78 | FY41: 50 | GD41: 0 | GF41: -576118124 | GG41: 2 | GH41: 1 | GI41: -2 | GJ41: 0 | GK41: =ROUND(R41*(S12)/100,2) -> 0 | GL41: =ROUND(IF(AND(BH41=3,BI41=3,FS41<>0),P41,0),2) -> 0 | GM41: =ROUND(O41+X41+Y41+GK41,2)+GX41 -> 749.68 | GN41: =IF(OR(BI41=0,BI41=1),ROUND(O41+X41+Y41+GK41,2),0) -> 749.68 | GO41: =IF(BI41=2,ROUND(O41+X41+Y41+GK41,2),0) -> 0 | GP41: =IF(BI41=4,ROUND(O41+X41+Y41+GK41,2)+GX41,0) -> 0 | GR41: 0 | GS41: 0 | GT41: 0 | GV41: =ROUND(GT41,2) -> 0 | GW41: 1 | GX41: =ROUND(GV41*GW41*I41,2) -> 0 | HA41: 0 | HB41: 0 | IK41: 0
A42: 17 | B42: 1 | C42: =ROW(SmtRes!A80) -> 80 | D42: =ROW(EtalonRes!A86) -> 86 | E42: 7 | F42: 46-04-008-01 | G42: Разборка покрытий кровель из рулонных материалов | H42: 100 м2 | I42: =ROUND(40/100,9) -> 0.4 | J42: 0 | O42: =ROUND(CP42,2) -> 61.43 | P42: =ROUND(CQ42*I42,2) -> 0 | Q42: =ROUND(CR42*I42,2) -> 16.57 | R42: =ROUND(CS42*I42,2) -> 0 | S42: =ROUND(CT42*I42,2) -> 44.86 | T42: =ROUND(CU42*I42,2) -> 0 | U42: =CV42*I42 -> 5.752 | V42: =CW42*I42 -> 0 | W42: =ROUND(CX42*I42,2) -> 0 | X42: =ROUND(CY42,2) -> 44.41 | Y42: =ROUND(CZ42,2) -> 26.92 | AA42: 27721505 | AB42: =ROUND((AC42+AD42+AF42),2) -> 153.59 | AC42: =ROUND((ES42),2) -> 0 | AD42: =ROUND((((ET42)-(EU42))+AE42),2) -> 41.43 | AE42: =ROUND((EU42),2) -> 0 | AF42: =ROUND((EV42),2) -> 112.16 | AG42: =ROUND((AP42),2) -> 0 | AH42: =(EW42) -> 14.38 | AI42: =(EX42) -> 0 | AJ42: =ROUND((AS42),2) -> 0 | AK42: 153.59 | AL42: 0 | AM42: 41.43 | AN42: 0 | AO42: 112.16 | AP42: 0 | AQ42: 14.38 | AR42: 0 | AS42: 0 | AT42: 99 | AU42: 60 | AV42: 1 | AW42: 1 | AZ42: 1 | BA42: 1 | BB42: 1 | BC42: 1 | BH42: 0 | BI42: 1 | BJ42: ФЕР-2001, 46-04-008-01, приказ Минстроя России №1039/пр от 30.12.2016г. | BM42: 46001 | BN42: 0 | BP42: 0 | BQ42: 2 | BR42: 0 | BS42: 1 | BT42: 1 | BU42: 1 | BV42: 1 | BW42: 1 | BX42: 1 | BZ42: 110 | CA42: 70 | CF42: 0 | CG42: 0 | CM42: 0 | CO42: 0 | CP42: =(P42+Q42+S42) -> 61.43 | CQ42: =AC42*BC42 -> 0 | CR42: =AD42*BB42 -> 41.43 | CS42: =AE42*BS42 -> 0 | CT42: =AF42*BA42 -> 112.16 | CU42: =AG42 -> 0 | CV42: =AH42 -> 14.38 | CW42: =AI42 -> 0 | CX42: =AJ42 -> 0 | CY42: =(((S42+R42)*AT42)/100) -> 44.4114 | CZ42: =(((S42+R42)*AU42)/100) -> 26.916 | DN42: 0 | DO42: 0 | DP42: 1 | DQ42: 1 | DU42: 1005 | DV42: 100 м2 | DW42: 100 м2 | DX42: 100 | EE42: 27029091 | EF42: 2 | EG42: Общестроительные работы | EH42: 0 | EJ42: 1 | EK42: 46001 | EL42: Реконструкция зданий и сооружений | EM42: ФЕР-46 | EQ42: 0 | ER42: 153.59 | ES42: 0 | ET42: 41.43 | EU42: 0 | EV42: 112.16 | EW42: 14.38 | EX42: 0 | EY42: 0 | FQ42: 0 | FR42: =ROUND(IF(AND(BH42=3,BI42=3),P42,0),2) -> 0 | FS42: 0 | FT42: *0,9 | FU42: *0,85 | FX42: 99 | FY42: 59.5 | GD42: 0 | GF42: 467880597 | GG42: 2 | GH42: 1 | GI42: -2 | GJ42: 0 | GK42: =ROUND(R42*(R12)/100,2) -> 0 | GL42: =ROUND(IF(AND(BH42=3,BI42=3,FS42<>0),P42,0),2) -> 0 | GM42: =ROUND(O42+X42+Y42+GK42,2)+GX42 -> 132.76 | GN42: =IF(OR(BI42=0,BI42=1),ROUND(O42+X42+Y42+GK42,2),0) -> 132.76 | GO42: =IF(BI42=2,ROUND(O42+X42+Y42+GK42,2),0) -> 0 | GP42: =IF(BI42=4,ROUND(O42+X42+Y42+GK42,2)+GX42,0) -> 0 | GR42: 0 | GS42: 3 | GT42: 0 | GV42: =ROUND(GT42,2) -> 0 | GW42: 1 | GX42: =ROUND(GV42*GW42*I42,2) -> 0 | HA42: 0 | HB42: 0 | IK42: 0
A43: 17 | B43: 1 | C43: =ROW(SmtRes!A82) -> 82 | D43: =ROW(EtalonRes!A88) -> 88 | E43: 7 | F43: 46-04-008-01 | G43: Разборка покрытий кровель из рулонных материалов | H43: 100 м2 | I43: =ROUND(40/100,9) -> 0.4 | J43: 0 | O43: =ROUND(CP43,2) -> 61.43 | P43: =ROUND(CQ43*I43,2) -> 0 | Q43: =ROUND(CR43*I43,2) -> 16.57 | R43: =ROUND(CS43*I43,2) -> 0 | S43: =ROUND(CT43*I43,2) -> 44.86 | T43: =ROUND(CU43*I43,2) -> 0 | U43: =CV43*I43 -> 5.752 | V43: =CW43*I43 -> 0 | W43: =ROUND(CX43*I43,2) -> 0 | X43: =ROUND(CY43,2) -> 44.41 | Y43: =ROUND(CZ43,2) -> 26.92 | AA43: 27721504 | AB43: =ROUND((AC43+AD43+AF43),2) -> 153.59 | AC43: =ROUND((ES43),2) -> 0 | AD43: =ROUND((((ET43)-(EU43))+AE43),2) -> 41.43 | AE43: =ROUND((EU43),2) -> 0 | AF43: =ROUND((EV43),2) -> 112.16 | AG43: =ROUND((AP43),2) -> 0 | AH43: =(EW43) -> 14.38 | AI43: =(EX43) -> 0 | AJ43: =ROUND((AS43),2) -> 0 | AK43: 153.59 | AL43: 0 | AM43: 41.43 | AN43: 0 | AO43: 112.16 | AP43: 0 | AQ43: 14.38 | AR43: 0 | AS43: 0 | AT43: 99 | AU43: 60 | AV43: 1 | AW43: 1 | AZ43: 1 | BA43: 1 | BB43: 1 | BC43: 1 | BH43: 0 | BI43: 1 | BJ43: ФЕР-2001, 46-04-008-01, приказ Минстроя России №1039/пр от 30.12.2016г. | BM43: 46001 | BN43: 0 | BP43: 0 | BQ43: 2 | BR43: 0 | BS43: 1 | BT43: 1 | BU43: 1 | BV43: 1 | BW43: 1 | BX43: 1 | BZ43: 110 | CA43: 70 | CF43: 0 | CG43: 0 | CM43: 0 | CO43: 0 | CP43: =(P43+Q43+S43) -> 61.43 | CQ43: =AC43*BC43 -> 0 | CR43: =AD43*BB43 -> 41.43 | CS43: =AE43*BS43 -> 0 | CT43: =AF43*BA43 -> 112.16 | CU43: =AG43 -> 0 | CV43: =AH43 -> 14.38 | CW43: =AI43 -> 0 | CX43: =AJ43 -> 0 | CY43: =(((S43+R43)*AT43)/100) -> 44.4114 | CZ43: =(((S43+R43)*AU43)/100) -> 26.916 | DN43: 0 | DO43: 0 | DP43: 1 | DQ43: 1 | DU43: 1005 | DV43: 100 м2 | DW43: 100 м2 | DX43: 100 | EE43: 27029091 | EF43: 2 | EG43: Общестроительные работы | EH43: 0 | EJ43: 1 | EK43: 46001 | EL43: Реконструкция зданий и сооружений | EM43: ФЕР-46 | EQ43: 0 | ER43: 153.59 | ES43: 0 | ET43: 41.43 | EU43: 0 | EV43: 112.16 | EW43: 14.38 | EX43: 0 | EY43: 0 | FQ43: 0 | FR43: =ROUND(IF(AND(BH43=3,BI43=3),P43,0),2) -> 0 | FS43: 0 | FT43: *0,9 | FU43: *0,85 | FX43: 99 | FY43: 59.5 | GD43: 0 | GF43: 467880597 | GG43: 2 | GH43: 1 | GI43: -2 | GJ43: 0 | GK43: =ROUND(R43*(S12)/100,2) -> 0 | GL43: =ROUND(IF(AND(BH43=3,BI43=3,FS43<>0),P43,0),2) -> 0 | GM43: =ROUND(O43+X43+Y43+GK43,2)+GX43 -> 132.76 | GN43: =IF(OR(BI43=0,BI43=1),ROUND(O43+X43+Y43+GK43,2),0) -> 132.76 | GO43: =IF(BI43=2,ROUND(O43+X43+Y43+GK43,2),0) -> 0 | GP43: =IF(BI43=4,ROUND(O43+X43+Y43+GK43,2)+GX43,0) -> 0 | GR43: 0 | GS43: 0 | GT43: 0 | GV43: =ROUND(GT43,2) -> 0 | GW43: 1 | GX43: =ROUND(GV43*GW43*I43,2) -> 0 | HA43: 0 | HB43: 0 | IK43: 0
A44: 17 | B44: 1 | C44: =ROW(SmtRes!A85) -> 85 | D44: =ROW(EtalonRes!A91) -> 91 | E44: 8 | F44: 58-3-1 | G44: Разборка мелких покрытий и обделок из листовой стали поясков, сандриков, желобов, отливов, свесов и т.п. | H44: 100 м | I44: =ROUND(26/100,9) -> 0.26 | J44: 0 | O44: =ROUND(CP44,2) -> 18.5 | P44: =ROUND(CQ44*I44,2) -> 0 | Q44: =ROUND(CR44*I44,2) -> 0.05 | R44: =ROUND(CS44*I44,2) -> 0 | S44: =ROUND(CT44*I44,2) -> 18.45 | T44: =ROUND(CU44*I44,2) -> 0 | U44: =CV44*I44 -> 2.366 | V44: =CW44*I44 -> 0 | W44: =ROUND(CX44*I44,2) -> 0 | X44: =ROUND(CY44,2) -> 15.31 | Y44: =ROUND(CZ44,2) -> 11.99 | AA44: 27721505 | AB44: =ROUND((AC44+AD44+AF44),2) -> 71.18 | AC44: =ROUND((ES44),2) -> 0 | AD44: =ROUND((((ET44)-(EU44))+AE44),2) -> 0.2 | AE44: =ROUND((EU44),2) -> 0 | AF44: =ROUND((EV44),2) -> 70.98 | AG44: =ROUND((AP44),2) -> 0 | AH44: =(EW44) -> 9.1 | AI44: =(EX44) -> 0 | AJ44: =ROUND((AS44),2) -> 0 | AK44: 71.18 | AL44: 0 | AM44: 0.2 | AN44: 0 | AO44: 70.98 | AP44: 0 | AQ44: 9.1 | AR44: 0 | AS44: 0 | AT44: 83 | AU44: 65 | AV44: 1 | AW44: 1 | AZ44: 1 | BA44: 1 | BB44: 1 | BC44: 1 | BH44: 0 | BI44: 1 | BJ44: ФЕРр-2001, 58-3-1, приказ Минстроя России №1039/пр от 30.12.2016г. | BM44: 58001 | BN44: 0 | BP44: 0 | BQ44: 6 | BR44: 0 | BS44: 1 | BT44: 1 | BU44: 1 | BV44: 1 | BW44: 1 | BX44: 1 | BZ44: 83 | CA44: 65 | CF44: 0 | CG44: 0 | CM44: 0 | CO44: 0 | CP44: =(P44+Q44+S44) -> 18.5 | CQ44: =AC44*BC44 -> 0 | CR44: =AD44*BB44 -> 0.2 | CS44: =AE44*BS44 -> 0 | CT44: =AF44*BA44 -> 70.98 | CU44: =AG44 -> 0 | CV44: =AH44 -> 9.1 | CW44: =AI44 -> 0 | CX44: =AJ44 -> 0 | CY44: =(((S44+R44)*AT44)/100) -> 15.3135 | CZ44: =(((S44+R44)*AU44)/100) -> 11.9925 | DN44: 0 | DO44: 0 | DP44: 1 | DQ44: 1 | DU44: 1003 | DV44: 100 м | DW44: 100 м | DX44: 100 | EE44: 27029103 | EF44: 6 | EG44: Ремонтно-строительные работы | EH44: 0 | EJ44: 1 | EK44: 58001 | EL44: Крыши, кровля | EM44: рФЕР-58 | EQ44: 0 | ER44: 71.18 | ES44: 0 | ET44: 0.2 | EU44: 0 | EV44: 70.98 | EW44: 9.1 | EX44: 0 | EY44: 0 | FQ44: 0 | FR44: =ROUND(IF(AND(BH44=3,BI44=3),P44,0),2) -> 0 | FS44: 0 | FX44: 83 | FY44: 65 | GD44: 0 | GF44: -902764851 | GG44: 2 | GH44: 1 | GI44: -2 | GJ44: 0 | GK44: =ROUND(R44*(R12)/100,2) -> 0 | GL44: =ROUND(IF(AND(BH44=3,BI44=3,FS44<>0),P44,0),2) -> 0 | GM44: =ROUND(O44+X44+Y44+GK44,2)+GX44 -> 45.8 | GN44: =IF(OR(BI44=0,BI44=1),ROUND(O44+X44+Y44+GK44,2),0) -> 45.8 | GO44: =IF(BI44=2,ROUND(O44+X44+Y44+GK44,2),0) -> 0 | GP44: =IF(BI44=4,ROUND(O44+X44+Y44+GK44,2)+GX44,0) -> 0 | GR44: 0 | GS44: 3 | GT44: 0 | GV44: =ROUND(GT44,2) -> 0 | GW44: 1 | GX44: =ROUND(GV44*GW44*I44,2) -> 0 | HA44: 0 | HB44: 0 | IK44: 0
A45: 17 | B45: 1 | C45: =ROW(SmtRes!A88) -> 88 | D45: =ROW(EtalonRes!A94) -> 94 | E45: 8 | F45: 58-3-1 | G45: Разборка мелких покрытий и обделок из листовой стали поясков, сандриков, желобов, отливов, свесов и т.п. | H45: 100 м | I45: =ROUND(26/100,9) -> 0.26 | J45: 0 | O45: =ROUND(CP45,2) -> 18.5 | P45: =ROUND(CQ45*I45,2) -> 0 | Q45: =ROUND(CR45*I45,2) -> 0.05 | R45: =ROUND(CS45*I45,2) -> 0 | S45: =ROUND(CT45*I45,2) -> 18.45 | T45: =ROUND(CU45*I45,2) -> 0 | U45: =CV45*I45 -> 2.366 | V45: =CW45*I45 -> 0 | W45: =ROUND(CX45*I45,2) -> 0 | X45: =ROUND(CY45,2) -> 15.31 | Y45: =ROUND(CZ45,2) -> 11.99 | AA45: 27721504 | AB45: =ROUND((AC45+AD45+AF45),2) -> 71.18 | AC45: =ROUND((ES45),2) -> 0 | AD45: =ROUND((((ET45)-(EU45))+AE45),2) -> 0.2 | AE45: =ROUND((EU45),2) -> 0 | AF45: =ROUND((EV45),2) -> 70.98 | AG45: =ROUND((AP45),2) -> 0 | AH45: =(EW45) -> 9.1 | AI45: =(EX45) -> 0 | AJ45: =ROUND((AS45),2) -> 0 | AK45: 71.18 | AL45: 0 | AM45: 0.2 | AN45: 0 | AO45: 70.98 | AP45: 0 | AQ45: 9.1 | AR45: 0 | AS45: 0 | AT45: 83 | AU45: 65 | AV45: 1 | AW45: 1 | AZ45: 1 | BA45: 1 | BB45: 1 | BC45: 1 | BH45: 0 | BI45: 1 | BJ45: ФЕРр-2001, 58-3-1, приказ Минстроя России №1039/пр от 30.12.2016г. | BM45: 58001 | BN45: 0 | BP45: 0 | BQ45: 6 | BR45: 0 | BS45: 1 | BT45: 1 | BU45: 1 | BV45: 1 | BW45: 1 | BX45: 1 | BZ45: 83 | CA45: 65 | CF45: 0 | CG45: 0 | CM45: 0 | CO45: 0 | CP45: =(P45+Q45+S45) -> 18.5 | CQ45: =AC45*BC45 -> 0 | CR45: =AD45*BB45 -> 0.2 | CS45: =AE45*BS45 -> 0 | CT45: =AF45*BA45 -> 70.98 | CU45: =AG45 -> 0 | CV45: =AH45 -> 9.1 | CW45: =AI45 -> 0 | CX45: =AJ45 -> 0 | CY45: =(((S45+R45)*AT45)/100) -> 15.3135 | CZ45: =(((S45+R45)*AU45)/100) -> 11.9925 | DN45: 0 | DO45: 0 | DP45: 1 | DQ45: 1 | DU45: 1003 | DV45: 100 м | DW45: 100 м | DX45: 100 | EE45: 27029103 | EF45: 6 | EG45: Ремонтно-строительные работы | EH45: 0 | EJ45: 1 | EK45: 58001 | EL45: Крыши, кровля | EM45: рФЕР-58 | EQ45: 0 | ER45: 71.18 | ES45: 0 | ET45: 0.2 | EU45: 0 | EV45: 70.98 | EW45: 9.1 | EX45: 0 | EY45: 0 | FQ45: 0 | FR45: =ROUND(IF(AND(BH45=3,BI45=3),P45,0),2) -> 0 | FS45: 0 | FX45: 83 | FY45: 65 | GD45: 0 | GF45: -902764851 | GG45: 2 | GH45: 1 | GI45: -2 | GJ45: 0 | GK45: =ROUND(R45*(S12)/100,2) -> 0 | GL45: =ROUND(IF(AND(BH45=3,BI45=3,FS45<>0),P45,0),2) -> 0 | GM45: =ROUND(O45+X45+Y45+GK45,2)+GX45 -> 45.8 | GN45: =IF(OR(BI45=0,BI45=1),ROUND(O45+X45+Y45+GK45,2),0) -> 45.8 | GO45: =IF(BI45=2,ROUND(O45+X45+Y45+GK45,2),0) -> 0 | GP45: =IF(BI45=4,ROUND(O45+X45+Y45+GK45,2)+GX45,0) -> 0 | GR45: 0 | GS45: 0 | GT45: 0 | GV45: =ROUND(GT45,2) -> 0 | GW45: 1 | GX45: =ROUND(GV45*GW45*I45,2) -> 0 | HA45: 0 | HB45: 0 | IK45: 0
