Workbook
Name Constr: '4-684'!#REF!
Name FOT: '4-684'!#REF!
Name Ind: '4-684'!#REF!
Name Obj: '4-684'!#REF!
Name Obosn: '4-684'!#REF!
Name SmPr: '4-684'!#REF!
Name аааааппппппрррппппппп: #REF!
Name аараооооооооооооо: #REF!
Name автом: #REF!
Name алшрльоплварл: #REF!
Name аолвлддддддддддддддддввввввввв: #REF!
Name апарв: #REF!
Name апрлдджаоырыфрпопрлпрлпрлп: #REF!
Name арлггаджаш: #REF!
Name ароррбллтблпроорапииас: #REF!
Name арррррблллпдрлдддддддддд: #REF!
Name варпаааааааааа: #REF!
Name ввпьььььлднд: #REF!
Name вед: #REF!
Name вертикальная: #REF!
Name вертикплан: #REF!
Name волен: #REF!
Name вп: #REF!
Name впырпфдыпл: #REF!
Name впьглорьтитттттттттт: #REF!
Name всввввввввввввввввввввввввв: #REF!
Name выб: #REF!
Name выпуск: #REF!
Name выьлепвввввпмп: #REF!
Name еваопродолжэрщэрзшщщх: #REF!
Name измен: #REF!
Name итого: #REF!
Name итого_сантех: #REF!
Name итого_стр: #REF!
Name итого_строит: #REF!
Name итого_технол: #REF!
Name итого_электр: #REF!
Name квота: #REF!
Name кккккккккк: #REF!
Name корек: #REF!
Name корект: #REF!
Name корректир: #REF!
Name лен: #REF!
Name лот: #REF!
Name мамиааааааааааааааааааааааааааааа: #REF!
Name ммпоослччччччччччрччапппппппппр: #REF!
Name мрол: #REF!
Name оз: #REF!
Name озелен: #REF!
Name озеленение: #REF!
Name озеленение2: #REF!
Name ОСР: #REF!
Name ОСР110: #REF!
Name ОСР111: #REF!
Name план: #REF!
Name планировка: #REF!
Name плдщхэж.юрббдлююбо: #REF!
Name площадки: #REF!
Name пос: #REF!
Name прав: #REF!

Sheet 4-684
A1: СОГЛАСОВАНО: | I1: УТВЕРЖДАЮ:
A4: ______________ | I4: ____________
A5: " _____ " ________________ 2012 г. | I5: "______ " _______________2012 г.
D6: Реконструкция комплекса по переработке ХВО
D7: (наименование стройки)
D9: ЛОКАЛЬНЫЙ СМЕТНЫЙ РАСЧЕТ № 09-01-01/4-684 (313-2497)
D10: (локальная смета)
A12: на | B12: ПНР "вхолостую" технологического оборудования (взамен инв.№313-2047/19-4-2110), Здание 753А
D13: (наименование работ и затрат, наименование объекта)
B15: Основание: р.ч.0503.07А.0000-СМ.ВОР4.ТХ инв.№313-2498, заключение экспертизы №0026-14/ЕГЭ-2791/06 от 09.01.2014
B16: Сметная стоимость прочих _______________________________________________________________________________________________ | D16: ___________________________25,596 | F16: тыс. руб.
B17: Средства на оплату труда _______________________________________________________________________________________________ | D17: ___________________________41,619 | F17: тыс. руб.
B18: Сметная трудоемкость _______________________________________________________________________________________________ | D18: _______________________________________________________________________________________________2072,1 | F18: чел.час
B19: Составлен(а) в ценах по состоянию на 01.01.2000 г. (редакция 2009г.)
A22: № пп | B22: Шифр и номер позиции норматива | C22: Наименование работ и затрат, единица измерения | D22: Количество | E22: Стоимость единицы, руб. | G22: Общая стоимость, руб. | J22: Затраты труда рабочих, чел.-ч, не занятых обслуживанием машин
E23: всего | F23: эксплуата- ции машин | G23: Всего | H23: оплаты труда | I23: эксплуата- ция машин
E24: оплаты труда | F24: в т.ч. оплаты труда | I24: в т.ч. оплаты труда | J24: на единицу | K24: всего
A25: 1 | B25: 2 | C25: 3 | D25: 4 | E25: 5 | F25: 6 | G25: 7 | H25: 8 | I25: 9 | J25: 10 | K25: 11
A26: Раздел 1. Пусконаладочные работы
A27: Учтен к=1,0434 к ФОТ
A29: Комплексная система регенерации СОЖ
A30: 1 | B30: ТЕРп07-04-063-01 прим | C30: Установка вакуумно-дистилляционная (1 установка) | D30: 1 | E30: 7706,7 7706,7 | G30: 7707 | H30: 7707 | J30: 363 | K30: 363
A31: 2 | B31: ТЕРп07-05-008-01 прим | C31: Установка SKIM с подающим насосом и фильтром DETEX (1 установка) | D31: 1 | E31: 3697,45 3697,45 | G31: 3697 | H31: 3697 | J31: 184 | K31: 184
A32: 3 | B32: ТЕРп08-03-003-01 прим | C32: Линия гранулирования пластмасс (1 компл.) | D32: 1 | E32: 8337,11 8337,11 | G32: 8337 | H32: 8337 | J32: 453 | K32: 453
A33: 4 | B33: ТЕРп08-01-002-03 прим | C33: Измельчитель роторный (1 шт.) | D33: 1 | E33: 1819,12 1819,12 | G33: 1819 | H33: 1819 | J33: 110 | K33: 110
A34: 5 | B34: ТЕРп08-02-002-01 | C34: Станок торцовочный (1 шт.) | D34: 1 | E34: 671,29 671,29 | G34: 671 | H34: 671 | J34: 41 | K34: 41
A35: 6 | B35: ТЕРп05-01-020-03 прим | C35: Комплекс оборудования для обезвреживания отходов аккумуляторного производства (1 шт.) | D35: 1 | E35: 12552,04 12552,04 | G35: 12552 | H35: 12552 | J35: 585 | K35: 585
A36: 7 | B36: ТЕРп09-02-035-01 | C36: группа насосов одного назначения,производительность до 1600 м3/сут (1 установка) | D36: 2 | E36: 618,12 618,12 | G36: 1236 | H36: 1236 | J36: 27 | K36: 54
A37: Оборудование для ремонта и обслуживания автомобилей
A38: 8 | B38: ТЕРп05-02-002-05 | C38: Станок токарно-универсальный (1 шт.) | D38: 1 | E38: 243,43 243,43 | G38: 243 | H38: 243 | J38: 13 | K38: 13
A39: 9 | B39: ТЕРп05-02-005-02 | C39: Станок вертикально-сверлильный,наибольший диаметр сверления 0,4-3 мм (1 шт.) | D39: 1 | E39: 1011,14 1011,14 | G39: 1011 | H39: 1011 | J39: 54 | K39: 54
A40: 10 | B40: ТЕРп05-02-011-04 прим | C40: Станок точильно-шлифовальный, класс точности В (1 шт.) | D40: 1 | E40: 898,8 898,8 | G40: 899 | H40: 899 | J40: 48 | K40: 48
A41: 11 | B41: ТЕРп07-03-013-01 прим | C41: Устройство для удаления выхлопных газов с шлангом и насадкой (1 к-т) | D41: 3 | E41: 100,48 100,48 | G41: 301 | H41: 301 | J41: 5 | K41: 15
A42: 12 | B42: ТЕРп01-07-001-01 | C42: Электродвигатель асинхронный с короткозамкнутым ротором, напряжением до 1 кВ (механизм открывания ворот) (1 шт.) | D42: 5 | E42: 49,79 49,79 | G42: 249 | H42: 249 | J42: 3 | K42: 15
A43: Лабораторное оборудование
A44: 13 | B44: ТЕРп07-03-021-01 прим | C44: Шкаф сушильно- вытяжной (1 шт) | D44: 3 1+1+1 | E44: 403,38 403,38 | G44: 1210 | H44: 1210 | J44: 19 | K44: 57
A45: Компрессорная
A46: 14 | B46: ТЕРп06-01-001-01 | C46: Компрессорная установка с герметичным компрессором (1 установка) | D46: 2 | E46: 279,84 279,84 | G46: 560 | H46: 560 | J46: 15 | K46: 30
A47: Помещение хранения дизельного топлива
A48: 15 | B48: ТЕРп09-02-035-02 | C48: Группа насосов одного назначения, производительность до 8000 м3/сут (1 установка) | D48: 1 | E48: 869,95 869,95 | G48: 870 | H48: 870 | J48: 38 | K48: 38
...

Sheet 4-686
A1: СОГЛАСОВАНО: | I1: УТВЕРЖДАЮ:
A4: ______________ | I4: ____________
A5: " _____ " ________________ 2012 г. | I5: "______ " _______________2012 г.
D6: Реконструкция комплекса по переработке ХВО (пл.7а)
D7: (наименование стройки)
D9: ЛОКАЛЬНЫЙ СМЕТНЫЙ РАСЧЕТ № 09-01-02/4-686 (313-2497)
D10: (локальная смета)
A12: на | B12: ПНР "вхолостую" грузоподъемного оборудования (взамен инв.№313-2047/19-4-2111), Здание 753А
D13: (наименование работ и затрат, наименование объекта)
B15: Основание: р.ч.0503.07А.0000-СМ.ВОР4.ТХ инв.№313-2498, заключение экспертизы №0026-14/ЕГЭ-2791/06 от 09.01.2014
B16: Сметная стоимость прочих _______________________________________________________________________________________________ | D16: ___________________________12,961 | F16: тыс. руб.
B17: Средства на оплату труда _______________________________________________________________________________________________ | D17: ___________________________11,495 | F17: тыс. руб.
B18: Сметная трудоемкость _______________________________________________________________________________________________ | D18: _______________________________________________________________________________________________656 | F18: чел.час
B19: Составлен(а) в ценах по состоянию на 01.01.2000 г. (редакция 2009г.)
A22: № пп | B22: Шифр и номер позиции норматива | C22: Наименование работ и затрат, единица измерения | D22: Количество | E22: Стоимость единицы, руб. | G22: Общая стоимость, руб. | J22: Затраты труда рабочих, чел.-ч, не занятых обслуживанием машин
E23: всего | F23: эксплуата- ции машин | G23: Всего | H23: оплаты труда | I23: эксплуата- ция машин
E24: оплаты труда | F24: в т.ч. оплаты труда | I24: в т.ч. оплаты труда | J24: на единицу | K24: всего
A25: 1 | B25: 2 | C25: 3 | D25: 4 | E25: 5 | F25: 6 | G25: 7 | H25: 8 | I25: 9 | J25: 10 | K25: 11
A26: Раздел 1. Пусконаладочные работы
A27: Учтен к=1,0434 к ФОТ
A28: 1 | B28: ТЕРп04-01-001-02 | C28: Кран подвесной электрический однобалочный однопролетный, управление с пола, высота подъема - 6, 12, 18 м; скорость: подъема - 8 м/мин, передвижения тали - 20 м/мин, передвижения крана - 32 м/мин; грузоподъемность 2 т (1 кран) | D28: 3 | E28: 1398,16 1398,16 | G28: 4194 | H28: 4194 | J28: 80 | K28: 240
A29: 2 | B29: ТЕРп04-01-001-01 | C29: Кран подвесной электрический однобалочный однопролетный, управление с пола, высота подъема - 6, 12, 18 м; скорость: подъема - 8 м/мин, передвижения тали - 20 м/мин, передвижения крана - 32 м/мин; грузоподъемность 1 т (1 кран) | D29: 6 | E29: 1136 1136 | G29: 6816 | H29: 6816 | J29: 65 | K29: 390
A30: 3 | B30: ТЕРп04-01-035-02 прим | C30: Таль ручная передвижная, грузоподъемность до 1 т (1 кран) | D30: 1 | E30: 485,06 485,06 | G30: 485 | H30: 485 | J30: 26 | K30: 26
A31: Итого прямые затраты по разделу в ценах 2001г. | G31: 11495 | H31: 11495 | K31: 656
A32: Накладные расходы | G32: 7472
A33: Сметная прибыль | G33: 4598
A34: Итоги по разделу 1 Пусконаладочные работы :
A35: Пусконаладочные работы: 'вхолостую' - 55%, 'под нагрузкой' - 45% | G35: 23565 | K35: 656
A36: Итого | G36: 23565 | K36: 656
A37: В том числе:
A38: ФОТ | G38: 11495
A39: Накладные расходы | G39: 7472
A40: Сметная прибыль | G40: 4598
A41: Итого по разделу 1 Пусконаладочные работы | G41: 23565 | K41: 656
A42: ИТОГИ ПО СМЕТЕ:
A43: Итого прямые затраты по смете в ценах 2001г. | G43: 11495 | H43: 11495 | K43: 656
A44: Накладные расходы | G44: 7472
A45: Сметная прибыль | G45: 4598
A46: Итоги по смете:
A47: Пусконаладочные работы: 'вхолостую' - 55%, 'под нагрузкой' - 45% | G47: 23565 | K47: 656
...

Sheet 3-247
A1: СОГЛАСОВАНО: | I1: УТВЕРЖДАЮ:
A4: ______________ | I4: ____________
A5: " _____ " ________________ 2012 г. | I5: "______ " _______________2012 г.
D6: Реконструкция комплекса по переработке ХВО (пл.7А)
D7: (наименование стройки)
D9: ЛОКАЛЬНЫЙ СМЕТНЫЙ РАСЧЕТ № 09-01-03/3-247 (313-2497)
D10: (локальная смета)
A12: на | B12: ПНР "вхолостую" вентиляционного оборудования, Здание 753А
D13: (наименование работ и затрат, наименование объекта)
B15: Основание: р.ч.0503.07А.0000-СМ.ВОР3.ОВ инв.№313-2498, заключение экспертизы №0026-14/ЕГЭ-2791/06 от 09.01.2014
B16: Сметная стоимость прочих _______________________________________________________________________________________________ | D16: ___________________________105,811 | F16: тыс. руб.
B17: Средства на оплату труда _______________________________________________________________________________________________ | D17: ___________________________64,519 | F17: тыс. руб.
B18: Сметная трудоемкость _______________________________________________________________________________________________ | D18: _______________________________________________________________________________________________3171,34 | F18: чел.час
B19: Трудозатраты механизаторов _______________________________________________________________________________________________ | D19: _______________________________________________________________________________________________0 | F19: чел.час
B20: Составлен(а) в ценах по состоянию на 01.01.2000г. (редакция 2009г.)
A23: № пп | B23: Шифр и номер позиции норматива | C23: Наименование работ и затрат, единица измерения | D23: Количество | E23: Стоимость единицы, руб. | G23: Общая стоимость, руб. | J23: Затраты труда рабочих, чел.-ч, не занятых обслуживанием машин
E24: всего | F24: эксплуата- ции машин | G24: Всего | H24: оплаты труда | I24: эксплуата- ция машин
E25: оплаты труда | F25: в т.ч. оплаты труда | I25: в т.ч. оплаты труда | J25: на единицу | K25: всего
A26: 1 | B26: 2 | C26: 3 | D26: 4 | E26: 5 | F26: 6 | G26: 7 | H26: 8 | I26: 9 | J26: 10 | K26: 11
A27: Раздел 1. Пусконаладочные работы
A28: Учтен к=1,0434 к ФОТ
A29: 1 | B29: ТЕРп03-01-008-01 | C29: Камера приточная (1 устройство) | D29: 9 | E29: 193,63 193,63 | G29: 1743 | H29: 1743 | J29: 10 | K29: 90
A30: 2 | B30: ТЕРп03-01-022-02 | C30: Сеть систем вентиляции и кондиционирования воздуха при количестве сечений до 10 (1 вентиляционная сеть) | D30: 9 | E30: 278,39 278,39 | G30: 2506 | H30: 2506 | J30: 14 | K30: 126
A31: Системы автоматики для приточных систем
A32: 3 | B32: ТЕРп02-01-001-07 | C32: Автоматизированная система управления I категории технической сложности с количеством каналов (Кобщ) 40 (1 система) | D32: 9 | E32: 5232,49 5232,49 | G32: 47092 | H32: 47092 | J32: 251 | K32: 2259
A33: 4 | B33: ТЕРп01-03-008-01 | C33: Выключатель нагрузки напряжением до 11 кВ (1 шт.) | D33: 9 | E33: 161,56 161,56 | G33: 1454 | H33: 1454 | J33: 9 | K33: 81
A34: 5 | B34: ТЕРп01-04-002-01 | C34: Максимальная токовая тепловая защита с одним реле (1 компл.) | D34: 63 7*9 | E34: 55,97 55,97 | G34: 3526 | H34: 3526 | J34: 3 | K34: 189
A35: 6 | B35: ТЕРп01-11-011-01 | C35: Проверка наличия цепи между заземлителями и заземленными элементами (100 точек) | D35: 0.09 | E35: 301,17 301,17 | G35: 27 | H35: 27 | J35: 16 | K35: 1.44
A36: 7 | B36: ТЕРп01-11-013-01 | C36: Замер полного сопротивления цепи «фаза-нуль» (1 токоприемник) | D36: 72 9+63 | E36: 28,23 28,23 | G36: 2033 | H36: 2033 | J36: 1.5 | K36: 108
A37: 8 | B37: ТЕРп01-11-028-01 | C37: Измерение сопротивления изоляции мегаомметром кабельных и других линий напряжением до 1 кВ, предназначенных для передачи электроэнергии к распределительным устройствам, щитам, шкафам, коммутационным аппаратам и электропотребителям (1 линия) | D37: 9 | E37: 7,53 7,53 | G37: 68 | H37: 68 | J37: 0.4 | K37: 3.6
A39: 9 | B39: ТЕРп03-01-002-13 | C39: Вентилятор радиальный (центробежный), диаметральный или крышный до № 5 (1 устройство) | D39: 30 | E39: 96,82 96,82 | G39: 2905 | H39: 2905 | J39: 5 | K39: 150
A40: 10 | B40: ТЕРп03-01-002-14 | C40: Вентилятор радиальный (центробежный), диаметральный или крышный до № 10 (1 устройство) | D40: 8 | E40: 135,55 135,55 | G40: 1084 | H40: 1084 | J40: 7 | K40: 56
A41: 11 | B41: ТЕРп03-01-030-01 | C41: Циклон (1 устройство) | D41: 2 | E41: 38,73 38,73 | G41: 77 | H41: 77 | J41: 2 | K41: 4
A42: 12 | B42: ТЕРп03-01-029-03 | C42: Фильтр воздушный (1 устройство) | D42: 2 | E42: 63,9 63,9 | G42: 128 | H42: 128 | J42: 3.3 | K42: 6.6
A43: 13 | B43: ТЕРп03-01-007-01 | C43: Завеса воздушно-тепловая (регулируемая) (1 устройство) | D43: 8 | E43: 193,63 193,63 | G43: 1549 | H43: 1549 | J43: 10 | K43: 80
A44: 14 | B44: ТЕРп03-01-007-01 | C44: Агрегат воздушно-отопительный (1 устройство) | D44: 1 | E44: 193,63 193,63 | G44: 194 | H44: 194 | J44: 10 | K44: 10
A45: 15 | B45: ТЕРп03-01-075-01 | C45: Кондиционер местный бытовой (1 кондиционер) | D45: 1 | E45: 133,23 133,23 | G45: 133 | H45: 133 | J45: 6.7 | K45: 6.7
A46: Итого прямые затраты по разделу в ценах 2001г. | G46: 64519 | H46: 64519 | K46: 3171.34
A47: Накладные расходы | G47: 41937
A48: Сметная прибыль | G48: 25808
...

Sheet 4-680
A1: СОГЛАСОВАНО: | I1: УТВЕРЖДАЮ:
A4: ______________ | I4: ____________
A5: " _____ " ________________ 2012 г. | I5: "______ " _______________2012 г.
D6: Реконструкция комплекса по переработке ХВО (пл.7А)
D7: (наименование стройки)
D9: ЛОКАЛЬНЫЙ СМЕТНЫЙ РАСЧЕТ № 09-01-04/4-680 (313-2497)
D10: (локальная смета)
A12: на | B12: ПНР "вхолостую" силовое электрооборудование (взамен инв.№313-2047/19-4-2112), Здание 753А
D13: (наименование работ и затрат, наименование объекта)
B15: Основание: р.ч.0503.07А.0000-СМ.ВОР3.ЭМ инв.№313-2498, заключение экспертизы №0026-14/ЕГЭ-2791/06 от 09.01.2014
B16: Сметная стоимость прочих _______________________________________________________________________________________________ | D16: ___________________________69,543 | F16: тыс. руб.
B17: Средства на оплату труда _______________________________________________________________________________________________ | D17: ___________________________42,404 | F17: тыс. руб.
B18: Сметная трудоемкость _______________________________________________________________________________________________ | D18: _______________________________________________________________________________________________2510,66 | F18: чел.час
B19: Составлен(а) в ценах по состоянию на 01.01.2000 г. (редакция 2009г.)
A22: № пп | B22: Шифр и номер позиции норматива | C22: Наименование работ и затрат, единица измерения | D22: Количество | E22: Стоимость единицы, руб. | G22: Общая стоимость, руб. | J22: Затраты труда рабочих, чел.-ч, не занятых обслуживанием машин
E23: всего | F23: эксплуата- ции машин | G23: Всего | H23: оплаты труда | I23: эксплуата- ция машин
E24: оплаты труда | F24: в т.ч. оплаты труда | I24: в т.ч. оплаты труда | J24: на единицу | K24: всего
A25: 1 | B25: 2 | C25: 3 | D25: 4 | E25: 5 | F25: 6 | G25: 7 | H25: 8 | I25: 9 | J25: 10 | K25: 11
A26: Раздел 1. Пусконаладочные работы
A27: Учтен к=1,0434 к ФОТ
A28: ВРУ
A29: 1 | B29: ТЕРп01-03-008-01 | C29: Выключатель нагрузки напряжением до 11 кВ (1 шт.) | D29: 8 | E29: 161,56 161,56 | G29: 1292 | H29: 1292 | J29: 9 | K29: 72
A30: 2 | B30: ТЕРп01-03-002-04 | C30: Выключатель трехполюсный напряжением до 1 кВ с электромагнитным, тепловым или комбинированным расцепителем, номинальный ток до 50 А (1 шт.) | D30: 24 | E30: 27,62 27,62 | G30: 663 | H30: 663 | J30: 2 | K30: 48
A31: 3 | B31: ТЕРп01-03-002-05 | C31: Выключатель трехполюсный напряжением до 1 кВ с электромагнитным, тепловым или комбинированным расцепителем, номинальный ток до 200 А (1 шт.) | D31: 12 | E31: 41,43 41,43 | G31: 497 | H31: 497 | J31: 3 | K31: 36
A32: 4 | B32: ТЕРп01-02-017-01 | C32: Трансформатор тока измерительный выносной напряжением до 1 кВ (1 шт.) | D32: 4 | E32: 26,73 26,73 | G32: 107 | H32: 107 | J32: 1.5 | K32: 6
A33: 5 | B33: ТЕРп01-12-010-03 | C33: Испытание вторичной обмотки трансформатора измерительного (1 испытание) | D33: 4 | E33: 37,9 37,9 | G33: 152 | H33: 152 | J33: 2 | K33: 8
A34: 6 | B34: ТЕРп01-11-013-01 | C34: Замер полного сопротивления цепи «фаза-нуль» (1 токоприемник) | D34: 29 | E34: 28,23 28,23 | G34: 819 | H34: 819 | J34: 1.5 | K34: 43.5
A35: 7 | B35: ТЕРп01-11-028-01 к=1,3 | C35: Измерение сопротивления изоляции мегаомметром кабельных и других линий напряжением до 1 кВ, предназначенных для передачи электроэнергии к распределительным устройствам, щитам, шкафам, коммутационным аппаратам и электропотребителям (1 линия) | D35: 33 | E35: 9,79 9,79 | G35: 323 | H35: 323 | J35: 0.52 | K35: 17.16
A36: 8 | B36: ТЕРп01-12-021-01 | C36: Испытание аппарата коммутационного напряжением до 1 кВ (силовых цепей) (1 испытание) | D36: 41 33+8 | E36: 35,64 35,64 | G36: 1461 | H36: 1461 | J36: 2 | K36: 82
A37: 9 | B37: ТЕРп01-11-011-01 | C37: Проверка наличия цепи между заземлителями и заземленными элементами (100 точек) | D37: 0,06 0,01*6 | E37: 301,17 301,17 | G37: 18 | H37: 18 | J37: 16 | K37: 0.96
A38: Ящик автоматического включения Я8301 (4 шт.)
A39: 10 | B39: ТЕРп01-03-002-04 | C39: Выключатель трехполюсный напряжением до 1 кВ с электромагнитным, тепловым или комбинированным расцепителем, номинальный ток до 50 А (1 шт.) | D39: 4 | E39: 27,62 27,62 | G39: 110 | H39: 110 | J39: 2 | K39: 8
A40: 11 | B40: ТЕРп01-03-002-05 | C40: Выключатель трехполюсный напряжением до 1 кВ с электромагнитным, тепловым или комбинированным расцепителем, номинальный ток до 200 А (1 шт.) | D40: 8 | E40: 41,43 41,43 | G40: 331 | H40: 331 | J40: 3 | K40: 24
A41: 12 | B41: ТЕРп01-04-002-01 | C41: Максимальная токовая тепловая защита с одним реле (1 компл.) | D41: 8 4*2 | E41: 55,97 55,97 | G41: 448 | H41: 448 | J41: 3 | K41: 24
A42: Щиты распределительные (24 шт.)
A43: 13 | B43: ТЕРп01-03-008-01 | C43: Выключатель нагрузки напряжением до 11 кВ (1 шт.) | D43: 23 | E43: 161,56 161,56 | G43: 3716 | H43: 3716 | J43: 9 | K43: 207
A44: 14 | B44: ТЕРп01-03-001-01 | C44: Выключатель однополюсный напряжением до 1 кВ с электромагнитным, тепловым или комбинированным расцепителем (1 шт.) | D44: 64 | E44: 20,71 20,71 | G44: 1325 | H44: 1325 | J44: 1.5 | K44: 96
A45: 15 | B45: ТЕРп01-03-001-02 прим. | C45: Выключатель двух(четырёх)полюсный напряжением до 1 кВ с устройством защитного отключения (1 шт.) | D45: 26 | E45: 27,62 27,62 | G45: 718 | H45: 718 | J45: 2 | K45: 52
A46: 16 | B46: ТЕРп01-03-002-04 | C46: Выключатель трехполюсный напряжением до 1 кВ с электромагнитным, тепловым или комбинированным расцепителем, номинальный ток до 50 А (1 шт.) | D46: 97 | E46: 27,62 27,62 | G46: 2679 | H46: 2679 | J46: 2 | K46: 194
A47: 17 | B47: ТЕРп01-03-002-05 | C47: Выключатель трехполюсный напряжением до 1 кВ с электромагнитным, тепловым или комбинированным расцепителем, номинальный ток до 200 А (1 шт.) | D47: 11 | E47: 41,43 41,43 | G47: 456 | H47: 456 | J47: 3 | K47: 33
...

Sheet 4-681
A1: СОГЛАСОВАНО: | I1: УТВЕРЖДАЮ:
A4: ______________ | I4: ____________
A5: " _____ " ________________ 2012 г. | I5: "______ " _______________2012 г.
D6: Реконструкция комплекса по переработке ХВО (пл.7А)
D7: (наименование стройки)
D9: ЛОКАЛЬНЫЙ СМЕТНЫЙ РАСЧЕТ № 09-01-05/4-681(313-2497)
D10: (локальная смета)
A12: на | B12: ПНР "вхолостую" электроосвещения (взамен инв.№313-2047/19-4-2113), Здание 753А
D13: (наименование работ и затрат, наименование объекта)
B15: Основание: р.ч.0503.07А.0000-СМ.ВОР3.ЭО инв.№313-2498, заключение экспертизы №0026-14/ЕГЭ-2791/06 от 09.01.2014г.
B16: Сметная стоимость прочих _______________________________________________________________________________________________ | D16: ___________________________27,411 | F16: тыс. руб.
B17: Средства на оплату труда _______________________________________________________________________________________________ | D17: ___________________________16,714 | F17: тыс. руб.
B18: Сметная трудоемкость _______________________________________________________________________________________________ | D18: _______________________________________________________________________________________________963,64 | F18: чел.час
B19: Составлен(а) в ценах по состоянию на 01.01.2000 г. (редакция 2009г.)
A22: № пп | B22: Шифр и номер позиции норматива | C22: Наименование работ и затрат, единица измерения | D22: Количество | E22: Стоимость единицы, руб. | G22: Общая стоимость, руб. | J22: Затраты труда рабочих, чел.-ч, не занятых обслуживанием машин
E23: всего | F23: эксплуата- ции машин | G23: Всего | H23: оплаты труда | I23: эксплуата- ция машин
E24: оплаты труда | F24: в т.ч. оплаты труда | I24: в т.ч. оплаты труда | J24: на единицу | K24: всего
A25: 1 | B25: 2 | C25: 3 | D25: 4 | E25: 5 | F25: 6 | G25: 7 | H25: 8 | I25: 9 | J25: 10 | K25: 11
A26: Раздел 1. Пусконаладочные работы
A27: Учтен к=1,0434 к ФОТ
A28: 1 | B28: ТЕРп01-03-008-01 | C28: Выключатель нагрузки напряжением до 11 кВ (1 шт.) | D28: 4 | E28: 161,56 161,56 | G28: 646 | H28: 646 | J28: 9 | K28: 36
A29: 2 | B29: ТЕРп01-03-001-01 | C29: Выключатель однополюсный напряжением до 1 кВ с электромагнитным, тепловым или комбинированным расцепителем (1 шт.) | D29: 122 89+7+18+1+7 | E29: 20,71 20,71 | G29: 2527 | H29: 2527 | J29: 1.5 | K29: 183
A30: 3 | B30: ТЕРп01-06-021-01 | C30: Схема разводки трехпроводной системы с количеством панелей (шкафов, ячеек): до 2 (1 схема) | D30: 4 | E30: 67,39 67,39 | G30: 270 | H30: 270 | J30: 4 | K30: 16
A31: 4 | B31: ТЕРп01-12-021-02 | C31: Испытание аппарата коммутационного напряжением до 35 кВ (1 испытание) | D31: 126 122+4 | E31: 62,36 62,36 | G31: 7857 | H31: 7857 | J31: 3.5 | K31: 441
A32: 5 | B32: ТЕРп01-11-028-01 | C32: Измерение сопротивления изоляции мегаомметром кабельных и других линий напряжением до 1 кВ, предназначенных для передачи электроэнергии к распределительным устройствам, щитам, шкафам, коммутационным аппаратам и электропотребителям (1 линия) | D32: 122 | E32: 7,53 7,53 | G32: 919 | H32: 919 | J32: 0.4 | K32: 48.8
A33: 6 | B33: ТЕРп01-11-011-01 | C33: Проверка наличия цепи между заземлителями и заземленными элементами (100 точек) | D33: 3,49 0,01*(4+345) | E33: 301,17 301,17 | G33: 1051 | H33: 1051 | J33: 16 | K33: 55.84
A34: 7 | B34: ТЕРп01-11-013-01 | C34: Замер полного сопротивления цепи «фаза-нуль» (1 токоприемник) | D34: 122 | E34: 28,23 28,23 | G34: 3444 | H34: 3444 | J34: 1.5 | K34: 183
A35: Итого прямые затраты по разделу в ценах 2001г. | G35: 16714 | H35: 16714 | K35: 963.64
A36: Накладные расходы | G36: 10864
A37: Сметная прибыль | G37: 6686
A38: Итоги по разделу 1 Пусконаладочные работы :
A39: Пусконаладочные работы: 'вхолостую' - 80%, 'под нагрузкой' - 20% | G39: 34264 | K39: 963.64
A40: Итого | G40: 34264 | K40: 963.64
A41: В том числе:
A42: ФОТ | G42: 16714
A43: Накладные расходы | G43: 10864
A44: Сметная прибыль | G44: 6686
A45: Итого по разделу 1 Пусконаладочные работы | G45: 34264 | K45: 963.64
A46: ИТОГИ ПО СМЕТЕ:
A47: Итого прямые затраты по смете в ценах 2001г. | G47: 16714 | H47: 16714 | K47: 963.64
...

Sheet 4-682
A1: СОГЛАСОВАНО: | I1: УТВЕРЖДАЮ:
A4: ______________ | I4: ____________
A5: " _____ " ________________ 2012 г. | I5: "______ " _______________2012 г.
D6: Реконструкция комплекса по переработке ХВО (пл.7А)
D7: (наименование стройки)
D9: ЛОКАЛЬНЫЙ СМЕТНЫЙ РАСЧЕТ № 09-01-06/4-682 (313-2497)
D10: (локальная смета)
A12: на | B12: ПНР "вхолостую" автоматизации (взамен инв.№313-2047/19-4-2114), Здание 753А
D13: (наименование работ и затрат, наименование объекта)
B15: Основание: р.ч.0503.07А.0000-СМ.ВОР3.АК инв.№313-2498, заключение экспертизы №0026-14/ЕГЭ-2791/06 от 09.01.2014
B16: Сметная стоимость прочих _______________________________________________________________________________________________ | D16: ___________________________34,066 | F16: тыс. руб.
B17: Средства на оплату труда _______________________________________________________________________________________________ | D17: ___________________________20,772 | F17: тыс. руб.
B18: Сметная трудоемкость _______________________________________________________________________________________________ | D18: _______________________________________________________________________________________________1062,2 | F18: чел.час
B19: Составлен(а) в ценах по состоянию на 01.01.2000 г. (редакция 2009г.)
A22: № пп | B22: Шифр и номер позиции норматива | C22: Наименование работ и затрат, единица измерения | D22: Количество | E22: Стоимость единицы, руб. | G22: Общая стоимость, руб. | J22: Затраты труда рабочих, чел.-ч, не занятых обслуживанием машин
E23: всего | F23: эксплуата- ции машин | G23: Всего | H23: оплаты труда | I23: эксплуата- ция машин
E24: оплаты труда | F24: в т.ч. оплаты труда | I24: в т.ч. оплаты труда | J24: на единицу | K24: всего
A25: 1 | B25: 2 | C25: 3 | D25: 4 | E25: 5 | F25: 6 | G25: 7 | H25: 8 | I25: 9 | J25: 10 | K25: 11
A26: Раздел 1. Пусконаладочные работы
A27: Учтен к=1,0434 к ФОТ
A28: Автоматика
A29: 1 | B29: ТЕРп02-01-001-07 | C29: Автоматизированная система управления I категории технической сложности с количеством каналов (Кобщ) 40 (1 система) | D29: 1 | E29: 8511,17 8511,17 | G29: 8511 | H29: 8511 | J29: 408.28 | K29: 408.28
A30: 2 | B30: ТЕРп02-01-001-08 | C30: Автоматизированная система управления I категории технической сложности с количеством каналов (Кобщ) за каждый канал свыше 40 до 79 добавлять к расценке 02-01-001-07 (1 канал) | D30: 22 58+4-40 | E30: 204,48 204,48 | G30: 4499 | H30: 4499 | J30: 9.81 | K30: 215.82
A31: Электрооборудование автоматизации вентсистем
A32: 3 | B32: ТЕРп01-03-008-01 | C32: Выключатель нагрузки напряжением до 11 кВ (1 шт.) | D32: 8 2+2+2+2 | E32: 161,56 161,56 | G32: 1292 | H32: 1292 | J32: 9 | K32: 72
A33: 4 | B33: ТЕРп01-03-001-01 | C33: Выключатель однополюсный напряжением до 1 кВ с электромагнитным, тепловым или комбинированным расцепителем (1 шт.) | D33: 33 2+2+12+16+1 | E33: 20,71 20,71 | G33: 683 | H33: 683 | J33: 1.5 | K33: 49.5
A34: 5 | B34: ТЕРп01-04-002-01 | C34: Максимальная токовая тепловая защита с одним реле (1 компл.) | D34: 23 5+3+15 | E34: 55,97 55,97 | G34: 1287 | H34: 1287 | J34: 3 | K34: 69
A35: 6 | B35: ТЕРп01-11-011-01 | C35: Проверка наличия цепи между заземлителями и заземленными элементами (100 точек) | D35: 0,33 0,01*33 | E35: 301,17 301,17 | G35: 99 | H35: 99 | J35: 16 | K35: 5.28
A36: 7 | B36: ТЕРп01-11-013-01 | C36: Замер полного сопротивления цепи «фаза-нуль» (1 токоприемник) | D36: 64 8+33+23 | E36: 28,23 28,23 | G36: 1807 | H36: 1807 | J36: 1.5 | K36: 96
A37: 8 | B37: ТЕРп01-11-028-01 к=1,3 | C37: Измерение сопротивления изоляции мегаомметром кабельных и других линий напряжением до 1 кВ, предназначенных для передачи электроэнергии к распределительным устройствам, щитам, шкафам, коммутационным аппаратам и электропотребителям (1 линия) | D37: 33 | E37: 9,79 9,79 | G37: 323 | H37: 323 | J37: 0.52 | K37: 17.16
A38: Электрооборудование автоматизации теплоснабжения
A39: 9 | B39: ТЕРп01-03-008-01 | C39: Выключатель нагрузки напряжением до 11 кВ (1 шт.) | D39: 3 2+1 | E39: 161,56 161,56 | G39: 485 | H39: 485 | J39: 9 | K39: 27
A40: 10 | B40: ТЕРп01-03-001-01 | C40: Выключатель однополюсный напряжением до 1 кВ с электромагнитным, тепловым или комбинированным расцепителем (1 шт.) | D40: 12 2+1+6+3 | E40: 20,71 20,71 | G40: 249 | H40: 249 | J40: 1.5 | K40: 18
A41: 11 | B41: ТЕРп01-03-001-02 | C41: Выключатель однополюсный напряжением до 1 кВ с устройством защитного отключения (1 шт.) | D41: 1 | E41: 27,62 27,62 | G41: 28 | H41: 28 | J41: 2 | K41: 2
A42: 12 | B42: ТЕРп01-04-002-01 | C42: Максимальная токовая тепловая защита с одним реле (1 компл.) | D42: 6 | E42: 55,97 55,97 | G42: 336 | H42: 336 | J42: 3 | K42: 18
A43: 13 | B43: ТЕРп01-03-025-01 | C43: Схема электромагнитной блокировки коммутационных аппаратов, количество блокируемых аппаратов до 2 (1 схема) | D43: 2 | E43: 171,03 171,03 | G43: 342 | H43: 342 | J43: 10 | K43: 20
A44: 14 | B44: ТЕРп01-11-011-01 | C44: Проверка наличия цепи между заземлителями и заземленными элементами (100 точек) | D44: 0,12 0,01*12 | E44: 301,17 301,17 | G44: 36 | H44: 36 | J44: 16 | K44: 1.92
A45: 15 | B45: ТЕРп01-11-013-01 | C45: Замер полного сопротивления цепи «фаза-нуль» (1 токоприемник) | D45: 24 | E45: 28,23 28,23 | G45: 678 | H45: 678 | J45: 1.5 | K45: 36
A46: 16 | B46: ТЕРп01-11-028-01 к=1,3 | C46: Измерение сопротивления изоляции мегаомметром кабельных и других линий напряжением до 1 кВ, предназначенных для передачи электроэнергии к распределительным устройствам, щитам, шкафам, коммутационным аппаратам и электропотребителям (1 линия) | D46: 12 | E46: 9,79 9,79 | G46: 117 | H46: 117 | J46: 0.52 | K46: 6.24
A47: Итого прямые затраты по разделу в ценах 2001г. | G47: 20772 | H47: 20772 | K47: 1062.2
...

Sheet 4-683
A1: СОГЛАСОВАНО: | I1: УТВЕРЖДАЮ:
A4: ______________ | I4: ____________
A5: " _____ " ________________ 2012 г. | I5: "______ " _______________2012 г.
D6: Реконструкция комплекса по переработке ХВО (пл.7А)
D7: (наименование стройки)
D9: ЛОКАЛЬНЫЙ СМЕТНЫЙ РАСЧЕТ № 09-01-07/4-683 (313-2497)
D10: (локальная смета)
A12: на | B12: ПНР "вхолостую" пожарную сигнализацию (взамен инв.№313-2047/19-4-2115), Здание 753А
D13: (наименование работ и затрат, наименование объекта)
B15: Основание: р.ч.0503.07А.0000-СМ.ВОР3.СС инв.№313-2498, заключение экспертизы №0026-14/ЕГЭ-2791/06 от 09.01.2014
B16: Сметная стоимость прочих _______________________________________________________________________________________________ | D16: ___________________________32,755 | F16: тыс. руб.
B17: Средства на оплату труда _______________________________________________________________________________________________ | D17: ___________________________19,973 | F17: тыс. руб.
B18: Сметная трудоемкость _______________________________________________________________________________________________ | D18: _______________________________________________________________________________________________918,06 | F18: чел.час
B19: Составлен(а) в ценах по состоянию на 01.01.2000 г. (редакция 2009г.)
A22: № пп | B22: Шифр и номер позиции норматива | C22: Наименование работ и затрат, единица измерения | D22: Количество | E22: Стоимость единицы, руб. | G22: Общая стоимость, руб. | J22: Затраты труда рабочих, чел.-ч, не занятых обслуживанием машин
E23: всего | F23: эксплуата- ции машин | G23: Всего | H23: оплаты труда | I23: эксплуата- ция машин
E24: оплаты труда | F24: в т.ч. оплаты труда | I24: в т.ч. оплаты труда | J24: на единицу | K24: всего
A25: 1 | B25: 2 | C25: 3 | D25: 4 | E25: 5 | F25: 6 | G25: 7 | H25: 8 | I25: 9 | J25: 10 | K25: 11
A26: Раздел 1. Пусконаладочные работы
A27: Учтен к=1,0434 к ФОТ
A28: Пожарная сигнализация
A29: 1 | B29: ТЕРп02-01-002-09 | C29: Автоматизированная система управления II категории технической сложности с количеством каналов (Кобщ) 80 (1 система) | D29: 1 | E29: 14054,34 14054,34 | G29: 14054 | H29: 14054 | J29: 646 | K29: 646
A30: 2 | B30: ТЕРп02-01-002-10 | C30: Автоматизированная система управления II категории технической сложности с количеством каналов (Кобщ) за каждый канал свыше 80 до 159 добавлять к расценке 02-01-002-09 (1 канал) | D30: 68 148-80 | E30: 167,74 167,74 | G30: 11406 | H30: 11406 | J30: 7.71 | K30: 524.28
A31: Оповещение о пожаре
A32: 3 | B32: ТЕРп02-01-002-05 | C32: Автоматизированная система управления II категории технической сложности с количеством каналов (Кобщ) 20 (1 система) | D32: 1 | E32: 3655 3655 | G32: 3655 | H32: 3655 | J32: 168 | K32: 168
A33: 4 | B33: ТЕРп02-01-002-06 | C33: Автоматизированная система управления II категории технической сложности с количеством каналов (Кобщ) за каждый канал свыше 20 до 39 добавлять к расценке 02-01-002-05 (1 канал) | D33: 17 37-20 | E33: 176,22 176,22 | G33: 2996 | H33: 2996 | J33: 8.1 | K33: 137.7
A34: Итого прямые затраты по разделу в ценах 2001г. | G34: 32111 | H34: 32111 | K34: 1475.98
A35: Итого прямые затраты по разделу с учетом коэффициентов к итогам (ФиМ ОЗП=0,622; ТЗ=0,622 (Поз. 1-4)) | G35: 19973 | H35: 19973 | K35: 918.06
A36: Накладные расходы | G36: 12982
A37: Сметная прибыль | G37: 7989
A38: Итоги по разделу 1 Пусконаладочные работы :
A39: Пусконаладочные работы: 'вхолостую' - 80%, 'под нагрузкой' - 20% | G39: 40944 | K39: 918.06
A40: Итого | G40: 40944 | K40: 918.06
A41: В том числе:
A42: ФОТ | G42: 19973
A43: Накладные расходы | G43: 12982
A44: Сметная прибыль | G44: 7989
A45: Итого по разделу 1 Пусконаладочные работы | G45: 40944 | K45: 918.06
A46: ИТОГИ ПО СМЕТЕ:
A47: Итого прямые затраты по смете в ценах 2001г. | G47: 32111 | H47: 32111 | K47: 1475.98
...

Sheet 4-685
A1: СОГЛАСОВАНО: | I1: УТВЕРЖДАЮ:
A4: ______________ | I4: ____________
A5: " _____ " ________________ 2012 г. | I5: "______ " _______________2012 г.
D6: Реконструкция комплекса по переработке ХВО (пл.7А)
D7: (наименование стройки)
D9: ЛОКАЛЬНЫЙ СМЕТНЫЙ РАСЧЕТ № 09-01-08/4-685 (313-2497)
D10: (локальная смета)
A12: на | B12: ПНР "вхолостую" охранную сигнализацию периметра (взамен инв.№313-2047/19-4-2116), СФЗ периметра
D13: (наименование работ и затрат, наименование объекта)
B15: Основание: р.ч.0503.07А.0000-СМ.ВОР3.СС инв.№313-2498, заключение экспертизы №0026-14/ЕГЭ-2791/06 от 09.01.2014
B16: Сметная стоимость прочих _______________________________________________________________________________________________ | D16: ___________________________29,999 | F16: тыс. руб.
B17: Средства на оплату труда _______________________________________________________________________________________________ | D17: ___________________________18,292 | F17: тыс. руб.
B18: Сметная трудоемкость _______________________________________________________________________________________________ | D18: _______________________________________________________________________________________________840,78 | F18: чел.час
B19: Составлен(а) в ценах по состоянию на 01.01.2000 г. (редакция 2009г.)
A22: № пп | B22: Шифр и номер позиции норматива | C22: Наименование работ и затрат, единица измерения | D22: Количество | E22: Стоимость единицы, руб. | G22: Общая стоимость, руб. | J22: Затраты труда рабочих, чел.-ч, не занятых обслуживанием машин
E23: всего | F23: эксплуата- ции машин | G23: Всего | H23: оплаты труда | I23: эксплуата- ция машин
E24: оплаты труда | F24: в т.ч. оплаты труда | I24: в т.ч. оплаты труда | J24: на единицу | K24: всего
A25: 1 | B25: 2 | C25: 3 | D25: 4 | E25: 5 | F25: 6 | G25: 7 | H25: 8 | I25: 9 | J25: 10 | K25: 11
A26: Раздел 1. Пусконаладочные работы
A27: Учтен к=1,0434 к ФОТ
A28: 1 | B28: ТЕРп02-01-002-09 | C28: Автоматизированная система управления II категории технической сложности с количеством каналов (Кобщ) 80 (1 система) | D28: 1 | E28: 14054,34 14054,34 | G28: 14054 | H28: 14054 | J28: 646 | K28: 646
A29: 2 | B29: ТЕРп02-01-002-10 | C29: Автоматизированная система управления II категории технической сложности с количеством каналов (Кобщ) за каждый канал свыше 80 до 159 добавлять к расценке 02-01-002-09 (1 канал) | D29: 72 152-80 | E29: 167,74 167,74 | G29: 12077 | H29: 12077 | J29: 7.71 | K29: 555.12
A30: Итого прямые затраты по разделу в ценах 2001г. | G30: 26131 | H30: 26131 | K30: 1201.12
A31: Итого прямые затраты по разделу с учетом коэффициентов к итогам (ФиМ ОЗП=0,7; ТЗ=0,7 (Поз. 1-2)) | G31: 18292 | H31: 18292 | K31: 840.78
A32: Накладные расходы | G32: 11890
A33: Сметная прибыль | G33: 7317
A34: Итоги по разделу 1 Пусконаладочные работы :
A35: Пусконаладочные работы: 'вхолостую' - 80%, 'под нагрузкой' - 20% | G35: 37499 | K35: 840.78
A36: Итого | G36: 37499 | K36: 840.78
A37: В том числе:
A38: ФОТ | G38: 18292
A39: Накладные расходы | G39: 11890
A40: Сметная прибыль | G40: 7317
A41: Итого по разделу 1 Пусконаладочные работы | G41: 37499 | K41: 840.78
A42: ИТОГИ ПО СМЕТЕ:
A43: Итого прямые затраты по смете в ценах 2001г. | G43: 26131 | H43: 26131 | K43: 1201.12
A44: Итого прямые затраты по смете с учетом коэффициентов к итогам (ФиМ ОЗП=0,7; ТЗ=0,7 (Поз. 1-2)) | G44: 18292 | H44: 18292 | K44: 840.78
A45: Накладные расходы | G45: 11890
A46: Сметная прибыль | G46: 7317
A47: Итоги по смете:
...

Sheet 4-687
A1: СОГЛАСОВАНО: | I1: УТВЕРЖДАЮ:
A4: ______________ | I4: ____________
A5: " _____ " ________________ 2012 г. | I5: "______ " _______________2012 г.
D6: Реконструкция комплекса по переработке ХВО (пл.7А)
D7: (наименование стройки)
D9: ЛОКАЛЬНЫЙ СМЕТНЫЙ РАСЧЕТ № 09-01-09/4-687(313-2497)
D10: (локальная смета)
A12: на | B12: ПНР "вхолостую" охранного освещения (взамен инв.№313-2047/19-4-2117), СФЗ периметра
D13: (наименование работ и затрат, наименование объекта)
B15: Основание: р.ч.0503.07А.0000-СМ.ВОР3.СС инв.№313-2498, заключение экспертизы №0026-14/ЕГЭ-2791/06 от 09.01.2014г.
B16: Сметная стоимость прочих _______________________________________________________________________________________________ | D16: ___________________________3,288 | F16: тыс. руб.
B17: Средства на оплату труда _______________________________________________________________________________________________ | D17: ___________________________2,005 | F17: тыс. руб.
B18: Сметная трудоемкость _______________________________________________________________________________________________ | D18: _______________________________________________________________________________________________117 | F18: чел.час
B19: Составлен(а) в ценах по состоянию на 01.01.2000 г. (редакция 2009 г.)
A22: № пп | B22: Шифр и номер позиции норматива | C22: Наименование работ и затрат, единица измерения | D22: Количество | E22: Стоимость единицы, руб. | G22: Общая стоимость, руб. | J22: Затраты труда рабочих, чел.-ч, не занятых обслуживанием машин
E23: всего | F23: эксплуата- ции машин | G23: Всего | H23: оплаты труда | I23: эксплуата- ция машин
E24: оплаты труда | F24: в т.ч. оплаты труда | I24: в т.ч. оплаты труда | J24: на единицу | K24: всего
A25: 1 | B25: 2 | C25: 3 | D25: 4 | E25: 5 | F25: 6 | G25: 7 | H25: 8 | I25: 9 | J25: 10 | K25: 11
A26: Раздел 1. Пусконаладочные работы
A27: Учтен к=1,0434 к ФОТ
A28: 1 | B28: ТЕРп01-06-021-01 | C28: Схема разводки трехпроводной системы с количеством панелей (шкафов, ячеек) до 2 (1 схема) | D28: 25 | E28: 67,39 67,39 | G28: 1685 | H28: 1685 | J28: 4 | K28: 100
A29: 2 | B29: ТЕРп01-11-028-01 К=1,3 | C29: Измерение сопротивления изоляции мегаомметром кабельных и других линий напряжением до 1 кВ, предназначенных для передачи электроэнергии к распределительным устройствам, щитам, шкафам, коммутационным аппаратам и электропотребителям (1 линия) | D29: 25 | E29: 9,79 9,79 | G29: 245 | H29: 245 | J29: 0.52 | K29: 13
A30: 3 | B30: ТЕРп01-11-011-01 | C30: Проверка наличия цепи между заземлителями и заземленными элементами (100 точек) | D30: 0,25 0,01*25 | E30: 301,17 301,17 | G30: 75 | H30: 75 | J30: 16 | K30: 4
A31: Итого прямые затраты по разделу в ценах 2001г. | G31: 2005 | H31: 2005 | K31: 117
A32: Накладные расходы | G32: 1303
A33: Сметная прибыль | G33: 802
A34: Итоги по разделу 1 Пусконаладочные работы :
A35: Пусконаладочные работы: 'вхолостую' - 80%, 'под нагрузкой' - 20% | G35: 4110 | K35: 117
A36: Итого | G36: 4110 | K36: 117
A37: В том числе:
A38: ФОТ | G38: 2005
A39: Накладные расходы | G39: 1303
A40: Сметная прибыль | G40: 802
A41: Итого по разделу 1 Пусконаладочные работы | G41: 4110 | K41: 117
A42: ИТОГИ ПО СМЕТЕ:
A43: Итого прямые затраты по смете в ценах 2001г. | G43: 2005 | H43: 2005 | K43: 117
A44: Накладные расходы | G44: 1303
A45: Сметная прибыль | G45: 802
A46: Итоги по смете:
A47: Пусконаладочные работы: 'вхолостую' - 80%, 'под нагрузкой' - 20% | G47: 4110 | K47: 117
...

Sheet 4-688
A1: СОГЛАСОВАНО: | I1: УТВЕРЖДАЮ:
A4: ______________ | I4: ____________
A5: " _____ " ________________ 2012 г. | I5: "______ " _______________2012 г.
D6: Реконструкция комплекса по переработке ХВО (пл.7А)
D7: (наименование стройки)
D9: ЛОКАЛЬНЫЙ СМЕТНЫЙ РАСЧЕТ № 09-01-10/4-688(313-2497)
D10: (локальная смета)
A12: на | B12: ПНР "вхолостую" пожарной сигнализации (взамен инв.№313-2047/19-4-2118), Здание 750
D13: (наименование работ и затрат, наименование объекта)
B15: Основание: р.ч.0503.07А.0000-СМ.ВОР3.СС инв.№313-2498, заключение экспертизы №0026-14/ЕГЭ-2791/06 от 09.01.2014г.
B16: Сметная стоимость прочих _______________________________________________________________________________________________ | D16: ___________________________2,649 | F16: тыс. руб.
B17: Средства на оплату труда _______________________________________________________________________________________________ | D17: ___________________________1,615 | F17: тыс. руб.
B18: Сметная трудоемкость _______________________________________________________________________________________________ | D18: _______________________________________________________________________________________________74,25 | F18: чел.час
B19: Составлен(а) в ценах по состоянию на 01.01.2000 г. (редакция 2009г.)
A22: № пп | B22: Шифр и номер позиции норматива | C22: Наименование работ и затрат, единица измерения | D22: Количество | E22: Стоимость единицы, руб. | G22: Общая стоимость, руб. | J22: Затраты труда рабочих, чел.-ч, не занятых обслуживанием машин
E23: всего | F23: эксплуата- ции машин | G23: Всего | H23: оплаты труда | I23: эксплуата- ция машин
E24: оплаты труда | F24: в т.ч. оплаты труда | I24: в т.ч. оплаты труда | J24: на единицу | K24: всего
A25: 1 | B25: 2 | C25: 3 | D25: 4 | E25: 5 | F25: 6 | G25: 7 | H25: 8 | I25: 9 | J25: 10 | K25: 11
A26: Раздел 1. Пусконаладочные работы
A27: Учтен к=1,0434 к ФОТ
A28: Пожарная сигнализация
A29: 1 | B29: ТЕРп02-01-002-03 | C29: Автоматизированная система управления II категории технической сложности с количеством каналов (Кобщ) 10 (1 система) | D29: 1 | E29: 1849,26 1849,26 | G29: 1849 | H29: 1849 | J29: 85 | K29: 85
A30: 2 | B30: ТЕРп02-01-002-04 | C30: Автоматизированная система управления II категории технической сложности с количеством каналов (Кобщ) за каждый канал свыше 10 до 19 добавлять к расценке 02-01-002-03 (1 канал) | D30: 1 | E30: 180,57 180,57 | G30: 181 | H30: 181 | J30: 8.3 | K30: 8.3
A31: Оповещение о пожаре
A32: 3 | B32: ТЕРп02-01-002-01 | C32: Автоматизированная система управления II категории технической сложности с количеством каналов (Кобщ) 2 (1 система) | D32: 1 | E32: 382,91 382,91 | G32: 383 | H32: 383 | J32: 17.6 | K32: 17.6
A33: 4 | B33: ТЕРп02-01-002-02 | C33: Автоматизированная система управления II категории технической сложности с количеством каналов (Кобщ) за каждый канал свыше 2 до 9 добавлять к расценке 02-01-002-01 (1 канал) | D33: 1 | E33: 184,27 184,27 | G33: 184 | H33: 184 | J33: 8.47 | K33: 8.47
A34: Итого прямые затраты по разделу в ценах 2001г. | G34: 2597 | H34: 2597 | K34: 119.37
A35: Итого прямые затраты по разделу с учетом коэффициентов к итогам (ФиМ ОЗП=0,622; ТЗ=0,622 (Поз. 1-4)) | G35: 1615 | H35: 1615 | K35: 74.25
A36: Накладные расходы | G36: 1050
A37: Сметная прибыль | G37: 646
A38: Итоги по разделу 1 Пусконаладочные работы :
A39: Пусконаладочные работы: 'вхолостую' - 80%, 'под нагрузкой' - 20% | G39: 3311 | K39: 74.25
A40: Итого | G40: 3311 | K40: 74.25
A41: В том числе:
A42: ФОТ | G42: 1615
A43: Накладные расходы | G43: 1050
A44: Сметная прибыль | G44: 646
A45: Итого по разделу 1 Пусконаладочные работы | G45: 3311 | K45: 74.25
A46: ИТОГИ ПО СМЕТЕ:
A47: Итого прямые затраты по смете в ценах 2001г. | G47: 2597 | H47: 2597 | K47: 119.37
...

Sheet 4-689
A1: СОГЛАСОВАНО: | I1: УТВЕРЖДАЮ:
A4: ______________ | I4: ____________
A5: " _____ " ________________ 2012 г. | I5: "______ " _______________2012 г.
D6: Реконструкция комплекса по переработке ХВО (пл.7А)
D7: (наименование стройки)
D9: ЛОКАЛЬНЫЙ СМЕТНЫЙ РАСЧЕТ № 09-01-11/4-689(313-2497)
D10: (локальная смета)
A12: на | B12: ПНР "вхолостую" пожарной сигнализации (взамен инв.№313-2047/19-4-2119), Здание 750А
D13: (наименование работ и затрат, наименование объекта)
B15: Основание: р.ч.0503.07А.0000-СМ.ВОР3.СС инв.№313-2498, заключение экспертизы №0026-14/ЕГЭ-2791/06 от 09.01.2014г.
B16: Сметная стоимость прочих _______________________________________________________________________________________________ | D16: ___________________________4,626 | F16: тыс. руб.
B17: Средства на оплату труда _______________________________________________________________________________________________ | D17: ___________________________2,821 | F17: тыс. руб.
B18: Сметная трудоемкость _______________________________________________________________________________________________ | D18: _______________________________________________________________________________________________129,69 | F18: чел.час
B19: Составлен(а) в ценах по состоянию на 01.01.2000 г. (редакция 2009г.)
A22: № пп | B22: Шифр и номер позиции норматива | C22: Наименование работ и затрат, единица измерения | D22: Количество | E22: Стоимость единицы, руб. | G22: Общая стоимость, руб. | J22: Затраты труда рабочих, чел.-ч, не занятых обслуживанием машин
E23: всего | F23: эксплуата- ции машин | G23: Всего | H23: оплаты труда | I23: эксплуата- ция машин
E24: оплаты труда | F24: в т.ч. оплаты труда | I24: в т.ч. оплаты труда | J24: на единицу | K24: всего
A25: 1 | B25: 2 | C25: 3 | D25: 4 | E25: 5 | F25: 6 | G25: 7 | H25: 8 | I25: 9 | J25: 10 | K25: 11
A26: Раздел 1. Пусконаладочные работы
A27: Учтен к=1,0434 к ФОТ
A28: Пожарная сигнализация
A29: 1 | B29: ТЕРп02-01-002-05 | C29: Автоматизированная система управления II категории технической сложности с количеством каналов (Кобщ) 20 (1 система) | D29: 1 | E29: 3655 3655 | G29: 3655 | H29: 3655 | J29: 168 | K29: 168
A30: 2 | B30: ТЕРп02-01-002-06 | C30: Автоматизированная система управления II категории технической сложности с количеством каналов (Кобщ) за каждый канал свыше 20 до 39 добавлять к расценке 02-01-002-05 (1 канал) | D30: 5 | E30: 176,22 176,22 | G30: 881 | H30: 881 | J30: 8.1 | K30: 40.5
A31: Итого прямые затраты по разделу в ценах 2001г. | G31: 4536 | H31: 4536 | K31: 208.5
A32: Итого прямые затраты по разделу с учетом коэффициентов к итогам (ФиМ ОЗП=0,622; ТЗ=0,622 (Поз. 1-2)) | G32: 2821 | H32: 2821 | K32: 129.69
A33: Накладные расходы | G33: 1834
A34: Сметная прибыль | G34: 1128
A35: Итоги по разделу 1 Пусконаладочные работы :
A36: Пусконаладочные работы: 'вхолостую' - 80%, 'под нагрузкой' - 20% | G36: 5783 | K36: 129.69
A37: Итого | G37: 5783 | K37: 129.69
A38: В том числе:
A39: ФОТ | G39: 2821
A40: Накладные расходы | G40: 1834
A41: Сметная прибыль | G41: 1128
A42: Итого по разделу 1 Пусконаладочные работы | G42: 5783 | K42: 129.69
A43: ИТОГИ ПО СМЕТЕ:
A44: Итого прямые затраты по смете в ценах 2001г. | G44: 4536 | H44: 4536 | K44: 208.5
A45: Итого прямые затраты по смете с учетом коэффициентов к итогам (ФиМ ОЗП=0,622; ТЗ=0,622 (Поз. 1-2)) | G45: 2821 | H45: 2821 | K45: 129.69
A46: Накладные расходы | G46: 1834
A47: Сметная прибыль | G47: 1128
...

Sheet 4-690
A1: СОГЛАСОВАНО: | I1: УТВЕРЖДАЮ:
A4: ______________ | I4: ____________
A5: " _____ " ________________ 2012 г. | I5: "______ " _______________2012 г.
D6: Реконструкция комплекса по переработке ХВО (пл.7А)
D7: (наименование стройки)
D9: ЛОКАЛЬНЫЙ СМЕТНЫЙ РАСЧЕТ № 09-01-12/4-690(313-2497)
D10: (локальная смета)
A12: на | B12: ПНР "вхолостую" наружного освещения (взамен инв.№313-2047/19-4-2120), Здание 750а
D13: (наименование работ и затрат, наименование объекта)
B15: Основание: р.ч.0503.07А.0000-СМ.ВОР3.СС инв.№313-2498, заключение экспертизы №0026-14/ЕГЭ-2791/06 от 09.01.2014г.
B16: Сметная стоимость прочих _______________________________________________________________________________________________ | D16: ___________________________0,264 | F16: тыс. руб.
B17: Средства на оплату труда _______________________________________________________________________________________________ | D17: ___________________________0,161 | F17: тыс. руб.
B18: Сметная трудоемкость _______________________________________________________________________________________________ | D18: _______________________________________________________________________________________________9,36 | F18: чел.час
B19: Составлен(а) в ценах по состоянию на 01.01.2000 г. (редакция 2009г.)
A22: № пп | B22: Шифр и номер позиции норматива | C22: Наименование работ и затрат, единица измерения | D22: Количество | E22: Стоимость единицы, руб. | G22: Общая стоимость, руб. | J22: Затраты труда рабочих, чел.-ч, не занятых обслуживанием машин
E23: всего | F23: эксплуата- ции машин | G23: Всего | H23: оплаты труда | I23: эксплуата- ция машин
E24: оплаты труда | F24: в т.ч. оплаты труда | I24: в т.ч. оплаты труда | J24: на единицу | K24: всего
A25: 1 | B25: 2 | C25: 3 | D25: 4 | E25: 5 | F25: 6 | G25: 7 | H25: 8 | I25: 9 | J25: 10 | K25: 11
A26: Раздел 1. Пусконаладочные работы
A27: Учтен к=1,0434 к ФОТ
A28: 1 | B28: ТЕРп01-06-021-01 | C28: Схема разводки трехпроводной системы с количеством панелей (шкафов, ячеек) до 2 (1 схема) | D28: 2 | E28: 67,39 67,39 | G28: 135 | H28: 135 | J28: 4 | K28: 8
A29: 2 | B29: ТЕРп01-11-028-01 К=1,3 | C29: Измерение сопротивления изоляции мегаомметром кабельных и других линий напряжением до 1 кВ, предназначенных для передачи электроэнергии к распределительным устройствам, щитам, шкафам, коммутационным аппаратам и электропотребителям (1 линия) | D29: 2 | E29: 9,79 9,79 | G29: 20 | H29: 20 | J29: 0.52 | K29: 1.04
A30: 3 | B30: ТЕРп01-11-011-01 | C30: Проверка наличия цепи между заземлителями и заземленными элементами (100 точек) | D30: 0,02 0,01*2 | E30: 301,17 301,17 | G30: 6 | H30: 6 | J30: 16 | K30: 0.32
A31: Итого прямые затраты по разделу в ценах 2001г. | G31: 161 | H31: 161 | K31: 9.36
A32: Накладные расходы | G32: 105
A33: Сметная прибыль | G33: 64
A34: Итоги по разделу 1 Пусконаладочные работы :
A35: Пусконаладочные работы: 'вхолостую' - 80%, 'под нагрузкой' - 20% | G35: 330 | K35: 9.36
A36: Итого | G36: 330 | K36: 9.36
A37: В том числе:
A38: ФОТ | G38: 161
A39: Накладные расходы | G39: 105
A40: Сметная прибыль | G40: 64
A41: Итого по разделу 1 Пусконаладочные работы | G41: 330 | K41: 9.36
A42: ИТОГИ ПО СМЕТЕ:
A43: Итого прямые затраты по смете в ценах 2001г. | G43: 161 | H43: 161 | K43: 9.36
A44: Накладные расходы | G44: 105
A45: Сметная прибыль | G45: 64
A46: Итоги по смете:
A47: Пусконаладочные работы: 'вхолостую' - 80%, 'под нагрузкой' - 20% | G47: 330 | K47: 9.36
...

Sheet Расчет-7А
A1: Расчет начальной (максимальной) цены
A2: на пусконаладочные работы по объекту "Реконструкция комплекса по переработке ХВО, площадка 7А"
A4: Наименование глав ССР, объектный сметных расчетов, локальных сметных расчетов, видов прочих работ | B4: Сметная стоимость строительства в базисном уровне цен на 01.01.2000г. по ССР | F4: Остаток сметной стоимости в базисном уровне цен на дату проведения процедуры закупки | J4: Сметная стоимость строительства в базисном уровне цен на 01.01.2000г., выставленная на конкурс | N4: Текущая стоимость на момент определения начальной (максимальной) цены | O4: № обосновывающего расчета | P4: 2015 год
B5: СМР | C5: Оборудование | D5: Прочие | E5: Всего | F5: СМР | G5: Оборудование | H5: Прочие | I5: Всего | J5: СМР | K5: Оборудование | L5: Прочие | M5: Всего | P5: СМР | Q5: Оборудование | R5: Прочие
A6: 1 | B6: 2 | C6: 3 | D6: 4 | E6: 5 | F6: 6 | G6: 7 | H6: 8 | I6: 9 | J6: 10 | K6: 11 | L6: 12 | M6: 13 | N6: 14 | O6: 15 | P6: 16 | Q6: 17 | R6: 18
A7: Глава 9. Прочие работы и затраты
A8: Производственный корпус. Здание 753А
A9: ПНР "вхолостую" технологического оборудования | C9: 0 | D9: ='4-684'!G81 -> 25596 | E9: =SUM(B9:D9) -> 25596 | F9: =B9 -> 0 | G9: =C9 -> 0 | H9: =D9 -> 25596 | I9: =SUM(F9:H9) -> 25596 | J9: =P9 -> 0 | K9: =Q9 -> 0 | L9: =R9 -> 25596 | M9: =SUM(J9:L9) -> 25596 | N9: =ROUND(R9*10.05,0) -> 257240 | O9: 313-2497/09-01-01/4-684 (взамен инв.№313-2047/19-4-2110) | P9: =F9 -> 0 | Q9: =G9 -> 0 | R9: =H9 -> 25596
A10: ПНР "вхолостую" грузоподъемного оборудования | C10: 0 | D10: ='4-686'!G54 -> 12961 | E10: =SUM(B10:D10) -> 12961 | F10: =B10 -> 0 | G10: =C10 -> 0 | H10: =D10 -> 12961 | I10: =SUM(F10:H10) -> 12961 | J10: =P10 -> 0 | K10: =Q10 -> 0 | L10: =R10 -> 12961 | M10: =SUM(J10:L10) -> 12961 | N10: =ROUND(R10*10.05,0) -> 130258 | O10: 313-2497/09-01-02/4-686 (взамен инв.№313-2047/19-4-2111) | P10: =F10 -> 0 | Q10: =G10 -> 0 | R10: =H10 -> 12961
A11: ПНР "вхолостую" вентиляционного оборудования | C11: 0 | D11: ='3-247'!G71 -> 105811 | E11: =SUM(B11:D11) -> 105811 | F11: =B11 -> 0 | G11: =C11 -> 0 | H11: =D11 -> 105811 | I11: =SUM(F11:H11) -> 105811 | J11: =P11 -> 0 | K11: =Q11 -> 0 | L11: =R11 -> 105811 | M11: =SUM(J11:L11) -> 105811 | N11: =ROUND(R11*10.05,0) -> 1063401 | O11: 313-2497/09-01-03/3-247 | P11: =F11 -> 0 | Q11: =G11 -> 0 | R11: =H11 -> 105811
A12: ПНР "вхолостую" силовое электрооборудование | D12: ='4-680'!G93 -> 69543 | E12: =SUM(B12:D12) -> 69543 | F12: =B12 -> 0 | G12: =C12 -> 0 | H12: =D12 -> 69543 | I12: =SUM(F12:H12) -> 69543 | J12: =P12 -> 0 | K12: =Q12 -> 0 | L12: =R12 -> 69543 | M12: =SUM(J12:L12) -> 69543 | N12: =ROUND(R12*10.05,0) -> 698907 | O12: 313-2497/09-01-04/4-680 (взамен инв.№313-2047/19-4-2112) | P12: =F12 -> 0 | Q12: =G12 -> 0 | R12: =H12 -> 69543
A13: ПНР "вхолостую" электроосвещения | C13: 0 | D13: ='4-681'!G58 -> 27411 | E13: =SUM(B13:D13) -> 27411 | F13: =B13 -> 0 | G13: =C13 -> 0 | H13: =D13 -> 27411 | I13: =SUM(F13:H13) -> 27411 | J13: =P13 -> 0 | K13: =Q13 -> 0 | L13: =R13 -> 27411 | M13: =SUM(J13:L13) -> 27411 | N13: =ROUND(R13*10.05,0) -> 275481 | O13: 313-2497/09-01-05/4-681 (взамен инв.№313-2047/19-4-2113) | P13: =F13 -> 0 | Q13: =G13 -> 0 | R13: =H13 -> 27411
A14: ПНР "вхолостую" автоматизации | D14: ='4-682'!G70 -> 34066 | E14: =SUM(B14:D14) -> 34066 | F14: =B14 -> 0 | G14: =C14 -> 0 | H14: =D14 -> 34066 | I14: =SUM(F14:H14) -> 34066 | J14: =P14 -> 0 | K14: =Q14 -> 0 | L14: =R14 -> 34066 | M14: =SUM(J14:L14) -> 34066 | N14: =ROUND(R14*10.05,0) -> 342363 | O14: 313-2497/09-01-06/4-682 (взамен инв.№313-2047/19-4-2114) | P14: =F14 -> 0 | Q14: =G14 -> 0 | R14: =H14 -> 34066
A15: ПНР "вхолостую" пожарную сигнализацию | C15: 0 | D15: ='4-683'!G59 -> 32755 | E15: =SUM(B15:D15) -> 32755 | F15: =B15 -> 0 | G15: =C15 -> 0 | H15: =D15 -> 32755 | I15: =SUM(F15:H15) -> 32755 | J15: =P15 -> 0 | K15: =Q15 -> 0 | L15: =R15 -> 32755 | M15: =SUM(J15:L15) -> 32755 | N15: =ROUND(R15*10.05,0) -> 329188 | O15: 313-2497/09-01-07/4-683 (взамен инв.№313-2047/19-4-2115) | P15: =F15 -> 0 | Q15: =G15 -> 0 | R15: =H15 -> 32755
A16: СФЗ периметра | E16: =SUM(B16:D16) -> 0 | F16: =B16 -> 0 | G16: =C16 -> 0 | H16: =D16 -> 0 | I16: =SUM(F16:H16) -> 0 | J16: =P16 -> 0 | K16: =Q16 -> 0 | L16: =R16 -> 0 | M16: =SUM(J16:L16) -> 0 | N16: =ROUND(R16*10.05,0) -> 0 | P16: =F16 -> 0 | Q16: =G16 -> 0 | R16: =H16 -> 0
A17: ПНР "вхолостую" охранную сигнализацию периметра | D17: ='4-685'!G55 -> 29999 | E17: =SUM(B17:D17) -> 29999 | F17: =B17 -> 0 | G17: =C17 -> 0 | H17: =D17 -> 29999 | I17: =SUM(F17:H17) -> 29999 | J17: =P17 -> 0 | K17: =Q17 -> 0 | L17: =R17 -> 29999 | M17: =SUM(J17:L17) -> 29999 | N17: =ROUND(R17*10.05,0) -> 301490 | O17: 313-2497/09-01-08/4-685 (взамен инв.№313-2047/19-4-2116) | P17: =F17 -> 0 | Q17: =G17 -> 0 | R17: =H17 -> 29999
A18: ПНР "вхолостую" охранного освещения | D18: ='4-687'!G54 -> 3288 | E18: =SUM(B18:D18) -> 3288 | F18: =B18 -> 0 | G18: =C18 -> 0 | H18: =D18 -> 3288 | I18: =SUM(F18:H18) -> 3288 | J18: =P18 -> 0 | K18: =Q18 -> 0 | L18: =R18 -> 3288 | M18: =SUM(J18:L18) -> 3288 | N18: =ROUND(R18*10.05,0) -> 33044 | O18: 313-2497/09-01-09/4-687 (взамен инв.№313-2047/19-4-2117) | P18: =F18 -> 0 | Q18: =G18 -> 0 | R18: =H18 -> 3288
A19: Шламохранилище. Здание 750 | E19: =SUM(B19:D19) -> 0 | F19: =B19 -> 0 | G19: =C19 -> 0 | H19: =D19 -> 0 | I19: =SUM(F19:H19) -> 0 | J19: =P19 -> 0 | K19: =Q19 -> 0 | L19: =R19 -> 0 | M19: =SUM(J19:L19) -> 0 | N19: =ROUND(R19*10.05,0) -> 0 | P19: =F19 -> 0 | Q19: =G19 -> 0 | R19: =H19 -> 0
A20: ПНР "вхолостую" пожарной сигнализации | D20: ='4-688'!G59 -> 2649 | E20: =SUM(B20:D20) -> 2649 | F20: =B20 -> 0 | G20: =C20 -> 0 | H20: =D20 -> 2649 | I20: =SUM(F20:H20) -> 2649 | J20: =P20 -> 0 | K20: =Q20 -> 0 | L20: =R20 -> 2649 | M20: =SUM(J20:L20) -> 2649 | N20: =ROUND(R20*10.05,0) -> 26622 | O20: 313-2497/09-01-10/4-688 (взамен инв.№313-2047/19-4-2118) | P20: =F20 -> 0 | Q20: =G20 -> 0 | R20: =H20 -> 2649
A21: Склад. Здание 750А | B21: 0 | C21: 0 | E21: =SUM(B21:D21) -> 0 | F21: =B21 -> 0 | G21: =C21 -> 0 | H21: =D21 -> 0 | I21: =SUM(F21:H21) -> 0 | J21: =P21 -> 0 | K21: =Q21 -> 0 | L21: =R21 -> 0 | M21: =SUM(J21:L21) -> 0 | N21: =ROUND(R21*10.05,0) -> 0 | P21: =F21 -> 0 | Q21: =G21 -> 0
A22: ПНР "вхолостую" пожарной сигнализации | C22: 0 | D22: ='4-689'!G56 -> 4626 | E22: =SUM(B22:D22) -> 4626 | F22: =B22 -> 0 | G22: =C22 -> 0 | H22: =D22 -> 4626 | I22: =SUM(F22:H22) -> 4626 | J22: =P22 -> 0 | K22: =Q22 -> 0 | L22: =R22 -> 4626 | M22: =SUM(J22:L22) -> 4626 | N22: =ROUND(R22*10.05,0) -> 46491 | O22: 313-2497/09-01-11/4-689 (взамен инв.№313-2047/19-4-2119) | Q22: =G22 -> 0 | R22: =H22 -> 4626
A23: ПНР "вхолостую" наружного освещения | C23: 0 | D23: ='4-690'!G54 -> 264 | E23: =SUM(B23:D23) -> 264 | F23: =B23 -> 0 | G23: 0 | H23: =D23 -> 264 | I23: =SUM(F23:H23) -> 264 | J23: =P23 -> 0 | K23: =Q23 -> 0 | L23: =R23 -> 264 | M23: =SUM(J23:L23) -> 264 | N23: =ROUND(R23*10.05,0) -> 2653 | O23: 313-2497/09-01-12/4-690 (взамен инв.№313-2047/19-4-2120) | P23: =F23 -> 0 | Q23: 0 | R23: =H23 -> 264
A24: Итого по главе 9: | B24: =SUM(B8:B23) -> 0 | C24: =SUM(C8:C23) -> 0 | D24: =SUM(D8:D23) -> 348969 | E24: =SUM(E8:E23) -> 348969 | F24: =SUM(F8:F23) -> 0 | G24: =SUM(G8:G23) -> 0 | H24: =SUM(H8:H23) -> 348969 | I24: =SUM(I8:I23) -> 348969 | ... R24: =SUM(R8:R23) -> 348969
A25: Итого в ценах 2000 года: | D25: =D24 -> 348969 | E25: =E24 -> 348969 | F25: =F24 -> 0 | G25: =G24 -> 0 | H25: =H24 -> 348969 | I25: =I24 -> 348969 | J25: =J24 -> 0 | K25: =K24 -> 0 | ... M25: =M24 -> 348969 | O25: =O24 -> 0 | P25: =P24 -> 0 | Q25: =Q24 -> 0 | R25: =R24 -> 348969
A26: Итого в текущих ценах*: | N26: =SUM(P26:R26) -> 3507138 | P26: =ROUND(P24*5.73,0) -> 0 | Q26: =ROUND(Q24*4.03,0) -> 0 | R26: =ROUND(R24*10.05,0) -> 3507138
A27: НДС 18% | N27: =SUM(P27:R27) -> 631284.84 | P27: =ROUND(P26*18%,2) -> 0 | Q27: =ROUND(Q26*18%,2) -> 0 | R27: =ROUND(R26*18%,2) -> 631284.84
A28: Всего с НДС: | N28: =N26+N27 -> 4138422.8 | P28: =P26+P27 -> 0 | Q28: =Q26+Q27 -> 0 | R28: =R26+R27 -> 4138422.8
A30: * В расчете использованы индексы:
A31: - 10,05 индекс изменения сметной стоимости ПНР к ТЕР 2001 (письмо Минстроя России от 06.02.2015г. № 3004-АС/08 приложение 1, пусконаладочные работы)
