Workbook

Sheet Смета 12 гр. по ФЕР
I1: Приложение №2 к Техническому заданию
B7: Комплекс некапитальных строений лабороторно-складского назначения, расположенный по адресу: г. Москва, ул. Ферганская, вл. 25
B8: (наименование стройки)
B11: ЛОКАЛЬНАЯ СМЕТА № 9
B13: Устройство и пусконаладка системы кондиционирования
B14: (наименование работ и затрат, наименование объекта)
A17: Составлена в ФЕР в ценах Января 2000г. с индексацией во 2кв. 2013г. | AE17: =CONCATENATE("Основание: ", Source!J20) -> Основание:
A18: № п/п | B18: Шифр расценки и коды ресурсов | C18: Наименование работ и затрат | D18: Единица изме-рения | E18: Кол-во единиц | F18: Цена на ед. изм. руб. | G18: попра-вочные коэффиц. | H18: Стоимость в ценах 2000г. | I18: Пункт коэффиц. пересчета | J18: Коэфф. пересчета | K18: Стоимость в текущих ценах | L18: ЗТР всего чел.-час
A19: 1 | B19: 2 | C19: 3 | D19: 4 | E19: 5 | F19: 6 | G19: 7 | H19: 8 | I19: 9 | J19: 10 | K19: 11 | L19: 12
A21: =CONCATENATE("Раздел: ", Source!G24) -> Раздел: Устройство фунтамента под монтаж чиллерных установок | AE21: =CONCATENATE("Раздел: ", Source!G24) -> Раздел: Устройство фунтамента под монтаж чиллерных установок
A22: =Source!E28 -> 1 | B22: =Source!F28 -> 05-01-011-2 | C22: =Source!G28 -> Погружение дизель-молотом копровой установки на базе трактора стальных свай шпунтового ряда массой 1 м до 50 кг, длиной до 8 м в грунты группы 2 | D22: =Source!H28 -> 1 т свай | E22: =Source!I28 -> 2.2 | F22: =IF(Source!AK28<> 0, Source!AK28,Source!AL28 + Source!AM28 + Source!AO28) -> 8289.76 | I22: =Source!BO28 | S22: =ROUND((Source!FX28/100)*((ROUND(Source!CT28*Source!I28/IF(Source!BA28<> 0, Source!BA28, 1), 2)+ROUND(Source!CS28*Source!I28/IF(Source!BS28<> 0, Source!BS28, 1), 2))), 2) -> 707.54 | T22: =Source!X28 -> 604.13 | U22: =ROUND((Source!FY28/100)*((ROUND(Source!CT28*Source!I28/IF(Source!BA28<> 0, Source!BA28, 1), 2)+ROUND(Source!CS28*Source!I28/IF(Source!BS28<> 0, Source!BS28, 1), 2))), 2) -> 435.41 | V22: =Source!Y28 -> 348.33
C23: Зарплата | F23: =Source!AO28 -> 168.73 | G23: =Source!DG28 | H23: =ROUND(Source!CT28*Source!I28/IF(Source!BA28<> 0, Source!BA28, 1), 2) -> 371.21 | J23: =IF(Source!BA28<> 0, Source!BA28, 1) -> 1 | K23: =Source!S28 -> 371.21 | R23: =H23 -> 371.21
C24: Эксплуатация машин | F24: =Source!AM28 -> 1227.55 | G24: =Source!DE28 | H24: =ROUND(Source!CR28*Source!I28/IF(Source!BB28<> 0, Source!BB28, 1), 2) -> 2700.61 | J24: =IF(Source!BB28<> 0, Source!BB28, 1) -> 1 | K24: =Source!Q28 -> 2700.61
C25: в т.ч. зарплата машинистов | F25: =Source!AN28 -> 78.66 | G25: =Source!DF28 | H25: =ROUND(Source!CS28*Source!I28/IF(Source!BS28<> 0, Source!BS28, 1), 2) -> 173.05 | J25: =IF(Source!BS28<> 0, Source!BS28, 1) -> 1 | K25: =Source!R28 -> 173.05 | R25: =H25 -> 173.05
C26: Материальные ресурсы | F26: =Source!AL28 -> 6893.48 | G26: =Source!DD28 | H26: =ROUND(Source!CQ28*Source!I28/IF(Source!BC28<> 0, Source!BC28, 1), 2) -> 15165.66 | J26: =IF(Source!BC28<> 0, Source!BC28, 1) -> 1 | K26: =Source!P28 -> 15165.66
C27: НР от ФОТ | D27: % | E27: =Source!BZ28 -> 130 | H27: =SUM(S22:S32) -> 707.54 | I27: =CONCATENATE(Source!FX28, Source!FV28, "=") -> 130*0,85= | J27: =Source!AT28 -> 111 | K27: =SUM(T22:T32) -> 604.13
C28: СП от ФОТ | D28: % | E28: =Source!CA28 -> 80 | H28: =SUM(U22:U32) -> 435.41 | I28: =CONCATENATE(Source!FY28, Source!FW28, "=") -> 80*0,8= | J28: =Source!AU28 -> 64 | K28: =SUM(V22:V32) -> 348.33
C29: Затраты труда | D29: чел-ч | E29: =Source!AQ28 -> 17.95 | G29: =Source!DI28 | L29: =Source!U28 -> 39.49
A30: =Source!E29 -> 1,1 | B30: =Source!F29 -> Цена поставщика | C30: =Source!G29 -> Свая винтовая СВС-219 (Цена без НДС 8092,33/6,32) | D30: =Source!H29 -> шт. | E30: =Source!I29 -> 12 | F30: =Source!AK29 -> 1280.43 | H30: =ROUND(Source!CQ29*Source!I29/IF(Source!BC29<> 0, Source!BC29, 1), 2)+ROUND(Source!CR29*Source!I29/IF(Source!BB29<> 0, Source!BB29, 1), 2)+ROUND(Source!CT29*Source!I29/IF(Source!BA29<> 0, Source!BA29, 1), 2) -> 15365.16 | J30: =IF(Source!BC29<> 0, Source!BC29, 1) -> 1 | K30: =Source!O29 -> 15365.16 | S30: =ROUND((Source!FX29/100)*((ROUND(Source!CT29*Source!I29/IF(Source!BA29<> 0, Source!BA29, 1), 2)+ROUND(Source!CS29*Source!I29/IF(Source!BS29<> 0, Source!BS29, 1), 2))), 2) -> 0 | T30: =Source!X29 -> 0 | U30: =ROUND((Source!FY29/100)*((ROUND(Source!CT29*Source!I29/IF(Source!BA29<> 0, Source!BA29, 1), 2)+ROUND(Source!CS29*Source!I29/IF(Source!BS29<> 0, Source!BS29, 1), 2))), 2) -> 0 | V30: =Source!Y29 -> 0 | Y30: =IF(Source!BI29=3,H30, 0) -> 0
A31: =Source!E30 -> 1,2 | B31: =Source!F30 -> Цена поставщика | C31: =Source!G30 -> Оголовок сваи (Цена без НДС 211,86/6,32) | D31: =Source!H30 -> шт. | E31: =Source!I30 -> 12 | F31: =Source!AK30 -> 33.52 | H31: =ROUND(Source!CQ30*Source!I30/IF(Source!BC30<> 0, Source!BC30, 1), 2)+ROUND(Source!CR30*Source!I30/IF(Source!BB30<> 0, Source!BB30, 1), 2)+ROUND(Source!CT30*Source!I30/IF(Source!BA30<> 0, Source!BA30, 1), 2) -> 402.24 | J31: =IF(Source!BC30<> 0, Source!BC30, 1) -> 1 | K31: =Source!O30 -> 402.24 | S31: =ROUND((Source!FX30/100)*((ROUND(Source!CT30*Source!I30/IF(Source!BA30<> 0, Source!BA30, 1), 2)+ROUND(Source!CS30*Source!I30/IF(Source!BS30<> 0, Source!BS30, 1), 2))), 2) -> 0 | T31: =Source!X30 -> 0 | U31: =ROUND((Source!FY30/100)*((ROUND(Source!CT30*Source!I30/IF(Source!BA30<> 0, Source!BA30, 1), 2)+ROUND(Source!CS30*Source!I30/IF(Source!BS30<> 0, Source!BS30, 1), 2))), 2) -> 0 | V31: =Source!Y30 -> 0 | Y31: =IF(Source!BI30=3,H31, 0) -> 0
A32: =Source!E31 -> 1,3 | B32: =Source!F31 -> Цена поставщика | C32: =Source!G31 -> Балка двутавровая №20 (Цена без НДС 22881,36/6,32) | D32: =Source!H31 -> т | E32: =Source!I31 -> 0.714 | F32: =Source!AK31 -> 3620.47 | H32: =ROUND(Source!CQ31*Source!I31/IF(Source!BC31<> 0, Source!BC31, 1), 2)+ROUND(Source!CR31*Source!I31/IF(Source!BB31<> 0, Source!BB31, 1), 2)+ROUND(Source!CT31*Source!I31/IF(Source!BA31<> 0, Source!BA31, 1), 2) -> 2585.02 | J32: =IF(Source!BC31<> 0, Source!BC31, 1) -> 1 | K32: =Source!O31 -> 2585.02 | S32: =ROUND((Source!FX31/100)*((ROUND(Source!CT31*Source!I31/IF(Source!BA31<> 0, Source!BA31, 1), 2)+ROUND(Source!CS31*Source!I31/IF(Source!BS31<> 0, Source!BS31, 1), 2))), 2) -> 0 | T32: =Source!X31 -> 0 | U32: =ROUND((Source!FY31/100)*((ROUND(Source!CT31*Source!I31/IF(Source!BA31<> 0, Source!BA31, 1), 2)+ROUND(Source!CS31*Source!I31/IF(Source!BS31<> 0, Source!BS31, 1), 2))), 2) -> 0 | V32: =Source!Y31 -> 0 | Y32: =IF(Source!BI31=3,H32, 0) -> 0
G33: =ROUND(Source!CQ28*Source!I28/IF(Source!BC28<> 0, Source!BC28, 1), 2)+ROUND(Source!CT28*Source!I28/IF(Source!BA28<> 0, Source!BA28, 1), 2)+ROUND(Source!CR28*Source!I28/IF(Source!BB28<> 0, Source!BB28, 1), 2)+SUM(H27:H32) -> 37732.85 | J33: =Source!O28+SUM(K27:K32) -> 37542.36 | L33: =Source!U28 -> 39.49 | O33: =G33 -> 37732.85 | P33: =J33 -> 37542.36 | Q33: =L33 -> 39.49 | W33: =IF(Source!BI28<=1,G33, 0) -> 37732.85 | X33: =IF(Source!BI28=2,G33, 0) -> 0 | Y33: =IF(Source!BI28=3,G33, 0) -> 0 | Z33: =IF(Source!BI28=4,G33, 0) -> 0
A34: =Source!E32 -> 2 | B34: =Source!F32 -> 05-01-062-1 | C34: =Source!G32 -> Бетонирование свай | D34: =Source!H32 -> 1 м3 конструктивного объема свай | E34: =Source!I32 -> 1.4 | F34: =IF(Source!AK32<> 0, Source!AK32,Source!AL32 + Source!AM32 + Source!AO32) -> 203.42 | I34: =Source!BO32 | S34: =ROUND((Source!FX32/100)*((ROUND(Source!CT32*Source!I32/IF(Source!BA32<> 0, Source!BA32, 1), 2)+ROUND(Source!CS32*Source!I32/IF(Source!BS32<> 0, Source!BS32, 1), 2))), 2) -> 19.31 | T34: =Source!X32 -> 16.48 | U34: =ROUND((Source!FY32/100)*((ROUND(Source!CT32*Source!I32/IF(Source!BA32<> 0, Source!BA32, 1), 2)+ROUND(Source!CS32*Source!I32/IF(Source!BS32<> 0, Source!BS32, 1), 2))), 2) -> 11.88 | V34: =Source!Y32 -> 9.5
C35: Зарплата | F35: =Source!AO32 -> 5.88 | G35: =Source!DG32 | H35: =ROUND(Source!CT32*Source!I32/IF(Source!BA32<> 0, Source!BA32, 1), 2) -> 8.23 | J35: =IF(Source!BA32<> 0, Source!BA32, 1) -> 1 | K35: =Source!S32 -> 8.23 | R35: =H35 -> 8.23
C36: Эксплуатация машин | F36: =Source!AM32 -> 47.34 | G36: =Source!DE32 | H36: =ROUND(Source!CR32*Source!I32/IF(Source!BB32<> 0, Source!BB32, 1), 2) -> 66.28 | J36: =IF(Source!BB32<> 0, Source!BB32, 1) -> 1 | K36: =Source!Q32 -> 66.28
C37: в т.ч. зарплата машинистов | F37: =Source!AN32 -> 4.73 | G37: =Source!DF32 | H37: =ROUND(Source!CS32*Source!I32/IF(Source!BS32<> 0, Source!BS32, 1), 2) -> 6.62 | J37: =IF(Source!BS32<> 0, Source!BS32, 1) -> 1 | K37: =Source!R32 -> 6.62 | R37: =H37 -> 6.62
C38: Материальные ресурсы | F38: =Source!AL32 -> 150.2 | G38: =Source!DD32 | H38: =ROUND(Source!CQ32*Source!I32/IF(Source!BC32<> 0, Source!BC32, 1), 2) -> 210.28 | J38: =IF(Source!BC32<> 0, Source!BC32, 1) -> 1 | K38: =Source!P32 -> 210.28
C39: НР от ФОТ | D39: % | E39: =Source!BZ32 -> 130 | H39: =SUM(S34:S41) -> 19.31 | I39: =CONCATENATE(Source!FX32, Source!FV32, "=") -> 130*0,85= | J39: =Source!AT32 -> 111 | K39: =SUM(T34:T41) -> 16.48
C40: СП от ФОТ | D40: % | E40: =Source!CA32 -> 80 | H40: =SUM(U34:U41) -> 11.88 | I40: =CONCATENATE(Source!FY32, Source!FW32, "=") -> 80*0,8= | J40: =Source!AU32 -> 64 | K40: =SUM(V34:V41) -> 9.5
C41: Затраты труда | D41: чел-ч | E41: =Source!AQ32 -> 0.64 | G41: =Source!DI32 | L41: =Source!U32 -> 0.896
G42: =ROUND(Source!CQ32*Source!I32/IF(Source!BC32<> 0, Source!BC32, 1), 2)+ROUND(Source!CT32*Source!I32/IF(Source!BA32<> 0, Source!BA32, 1), 2)+ROUND(Source!CR32*Source!I32/IF(Source!BB32<> 0, Source!BB32, 1), 2)+SUM(H39:H41) -> 315.98 | J42: =Source!O32+SUM(K39:K41) -> 310.77 | L42: =Source!U32 -> 0.896 | O42: =G42 -> 315.98 | P42: =J42 -> 310.77 | Q42: =L42 -> 0.896 | W42: =IF(Source!BI32<=1,G42, 0) -> 315.98 | X42: =IF(Source!BI32=2,G42, 0) -> 0 | Y42: =IF(Source!BI32=3,G42, 0) -> 0 | Z42: =IF(Source!BI32=4,G42, 0) -> 0
A43: =Source!E33 -> 3 | B43: =Source!F33 -> Цена поставщика | C43: =Source!G33 -> Бетон М300 (Цена без НДС 3475/6,32) | D43: =Source!H33 -> м3 | E43: =Source!I33 -> 1.4 | F43: =IF(Source!AK33<> 0, Source!AK33,Source!AL33 + Source!AM33 + Source!AO33) -> 549.84 | I43: =Source!BO33 | S43: =ROUND((Source!FX33/100)*((ROUND(Source!CT33*Source!I33/IF(Source!BA33<> 0, Source!BA33, 1), 2)+ROUND(Source!CS33*Source!I33/IF(Source!BS33<> 0, Source!BS33, 1), 2))), 2) -> 0 | T43: =Source!X33 -> 0 | U43: =ROUND((Source!FY33/100)*((ROUND(Source!CT33*Source!I33/IF(Source!BA33<> 0, Source!BA33, 1), 2)+ROUND(Source!CS33*Source!I33/IF(Source!BS33<> 0, Source!BS33, 1), 2))), 2) -> 0 | V43: =Source!Y33 -> 0
C44: Материальные ресурсы | F44: =Source!AL33 -> 549.84 | G44: =Source!DD33 | H44: =ROUND(Source!CQ33*Source!I33/IF(Source!BC33<> 0, Source!BC33, 1), 2) -> 769.78 | J44: =IF(Source!BC33<> 0, Source!BC33, 1) -> 1 | K44: =Source!P33 -> 769.78
G45: =ROUND(Source!CQ33*Source!I33/IF(Source!BC33<> 0, Source!BC33, 1), 2)+ROUND(Source!CT33*Source!I33/IF(Source!BA33<> 0, Source!BA33, 1), 2)+ROUND(Source!CR33*Source!I33/IF(Source!BB33<> 0, Source!BB33, 1), 2) -> 769.78 | J45: =Source!O33 -> 769.78 | L45: =Source!U33 -> 0 | O45: =G45 -> 769.78 | P45: =J45 -> 769.78 | Q45: =L45 -> 0 | W45: =IF(Source!BI33<=1,G45, 0) -> 769.78 | X45: =IF(Source!BI33=2,G45, 0) -> 0 | Y45: =IF(Source!BI33=3,G45, 0) -> 0 | Z45: =IF(Source!BI33=4,G45, 0) -> 0
A47: =CONCATENATE("Итого по разделу: ", Source!G35) -> Итого по разделу: Устройство фунтамента под монтаж чиллерных установок | G47: =SUM(O21:O46) -> 38818.61 | J47: =SUM(P21:P46) -> 38622.91 | L47: =SUM(Q21:Q46) -> 40.386 | AF47: =CONCATENATE("Итого по разделу: ", Source!G35) -> Итого по разделу: Устройство фунтамента под монтаж чиллерных установок
A50: =CONCATENATE("Раздел: ", Source!G56) -> Раздел: Система кондиционирования. Строение 1. | AE50: =CONCATENATE("Раздел: ", Source!G56) -> Раздел: Система кондиционирования. Строение 1.
A52: =CONCATENATE("Подраздел: ", Source!G60) -> Подраздел: Монтаж системы кондиционирования | AE52: =CONCATENATE("Подраздел: ", Source!G60) -> Подраздел: Монтаж системы кондиционирования
A53: =Source!E64 -> 4 | B53: =Source!F64 -> 18-04-002-8 | C53: =Source!G64 -> Установка баков конденсационных вместимостью до 2 м3 | D53: =Source!H64 -> 1 бак | E53: =Source!I64 -> 2 | F53: =IF(Source!AK64<> 0, Source!AK64,Source!AL64 + Source!AM64 + Source!AO64) -> 2666.86 | I53: =Source!BO64 | S53: =ROUND((Source!FX64/100)*((ROUND(Source!CT64*Source!I64/IF(Source!BA64<> 0, Source!BA64, 1), 2)+ROUND(Source!CS64*Source!I64/IF(Source!BS64<> 0, Source!BS64, 1), 2))), 2) -> 431.39 | T53: =Source!X64 -> 367.35 | U53: =ROUND((Source!FY64/100)*((ROUND(Source!CT64*Source!I64/IF(Source!BA64<> 0, Source!BA64, 1), 2)+ROUND(Source!CS64*Source!I64/IF(Source!BS64<> 0, Source!BS64, 1), 2))), 2) -> 279.73 | V53: =Source!Y64 -> 222.43
C54: Зарплата | F54: =Source!AO64 -> 166.21 | G54: =Source!DG64 | H54: =ROUND(Source!CT64*Source!I64/IF(Source!BA64<> 0, Source!BA64, 1), 2) -> 332.42 | J54: =IF(Source!BA64<> 0, Source!BA64, 1) -> 1 | K54: =Source!S64 -> 332.42 | R54: =H54 -> 332.42
C55: Эксплуатация машин | F55: =Source!AM64 -> 61.44 | G55: =Source!DE64 | H55: =ROUND(Source!CR64*Source!I64/IF(Source!BB64<> 0, Source!BB64, 1), 2) -> 122.88 | J55: =IF(Source!BB64<> 0, Source!BB64, 1) -> 1 | K55: =Source!Q64 -> 122.88
...

Sheet Source
A1: 0 | B1: Smeta.RU (495) 974-1589 | D1: _PS_ | F1: 0 | G1: 0 | H1: 0 | I1: Smeta.RU | K1: 1 | L1: 43366
A12: 1 | B12: 602 | C12: 0 | D12: =ROW(A547) -> 547 | E12: 0 | F12: Новый объект | G12: Устройство и пусконаладка системы кондиционирования | I12: 0 | O12: 0 | P12: 0 | Q12: 0 | R12: 0 | V12: 0 | BH12: Сметные нормы списания | BI12: Коды ценников | BJ12: 1 | BK12: 1 | BL12: 0 | BM12: 0 | BN12: 1 | BO12: 0 | BP12: 6 | BQ12: 2 | BR12: 1 | BS12: 1 | BT12: 0 | BU12: 0 | BV12: 0 | BW12: 0 | BX12: 0 | BY12: Федеральная сметно-нормативная база (ФСНБ) | BZ12: ТР для Версии 8: Центральные регионы (с учетом п-ма 2536-ИП/12/ГС от 27.11.12) | CA12: ФЕР-2001 | CB12: ФЕР-2001 | CC12: ФЕР-2001 | CD12: ФЕР-2001 | CE12: Поправки для НБ 2001 года в ред. 2009 года от 29.03.2011 | CF12: 0 | CG12: 0 | CH12: 8 | EC12: 0
A15: 15 | B15: 1
A18: 52 | B18: =B547 -> 602 | C18: =C547 -> 1 | D18: =D547 -> 12 | E18: =E547 -> 0 | F18: =F547 -> Новый объект | G18: =G547 -> Устройство и пусконаладка системы кондиционирования | O18: =O547 -> 3093513.3 | P18: =P547 -> 2880556.6 | Q18: =Q547 -> 73732.82 | R18: =R547 -> 7844.01 | S18: =S547 -> 139223.91 | T18: =T547 -> 0 | U18: =U547 -> 12829.978 | V18: =V547 -> 580.81405 | ... DN18: =DN547 -> 0
A20: 3 | B20: 1 | D20: =ROW(A526) -> 526 | F20: Новая локальная смета | G20: Новая локальная смета | I20: 0 | K20: 0 | V20: 0 | BX20: 0 | CF20: 0 | CG20: 0
A22: 52 | B22: =B526 -> 1 | C22: =C526 -> 3 | D22: =D526 -> 20 | E22: =E526 -> 0 | F22: =F526 -> Новая локальная смета | G22: =G526 -> Новая локальная смета | O22: =O526 -> 3093513.3 | P22: =P526 -> 2880556.6 | Q22: =Q526 -> 73732.82 | R22: =R526 -> 7844.01 | S22: =S526 -> 139223.91 | T22: =T526 -> 0 | U22: =U526 -> 12829.978 | V22: =V526 -> 580.81405 | ... DN22: =DN526 -> 0
A24: 4 | B24: 1 | D24: =ROW(A35) -> 35 | F24: Новый раздел | G24: Устройство фунтамента под монтаж чиллерных установок | I24: 0 | K24: -1 | V24: 0 | BX24: 0 | CJ24: 0
A26: 52 | B26: =B35 -> 1 | C26: =C35 -> 4 | D26: =D35 -> 24 | E26: =E35 -> 0 | F26: =F35 -> Новый раздел | G26: =G35 -> Устройство фунтамента под монтаж чиллерных установок | O26: =O35 -> 37644.47 | P26: =P35 -> 34498.14 | Q26: =Q35 -> 2766.89 | R26: =R35 -> 179.67 | S26: =S35 -> 379.44 | T26: =T35 -> 0 | U26: =U35 -> 40.386 | V26: =V35 -> 11.512 | ... DN26: =DN35 -> 0
A28: 17 | B28: 1 | C28: =ROW(SmtRes!A22) -> 22 | D28: =ROW(EtalonRes!A19) -> 19 | E28: 1 | F28: 05-01-011-2 | G28: Погружение дизель-молотом копровой установки на базе трактора стальных свай шпунтового ряда массой 1 м до 50 кг, длиной до 8 м в грунты группы 2 | H28: 1 т свай | I28: 2.2 | J28: 0 | O28: =ROUND(CP28,2) -> 18237.48 | P28: =ROUND(CQ28*I28,2) -> 15165.66 | Q28: =ROUND(CR28*I28,2) -> 2700.61 | R28: =ROUND(CS28*I28,2) -> 173.05 | S28: =ROUND(CT28*I28,2) -> 371.21 | T28: =ROUND(CU28*I28,2) -> 0 | U28: =CV28*I28 -> 39.49 | V28: =CW28*I28 -> 11.022 | W28: =ROUND(CX28*I28,2) -> 0 | X28: =ROUND(CY28,2) -> 604.13 | Y28: =ROUND(CZ28,2) -> 348.33 | AA28: 22723180 | AB28: =ROUND((AC28+AD28+AF28),6) -> 8289.76 | AC28: =ROUND((ES28),6) -> 6893.48 | AD28: =ROUND((((ET28)-(EU28))+AE28),6) -> 1227.55 | AE28: =ROUND((EU28),6) -> 78.66 | AF28: =ROUND((EV28),6) -> 168.73 | AG28: =ROUND((AP28),6) -> 0 | AH28: =(EW28) -> 17.95 | AI28: =(EX28) -> 5.01 | AJ28: =ROUND((AS28),6) -> 0 | AK28: 8289.76 | AL28: 6893.48 | AM28: 1227.55 | AN28: 78.66 | AO28: 168.73 | AP28: 0 | AQ28: 17.95 | AR28: 5.01 | AS28: 0 | AT28: 111 | AU28: 64 | AV28: 1 | AW28: 1 | AZ28: 1 | BA28: 1 | BB28: 1 | BC28: 1 | BH28: 0 | BI28: 1 | BJ28: ФЕР05-01-011-2 пр.№ 253 от 17 ноября 2008 г | BM28: 5001 | BN28: 0 | BP28: 0 | BQ28: 2 | BS28: 1 | BT28: 1 | BU28: 1 | BV28: 1 | BW28: 1 | BX28: 1 | BZ28: 130 | CA28: 80 | CF28: 0 | CG28: 0 | CM28: 0 | CO28: 0 | CP28: =(P28+Q28+S28) -> 18237.48 | CQ28: =(AC28)*BC28 -> 6893.48 | CR28: =(AD28)*BB28 -> 1227.55 | CS28: =(AE28)*BS28 -> 78.66 | CT28: =(AF28)*BA28 -> 168.73 | CU28: =AG28 -> 0 | CV28: =AH28 -> 17.95 | CW28: =AI28 -> 5.01 | CX28: =AJ28 -> 0 | CY28: =(((S28+R28)*AT28)/100) -> 604.1286 | CZ28: =(((S28+R28)*AU28)/100) -> 348.3264 | DN28: 0 | DO28: 0 | DP28: 1 | DQ28: 1 | DU28: 1013 | DV28: 1 т свай | DW28: 1 т свай | DX28: 1 | EE28: 20678640 | EF28: 2 | EG28: Общестроительные работы | EH28: 0 | EJ28: 1 | EK28: 5001 | EL28: Свайные работы | EM28: ФЕР-05 | EQ28: 0 | ER28: 8289.76 | ES28: 6893.48 | ET28: 1227.55 | EU28: 78.66 | EV28: 168.73 | EW28: 17.95 | EX28: 5.01 | EY28: 0 | EZ28: 0 | FQ28: 0 | FR28: =ROUND(IF(AND(BH28=3,BI28=3),P28,0),2) -> 0 | FS28: 0 | FV28: *0,85 | FW28: *0,8 | FX28: 130 | FY28: 80 | GG28: 2 | GH28: 1 | GI28: -2 | GJ28: 0 | GK28: =ROUND(R28*(R12)/100,2) -> 0 | GL28: =ROUND(IF(AND(BH28=3,BI28=3,FS28<>0),P28,0),2) -> 0 | GM28: =O28+X28+Y28 -> 19189.94 | GN28: =ROUND(IF(OR(BI28=0,BI28=1),O28+X28+Y28,0),2) -> 19189.94 | GO28: =ROUND(IF(BI28=2,O28+X28+Y28,0),2) -> 0 | GP28: =ROUND(IF(BI28=4,O28+X28+Y28,0),2) -> 0 | GR28: 0
A29: 18 | B29: 1 | C29: 20 | E29: 1,1 | F29: Цена поставщика | G29: Свая винтовая СВС-219 (Цена без НДС 8092,33/6,32) | H29: шт. | I29: =I28*J29 -> 12 | J29: 5.4545455 | O29: =ROUND(CP29,2) -> 15365.16 | P29: =ROUND(CQ29*I29,2) -> 15365.16 | Q29: =ROUND(CR29*I29,2) -> 0 | R29: =ROUND(CS29*I29,2) -> 0 | S29: =ROUND(CT29*I29,2) -> 0 | T29: =ROUND(CU29*I29,2) -> 0 | U29: =CV29*I29 -> 0 | V29: =CW29*I29 -> 0 | W29: =ROUND(CX29*I29,2) -> 0 | X29: =ROUND(CY29,2) -> 0 | Y29: =ROUND(CZ29,2) -> 0 | AA29: 22723180 | AB29: =ROUND((AC29+AD29+AF29),6) -> 1280.43 | AC29: =ROUND((ES29),6) -> 1280.43 | AD29: =ROUND((((ET29)-(EU29))+AE29),6) -> 0 | AE29: =ROUND((EU29),6) -> 0 | AF29: =ROUND((EV29),6) -> 0 | AG29: =ROUND((AP29),6) -> 0 | AH29: =(EW29) -> 0 | AI29: =(EX29) -> 0 | AJ29: =ROUND((AS29),6) -> 0 | AK29: 1280.43 | AL29: 1280.43 | AM29: 0 | AN29: 0 | AO29: 0 | AP29: 0 | AQ29: 0 | AR29: 0 | AS29: 0 | AT29: 111 | AU29: 64 | AV29: 1 | AW29: 1 | AZ29: 1 | BA29: 1 | BB29: 1 | BC29: 1 | BH29: 3 | BI29: 1 | BM29: 5001 | BN29: 0 | BP29: 0 | BQ29: 2 | BS29: 1 | BT29: 1 | BU29: 1 | BV29: 1 | BW29: 1 | BX29: 1 | BZ29: 130 | CA29: 80 | CF29: 0 | CG29: 0 | CM29: 0 | CO29: 0 | CP29: =(P29+Q29+S29) -> 15365.16 | CQ29: =(AC29)*BC29 -> 1280.43 | CR29: =(AD29)*BB29 -> 0 | CS29: =(AE29)*BS29 -> 0 | CT29: =(AF29)*BA29 -> 0 | CU29: =AG29 -> 0 | CV29: =AH29 -> 0 | CW29: =AI29 -> 0 | CX29: =AJ29 -> 0 | CY29: =(((S29+R29)*AT29)/100) -> 0 | CZ29: =(((S29+R29)*AU29)/100) -> 0 | DN29: 0 | DO29: 0 | DP29: 1 | DQ29: 1 | DU29: 1010 | DV29: шт. | DW29: шт. | DX29: 1 | EE29: 20678640 | EF29: 2 | EG29: Общестроительные работы | EH29: 0 | EJ29: 1 | EK29: 5001 | EL29: Свайные работы | EM29: ФЕР-05 | EQ29: 0 | ER29: 0 | ES29: 1280.43 | ET29: 0 | EU29: 0 | EV29: 0 | EW29: 0 | EX29: 0 | EZ29: 0 | FQ29: 0 | FR29: =ROUND(IF(AND(BH29=3,BI29=3),P29,0),2) -> 0 | FS29: 0 | FV29: *0,85 | FW29: *0,8 | FX29: 130 | FY29: 80 | GA29: занесена вручную | GG29: 2 | GH29: 0 | GI29: -2 | GJ29: 0 | GK29: =ROUND(R29*(R12)/100,2) -> 0 | GL29: =ROUND(IF(AND(BH29=3,BI29=3,FS29<>0),P29,0),2) -> 0 | GM29: =O29+X29+Y29 -> 15365.16 | GN29: =ROUND(IF(OR(BI29=0,BI29=1),O29+X29+Y29,0),2) -> 15365.16 | GO29: =ROUND(IF(BI29=2,O29+X29+Y29,0),2) -> 0 | GP29: =ROUND(IF(BI29=4,O29+X29+Y29,0),2) -> 0 | GR29: 0
A30: 18 | B30: 1 | C30: 21 | E30: 1,2 | F30: Цена поставщика | G30: Оголовок сваи (Цена без НДС 211,86/6,32) | H30: шт. | I30: =I28*J30 -> 12 | J30: 5.4545455 | O30: =ROUND(CP30,2) -> 402.24 | P30: =ROUND(CQ30*I30,2) -> 402.24 | Q30: =ROUND(CR30*I30,2) -> 0 | R30: =ROUND(CS30*I30,2) -> 0 | S30: =ROUND(CT30*I30,2) -> 0 | T30: =ROUND(CU30*I30,2) -> 0 | U30: =CV30*I30 -> 0 | V30: =CW30*I30 -> 0 | W30: =ROUND(CX30*I30,2) -> 0 | X30: =ROUND(CY30,2) -> 0 | Y30: =ROUND(CZ30,2) -> 0 | AA30: 22723180 | AB30: =ROUND((AC30+AD30+AF30),6) -> 33.52 | AC30: =ROUND((ES30),6) -> 33.52 | AD30: =ROUND((((ET30)-(EU30))+AE30),6) -> 0 | AE30: =ROUND((EU30),6) -> 0 | AF30: =ROUND((EV30),6) -> 0 | AG30: =ROUND((AP30),6) -> 0 | AH30: =(EW30) -> 0 | AI30: =(EX30) -> 0 | AJ30: =ROUND((AS30),6) -> 0 | AK30: 33.52 | AL30: 33.52 | AM30: 0 | AN30: 0 | AO30: 0 | AP30: 0 | AQ30: 0 | AR30: 0 | AS30: 0 | AT30: 111 | AU30: 64 | AV30: 1 | AW30: 1 | AZ30: 1 | BA30: 1 | BB30: 1 | BC30: 1 | BH30: 3 | BI30: 1 | BM30: 5001 | BN30: 0 | BP30: 0 | BQ30: 2 | BS30: 1 | BT30: 1 | BU30: 1 | BV30: 1 | BW30: 1 | BX30: 1 | BZ30: 130 | CA30: 80 | CF30: 0 | CG30: 0 | CM30: 0 | CO30: 0 | CP30: =(P30+Q30+S30) -> 402.24 | CQ30: =(AC30)*BC30 -> 33.52 | CR30: =(AD30)*BB30 -> 0 | CS30: =(AE30)*BS30 -> 0 | CT30: =(AF30)*BA30 -> 0 | CU30: =AG30 -> 0 | CV30: =AH30 -> 0 | CW30: =AI30 -> 0 | CX30: =AJ30 -> 0 | CY30: =(((S30+R30)*AT30)/100) -> 0 | CZ30: =(((S30+R30)*AU30)/100) -> 0 | DN30: 0 | DO30: 0 | DP30: 1 | DQ30: 1 | DU30: 1010 | DV30: шт. | DW30: шт. | DX30: 1 | EE30: 20678640 | EF30: 2 | EG30: Общестроительные работы | EH30: 0 | EJ30: 1 | EK30: 5001 | EL30: Свайные работы | EM30: ФЕР-05 | EQ30: 0 | ER30: 0 | ES30: 33.52 | ET30: 0 | EU30: 0 | EV30: 0 | EW30: 0 | EX30: 0 | EZ30: 0 | FQ30: 0 | FR30: =ROUND(IF(AND(BH30=3,BI30=3),P30,0),2) -> 0 | FS30: 0 | FV30: *0,85 | FW30: *0,8 | FX30: 130 | FY30: 80 | GA30: занесена вручную | GG30: 2 | GH30: 0 | GI30: -2 | GJ30: 0 | GK30: =ROUND(R30*(R12)/100,2) -> 0 | GL30: =ROUND(IF(AND(BH30=3,BI30=3,FS30<>0),P30,0),2) -> 0 | GM30: =O30+X30+Y30 -> 402.24 | GN30: =ROUND(IF(OR(BI30=0,BI30=1),O30+X30+Y30,0),2) -> 402.24 | GO30: =ROUND(IF(BI30=2,O30+X30+Y30,0),2) -> 0 | GP30: =ROUND(IF(BI30=4,O30+X30+Y30,0),2) -> 0 | GR30: 0
A31: 18 | B31: 1 | C31: 22 | E31: 1,3 | F31: Цена поставщика | G31: Балка двутавровая №20 (Цена без НДС 22881,36/6,32) | H31: т | I31: =I28*J31 -> 0.714 | J31: 0.32454545 | O31: =ROUND(CP31,2) -> 2585.02 | P31: =ROUND(CQ31*I31,2) -> 2585.02 | Q31: =ROUND(CR31*I31,2) -> 0 | R31: =ROUND(CS31*I31,2) -> 0 | S31: =ROUND(CT31*I31,2) -> 0 | T31: =ROUND(CU31*I31,2) -> 0 | U31: =CV31*I31 -> 0 | V31: =CW31*I31 -> 0 | W31: =ROUND(CX31*I31,2) -> 0 | X31: =ROUND(CY31,2) -> 0 | Y31: =ROUND(CZ31,2) -> 0 | AA31: 22723180 | AB31: =ROUND((AC31+AD31+AF31),6) -> 3620.47 | AC31: =ROUND((ES31),6) -> 3620.47 | AD31: =ROUND((((ET31)-(EU31))+AE31),6) -> 0 | AE31: =ROUND((EU31),6) -> 0 | AF31: =ROUND((EV31),6) -> 0 | AG31: =ROUND((AP31),6) -> 0 | AH31: =(EW31) -> 0 | AI31: =(EX31) -> 0 | AJ31: =ROUND((AS31),6) -> 0 | AK31: 3620.47 | AL31: 3620.47 | AM31: 0 | AN31: 0 | AO31: 0 | AP31: 0 | AQ31: 0 | AR31: 0 | AS31: 0 | AT31: 111 | AU31: 64 | AV31: 1 | AW31: 1 | AZ31: 1 | BA31: 1 | BB31: 1 | BC31: 1 | BH31: 3 | BI31: 1 | BM31: 5001 | BN31: 0 | BP31: 0 | BQ31: 2 | BS31: 1 | BT31: 1 | BU31: 1 | BV31: 1 | BW31: 1 | BX31: 1 | BZ31: 130 | CA31: 80 | CF31: 0 | CG31: 0 | CM31: 0 | CO31: 0 | CP31: =(P31+Q31+S31) -> 2585.02 | CQ31: =(AC31)*BC31 -> 3620.47 | CR31: =(AD31)*BB31 -> 0 | CS31: =(AE31)*BS31 -> 0 | CT31: =(AF31)*BA31 -> 0 | CU31: =AG31 -> 0 | CV31: =AH31 -> 0 | CW31: =AI31 -> 0 | CX31: =AJ31 -> 0 | CY31: =(((S31+R31)*AT31)/100) -> 0 | CZ31: =(((S31+R31)*AU31)/100) -> 0 | DN31: 0 | DO31: 0 | DP31: 1 | DQ31: 1 | DU31: 1012 | DV31: т | DW31: тонна | DX31: 1 | EE31: 20678640 | EF31: 2 | EG31: Общестроительные работы | EH31: 0 | EJ31: 1 | EK31: 5001 | EL31: Свайные работы | EM31: ФЕР-05 | EQ31: 0 | ER31: 0 | ES31: 3620.47 | ET31: 0 | EU31: 0 | EV31: 0 | EW31: 0 | EX31: 0 | EZ31: 0 | FQ31: 0 | FR31: =ROUND(IF(AND(BH31=3,BI31=3),P31,0),2) -> 0 | FS31: 0 | FV31: *0,85 | FW31: *0,8 | FX31: 130 | FY31: 80 | GA31: занесена вручную | GG31: 2 | GH31: 0 | GI31: -2 | GJ31: 0 | GK31: =ROUND(R31*(R12)/100,2) -> 0 | GL31: =ROUND(IF(AND(BH31=3,BI31=3,FS31<>0),P31,0),2) -> 0 | GM31: =O31+X31+Y31 -> 2585.02 | GN31: =ROUND(IF(OR(BI31=0,BI31=1),O31+X31+Y31,0),2) -> 2585.02 | GO31: =ROUND(IF(BI31=2,O31+X31+Y31,0),2) -> 0 | GP31: =ROUND(IF(BI31=4,O31+X31+Y31,0),2) -> 0 | GR31: 0
A32: 17 | B32: 1 | C32: =ROW(SmtRes!A29) -> 29 | D32: =ROW(EtalonRes!A27) -> 27 | E32: 2 | F32: 05-01-062-1 | G32: Бетонирование свай | H32: 1 м3 конструктивного объема свай | I32: 1.4 | J32: 0 | O32: =ROUND(CP32,2) -> 284.79 | P32: =ROUND(CQ32*I32,2) -> 210.28 | Q32: =ROUND(CR32*I32,2) -> 66.28 | R32: =ROUND(CS32*I32,2) -> 6.62 | S32: =ROUND(CT32*I32,2) -> 8.23 | T32: =ROUND(CU32*I32,2) -> 0 | U32: =CV32*I32 -> 0.896 | V32: =CW32*I32 -> 0.49 | W32: =ROUND(CX32*I32,2) -> 0 | X32: =ROUND(CY32,2) -> 16.48 | Y32: =ROUND(CZ32,2) -> 9.5 | AA32: 22723180 | AB32: =ROUND((AC32+AD32+AF32),6) -> 203.42 | AC32: =ROUND((ES32),6) -> 150.2 | AD32: =ROUND((((ET32)-(EU32))+AE32),6) -> 47.34 | AE32: =ROUND((EU32),6) -> 4.73 | AF32: =ROUND((EV32),6) -> 5.88 | AG32: =ROUND((AP32),6) -> 0 | AH32: =(EW32) -> 0.64 | AI32: =(EX32) -> 0.35 | AJ32: =ROUND((AS32),6) -> 0 | AK32: 203.42 | AL32: 150.2 | AM32: 47.34 | AN32: 4.73 | AO32: 5.88 | AP32: 0 | AQ32: 0.64 | AR32: 0.35 | AS32: 0 | AT32: 111 | AU32: 64 | AV32: 1 | AW32: 1 | AZ32: 1 | BA32: 1 | BB32: 1 | BC32: 1 | BH32: 0 | BI32: 1 | BJ32: ФЕР05-01-062-1 пр.№ 253 от 17 ноября 2008 г | BM32: 5001 | BN32: 0 | BP32: 0 | BQ32: 2 | BS32: 1 | BT32: 1 | BU32: 1 | BV32: 1 | BW32: 1 | BX32: 1 | BZ32: 130 | CA32: 80 | CF32: 0 | CG32: 0 | CM32: 0 | CO32: 0 | CP32: =(P32+Q32+S32) -> 284.79 | CQ32: =(AC32)*BC32 -> 150.2 | CR32: =(AD32)*BB32 -> 47.34 | CS32: =(AE32)*BS32 -> 4.73 | CT32: =(AF32)*BA32 -> 5.88 | CU32: =AG32 -> 0 | CV32: =AH32 -> 0.64 | CW32: =AI32 -> 0.35 | CX32: =AJ32 -> 0 | CY32: =(((S32+R32)*AT32)/100) -> 16.4835 | CZ32: =(((S32+R32)*AU32)/100) -> 9.504 | DN32: 0 | DO32: 0 | DP32: 1 | DQ32: 1 | DU32: 1013 | DV32: 1 м3 конструктивного объема свай | DW32: 1 м3 конструктивного объема свай | DX32: 1 | EE32: 20678640 | EF32: 2 | EG32: Общестроительные работы | EH32: 0 | EJ32: 1 | EK32: 5001 | EL32: Свайные работы | EM32: ФЕР-05 | EQ32: 0 | ER32: 203.42 | ES32: 150.2 | ET32: 47.34 | EU32: 4.73 | EV32: 5.88 | EW32: 0.64 | EX32: 0.35 | EY32: 0 | EZ32: 0 | FQ32: 0 | FR32: =ROUND(IF(AND(BH32=3,BI32=3),P32,0),2) -> 0 | FS32: 0 | FV32: *0,85 | FW32: *0,8 | FX32: 130 | FY32: 80 | GG32: 2 | GH32: 1 | GI32: -2 | GJ32: 0 | GK32: =ROUND(R32*(R12)/100,2) -> 0 | GL32: =ROUND(IF(AND(BH32=3,BI32=3,FS32<>0),P32,0),2) -> 0 | GM32: =O32+X32+Y32 -> 310.77 | GN32: =ROUND(IF(OR(BI32=0,BI32=1),O32+X32+Y32,0),2) -> 310.77 | GO32: =ROUND(IF(BI32=2,O32+X32+Y32,0),2) -> 0 | GP32: =ROUND(IF(BI32=4,O32+X32+Y32,0),2) -> 0 | GR32: 0
A33: 17 | B33: 1 | E33: 3 | F33: Цена поставщика | G33: Бетон М300 (Цена без НДС 3475/6,32) | H33: м3 | I33: 1.4 | J33: 0 | O33: =ROUND(CP33,2) -> 769.78 | P33: =ROUND(CQ33*I33,2) -> 769.78 | Q33: =ROUND(CR33*I33,2) -> 0 | R33: =ROUND(CS33*I33,2) -> 0 | S33: =ROUND(CT33*I33,2) -> 0 | T33: =ROUND(CU33*I33,2) -> 0 | U33: =CV33*I33 -> 0 | V33: =CW33*I33 -> 0 | W33: =ROUND(CX33*I33,2) -> 0 | X33: =ROUND(CY33,2) -> 0 | Y33: =ROUND(CZ33,2) -> 0 | AA33: 22723180 | AB33: =ROUND((AC33+AD33+AF33),6) -> 549.84 | AC33: =ROUND((ES33),6) -> 549.84 | AD33: =ROUND((((ET33)-(EU33))+AE33),6) -> 0 | AE33: =ROUND((EU33),6) -> 0 | AF33: =ROUND((EV33),6) -> 0 | AG33: =ROUND((AP33),6) -> 0 | AH33: =(EW33) -> 0 | AI33: =(EX33) -> 0 | AJ33: =ROUND((AS33),6) -> 0 | AK33: 549.84 | AL33: 549.84 | AM33: 0 | AN33: 0 | AO33: 0 | AP33: 0 | AQ33: 0 | AR33: 0 | AS33: 0 | AT33: 0 | AU33: 0 | AV33: 1 | AW33: 1 | AZ33: 1 | BA33: 1 | BB33: 1 | BC33: 1 | BH33: 3 | BI33: 1 | BM33: 1100 | BN33: 0 | BP33: 0 | BQ33: 8 | BS33: 1 | BT33: 1 | BU33: 1 | BV33: 1 | BW33: 1 | BX33: 1 | BZ33: 0 | CA33: 0 | CF33: 0 | CG33: 0 | CM33: 0 | CO33: 0 | CP33: =(P33+Q33+S33) -> 769.78 | CQ33: =(AC33)*BC33 -> 549.84 | CR33: =(AD33)*BB33 -> 0 | CS33: =(AE33)*BS33 -> 0 | CT33: =(AF33)*BA33 -> 0 | CU33: =AG33 -> 0 | CV33: =AH33 -> 0 | CW33: =AI33 -> 0 | CX33: =AJ33 -> 0 | CY33: =(((S33+R33)*AT33)/100) -> 0 | CZ33: =(((S33+R33)*AU33)/100) -> 0 | DN33: 0 | DO33: 0 | DP33: 1 | DQ33: 1 | DU33: 1007 | DV33: м3 | DW33: м3 | DX33: 1 | EE33: 20678837 | EF33: 8 | EG33: Материалы строительные | EH33: 0 | EJ33: 1 | EK33: 1100 | EL33: Материалы, изделия и конструкции | EM33: материалы (03) | EQ33: 0 | ER33: 0 | ES33: 549.84 | ET33: 0 | EU33: 0 | EV33: 0 | EW33: 0 | EX33: 0 | EY33: 0 | EZ33: 0 | FQ33: 0 | FR33: =ROUND(IF(AND(BH33=3,BI33=3),P33,0),2) -> 0 | FS33: 0 | FX33: 0 | FY33: 0 | GA33: занесена вручную | GG33: 2 | GH33: 0 | GI33: -2 | GJ33: 0 | GK33: =ROUND(R33*(R12)/100,2) -> 0 | GL33: =ROUND(IF(AND(BH33=3,BI33=3,FS33<>0),P33,0),2) -> 0 | GM33: =O33+X33+Y33 -> 769.78 | GN33: =ROUND(IF(OR(BI33=0,BI33=1),O33+X33+Y33,0),2) -> 769.78 | GO33: =ROUND(IF(BI33=2,O33+X33+Y33,0),2) -> 0 | GP33: =ROUND(IF(BI33=4,O33+X33+Y33,0),2) -> 0 | GR33: 0
A35: 51 | B35: =B24 -> 1 | C35: =A24 -> 4 | D35: =ROW(A24) -> 24 | F35: =IF(F24<>"",F24,"") -> Новый раздел | G35: =IF(G24<>"",G24,"") -> Устройство фунтамента под монтаж чиллерных установок | O35: =ROUND(AB35,2) -> 37644.47 | P35: =ROUND(AC35,2) -> 34498.14 | Q35: =ROUND(AD35,2) -> 2766.89 | R35: =ROUND(AE35,2) -> 179.67 | S35: =ROUND(AF35,2) -> 379.44 | T35: =ROUND(AG35,2) -> 0 | U35: =AH35 -> 40.386 | V35: =AI35 -> 11.512 | W35: =ROUND(AJ35,2) -> 0 | X35: =ROUND(AK35,2) -> 620.61 | Y35: =ROUND(AL35,2) -> 357.83 | AB35: =ROUND(SUMIF(AA28:AA33,"=22723180",O28:O33),2) -> 37644.47 | AC35: =ROUND(SUMIF(AA28:AA33,"=22723180",P28:P33),2) -> 34498.14 | AD35: =ROUND(SUMIF(AA28:AA33,"=22723180",Q28:Q33),2) -> 2766.89 | AE35: =ROUND(SUMIF(AA28:AA33,"=22723180",R28:R33),2) -> 179.67 | AF35: =ROUND(SUMIF(AA28:AA33,"=22723180",S28:S33),2) -> 379.44 | AG35: =ROUND(SUMIF(AA28:AA33,"=22723180",T28:T33),2) -> 0 | AH35: =SUMIF(AA28:AA33,"=22723180",U28:U33) -> 40.386 | AI35: =SUMIF(AA28:AA33,"=22723180",V28:V33) -> 11.512 | AJ35: =ROUND(SUMIF(AA28:AA33,"=22723180",W28:W33),2) -> 0 | AK35: =ROUND(SUMIF(AA28:AA33,"=22723180",X28:X33),2) -> 620.61 | AL35: =ROUND(SUMIF(AA28:AA33,"=22723180",Y28:Y33),2) -> 357.83 | AO35: =ROUND(BB35,2) -> 0 | AP35: =ROUND(BC35,2) -> 0 | AQ35: =ROUND(BD35,2) -> 0 | AR35: =ROUND(BE35,2) -> 38622.91 | AS35: =ROUND(BF35,2) -> 38622.91 | AT35: =ROUND(BG35,2) -> 0 | AU35: =ROUND(BH35,2) -> 0 | BB35: =ROUND(SUMIF(AA28:AA33,"=22723180",FQ28:FQ33),2) -> 0 | BC35: =ROUND(SUMIF(AA28:AA33,"=22723180",FR28:FR33),2) -> 0 | BD35: =ROUND(SUMIF(AA28:AA33,"=22723180",GL28:GL33),2) -> 0 | BE35: =ROUND(SUMIF(AA28:AA33,"=22723180",GM28:GM33),2) -> 38622.91 | BF35: =ROUND(SUMIF(AA28:AA33,"=22723180",GN28:GN33),2) -> 38622.91 | BG35: =ROUND(SUMIF(AA28:AA33,"=22723180",GO28:GO33),2) -> 0 | BH35: =ROUND(SUMIF(AA28:AA33,"=22723180",GP28:GP33),2) -> 0 | DN35: 0
A37: 50 | B37: 0 | C37: 0 | D37: 1 | E37: 201 | F37: =ROUND(Source!O35,O37) -> 37644.47 | G37: ПЗ | H37: Прямые затраты | K37: 201 | L37: 1 | M37: 3 | O37: 2
A38: 50 | B38: 0 | C38: 0 | D38: 1 | E38: 202 | F38: =ROUND(Source!P35,O38) -> 34498.14 | G38: СтМат | H38: Стоимость материальных ресурсов | K38: 202 | L38: 2 | M38: 3 | O38: 2
A39: 50 | B39: 0 | C39: 0 | D39: 1 | E39: 222 | F39: =ROUND(Source!AO35,O39) -> 0 | G39: СтМатЗак | H39: Стоимость материалов заказчика | K39: 222 | L39: 3 | M39: 3 | O39: 2
A40: 50 | B40: 0 | C40: 0 | D40: 1 | E40: 216 | F40: =ROUND(Source!AP35,O40) -> 0 | G40: Оборуд | H40: Стоимость оборудования | K40: 216 | L40: 4 | M40: 3 | O40: 2
A41: 50 | B41: 0 | C41: 0 | D41: 1 | E41: 223 | F41: =ROUND(Source!AQ35,O41) -> 0 | G41: ОборудЗак | H41: Стоимость оборудования заказчика | K41: 223 | L41: 5 | M41: 3 | O41: 2
A42: 50 | B42: 0 | C42: 0 | D42: 1 | E42: 203 | F42: =ROUND(Source!Q35,O42) -> 2766.89 | G42: ЭММ | H42: Эксплуатация машин | K42: 203 | L42: 6 | M42: 3 | O42: 2
A43: 50 | B43: 0 | C43: 0 | D43: 1 | E43: 204 | F43: =ROUND(Source!R35,O43) -> 179.67 | G43: ЗПМ | H43: ЗП машинистов | K43: 204 | L43: 7 | M43: 3 | O43: 2
A44: 50 | B44: 0 | C44: 0 | D44: 1 | E44: 205 | F44: =ROUND(Source!S35,O44) -> 379.44 | G44: ОЗП | H44: Основная ЗП рабочих | K44: 205 | L44: 8 | M44: 3 | O44: 2
A45: 50 | B45: 0 | C45: 0 | D45: 1 | E45: 214 | F45: =ROUND(Source!AS35,O45) -> 38622.91 | G45: Строит | H45: Строительные работы с НР и СП | K45: 214 | L45: 9 | M45: 3 | O45: 2
A46: 50 | B46: 0 | C46: 0 | D46: 1 | E46: 215 | F46: =ROUND(Source!AT35,O46) -> 0 | G46: Монтаж | H46: Монтажные работы с НР и СП | K46: 215 | L46: 10 | M46: 3 | O46: 2
A47: 50 | B47: 0 | C47: 0 | D47: 1 | E47: 217 | F47: =ROUND(Source!AU35,O47) -> 0 | G47: Прочие | H47: Прочие работы с НР и СП | K47: 217 | L47: 11 | M47: 3 | O47: 2
A48: 50 | B48: 0 | C48: 0 | D48: 1 | E48: 206 | F48: =ROUND(Source!T35,O48) -> 0 | G48: ВозврМат | H48: Возврат материалов | K48: 206 | L48: 12 | M48: 3 | O48: 2
A49: 50 | B49: 0 | C49: 0 | D49: 1 | E49: 207 | F49: =Source!U35 -> 40.386 | G49: ТрудСтр | H49: Трудозатраты строителей | K49: 207 | L49: 13 | M49: 3 | O49: -1
A50: 50 | B50: 0 | C50: 0 | D50: 1 | E50: 208 | F50: =Source!V35 -> 11.512 | G50: ТрудМаш | H50: Трудозатраты машинистов | K50: 208 | L50: 14 | M50: 3 | O50: -1
A51: 50 | B51: 0 | C51: 0 | D51: 1 | E51: 209 | F51: =ROUND(Source!W35,O51) -> 0 | G51: ТранспМат | H51: Транспорт материалов | K51: 209 | L51: 15 | M51: 3 | O51: 2
A52: 50 | B52: 0 | C52: 0 | D52: 1 | E52: 210 | F52: =ROUND(Source!X35,O52) -> 620.61 | G52: НР | H52: Накладные расходы | K52: 210 | L52: 16 | M52: 3 | O52: 2
A53: 50 | B53: 0 | C53: 0 | D53: 1 | E53: 211 | F53: =ROUND(Source!Y35,O53) -> 357.83 | G53: СмПриб | H53: Сметная прибыль | K53: 211 | L53: 17 | M53: 3 | O53: 2
A54: 50 | B54: 0 | C54: 0 | D54: 1 | E54: 224 | F54: =ROUND(Source!AR35,O54) -> 38622.91 | G54: Всего | H54: Всего с НР и СП | K54: 224 | L54: 18 | M54: 3 | O54: 2
A56: 4 | B56: 1 | D56: =ROW(A218) -> 218 | F56: Новый раздел | G56: Система кондиционирования. Строение 1. | I56: 0 | K56: 0 | V56: 0 | BX56: 0 | CJ56: 0
A58: 52 | B58: =B218 -> 1 | C58: =C218 -> 4 | D58: =D218 -> 56 | E58: =E218 -> 0 | F58: =F218 -> Новый раздел | G58: =G218 -> Система кондиционирования. Строение 1. | O58: =O218 -> 1424173.7 | P58: =P218 -> 1356675.2 | Q58: =Q218 -> 32567.93 | R58: =R218 -> 3588.87 | S58: =S218 -> 34930.58 | T58: =T218 -> 0 | U58: =U218 -> 3729.4293 | V58: =V218 -> 266.24976 | ... DN58: =DN218 -> 0
A60: 5 | B60: 1 | D60: =ROW(A155) -> 155 | F60: Новый подраздел | G60: Монтаж системы кондиционирования | I60: 0 | K60: 0 | V60: 0 | BX60: 0 | CJ60: 0
A62: 52 | B62: =B155 -> 1 | C62: =C155 -> 5 | D62: =D155 -> 60 | E62: =E155 -> 0 | F62: =F155 -> Новый подраздел | G62: =G155 -> Монтаж системы кондиционирования | O62: =O155 -> 655533.75 | P62: =P155 -> 603076.72 | Q62: =Q155 -> 27987.93 | R62: =R155 -> 3039.63 | S62: =S155 -> 24469.1 | T62: =T155 -> 0 | U62: =U155 -> 2677.7393 | V62: =V155 -> 224.62776 | ... DN62: =DN155 -> 0
A64: 17 | B64: 1 | C64: =ROW(SmtRes!A44) -> 44 | D64: =ROW(EtalonRes!A42) -> 42 | E64: 4 | F64: 18-04-002-8 | G64: Установка баков конденсационных вместимостью до 2 м3 | H64: 1 бак | I64: 2 | J64: 0 | O64: =ROUND(CP64,2) -> 5333.72 | P64: =ROUND(CQ64*I64,2) -> 4878.42 | Q64: =ROUND(CR64*I64,2) -> 122.88 | R64: =ROUND(CS64*I64,2) -> 4.6 | S64: =ROUND(CT64*I64,2) -> 332.42 | T64: =ROUND(CU64*I64,2) -> 0 | U64: =CV64*I64 -> 37.06 | V64: =CW64*I64 -> 0.34 | W64: =ROUND(CX64*I64,2) -> 0 | X64: =ROUND(CY64,2) -> 367.35 | Y64: =ROUND(CZ64,2) -> 222.43 | AA64: 22723180 | AB64: =ROUND((AC64+AD64+AF64),6) -> 2666.86 | AC64: =ROUND((ES64),6) -> 2439.21 | AD64: =ROUND((((ET64)-(EU64))+AE64),6) -> 61.44 | AE64: =ROUND((EU64),6) -> 2.3 | AF64: =ROUND((EV64),6) -> 166.21 | AG64: =ROUND((AP64),6) -> 0 | AH64: =(EW64) -> 18.53 | AI64: =(EX64) -> 0.17 | AJ64: =ROUND((AS64),6) -> 0 | AK64: 2666.86 | AL64: 2439.21 | AM64: 61.44 | AN64: 2.3 | AO64: 166.21 | AP64: 0 | AQ64: 18.53 | AR64: 0.17 | AS64: 0 | AT64: 109 | AU64: 66 | AV64: 1 | AW64: 1 | AZ64: 1 | BA64: 1 | BB64: 1 | BC64: 1 | BH64: 0 | BI64: 1 | BJ64: ФЕР18-04-002-8 пр.№ 253 от 17 ноября 2008 г | BM64: 18001 | BN64: 0 | BP64: 0 | BQ64: 2 | BS64: 1 | BT64: 1 | BU64: 1 | BV64: 1 | BW64: 1 | BX64: 1 | BZ64: 128 | CA64: 83 | CF64: 0 | CG64: 0 | CM64: 0 | CO64: 0 | CP64: =(P64+Q64+S64) -> 5333.72 | CQ64: =(AC64)*BC64 -> 2439.21 | CR64: =(AD64)*BB64 -> 61.44 | CS64: =(AE64)*BS64 -> 2.3 | CT64: =(AF64)*BA64 -> 166.21 | CU64: =AG64 -> 0 | CV64: =AH64 -> 18.53 | CW64: =AI64 -> 0.17 | CX64: =AJ64 -> 0 | CY64: =(((S64+R64)*AT64)/100) -> 367.3518 | CZ64: =(((S64+R64)*AU64)/100) -> 222.4332 | DN64: 0 | DO64: 0 | DP64: 1 | DQ64: 1 | DU64: 1013 | DV64: 1 бак | DW64: 1 бак | DX64: 1 | EE64: 20678685 | EF64: 2 | EG64: Общестроительные работы | EH64: 0 | EJ64: 1 | EK64: 18001 | EL64: Отопление - внутренние устройства | EM64: ФЕР-18 | EQ64: 0 | ER64: 2666.86 | ES64: 2439.21 | ET64: 61.44 | EU64: 2.3 | EV64: 166.21 | EW64: 18.53 | EX64: 0.17 | EY64: 0 | EZ64: 0 | FQ64: 0 | FR64: =ROUND(IF(AND(BH64=3,BI64=3),P64,0),2) -> 0 | FS64: 0 | FV64: *0,85 | FW64: *0,8 | FX64: 128 | FY64: 83 | GG64: 2 | GH64: 1 | GI64: -2 | GJ64: 0 | GK64: =ROUND(R64*(R12)/100,2) -> 0 | GL64: =ROUND(IF(AND(BH64=3,BI64=3,FS64<>0),P64,0),2) -> 0 | GM64: =O64+X64+Y64 -> 5923.5 | GN64: =ROUND(IF(OR(BI64=0,BI64=1),O64+X64+Y64,0),2) -> 5923.5 | GO64: =ROUND(IF(BI64=2,O64+X64+Y64,0),2) -> 0 | GP64: =ROUND(IF(BI64=4,O64+X64+Y64,0),2) -> 0 | GR64: 0
A65: 17 | B65: 1 | E65: 5 | F65: Цена поставщика | G65: Мембранный расширительный бак 0,2м3 (цена=15871/1,18/6,32) | H65: шт. | I65: 1 | J65: 0 | O65: =ROUND(CP65,2) -> 824.14 | P65: =ROUND(CQ65*I65,2) -> 824.14 | Q65: =ROUND(CR65*I65,2) -> 0 | R65: =ROUND(CS65*I65,2) -> 0 | S65: =ROUND(CT65*I65,2) -> 0 | T65: =ROUND(CU65*I65,2) -> 0 | U65: =CV65*I65 -> 0 | V65: =CW65*I65 -> 0 | W65: =ROUND(CX65*I65,2) -> 0 | X65: =ROUND(CY65,2) -> 0 | Y65: =ROUND(CZ65,2) -> 0 | AA65: 22723180 | AB65: =ROUND((AC65+AD65+AF65),6) -> 824.14 | AC65: =ROUND((ES65),6) -> 824.14 | AD65: =ROUND((((ET65)-(EU65))+AE65),6) -> 0 | AE65: =ROUND((EU65),6) -> 0 | AF65: =ROUND((EV65),6) -> 0 | AG65: =ROUND((AP65),6) -> 0 | AH65: =(EW65) -> 0 | AI65: =(EX65) -> 0 | AJ65: =ROUND((AS65),6) -> 0 | AK65: 824.14 | AL65: 824.14 | AM65: 0 | AN65: 0 | AO65: 0 | AP65: 0 | AQ65: 0 | AR65: 0 | AS65: 0 | AT65: 0 | AU65: 0 | AV65: 1 | AW65: 1 | AZ65: 1 | BA65: 1 | BB65: 1 | BC65: 1 | BH65: 3 | BI65: 1 | BM65: 800001 | BN65: 0 | BP65: 0 | BQ65: 18 | BS65: 1 | BT65: 1 | BU65: 1 | BV65: 1 | BW65: 1 | BX65: 1 | BZ65: 0 | CA65: 0 | CF65: 0 | CG65: 0 | CM65: 0 | CO65: 0 | CP65: =(P65+Q65+S65) -> 824.14 | CQ65: =(AC65)*BC65 -> 824.14 | CR65: =(AD65)*BB65 -> 0 | CS65: =(AE65)*BS65 -> 0 | CT65: =(AF65)*BA65 -> 0 | CU65: =AG65 -> 0 | CV65: =AH65 -> 0 | CW65: =AI65 -> 0 | CX65: =AJ65 -> 0 | CY65: =0 -> 0 | CZ65: =0 -> 0 | DN65: 0 | DO65: 0 | DP65: 1 | DQ65: 1 | DU65: 1010 | DV65: шт. | DW65: шт. | DX65: 1 | EE65: 20678521 | EF65: 18 | EG65: Перевозка грузов жел./дор. транспортом | EH65: 0 | EJ65: 1 | EK65: 800001 | EL65: Перевозка грузов , Железнодорожные перевозки ( ФССЦпр- 2011, раздел 5 ) | EM65: ФССЦ 2011 жд | EQ65: 0 | ER65: 0 | ES65: 824.14 | ET65: 0 | EU65: 0 | EV65: 0 | EW65: 0 | EX65: 0 | EY65: 0 | EZ65: 0 | FQ65: 0 | FR65: =ROUND(IF(AND(BH65=3,BI65=3),P65,0),2) -> 0 | FS65: 0 | FX65: 0 | FY65: 0 | GA65: занесена вручную | GG65: 2 | GH65: 0 | GI65: -2 | GJ65: 0 | GK65: =ROUND(R65*(R12)/100,2) -> 0 | GL65: =ROUND(IF(AND(BH65=3,BI65=3,FS65<>0),P65,0),2) -> 0 | GM65: =O65+X65+Y65 -> 824.14 | GN65: =ROUND(IF(OR(BI65=0,BI65=1),O65+X65+Y65,0),2) -> 824.14 | GO65: =ROUND(IF(BI65=2,O65+X65+Y65,0),2) -> 0 | GP65: =ROUND(IF(BI65=4,O65+X65+Y65,0),2) -> 0 | GR65: 0
A66: 17 | B66: 1 | E66: 6 | F66: Цена поставщика | G66: Бак накопительный 200л (цена=29419/1,18/6,32) | H66: шт. | I66: 1 | J66: 0 | O66: =ROUND(CP66,2) -> 3944.83 | P66: =ROUND(CQ66*I66,2) -> 3944.83 | Q66: =ROUND(CR66*I66,2) -> 0 | R66: =ROUND(CS66*I66,2) -> 0 | S66: =ROUND(CT66*I66,2) -> 0 | T66: =ROUND(CU66*I66,2) -> 0 | U66: =CV66*I66 -> 0 | V66: =CW66*I66 -> 0 | W66: =ROUND(CX66*I66,2) -> 0 | X66: =ROUND(CY66,2) -> 0 | Y66: =ROUND(CZ66,2) -> 0 | AA66: 22723180 | AB66: =ROUND((AC66+AD66+AF66),6) -> 3944.83 | AC66: =ROUND((ES66),6) -> 3944.83 | AD66: =ROUND((((ET66)-(EU66))+AE66),6) -> 0 | AE66: =ROUND((EU66),6) -> 0 | AF66: =ROUND((EV66),6) -> 0 | AG66: =ROUND((AP66),6) -> 0 | AH66: =(EW66) -> 0 | AI66: =(EX66) -> 0 | AJ66: =ROUND((AS66),6) -> 0 | AK66: 3944.83 | AL66: 3944.83 | AM66: 0 | AN66: 0 | AO66: 0 | AP66: 0 | AQ66: 0 | AR66: 0 | AS66: 0 | AT66: 0 | AU66: 0 | AV66: 1 | AW66: 1 | AZ66: 1 | BA66: 1 | BB66: 1 | BC66: 1 | BH66: 3 | BI66: 1 | BM66: 800001 | BN66: 0 | BP66: 0 | BQ66: 18 | BS66: 1 | BT66: 1 | BU66: 1 | BV66: 1 | BW66: 1 | BX66: 1 | BZ66: 0 | CA66: 0 | CF66: 0 | CG66: 0 | CM66: 0 | CO66: 0 | CP66: =(P66+Q66+S66) -> 3944.83 | CQ66: =(AC66)*BC66 -> 3944.83 | CR66: =(AD66)*BB66 -> 0 | CS66: =(AE66)*BS66 -> 0 | CT66: =(AF66)*BA66 -> 0 | CU66: =AG66 -> 0 | CV66: =AH66 -> 0 | CW66: =AI66 -> 0 | CX66: =AJ66 -> 0 | CY66: =0 -> 0 | CZ66: =0 -> 0 | DN66: 0 | DO66: 0 | DP66: 1 | DQ66: 1 | DU66: 1010 | DV66: шт. | DW66: шт. | DX66: 1 | EE66: 20678521 | EF66: 18 | EG66: Перевозка грузов жел./дор. транспортом | EH66: 0 | EJ66: 1 | EK66: 800001 | EL66: Перевозка грузов , Железнодорожные перевозки ( ФССЦпр- 2011, раздел 5 ) | EM66: ФССЦ 2011 жд | EQ66: 0 | ER66: 0 | ES66: 3944.83 | ET66: 0 | EU66: 0 | EV66: 0 | EW66: 0 | EX66: 0 | EY66: 0 | EZ66: 0 | FQ66: 0 | FR66: =ROUND(IF(AND(BH66=3,BI66=3),P66,0),2) -> 0 | FS66: 0 | FX66: 0 | FY66: 0 | GA66: занесена вручную | GG66: 2 | GH66: 0 | GI66: -2 | GJ66: 0 | GK66: =ROUND(R66*(R12)/100,2) -> 0 | GL66: =ROUND(IF(AND(BH66=3,BI66=3,FS66<>0),P66,0),2) -> 0 | GM66: =O66+X66+Y66 -> 3944.83 | GN66: =ROUND(IF(OR(BI66=0,BI66=1),O66+X66+Y66,0),2) -> 3944.83 | GO66: =ROUND(IF(BI66=2,O66+X66+Y66,0),2) -> 0 | GP66: =ROUND(IF(BI66=4,O66+X66+Y66,0),2) -> 0 | GR66: 0
...

Sheet SourceObSm
A1: 0 | B1: Smeta.RU (495) 974-1589 | D1: _OBSM_ | F1: 0 | G1: 0 | H1: 0 | I1: Smeta.RU | K1: 1 | L1: 43366
A12: 1 | B12: 49 | C12: 0 | E12: 0 | F12: Новый объект | G12: Устройство и пусконаладка системы кондиционирования | I12: 0 | O12: 0 | P12: 0 | Q12: 0 | R12: 0 | V12: 0 | BH12: Сметные нормы списания | BI12: Коды ценников | BJ12: 1 | BK12: 1 | BL12: 0 | BM12: 0 | BN12: 1 | BO12: 0 | BP12: 6 | BQ12: 2 | BR12: 1 | BS12: 1 | BT12: 0 | BU12: 0 | BV12: 0 | BW12: 0 | BX12: 0 | BY12: Федеральная сметно-нормативная база (ФСНБ) | BZ12: ТР для Версии 8: Центральные регионы (с учетом п-ма 2536-ИП/12/ГС от 27.11.12) | CA12: ФЕР-2001 | CB12: ФЕР-2001 | CC12: ФЕР-2001 | CD12: ФЕР-2001 | CE12: Поправки для НБ 2001 года в ред. 2009 года от 29.03.2011 | CF12: 0 | CG12: 0 | CH12: 8 | EC12: 0
A14: 22 | B14: 0 | C14: 0 | D14: 22723180 | E14: 0 | F14: 3
A16: 3 | B16: 1 | C16: Новая локальная смета | D16: Новая локальная смета | E16: 1634.47 | F16: 157.74 | G16: 1368.32 | H16: 118.83 | I16: 3279.36 | J16: 139.22 | AI16: 0 | AJ16: 0 | AN16: 0 | AT16: 3093513.3 | AU16: 2880556.6 | AV16: 0 | AW16: 1368318.2 | AX16: 0 | AY16: 73732.82 | AZ16: 7844.01 | BA16: 139223.91 | BB16: 1634470.3 | BC16: 157742.16 | BD16: 118831.35 | BE16: 0 | BF16: 12829.978 | BG16: 580.81405 | BH16: 990.91 | BI16: 114935.83 | BJ16: 70912.9 | BK16: 3279362.1
A18: 51 | E18: 1634.47 | F18: 157.74 | G18: 1368.32 | H18: 118.83 | I18: 3279.36 | J18: 139.22
A20: 50 | B20: 0 | C20: 0 | D20: 1 | E20: 0 | F20: 3093513.3 | G20: ПЗ | H20: Прямые затраты | K20: 201 | L20: 1 | M20: 3 | O20: 2
A21: 50 | B21: 0 | C21: 0 | D21: 1 | E21: 202 | F21: 2880556.6 | G21: СтМат | H21: Стоимость материальных ресурсов | K21: 202 | L21: 2 | M21: 3 | O21: 2
A22: 50 | B22: 0 | C22: 0 | D22: 1 | E22: 222 | F22: 0 | G22: СтМатЗак | H22: Стоимость материалов заказчика | K22: 222 | L22: 3 | M22: 3 | O22: 2
A23: 50 | B23: 0 | C23: 0 | D23: 1 | E23: 216 | F23: 1368318.2 | G23: Оборуд | H23: Стоимость оборудования | K23: 216 | L23: 4 | M23: 3 | O23: 2
A24: 50 | B24: 0 | C24: 0 | D24: 1 | E24: 223 | F24: 0 | G24: ОборудЗак | H24: Стоимость оборудования заказчика | K24: 223 | L24: 5 | M24: 3 | O24: 2
A25: 50 | B25: 0 | C25: 0 | D25: 1 | E25: 203 | F25: 73732.82 | G25: ЭММ | H25: Эксплуатация машин | K25: 203 | L25: 6 | M25: 3 | O25: 2
A26: 50 | B26: 0 | C26: 0 | D26: 1 | E26: 204 | F26: 7844.01 | G26: ЗПМ | H26: ЗП машинистов | K26: 204 | L26: 7 | M26: 3 | O26: 2
A27: 50 | B27: 0 | C27: 0 | D27: 1 | E27: 205 | F27: 139223.91 | G27: ОЗП | H27: Основная ЗП рабочих | K27: 205 | L27: 8 | M27: 3 | O27: 2
A28: 50 | B28: 0 | C28: 0 | D28: 1 | E28: 214 | F28: 1634470.3 | G28: Строит | H28: Строительные работы с НР и СП | K28: 214 | L28: 9 | M28: 3 | O28: 2
A29: 50 | B29: 0 | C29: 0 | D29: 1 | E29: 215 | F29: 157742.16 | G29: Монтаж | H29: Монтажные работы с НР и СП | K29: 215 | L29: 10 | M29: 3 | O29: 2
A30: 50 | B30: 0 | C30: 0 | D30: 1 | E30: 217 | F30: 118831.35 | G30: Прочие | H30: Прочие работы с НР и СП | K30: 217 | L30: 11 | M30: 3 | O30: 2
A31: 50 | B31: 0 | C31: 0 | D31: 1 | E31: 206 | F31: 0 | G31: ВозврМат | H31: Возврат материалов | K31: 206 | L31: 12 | M31: 3 | O31: 2
... A44: 50 | B44: 1 | C44: 0 | D44: 2 | E44: 213 | F44: 24456171 | G44: Итог8 | H44: Всего | K44: 212 | L44: 26 | M44: 0 | O44: 2
A46: -1
A49: 75 | B49: Уровень цен | C49: 2012 | D49: 0 | E49: 12 | F49: 0 | G49: 0 | H49: 1 | I49: 0 | J49: 1 | K49: 0 | L49: 0 | M49: 0 | N49: 22723180 | O49: 1
A50: 2 | B50: Вид цен | D50: 0 | E50: 0

Sheet SmtRes
A1: =ROW(Source!A28) -> 28 | B1: 22723180 | C1: 22754436 | D1: 9415385 | E1: 1 | F1: 1 | G1: 1 | H1: 1 | I1: 1-1038 | K1: Рабочий строитель среднего разряда 3,8 | L1: 1369 | N1: 1013 | O1: чел.-ч | P1: чел.-ч | Q1: 1 | Y1: 17.95 | AA1: 0 | AB1: 0 | AC1: 0 | AD1: 9.4 | AN1: 0 | AO1: 1 | AP1: 0 | AQ1: 0 | AR1: 0 | AT1: 17.95 | AV1: 1 | AW1: 2 | AX1: 22754437 | AY1: 1 | AZ1: 0 | BA1: 1 | BB1: 0 | BC1: 0 | BD1: 0 | BE1: 0 | BF1: 0 | BG1: 0 | BH1: 0 | BI1: 0 | BJ1: 0 | BK1: 0 | BL1: 0 | BM1: 0 | BN1: 0 | BO1: 0 | BP1: 0 | BQ1: 0 | BR1: 0 | BS1: 0 | BT1: 0 | BU1: 0 | BV1: 0 | BW1: 0 | CB1: 0
A2: =ROW(Source!A28) -> 28 | B2: 22723180 | C2: 22754436 | D2: 121548 | E2: 1 | F2: 1 | G2: 1 | H2: 1 | I2: 2 | K2: Затраты труда машинистов | L2: 608254 | N2: 1013 | O2: чел.час | P2: чел.час | Q2: 1 | Y2: 5.01 | AA2: 0 | AB2: 0 | AC2: 0 | AD2: 0 | AN2: 0 | AO2: 1 | AP2: 0 | AQ2: 0 | AR2: 0 | AT2: 5.01 | AV2: 2 | AW2: 2 | AX2: 22754438 | AY2: 1 | AZ2: 0 | BA2: 2 | BB2: 0 | BC2: 0 | BD2: 0 | BE2: 0 | BF2: 0 | BG2: 0 | BH2: 0 | BI2: 0 | BJ2: 0 | BK2: 0 | BL2: 0 | BM2: 0 | BN2: 0 | BO2: 0 | BP2: 0 | BQ2: 0 | BR2: 0 | BS2: 0 | BT2: 0 | BU2: 0 | BV2: 0 | BW2: 0 | CB2: 0
A3: =ROW(Source!A28) -> 28 | B3: 22723180 | C3: 22754436 | D3: 21280827 | E3: 1 | F3: 1 | G3: 1 | H3: 2 | I3: 021141 | J3: ФСЭМ (2009), сб.02,поз.1141 | K3: Краны на автомобильном ходу при работе на других видах строительства 10 т | L3: 1368 | N3: 1011 | O3: маш.-ч | P3: маш.-ч | Q3: 1 | Y3: 1.26 | AA3: 0 | AB3: 111.99 | AC3: 13.5 | AD3: 0 | AN3: 0 | AO3: 1 | AP3: 0 | AQ3: 0 | AR3: 0 | AT3: 1.26 | AV3: 0 | AW3: 2 | AX3: 22754439 | AY3: 1 | AZ3: 0 | BA3: 3 | BB3: 0 | BC3: 0 | BD3: 0 | BE3: 0 | BF3: 0 | BG3: 0 | BH3: 0 | BI3: 0 | BJ3: 0 | BK3: 0 | BL3: 0 | BM3: 0 | BN3: 0 | BO3: 0 | BP3: 0 | BQ3: 0 | BR3: 0 | BS3: 0 | BT3: 0 | BU3: 0 | BV3: 0 | BW3: 0 | CB3: 0
A4: =ROW(Source!A28) -> 28 | B4: 22723180 | C4: 22754436 | D4: 21304734 | E4: 1 | F4: 1 | G4: 1 | H4: 2 | I4: 030402 | J4: ФСЭМ (2009), сб.03,поз.0402 | K4: Лебедки электрические тяговым усилием до 12,26 кН (1,25 т) | L4: 1368 | N4: 1011 | O4: маш.-ч | P4: маш.-ч | Q4: 1 | Y4: 0.34 | AA4: 0 | AB4: 3.28 | AC4: 0 | AD4: 0 | AN4: 0 | AO4: 1 | AP4: 0 | AQ4: 0 | AR4: 0 | AT4: 0.34 | AV4: 0 | AW4: 2 | AX4: 22754440 | AY4: 1 | AZ4: 0 | BA4: 4 | BB4: 0 | BC4: 0 | BD4: 0 | BE4: 0 | BF4: 0 | BG4: 0 | BH4: 0 | BI4: 0 | BJ4: 0 | BK4: 0 | BL4: 0 | BM4: 0 | BN4: 0 | BO4: 0 | BP4: 0 | BQ4: 0 | BR4: 0 | BS4: 0 | BT4: 0 | BU4: 0 | BV4: 0 | BW4: 0 | CB4: 0
A5: =ROW(Source!A28) -> 28 | B5: 22723180 | C5: 22754436 | D5: 21299878 | E5: 1 | F5: 1 | G5: 1 | H5: 2 | I5: 040202 | J5: ФСЭМ (2009), сб.04,поз.0202 | K5: Агрегаты сварочные передвижные с номинальным сварочным током 250-400 А с дизельным двигателем | L5: 1368 | N5: 1011 | O5: маш.-ч | P5: маш.-ч | Q5: 1 | Y5: 1.07 | AA5: 0 | AB5: 14 | AC5: 0 | AD5: 0 | AN5: 0 | AO5: 1 | AP5: 0 | AQ5: 0 | AR5: 0 | AT5: 1.07 | AV5: 0 | AW5: 2 | AX5: 22754441 | AY5: 1 | AZ5: 0 | BA5: 5 | BB5: 0 | BC5: 0 | BD5: 0 | BE5: 0 | BF5: 0 | BG5: 0 | BH5: 0 | BI5: 0 | BJ5: 0 | BK5: 0 | BL5: 0 | BM5: 0 | BN5: 0 | BO5: 0 | BP5: 0 | BQ5: 0 | BR5: 0 | BS5: 0 | BT5: 0 | BU5: 0 | BV5: 0 | BW5: 0 | CB5: 0
A6: =ROW(Source!A28) -> 28 | B6: 22723180 | C6: 22754436 | D6: 21288557 | E6: 1 | F6: 1 | G6: 1 | H6: 2 | I6: 040504 | J6: ФСЭМ (2009), сб.04,поз.0504 | K6: Аппарат для газовой сварки и резки | L6: 1368 | N6: 1011 | O6: маш.-ч | P6: маш.-ч | Q6: 1 | Y6: 0.31 | AA6: 0 | AB6: 1.2 | AC6: 0 | AD6: 0 | AN6: 0 | AO6: 1 | AP6: 0 | AQ6: 0 | AR6: 0 | AT6: 0.31 | AV6: 0 | AW6: 2 | AX6: 22754442 | AY6: 1 | AZ6: 0 | BA6: 6 | BB6: 0 | BC6: 0 | BD6: 0 | BE6: 0 | BF6: 0 | BG6: 0 | BH6: 0 | BI6: 0 | BJ6: 0 | BK6: 0 | BL6: 0 | BM6: 0 | BN6: 0 | BO6: 0 | BP6: 0 | BQ6: 0 | BR6: 0 | BS6: 0 | BT6: 0 | BU6: 0 | BV6: 0 | BW6: 0 | CB6: 0
A7: =ROW(Source!A28) -> 28 | B7: 22723180 | C7: 22754436 | D7: 21304069 | E7: 1 | F7: 1 | G7: 1 | H7: 2 | I7: 140110 | J7: ФСЭМ (2009), сб.14,поз.0110 | K7: Агрегаты копровые без дизель-молота на базе трактора 80 кВт (108 л.с.) | L7: 1368 | N7: 1011 | O7: маш.-ч | P7: маш.-ч | Q7: 1 | Y7: 3.75 | AA7: 0 | AB7: 239.25 | AC7: 16.44 | AD7: 0 | AN7: 0 | AO7: 1 | AP7: 0 | AQ7: 0 | AR7: 0 | AT7: 3.75 | AV7: 0 | AW7: 2 | AX7: 22754443 | AY7: 1 | AZ7: 0 | BA7: 7 | BB7: 0 | BC7: 0 | BD7: 0 | BE7: 0 | BF7: 0 | BG7: 0 | BH7: 0 | BI7: 0 | BJ7: 0 | BK7: 0 | BL7: 0 | BM7: 0 | BN7: 0 | BO7: 0 | BP7: 0 | BQ7: 0 | BR7: 0 | BS7: 0 | BT7: 0 | BU7: 0 | BV7: 0 | BW7: 0 | CB7: 0
A8: =ROW(Source!A28) -> 28 | B8: 22723180 | C8: 22754436 | D8: 21304735 | E8: 1 | F8: 1 | G8: 1 | H8: 2 | I8: 140502 | J8: ФСЭМ (2009), сб.14,поз.0502 | K8: Дизель-молоты 1,25 т | L8: 1368 | N8: 1011 | O8: маш.-ч | P8: маш.-ч | Q8: 1 | Y8: 3.75 | AA8: 0 | AB8: 40.41 | AC8: 0 | AD8: 0 | AN8: 0 | AO8: 1 | AP8: 0 | AQ8: 0 | AR8: 0 | AT8: 3.75 | AV8: 0 | AW8: 2 | AX8: 22754444 | AY8: 1 | AZ8: 0 | BA8: 8 | BB8: 0 | BC8: 0 | BD8: 0 | BE8: 0 | BF8: 0 | BG8: 0 | BH8: 0 | BI8: 0 | BJ8: 0 | BK8: 0 | BL8: 0 | BM8: 0 | BN8: 0 | BO8: 0 | BP8: 0 | BQ8: 0 | BR8: 0 | BS8: 0 | BT8: 0 | BU8: 0 | BV8: 0 | BW8: 0 | CB8: 0
A9: =ROW(Source!A28) -> 28 | B9: 22723180 | C9: 22754436 | D9: 21299880 | E9: 1 | F9: 1 | G9: 1 | H9: 2 | I9: 330206 | J9: ФСЭМ (2009), сб.33,поз.0206 | K9: Дрели электрические | L9: 1368 | N9: 1011 | O9: маш.-ч | P9: маш.-ч | Q9: 1 | Y9: 0.14 | AA9: 0 | AB9: 1.95 | AC9: 0 | AD9: 0 | AN9: 0 | AO9: 1 | AP9: 0 | AQ9: 0 | AR9: 0 | AT9: 0.14 | AV9: 0 | AW9: 2 | AX9: 22754445 | AY9: 1 | AZ9: 0 | BA9: 9 | BB9: 0 | BC9: 0 | BD9: 0 | BE9: 0 | BF9: 0 | BG9: 0 | BH9: 0 | BI9: 0 | BJ9: 0 | BK9: 0 | BL9: 0 | BM9: 0 | BN9: 0 | BO9: 0 | BP9: 0 | BQ9: 0 | BR9: 0 | BS9: 0 | BT9: 0 | BU9: 0 | BV9: 0 | BW9: 0 | CB9: 0
A10: =ROW(Source!A28) -> 28 | B10: 22723180 | C10: 22754436 | D10: 21304071 | E10: 1 | F10: 1 | G10: 1 | H10: 2 | I10: 400101 | J10: ФСЭМ (2009), сб.40,поз.0101 | K10: Тягачи седельные, грузоподъемность 12 т | L10: 1368 | N10: 1011 | O10: маш.-ч | P10: маш.-ч | Q10: 1 | Y10: 0.15 | AA10: 0 | AB10: 127.82 | AC10: 13.5 | AD10: 0 | AN10: 0 | AO10: 1 | AP10: 0 | AQ10: 0 | AR10: 0 | AT10: 0.15 | AV10: 0 | AW10: 2 | AX10: 22754446 | AY10: 1 | AZ10: 0 | BA10: 10 | BB10: 0 | BC10: 0 | BD10: 0 | BE10: 0 | BF10: 0 | BG10: 0 | BH10: 0 | BI10: 0 | BJ10: 0 | BK10: 0 | BL10: 0 | BM10: 0 | BN10: 0 | BO10: 0 | BP10: 0 | BQ10: 0 | BR10: 0 | BS10: 0 | BT10: 0 | BU10: 0 | BV10: 0 | BW10: 0 | CB10: 0
A11: =ROW(Source!A28) -> 28 | B11: 22723180 | C11: 22754436 | D11: 21304072 | E11: 1 | F11: 1 | G11: 1 | H11: 2 | I11: 400111 | J11: ФСЭМ (2009), сб.40,поз.0111 | K11: Полуприцепы общего назначения, грузоподъемность 12 т | L11: 1368 | N11: 1011 | O11: маш.-ч | P11: маш.-ч | Q11: 1 | Y11: 0.15 | AA11: 0 | AB11: 12 | AC11: 0 | AD11: 0 | AN11: 0 | AO11: 1 | AP11: 0 | AQ11: 0 | AR11: 0 | AT11: 0.15 | AV11: 0 | AW11: 2 | AX11: 22754447 | AY11: 1 | AZ11: 0 | BA11: 11 | BB11: 0 | BC11: 0 | BD11: 0 | BE11: 0 | BF11: 0 | BG11: 0 | BH11: 0 | BI11: 0 | BJ11: 0 | BK11: 0 | BL11: 0 | BM11: 0 | BN11: 0 | BO11: 0 | BP11: 0 | BQ11: 0 | BR11: 0 | BS11: 0 | BT11: 0 | BU11: 0 | BV11: 0 | BW11: 0 | CB11: 0
A12: =ROW(Source!A28) -> 28 | B12: 22723180 | C12: 22754436 | D12: 21288561 | E12: 1 | F12: 1 | G12: 1 | H12: 3 | I12: 101-0324 | J12: ФССЦ (2010) ч.1, раздел01, поз.0324 | K12: Кислород технический газообразный | L12: 1339 | N12: 1007 | O12: м3 | P12: м3 | Q12: 1 | Y12: 0.3 | AA12: 6.22 | AB12: 0 | AC12: 0 | AD12: 0 | AN12: 0 | AO12: 1 | AP12: 0 | AQ12: 0 | AR12: 0 | AT12: 0.3 | AV12: 0 | AW12: 2 | AX12: 22754448 | AY12: 1 | AZ12: 0 | BA12: 12 | BB12: 0 | BC12: 0 | BD12: 0 | BE12: 0 | BF12: 0 | BG12: 0 | BH12: 0 | BI12: 0 | BJ12: 0 | BK12: 0 | BL12: 0 | BM12: 0 | BN12: 0 | BO12: 0 | BP12: 0 | BQ12: 0 | BR12: 0 | BS12: 0 | BT12: 0 | BU12: 0 | BV12: 0 | BW12: 0 | CB12: 0
A13: =ROW(Source!A28) -> 28 | B13: 22723180 | C13: 22754436 | D13: 21288798 | E13: 1 | F13: 1 | G13: 1 | H13: 3 | I13: 101-0388 | J13: ФССЦ (2010) ч.1, раздел01, поз.0388 | K13: Краски масляные земляные марки МА-0115 мумия, сурик железный | L13: 1348 | N13: 1009 | O13: т | P13: т | Q13: 1000 | Y13: 4e-05 | AA13: 15119 | AB13: 0 | AC13: 0 | AD13: 0 | AN13: 0 | AO13: 1 | AP13: 0 | AQ13: 0 | AR13: 0 | AT13: 4e-05 | AV13: 0 | AW13: 2 | AX13: 22754449 | AY13: 1 | AZ13: 0 | BA13: 13 | BB13: 0 | BC13: 0 | BD13: 0 | BE13: 0 | BF13: 0 | BG13: 0 | BH13: 0 | BI13: 0 | BJ13: 0 | BK13: 0 | BL13: 0 | BM13: 0 | BN13: 0 | BO13: 0 | BP13: 0 | BQ13: 0 | BR13: 0 | BS13: 0 | BT13: 0 | BU13: 0 | BV13: 0 | BW13: 0 | CB13: 0
A14: =ROW(Source!A28) -> 28 | B14: 22723180 | C14: 22754436 | D14: 21282855 | E14: 1 | F14: 1 | G14: 1 | H14: 3 | I14: 101-0782 | J14: ФССЦ (2010) ч.1, раздел01, поз.0782 | K14: Поковки из квадратных заготовок, масса 1,8 кг | L14: 1348 | N14: 1009 | O14: т | P14: т | Q14: 1000 | Y14: 0.0006 | AA14: 5989 | AB14: 0 | AC14: 0 | AD14: 0 | AN14: 0 | AO14: 1 | AP14: 0 | AQ14: 0 | AR14: 0 | AT14: 0.0006 | AV14: 0 | AW14: 2 | AX14: 22754450 | AY14: 1 | AZ14: 0 | BA14: 14 | BB14: 0 | BC14: 0 | BD14: 0 | BE14: 0 | BF14: 0 | BG14: 0 | BH14: 0 | BI14: 0 | BJ14: 0 | BK14: 0 | BL14: 0 | BM14: 0 | BN14: 0 | BO14: 0 | BP14: 0 | BQ14: 0 | BR14: 0 | BS14: 0 | BT14: 0 | BU14: 0 | BV14: 0 | BW14: 0 | CB14: 0
A15: =ROW(Source!A28) -> 28 | B15: 22723180 | C15: 22754436 | D15: 21304738 | E15: 1 | F15: 1 | G15: 1 | H15: 3 | I15: 101-1145 | J15: ФССЦ (2010) ч.1, раздел01, поз.1145 | K15: Профили фасонные горячекатаные для шпунтовых свай Л4 и Л5 массой от 50 до 100 кг, сталь марки 16ХГ | L15: 1348 | N15: 1009 | O15: т | P15: т | Q15: 1000 | Y15: 1.01 | AA15: 6789.36 | AB15: 0 | AC15: 0 | AD15: 0 | AN15: 0 | AO15: 1 | AP15: 0 | AQ15: 0 | AR15: 0 | AT15: 1.01 | AV15: 0 | AW15: 2 | AX15: 22754451 | AY15: 1 | AZ15: 0 | BA15: 15 | BB15: 0 | BC15: 0 | BD15: 0 | BE15: 0 | BF15: 0 | BG15: 0 | BH15: 0 | BI15: 0 | BJ15: 0 | BK15: 0 | BL15: 0 | BM15: 0 | BN15: 0 | BO15: 0 | BP15: 0 | BQ15: 0 | BR15: 0 | BS15: 0 | BT15: 0 | BU15: 0 | BV15: 0 | BW15: 0 | CB15: 0
A16: =ROW(Source!A28) -> 28 | B16: 22723180 | C16: 22754436 | D16: 21304502 | E16: 1 | F16: 1 | G16: 1 | H16: 3 | I16: 101-1522 | J16: ФССЦ (2010) ч.1, раздел01, поз.1522 | K16: Электроды диаметром 5 мм Э42А | L16: 1348 | N16: 1009 | O16: т | P16: т | Q16: 1000 | Y16: 0.00193 | AA16: 10362 | AB16: 0 | AC16: 0 | AD16: 0 | AN16: 0 | AO16: 1 | AP16: 0 | AQ16: 0 | AR16: 0 | AT16: 0.00193 | AV16: 0 | AW16: 2 | AX16: 22754452 | AY16: 1 | AZ16: 0 | BA16: 16 | BB16: 0 | BC16: 0 | BD16: 0 | BE16: 0 | BF16: 0 | BG16: 0 | BH16: 0 | BI16: 0 | BJ16: 0 | BK16: 0 | BL16: 0 | BM16: 0 | BN16: 0 | BO16: 0 | BP16: 0 | BQ16: 0 | BR16: 0 | BS16: 0 | BT16: 0 | BU16: 0 | BV16: 0 | BW16: 0 | CB16: 0
A17: =ROW(Source!A28) -> 28 | B17: 22723180 | C17: 22754436 | D17: 21299885 | E17: 1 | F17: 1 | G17: 1 | H17: 3 | I17: 101-1602 | J17: ФССЦ (2010) ч.1, раздел01, поз.1602 | K17: Ацетилен газообразный технический | L17: 1339 | N17: 1007 | O17: м3 | P17: м3 | Q17: 1 | Y17: 0.06 | AA17: 38.51 | AB17: 0 | AC17: 0 | AD17: 0 | AN17: 0 | AO17: 1 | AP17: 0 | AQ17: 0 | AR17: 0 | AT17: 0.06 | AV17: 0 | AW17: 2 | AX17: 22754453 | AY17: 1 | AZ17: 0 | BA17: 17 | BB17: 0 | BC17: 0 | BD17: 0 | BE17: 0 | BF17: 0 | BG17: 0 | BH17: 0 | BI17: 0 | BJ17: 0 | BK17: 0 | BL17: 0 | BM17: 0 | BN17: 0 | BO17: 0 | BP17: 0 | BQ17: 0 | BR17: 0 | BS17: 0 | BT17: 0 | BU17: 0 | BV17: 0 | BW17: 0 | CB17: 0
A18: =ROW(Source!A28) -> 28 | B18: 22723180 | C18: 22754436 | D18: 21282859 | E18: 1 | F18: 1 | G18: 1 | H18: 3 | I18: 102-0008 | J18: ФССЦ (2010) ч.1, раздел02, поз.0008 | K18: Лесоматериалы круглые хвойных пород для строительства диаметром 14-24 см, длиной 3-6,5 м | L18: 1339 | N18: 1007 | O18: м3 | P18: м3 | Q18: 1 | Y18: 0.006 | AA18: 558.33 | AB18: 0 | AC18: 0 | AD18: 0 | AN18: 0 | AO18: 1 | AP18: 0 | AQ18: 0 | AR18: 0 | AT18: 0.006 | AV18: 0 | AW18: 2 | AX18: 22754454 | AY18: 1 | AZ18: 0 | BA18: 18 | BB18: 0 | BC18: 0 | BD18: 0 | BE18: 0 | BF18: 0 | BG18: 0 | BH18: 0 | BI18: 0 | BJ18: 0 | BK18: 0 | BL18: 0 | BM18: 0 | BN18: 0 | BO18: 0 | BP18: 0 | BQ18: 0 | BR18: 0 | BS18: 0 | BT18: 0 | BU18: 0 | BV18: 0 | BW18: 0 | CB18: 0
A19: =ROW(Source!A28) -> 28 | B19: 22723180 | C19: 22754436 | D19: 21304075 | E19: 1 | F19: 1 | G19: 1 | H19: 3 | I19: 201-0774 | J19: ФССЦ (2010) ч.2, раздел01, поз.0774 | K19: Конструктивные элементы вспомогательного назначения массой не более 50 кг с преобладанием толстолистовой стали собираемые из двух и более деталей, с отверстиями и без отверстий, соединяемые на сварке | L19: 1348 | N19: 1009 | O19: т | P19: т | Q19: 1000 | Y19: 0.0004 | AA19: 11255 | AB19: 0 | AC19: 0 | AD19: 0 | AN19: 0 | AO19: 1 | AP19: 0 | AQ19: 0 | AR19: 0 | AT19: 0.0004 | AV19: 0 | AW19: 2 | AX19: 22754455 | AY19: 1 | AZ19: 0 | BA19: 19 | BB19: 0 | BC19: 0 | BD19: 0 | BE19: 0 | BF19: 0 | BG19: 0 | BH19: 0 | BI19: 0 | BJ19: 0 | BK19: 0 | BL19: 0 | BM19: 0 | BN19: 0 | BO19: 0 | BP19: 0 | BQ19: 0 | BR19: 0 | BS19: 0 | BT19: 0 | BU19: 0 | BV19: 0 | BW19: 0 | CB19: 0
A20: =ROW(Source!A28) -> 28 | B20: 22723180 | C20: 22754436 | D20: 0 | E20: 0 | F20: 1 | G20: 1 | H20: 3 | I20: Цена поставщика | K20: Свая винтовая СВС-219 (Цена без НДС 8092,33/6,32) | L20: 1354 | N20: 1010 | O20: шт. | P20: шт. | Q20: 1 | Y20: 5.454545 | AA20: 1280.43 | AB20: 0 | AC20: 0 | AD20: 0 | AN20: 0 | AO20: 0 | AP20: 0 | AQ20: 0 | AR20: 0 | AT20: 5.454545 | AV20: 0 | AW20: 1 | AX20: -1 | AY20: 0 | AZ20: 0 | BB20: 0 | BC20: 0 | BD20: 0 | BE20: 0 | BF20: 0 | BG20: 0 | BH20: 0 | BI20: 0 | BJ20: 0 | BK20: 0 | BL20: 0 | BM20: 0 | BN20: 0 | BO20: 0 | BP20: 0 | BQ20: 0 | BR20: 0 | BS20: 0 | BT20: 0 | BU20: 0 | BV20: 0 | BW20: 0 | CB20: 0
A21: =ROW(Source!A28) -> 28 | B21: 22723180 | C21: 22754436 | D21: 0 | E21: 0 | F21: 1 | G21: 1 | H21: 3 | I21: Цена поставщика | K21: Оголовок сваи (Цена без НДС 211,86/6,32) | L21: 1354 | N21: 1010 | O21: шт. | P21: шт. | Q21: 1 | Y21: 5.454545 | AA21: 33.52 | AB21: 0 | AC21: 0 | AD21: 0 | AN21: 0 | AO21: 0 | AP21: 0 | AQ21: 0 | AR21: 0 | AT21: 5.454545 | AV21: 0 | AW21: 1 | AX21: -1 | AY21: 0 | AZ21: 0 | BB21: 0 | BC21: 0 | BD21: 0 | BE21: 0 | BF21: 0 | BG21: 0 | BH21: 0 | BI21: 0 | BJ21: 0 | BK21: 0 | BL21: 0 | BM21: 0 | BN21: 0 | BO21: 0 | BP21: 0 | BQ21: 0 | BR21: 0 | BS21: 0 | BT21: 0 | BU21: 0 | BV21: 0 | BW21: 0 | CB21: 0
