Workbook
Name Constr: '25129'!#REF!
Name FOT: '25129'!$D$16
Name Ind: '25129'!$H$7
Name Obj: '25129'!$E$10
Name Obosn: '25129'!$D$14
Name SmPr: '25129'!$D$15
Name аааааппппппрррппппппп: #REF!
Name аааааппппппрррппппппп: #REF!
Name аараооооооооооооо: #REF!
Name аараооооооооооооо: #REF!
Name автом: #REF!
Name автом: #REF!
Name алшрльоплварл: #REF!
Name алшрльоплварл: #REF!
Name аолвлддддддддддддддддввввввввв: #REF!
Name аолвлддддддддддддддддввввввввв: #REF!
Name апарв: #REF!
Name апарв: #REF!
Name апрлдджаоырыфрпопрлпрлпрлп: #REF!
Name апрлдджаоырыфрпопрлпрлпрлп: #REF!
Name арлггаджаш: #REF!
Name арлггаджаш: #REF!
Name ароррбллтблпроорапииас: #REF!
Name ароррбллтблпроорапииас: #REF!
Name арррррблллпдрлдддддддддд: #REF!
Name арррррблллпдрлдддддддддд: #REF!
Name варпаааааааааа: #REF!
Name варпаааааааааа: #REF!
Name ввпьььььлднд: #REF!
Name ввпьььььлднд: #REF!
Name вед: #REF!
Name вед: #REF!
Name вертикальная: #REF!
Name вертикальная: #REF!
Name вертикплан: #REF!
Name вертикплан: #REF!
Name волен: #REF!
Name волен: #REF!
Name вп: #REF!
Name вп: #REF!
Name впырпфдыпл: #REF!
Name впырпфдыпл: #REF!
Name впьглорьтитттттттттт: #REF!
Name впьглорьтитттттттттт: #REF!
Name всввввввввввввввввввввввввв: #REF!
Name всввввввввввввввввввввввввв: #REF!
Name выб: #REF!
Name выб: #REF!
Name выпуск: #REF!
Name выпуск: #REF!
Name выьлепвввввпмп: #REF!
Name выьлепвввввпмп: #REF!
Name еваопродолжэрщэрзшщщх: #REF!
Name еваопродолжэрщэрзшщщх: #REF!
Name измен: #REF!
Name измен: #REF!
Name итого: #REF!
Name итого: #REF!
Name итого: #REF!
Name итого_сантех: #REF!

Sheet 25129
A1: СОГЛАСОВАНО: | E1: ФГУП "Комбинат "Электрохимприбор" | M1: УТВЕРЖДАЮ:
G2: (наименование стройки) | M2: Зам.генерального директора
A3: _________________ | N3: Е.В. Гордеев
A4: " _____ " ________________ 2014 г. | M4: __________________
M5: "______ " __________2014 г.
H7: ЛОКАЛЬНЫЙ СМЕТНЫЙ РАСЧЕТ № 25129
H8: (локальная смета)
C10: на | D10: реконструкцию светоаэрационного фонаря здания 303. Площадка 1.Инв.№5300336
D11: Раздел: архитектурно-строительные решения
H12: (наименование работ и затрат, наименование объекта)
D14: Основание: 24764-13-АС
D15: Сметная стоимость строительных работ _______________________________________________________________________________________________ | J15: ___________________________271,845 | L15: тыс. руб.
D16: Средства на оплату труда _______________________________________________________________________________________________ | J16: ___________________________21,566 | L16: тыс. руб.
D17: Сметная трудоемкость _______________________________________________________________________________________________ | J17: _______________________________________________________________________________________________1567,93 | L17: чел.час
D18: Материалы_______________________________________________ | J18: ___________________________192,732 | L18: тыс. руб.
D19: Составлен(а) в базовых ценах 2001г. в редакции 2009г.
A21: № пп | B21: Обоснование | C21: Наименование | D21: Ед. изм. | E21: Кол. | F21: Стоимость единицы, руб. | J21: Общая стоимость, руб. | N21: Т/з осн. раб.на ед. | O21: Т/з осн. раб. Всего | P21: Т/з мех. на ед. | Q21: Т/з мех. Всего
F22: Всего | G22: В том числе | J22: Всего | K22: В том числе
G23: Осн.З/п | H23: Эк.Маш | I23: З/пМех | K23: Осн.З/п | L23: Эк.Маш | M23: З/пМех
A24: 1 | B24: 2 | C24: 3 | D24: 4 | E24: 5 | F24: 6 | G24: 7 | H24: 8 | I24: 9 | J24: 10 | K24: 11 | L24: 12 | M24: 13 | N24: 14 | O24: 15 | P24: 16 | Q24: 17
A25: Раздел 1. Разборка конструкций
A26: 1 | B26: ТЕР46-04-012-02 | C26: Разборка конструкций оконных проемов | D26: 100 м2 | E26: 2.7 | F26: 2281.38 | G26: 1969.46 | H26: 311.92 | I26: 120.9 | J26: 6160 | K26: 5318 | L26: 842 | M26: 326 | N26: 172.76 | O26: 466.45 | P26: 7.74 | Q26: 20.9
A27: 2 | B27: ТЕР10-01-010-01 | C27: Разборка элементов деревянного каркаса КОЭФ. К ПОЗИЦИИ: Демонтаж (разборка) сборных деревянных конструкций ОЗП=0,8; ЭМ=0,8 к расх.; ЗПМ=0,8; МАТ=0 к расх.; ТЗ=0,8; ТЗМ=0,8 | D27: 1 м3 | E27: 1.47 | F27: 246.25 | G27: 212.59 | H27: 33.66 | J27: 362 | K27: 313 | L27: 49 | N27: 18 | O27: 26.46
A28: 3 | B28: ТЕРр58-3-1 | C28: Разборка мелких покрытий и обделок из листовой стали поясков, сандриков, желобов, отливов, свесов и т.п. | D28: 100 м | E28: 1.44 | F28: 100.24 | G28: 100.01 | H28: 0.23 | J28: 144 | K28: 144 | N28: 9.1 | O28: 13.1
A29: 4 | B29: СЦП1-1-27-А | C29: Погрузочные работы при автомобильных перевозках: мусор строительный КОЭФ. К ПОЗИЦИИ: Коэффициент техн.часть п.3 ПЗ=1,025 (ОЗП=1,025; ЭМ=1,025 к расх.; ЗПМ=1,025; МАТ=1,025 к расх.; ТЗ=1,025; ТЗМ=1,025) | D29: т | E29: 12.4 | F29: 2.77 | G29: 2.77 | J29: 34 | K29: 34
A30: 5 | B30: СЦП3-3-40-1 | C30: Перевозка грузов (мусора) автомобилями-самосвалами (работающими вне карьеров): расстояние 40 км, класс груза I КОЭФ. К ПОЗИЦИИ: 17 При перевозке грузов к провозной плате (тарифам) применять поправочный коэффициент ПЗ=1,37 (ОЗП=1,37; ЭМ=1,37 к расх.; ЗПМ=1,37; МАТ=1,37 к расх.; ТЗ=1,37; ТЗМ=1,37) | D30: т | E30: 12.4 | F30: 52.85 | H30: 52.85 | J30: 655 | L30: 655
A31: Раздел 2. Остекление фонаря
A32: 6 | B32: ТЕРр69-2-1 | C32: Сверление отверстий в кирпичных стенах электроперфоратором диаметром до 20 мм, толщина стен 0,5 кирпича | D32: 100 отверстий | E32: 0.12 | F32: 83.02 | G32: 65.93 | H32: 17.09 | J32: 10 | K32: 8 | L32: 2 | N32: 5.49 | O32: 0.66
A33: 7 | B33: ТЕРр69-2-2 | C33: Сверление отверстий на каждые 0,5 кирпича толщины стен добавлять к расценке 69-2-1 | D33: 100 отверстий | E33: 0.12 | F33: 79.85 | G33: 63.41 | H33: 16.44 | J33: 10 | K33: 8 | L33: 2 | N33: 5.28 | O33: 0.63
A34: 8 | B34: ТСЦ-101-1928 | C34: Болты распорные МР 12х100 | D34: шт. | E34: 12 | F34: 5.47 | J34: 66
A35: 9 | B35: ТЕР09-03-021-01 | C35: Монтаж каркасов фонарей аэрационных и светоаэрационных для зданий высотой до 25 м с шагом ферм до 6 м | D35: 1 т | E35: 2.156 | F35: 1634.41 | G35: 332.11 | H35: 1246.64 | I35: 141.22 | J35: 3524 | K35: 716 | L35: 2688 | M35: 304 | N35: 24.51 | O35: 52.84 | P35: 7.54 | Q35: 16.26
A36: 10 | B36: Цена постав-ка 2012г. | C36: Профиль 50.01.03 | D36: п.м | E36: 174 | F36: 70,08 365,51/4,42/1,18 | J36: 12194
A37: 11 | B37: Цена поставщика 2012г. | C37: Профиль 50.04.01 | D37: п.м | E37: 576 | F37: 10,22 53,28/4,42/1,18 | J37: 5887
A38: 12 | B38: Цена поставщика 2012г. | C38: Профиль 50.03.06 | D38: п.м | E38: 576 | F38: 13,61 70,98/4,42/1,18 | J38: 7839
A39: 13 | B39: Цена поставщика 2012г. | C39: Профиль 50.02.03 | D39: п.м | E39: 408 | F39: 50,12 261,43/4,42/1,18 | J39: 20449
A40: 14 | B40: Цена поставщика 2012г. | C40: Профиль 50.09.02 | D40: п.м | E40: 158 | F40: 62,29 324,87/4,42/1,18 | J40: 9842
A41: 15 | B41: Цена поставщика 2012г. | C41: Профиль 50.09.03 | D41: п.м | E41: 158 | F41: 12,56 65,49/4,42/1,18 | J41: 1984
A42: 16 | B42: Цена поставщика 2012г. | C42: Профиль 50.09.01 | D42: п.м | E42: 158 | F42: 72,12 376,17/4,42/1,18 | J42: 11395
A43: 17 | B43: Цена поставщика 2012г. | C43: Профиль 50.10.16 | D43: п.м | E43: 310 | F43: 3,33 17,35/4,42/1,18 | J43: 1032
A44: 18 | B44: Цена поставщика 2012г. | C44: Профиль 50.10.17 | D44: п.м | E44: 446 | F44: 4,75 24,78/4,42/1,18 | J44: 2119
...

Sheet НМЦ
A1: г. Лесной ФГУП "Комбинат "Электрохимприбор"
A3: Расчет начальной (максимальной) цены
A5: Реконструкция светоаэрационного фонаря здания 303
A8: Составлен в ценах по состоянию на 01.01.2000 г. с переводом в текущие | D8: руб.
A9: Наименование глав ССР, объектных сметных расчетов, локальных сметных расчетов, видов работ | B9: Сметная стоимость в базисных ценах на 01.01.2000 | C9: Текущая стоимость на момент определения начальной (максимальной) цены | D9: № обосновывающего расчета
A13: 1 | B13: 2 | C13: 3 | D13: 4
A14: реконструкция светоаэрационного фонаря здания 303 | B14: ='Сводка затрат'!H14 -> 271845 | C14: =ROUND('Сводка затрат'!D14*5.98,0)+ROUND('Сводка затрат'!E14*5.98,0)+ROUND('Сводка затрат'!F14*4.21,0)+ROUND('Сводка затрат'!G14*10.48,0) -> 1625633 | D14: 25129
A15: Итого в базисных ценах 2000 г. | B15: ='Сводка затрат'!D15 -> 271845 | C15: ='Сводка затрат'!H16 -> 1625633
A17: НДС 18% | C17: =ROUND(C15*18%,2) -> 292613.94
A19: Всего | C19: =SUM(C15:C18) -> 1918246.9
A21: Начальник отдела
A22: капитального строительства | C22: В.В. Моляков
A24: Инженер по проектно-сметной работе | C24: Т.Ш. Ковязина
A26: Согласовано | C26: отдел 028
C27: отдел 014

Sheet Сводка затрат
A1: Приложение №__ к договору от "__"______201_ №_______
A3: г. Лесной. ФГУП "Комбинат "Электрохимприбор"
A5: Сводка затрат
A7: Реконструкция контрольно-пропускного пункта промплощадки №5
A10: Составлен в ценах по состоянию на 01.01.2000 г.
A11: № п/п | B11: Номера сметных расчетов и смет | C11: Наименование работ и затрат | D11: Сметная стоимость | H11: Общая сметная стоимость, руб.
D12: строительных работ | E12: монтажных работ | F12: оборудования, мебели, инвентаря | G12: прочих затрат
A13: 1 | B13: 2 | C13: 3 | D13: 4 | E13: 5 | F13: 6 | G13: 7 | H13: 8
A14: 1 | B14: 25129 | C14: реконструкция светоаэрационного фонаря здания 303 | D14: ='25129'!J112 -> 271845 | E14: 0 | F14: 0 | G14: 0 | H14: =SUM(D14:G14) -> 271845
C15: Итого в базисных ценах 2000 г. | D15: =SUM(D14:D14) -> 271845 | E15: =SUM(E14:E14) -> 0 | F15: =SUM(F14:F14) -> 0 | G15: =SUM(G14:G14) -> 0 | H15: =SUM(D15:G15) -> 271845
C16: Всего в ценах 2014 (Ксмр=5,98, Коб.=4,21, Кпнр=10,48) | D16: =ROUND(D15*5.98,0) -> 1625633 | E16: =ROUND(E15*5.98,0) -> 0 | F16: =ROUND(F15*4.21,0) -> 0 | G16: =ROUND(G15*10.48,0) -> 0 | H16: =SUM(D16:G16) -> 1625633
C17: НДС 18% | D17: =ROUND(D16*18%,2) -> 292613.94 | E17: =ROUND(E16*18%,2) -> 0 | F17: =ROUND(F16*18%,2) -> 0 | G17: =ROUND(G16*18%,2) -> 0 | H17: =SUM(D17:G17) -> 292613.94
C18: Всего в ценах 2014 с НДС | D18: =SUM(D16:D17) -> 1918246.9 | E18: =SUM(E16:E17) -> 0 | F18: =SUM(F16:F17) -> 0 | G18: =SUM(G16:G17) -> 0 | H18: =SUM(D18:G18) -> 1918246.9
C22: ЗАКАЗЧИК: | H22: ПОДРЯДЧИК:
C23: Генеральный директор
C24: ФГУП "Комбинат "Электрохимприбор"
C26: __________________ А.В. Новиков
