Workbook

Sheet Смета 12 гр. по ФЕР
A1: =Source!B1 -> Smeta.RU (495) 974-1589
H3: Приложение 1 к Форме 7
B8: =CONCATENATE( "СМЕТА ",IF(Source!F20<>"Новая локальная смета", Source!F20, "")) -> СМЕТА
B10: =IF(Source!G20<>"Новая локальная смета", Source!G20, "")
B12: на капитальный ремонт напольного покрытия в помещениях комнат отдыха и коридоров 2-5-го этажей с устройством противопожарных перегородок в помещениях коридоров с 1-5-й этажи в здании общежития НИЯУ МИФИ по адресу: г. Москва, ул. Москворечье, д. 19, к. 4 | AD12: =IF(Source!G12<>"Новый объект", Source!G12, "") -> На капитальный ремонт напольного покрытия коридоров со 2-го по 5-й этажи с установкой противопожарных перегородок коридоров с 1-го по 5-й этажи здания общежития НИЯУ МИФИ по адресу: г. Москва, ул. Москворечье, д. 19, к. 4
B13: (наименование работ и затрат, наименование объекта)
G15: базовая цена | I15: текущая цена
C16: Сметная стоимость | G16: =SUM(O24:O180)/1000 -> 525.19056 | I16: =(Source!P141/1000) -> 4773.6214 | K16: тыс. руб.
C17: Строительные работы | G17: =SUM(W24:W180)/1000 -> 525.19056 | I17: =(Source!P128)/1000 -> 4045.4419 | K17: тыс. руб.
C18: Нормативная трудоемкость | G18: =I18 -> 5092.8986 | I18: =(Source!P133+Source!P134) -> 5092.8986 | K18: чел. -ч.
C19: Средства на оплату труда | G19: =SUM(R24:R180)/1000 -> 44.87684 | I19: =((Source!P126 + Source!P125)/1000) -> 345.55175 | K19: тыс. руб.
A21: Составлена в ценах IV квартал 2017 года
A22: № п/п | B22: Шифр расценки и коды ресурсов | C22: Наименование работ и затрат | D22: Ед. изм. | E22: Кол-во единиц | F22: Цена на ед. изм. | G22: Попра-вочные коэфф. | H22: Стоимость в ценах 2001г. | I22: Пункт коэфф. пересчета | J22: Коэфф. пересчета | K22: Стоимость в текущих ценах | L22: ЗТР всего чел.-час
A23: 1 | B23: 2 | C23: 3 | D23: 4 | E23: 5 | F23: 6 | G23: 7 | H23: 8 | I23: 9 | J23: 10 | K23: 11 | L23: 12
A24: =Source!E25 -> 1 | B24: =Source!F25 -> 57-2-1 | C24: =Source!G25 -> Разборка покрытий полов из линолеума и релина | D24: =Source!H25 -> 100 м2 | E24: =Source!I25 -> 8.114 | F24: =Source!AL25+Source!AM25+Source!AO25 -> 92.9 | I24: =Source!BO25 | S24: =ROUND((Source!FX25/100)*((ROUND(Source!AF25*Source!I25, 2)+ROUND(Source!AE25*Source!I25, 2))), 2) -> 588.1 | T24: =Source!X25 -> 4528.39 | U24: =ROUND((Source!FY25/100)*((ROUND(Source!AF25*Source!I25, 2)+ROUND(Source!AE25*Source!I25, 2))), 2) -> 499.89 | V24: =Source!Y25 -> 3849.13
C25: ="Объем: "&Source!I25&"=811,4/"&"100" -> Объем: 8,114=811,4/100
C26: Зарплата | F26: =Source!AO25 -> 88.84 | G26: =Source!DG25 | H26: =ROUND(Source!AF25*Source!I25, 2) -> 720.85 | J26: =IF(Source!BA25<> 0, Source!BA25, 1) -> 7.7 | K26: =Source!S25 -> 5550.53 | R26: =H26 -> 720.85
C27: Эксплуатация машин | F27: =Source!AM25 -> 4.06 | G27: =Source!DE25 | H27: =ROUND(Source!AD25*Source!I25, 2) -> 32.94 | J27: =IF(Source!BB25<> 0, Source!BB25, 1) -> 7.7 | K27: =Source!Q25 -> 253.66
C28: в т.ч. зарплата машинистов | F28: =Source!AN25 -> 1.76 | G28: =Source!DF25 | H28: =ROUND(Source!AE25*Source!I25, 2) -> 14.28 | J28: =IF(Source!BS25<> 0, Source!BS25, 1) -> 7.7 | K28: =Source!R25 -> 109.96 | R28: =H28 -> 14.28
C29: НР от ФОТ | D29: % | E29: =Source!BZ25 -> 80 | H29: =SUM(S24:S32) -> 588.1 | J29: =Source!AT25 -> 80 | K29: =SUM(T24:T32) -> 4528.39
C30: СП от ФОТ | D30: % | E30: =Source!CA25 -> 68 | H30: =SUM(U24:U32) -> 499.89 | J30: =Source!AU25 -> 68 | K30: =SUM(V24:V32) -> 3849.13
C31: Затраты труда | D31: чел-ч | E31: =Source!AQ25 -> 11.39 | G31: =Source!DI25 | L31: =Source!U25 -> 92.41846
A32: =Source!E27 -> 1,1 | B32: =Source!F27 -> 01.7.07.07 | C32: =Source!G27 -> Строительный мусор | D32: =Source!H27 -> т | E32: =Source!I27 -> 3.81358 | F32: =Source!AL27+Source!AM27+Source!AO27 -> 0 | H32: =ROUND(Source!AC27*Source!I27, 2)+ROUND(Source!AD27*Source!I27, 2)+ROUND(Source!AF27*Source!I27, 2) -> 0 | J32: =IF(Source!BC27<> 0, Source!BC27, 1) -> 7.7 | K32: =Source!O27 -> 0 | S32: =ROUND((Source!FX27/100)*((ROUND(Source!AF27*Source!I27, 2)+ROUND(Source!AE27*Source!I27, 2))), 2) -> 0 | T32: =Source!X27 -> 0 | U32: =ROUND((Source!FY27/100)*((ROUND(Source!AF27*Source!I27, 2)+ROUND(Source!AE27*Source!I27, 2))), 2) -> 0 | V32: =Source!Y27 -> 0 | W32: =IF(Source!BI27<=1,H32, 0) -> 0 | X32: =IF(Source!BI27=2,H32, 0) -> 0 | Y32: =IF(Source!BI27=3,H32, 0) -> 0 | Z32: =IF(Source!BI27=4,H32, 0) -> 0
G33: =H26+H27+H29+H30+SUM(H32:H32) -> 1841.78 | J33: =K26+K27+K29+K30+SUM(K32:K32) -> 14181.71 | L33: =Source!U25 -> 92.41846 | O33: =G33 -> 1841.78 | P33: =J33 -> 14181.71 | Q33: =L33 -> 92.41846 | W33: =IF(Source!BI25<=1,H26+H27+H29+H30, 0) -> 1841.78 | X33: =IF(Source!BI25=2,H26+H27+H29+H30, 0) -> 0 | Y33: =IF(Source!BI25=3,H26+H27+H29+H30, 0) -> 0 | Z33: =IF(Source!BI25=4,H26+H27+H29+H30, 0) -> 0
A34: =Source!E29 -> 2 | B34: =Source!F29 -> 57-3-1 | C34: =Source!G29 -> Разборка плинтусов деревянных и из пластмассовых материалов | D34: =Source!H29 -> 100 м | E34: =Source!I29 -> 5.856 | F34: =Source!AL29+Source!AM29+Source!AO29 -> 29.41 | I34: =Source!BO29 | S34: =ROUND((Source!FX29/100)*((ROUND(Source!AF29*Source!I29, 2)+ROUND(Source!AE29*Source!I29, 2))), 2) -> 137.78 | T34: =Source!X29 -> 1060.9 | U34: =ROUND((Source!FY29/100)*((ROUND(Source!AF29*Source!I29, 2)+ROUND(Source!AE29*Source!I29, 2))), 2) -> 117.11 | V34: =Source!Y29 -> 901.77
C35: ="Объем: "&Source!I29&"=585,6/"&"100" -> Объем: 5,856=585,6/100
C36: Зарплата | F36: =Source!AO29 -> 29.41 | G36: =Source!DG29 | H36: =ROUND(Source!AF29*Source!I29, 2) -> 172.22 | J36: =IF(Source!BA29<> 0, Source!BA29, 1) -> 7.7 | K36: =Source!S29 -> 1326.13 | R36: =H36 -> 172.22
C37: НР от ФОТ | D37: % | E37: =Source!BZ29 -> 80 | H37: =SUM(S34:S40) -> 137.78 | J37: =Source!AT29 -> 80 | K37: =SUM(T34:T40) -> 1060.9
C38: СП от ФОТ | D38: % | E38: =Source!CA29 -> 68 | H38: =SUM(U34:U40) -> 117.11 | J38: =Source!AU29 -> 68 | K38: =SUM(V34:V40) -> 901.77
C39: Затраты труда | D39: чел-ч | E39: =Source!AQ29 -> 3.77 | G39: =Source!DI29 | L39: =Source!U29 -> 22.07712
A40: =Source!E31 -> 2,1 | B40: =Source!F31 -> 01.7.07.07 | C40: =Source!G31 -> Строительный мусор | D40: =Source!H31 -> т | E40: =Source!I31 -> 0.64416 | F40: =Source!AL31+Source!AM31+Source!AO31 -> 0 | H40: =ROUND(Source!AC31*Source!I31, 2)+ROUND(Source!AD31*Source!I31, 2)+ROUND(Source!AF31*Source!I31, 2) -> 0 | J40: =IF(Source!BC31<> 0, Source!BC31, 1) -> 7.7 | K40: =Source!O31 -> 0 | S40: =ROUND((Source!FX31/100)*((ROUND(Source!AF31*Source!I31, 2)+ROUND(Source!AE31*Source!I31, 2))), 2) -> 0 | T40: =Source!X31 -> 0 | U40: =ROUND((Source!FY31/100)*((ROUND(Source!AF31*Source!I31, 2)+ROUND(Source!AE31*Source!I31, 2))), 2) -> 0 | V40: =Source!Y31 -> 0 | W40: =IF(Source!BI31<=1,H40, 0) -> 0 | X40: =IF(Source!BI31=2,H40, 0) -> 0 | Y40: =IF(Source!BI31=3,H40, 0) -> 0 | Z40: =IF(Source!BI31=4,H40, 0) -> 0
G41: =H36+H37+H38+SUM(H40:H40) -> 427.11 | J41: =K36+K37+K38+SUM(K40:K40) -> 3288.8 | L41: =Source!U29 -> 22.07712 | O41: =G41 -> 427.11 | P41: =J41 -> 3288.8 | Q41: =L41 -> 22.07712 | W41: =IF(Source!BI29<=1,H36+H37+H38, 0) -> 427.11 | X41: =IF(Source!BI29=2,H36+H37+H38, 0) -> 0 | Y41: =IF(Source!BI29=3,H36+H37+H38, 0) -> 0 | Z41: =IF(Source!BI29=4,H36+H37+H38, 0) -> 0
A42: =Source!E33 -> 3 | B42: =Source!F33 -> 57-2-4 | C42: =Source!G33 -> Разборка покрытий полов цементных толщиной 30 мм | D42: =Source!H33 -> 100 м2 | E42: =Source!I33 -> 8.114 | F42: =Source!AL33+Source!AM33+Source!AO33 -> 1687.56 | I42: =Source!BO33 | S42: =ROUND((Source!FX33/100)*((ROUND(Source!AF33*Source!I33, 2)+ROUND(Source!AE33*Source!I33, 2))), 2) -> 6314.9 | T42: =Source!X33 -> 48624.72 | U42: =ROUND((Source!FY33/100)*((ROUND(Source!AF33*Source!I33, 2)+ROUND(Source!AE33*Source!I33, 2))), 2) -> 5367.66 | V42: =Source!Y33 -> 41331.01
C43: ="Объем: "&Source!I33&"=811,4/"&"100" -> Объем: 8,114=811,4/100
C44: Зарплата | F44: =Source!AO33 -> 948.54 | G44: =Source!DG33 | H44: =ROUND(Source!AF33*Source!I33, 2) -> 7696.45 | J44: =IF(Source!BA33<> 0, Source!BA33, 1) -> 7.7 | K44: =Source!S33 -> 59262.69 | R44: =H44 -> 7696.45
C45: Эксплуатация машин | F45: =Source!AM33 -> 739.02 | G45: =Source!DE33 | H45: =ROUND(Source!AD33*Source!I33, 2) -> 5996.41 | J45: =IF(Source!BB33<> 0, Source!BB33, 1) -> 7.7 | K45: =Source!Q33 -> 46172.34
C46: в т.ч. зарплата машинистов | F46: =Source!AN33 -> 24.3 | G46: =Source!DF33 | H46: =ROUND(Source!AE33*Source!I33, 2) -> 197.17 | J46: =IF(Source!BS33<> 0, Source!BS33, 1) -> 7.7 | K46: =Source!R33 -> 1518.21 | R46: =H46 -> 197.17
C47: НР от ФОТ | D47: % | E47: =Source!BZ33 -> 80 | H47: =SUM(S42:S50) -> 6314.9 | J47: =Source!AT33 -> 80 | K47: =SUM(T42:T50) -> 48624.72
C48: СП от ФОТ | D48: % | E48: =Source!CA33 -> 68 | H48: =SUM(U42:U50) -> 5367.66 | J48: =Source!AU33 -> 68 | K48: =SUM(V42:V50) -> 41331.01
C49: Затраты труда | D49: чел-ч | E49: =Source!AQ33 -> 111.2 | G49: =Source!DI33 | L49: =Source!U33 -> 902.2768
...

Sheet Source
A1: 0 | B1: Smeta.RU (495) 974-1589 | D1: _PS_ | F1: 0 | G1: 0 | H1: 0 | I1: Smeta.RU | J1: НИЯУ МИФИ Доп. раб. место MCCS-0016187 | K1: 0 | L1: 16187 | M1: 10
A12: 1 | B12: 204 | C12: 0 | D12: =ROW(A143) -> 143 | E12: 0 | F12: на 4 кв 2017 | G12: На капитальный ремонт напольного покрытия коридоров со 2-го по 5-й этажи с установкой противопожарных перегородок коридоров с 1-го по 5-й этажи здания общежития НИЯУ МИФИ по адресу: г. Москва, ул. Москворечье, д. 19, к. 4 | I12: 0 | K12: 0 | O12: 0 | P12: 0 | Q12: 0 | R12: 0 | S12: 0 | V12: 0 | BH12: Сметные нормы списания | BI12: Коды ценников | BJ12: 1 | BK12: 1 | BL12: 0 | BM12: 0 | BN12: 1 | BO12: 0 | BP12: 6 | BQ12: 2 | BR12: 1 | BS12: 1 | BT12: 0 | BU12: 0 | BV12: 0 | BW12: 0 | BX12: 0 | BY12: ФЕР-2017 | BZ12: ТР для Версии 10: Центральные регионы (с учетом п-ма 2536-ИП/12/ГС от 22.03.2017 г | CA12: ФЕР-2017 | CB12: ФЕР-2017 | CC12: ФЕР-2017 | CD12: ФЕР-2017 | CE12: Поправки для ГСН 2017 от 31.03.2017 г | CF12: 0 | CG12: 0 | CH12: 524288 | CK12: 0 | EC12: 0
A15: 15 | B15: 1
A18: 52 | B18: =B143 -> 204 | C18: =C143 -> 1 | D18: =D143 -> 12 | E18: =E143 -> 0 | F18: =F143 -> на 4 кв 2017 | G18: =G143 -> На капитальный ремонт напольного покрытия коридоров со 2-го по 5-й этажи с установкой противопожарных перегородок коридоров с 1-го по 5-й этажи здания общежития НИЯУ МИФИ по адресу: г. Москва, ул. Москворечье, д. 19, к. 4 | O18: =O143 -> 445751.13 | P18: =P143 -> 394458.49 | Q18: =Q143 -> 6886.4 | R18: =R143 -> 470.6 | S18: =S143 -> 44406.24 | T18: =T143 -> 0 | U18: =U143 -> 5052.81 | V18: =V143 -> 40.088525 | ... GX18: =GX143 -> 0
A20: 3 | B20: 1 | D20: =ROW(A111) -> 111 | F20: Новая локальная смета | G20: Новая локальная смета | I20: 0 | K20: 0 | V20: 0 | BX20: 0 | CF20: 0 | CG20: 0
A22: 52 | B22: =B111 -> 1 | C22: =C111 -> 3 | D22: =D111 -> 20 | E22: =E111 -> 0 | F22: =F111 -> Новая локальная смета | G22: =G111 -> Новая локальная смета | O22: =O111 -> 445751.13 | P22: =P111 -> 394458.49 | Q22: =Q111 -> 6886.4 | R22: =R111 -> 470.6 | S22: =S111 -> 44406.24 | T22: =T111 -> 0 | U22: =U111 -> 5052.81 | V22: =V111 -> 40.088525 | ... GX22: =GX111 -> 0
A24: 17 | B24: 1 | C24: =ROW(SmtRes!A4) -> 4 | D24: =ROW(EtalonRes!A4) -> 4 | E24: 1 | F24: 57-2-1 | G24: Разборка покрытий полов из линолеума и релина | H24: 100 м2 | I24: =ROUND(811.4/100,9) -> 8.114 | J24: 0 | O24: =ROUND(CP24,2) -> 753.79 | P24: =ROUND(CQ24*I24,2) -> 0 | Q24: =ROUND(CR24*I24,2) -> 32.94 | R24: =ROUND(CS24*I24,2) -> 14.28 | S24: =ROUND(CT24*I24,2) -> 720.85 | T24: =ROUND(CU24*I24,2) -> 0 | U24: =CV24*I24 -> 92.41846 | V24: =CW24*I24 -> 1.05482 | W24: =ROUND(CX24*I24,2) -> 0 | X24: =ROUND(CY24,2) -> 588.1 | Y24: =ROUND(CZ24,2) -> 499.89 | AA24: 26914188 | AB24: =ROUND((AC24+AD24+AF24),6) -> 92.9 | AC24: =ROUND((ES24),6) -> 0 | AD24: =ROUND((((ET24)-(EU24))+AE24),6) -> 4.06 | AE24: =ROUND((EU24),6) -> 1.76 | AF24: =ROUND((EV24),6) -> 88.84 | AG24: =ROUND((AP24),6) -> 0 | AH24: =(EW24) -> 11.39 | AI24: =(EX24) -> 0.13 | AJ24: =ROUND((AS24),6) -> 0 | AK24: 92.9 | AL24: 0 | AM24: 4.06 | AN24: 1.76 | AO24: 88.84 | AP24: 0 | AQ24: 11.39 | AR24: 0.13 | AS24: 0 | AT24: 80 | AU24: 68 | AV24: 1 | AW24: 1 | AZ24: 1 | BA24: 1 | BB24: 1 | BC24: 1 | BH24: 0 | BI24: 1 | BJ24: ФЕР-2001, 57-2-1, приказ Минстроя России №1039/пр от 30.12.2016г. | BM24: 57001 | BN24: 0 | BP24: 0 | BQ24: 6 | BR24: 0 | BS24: 1 | BT24: 1 | BU24: 1 | BV24: 1 | BW24: 1 | BX24: 1 | BZ24: 80 | CA24: 68 | CF24: 0 | CG24: 0 | CM24: 0 | CO24: 0 | CP24: =(P24+Q24+S24) -> 753.79 | CQ24: =AC24*BC24 -> 0 | CR24: =AD24*BB24 -> 4.06 | CS24: =AE24*BS24 -> 1.76 | CT24: =AF24*BA24 -> 88.84 | CU24: =AG24 -> 0 | CV24: =AH24 -> 11.39 | CW24: =AI24 -> 0.13 | CX24: =AJ24 -> 0 | CY24: =(((S24+R24)*AT24)/100) -> 588.104 | CZ24: =(((S24+R24)*AU24)/100) -> 499.8884 | DN24: 0 | DO24: 0 | DP24: 1 | DQ24: 1 | DU24: 1005 | DV24: 100 м2 | DW24: 100 м2 | DX24: 100 | EE24: 26549139 | EF24: 6 | EG24: Ремонтно-строительные работы | EH24: 0 | EJ24: 1 | EK24: 57001 | EL24: Полы | EM24: рФЕР-57 | EQ24: 0 | ER24: 92.9 | ES24: 0 | ET24: 4.06 | EU24: 1.76 | EV24: 88.84 | EW24: 11.39 | EX24: 0.13 | EY24: 0 | FQ24: 0 | FR24: =ROUND(IF(AND(BH24=3,BI24=3),P24,0),2) -> 0 | FS24: 0 | FX24: 80 | FY24: 68 | GD24: 0 | GF24: -1228944231 | GG24: 2 | GH24: 1 | GI24: -2 | GJ24: 0 | GK24: =ROUND(R24*(R12)/100,2) -> 0 | GL24: =ROUND(IF(AND(BH24=3,BI24=3,FS24<>0),P24,0),2) -> 0 | GM24: =ROUND(O24+X24+Y24+GK24,2)+GX24 -> 1841.78 | GN24: =IF(OR(BI24=0,BI24=1),ROUND(O24+X24+Y24+GK24,2),0) -> 1841.78 | GO24: =IF(BI24=2,ROUND(O24+X24+Y24+GK24,2),0) -> 0 | GP24: =IF(BI24=4,ROUND(O24+X24+Y24+GK24,2)+GX24,0) -> 0 | GR24: 0 | GS24: 3 | GT24: 0 | GV24: =ROUND(GT24,6) -> 0 | GW24: 1 | GX24: =ROUND(GV24*GW24*I24,2) -> 0 | HA24: 0 | HB24: 0 | IK24: 0
A25: 17 | B25: 1 | C25: =ROW(SmtRes!A8) -> 8 | D25: =ROW(EtalonRes!A8) -> 8 | E25: 1 | F25: 57-2-1 | G25: Разборка покрытий полов из линолеума и релина | H25: 100 м2 | I25: =ROUND(811.4/100,9) -> 8.114 | J25: 0 | O25: =ROUND(CP25,2) -> 5804.19 | P25: =ROUND(CQ25*I25,2) -> 0 | Q25: =ROUND(CR25*I25,2) -> 253.66 | R25: =ROUND(CS25*I25,2) -> 109.96 | S25: =ROUND(CT25*I25,2) -> 5550.53 | T25: =ROUND(CU25*I25,2) -> 0 | U25: =CV25*I25 -> 92.41846 | V25: =CW25*I25 -> 1.05482 | W25: =ROUND(CX25*I25,2) -> 0 | X25: =ROUND(CY25,2) -> 4528.39 | Y25: =ROUND(CZ25,2) -> 3849.13 | AA25: 26914189 | AB25: =ROUND((AC25+AD25+AF25),6) -> 92.9 | AC25: =ROUND((ES25),6) -> 0 | AD25: =ROUND((((ET25)-(EU25))+AE25),6) -> 4.06 | AE25: =ROUND((EU25),6) -> 1.76 | AF25: =ROUND((EV25),6) -> 88.84 | AG25: =ROUND((AP25),6) -> 0 | AH25: =(EW25) -> 11.39 | AI25: =(EX25) -> 0.13 | AJ25: =ROUND((AS25),6) -> 0 | AK25: 92.9 | AL25: 0 | AM25: 4.06 | AN25: 1.76 | AO25: 88.84 | AP25: 0 | AQ25: 11.39 | AR25: 0.13 | AS25: 0 | AT25: 80 | AU25: 68 | AV25: 1 | AW25: 1 | AZ25: 7.7 | BA25: 7.7 | BB25: 7.7 | BC25: 7.7 | BH25: 0 | BI25: 1 | BJ25: ФЕР-2001, 57-2-1, приказ Минстроя России №1039/пр от 30.12.2016г. | BM25: 57001 | BN25: 0 | BP25: 0 | BQ25: 6 | BR25: 0 | BS25: 7.7 | BT25: 1 | BU25: 1 | BV25: 1 | BW25: 1 | BX25: 1 | BZ25: 80 | CA25: 68 | CF25: 0 | CG25: 0 | CM25: 0 | CO25: 0 | CP25: =(P25+Q25+S25) -> 5804.19 | CQ25: =AC25*BC25 -> 0 | CR25: =AD25*BB25 -> 31.262 | CS25: =AE25*BS25 -> 13.552 | CT25: =AF25*BA25 -> 684.068 | CU25: =AG25 -> 0 | CV25: =AH25 -> 11.39 | CW25: =AI25 -> 0.13 | CX25: =AJ25 -> 0 | CY25: =(((S25+R25)*AT25)/100) -> 4528.392 | CZ25: =(((S25+R25)*AU25)/100) -> 3849.1332 | DN25: 0 | DO25: 0 | DP25: 1 | DQ25: 1 | DU25: 1005 | DV25: 100 м2 | DW25: 100 м2 | DX25: 100 | EE25: 26549139 | EF25: 6 | EG25: Ремонтно-строительные работы | EH25: 0 | EJ25: 1 | EK25: 57001 | EL25: Полы | EM25: рФЕР-57 | EQ25: 0 | ER25: 92.9 | ES25: 0 | ET25: 4.06 | EU25: 1.76 | EV25: 88.84 | EW25: 11.39 | EX25: 0.13 | EY25: 0 | FQ25: 0 | FR25: =ROUND(IF(AND(BH25=3,BI25=3),P25,0),2) -> 0 | FS25: 0 | FX25: 80 | FY25: 68 | GD25: 0 | GF25: -1228944231 | GG25: 1 | GH25: 1 | GI25: 4 | GJ25: 0 | GK25: =ROUND(R25*(S12)/100,2) -> 0 | GL25: =ROUND(IF(AND(BH25=3,BI25=3,FS25<>0),P25,0),2) -> 0 | GM25: =ROUND(O25+X25+Y25+GK25,2)+GX25 -> 14181.71 | GN25: =IF(OR(BI25=0,BI25=1),ROUND(O25+X25+Y25+GK25,2),0) -> 14181.71 | GO25: =IF(BI25=2,ROUND(O25+X25+Y25+GK25,2),0) -> 0 | GP25: =IF(BI25=4,ROUND(O25+X25+Y25+GK25,2)+GX25,0) -> 0 | GR25: 0 | GS25: 3 | GT25: 0 | GV25: =ROUND(GT25,6) -> 0 | GW25: 1 | GX25: =ROUND(GV25*GW25*I25,2) -> 0 | HA25: 0 | HB25: 0 | IK25: 0
A26: 18 | B26: 1 | C26: 4 | E26: 1,1 | F26: 01.7.07.07 | G26: Строительный мусор | H26: т | I26: =I24*J26 -> 3.81358 | J26: 0.47 | O26: =ROUND(CP26,2) -> 0 | P26: =ROUND(CQ26*I26,2) -> 0 | Q26: =ROUND(CR26*I26,2) -> 0 | R26: =ROUND(CS26*I26,2) -> 0 | S26: =ROUND(CT26*I26,2) -> 0 | T26: =ROUND(CU26*I26,2) -> 0 | U26: =CV26*I26 -> 0 | V26: =CW26*I26 -> 0 | W26: =ROUND(CX26*I26,2) -> 0 | X26: =ROUND(CY26,2) -> 0 | Y26: =ROUND(CZ26,2) -> 0 | AA26: 26914188 | AB26: =ROUND((AC26+AD26+AF26),6) -> 0 | AC26: =ROUND((ES26),6) -> 0 | AD26: =ROUND((((ET26)-(EU26))+AE26),6) -> 0 | AE26: =ROUND((EU26),6) -> 0 | AF26: =ROUND((EV26),6) -> 0 | AG26: =ROUND((AP26),6) -> 0 | AH26: =(EW26) -> 0 | AI26: =(EX26) -> 0 | AJ26: =ROUND((AS26),6) -> 0 | AK26: 0 | AL26: 0 | AM26: 0 | AN26: 0 | AO26: 0 | AP26: 0 | AQ26: 0 | AR26: 0 | AS26: 0 | AT26: 80 | AU26: 68 | AV26: 1 | AW26: 1 | AZ26: 1 | BA26: 1 | BB26: 1 | BC26: 1 | BH26: 3 | BI26: 1 | BM26: 57001 | BN26: 0 | BP26: 0 | BQ26: 6 | BR26: 0 | BS26: 1 | BT26: 1 | BU26: 1 | BV26: 1 | BW26: 1 | BX26: 1 | BZ26: 80 | CA26: 68 | CF26: 0 | CG26: 0 | CM26: 0 | CO26: 0 | CP26: =(P26+Q26+S26) -> 0 | CQ26: =AC26*BC26 -> 0 | CR26: =AD26*BB26 -> 0 | CS26: =AE26*BS26 -> 0 | CT26: =AF26*BA26 -> 0 | CU26: =AG26 -> 0 | CV26: =AH26 -> 0 | CW26: =AI26 -> 0 | CX26: =AJ26 -> 0 | CY26: =(((S26+R26)*AT26)/100) -> 0 | CZ26: =(((S26+R26)*AU26)/100) -> 0 | DN26: 0 | DO26: 0 | DP26: 1 | DQ26: 1 | DU26: 1009 | DV26: т | DW26: т | DX26: 1000 | EE26: 26549139 | EF26: 6 | EG26: Ремонтно-строительные работы | EH26: 0 | EJ26: 1 | EK26: 57001 | EL26: Полы | EM26: рФЕР-57 | EQ26: 0 | ER26: 0 | ES26: 0 | ET26: 0 | EU26: 0 | EV26: 0 | EW26: 0 | EX26: 0 | FQ26: 0 | FR26: =ROUND(IF(AND(BH26=3,BI26=3),P26,0),2) -> 0 | FS26: 0 | FX26: 80 | FY26: 68 | GD26: 0 | GF26: -179832266 | GG26: 2 | GH26: 1 | GI26: -2 | GJ26: 0 | GK26: =ROUND(R26*(R12)/100,2) -> 0 | GL26: =ROUND(IF(AND(BH26=3,BI26=3,FS26<>0),P26,0),2) -> 0 | GM26: =ROUND(O26+X26+Y26+GK26,2)+GX26 -> 0 | GN26: =IF(OR(BI26=0,BI26=1),ROUND(O26+X26+Y26+GK26,2),0) -> 0 | GO26: =IF(BI26=2,ROUND(O26+X26+Y26+GK26,2),0) -> 0 | GP26: =IF(BI26=4,ROUND(O26+X26+Y26+GK26,2)+GX26,0) -> 0 | GR26: 0 | GS26: 0 | GT26: 0 | GV26: =ROUND(GT26,6) -> 0 | GW26: 1 | GX26: =ROUND(GV26*GW26*I26,2) -> 0 | HA26: 0 | HB26: 0 | IK26: 0
A27: 18 | B27: 1 | C27: 8 | E27: 1,1 | F27: 01.7.07.07 | G27: Строительный мусор | H27: т | I27: =I25*J27 -> 3.81358 | J27: 0.47 | O27: =ROUND(CP27,2) -> 0 | P27: =ROUND(CQ27*I27,2) -> 0 | Q27: =ROUND(CR27*I27,2) -> 0 | R27: =ROUND(CS27*I27,2) -> 0 | S27: =ROUND(CT27*I27,2) -> 0 | T27: =ROUND(CU27*I27,2) -> 0 | U27: =CV27*I27 -> 0 | V27: =CW27*I27 -> 0 | W27: =ROUND(CX27*I27,2) -> 0 | X27: =ROUND(CY27,2) -> 0 | Y27: =ROUND(CZ27,2) -> 0 | AA27: 26914189 | AB27: =ROUND((AC27+AD27+AF27),6) -> 0 | AC27: =ROUND((ES27),6) -> 0 | AD27: =ROUND((((ET27)-(EU27))+AE27),6) -> 0 | AE27: =ROUND((EU27),6) -> 0 | AF27: =ROUND((EV27),6) -> 0 | AG27: =ROUND((AP27),6) -> 0 | AH27: =(EW27) -> 0 | AI27: =(EX27) -> 0 | AJ27: =ROUND((AS27),6) -> 0 | AK27: 0 | AL27: 0 | AM27: 0 | AN27: 0 | AO27: 0 | AP27: 0 | AQ27: 0 | AR27: 0 | AS27: 0 | AT27: 80 | AU27: 68 | AV27: 1 | AW27: 1 | AZ27: 7.7 | BA27: 1 | BB27: 1 | BC27: 7.7 | BH27: 3 | BI27: 1 | BM27: 57001 | BN27: 0 | BP27: 0 | BQ27: 6 | BR27: 0 | BS27: 1 | BT27: 1 | BU27: 1 | BV27: 1 | BW27: 1 | BX27: 1 | BZ27: 80 | CA27: 68 | CF27: 0 | CG27: 0 | CM27: 0 | CO27: 0 | CP27: =(P27+Q27+S27) -> 0 | CQ27: =AC27*BC27 -> 0 | CR27: =AD27*BB27 -> 0 | CS27: =AE27*BS27 -> 0 | CT27: =AF27*BA27 -> 0 | CU27: =AG27 -> 0 | CV27: =AH27 -> 0 | CW27: =AI27 -> 0 | CX27: =AJ27 -> 0 | CY27: =(((S27+R27)*AT27)/100) -> 0 | CZ27: =(((S27+R27)*AU27)/100) -> 0 | DN27: 0 | DO27: 0 | DP27: 1 | DQ27: 1 | DU27: 1009 | DV27: т | DW27: т | DX27: 1000 | EE27: 26549139 | EF27: 6 | EG27: Ремонтно-строительные работы | EH27: 0 | EJ27: 1 | EK27: 57001 | EL27: Полы | EM27: рФЕР-57 | EQ27: 0 | ER27: 0 | ES27: 0 | ET27: 0 | EU27: 0 | EV27: 0 | EW27: 0 | EX27: 0 | FQ27: 0 | FR27: =ROUND(IF(AND(BH27=3,BI27=3),P27,0),2) -> 0 | FS27: 0 | FX27: 80 | FY27: 68 | GD27: 0 | GF27: -179832266 | GG27: 1 | GH27: 1 | GI27: 4 | GJ27: 0 | GK27: =ROUND(R27*(S12)/100,2) -> 0 | GL27: =ROUND(IF(AND(BH27=3,BI27=3,FS27<>0),P27,0),2) -> 0 | GM27: =ROUND(O27+X27+Y27+GK27,2)+GX27 -> 0 | GN27: =IF(OR(BI27=0,BI27=1),ROUND(O27+X27+Y27+GK27,2),0) -> 0 | GO27: =IF(BI27=2,ROUND(O27+X27+Y27+GK27,2),0) -> 0 | GP27: =IF(BI27=4,ROUND(O27+X27+Y27+GK27,2)+GX27,0) -> 0 | GR27: 0 | GS27: 0 | GT27: 0 | GV27: =ROUND(GT27,6) -> 0 | GW27: 1 | GX27: =ROUND(GV27*GW27*I27,2) -> 0 | HA27: 0 | HB27: 0 | IK27: 0
A28: 17 | B28: 1 | C28: =ROW(SmtRes!A10) -> 10 | D28: =ROW(EtalonRes!A10) -> 10 | E28: 2 | F28: 57-3-1 | G28: Разборка плинтусов деревянных и из пластмассовых материалов | H28: 100 м | I28: =ROUND(585.6/100,9) -> 5.856 | J28: 0 | O28: =ROUND(CP28,2) -> 172.22 | P28: =ROUND(CQ28*I28,2) -> 0 | Q28: =ROUND(CR28*I28,2) -> 0 | R28: =ROUND(CS28*I28,2) -> 0 | S28: =ROUND(CT28*I28,2) -> 172.22 | T28: =ROUND(CU28*I28,2) -> 0 | U28: =CV28*I28 -> 22.07712 | V28: =CW28*I28 -> 0 | W28: =ROUND(CX28*I28,2) -> 0 | X28: =ROUND(CY28,2) -> 137.78 | Y28: =ROUND(CZ28,2) -> 117.11 | AA28: 26914188 | AB28: =ROUND((AC28+AD28+AF28),6) -> 29.41 | AC28: =ROUND((ES28),6) -> 0 | AD28: =ROUND((((ET28)-(EU28))+AE28),6) -> 0 | AE28: =ROUND((EU28),6) -> 0 | AF28: =ROUND((EV28),6) -> 29.41 | AG28: =ROUND((AP28),6) -> 0 | AH28: =(EW28) -> 3.77 | AI28: =(EX28) -> 0 | AJ28: =ROUND((AS28),6) -> 0 | AK28: 29.41 | AL28: 0 | AM28: 0 | AN28: 0 | AO28: 29.41 | AP28: 0 | AQ28: 3.77 | AR28: 0 | AS28: 0 | AT28: 80 | AU28: 68 | AV28: 1 | AW28: 1 | AZ28: 1 | BA28: 1 | BB28: 1 | BC28: 1 | BH28: 0 | BI28: 1 | BJ28: ФЕР-2001, 57-3-1, приказ Минстроя России №1039/пр от 30.12.2016г. | BM28: 57001 | BN28: 0 | BP28: 0 | BQ28: 6 | BR28: 0 | BS28: 1 | BT28: 1 | BU28: 1 | BV28: 1 | BW28: 1 | BX28: 1 | BZ28: 80 | CA28: 68 | CF28: 0 | CG28: 0 | CM28: 0 | CO28: 0 | CP28: =(P28+Q28+S28) -> 172.22 | CQ28: =AC28*BC28 -> 0 | CR28: =AD28*BB28 -> 0 | CS28: =AE28*BS28 -> 0 | CT28: =AF28*BA28 -> 29.41 | CU28: =AG28 -> 0 | CV28: =AH28 -> 3.77 | CW28: =AI28 -> 0 | CX28: =AJ28 -> 0 | CY28: =(((S28+R28)*AT28)/100) -> 137.776 | CZ28: =(((S28+R28)*AU28)/100) -> 117.1096 | DN28: 0 | DO28: 0 | DP28: 1 | DQ28: 1 | DU28: 1003 | DV28: 100 м | DW28: 100 м | DX28: 100 | EE28: 26549139 | EF28: 6 | EG28: Ремонтно-строительные работы | EH28: 0 | EJ28: 1 | EK28: 57001 | EL28: Полы | EM28: рФЕР-57 | EQ28: 0 | ER28: 29.41 | ES28: 0 | ET28: 0 | EU28: 0 | EV28: 29.41 | EW28: 3.77 | EX28: 0 | EY28: 0 | FQ28: 0 | FR28: =ROUND(IF(AND(BH28=3,BI28=3),P28,0),2) -> 0 | FS28: 0 | FX28: 80 | FY28: 68 | GD28: 0 | GF28: -1431764135 | GG28: 2 | GH28: 1 | GI28: -2 | GJ28: 0 | GK28: =ROUND(R28*(R12)/100,2) -> 0 | GL28: =ROUND(IF(AND(BH28=3,BI28=3,FS28<>0),P28,0),2) -> 0 | GM28: =ROUND(O28+X28+Y28+GK28,2)+GX28 -> 427.11 | GN28: =IF(OR(BI28=0,BI28=1),ROUND(O28+X28+Y28+GK28,2),0) -> 427.11 | GO28: =IF(BI28=2,ROUND(O28+X28+Y28+GK28,2),0) -> 0 | GP28: =IF(BI28=4,ROUND(O28+X28+Y28+GK28,2)+GX28,0) -> 0 | GR28: 0 | GS28: 3 | GT28: 0 | GV28: =ROUND(GT28,6) -> 0 | GW28: 1 | GX28: =ROUND(GV28*GW28*I28,2) -> 0 | HA28: 0 | HB28: 0 | IK28: 0
A29: 17 | B29: 1 | C29: =ROW(SmtRes!A12) -> 12 | D29: =ROW(EtalonRes!A12) -> 12 | E29: 2 | F29: 57-3-1 | G29: Разборка плинтусов деревянных и из пластмассовых материалов | H29: 100 м | I29: =ROUND(585.6/100,9) -> 5.856 | J29: 0 | O29: =ROUND(CP29,2) -> 1326.13 | P29: =ROUND(CQ29*I29,2) -> 0 | Q29: =ROUND(CR29*I29,2) -> 0 | R29: =ROUND(CS29*I29,2) -> 0 | S29: =ROUND(CT29*I29,2) -> 1326.13 | T29: =ROUND(CU29*I29,2) -> 0 | U29: =CV29*I29 -> 22.07712 | V29: =CW29*I29 -> 0 | W29: =ROUND(CX29*I29,2) -> 0 | X29: =ROUND(CY29,2) -> 1060.9 | Y29: =ROUND(CZ29,2) -> 901.77 | AA29: 26914189 | AB29: =ROUND((AC29+AD29+AF29),6) -> 29.41 | AC29: =ROUND((ES29),6) -> 0 | AD29: =ROUND((((ET29)-(EU29))+AE29),6) -> 0 | AE29: =ROUND((EU29),6) -> 0 | AF29: =ROUND((EV29),6) -> 29.41 | AG29: =ROUND((AP29),6) -> 0 | AH29: =(EW29) -> 3.77 | AI29: =(EX29) -> 0 | AJ29: =ROUND((AS29),6) -> 0 | AK29: 29.41 | AL29: 0 | AM29: 0 | AN29: 0 | AO29: 29.41 | AP29: 0 | AQ29: 3.77 | AR29: 0 | AS29: 0 | AT29: 80 | AU29: 68 | AV29: 1 | AW29: 1 | AZ29: 7.7 | BA29: 7.7 | BB29: 7.7 | BC29: 7.7 | BH29: 0 | BI29: 1 | BJ29: ФЕР-2001, 57-3-1, приказ Минстроя России №1039/пр от 30.12.2016г. | BM29: 57001 | BN29: 0 | BP29: 0 | BQ29: 6 | BR29: 0 | BS29: 7.7 | BT29: 1 | BU29: 1 | BV29: 1 | BW29: 1 | BX29: 1 | BZ29: 80 | CA29: 68 | CF29: 0 | CG29: 0 | CM29: 0 | CO29: 0 | CP29: =(P29+Q29+S29) -> 1326.13 | CQ29: =AC29*BC29 -> 0 | CR29: =AD29*BB29 -> 0 | CS29: =AE29*BS29 -> 0 | CT29: =AF29*BA29 -> 226.457 | CU29: =AG29 -> 0 | CV29: =AH29 -> 3.77 | CW29: =AI29 -> 0 | CX29: =AJ29 -> 0 | CY29: =(((S29+R29)*AT29)/100) -> 1060.904 | CZ29: =(((S29+R29)*AU29)/100) -> 901.7684 | DN29: 0 | DO29: 0 | DP29: 1 | DQ29: 1 | DU29: 1003 | DV29: 100 м | DW29: 100 м | DX29: 100 | EE29: 26549139 | EF29: 6 | EG29: Ремонтно-строительные работы | EH29: 0 | EJ29: 1 | EK29: 57001 | EL29: Полы | EM29: рФЕР-57 | EQ29: 0 | ER29: 29.41 | ES29: 0 | ET29: 0 | EU29: 0 | EV29: 29.41 | EW29: 3.77 | EX29: 0 | EY29: 0 | FQ29: 0 | FR29: =ROUND(IF(AND(BH29=3,BI29=3),P29,0),2) -> 0 | FS29: 0 | FX29: 80 | FY29: 68 | GD29: 0 | GF29: -1431764135 | GG29: 1 | GH29: 1 | GI29: 4 | GJ29: 0 | GK29: =ROUND(R29*(S12)/100,2) -> 0 | GL29: =ROUND(IF(AND(BH29=3,BI29=3,FS29<>0),P29,0),2) -> 0 | GM29: =ROUND(O29+X29+Y29+GK29,2)+GX29 -> 3288.8 | GN29: =IF(OR(BI29=0,BI29=1),ROUND(O29+X29+Y29+GK29,2),0) -> 3288.8 | GO29: =IF(BI29=2,ROUND(O29+X29+Y29+GK29,2),0) -> 0 | GP29: =IF(BI29=4,ROUND(O29+X29+Y29+GK29,2)+GX29,0) -> 0 | GR29: 0 | GS29: 3 | GT29: 0 | GV29: =ROUND(GT29,6) -> 0 | GW29: 1 | GX29: =ROUND(GV29*GW29*I29,2) -> 0 | HA29: 0 | HB29: 0 | IK29: 0
A30: 18 | B30: 1 | C30: 10 | E30: 2,1 | F30: 01.7.07.07 | G30: Строительный мусор | H30: т | I30: =I28*J30 -> 0.64416 | J30: 0.11 | O30: =ROUND(CP30,2) -> 0 | P30: =ROUND(CQ30*I30,2) -> 0 | Q30: =ROUND(CR30*I30,2) -> 0 | R30: =ROUND(CS30*I30,2) -> 0 | S30: =ROUND(CT30*I30,2) -> 0 | T30: =ROUND(CU30*I30,2) -> 0 | U30: =CV30*I30 -> 0 | V30: =CW30*I30 -> 0 | W30: =ROUND(CX30*I30,2) -> 0 | X30: =ROUND(CY30,2) -> 0 | Y30: =ROUND(CZ30,2) -> 0 | AA30: 26914188 | AB30: =ROUND((AC30+AD30+AF30),6) -> 0 | AC30: =ROUND((ES30),6) -> 0 | AD30: =ROUND((((ET30)-(EU30))+AE30),6) -> 0 | AE30: =ROUND((EU30),6) -> 0 | AF30: =ROUND((EV30),6) -> 0 | AG30: =ROUND((AP30),6) -> 0 | AH30: =(EW30) -> 0 | AI30: =(EX30) -> 0 | AJ30: =ROUND((AS30),6) -> 0 | AK30: 0 | AL30: 0 | AM30: 0 | AN30: 0 | AO30: 0 | AP30: 0 | AQ30: 0 | AR30: 0 | AS30: 0 | AT30: 80 | AU30: 68 | AV30: 1 | AW30: 1 | AZ30: 1 | BA30: 1 | BB30: 1 | BC30: 1 | BH30: 3 | BI30: 1 | BM30: 57001 | BN30: 0 | BP30: 0 | BQ30: 6 | BR30: 0 | BS30: 1 | BT30: 1 | BU30: 1 | BV30: 1 | BW30: 1 | BX30: 1 | BZ30: 80 | CA30: 68 | CF30: 0 | CG30: 0 | CM30: 0 | CO30: 0 | CP30: =(P30+Q30+S30) -> 0 | CQ30: =AC30*BC30 -> 0 | CR30: =AD30*BB30 -> 0 | CS30: =AE30*BS30 -> 0 | CT30: =AF30*BA30 -> 0 | CU30: =AG30 -> 0 | CV30: =AH30 -> 0 | CW30: =AI30 -> 0 | CX30: =AJ30 -> 0 | CY30: =(((S30+R30)*AT30)/100) -> 0 | CZ30: =(((S30+R30)*AU30)/100) -> 0 | DN30: 0 | DO30: 0 | DP30: 1 | DQ30: 1 | DU30: 1009 | DV30: т | DW30: т | DX30: 1000 | EE30: 26549139 | EF30: 6 | EG30: Ремонтно-строительные работы | EH30: 0 | EJ30: 1 | EK30: 57001 | EL30: Полы | EM30: рФЕР-57 | EQ30: 0 | ER30: 0 | ES30: 0 | ET30: 0 | EU30: 0 | EV30: 0 | EW30: 0 | EX30: 0 | FQ30: 0 | FR30: =ROUND(IF(AND(BH30=3,BI30=3),P30,0),2) -> 0 | FS30: 0 | FX30: 80 | FY30: 68 | GD30: 0 | GF30: -179832266 | GG30: 2 | GH30: 1 | GI30: -2 | GJ30: 0 | GK30: =ROUND(R30*(R12)/100,2) -> 0 | GL30: =ROUND(IF(AND(BH30=3,BI30=3,FS30<>0),P30,0),2) -> 0 | GM30: =ROUND(O30+X30+Y30+GK30,2)+GX30 -> 0 | GN30: =IF(OR(BI30=0,BI30=1),ROUND(O30+X30+Y30+GK30,2),0) -> 0 | GO30: =IF(BI30=2,ROUND(O30+X30+Y30+GK30,2),0) -> 0 | GP30: =IF(BI30=4,ROUND(O30+X30+Y30+GK30,2)+GX30,0) -> 0 | GR30: 0 | GS30: 0 | GT30: 0 | GV30: =ROUND(GT30,6) -> 0 | GW30: 1 | GX30: =ROUND(GV30*GW30*I30,2) -> 0 | HA30: 0 | HB30: 0 | IK30: 0
A31: 18 | B31: 1 | C31: 12 | E31: 2,1 | F31: 01.7.07.07 | G31: Строительный мусор | H31: т | I31: =I29*J31 -> 0.64416 | J31: 0.11 | O31: =ROUND(CP31,2) -> 0 | P31: =ROUND(CQ31*I31,2) -> 0 | Q31: =ROUND(CR31*I31,2) -> 0 | R31: =ROUND(CS31*I31,2) -> 0 | S31: =ROUND(CT31*I31,2) -> 0 | T31: =ROUND(CU31*I31,2) -> 0 | U31: =CV31*I31 -> 0 | V31: =CW31*I31 -> 0 | W31: =ROUND(CX31*I31,2) -> 0 | X31: =ROUND(CY31,2) -> 0 | Y31: =ROUND(CZ31,2) -> 0 | AA31: 26914189 | AB31: =ROUND((AC31+AD31+AF31),6) -> 0 | AC31: =ROUND((ES31),6) -> 0 | AD31: =ROUND((((ET31)-(EU31))+AE31),6) -> 0 | AE31: =ROUND((EU31),6) -> 0 | AF31: =ROUND((EV31),6) -> 0 | AG31: =ROUND((AP31),6) -> 0 | AH31: =(EW31) -> 0 | AI31: =(EX31) -> 0 | AJ31: =ROUND((AS31),6) -> 0 | AK31: 0 | AL31: 0 | AM31: 0 | AN31: 0 | AO31: 0 | AP31: 0 | AQ31: 0 | AR31: 0 | AS31: 0 | AT31: 80 | AU31: 68 | AV31: 1 | AW31: 1 | AZ31: 7.7 | BA31: 1 | BB31: 1 | BC31: 7.7 | BH31: 3 | BI31: 1 | BM31: 57001 | BN31: 0 | BP31: 0 | BQ31: 6 | BR31: 0 | BS31: 1 | BT31: 1 | BU31: 1 | BV31: 1 | BW31: 1 | BX31: 1 | BZ31: 80 | CA31: 68 | CF31: 0 | CG31: 0 | CM31: 0 | CO31: 0 | CP31: =(P31+Q31+S31) -> 0 | CQ31: =AC31*BC31 -> 0 | CR31: =AD31*BB31 -> 0 | CS31: =AE31*BS31 -> 0 | CT31: =AF31*BA31 -> 0 | CU31: =AG31 -> 0 | CV31: =AH31 -> 0 | CW31: =AI31 -> 0 | CX31: =AJ31 -> 0 | CY31: =(((S31+R31)*AT31)/100) -> 0 | CZ31: =(((S31+R31)*AU31)/100) -> 0 | DN31: 0 | DO31: 0 | DP31: 1 | DQ31: 1 | DU31: 1009 | DV31: т | DW31: т | DX31: 1000 | EE31: 26549139 | EF31: 6 | EG31: Ремонтно-строительные работы | EH31: 0 | EJ31: 1 | EK31: 57001 | EL31: Полы | EM31: рФЕР-57 | EQ31: 0 | ER31: 0 | ES31: 0 | ET31: 0 | EU31: 0 | EV31: 0 | EW31: 0 | EX31: 0 | FQ31: 0 | FR31: =ROUND(IF(AND(BH31=3,BI31=3),P31,0),2) -> 0 | FS31: 0 | FX31: 80 | FY31: 68 | GD31: 0 | GF31: -179832266 | GG31: 1 | GH31: 1 | GI31: 4 | GJ31: 0 | GK31: =ROUND(R31*(S12)/100,2) -> 0 | GL31: =ROUND(IF(AND(BH31=3,BI31=3,FS31<>0),P31,0),2) -> 0 | GM31: =ROUND(O31+X31+Y31+GK31,2)+GX31 -> 0 | GN31: =IF(OR(BI31=0,BI31=1),ROUND(O31+X31+Y31+GK31,2),0) -> 0 | GO31: =IF(BI31=2,ROUND(O31+X31+Y31+GK31,2),0) -> 0 | GP31: =IF(BI31=4,ROUND(O31+X31+Y31+GK31,2)+GX31,0) -> 0 | GR31: 0 | GS31: 0 | GT31: 0 | GV31: =ROUND(GT31,6) -> 0 | GW31: 1 | GX31: =ROUND(GV31*GW31*I31,2) -> 0 | HA31: 0 | HB31: 0 | IK31: 0
A32: 17 | B32: 1 | C32: =ROW(SmtRes!A18) -> 18 | D32: =ROW(EtalonRes!A18) -> 18 | E32: 3 | F32: 57-2-4 | G32: Разборка покрытий полов цементных толщиной 30 мм | H32: 100 м2 | I32: =ROUND(811.4/100,9) -> 8.114 | J32: 0 | O32: =ROUND(CP32,2) -> 13692.86 | P32: =ROUND(CQ32*I32,2) -> 0 | Q32: =ROUND(CR32*I32,2) -> 5996.41 | R32: =ROUND(CS32*I32,2) -> 197.17 | S32: =ROUND(CT32*I32,2) -> 7696.45 | T32: =ROUND(CU32*I32,2) -> 0 | U32: =CV32*I32 -> 902.2768 | V32: =CW32*I32 -> 14.6052 | W32: =ROUND(CX32*I32,2) -> 0 | X32: =ROUND(CY32,2) -> 6314.9 | Y32: =ROUND(CZ32,2) -> 5367.66 | AA32: 26914188 | AB32: =ROUND((AC32+AD32+AF32),6) -> 1687.56 | AC32: =ROUND((ES32),6) -> 0 | AD32: =ROUND((((ET32)-(EU32))+AE32),6) -> 739.02 | AE32: =ROUND((EU32),6) -> 24.3 | AF32: =ROUND((EV32),6) -> 948.54 | AG32: =ROUND((AP32),6) -> 0 | AH32: =(EW32) -> 111.2 | AI32: =(EX32) -> 1.8 | AJ32: =ROUND((AS32),6) -> 0 | AK32: 1687.56 | AL32: 0 | AM32: 739.02 | AN32: 24.3 | AO32: 948.54 | AP32: 0 | AQ32: 111.2 | AR32: 1.8 | AS32: 0 | AT32: 80 | AU32: 68 | AV32: 1 | AW32: 1 | AZ32: 1 | BA32: 1 | BB32: 1 | BC32: 1 | BH32: 0 | BI32: 1 | BJ32: ФЕР-2001, 57-2-4, приказ Минстроя России №1039/пр от 30.12.2016г. | BM32: 57001 | BN32: 0 | BP32: 0 | BQ32: 6 | BR32: 0 | BS32: 1 | BT32: 1 | BU32: 1 | BV32: 1 | BW32: 1 | BX32: 1 | BZ32: 80 | CA32: 68 | CF32: 0 | CG32: 0 | CM32: 0 | CO32: 0 | CP32: =(P32+Q32+S32) -> 13692.86 | CQ32: =AC32*BC32 -> 0 | CR32: =AD32*BB32 -> 739.02 | CS32: =AE32*BS32 -> 24.3 | CT32: =AF32*BA32 -> 948.54 | CU32: =AG32 -> 0 | CV32: =AH32 -> 111.2 | CW32: =AI32 -> 1.8 | CX32: =AJ32 -> 0 | CY32: =(((S32+R32)*AT32)/100) -> 6314.896 | CZ32: =(((S32+R32)*AU32)/100) -> 5367.6616 | DN32: 0 | DO32: 0 | DP32: 1 | DQ32: 1 | DU32: 1005 | DV32: 100 м2 | DW32: 100 м2 | DX32: 100 | EE32: 26549139 | EF32: 6 | EG32: Ремонтно-строительные работы | EH32: 0 | EJ32: 1 | EK32: 57001 | EL32: Полы | EM32: рФЕР-57 | EQ32: 0 | ER32: 1687.56 | ES32: 0 | ET32: 739.02 | EU32: 24.3 | EV32: 948.54 | EW32: 111.2 | EX32: 1.8 | EY32: 0 | FQ32: 0 | FR32: =ROUND(IF(AND(BH32=3,BI32=3),P32,0),2) -> 0 | FS32: 0 | FX32: 80 | FY32: 68 | GD32: 0 | GF32: -1435280135 | GG32: 2 | GH32: 1 | GI32: -2 | GJ32: 0 | GK32: =ROUND(R32*(R12)/100,2) -> 0 | GL32: =ROUND(IF(AND(BH32=3,BI32=3,FS32<>0),P32,0),2) -> 0 | GM32: =ROUND(O32+X32+Y32+GK32,2)+GX32 -> 25375.42 | GN32: =IF(OR(BI32=0,BI32=1),ROUND(O32+X32+Y32+GK32,2),0) -> 25375.42 | GO32: =IF(BI32=2,ROUND(O32+X32+Y32+GK32,2),0) -> 0 | GP32: =IF(BI32=4,ROUND(O32+X32+Y32+GK32,2)+GX32,0) -> 0 | GR32: 0 | GS32: 3 | GT32: 0 | GV32: =ROUND(GT32,6) -> 0 | GW32: 1 | GX32: =ROUND(GV32*GW32*I32,2) -> 0 | HA32: 0 | HB32: 0 | IK32: 0
A33: 17 | B33: 1 | C33: =ROW(SmtRes!A24) -> 24 | D33: =ROW(EtalonRes!A24) -> 24 | E33: 3 | F33: 57-2-4 | G33: Разборка покрытий полов цементных толщиной 30 мм | H33: 100 м2 | I33: =ROUND(811.4/100,9) -> 8.114 | J33: 0 | O33: =ROUND(CP33,2) -> 105435.03 | P33: =ROUND(CQ33*I33,2) -> 0 | Q33: =ROUND(CR33*I33,2) -> 46172.34 | R33: =ROUND(CS33*I33,2) -> 1518.21 | S33: =ROUND(CT33*I33,2) -> 59262.69 | T33: =ROUND(CU33*I33,2) -> 0 | U33: =CV33*I33 -> 902.2768 | V33: =CW33*I33 -> 14.6052 | W33: =ROUND(CX33*I33,2) -> 0 | X33: =ROUND(CY33,2) -> 48624.72 | Y33: =ROUND(CZ33,2) -> 41331.01 | AA33: 26914189 | AB33: =ROUND((AC33+AD33+AF33),6) -> 1687.56 | AC33: =ROUND((ES33),6) -> 0 | AD33: =ROUND((((ET33)-(EU33))+AE33),6) -> 739.02 | AE33: =ROUND((EU33),6) -> 24.3 | AF33: =ROUND((EV33),6) -> 948.54 | AG33: =ROUND((AP33),6) -> 0 | AH33: =(EW33) -> 111.2 | AI33: =(EX33) -> 1.8 | AJ33: =ROUND((AS33),6) -> 0 | AK33: 1687.56 | AL33: 0 | AM33: 739.02 | AN33: 24.3 | AO33: 948.54 | AP33: 0 | AQ33: 111.2 | AR33: 1.8 | AS33: 0 | AT33: 80 | AU33: 68 | AV33: 1 | AW33: 1 | AZ33: 7.7 | BA33: 7.7 | BB33: 7.7 | BC33: 7.7 | BH33: 0 | BI33: 1 | BJ33: ФЕР-2001, 57-2-4, приказ Минстроя России №1039/пр от 30.12.2016г. | BM33: 57001 | BN33: 0 | BP33: 0 | BQ33: 6 | BR33: 0 | BS33: 7.7 | BT33: 1 | BU33: 1 | BV33: 1 | BW33: 1 | BX33: 1 | BZ33: 80 | CA33: 68 | CF33: 0 | CG33: 0 | CM33: 0 | CO33: 0 | CP33: =(P33+Q33+S33) -> 105435.03 | CQ33: =AC33*BC33 -> 0 | CR33: =AD33*BB33 -> 5690.454 | CS33: =AE33*BS33 -> 187.11 | CT33: =AF33*BA33 -> 7303.758 | CU33: =AG33 -> 0 | CV33: =AH33 -> 111.2 | CW33: =AI33 -> 1.8 | CX33: =AJ33 -> 0 | CY33: =(((S33+R33)*AT33)/100) -> 48624.72 | CZ33: =(((S33+R33)*AU33)/100) -> 41331.012 | DN33: 0 | DO33: 0 | DP33: 1 | DQ33: 1 | DU33: 1005 | DV33: 100 м2 | DW33: 100 м2 | DX33: 100 | EE33: 26549139 | EF33: 6 | EG33: Ремонтно-строительные работы | EH33: 0 | EJ33: 1 | EK33: 57001 | EL33: Полы | EM33: рФЕР-57 | EQ33: 0 | ER33: 1687.56 | ES33: 0 | ET33: 739.02 | EU33: 24.3 | EV33: 948.54 | EW33: 111.2 | EX33: 1.8 | EY33: 0 | FQ33: 0 | FR33: =ROUND(IF(AND(BH33=3,BI33=3),P33,0),2) -> 0 | FS33: 0 | FX33: 80 | FY33: 68 | GD33: 0 | GF33: -1435280135 | GG33: 1 | GH33: 1 | GI33: 4 | GJ33: 0 | GK33: =ROUND(R33*(S12)/100,2) -> 0 | GL33: =ROUND(IF(AND(BH33=3,BI33=3,FS33<>0),P33,0),2) -> 0 | GM33: =ROUND(O33+X33+Y33+GK33,2)+GX33 -> 195390.76 | GN33: =IF(OR(BI33=0,BI33=1),ROUND(O33+X33+Y33+GK33,2),0) -> 195390.76 | GO33: =IF(BI33=2,ROUND(O33+X33+Y33+GK33,2),0) -> 0 | GP33: =IF(BI33=4,ROUND(O33+X33+Y33+GK33,2)+GX33,0) -> 0 | GR33: 0 | GS33: 3 | GT33: 0 | GV33: =ROUND(GT33,6) -> 0 | GW33: 1 | GX33: =ROUND(GV33*GW33*I33,2) -> 0 | HA33: 0 | HB33: 0 | IK33: 0
A34: 18 | B34: 1 | C34: 18 | E34: 3,1 | F34: 01.7.07.07 | G34: Строительный мусор | H34: т | I34: =I32*J34 -> 53.5524 | J34: 6.6 | O34: =ROUND(CP34,2) -> 0 | P34: =ROUND(CQ34*I34,2) -> 0 | Q34: =ROUND(CR34*I34,2) -> 0 | R34: =ROUND(CS34*I34,2) -> 0 | S34: =ROUND(CT34*I34,2) -> 0 | T34: =ROUND(CU34*I34,2) -> 0 | U34: =CV34*I34 -> 0 | V34: =CW34*I34 -> 0 | W34: =ROUND(CX34*I34,2) -> 0 | X34: =ROUND(CY34,2) -> 0 | Y34: =ROUND(CZ34,2) -> 0 | AA34: 26914188 | AB34: =ROUND((AC34+AD34+AF34),6) -> 0 | AC34: =ROUND((ES34),6) -> 0 | AD34: =ROUND((((ET34)-(EU34))+AE34),6) -> 0 | AE34: =ROUND((EU34),6) -> 0 | AF34: =ROUND((EV34),6) -> 0 | AG34: =ROUND((AP34),6) -> 0 | AH34: =(EW34) -> 0 | AI34: =(EX34) -> 0 | AJ34: =ROUND((AS34),6) -> 0 | AK34: 0 | AL34: 0 | AM34: 0 | AN34: 0 | AO34: 0 | AP34: 0 | AQ34: 0 | AR34: 0 | AS34: 0 | AT34: 80 | AU34: 68 | AV34: 1 | AW34: 1 | AZ34: 1 | BA34: 1 | BB34: 1 | BC34: 1 | BH34: 3 | BI34: 1 | BM34: 57001 | BN34: 0 | BP34: 0 | BQ34: 6 | BR34: 0 | BS34: 1 | BT34: 1 | BU34: 1 | BV34: 1 | BW34: 1 | BX34: 1 | BZ34: 80 | CA34: 68 | CF34: 0 | CG34: 0 | CM34: 0 | CO34: 0 | CP34: =(P34+Q34+S34) -> 0 | CQ34: =AC34*BC34 -> 0 | CR34: =AD34*BB34 -> 0 | CS34: =AE34*BS34 -> 0 | CT34: =AF34*BA34 -> 0 | CU34: =AG34 -> 0 | CV34: =AH34 -> 0 | CW34: =AI34 -> 0 | CX34: =AJ34 -> 0 | CY34: =(((S34+R34)*AT34)/100) -> 0 | CZ34: =(((S34+R34)*AU34)/100) -> 0 | DN34: 0 | DO34: 0 | DP34: 1 | DQ34: 1 | DU34: 1009 | DV34: т | DW34: т | DX34: 1000 | EE34: 26549139 | EF34: 6 | EG34: Ремонтно-строительные работы | EH34: 0 | EJ34: 1 | EK34: 57001 | EL34: Полы | EM34: рФЕР-57 | EQ34: 0 | ER34: 0 | ES34: 0 | ET34: 0 | EU34: 0 | EV34: 0 | EW34: 0 | EX34: 0 | FQ34: 0 | FR34: =ROUND(IF(AND(BH34=3,BI34=3),P34,0),2) -> 0 | FS34: 0 | FX34: 80 | FY34: 68 | GD34: 0 | GF34: -179832266 | GG34: 2 | GH34: 1 | GI34: -2 | GJ34: 0 | GK34: =ROUND(R34*(R12)/100,2) -> 0 | GL34: =ROUND(IF(AND(BH34=3,BI34=3,FS34<>0),P34,0),2) -> 0 | GM34: =ROUND(O34+X34+Y34+GK34,2)+GX34 -> 0 | GN34: =IF(OR(BI34=0,BI34=1),ROUND(O34+X34+Y34+GK34,2),0) -> 0 | GO34: =IF(BI34=2,ROUND(O34+X34+Y34+GK34,2),0) -> 0 | GP34: =IF(BI34=4,ROUND(O34+X34+Y34+GK34,2)+GX34,0) -> 0 | GR34: 0 | GS34: 0 | GT34: 0 | GV34: =ROUND(GT34,6) -> 0 | GW34: 1 | GX34: =ROUND(GV34*GW34*I34,2) -> 0 | HA34: 0 | HB34: 0 | IK34: 0
A35: 18 | B35: 1 | C35: 24 | E35: 3,1 | F35: 01.7.07.07 | G35: Строительный мусор | H35: т | I35: =I33*J35 -> 53.5524 | J35: 6.6 | O35: =ROUND(CP35,2) -> 0 | P35: =ROUND(CQ35*I35,2) -> 0 | Q35: =ROUND(CR35*I35,2) -> 0 | R35: =ROUND(CS35*I35,2) -> 0 | S35: =ROUND(CT35*I35,2) -> 0 | T35: =ROUND(CU35*I35,2) -> 0 | U35: =CV35*I35 -> 0 | V35: =CW35*I35 -> 0 | W35: =ROUND(CX35*I35,2) -> 0 | X35: =ROUND(CY35,2) -> 0 | Y35: =ROUND(CZ35,2) -> 0 | AA35: 26914189 | AB35: =ROUND((AC35+AD35+AF35),6) -> 0 | AC35: =ROUND((ES35),6) -> 0 | AD35: =ROUND((((ET35)-(EU35))+AE35),6) -> 0 | AE35: =ROUND((EU35),6) -> 0 | AF35: =ROUND((EV35),6) -> 0 | AG35: =ROUND((AP35),6) -> 0 | AH35: =(EW35) -> 0 | AI35: =(EX35) -> 0 | AJ35: =ROUND((AS35),6) -> 0 | AK35: 0 | AL35: 0 | AM35: 0 | AN35: 0 | AO35: 0 | AP35: 0 | AQ35: 0 | AR35: 0 | AS35: 0 | AT35: 80 | AU35: 68 | AV35: 1 | AW35: 1 | AZ35: 7.7 | BA35: 1 | BB35: 1 | BC35: 7.7 | BH35: 3 | BI35: 1 | BM35: 57001 | BN35: 0 | BP35: 0 | BQ35: 6 | BR35: 0 | BS35: 1 | BT35: 1 | BU35: 1 | BV35: 1 | BW35: 1 | BX35: 1 | BZ35: 80 | CA35: 68 | CF35: 0 | CG35: 0 | CM35: 0 | CO35: 0 | CP35: =(P35+Q35+S35) -> 0 | CQ35: =AC35*BC35 -> 0 | CR35: =AD35*BB35 -> 0 | CS35: =AE35*BS35 -> 0 | CT35: =AF35*BA35 -> 0 | CU35: =AG35 -> 0 | CV35: =AH35 -> 0 | CW35: =AI35 -> 0 | CX35: =AJ35 -> 0 | CY35: =(((S35+R35)*AT35)/100) -> 0 | CZ35: =(((S35+R35)*AU35)/100) -> 0 | DN35: 0 | DO35: 0 | DP35: 1 | DQ35: 1 | DU35: 1009 | DV35: т | DW35: т | DX35: 1000 | EE35: 26549139 | EF35: 6 | EG35: Ремонтно-строительные работы | EH35: 0 | EJ35: 1 | EK35: 57001 | EL35: Полы | EM35: рФЕР-57 | EQ35: 0 | ER35: 0 | ES35: 0 | ET35: 0 | EU35: 0 | EV35: 0 | EW35: 0 | EX35: 0 | FQ35: 0 | FR35: =ROUND(IF(AND(BH35=3,BI35=3),P35,0),2) -> 0 | FS35: 0 | FX35: 80 | FY35: 68 | GD35: 0 | GF35: -179832266 | GG35: 1 | GH35: 1 | GI35: 4 | GJ35: 0 | GK35: =ROUND(R35*(S12)/100,2) -> 0 | GL35: =ROUND(IF(AND(BH35=3,BI35=3,FS35<>0),P35,0),2) -> 0 | GM35: =ROUND(O35+X35+Y35+GK35,2)+GX35 -> 0 | GN35: =IF(OR(BI35=0,BI35=1),ROUND(O35+X35+Y35+GK35,2),0) -> 0 | GO35: =IF(BI35=2,ROUND(O35+X35+Y35+GK35,2),0) -> 0 | GP35: =IF(BI35=4,ROUND(O35+X35+Y35+GK35,2)+GX35,0) -> 0 | GR35: 0 | GS35: 0 | GT35: 0 | GV35: =ROUND(GT35,6) -> 0 | GW35: 1 | GX35: =ROUND(GV35*GW35*I35,2) -> 0 | HA35: 0 | HB35: 0 | IK35: 0
A36: 17 | B36: 1 | C36: =ROW(SmtRes!A34) -> 34 | D36: =ROW(EtalonRes!A33) -> 33 | E36: 4 | F36: 11-01-004-09 | G36: Устройство гидроизоляции обмазочной в один слой праймером | H36: 100 м2 | I36: =ROUND(811.4/100,9) -> 8.114 | J36: 0 | O36: =ROUND(CP36,2) -> 4093.26 | P36: =ROUND(CQ36*I36,2) -> 1077.94 | Q36: =ROUND(CR36*I36,2) -> 262.18 | R36: =ROUND(CS36*I36,2) -> 8.82 | S36: =ROUND(CT36*I36,2) -> 2753.14 | T36: =ROUND(CU36*I36,2) -> 0 | U36: =CV36*I36 -> 251.65977 | V36: =CW36*I36 -> 0.709975 | W36: =ROUND(CX36*I36,2) -> 0 | X36: =ROUND(CY36,2) -> 3065.78 | Y36: =ROUND(CZ36,2) -> 1767.65 | AA36: 26914188 | AB36: =ROUND((AC36+AD36+AF36),6) -> 504.47 | AC36: =ROUND((ES36),6) -> 132.85 | AD36: =ROUND(((((ET36*1.25))-((EU36*1.25)))+AE36),6) -> 32.3125 | AE36: =ROUND(((EU36*1.25)),6) -> 1.0875 | AF36: =ROUND(((EV36*1.15)),6) -> 339.3075 | AG36: =ROUND((AP36),6) -> 0 | AH36: =((EW36*1.15)) -> 31.0155 | AI36: =((EX36*1.25)) -> 0.0875 | AJ36: =ROUND((AS36),6) -> 0 | AK36: 453.75 | AL36: 132.85 | AM36: 25.85 | AN36: 0.87 | AO36: 295.05 | AP36: 0 | AQ36: 26.97 | AR36: 0.07 | AS36: 0 | AT36: 111 | AU36: 64 | AV36: 1 | AW36: 1 | AZ36: 1 | BA36: 1 | BB36: 1 | BC36: 1 | BH36: 0 | BI36: 1 | BJ36: ФЕР-2001, 11-01-004-09, приказ Минстроя России №1039/пр от 30.12.2016г. | BM36: 11001 | BN36: 0 | BP36: 0 | BQ36: 2 | BR36: 0 | BS36: 1 | BT36: 1 | BU36: 1 | BV36: 1 | BW36: 1 | BX36: 1 | BZ36: 123 | CA36: 75 | CF36: 0 | CG36: 0 | CM36: 0 | CN36: Поправка: МДС 81-35.2004, п.4.7 Наименование: Работы, выполняемые при реконструкции зданий и сооружений работы, аналогичные технологическим процессам в новом строительстве (в том числе возведение новых конструктивных элементов) стоимость которых определена по соответствующим сборникам ФЕР, кроме сборника № 46 «Работы при реконструкции зданий и сооружений» | CO36: 0 | CP36: =(P36+Q36+S36) -> 4093.26 | CQ36: =AC36*BC36 -> 132.85 | CR36: =AD36*BB36 -> 32.3125 | CS36: =AE36*BS36 -> 1.0875 | CT36: =AF36*BA36 -> 339.3075 | CU36: =AG36 -> 0 | CV36: =AH36 -> 31.0155 | CW36: =AI36 -> 0.0875 | CX36: =AJ36 -> 0 | CY36: =(((S36+R36)*AT36)/100) -> 3065.7756 | CZ36: =(((S36+R36)*AU36)/100) -> 1767.6544 | DE36: )*1,25 | DF36: )*1,25 | DG36: )*1,15 | DI36: )*1,15 | DJ36: )*1,25 | DN36: 0 | DO36: 0 | DP36: 1 | DQ36: 1 | DU36: 1005 | DV36: 100 м2 | DW36: 100 м2 | DX36: 100 | EE36: 26549061 | EF36: 2 | EG36: Общестроительные работы | EH36: 0 | EJ36: 1 | EK36: 11001 | EL36: Полы | EM36: ФЕР-11 | EO36: Поправка: МДС 81-35.2004, п.4.7 | EQ36: 0 | ER36: 453.75 | ES36: 132.85 | ET36: 25.85 | EU36: 0.87 | EV36: 295.05 | EW36: 26.97 | EX36: 0.07 | EY36: 0 | FQ36: 0 | FR36: =ROUND(IF(AND(BH36=3,BI36=3),P36,0),2) -> 0 | FS36: 0 | FT36: *0,9 | FU36: *0,85 | FX36: 110.7 | FY36: 63.75 | GD36: 0 | GF36: 708628656 | GG36: 2 | GH36: 1 | GI36: -2 | GJ36: 0 | GK36: =ROUND(R36*(R12)/100,2) -> 0 | GL36: =ROUND(IF(AND(BH36=3,BI36=3,FS36<>0),P36,0),2) -> 0 | GM36: =ROUND(O36+X36+Y36+GK36,2)+GX36 -> 8926.69 | GN36: =IF(OR(BI36=0,BI36=1),ROUND(O36+X36+Y36+GK36,2),0) -> 8926.69 | GO36: =IF(BI36=2,ROUND(O36+X36+Y36+GK36,2),0) -> 0 | GP36: =IF(BI36=4,ROUND(O36+X36+Y36+GK36,2)+GX36,0) -> 0 | GR36: 0 | GS36: 3 | GT36: 0 | GV36: =ROUND(GT36,6) -> 0 | GW36: 1 | GX36: =ROUND(GV36*GW36*I36,2) -> 0 | HA36: 0 | HB36: 0 | IK36: 0
A37: 17 | B37: 1 | C37: =ROW(SmtRes!A44) -> 44 | D37: =ROW(EtalonRes!A42) -> 42 | E37: 4 | F37: 11-01-004-09 | G37: Устройство гидроизоляции обмазочной в один слой праймером | H37: 100 м2 | I37: =ROUND(811.4/100,9) -> 8.114 | J37: 0 | O37: =ROUND(CP37,2) -> 31518.18 | P37: =ROUND(CQ37*I37,2) -> 8300.18 | Q37: =ROUND(CR37*I37,2) -> 2018.81 | R37: =ROUND(CS37*I37,2) -> 67.94 | S37: =ROUND(CT37*I37,2) -> 21199.19 | T37: =ROUND(CU37*I37,2) -> 0 | U37: =CV37*I37 -> 251.65977 | V37: =CW37*I37 -> 0.709975 | W37: =ROUND(CX37*I37,2) -> 0 | X37: =ROUND(CY37,2) -> 23606.51 | Y37: =ROUND(CZ37,2) -> 13610.96 | AA37: 26914189 | AB37: =ROUND((AC37+AD37+AF37),6) -> 504.47 | AC37: =ROUND((ES37),6) -> 132.85 | AD37: =ROUND(((((ET37*1.25))-((EU37*1.25)))+AE37),6) -> 32.3125 | AE37: =ROUND(((EU37*1.25)),6) -> 1.0875 | AF37: =ROUND(((EV37*1.15)),6) -> 339.3075 | AG37: =ROUND((AP37),6) -> 0 | AH37: =((EW37*1.15)) -> 31.0155 | AI37: =((EX37*1.25)) -> 0.0875 | AJ37: =ROUND((AS37),6) -> 0 | AK37: 453.75 | AL37: 132.85 | AM37: 25.85 | AN37: 0.87 | AO37: 295.05 | AP37: 0 | AQ37: 26.97 | AR37: 0.07 | AS37: 0 | AT37: 111 | AU37: 64 | AV37: 1 | AW37: 1 | AZ37: 7.7 | BA37: 7.7 | BB37: 7.7 | BC37: 7.7 | BH37: 0 | BI37: 1 | BJ37: ФЕР-2001, 11-01-004-09, приказ Минстроя России №1039/пр от 30.12.2016г. | BM37: 11001 | BN37: 0 | BP37: 0 | BQ37: 2 | BR37: 0 | BS37: 7.7 | BT37: 1 | BU37: 1 | BV37: 1 | BW37: 1 | BX37: 1 | BZ37: 123 | CA37: 75 | CF37: 0 | CG37: 0 | CM37: 0 | CN37: Поправка: МДС 81-35.2004, п.4.7 Наименование: Работы, выполняемые при реконструкции зданий и сооружений работы, аналогичные технологическим процессам в новом строительстве (в том числе возведение новых конструктивных элементов) стоимость которых определена по соответствующим сборникам ФЕР, кроме сборника № 46 «Работы при реконструкции зданий и сооружений» | CO37: 0 | CP37: =(P37+Q37+S37) -> 31518.18 | CQ37: =AC37*BC37 -> 1022.945 | CR37: =AD37*BB37 -> 248.80625 | CS37: =AE37*BS37 -> 8.37375 | CT37: =AF37*BA37 -> 2612.6678 | CU37: =AG37 -> 0 | CV37: =AH37 -> 31.0155 | CW37: =AI37 -> 0.0875 | CX37: =AJ37 -> 0 | CY37: =(((S37+R37)*AT37)/100) -> 23606.514 | CZ37: =(((S37+R37)*AU37)/100) -> 13610.963 | DE37: )*1,25 | DF37: )*1,25 | DG37: )*1,15 | DI37: )*1,15 | DJ37: )*1,25 | DN37: 0 | DO37: 0 | DP37: 1 | DQ37: 1 | DU37: 1005 | DV37: 100 м2 | DW37: 100 м2 | DX37: 100 | EE37: 26549061 | EF37: 2 | EG37: Общестроительные работы | EH37: 0 | EJ37: 1 | EK37: 11001 | EL37: Полы | EM37: ФЕР-11 | EO37: Поправка: МДС 81-35.2004, п.4.7 | EQ37: 0 | ER37: 453.75 | ES37: 132.85 | ET37: 25.85 | EU37: 0.87 | EV37: 295.05 | EW37: 26.97 | EX37: 0.07 | EY37: 0 | FQ37: 0 | FR37: =ROUND(IF(AND(BH37=3,BI37=3),P37,0),2) -> 0 | FS37: 0 | FT37: *0,9 | FU37: *0,85 | FX37: 110.7 | FY37: 63.75 | GD37: 0 | GF37: 708628656 | GG37: 1 | GH37: 1 | GI37: 4 | GJ37: 0 | GK37: =ROUND(R37*(S12)/100,2) -> 0 | GL37: =ROUND(IF(AND(BH37=3,BI37=3,FS37<>0),P37,0),2) -> 0 | GM37: =ROUND(O37+X37+Y37+GK37,2)+GX37 -> 68735.65 | GN37: =IF(OR(BI37=0,BI37=1),ROUND(O37+X37+Y37+GK37,2),0) -> 68735.65 | GO37: =IF(BI37=2,ROUND(O37+X37+Y37+GK37,2),0) -> 0 | GP37: =IF(BI37=4,ROUND(O37+X37+Y37+GK37,2)+GX37,0) -> 0 | GR37: 0 | GS37: 3 | GT37: 0 | GV37: =ROUND(GT37,6) -> 0 | GW37: 1 | GX37: =ROUND(GV37*GW37*I37,2) -> 0 | HA37: 0 | HB37: 0 | IK37: 0
A38: 18 | B38: 1 | C38: 34 | E38: 4,1 | F38: 14.3.01.01-0001 | G38: Грунтовка: «Бетоконтакт», КНАУФ | H38: кг | I38: =I36*J38 -> 243.42 | J38: 30 | O38: =ROUND(CP38,2) -> 3673.21 | P38: =ROUND(CQ38*I38,2) -> 3673.21 | Q38: =ROUND(CR38*I38,2) -> 0 | R38: =ROUND(CS38*I38,2) -> 0 | S38: =ROUND(CT38*I38,2) -> 0 | T38: =ROUND(CU38*I38,2) -> 0 | U38: =CV38*I38 -> 0 | V38: =CW38*I38 -> 0 | W38: =ROUND(CX38*I38,2) -> 0 | X38: =ROUND(CY38,2) -> 0 | Y38: =ROUND(CZ38,2) -> 0 | AA38: 26914188 | AB38: =ROUND((AC38+AD38+AF38),6) -> 15.09 | AC38: =ROUND((ES38),6) -> 15.09 | AD38: =ROUND((((ET38)-(EU38))+AE38),6) -> 0 | AE38: =ROUND((EU38),6) -> 0 | AF38: =ROUND((EV38),6) -> 0 | AG38: =ROUND((AP38),6) -> 0 | AH38: =(EW38) -> 0 | AI38: =(EX38) -> 0 | AJ38: =ROUND((AS38),6) -> 0 | AK38: 15.09 | AL38: 15.09 | AM38: 0 | AN38: 0 | AO38: 0 | AP38: 0 | AQ38: 0 | AR38: 0 | AS38: 0 | AT38: 111 | AU38: 64 | AV38: 1 | AW38: 1 | AZ38: 1 | BA38: 1 | BB38: 1 | BC38: 1 | BH38: 3 | BI38: 1 | BJ38: ФССЦ-2001, 14.3.01.01-0001, приказ Минстроя России №1039/пр от 30.12.2016г. | BM38: 11001 | BN38: 0 | BP38: 0 | BQ38: 2 | BR38: 0 | BS38: 1 | BT38: 1 | BU38: 1 | BV38: 1 | BW38: 1 | BX38: 1 | BZ38: 123 | CA38: 75 | CF38: 0 | CG38: 0 | CM38: 0 | CO38: 0 | CP38: =(P38+Q38+S38) -> 3673.21 | CQ38: =AC38*BC38 -> 15.09 | CR38: =AD38*BB38 -> 0 | CS38: =AE38*BS38 -> 0 | CT38: =AF38*BA38 -> 0 | CU38: =AG38 -> 0 | CV38: =AH38 -> 0 | CW38: =AI38 -> 0 | CX38: =AJ38 -> 0 | CY38: =(((S38+R38)*AT38)/100) -> 0 | CZ38: =(((S38+R38)*AU38)/100) -> 0 | DN38: 0 | DO38: 0 | DP38: 1 | DQ38: 1 | DU38: 1009 | DV38: кг | DW38: кг | DX38: 1 | EE38: 26549061 | EF38: 2 | EG38: Общестроительные работы | EH38: 0 | EJ38: 1 | EK38: 11001 | EL38: Полы | EM38: ФЕР-11 | EQ38: 0 | ER38: 15.09 | ES38: 15.09 | ET38: 0 | EU38: 0 | EV38: 0 | EW38: 0 | EX38: 0 | FQ38: 0 | FR38: =ROUND(IF(AND(BH38=3,BI38=3),P38,0),2) -> 0 | FS38: 0 | FT38: *0,9 | FU38: *0,85 | FX38: 110.7 | FY38: 63.75 | GD38: 0 | GF38: 1453462043 | GG38: 2 | GH38: 1 | GI38: -2 | GJ38: 0 | GK38: =ROUND(R38*(R12)/100,2) -> 0 | GL38: =ROUND(IF(AND(BH38=3,BI38=3,FS38<>0),P38,0),2) -> 0 | GM38: =ROUND(O38+X38+Y38+GK38,2)+GX38 -> 3673.21 | GN38: =IF(OR(BI38=0,BI38=1),ROUND(O38+X38+Y38+GK38,2),0) -> 3673.21 | GO38: =IF(BI38=2,ROUND(O38+X38+Y38+GK38,2),0) -> 0 | GP38: =IF(BI38=4,ROUND(O38+X38+Y38+GK38,2)+GX38,0) -> 0 | GR38: 0 | GS38: 3 | GT38: 0 | GV38: =ROUND(GT38,6) -> 0 | GW38: 1 | GX38: =ROUND(GV38*GW38*I38,2) -> 0 | HA38: 0 | HB38: 0 | IK38: 0
A39: 18 | B39: 1 | C39: 44 | E39: 4,1 | F39: 14.3.01.01-0001 | G39: Грунтовка: «Бетоконтакт», КНАУФ | H39: кг | I39: =I37*J39 -> 243.42 | J39: 30 | O39: =ROUND(CP39,2) -> 28283.7 | P39: =ROUND(CQ39*I39,2) -> 28283.7 | Q39: =ROUND(CR39*I39,2) -> 0 | R39: =ROUND(CS39*I39,2) -> 0 | S39: =ROUND(CT39*I39,2) -> 0 | T39: =ROUND(CU39*I39,2) -> 0 | U39: =CV39*I39 -> 0 | V39: =CW39*I39 -> 0 | W39: =ROUND(CX39*I39,2) -> 0 | X39: =ROUND(CY39,2) -> 0 | Y39: =ROUND(CZ39,2) -> 0 | AA39: 26914189 | AB39: =ROUND((AC39+AD39+AF39),6) -> 15.09 | AC39: =ROUND((ES39),6) -> 15.09 | AD39: =ROUND((((ET39)-(EU39))+AE39),6) -> 0 | AE39: =ROUND((EU39),6) -> 0 | AF39: =ROUND((EV39),6) -> 0 | AG39: =ROUND((AP39),6) -> 0 | AH39: =(EW39) -> 0 | AI39: =(EX39) -> 0 | AJ39: =ROUND((AS39),6) -> 0 | AK39: 15.09 | AL39: 15.09 | AM39: 0 | AN39: 0 | AO39: 0 | AP39: 0 | AQ39: 0 | AR39: 0 | AS39: 0 | AT39: 111 | AU39: 64 | AV39: 1 | AW39: 1 | AZ39: 7.7 | BA39: 1 | BB39: 1 | BC39: 7.7 | BH39: 3 | BI39: 1 | BJ39: ФССЦ-2001, 14.3.01.01-0001, приказ Минстроя России №1039/пр от 30.12.2016г. | BM39: 11001 | BN39: 0 | BP39: 0 | BQ39: 2 | BR39: 0 | BS39: 1 | BT39: 1 | BU39: 1 | BV39: 1 | BW39: 1 | BX39: 1 | BZ39: 123 | CA39: 75 | CF39: 0 | CG39: 0 | CM39: 0 | CO39: 0 | CP39: =(P39+Q39+S39) -> 28283.7 | CQ39: =AC39*BC39 -> 116.193 | CR39: =AD39*BB39 -> 0 | CS39: =AE39*BS39 -> 0 | CT39: =AF39*BA39 -> 0 | CU39: =AG39 -> 0 | CV39: =AH39 -> 0 | CW39: =AI39 -> 0 | CX39: =AJ39 -> 0 | CY39: =(((S39+R39)*AT39)/100) -> 0 | CZ39: =(((S39+R39)*AU39)/100) -> 0 | DN39: 0 | DO39: 0 | DP39: 1 | DQ39: 1 | DU39: 1009 | DV39: кг | DW39: кг | DX39: 1 | EE39: 26549061 | EF39: 2 | EG39: Общестроительные работы | EH39: 0 | EJ39: 1 | EK39: 11001 | EL39: Полы | EM39: ФЕР-11 | EQ39: 0 | ER39: 15.09 | ES39: 15.09 | ET39: 0 | EU39: 0 | EV39: 0 | EW39: 0 | EX39: 0 | FQ39: 0 | FR39: =ROUND(IF(AND(BH39=3,BI39=3),P39,0),2) -> 0 | FS39: 0 | FT39: *0,9 | FU39: *0,85 | FX39: 110.7 | FY39: 63.75 | GD39: 0 | GF39: 1453462043 | GG39: 1 | GH39: 1 | GI39: 4 | GJ39: 0 | GK39: =ROUND(R39*(S12)/100,2) -> 0 | GL39: =ROUND(IF(AND(BH39=3,BI39=3,FS39<>0),P39,0),2) -> 0 | GM39: =ROUND(O39+X39+Y39+GK39,2)+GX39 -> 28283.7 | GN39: =IF(OR(BI39=0,BI39=1),ROUND(O39+X39+Y39+GK39,2),0) -> 28283.7 | GO39: =IF(BI39=2,ROUND(O39+X39+Y39+GK39,2),0) -> 0 | GP39: =IF(BI39=4,ROUND(O39+X39+Y39+GK39,2)+GX39,0) -> 0 | GR39: 0 | GS39: 3 | GT39: 0 | GV39: =ROUND(GT39,6) -> 0 | GW39: 1 | GX39: =ROUND(GV39*GW39*I39,2) -> 0 | HA39: 0 | HB39: 0 | IK39: 0
A40: 18 | B40: 1 | C40: 31 | E40: 4,2 | F40: 01.2.01.02-0054 | G40: Битумы нефтяные строительные марки БН-90/10 | H40: т | I40: =I36*J40 -> -0.16228 | J40: -0.02 | O40: =ROUND(CP40,2) -> -224.45 | P40: =ROUND(CQ40*I40,2) -> -224.45 | Q40: =ROUND(CR40*I40,2) -> 0 | R40: =ROUND(CS40*I40,2) -> 0 | S40: =ROUND(CT40*I40,2) -> 0 | T40: =ROUND(CU40*I40,2) -> 0 | U40: =CV40*I40 -> 0 | V40: =CW40*I40 -> 0 | W40: =ROUND(CX40*I40,2) -> 0 | X40: =ROUND(CY40,2) -> 0 | Y40: =ROUND(CZ40,2) -> 0 | AA40: 26914188 | AB40: =ROUND((AC40+AD40+AF40),6) -> 1383.1 | AC40: =ROUND((ES40),6) -> 1383.1 | AD40: =ROUND((((ET40)-(EU40))+AE40),6) -> 0 | AE40: =ROUND((EU40),6) -> 0 | AF40: =ROUND((EV40),6) -> 0 | AG40: =ROUND((AP40),6) -> 0 | AH40: =(EW40) -> 0 | AI40: =(EX40) -> 0 | AJ40: =ROUND((AS40),6) -> 0 | AK40: 1383.1 | AL40: 1383.1 | AM40: 0 | AN40: 0 | AO40: 0 | AP40: 0 | AQ40: 0 | AR40: 0 | AS40: 0 | AT40: 111 | AU40: 64 | AV40: 1 | AW40: 1 | AZ40: 1 | BA40: 1 | BB40: 1 | BC40: 1 | BH40: 3 | BI40: 1 | BJ40: ФССЦ-2001, 01.2.01.02-0054, приказ Минстроя России №1039/пр от 30.12.2016г. | BM40: 11001 | BN40: 0 | BP40: 0 | BQ40: 2 | BR40: 1 | BS40: 1 | BT40: 1 | BU40: 1 | BV40: 1 | BW40: 1 | BX40: 1 | BZ40: 123 | CA40: 75 | CF40: 0 | CG40: 0 | CM40: 0 | CO40: 0 | CP40: =(P40+Q40+S40) -> -224.45 | CQ40: =AC40*BC40 -> 1383.1 | CR40: =AD40*BB40 -> 0 | CS40: =AE40*BS40 -> 0 | CT40: =AF40*BA40 -> 0 | CU40: =AG40 -> 0 | CV40: =AH40 -> 0 | CW40: =AI40 -> 0 | CX40: =AJ40 -> 0 | CY40: =(((S40+R40)*AT40)/100) -> 0 | CZ40: =(((S40+R40)*AU40)/100) -> 0 | DN40: 0 | DO40: 0 | DP40: 1 | DQ40: 1 | DU40: 1009 | DV40: т | DW40: т | DX40: 1000 | EE40: 26549061 | EF40: 2 | EG40: Общестроительные работы | EH40: 0 | EJ40: 1 | EK40: 11001 | EL40: Полы | EM40: ФЕР-11 | EQ40: 0 | ER40: 1383.1 | ES40: 1383.1 | ET40: 0 | EU40: 0 | EV40: 0 | EW40: 0 | EX40: 0 | FQ40: 0 | FR40: =ROUND(IF(AND(BH40=3,BI40=3),P40,0),2) -> 0 | FS40: 0 | FT40: *0,9 | FU40: *0,85 | FX40: 110.7 | FY40: 63.75 | GD40: 0 | GF40: 110322092 | GG40: 2 | GH40: 1 | GI40: -2 | GJ40: 0 | GK40: =ROUND(R40*(R12)/100,2) -> 0 | GL40: =ROUND(IF(AND(BH40=3,BI40=3,FS40<>0),P40,0),2) -> 0 | GM40: =ROUND(O40+X40+Y40+GK40,2)+GX40 -> -224.45 | GN40: =IF(OR(BI40=0,BI40=1),ROUND(O40+X40+Y40+GK40,2),0) -> -224.45 | GO40: =IF(BI40=2,ROUND(O40+X40+Y40+GK40,2),0) -> 0 | GP40: =IF(BI40=4,ROUND(O40+X40+Y40+GK40,2)+GX40,0) -> 0 | GR40: 0 | GS40: 0 | GT40: 0 | GV40: =ROUND(GT40,6) -> 0 | GW40: 1 | GX40: =ROUND(GV40*GW40*I40,2) -> 0 | HA40: 0 | HB40: 0 | IK40: 0
A41: 18 | B41: 1 | C41: 41 | E41: 4,2 | F41: 01.2.01.02-0054 | G41: Битумы нефтяные строительные марки БН-90/10 | H41: т | I41: =I37*J41 -> -0.16228 | J41: -0.02 | O41: =ROUND(CP41,2) -> -1728.26 | P41: =ROUND(CQ41*I41,2) -> -1728.26 | Q41: =ROUND(CR41*I41,2) -> 0 | R41: =ROUND(CS41*I41,2) -> 0 | S41: =ROUND(CT41*I41,2) -> 0 | T41: =ROUND(CU41*I41,2) -> 0 | U41: =CV41*I41 -> 0 | V41: =CW41*I41 -> 0 | W41: =ROUND(CX41*I41,2) -> 0 | X41: =ROUND(CY41,2) -> 0 | Y41: =ROUND(CZ41,2) -> 0 | AA41: 26914189 | AB41: =ROUND((AC41+AD41+AF41),6) -> 1383.1 | AC41: =ROUND((ES41),6) -> 1383.1 | AD41: =ROUND((((ET41)-(EU41))+AE41),6) -> 0 | AE41: =ROUND((EU41),6) -> 0 | AF41: =ROUND((EV41),6) -> 0 | AG41: =ROUND((AP41),6) -> 0 | AH41: =(EW41) -> 0 | AI41: =(EX41) -> 0 | AJ41: =ROUND((AS41),6) -> 0 | AK41: 1383.1 | AL41: 1383.1 | AM41: 0 | AN41: 0 | AO41: 0 | AP41: 0 | AQ41: 0 | AR41: 0 | AS41: 0 | AT41: 111 | AU41: 64 | AV41: 1 | AW41: 1 | AZ41: 7.7 | BA41: 1 | BB41: 1 | BC41: 7.7 | BH41: 3 | BI41: 1 | BJ41: ФССЦ-2001, 01.2.01.02-0054, приказ Минстроя России №1039/пр от 30.12.2016г. | BM41: 11001 | BN41: 0 | BP41: 0 | BQ41: 2 | BR41: 1 | BS41: 1 | BT41: 1 | BU41: 1 | BV41: 1 | BW41: 1 | BX41: 1 | BZ41: 123 | CA41: 75 | CF41: 0 | CG41: 0 | CM41: 0 | CO41: 0 | CP41: =(P41+Q41+S41) -> -1728.26 | CQ41: =AC41*BC41 -> 10649.87 | CR41: =AD41*BB41 -> 0 | CS41: =AE41*BS41 -> 0 | CT41: =AF41*BA41 -> 0 | CU41: =AG41 -> 0 | CV41: =AH41 -> 0 | CW41: =AI41 -> 0 | CX41: =AJ41 -> 0 | CY41: =(((S41+R41)*AT41)/100) -> 0 | CZ41: =(((S41+R41)*AU41)/100) -> 0 | DN41: 0 | DO41: 0 | DP41: 1 | DQ41: 1 | DU41: 1009 | DV41: т | DW41: т | DX41: 1000 | EE41: 26549061 | EF41: 2 | EG41: Общестроительные работы | EH41: 0 | EJ41: 1 | EK41: 11001 | EL41: Полы | EM41: ФЕР-11 | EQ41: 0 | ER41: 1383.1 | ES41: 1383.1 | ET41: 0 | EU41: 0 | EV41: 0 | EW41: 0 | EX41: 0 | FQ41: 0 | FR41: =ROUND(IF(AND(BH41=3,BI41=3),P41,0),2) -> 0 | FS41: 0 | FT41: *0,9 | FU41: *0,85 | FX41: 110.7 | FY41: 63.75 | GD41: 0 | GF41: 110322092 | GG41: 1 | GH41: 1 | GI41: 4 | GJ41: 0 | GK41: =ROUND(R41*(S12)/100,2) -> 0 | GL41: =ROUND(IF(AND(BH41=3,BI41=3,FS41<>0),P41,0),2) -> 0 | GM41: =ROUND(O41+X41+Y41+GK41,2)+GX41 -> -1728.26 | GN41: =IF(OR(BI41=0,BI41=1),ROUND(O41+X41+Y41+GK41,2),0) -> -1728.26 | GO41: =IF(BI41=2,ROUND(O41+X41+Y41+GK41,2),0) -> 0 | GP41: =IF(BI41=4,ROUND(O41+X41+Y41+GK41,2)+GX41,0) -> 0 | GR41: 0 | GS41: 0 | GT41: 0 | GV41: =ROUND(GT41,6) -> 0 | GW41: 1 | GX41: =ROUND(GV41*GW41*I41,2) -> 0 | HA41: 0 | HB41: 0 | IK41: 0
A42: 18 | B42: 1 | C42: 32 | E42: 4,3 | F42: 01.3.01.03-0002 | G42: Керосин для технических целей марок КТ-1, КТ-2 | H42: т | I42: =I36*J42 -> -0.32456 | J42: -0.04 | O42: =ROUND(CP42,2) -> -846.1 | P42: =ROUND(CQ42*I42,2) -> -846.1 | Q42: =ROUND(CR42*I42,2) -> 0 | R42: =ROUND(CS42*I42,2) -> 0 | S42: =ROUND(CT42*I42,2) -> 0 | T42: =ROUND(CU42*I42,2) -> 0 | U42: =CV42*I42 -> 0 | V42: =CW42*I42 -> 0 | W42: =ROUND(CX42*I42,2) -> 0 | X42: =ROUND(CY42,2) -> 0 | Y42: =ROUND(CZ42,2) -> 0 | AA42: 26914188 | AB42: =ROUND((AC42+AD42+AF42),6) -> 2606.9 | AC42: =ROUND((ES42),6) -> 2606.9 | AD42: =ROUND((((ET42)-(EU42))+AE42),6) -> 0 | AE42: =ROUND((EU42),6) -> 0 | AF42: =ROUND((EV42),6) -> 0 | AG42: =ROUND((AP42),6) -> 0 | AH42: =(EW42) -> 0 | AI42: =(EX42) -> 0 | AJ42: =ROUND((AS42),6) -> 0 | AK42: 2606.9 | AL42: 2606.9 | AM42: 0 | AN42: 0 | AO42: 0 | AP42: 0 | AQ42: 0 | AR42: 0 | AS42: 0 | AT42: 111 | AU42: 64 | AV42: 1 | AW42: 1 | AZ42: 1 | BA42: 1 | BB42: 1 | BC42: 1 | BH42: 3 | BI42: 1 | BJ42: ФССЦ-2001, 01.3.01.03-0002, приказ Минстроя России №1039/пр от 30.12.2016г. | BM42: 11001 | BN42: 0 | BP42: 0 | BQ42: 2 | BR42: 1 | BS42: 1 | BT42: 1 | BU42: 1 | BV42: 1 | BW42: 1 | BX42: 1 | BZ42: 123 | CA42: 75 | CF42: 0 | CG42: 0 | CM42: 0 | CO42: 0 | CP42: =(P42+Q42+S42) -> -846.1 | CQ42: =AC42*BC42 -> 2606.9 | CR42: =AD42*BB42 -> 0 | CS42: =AE42*BS42 -> 0 | CT42: =AF42*BA42 -> 0 | CU42: =AG42 -> 0 | CV42: =AH42 -> 0 | CW42: =AI42 -> 0 | CX42: =AJ42 -> 0 | CY42: =(((S42+R42)*AT42)/100) -> 0 | CZ42: =(((S42+R42)*AU42)/100) -> 0 | DN42: 0 | DO42: 0 | DP42: 1 | DQ42: 1 | DU42: 1009 | DV42: т | DW42: т | DX42: 1000 | EE42: 26549061 | EF42: 2 | EG42: Общестроительные работы | EH42: 0 | EJ42: 1 | EK42: 11001 | EL42: Полы | EM42: ФЕР-11 | EQ42: 0 | ER42: 2606.9 | ES42: 2606.9 | ET42: 0 | EU42: 0 | EV42: 0 | EW42: 0 | EX42: 0 | FQ42: 0 | FR42: =ROUND(IF(AND(BH42=3,BI42=3),P42,0),2) -> 0 | FS42: 0 | FT42: *0,9 | FU42: *0,85 | FX42: 110.7 | FY42: 63.75 | GD42: 0 | GF42: -1709508773 | GG42: 2 | GH42: 1 | GI42: -2 | GJ42: 0 | GK42: =ROUND(R42*(R12)/100,2) -> 0 | GL42: =ROUND(IF(AND(BH42=3,BI42=3,FS42<>0),P42,0),2) -> 0 | GM42: =ROUND(O42+X42+Y42+GK42,2)+GX42 -> -846.1 | GN42: =IF(OR(BI42=0,BI42=1),ROUND(O42+X42+Y42+GK42,2),0) -> -846.1 | GO42: =IF(BI42=2,ROUND(O42+X42+Y42+GK42,2),0) -> 0 | GP42: =IF(BI42=4,ROUND(O42+X42+Y42+GK42,2)+GX42,0) -> 0 | GR42: 0 | GS42: 0 | GT42: 0 | GV42: =ROUND(GT42,6) -> 0 | GW42: 1 | GX42: =ROUND(GV42*GW42*I42,2) -> 0 | HA42: 0 | HB42: 0 | IK42: 0
