Workbook
Name Constr: '23938'!$A$1
Name Constr: '24221'!$A$7
Name Constr: '24289'!$A$7
Name Constr: '24671'!$A$1
Name Constr: '24780'!$A$1
Name Constr: '24798'!$A$1
Name FOT: '23938'!$D$17
Name FOT: '24221'!$D$15
Name FOT: '24289'!$D$17
Name FOT: '24671'!$D$18
Name FOT: '24780'!$D$18
Name FOT: '24798'!$D$18
Name Ind: '23938'!#REF!
Name Ind: '24221'!$H$9
Name Ind: '24289'!$H$9
Name Ind: '24671'!$G$9
Name Ind: '24780'!$G$9
Name Ind: '24798'!$G$9
Name Obj: '23938'!$D$10
Name Obj: '24221'!#REF!
Name Obj: '24289'!#REF!
Name Obj: '24671'!#REF!
Name Obj: '24780'!#REF!
Name Obj: '24798'!#REF!
Name Obosn: '23938'!$D$13
Name Obosn: '24221'!$D$13
Name Obosn: '24289'!$D$13
Name Obosn: '24671'!$D$13
Name Obosn: '24780'!$D$13
Name Obosn: '24798'!$D$13
Name SmPr: '23938'!$D$14
Name SmPr: '24221'!$D$14
Name SmPr: '24289'!$D$14
Name SmPr: '24671'!$D$14
Name SmPr: '24780'!$D$14
Name SmPr: '24798'!$D$14
Name аааааппппппрррппппппп: #REF!
Name аааааппппппрррппппппп: #REF!
Name аараооооооооооооо: #REF!
Name аараооооооооооооо: #REF!
Name автом: #REF!
Name автом: #REF!
Name алшрльоплварл: #REF!
Name алшрльоплварл: #REF!
Name аолвлддддддддддддддддввввввввв: #REF!
Name аолвлддддддддддддддддввввввввв: #REF!
Name апарв: #REF!
Name апарв: #REF!
Name апрлдджаоырыфрпопрлпрлпрлп: #REF!
Name апрлдджаоырыфрпопрлпрлпрлп: #REF!
Name арлггаджаш: #REF!
Name арлггаджаш: #REF!
Name ароррбллтблпроорапииас: #REF!
Name ароррбллтблпроорапииас: #REF!
Name арррррблллпдрлдддддддддд: #REF!
Name арррррблллпдрлдддддддддд: #REF!
Name варпаааааааааа: #REF!
Name варпаааааааааа: #REF!
Name ввпьььььлднд: #REF!
Name ввпьььььлднд: #REF!

Sheet 23938
A1: СОГЛАСОВАНО: | E1: ФГУП "Комбинат "Электрохимприбор" | M1: УТВЕРЖДАЮ:
G2: (наименование стройки) | M2: Зам. генерального директора
M3: Е.В.Гордеев
A4: _________________ | M4: _________________
A5: " _____ " ________________ 2013 г. | M5: "______ " __________2013 г.
G6: ЛОКАЛЬНЫЙ СМЕТНЫЙ РАСЧЕТ № 23938-П13
G7: (пересчет сметы № 23938)
C9: на | D9: монтаж СОУЭ, системы отключения вентиляции при пожаре. Здание 292. Инв. № 7612877
D10: Раздел: электроснабжение огнезадерживающих клапанов.
G11: (наименование работ и затрат, наименование объекта)
D13: Основание: проект № 23926-11-ЭМ "И" Тема КПМ Т6243.220 | N13: Справочно, в тыс.руб. :
D14: Сметная стоимость _______________________________________________________________________________________________ | J14: ___________________________160,906 | L14: тыс. руб. | N14: ВСЕГО: | P14: =P15+P16 -> 731.21691
D15: монтажных работ _______________________________________________________________________________________________ | J15: _______________________________________________________________________________________________41,621 | L15: тыс. руб. | N15: с К=5,56 | P15: =41.621*5.56 -> 231.41276
D16: оборудования _______________________________________________________________________________________________ | J16: _______________________________________________________________________________________________119,285 | L16: тыс. руб. | N16: с К=4,19 | P16: =119.285*4.19 -> 499.80415
D17: Средства на оплату труда _______________________________________________________________________________________________ | J17: ___________________________5,393 | L17: тыс. руб. | N17: с К=5,56 | P17: =5.393*5.56 -> 29.98508
D18: Сметная трудоемкость _______________________________________________________________________________________________ | J18: _______________________________________________________________________________________________274,74 | L18: чел.час
D19: Составлен(а) в базовых ценах 2001г. в редакции 2009г.
A21: № пп | B21: Обоснова-ние | C21: Наименование | D21: Ед. изм. | E21: Кол. | F21: Стоимость единицы, руб. | J21: Общая стоимость, руб. | O21: Т/з осн. раб.на ед. | P21: Т/з осн. раб. Всего | Q21: Общая масса обору-дования, т
F22: Всего | G22: В том числе | J22: Обору-дование | K22: Всего | L22: В том числе
G23: Осн.З/п | H23: Эк.Маш | I23: З/пМех | L23: Осн.З/п | M23: Эк.Маш | N23: З/пМех
A24: 1 | B24: 2 | C24: 3 | D24: 4 | E24: 5 | F24: 6 | G24: 7 | H24: 8 | I24: 9 | J24: 10 | K24: 11 | L24: 12 | M24: 13 | N24: 14 | O24: 15 | P24: 16 | Q24: 17
A25: Раздел 1. Монтажные работы
A26: 1 | B26: ФССЦ-501-8443 | C26: Кабель силовой с медными жилами с поливинилхлоридной изоляцией и оболочкой, не распространяющий горение марки ВВГнг, напряжением 0,66 кВ, с числом жил - 3 и сечением 2,5 мм2 КОЭФ. К ПОЗИЦИИ: Приведение расценок ФЕР к территориальному уровню (Письмо УРЦЦС Ц-297 от 12.04.2011) ОЗП=1,41; ЭМ=1,242; ЗПМ=1,41; МАТ=1,052 | D26: 1000 м | E26: 0.612 | F26: 5064.35 | K26: 3099
A27: 2 | B27: ТСЦ-501-0796 | C27: Кабели контрольные с медными жилами с поливинилхлоридной изоляцией и оболочкой марки КВВГ, с числом жил - 4 и сечением 1 мм2 | D27: 1000 м | E27: 0.0306 | F27: 6929 | K27: 212
A28: 3 | B28: ТЕРм08-02-148-01 | C28: Кабель до 35 кВ в проложенных трубах, блоках и коробах, масса 1 м кабеля до 1 кг | D28: 100 м кабеля | E28: 0.5 | F28: 798.84 | G28: 168.02 | H28: 544.81 | I28: 57.87 | K28: 399 | L28: 84 | M28: 272 | N28: 29 | O28: 12.4 | P28: 6.2
A29: 4 | B29: ТЕРм08-02-146-01 | C29: Кабель до 35 кВ с креплением накладными скобами, масса 1 м кабеля до 0,5 кг | D29: 100 м кабеля | E29: 5.8 | F29: 2828.73 | G29: 199.19 | H29: 1292.95 | I29: 147.72 | K29: 16407 | L29: 1155 | M29: 7499 | N29: 857 | O29: 14.7 | P29: 85.26
A30: 5 | B30: ТЕРм08-02-407-01 | C30: Труба стальная по установленным конструкциям, по стенам с креплением скобами, диаметр до 25 мм | D30: 100 м | E30: 0.5 | F30: 2527.2 | G30: 408.1 | H30: 897.93 | I30: 320.97 | K30: 1264 | L30: 204 | M30: 449 | N30: 160 | O30: 30.8 | P30: 15.4
A31: 6 | B31: ТЕРм08-02-158-04 | C31: Заделка концевая сухая для контрольного кабеля сечением одной жилы до 2,5 мм2, количество жил до 4 | D31: 1 шт. | E31: 42 | F31: 38.4 | G31: 3.52 | H31: 2.92 | I31: 0.18 | K31: 1613 | L31: 148 | M31: 123 | N31: 8 | O31: 0.26 | P31: 10.92
A32: 7 | B32: ТЕРм08-02-144-01 | C32: Присоединение к зажимам жил проводов или кабелей сечением до 2,5 мм2 | D32: 100 шт. | E32: 1.26 | F32: 165.85 | G32: 162.6 | K32: 209 | L32: 205 | O32: 12 | P32: 15.12
A33: 8 | B33: ТЕРм08-03-481-20 | C33: Подготовка электрической машины переменного тока с короткозамкнутым ротором, со щитовыми подшипниками, поступающей в собранном виде, к испытанию, сдаче под наладку и пуску, присоединение к электрической сети, масса до 0,15 т | D33: 1 шт. | E33: 37 | F33: 94.2 | G33: 16.9 | H33: 0.99 | K33: 3485 | L33: 625 | M33: 37 | O33: 1.21 | P33: 44.77
A34: 9 | B34: Цена поставщика | C34: Устройство сигнально-пусковое УСПП "Диабаз-БМ" НС 199.000.04 (Ц:565805,98:1,18:4,19) счет № 02-9050-42 от 11.12.2012г. | D34: шт | E34: 1 | J34: 114438 | K34: 114438
A35: 10 | B35: ТЕРм10-08-001-01 прим. | C35: Монтаж: устройство сигнально-пусковое УСПП "Диабаз-БМ" | D35: 1 шт. | E35: 1 | F35: 117.52 | G35: 102.02 | H35: 0.46 | K35: 118 | L35: 102 | O35: 7.2 | P35: 7.2
A36: 11 | B36: ТСЦ-103-0001 | C36: Трубы стальные сварные водогазопроводные с резьбой черные легкие (неоцинкованные) диаметр условного прохода 15 мм, толщина стенки 2,5 мм | D36: м | E36: 3.6 | F36: 12.41 | K36: 45
A37: 12 | B37: ТЕРм08-02-407-06 | C37: Монтаж: труба стальная (гильза) | D37: 100 м | E37: 0.036 | F37: 1621.52 | G37: 251.75 | H37: 175.48 | I37: 8.55 | K37: 58 | L37: 9 | M37: 6 | O37: 19 | P37: 0.68
A38: 13 | B38: ТСЦ-103-0002 | C38: Трубы стальные сварные водогазопроводные с резьбой черные легкие (неоцинкованные) диаметр условного прохода 20 мм, толщина стенки 2,5 мм | D38: м | E38: 50 | F38: 14.72 | K38: 736
A39: 14 | B39: ТЕРм08-02-407-06 | C39: Труба стальная по установленным конструкциям, в готовых бороздах, по основанию пола, диаметр до 25 мм | D39: 100 м | E39: 0.5 | F39: 1621.52 | G39: 251.75 | H39: 175.48 | I39: 8.55 | K39: 811 | L39: 126 | M39: 88 | N39: 4 | O39: 19 | P39: 9.5
A40: 15 | B40: ТЕРм08-02-155-01 | C40: Герметизация проходов при вводе кабелей во взрывоопасные помещения уплотнительной массой | D40: 1 проход кабеля | E40: 18 | F40: 22.58 | G40: 6.37 | K40: 406 | L40: 115 | O40: 0.47 | P40: 8.46
A41: Итого прямые затраты по смете в ценах 2001г. | K41: 143300 | L41: 2773 | M41: 8474 | N41: 1058 | P41: 203.51
A42: Итого прямые затраты по смете с учетом коэффициентов к итогам | K42: 152305 | L42: 3904 | M42: 11501 | N42: 1489 | P42: 274.74
A43: В том числе, справочно:
...

Sheet 24221
A1: СОГЛАСОВАНО: | E1: ФГУП "Комбинат "Электрохимприбор" | M1: УТВЕРЖДАЮ:
G2: (наименование стройки) | M2: Зам. генерального директора
M3: Е.В.Гордеев
A4: _________________ | M4: _________________
A5: " _____ " ________________ 2013 г. | M5: "______ " __________2013 г.
G6: ЛОКАЛЬНЫЙ СМЕТНЫЙ РАСЧЕТ № 24221-П13
G7: (пересчет сметы № 24221)
C9: на | D9: монтаж СОУЭ, системы отключения вентиляции при пожаре. Здание 292. Инв. № 7612877
D10: Раздел: управление пожарной автоматикой
G11: (наименование работ и затрат, наименование объекта)
D13: Основание: проект № 22262-04-АЭЛ "И" Тема КПМ Т6243.220 | N13: Справочно, в тыс.руб. :
D14: Сметная стоимость монтажных работ _______________________________________________________________________________________________ | J14: ___________________________187,278 | L14: тыс. руб. | N14: ВСЕГО: | P14: =187.278*5.56 -> 1041.2657
D15: Средства на оплату труда _______________________________________________________________________________________________ | J15: ___________________________20,280 | L15: тыс. руб. | N15: с К=5,56 | P15: =20.28*5.56 -> 112.7568
D16: Сметная трудоемкость _______________________________________________________________________________________________ | J16: _______________________________________________________________________________________________960,78 | L16: чел.час
D17: Составлен(а) в базовых ценах 2001г. в редакции 2009г.
A19: № пп | B19: Обоснование | C19: Наименование | D19: Ед. изм. | E19: Кол. | F19: Стоимость единицы, руб. | J19: Общая стоимость, руб. | N19: Т/з осн. раб.на ед. | O19: Т/з осн. раб. Всего | P19: Т/з мех. на ед. | Q19: Т/з мех. Всего
F20: Всего | G20: В том числе | J20: Всего | K20: В том числе
G21: Осн.З/п | H21: Эк.Маш | I21: З/пМех | K21: Осн.З/п | L21: Эк.Маш | M21: З/пМех
A22: 1 | B22: 2 | C22: 3 | D22: 4 | E22: 5 | F22: 6 | G22: 7 | H22: 8 | I22: 9 | J22: 10 | K22: 11 | L22: 12 | M22: 13 | N22: 14 | O22: 15 | P22: 16 | Q22: 17
A23: Раздел 1. Монтажные работы
A24: 1 | B24: ФССЦ-503-0533 | C24: Разветвительная коробка У-614 КОЭФ. К ПОЗИЦИИ: Приведение расценок ФЕР к территориальному уровню (Письмо УРЦЦС Ц-297 от 12.04.2011) ОЗП=1,41; ЭМ=1,242; ЗПМ=1,41; МАТ=1,052 | D24: шт. | E24: 10 | F24: 336.38 | J24: 3364
A25: 2 | B25: ТЕРм08-03-545-01 | C25: Коробка (ящик) с зажимами для кабелей и проводов сечением до 6 мм2, устанавливаемая на конструкции на стене или колонне, количество зажимов до 10 | D25: 1 шт. | E25: 10 | F25: 160.78 | G25: 43.86 | H25: 2.36 | J25: 1608 | K25: 439 | L25: 24 | N25: 3.31 | O25: 33.1
A26: 3 | B26: ФССЦ-503-0534 | C26: Разветвительная коробка У-615 КОЭФ. К ПОЗИЦИИ: Приведение расценок ФЕР к территориальному уровню (Письмо УРЦЦС Ц-297 от 12.04.2011) ОЗП=1,41; ЭМ=1,242; ЗПМ=1,41; МАТ=1,052 | D26: шт. | E26: 8 | F26: 588.54 | J26: 4708
A27: 4 | B27: ТЕРм08-03-545-02 | C27: Коробка (ящик) с зажимами для кабелей и проводов сечением до 6 мм2, устанавливаемая на конструкции на стене или колонне, количество зажимов до 20 | D27: 1 шт. | E27: 8 | F27: 260.86 | G27: 69.28 | H27: 3.07 | J27: 2087 | K27: 554 | L27: 25 | N27: 5.17 | O27: 41.36
A28: 5 | B28: ТСЦ-103-0002 | C28: Трубы стальные сварные водогазопроводные с резьбой черные легкие (неоцинкованные) диаметр условного прохода 20 мм, толщина стенки 2,5 мм | D28: м | E28: 100 | F28: 14.72 | J28: 1472
A29: 6 | B29: ТЕРм08-02-407-01 | C29: Труба стальная по установленным конструкциям, по стенам с креплением скобами, диаметр до 25 мм | D29: 100 м | E29: 1 | F29: 2527.2 | G29: 408.1 | H29: 897.93 | I29: 320.97 | J29: 2527 | K29: 408 | L29: 898 | M29: 321 | N29: 30.8 | O29: 30.8 | P29: 20.47 | Q29: 20.47
A30: 7 | B30: ТЕРм08-02-146-02 | C30: Кабель до 35 кВ с креплением накладными скобами, масса 1 м кабеля до 1 кг КОЭФ. К ПОЗИЦИИ: 0.6 При производстве работ на высоте свыше расстояний, указанных в вводных указаниях к разделам: св.2 до 8м ОЗП=1,05; ТЗ=1,05 | D30: 100 м кабеля | E30: 25.58 | F30: 3072.43 | G30: 237.6 | H30: 1497.69 | I30: 168.84 | J30: 78593 | K30: 6078 | L30: 38311 | M30: 4319 | N30: 17.54 | O30: 448.67 | P30: 9.55 | Q30: 244.29
A31: 8 | B31: ТЕРм08-02-148-01 | C31: Кабель до 35 кВ в проложенных трубах, блоках и коробах, масса 1 м кабеля до 1 кг | D31: 100 м кабеля | E31: 2.16 | F31: 798.84 | G31: 168.02 | H31: 544.81 | I31: 57.87 | J31: 1725 | K31: 363 | L31: 1177 | M31: 125 | N31: 12.4 | O31: 26.78 | P31: 3.39 | Q31: 7.32
A32: 9 | B32: ТЕРм08-02-158-04 | C32: Заделка концевая сухая для контрольного кабеля сечением одной жилы до 2,5 мм2, количество жил до 4 | D32: 1 шт. | E32: 64 | F32: 38.4 | G32: 3.52 | H32: 2.92 | I32: 0.18 | J32: 2458 | K32: 225 | L32: 187 | M32: 12 | N32: 0.26 | O32: 16.64 | P32: 0.01 | Q32: 0.64
A33: 10 | B33: ТЕРм08-02-158-06 | C33: Заделка концевая сухая для контрольного кабеля сечением одной жилы до 2,5 мм2, количество жил до 10 | D33: 1 шт. | E33: 10 | F33: 44.11 | G33: 7.05 | H33: 2.92 | I33: 0.18 | J33: 441 | K33: 71 | L33: 29 | M33: 2 | N33: 0.52 | O33: 5.2 | P33: 0.01 | Q33: 0.1
A34: 11 | B34: ТЕРм08-02-158-07 | C34: Заделка концевая сухая для контрольного кабеля сечением одной жилы до 2,5 мм2, количество жил до 14 | D34: 1 шт. | E34: 34 | F34: 46.46 | G34: 9.35 | H34: 2.92 | I34: 0.18 | J34: 1580 | K34: 318 | L34: 99 | M34: 6 | N34: 0.69 | O34: 23.46 | P34: 0.01 | Q34: 0.34
A35: 12 | B35: ТЕРм08-02-144-01 | C35: Присоединение к зажимам жил проводов или кабелей сечением до 2,5 мм2 | D35: 100 шт. | E35: 7.14 | F35: 165.85 | G35: 162.6 | J35: 1184 | K35: 1161 | N35: 12 | O35: 85.68
A36: 13 | B36: Цена поставщика | C36: Кабель судовой марки КНР с медными жилами: сечение жилы 1,0 мм2, 2 жилы (Цена:50800руб:1,18:4,38) | D36: км | E36: 1.85 | F36: 9828.96 | J36: 18184
A37: 14 | B37: Цена поставщика | C37: Кабели марок КУПР с неэкранированными жилами: сечение жилы 1,0 мм2, 4 жил (Цена:37490руб:1,18:4,38) | D37: км | E37: 0.18 | F37: 7253.7 | J37: 1306
A38: 15 | B38: Цена поставщика | C38: Кабели марок КУПР с неэкранированными жилами: сечение жилы 1,0 мм2, 7 жил (Цена:47590руб:1,18:4,38) | D38: км | E38: 0.08 | F38: 9207.88 | J38: 737
A39: 16 | B39: Цена поставщика | C39: Кабели марок КУПР с неэкранированными жилами: сечение жилы 1,0 мм2, 14 жил (Цена:80530руб:1,18:4,38) | D39: км | E39: 0.88 | F39: 15581.22 | J39: 13711
A40: Итого прямые затраты по смете в ценах 2001г. | J40: 135685 | K40: 9617 | L40: 40750 | M40: 4785 | O40: 711.69 | Q40: 273.16
A41: Итого прямые затраты по смете с учетом коэффициентов к итогам | J41: 154830 | K41: 13542 | L41: 55291 | M41: 6738 | O41: 960.78 | Q41: 368.77
A42: В том числе, справочно:
A43: Районный к-т 4,3% (Поз. 2, 4, 6-12) | J43: 620 | K43: 414 | L43: 206 | M43: 206
...

Sheet 24289
A1: СОГЛАСОВАНО: | E1: ФГУП "Комбинат "Электрохимприбор" | M1: УТВЕРЖДАЮ:
G2: (наименование стройки) | M2: Зам. генерального директора
M3: Е.В.Гордеев
A4: _________________ | M4: _________________
A5: " _____ " ________________ 2013 г. | M5: "______ " __________2013 г.
G6: ЛОКАЛЬНЫЙ СМЕТНЫЙ РАСЧЕТ № 24289-П13
G7: (пересчет сметы № 24289)
C9: на | D9: монтаж СОУЭ, системы отключения вентиляции при пожаре. Здание 292. Инв. № 7612877
D10: Раздел: управление пожарной автоматикой
G11: (наименование работ и затрат, наименование объекта)
D13: Основание: проект № ЖАЕ 10120 Тема КПМ Т6243.220 | N13: Справочно, в тыс.руб. :
D14: Сметная стоимость _______________________________________________________________________________________________ | J14: 9.494 | L14: тыс. руб. | N14: ВСЕГО: | P14: =P15+P16 -> 49.50138
D15: монтажных работ _______________________________________________________________________________________________ | J15: 7.096 | L15: тыс. руб. | N15: с К=5,56 | P15: =7.096*5.56 -> 39.45376
D16: оборудования _______________________________________________________________________________________________ | J16: 2.398 | L16: тыс. руб. | N16: с К=4,19 | P16: =4.19*2.398 -> 10.04762
D17: Средства на оплату труда _______________________________________________________________________________________________ | J17: ___________________________1,457 | L17: тыс. руб. | N17: с К=5,56 | P17: =1.457*5.56 -> 8.10092
D18: Сметная трудоемкость _______________________________________________________________________________________________ | J18: _______________________________________________________________________________________________108,59 | L18: чел.час
D19: Составлен(а) в базовых ценах 2001г. в редакции 2009г.
A21: № пп | B21: Обоснование | C21: Наименование | D21: Ед. изм. | E21: Кол. | F21: Стоимость единицы, руб. | J21: Общая стоимость, руб. | N21: Т/з осн. раб.на ед. | O21: Т/з осн. раб. Всего | P21: Т/з мех. на ед. | Q21: Т/з мех. Всего
F22: Всего | G22: В том числе | J22: Всего | K22: В том числе
G23: Осн.З/п | H23: Эк.Маш | I23: З/пМех | K23: Осн.З/п | L23: Эк.Маш | M23: З/пМех
A24: 1 | B24: 2 | C24: 3 | D24: 4 | E24: 5 | F24: 6 | G24: 7 | H24: 8 | I24: 9 | J24: 10 | K24: 11 | L24: 12 | M24: 13 | N24: 14 | O24: 15 | P24: 16 | Q24: 17
A25: Раздел 1. Монтажные работы
A26: 1 | B26: ФССЦ-509-1778 | C26: Источник бесперебойного питания СКАТ-1200, без аккумулятора КОЭФ. К ПОЗИЦИИ: Приведение расценок ФЕР к территориальному уровню (Письмо УРЦЦС Ц-297 от 12.04.2011) ОЗП=1,41; ЭМ=1,242; ЗПМ=1,41; МАТ=1,052 | D26: шт. | E26: 1 | F26: 1335.61 | J26: 1336
A27: 2 | B27: ТЕРм10-02-016-06 прим. | C27: Монтаж: резервированный источник питания | D27: 1 шт. | E27: 1 | F27: 256.7 | G27: 157.76 | H27: 33.83 | I27: 6.87 | J27: 257 | K27: 158 | L27: 34 | M27: 7 | N27: 10.1 | O27: 10.1 | P27: 0.44 | Q27: 0.44
A28: 3 | B28: ФССЦ-509-1811 | C28: Батарея аккумуляторная АКБ-12 12В/12 А/ч КОЭФ. К ПОЗИЦИИ: Приведение расценок ФЕР к территориальному уровню (Письмо УРЦЦС Ц-297 от 12.04.2011) ОЗП=1,41; ЭМ=1,242; ЗПМ=1,41; МАТ=1,052 | D28: шт. | E28: 2 | F28: 163.06 | J28: 326
A29: 4 | B29: ФССЦ-503-0438 прим. | C29: Бокс металлический размером 600х300х155 мм КОЭФ. К ПОЗИЦИИ: Приведение расценок ФЕР к территориальному уровню (Письмо УРЦЦС Ц-297 от 12.04.2011) ОЗП=1,41; ЭМ=1,242; ЗПМ=1,41; МАТ=1,052 | D29: шт. | E29: 1 | F29: 871.75 | J29: 872
A30: 5 | B30: ТЕРм08-03-573-04 | C30: Монтаж: шкаф (пульт) управления навесной, высота, ширина и глубина до 600х600х350 мм | D30: 1 шт. | E30: 1 | F30: 99.26 | G30: 33.11 | H30: 62.05 | I30: 4.71 | J30: 99 | K30: 33 | L30: 62 | M30: 5 | N30: 2.37 | O30: 2.37 | P30: 0.29 | Q30: 0.29
A31: 6 | B31: ТСЦ-509-1032 | C31: Кронштейн | D31: компл. | E31: 1 | F31: 186.08 | J31: 186
A32: 7 | B32: ТСЦ-509-0224 прим. | C32: Клемма | D32: уп | E32: 1 | F32: 77.79 | J32: 78
A33: 8 | B33: ТСЦ-509-0245 прим. | C33: Оконечный стопор | D33: комп-кт | E33: 1 | F33: 177.71 | J33: 178
A34: 9 | B34: ТЕРм11-01-001-01 прим. | C34: Монтаж: оконечный стопор | D34: 1 шт. | E34: 1 | F34: 34.2 | G34: 6.41 | H34: 7.18 | I34: 0.81 | J34: 34 | K34: 6 | L34: 7 | M34: 1 | N34: 0.52 | O34: 0.52 | P34: 0.06 | Q34: 0.06
A35: 10 | B35: ТСЦ-509-0210 | C35: Вилка | D35: шт. | E35: 1 | F35: 46.81 | J35: 47
A36: 11 | B36: ТЕРм08-03-545-05 прим. | C36: Монтаж вилки | D36: 1 шт. | E36: 1 | F36: 137.5 | G36: 31.8 | H36: 2.36 | J36: 138 | K36: 32 | L36: 2 | N36: 2.4 | O36: 2.4
A37: 12 | B37: ТСЦ-509-0158 | C37: Плакат по ТБ | D37: 100 шт. | E37: 0.01 | F37: 4296.64 | J37: 43
A38: 13 | B38: ТСЦ-509-0064 | C38: Профиль монтажный (DIN-рейка) | D38: м | E38: 2 | F38: 51.17 | J38: 102
A39: 14 | B39: ТЕРм10-01-039-02 прим. | C39: Монтаж DIN-рейки | D39: 1 м | E39: 2 | F39: 19.2 | G39: 13.09 | H39: 3.08 | I39: 0.62 | J39: 38 | K39: 26 | L39: 6 | M39: 1 | N39: 1.09 | O39: 2.18 | P39: 0.04 | Q39: 0.08
A40: 15 | B40: ТСЦ-509-0587 прим. | C40: Блок (реле Finder; модуль Finder; модуль индикации Finder) | D40: шт. | E40: 30 | J40: 2398
A41: 16 | B41: ТЕРм10-01-039-06 | C41: Реле, ключ, кнопка и др. с подготовкой места установки | D41: 1 шт. | E41: 30 | F41: 24.5 | G41: 24.02 | J41: 735 | K41: 721 | N41: 2 | O41: 60
A42: 17 | B42: ТСЦ-502-0578 | C42: Провода монтажные с волокнистой или пленочной и поливинилхлоридной изоляцией марки МГШВ экранированные с двумя жилами из медной луженной проволоки сечением 0,50 мм | D42: 1000 м | E42: 0.03 | F42: 1853.8 | J42: 56
A43: 18 | B43: ТСЦ-501-0625 | C43: Кабели силовые переносные с гибкими медными жилами в резиновой оболочке марки КГ, с числом жил - 3 и сечением 1 мм2 | D43: 1000 м | E43: 0.001 | F43: 5800 | J43: 6
...

Sheet 24671
A1: СОГЛАСОВАНО: | E1: ФГУП "Комбинат "Электрохимприбор" | M1: УТВЕРЖДАЮ:
G2: (наименование стройки) | M2: Зам. генерального директора
M3: Е.В.Гордеев
A4: _________________ | M4: _________________
A5: " _____ " ________________ 2012 г. | M5: "______ " __________2012 г.
G6: ЛОКАЛЬНЫЙ СМЕТНЫЙ РАСЧЕТ № 24671
G7: (локальная смета)
C9: на | D9: монтаж автоматической установки пожарной сигнализации и СОУЭ. Отключение вентсистем
E10: Площадка 1. Здание 301 инв. №5731020
H11: (наименование работ и затрат, наименование объекта)
D13: Основание: проект № 24447-12-ПТ Тема КПМ Т6267.121Н | N13: Справочно, в тыс.руб. :
D14: Сметная стоимость _______________________________________________________________________________________________ | J14: ___________________________193,899 | L14: тыс. руб. | N14: ВСЕГО: | P14: =P15+P16+P17 -> 983.55208
D15: монтажных работ _______________________________________________________________________________________________ | J15: _______________________________________________________________________________________________94,058 | L15: тыс. руб. | N15: с К=5,56 | P15: =94.058*5.56 -> 522.96248
D16: прочих (ПНР "в холостую") _______________________________________________________________________________________________ | J16: _______________________________________________________________________________________________8,237 | L16: тыс. руб. | N16: с К=9,32 | P16: =8.237*9.32 -> 76.76884
D17: оборудования _______________________________________________________________________________________________ | J17: _______________________________________________________________________________________________91,604 | L17: тыс. руб. | N17: с К=4,19 | P17: =91.604*4.19 -> 383.82076
D18: Средства на оплату труда _______________________________________________________________________________________________ | J18: ___________________________22,507 | L18: тыс. руб. | N18: с К=5,56 | P18: =22.507*5.56 -> 125.13892
D19: Сметная трудоемкость _______________________________________________________________________________________________ | J19: _______________________________________________________________________________________________1483,93 | L19: чел.час
D20: Материалы ______________________________________ | K20: =K128/1000 -> 44.184 | L20: тыс.руб. | N20: с К=5,56 | P20: =K20*5.56 -> 245.66304
D21: Составлен(а) в базовых ценах 2001г. в редакции 2009г.
A23: № пп | B23: Обоснова-ние | C23: Наименование | D23: Ед. изм. | E23: Кол. | F23: Стоимость единицы, руб. | J23: Общая стоимость, руб. | O23: Т/з осн. раб.на ед. | P23: Т/з осн. раб. Всего | Q23: Общая масса обору-дования, т
F24: Всего | G24: В том числе | J24: Обору-дование | K24: Всего | L24: В том числе
G25: Осн.З/п | H25: Эк.Маш | I25: З/пМех | L25: Осн.З/п | M25: Эк.Маш | N25: З/пМех
A26: 1 | B26: 2 | C26: 3 | D26: 4 | E26: 5 | F26: 6 | G26: 7 | H26: 8 | I26: 9 | J26: 10 | K26: 11 | L26: 12 | M26: 13 | N26: 14 | O26: 15 | P26: 16 | Q26: 17
A27: Раздел 1. Монтажные работы
A28: 1 | B28: Цена поставщика | C28: ППКОПУ 03041-4-1 "Юнитроник-496" (Ц:14240руб :1,18:4,19) | D28: шт | E28: 1 | J28: 2880 | K28: 2880
A29: 2 | B29: ТЕРм10-08-001-01 | C29: Приборы ПС приемно-контрольные, пусковые, концентратор блок базовый на 10 лучей "Юнитроник-496" | D29: 1 шт. | E29: 1 | F29: 117.52 | G29: 102.02 | H29: 0.46 | K29: 118 | L29: 102 | O29: 7.2 | P29: 7.2
A30: 3 | B30: Цена поставщика | C30: Источник питания СКАТ2400И7 (Ц:4752руб:1,18:4,19) | D30: 1 шт. | E30: 1 | J30: 961 | K30: 961
A31: 4 | B31: ТЕРм10-02-016-06 | C31: Монтаж: преобразователь или блок питания | D31: 1 шт. | E31: 1 | F31: 256.7 | G31: 157.76 | H31: 33.83 | I31: 6.87 | K31: 257 | L31: 158 | M31: 34 | N31: 7 | O31: 10.1 | P31: 10.1
A32: 5 | B32: Цена поставщика | C32: АКБ 12в 4,5 А/ч (Ц:429,77руб:1,18:5.56) | D32: шт | E32: 1 | F32: 65.51 | K32: 66
A33: 6 | B33: Цена поставщика | C33: Метка пожарная адресная МА-7ТСН (Ц:590руб :1,18:4,19) | D33: шт | E33: 19 | J33: 2267 | K33: 2267
A34: 7 | B34: Цена поставщика | C34: Метка адресная управляющая "МА-4У" (Ц:3520руб :1,18:4,19) | D34: шт | E34: 3 | J34: 698 | K34: 698
A35: 8 | B35: Цена поставщика | C35: Метка адресная управляющая "МА-У" (Ц:1750руб :1,18:4,19) | D35: шт | E35: 11 | J35: 2559 | K35: 2559
A36: 9 | B36: Цена поставщика | C36: Метка адресная управляющая "МА-УОП" (Ц:1150руб :1,18:4,19) | D36: шт | E36: 2 | J36: 465 | K36: 465
A37: 10 | B37: ТЕРм10-08-003-05 прим. | C37: Монтаж: метка адресная "Юнитроник" "МА-УОП"; "МА-4У"; "МА-У"; "МА-7ТСН" | D37: 1 шт. | E37: 31 | F37: 86.32 | G37: 78.05 | H37: 0.37 | K37: 2676 | L37: 2420 | M37: 11 | O37: 5.76 | P37: 178.56
A38: 11 | B38: Цена поставщика | C38: Дымовой извещатель "ИП-212-92" (Ц:595руб :1,18:5,56) | D38: шт | E38: 59 | F38: 90.69 | K38: 5351
A39: 12 | B39: ТЕРм10-08-002-02 | C39: Извещатель ПС автоматический дымовой, фотоэлектрический, радиоизотопный, световой в нормальном исполнении | D39: 1 шт. | E39: 54 | F39: 28.38 | G39: 22.76 | H39: 0.46 | K39: 1533 | L39: 1229 | M39: 25 | O39: 1.68 | P39: 90.72
A40: 13 | B40: Цена поставщика | C40: Извещатель пламени т.Пульсар 3-015 НК (Ц:16697руб :1,18:4,19) | D40: шт | E40: 23 | J40: 77673 | K40: 77673
A41: 14 | B41: ТЕРм10-08-003-07 | C41: Монтаж извещателей пламени "Пульсар 3-015" | D41: 1 компл. | E41: 21 | F41: 104.48 | G41: 87.8 | H41: 1 | K41: 2194 | L41: 1844 | M41: 21 | O41: 6.48 | P41: 136.08
A42: 15 | B42: Цена поставщика | C42: Кабель оптоволоконный в металлорукаве для извещателя пламени пожарный "Пульсар 3-015 (Ц:944руб :1,18:5,56) | D42: м | E42: 70 | F42: 143.88 | K42: 10072
A43: 16 | B43: Цена поставщика | C43: Муфта герметизирующая для извещателя пламени (Ц:900руб :1,18:5,56) | D43: шт | E43: 21 | F43: 137.18 | K43: 2881
...

Sheet 24780
A1: СОГЛАСОВАНО: | E1: ФГУП "Комбинат "Электрохимприбор" | M1: УТВЕРЖДАЮ:
G2: (наименование стройки) | M2: Зам. генерального директора
M3: Е.В.Гордеев
A4: _________________ | M4: _________________
A5: " _____ " ________________ 2013 г. | M5: "______ " __________2013 г.
G6: ЛОКАЛЬНЫЙ СМЕТНЫЙ РАСЧЕТ № 24780
G7: (локальная смета)
C9: на | D9: монтаж автоматической установки пожарной сигнализации и СОУЭ. Отключение вентиляции
E10: Площадка 1. Цех 005. Здание 141. Инв.№ 5700278
H11: (наименование работ и затрат, наименование объекта)
D13: Основание: проект № 24530-13-ПС Тема КПМ Т6177.005 | N13: Справочно, в тыс.руб. :
D14: Сметная стоимость _______________________________________________________________________________________________ | J14: ___________________________47,797 | L14: тыс. руб. | N14: ВСЕГО: | P14: =P15+P16+P17 -> 275.07786
D15: монтажных работ _______________________________________________________________________________________________ | J15: _______________________________________________________________________________________________37,979 | L15: тыс. руб. | N15: с К=5,56 | P15: =5.56*37.979 -> 211.16324
D16: прочих (ПНР "в холостую") _______________________________________________________________________________________________ | J16: _______________________________________________________________________________________________4,440 | L16: тыс. руб. | N16: с К=9,32 | P16: =9.32*4.44 -> 41.3808
D17: оборудования _______________________________________________________________________________________________ | J17: _______________________________________________________________________________________________5,378 | L17: тыс. руб. | N17: с К=4,19 | P17: =4.19*5.378 -> 22.53382
D18: Средства на оплату труда _______________________________________________________________________________________________ | J18: ___________________________10,461 | L18: тыс. руб. | N18: с К=5,56 | P18: =5.56*10.461 -> 58.16316
D19: Сметная трудоемкость _______________________________________________________________________________________________ | J19: _______________________________________________________________________________________________709,72 | L19: чел.час
D20: Материалы ______________________________________ | K20: =K113/1000 -> 16.291 | L20: тыс.руб. | N20: с К=5,56 | P20: =K20*5.56 -> 90.57796
D21: Составлен(а) в базовых ценах 2001г. в редакции 2009г.
A23: № пп | B23: Обоснова-ние | C23: Наименование | D23: Ед. изм. | E23: Кол. | F23: Стоимость единицы, руб. | J23: Общая стоимость, руб. | O23: Т/з осн. раб.на ед. | P23: Т/з осн. раб. Всего | Q23: Общая масса обору-дования, т
F24: Всего | G24: В том числе | J24: Обору-дование | K24: Всего | L24: В том числе
G25: Осн.З/п | H25: Эк.Маш | I25: З/пМех | L25: Осн.З/п | M25: Эк.Маш | N25: З/пМех
A26: 1 | B26: 2 | C26: 3 | D26: 4 | E26: 5 | F26: 6 | G26: 7 | H26: 8 | I26: 9 | J26: 10 | K26: 11 | L26: 12 | M26: 13 | N26: 14 | O26: 15 | P26: 16 | Q26: 17
A27: Раздел 1. Монтажные работы
A28: 1 | B28: Цена поставщика | C28: ППКОПУ 03041-4-1 "Юнитроник-496" (Ц:14240руб :1,18:4,19) | D28: шт | E28: 1 | J28: 2880 | K28: 2880
A29: 2 | B29: ТЕРм10-08-001-01 | C29: Приборы ПС приемно-контрольные, пусковые, концентратор блок базовый на 10 лучей "Юнитроник-496" | D29: 1 шт. | E29: 1 | F29: 117.52 | G29: 102.02 | H29: 0.46 | K29: 118 | L29: 102 | O29: 7.2 | P29: 7.2
A30: 3 | B30: Цена поставщика | C30: АКБ 12в 7,0 А/ч (Ц:399руб :1,18:5,56) | D30: шт. | E30: 1 | F30: 60.82 | K30: 61
A31: 4 | B31: Цена поставщика | C31: Источник питания СКАТ2400М (Ц:3175руб:1,18:4,19) | D31: 1 шт. | E31: 1 | J31: 642 | K31: 642
A32: 5 | B32: ТЕРм10-02-016-06 | C32: Монтаж: преобразователь или блок питания | D32: 1 шт. | E32: 1 | F32: 256.7 | G32: 157.76 | H32: 33.83 | I32: 6.87 | K32: 257 | L32: 158 | M32: 34 | N32: 7 | O32: 10.1 | P32: 10.1
A33: 6 | B33: Цена поставщика | C33: Метка пожарная адресная МА-7ТСН (Ц:590руб :1,18:4,19) | D33: шт | E33: 6 | J33: 716 | K33: 716
A34: 7 | B34: Цена поставщика | C34: Метка адресная управляющая "МА-4У" (Ц:3520руб :1,18:4,19) | D34: шт | E34: 2 | J34: 465 | K34: 465
A35: 8 | B35: Цена поставщика | C35: Метка адресная управляющая "МА-УОП" (Ц:1150руб :1,18:4,19) | D35: шт | E35: 1 | J35: 233 | K35: 233
A36: 9 | B36: ТЕРм10-08-003-05 прим. | C36: Монтаж: метка адресная "Юнитроник" | D36: 1 шт. | E36: 7 | F36: 86.32 | G36: 78.05 | H36: 0.37 | K36: 604 | L36: 546 | M36: 3 | O36: 5.76 | P36: 40.32
A37: 10 | B37: Цена поставщика | C37: Дымовой извещатель "ИП-212-92" (Ц:595руб :1,18:5,56) | D37: шт | E37: 21 | F37: 90.69 | K37: 1904
A38: 11 | B38: ТЕРм10-08-002-02 | C38: Извещатель ПС автоматический дымовой, фотоэлектрический, радиоизотопный, световой в нормальном исполнении | D38: 1 шт. | E38: 19 | F38: 28.38 | G38: 22.76 | H38: 0.46 | K38: 539 | L38: 432 | M38: 9 | O38: 1.68 | P38: 31.92
A39: 12 | B39: Цена поставщика | C39: Извещатель пожарный ручной "ИПР-3СУ" (Ц:171,93руб :1,18:5,56) | D39: шт | E39: 6 | F39: 26.21 | K39: 157
A40: 13 | B40: ТЕРм10-04-066-05 | C40: Монтаж: извещатель пожарный ручной | D40: 1 шт. | E40: 5 | F40: 13.89 | G40: 12.78 | K40: 69 | L40: 64 | O40: 1 | P40: 5
A41: 14 | B41: Цена поставщика | C41: Светоуказатель Выход "Люкс-24" (Ц:165руб :1,18:5,56) | D41: шт | E41: 10 | F41: 25.15 | K41: 252
A42: 15 | B42: ТЕРм10-04-066-06 | C42: Монтаж: оповещатель световой | D42: 1 шт. | E42: 9 | F42: 98.76 | G42: 74.88 | K42: 889 | L42: 674 | O42: 6 | P42: 54
A43: 16 | B43: Цена поставщика | C43: Оповещатель звуковой "Антишок" (Ц:520,20руб :1,18:5,56) | D43: шт | E43: 9 | F43: 79.26 | K43: 713
...

Sheet 24798
A1: СОГЛАСОВАНО: | E1: ФГУП "Комбинат "Электрохимприбор" | M1: УТВЕРЖДАЮ:
G2: (наименование стройки) | M2: Зам. генерального директора
M3: Е.В.Гордеев
A4: _________________ | M4: _________________
A5: " _____ " ________________ 2013 г. | M5: "______ " __________2013 г.
G6: ЛОКАЛЬНЫЙ СМЕТНЫЙ РАСЧЕТ № 24798
G7: (локальная смета)
C9: на | D9: монтаж автоматической установки пожарной сигнализации и СОУЭ.
E10: Площадка 6. Здание 714.
H11: (наименование работ и затрат, наименование объекта)
D13: Основание: проект № 24531-13-ПС Тема КПМ Т6265.015 | N13: Справочно, в тыс.руб. :
D14: Сметная стоимость _______________________________________________________________________________________________ | J14: ___________________________55,584 | L14: тыс. руб. | N14: ВСЕГО: | P14: =P15+P16+P17 -> 302.17915
D15: монтажных работ _______________________________________________________________________________________________ | J15: _______________________________________________________________________________________________36,851 | L15: тыс. руб. | N15: с К=5,56 | P15: =36.851*5.56 -> 204.89156
D16: прочих (ПНР "в холостую") _______________________________________________________________________________________________ | J16: _______________________________________________________________________________________________3,664 | L16: тыс. руб. | N16: с К=9,32 | P16: =9.32*3.664 -> 34.14848
D17: оборудования _______________________________________________________________________________________________ | J17: _______________________________________________________________________________________________15,069 | L17: тыс. руб. | N17: с К=4,19 | P17: =4.19*15.069 -> 63.13911
D18: Средства на оплату труда _______________________________________________________________________________________________ | J18: ___________________________6,794 | L18: тыс. руб. | N18: с К=5,56 | P18: =5.56*6.794 -> 37.77464
D19: Сметная трудоемкость _______________________________________________________________________________________________ | J19: _______________________________________________________________________________________________436,28 | L19: чел.час
D20: Материалы ______________________________________ | K20: =K115/1000 -> 23.825 | L20: тыс.руб. | N20: с К=5,56 | P20: =K20*5.56 -> 132.467
D21: Составлен(а) в базовых ценах 2001г. в редакции 2009г.
A23: № пп | B23: Обоснова-ние | C23: Наименование | D23: Ед. изм. | E23: Кол. | F23: Стоимость единицы, руб. | J23: Общая стоимость, руб. | O23: Т/з осн. раб.на ед. | P23: Т/з осн. раб. Всего | Q23: Общая масса обору-дования, т
F24: Всего | G24: В том числе | J24: Обору-дование | K24: Всего | L24: В том числе
G25: Осн.З/п | H25: Эк.Маш | I25: З/пМех | L25: Осн.З/п | M25: Эк.Маш | N25: З/пМех
A26: 1 | B26: 2 | C26: 3 | D26: 4 | E26: 5 | F26: 6 | G26: 7 | H26: 8 | I26: 9 | J26: 10 | K26: 11 | L26: 12 | M26: 13 | N26: 14 | O26: 15 | P26: 16 | Q26: 17
A27: Раздел 1. Монтажные работы
A28: 1 | B28: Цена поставщика | C28: Пульт контроля и управления С2000-М (Ц:6504,30руб:1,18:4,19) | D28: 1 шт. | E28: 1 | J28: 1316 | K28: 1316
A29: 2 | B29: ТЕРм10-08-001-13 | C29: Монтаж: пульт контроля и управления С2000-М | D29: 1 шт. | E29: 1 | F29: 64.92 | G29: 57.52 | H29: 0.37 | K29: 65 | L29: 58 | O29: 4 | P29: 4
A30: 3 | B30: Цена поставщика | C30: Контроль по двухпроводной линии С2000-КДЛ-2И (Ц:2168,10руб:1,18:4,19) | D30: 1 шт. | E30: 2 | J30: 877 | K30: 877
A31: 4 | B31: ТЕРм10-08-001-13 | C31: Монтаж: контроллер С2000-КДЛ-2И | D31: 1 шт. | E31: 2 | F31: 64.92 | G31: 57.52 | H31: 0.37 | K31: 130 | L31: 115 | M31: 1 | O31: 4 | P31: 8
A32: 5 | B32: Цена поставщика | C32: Адресный релейный блок на два реле С2000-СП2 (Ц:1084,16руб:1,18:4,19) | D32: 1 шт. | E32: 2 | J32: 439 | K32: 439
A33: 6 | B33: ТЕРм10-08-001-13 | C33: Монтаж: блок сигнально-пусковой С2000-СП2 | D33: 1 шт. | E33: 2 | F33: 64.92 | G33: 57.52 | H33: 0.37 | K33: 130 | L33: 115 | M33: 1 | O33: 4 | P33: 8
A34: 7 | B34: Цена поставщика | C34: Преобразователь интерфейса RS-232 – RS-485 С2000-Ethernet (Ц:3143.80руб:1,18:4,19) | D34: 1 шт. | E34: 1 | J34: 636 | K34: 636
A35: 8 | B35: ТЕРм10-08-001-13 | C35: Монтаж преобразователя интерфейсов | D35: 1 шт. | E35: 1 | F35: 64.92 | G35: 57.52 | H35: 0.37 | K35: 65 | L35: 58 | O35: 4 | P35: 4
A36: 9 | B36: Цена поставщика | C36: Источник питания СКАТ2400И7 (Ц:4752руб:1,18:4,19) | D36: 1 шт. | E36: 1 | J36: 961 | K36: 961
A37: 10 | B37: ТЕРм10-02-016-06 | C37: Монтаж: преобразователь или блок питания | D37: 1 шт. | E37: 1 | F37: 256.7 | G37: 157.76 | H37: 33.83 | I37: 6.87 | K37: 257 | L37: 158 | M37: 34 | N37: 7 | O37: 10.1 | P37: 10.1
A38: 11 | B38: Цена поставщика | C38: АКБ 12в 12,0 А/ч (Ц:1403,60руб:1,18:5.56) | D38: шт | E38: 2 | F38: 213.94 | K38: 428
A39: 12 | B39: Цена поставщика | C39: Дымовой адресно-аналоговый извещатель "ИП 212-34А" (ДИП-34А-) (Ц:770руб :1,18:5,56) | D39: шт | E39: 33 | F39: 117.36 | K39: 3873
A40: 13 | B40: ТЕРм10-08-002-02 | C40: Извещатель ПС автоматический дымовой, фотоэлектрический, радиоизотопный, световой в нормальном исполнении | D40: 1 шт. | E40: 30 | F40: 28.38 | G40: 22.76 | H40: 0.46 | K40: 851 | L40: 683 | M40: 14 | O40: 1.68 | P40: 50.4
A41: 14 | B41: Цена поставщика | C41: Извещатель пожарный тепловой адресно-аналоговый С2000-ИП-02-02 (Ц:723,25руб :1,18:5,56) | D41: шт | E41: 5 | F41: 110.24 | K41: 551
A42: 15 | B42: ТЕРм10-08-002-02 | C42: Извещатель ПС автоматический дымовой, фотоэлектрический, радиоизотопный, световой в нормальном исполнении | D42: 1 шт. | E42: 4 | F42: 28.38 | G42: 22.76 | H42: 0.46 | K42: 114 | L42: 91 | M42: 2 | O42: 1.68 | P42: 6.72
A43: 16 | B43: Цена поставщика | C43: Извещатель ручной "ИПР 513-ЗАМ" исп. 01 (Ц:600руб 1,18:5,56) | D43: шт | E43: 6 | F43: 91.45 | K43: 549
...

Sheet НМЦ
A1: г. Лесной ФГУП "Комбинат "Электрохимприбор"
A3: Расчет начальной (максимальной) цены
A5: Выполнение работ по монтажу автоматической пожарной сигнализации и системы оповещения и управления эвакуации людей при пожаре на объектах ФГУП «Комбинат «Электрохимприбор»
A8: Составлен в ценах по состоянию на 01.01.2000 г. с переводом в текущие | D8: руб.
A9: Наименование глав ССР, объектных сметных расчетов, локальных сметных расчетов, видов работ | B9: Сметная стоимость в базисных ценах на 01.01.2000 | C9: Текущая стоимость на момент определения начальной (максимальной) цены | D9: № обосновывающего расчета
A13: 1 | B13: 2 | C13: 3 | D13: 4
A14: монтаж СОУЭ, системы отключения вентиляции при пожаре. Здание 292. Инв. № 7612877. Раздел: электроснабжение огнезадерживающих клапанов. | B14: ='Сводка затрат'!H13 -> 160906 | C14: =ROUND('Сводка затрат'!E13*5.56,0)+ROUND('Сводка затрат'!F13*4.19,0)+ROUND('Сводка затрат'!G13*9.32,0) -> 731217 | D14: 23938
A15: монтаж СОУЭ, системы отключения вентиляции при пожаре. Здание 292. Инв. № 7612877. Раздел: управление пожарной автоматикой | B15: ='Сводка затрат'!H14 -> 187278 | C15: =ROUND('Сводка затрат'!E14*5.56,0)+ROUND('Сводка затрат'!F14*4.19,0)+ROUND('Сводка затрат'!G14*9.32,0) -> 1041266 | D15: 24221
A16: монтаж СОУЭ, системы отключения вентиляции при пожаре. Здание 292. Инв. № 7612877. Раздел: управление пожарной автоматикой | B16: ='Сводка затрат'!H15 -> 9494 | C16: =ROUND('Сводка затрат'!E15*5.56,0)+ROUND('Сводка затрат'!F15*4.19,0)+ROUND('Сводка затрат'!G15*9.32,0) -> 49502 | D16: 24289
A17: монтаж автоматической установки пожарной сигнализации и СОУЭ. Отключение вентсистем. Площадка 1. Здание 301 инв. №5731020 | B17: ='Сводка затрат'!H16 -> 193899 | C17: =ROUND('Сводка затрат'!E16*5.56,0)+ROUND('Сводка затрат'!F16*4.19,0)+ROUND('Сводка затрат'!G16*9.32,0) -> 983552 | D17: 24671
A18: монтаж автоматической установки пожарной сигнализации и СОУЭ. Отключение вентиляции. Площадка 1. Цех 005. Здание 141. Инв.№ 5700278 | B18: ='Сводка затрат'!H17 -> 47797 | C18: =ROUND('Сводка затрат'!E17*5.56,0)+ROUND('Сводка затрат'!F17*4.19,0)+ROUND('Сводка затрат'!G17*9.32,0) -> 275078 | D18: 24780
A19: монтаж автоматической установки пожарной сигнализации и СОУЭ. Площадка 6. Здание 714. | B19: ='Сводка затрат'!H18 -> 55584 | C19: =ROUND('Сводка затрат'!E18*5.56,0)+ROUND('Сводка затрат'!F18*4.19,0)+ROUND('Сводка затрат'!G18*9.32,0) -> 302179 | D19: 24798
A20: Итого | B20: =SUM(B14:B19) -> 654958 | C20: =SUM(C14:C19) -> 3382794
A22: НДС 18% | C22: =ROUND(C20*18%,2) -> 608902.92
A24: Всего | C24: =SUM(C20:C23) -> 3991696.9
A27: Начальник отдела
A28: капитального строительства | C28: В.В. Моляков
A30: Инженер по проектно-сметной работе | C30: Т.Ш. Ковязина
A33: Согласовано | C33: отдел 028

Sheet Сводка затрат
A1: Приложение №__ к договору от "__"______2013 №_______
A3: г. Лесной. ФГУП "Комбинат "Электрохимприбор"
A5: Сводка затрат
A7: Выполнение работ по монтажу автоматической пожарной сигнализации и системы оповещения и управления эвакуации людей при пожаре на объектах ФГУП «Комбинат «Электрохимприбор»
A9: Составлен в ценах по состоянию на 01.01.2000 г.
A10: № п/п | B10: Номера сметных расчетов и смет | C10: Наименование работ и затрат | D10: Сметная стоимость | H10: Общая сметная стоимость, руб.
D11: строительных работ | E11: монтажных работ | F11: оборудования, мебели, инвентаря | G11: прочих затрат
A12: 1 | B12: 2 | C12: 3 | D12: 4 | E12: 5 | F12: 6 | G12: 7 | H12: 8
A13: 1 | B13: 23938 | C13: монтаж СОУЭ, системы отключения вентиляции при пожаре. Здание 292. Инв. № 7612877. Раздел: электроснабжение огнезадерживающих клапанов. | D13: 0 | E13: ='23938'!K57 -> 41621 | F13: ='23938'!K58 -> 119285 | G13: 0 | H13: =SUM(D13:G13) -> 160906 | J13: =ROUND(E13*5.56,0) -> 231413 | K13: =ROUND(F13*4.19,0) -> 499804 | L13: =ROUND(G13*9.32,0) -> 0 | M13: =SUM(J13:L13) -> 731217
A14: 2 | B14: 24221 | C14: монтаж СОУЭ, системы отключения вентиляции при пожаре. Здание 292. Инв. № 7612877. Раздел: управление пожарной автоматикой | D14: 0 | E14: ='24221'!J60 -> 187278 | F14: 0 | G14: 0 | H14: =SUM(D14:G14) -> 187278 | J14: =ROUND(E14*5.56,0) -> 1041266 | K14: =ROUND(F14*4.19,0) -> 0 | L14: =ROUND(G14*9.32,0) -> 0 | M14: =SUM(J14:L14) -> 1041266
A15: 3 | B15: 24289 | C15: монтаж СОУЭ, системы отключения вентиляции при пожаре. Здание 292. Инв. № 7612877. Раздел: управление пожарной автоматикой | D15: 0 | E15: ='24289'!J59 -> 7096 | F15: ='24289'!J60 -> 2398 | G15: 0 | H15: =SUM(D15:G15) -> 9494 | J15: =ROUND(E15*5.56,0) -> 39454 | K15: =ROUND(F15*4.19,0) -> 10048 | L15: =ROUND(G15*9.32,0) -> 0 | M15: =SUM(J15:L15) -> 49502
A16: 4 | B16: 24671 | C16: монтаж автоматической установки пожарной сигнализации и СОУЭ. Отключение вентсистем. Площадка 1. Здание 301 инв. №5731020 | D16: 0 | E16: ='24671'!K123 -> 94058 | F16: ='24671'!K124 -> 91604 | G16: ='24671'!K125 -> 8237 | H16: =SUM(D16:G16) -> 193899 | J16: =ROUND(E16*5.56,0) -> 522962 | K16: =ROUND(F16*4.19,0) -> 383821 | L16: =ROUND(G16*9.32,0) -> 76769 | M16: =SUM(J16:L16) -> 983552
A17: 5 | B17: 24780 | C17: монтаж автоматической установки пожарной сигнализации и СОУЭ. Отключение вентиляции. Площадка 1. Цех 005. Здание 141. Инв.№ 5700278 | D17: 0 | E17: ='24780'!K108 -> 37979 | F17: ='24780'!K109 -> 5378 | G17: ='24780'!K110 -> 4440 | H17: =SUM(D17:G17) -> 47797 | J17: =ROUND(E17*5.56,0) -> 211163 | K17: =ROUND(F17*4.19,0) -> 22534 | L17: =ROUND(G17*9.32,0) -> 41381 | M17: =SUM(J17:L17) -> 275078
A18: 6 | B18: 24798 | C18: монтаж автоматической установки пожарной сигнализации и СОУЭ. Площадка 6. Здание 714. | D18: 0 | E18: ='24798'!K110 -> 36851 | F18: ='24798'!K111 -> 15069 | G18: ='24798'!K112 -> 3664 | H18: =SUM(D18:G18) -> 55584 | J18: =ROUND(E18*5.56,0) -> 204892 | K18: =ROUND(F18*4.19,0) -> 63139 | L18: =ROUND(G18*9.32,0) -> 34148 | M18: =SUM(J18:L18) -> 302179
C19: Итого в базисных ценах 2000 г. | D19: =SUM(D13:D18) -> 0 | E19: =SUM(E13:E18) -> 404883 | F19: =SUM(F13:F18) -> 233734 | G19: =SUM(G13:G18) -> 16341 | H19: =SUM(D19:G19) -> 654958 | J19: =SUM(J13:J18) -> 2251150 | K19: =SUM(K13:K18) -> 979346 | L19: =SUM(L13:L18) -> 152298 | M19: =SUM(M13:M18) -> 3382794
C20: Всего в ценах 2013 (Ксмр=5,56, Коб.=4,19, Кпрочие = 9,32) | D20: =ROUND(D19*5.56,0) -> 0 | E20: =ROUND(E19*5.56,0) -> 2251149 | F20: =ROUND(F19*4.19,0)+1 -> 979346 | G20: =ROUND(G19*9.32,0) -> 152298 | H20: =SUM(D20:G20) -> 3382793
C21: НДС 18% | D21: =ROUND(D20*18%,2) -> 0 | E21: =ROUND(E20*18%,2) -> 405206.82 | F21: =ROUND(F20*18%,2) -> 176282.28 | G21: =ROUND(G20*18%,2) -> 27413.64 | H21: =SUM(D21:G21) -> 608902.74
C22: Всего в ценах 2012 с НДС | D22: =SUM(D20:D21) -> 0 | E22: =SUM(E20:E21) -> 2656355.8 | F22: =SUM(F20:F21) -> 1155628.3 | G22: =SUM(G20:G21) -> 179711.64 | H22: =SUM(D22:G22) -> 3991695.7
C26: ЗАКАЗЧИК: | H26: ПОДРЯДЧИК:
C27: Генеральный директор
C28: ФГУП "Комбинат "Электрохимприбор"
C30: __________________ А.В. Новиков
