Workbook
Name аааааппппппрррппппппп: #REF!
Name аараооооооооооооо: #REF!
Name автом: #REF!
Name алшрльоплварл: #REF!
Name аолвлддддддддддддддддввввввввв: #REF!
Name апарв: #REF!
Name апрлдджаоырыфрпопрлпрлпрлп: #REF!
Name арлггаджаш: #REF!
Name ароррбллтблпроорапииас: #REF!
Name арррррблллпдрлдддддддддд: #REF!
Name варпаааааааааа: #REF!
Name ввпьььььлднд: #REF!
Name вед: #REF!
Name вертикальная: #REF!
Name вертикплан: #REF!
Name волен: #REF!
Name вп: #REF!
Name впырпфдыпл: #REF!
Name впьглорьтитттттттттт: #REF!
Name всввввввввввввввввввввввввв: #REF!
Name выб: #REF!
Name выпуск: #REF!
Name выьлепвввввпмп: #REF!
Name еваопродолжэрщэрзшщщх: #REF!
Name измен: #REF!
Name итого: #REF!
Name итого_сантех: #REF!
Name итого_стр: #REF!
Name итого_строит: #REF!
Name итого_технол: #REF!
Name итого_электр: #REF!
Name квота: #REF!
Name кккккккккк: #REF!
Name корек: #REF!
Name корект: #REF!
Name корректир: #REF!
Name лен: #REF!
Name лот: #REF!
Name мамиааааааааааааааааааааааааааааа: #REF!
Name ммпоослччччччччччрччапппппппппр: #REF!
Name мрол: #REF!
Name оз: #REF!
Name озелен: #REF!
Name озеленение: #REF!
Name озеленение2: #REF!
Name ОСР: #REF!
Name ОСР110: #REF!
Name ОСР111: #REF!
Name план: #REF!
Name планировка: #REF!
Name плдщхэж.юрббдлююбо: #REF!
Name площадки: #REF!
Name пос: #REF!
Name прав: #REF!
Name прлппппппппппппппрррррррр: #REF!
Name провбп: #REF!
Name проект: #REF!
Name пропппп: #REF!
Name рпоолллллбрюююююююююююю: #REF!
Name сааповвыыыыыеееееггггггггг: #REF!

Sheet 7087
J1: УТВЕРЖДАЮ:
J4: ________________
J5: "______ " _______________2014 г.
D6: ФГУП "Комбинат "Электрохимприбор"
E7: (наименование стройки)
D9: ЛОКАЛЬНЫЙ СМЕТНЫЙ РАСЧЕТ № 7087
D10: (локальная смета)
B12: на | C12: пусконаладочняе работы стадия "вхолостую" на электрооборудование. Конференцзал. Здание 420. (инв.
E13: (наименование работ и затрат, наименование объекта)
C15: Основание: р.д. инв.№ 24633-13-ЭМО; 24602-13-ЭО
C16: Сметная стоимость прочих _______________________________________________________________________________________________ | E16: ___________________________25,938 | G16: тыс. руб.
C17: Средства на оплату труда _______________________________________________________________________________________________ | E17: ___________________________1,207 | G17: тыс. руб.
C18: Сметная трудоемкость _______________________________________________________________________________________________ | E18: _______________________________________________________________________________________________76,16 | G18: чел.час
C19: Составлена в ценах 2001г. с переводом в текущие цены 2014г.
A22: № пп | B22: Обоснование | C22: Наименование | D22: Ед. изм. | E22: Кол. | F22: Стоимость единицы, руб. | J22: Общая стоимость, руб.
F23: Всего | G23: В том числе | J23: Всего | K23: В том числе
G24: Осн.З/п | H24: Эк.Маш. | I24: З/пМех | K24: Осн.З/п | L24: Эк.Маш. | M24: З/пМех
A25: 1 | B25: 2 | C25: 3 | D25: 4 | E25: 5 | F25: 6 | G25: 7 | H25: 8 | I25: 9 | J25: 10 | K25: 11 | L25: 12 | M25: 13
A26: Раздел 1. Новый Раздел
A27: 1 | B27: ТЕРп01-11-028-01 | C27: Измерение сопротивления изоляции мегаомметром кабельных и других линий напряжением до 1 кВ, предназначенных для передачи электроэнергии к распределительным устройствам, щитам, шкафам, коммутационным аппаратам и электропотребителям | D27: 1 линия | E27: 44 | F27: 7.22 | G27: 7.22 | J27: 318 | K27: 318
A28: 2 | B28: ТЕРп01-11-024-01 | C28: Фазировка электрической линии или трансформатора с сетью напряжением до 1 кВ | D28: 1 фазировка | E28: 1 | F28: 18.04 | G28: 18.04 | J28: 18 | K28: 18
A29: 3 | B29: ТЕРп01-11-013-01 | C29: Замер полного сопротивления цепи «фаза-нуль» | D29: 1 токоприемник | E29: 12 | F29: 27.06 | G29: 27.06 | J29: 325 | K29: 325
A30: 4 | B30: ТЕРп01-11-011-01 | C30: Проверка наличия цепи между заземлителями и заземленными элементами | D30: 100 точек | E30: 0.91 | F30: 288.64 | G30: 288.64 | J30: 263 | K30: 263
A31: 5 | B31: ТЕРп01-03-002-04 | C31: Выключатель трехполюсный напряжением до 1 кВ с электромагнитным, тепловым или комбинированным расцепителем, номинальный ток до 50 А | D31: 1 шт. | E31: 12 | F31: 26.47 | G31: 26.47 | J31: 318 | K31: 318
A32: 6 | B32: ТЕРп01-06-021-02 | C32: Схема разводки трехпроводной системы с количеством панелей (шкафов, ячеек) за каждую последующую панель (шкаф, ячейку) свыше 2 | D32: 1 схема | E32: 1 | F32: 16.15 | G32: 16.15 | J32: 16 | K32: 16
A33: Итого прямые затраты по смете в ценах 2001г. | J33: 1258 | K33: 1258
A34: Итого прямые затраты по смете с учетом коэффициентов к итогам | J34: 1207 | K34: 1207
A35: В том числе, справочно:
A36: Районный к-т 4,3% (Поз. 1-6) | J36: 54 | K36: 54
A37: Условия работ ПЗ=1,15 (ОЗП=1,15; ЭМ=1,15; ЗПМ=1,15; МАТ=1,15) (Поз. 1-6) | J37: 197 | K37: 197
A38: Стадия "вхолостую" ПЗ=0,8 (ОЗП=0,8; ЭМ=0,8; ЗПМ=0,8; МАТ=0,8) (Поз. 1-6) | J38: -302 | K38: -302
A39: Накладные расходы | J39: 785
A40: В том числе, справочно:
A41: 65% ФОТ (от 1207) (Поз. 1-6) | J41: 785
A42: Сметная прибыль | J42: 483
A43: В том числе, справочно:
A44: 40% ФОТ (от 1207) (Поз. 1-6) | J44: 483
A45: Итоги по смете:
A46: Итого | J46: 2475
A47: В том числе:
...

Sheet 7088
J1: УТВЕРЖДАЮ:
J4: ________________
J5: "______ " _______________2014 г.
D6: ФГУП "Комбинат "Электрохимприбор"
E7: (наименование стройки)
D9: ЛОКАЛЬНЫЙ СМЕТНЫЙ РАСЧЕТ № 7088
D10: (локальная смета)
B12: на | C12: пусконаладочные работы стадия "вхолостую" на электрооборудование. Пл.1 Зд.155 (инв.7311197)
E13: (наименование работ и затрат, наименование объекта)
C15: Основание: р.д. инв.№50902/ДСП
C16: Сметная стоимость прочих _______________________________________________________________________________________________ | E16: ___________________________191,836 | G16: тыс. руб.
C17: Средства на оплату труда _______________________________________________________________________________________________ | E17: ___________________________8,929 | G17: тыс. руб.
C18: Сметная трудоемкость _______________________________________________________________________________________________ | E18: _______________________________________________________________________________________________549,16 | G18: чел.час
C19: Составлена в ценах 2001г. с переводом в текущие цены 2014г.
A22: № пп | B22: Обоснование | C22: Наименование | D22: Ед. изм. | E22: Кол. | F22: Стоимость единицы, руб. | J22: Общая стоимость, руб.
F23: Всего | G23: В том числе | J23: Всего | K23: В том числе
G24: Осн.З/п | H24: Эк.Маш. | I24: З/пМех | K24: Осн.З/п | L24: Эк.Маш. | M24: З/пМех
A25: 1 | B25: 2 | C25: 3 | D25: 4 | E25: 5 | F25: 6 | G25: 7 | H25: 8 | I25: 9 | J25: 10 | K25: 11 | L25: 12 | M25: 13
A26: Раздел 1. Новый Раздел
A27: 1 | B27: ТЕРп01-11-028-01 | C27: Измерение сопротивления изоляции мегаомметром кабельных и других линий напряжением до 1 кВ, предназначенных для передачи электроэнергии к распределительным устройствам, щитам, шкафам, коммутационным аппаратам и электропотребителям | D27: 1 линия | E27: 118 | F27: 7.22 | G27: 7.22 | J27: 852 | K27: 852
A28: 2 | B28: ТЕРп01-11-024-01 | C28: Фазировка электрической линии или трансформатора с сетью напряжением до 1 кВ | D28: 1 фазировка | E28: 5 | F28: 18.04 | G28: 18.04 | J28: 90 | K28: 90
A29: 3 | B29: ТЕРп01-11-013-01 | C29: Замер полного сопротивления цепи «фаза-нуль» | D29: 1 токоприемник | E29: 43 | F29: 27.06 | G29: 27.06 | J29: 1164 | K29: 1164
A30: 4 | B30: ТЕРп01-11-011-01 | C30: Проверка наличия цепи между заземлителями и заземленными элементами | D30: 100 точек | E30: 0.61 | F30: 288.64 | G30: 288.64 | J30: 176 | K30: 176
A31: 5 | B31: ТЕРп01-11-010-02 | C31: Измерение сопротивления растеканию тока контура с диагональю до 20 м | D31: 1 измерение | E31: 1 | F31: 36.08 | G31: 36.08 | J31: 36 | K31: 36
A32: 6 | B32: ТЕРп01-06-021-01 | C32: Схема разводки трехпроводной системы с количеством панелей (шкафов, ячеек) до 2 | D32: 1 схема | E32: 5 | F32: 64.59 | G32: 64.59 | J32: 323 | K32: 323
A33: 7 | B33: ТЕРп01-05-015-01 | C33: Устройство АВР со схемой восстановления напряжения | D33: 1 устройство | E33: 2 | F33: 518.52 | G33: 518.52 | J33: 1037 | K33: 1037
A34: 8 | B34: ТЕРп01-05-015-02 | C34: Устройство АВР линии напряжением ниже 1 кВ без схемы восстановления напряжения | D34: 1 устройство | E34: 1 | F34: 268.2 | G34: 268.2 | J34: 268 | K34: 268
A35: 9 | B35: ТЕРп01-06-010-03 | C35: Выпрямительный блок питания (токовый или напряжения) для питания цепей защиты, управления и сигнализации мощностью до 1 кВА со стабилизацией выходного напряжения | D35: 1 устройство | E35: 4 | F35: 444.28 | G35: 444.28 | J35: 1777 | K35: 1777
A36: 10 | B36: ТЕРп01-03-002-04 | C36: Выключатель трехполюсный напряжением до 1 кВ с электромагнитным, тепловым или комбинированным расцепителем, номинальный ток до 50 А | D36: 1 шт. | E36: 10 | F36: 26.47 | G36: 26.47 | J36: 265 | K36: 265
A37: 11 | B37: ТЕРп01-03-002-05 | C37: Выключатель трехполюсный напряжением до 1 кВ с электромагнитным, тепловым или комбинированным расцепителем, номинальный ток до 200 А | D37: 1 шт. | E37: 2 | F37: 39.71 | G37: 39.71 | J37: 79 | K37: 79
A38: 12 | B38: ТЕРп01-03-001-01 | C38: Выключатель однополюсный напряжением до 1 кВ с электромагнитным, тепловым или комбинированным расцепителем | D38: 1 шт. | E38: 28 | F38: 19.85 | G38: 19.85 | J38: 556 | K38: 556
... A43: 17 | B43: ТЕРп01-10-002-01 | C43: Схема образования участка сигнализации (центральной, технологической, местной, аварийной, предупредительной и др.) (ППА) | D43: 1 участок | E43: 1 | F43: 477.92 | G43: 477.92 | J43: 478 | K43: 478
A44: Итого прямые затраты по смете в ценах 2001г. | J44: 9305 | K44: 9305
A45: Итого прямые затраты по смете с учетом коэффициентов к итогам | J45: 8929 | K45: 8929
A46: В том числе, справочно:
A47: Районный к-т 4,3% (Поз. 1-17) | J47: 400 | K47: 400
A48: Условия работ ПЗ=1,15 (ОЗП=1,15; ЭМ=1,15; ЗПМ=1,15; МАТ=1,15) (Поз. 1-17) | J48: 1456 | K48: 1456
A49: Стадия "вхолостую" ПЗ=0,8 (ОЗП=0,8; ЭМ=0,8; ЗПМ=0,8; МАТ=0,8) (Поз. 1-17) | J49: -2232 | K49: -2232
A50: Накладные расходы | J50: 5804
A51: В том числе, справочно:
...

Sheet 7089
J1: УТВЕРЖДАЮ:
J4: ________________
J5: "______ " _______________2014 г.
D6: ФГУП "Комбинат "Электрохимприбор"
E7: (наименование стройки)
D9: ЛОКАЛЬНЫЙ СМЕТНЫЙ РАСЧЕТ № 7089
D10: (локальная смета)
B12: на | C12: пусконаладочные работы стадия "вхолостую" на электрооборудование. Пл.1 Зд.403/1
E13: (наименование работ и затрат, наименование объекта)
C15: Основание: р.д.инв.№ 08-02367; 08-00486; 08-00485; 07-05444
C16: Сметная стоимость прочих _______________________________________________________________________________________________ | E16: ___________________________311,790 | G16: тыс. руб.
C17: Средства на оплату труда _______________________________________________________________________________________________ | E17: ___________________________14,513 | G17: тыс. руб.
C18: Сметная трудоемкость _______________________________________________________________________________________________ | E18: _______________________________________________________________________________________________860 | G18: чел.час
C19: Составлена в ценах 2001г. с переводом в текущие цены 2014 г.
A20: № пп | B20: Обоснование | C20: Наименование | D20: Ед. изм. | E20: Кол. | F20: Стоимость единицы, руб. | J20: Общая стоимость, руб.
F21: Всего | G21: В том числе | J21: Всего | K21: В том числе
G22: Осн.З/п | H22: Эк.Маш. | I22: З/пМех | K22: Осн.З/п | L22: Эк.Маш. | M22: З/пМех
A23: 1 | B23: 2 | C23: 3 | D23: 4 | E23: 5 | F23: 6 | G23: 7 | H23: 8 | I23: 9 | J23: 10 | K23: 11 | L23: 12 | M23: 13
A24: Раздел 1. Новый Раздел
A25: 1 | B25: ТЕРп01-11-028-01 | C25: Измерение сопротивления изоляции мегаомметром кабельных и других линий напряжением до 1 кВ, предназначенных для передачи электроэнергии к распределительным устройствам и электропотребителям | D25: 1 линия | E25: 97 | F25: 7.22 | G25: 7.22 | J25: 700 | K25: 700
A26: 2 | B26: ТЕРп01-11-024-01 | C26: Фазировка электрической линии или трансформатора с сетью напряжением до 1 кВ | D26: 1 фазировка | E26: 7 | F26: 18.04 | G26: 18.04 | J26: 126 | K26: 126
A27: 3 | B27: ТЕРп01-11-013-01 | C27: Замер полного сопротивления цепи «фаза-нуль» | D27: 1 токоприемник | E27: 25 | F27: 27.06 | G27: 27.06 | J27: 677 | K27: 677
A28: 4 | B28: ТЕРп01-11-011-01 | C28: Проверка наличия цепи между заземлителями и заземленными элементами | D28: 100 точек | E28: 0.85 | F28: 288.64 | G28: 288.64 | J28: 245 | K28: 245
A29: 5 | B29: ТЕРп01-11-010-03 | C29: Измерение сопротивления растеканию тока контура с диагональю до 200 м | D29: 1 измерение | E29: 1 | F29: 72.16 | G29: 72.16 | J29: 72 | K29: 72
A30: 6 | B30: ТЕРп01-06-021-02 | C30: Схема разводки трехпроводной системы с количеством панелей (шкафов, ячеек) за каждую последующую панель (шкаф, ячейку) свыше 2 | D30: 1 схема | E30: 4 | F30: 16.15 | G30: 16.15 | J30: 65 | K30: 65
A31: 7 | B31: ТЕРп01-11-028-02 | C31: Измерение сопротивления изоляции мегаомметром обмоток машин и аппаратов | D31: 1 измерение | E31: 6 | F31: 1.8 | G31: 1.8 | J31: 11 | K31: 11
A32: 8 | B32: ТЕРп01-03-002-04 | C32: Выключатель трехполюсный напряжением до 1 кВ с электромагнитным, тепловым или комбинированным расцепителем, номинальный ток до 50 А | D32: 1 шт. | E32: 13 | F32: 26.47 | G32: 26.47 | J32: 344 | K32: 344
A33: 9 | B33: ТЕРп01-03-002-04 | C33: Выключатель трехполюсный напряжением до 1 кВ с электромагнитным, тепловым или комбинированным расцепителем, номинальный ток до 50 А | D33: 1 шт. | E33: 4 | F33: 26.47 | G33: 26.47 | J33: 106 | K33: 106
A34: 10 | B34: ТЕРп01-03-001-01 | C34: Выключатель однополюсный напряжением до 1 кВ с электромагнитным, тепловым или комбинированным расцепителем | D34: 1 шт. | E34: 14 | F34: 19.85 | G34: 19.85 | J34: 278 | K34: 278
A35: 11 | B35: ТЕРп01-07-004-01 | C35: Электродвигатель переменного тока напряжением до 1 кВ однофазный | D35: 1 шт. | E35: 3 | F35: 31.82 | G35: 31.82 | J35: 95 | K35: 95
A36: 12 | B36: ТЕРп01-05-015-01 | C36: Устройство АВР со схемой восстановления напряжения | D36: 1 устройство | E36: 2 | F36: 518.52 | G36: 518.52 | J36: 1037 | K36: 1037
... A40: 16 | B40: ТЕРп01-10-002-01 | C40: Схема образования участка сигнализации (центральной, технологической, местной, аварийной, предупредительной и др.) | D40: 1 участок | E40: 1 | F40: 477.92 | G40: 477.92 | J40: 478 | K40: 478
A41: Вентиляция.
A42: 17 | B42: ТЕРп01-09-001-01 | C42: Датчик контактный механический с числом цепей управления до 2 | D42: 1 шт. | E42: 12 | F42: 37.73 | G42: 37.73 | J42: 453 | K42: 453
A43: 18 | B43: ТЕРп01-09-002-01 | C43: Датчик бесконтактный с числом «вход-выход» до 3 | D43: 1 шт. | E43: 6 | F43: 150.92 | G43: 150.92 | J43: 906 | K43: 906
A44: 19 | B44: ТЕРп01-06-010-03 | C44: Выпрямительный блок питания (токовый или напряжения) для питания цепей защиты, управления и сигнализации мощностью до 1 кВА со стабилизацией выходного напряжения | D44: 1 устройство | E44: 2 | F44: 444.28 | G44: 444.28 | J44: 889 | K44: 889
A45: 20 | B45: ТЕРп01-12-029-01 | C45: Испытание цепи вторичной коммутации | D45: 1 испытание | E45: 9 | F45: 33.95 | G45: 33.95 | J45: 306 | K45: 306
A46: 21 | B46: ТЕРп01-09-010-03 | C46: Функциональная группа управления релейно-контакторная с общим числом внешних блокировочных связей до 10 | D46: 1 шт. | E46: 5 | F46: 250.28 | G46: 250.28 | J46: 1251 | K46: 1251
A47: 22 | B47: ТЕРп01-09-010-04 | C47: Функциональная группа управления релейно-контакторная с общим числом внешних блокировочных связей до 20 | D47: 1 шт. | E47: 3 | F47: 367.07 | G47: 367.07 | J47: 1101 | K47: 1101
A48: 23 | B48: ТЕРп01-04-002-01 | C48: Максимальная токовая тепловая защита с одним реле | D48: 1 компл. | E48: 9 | F48: 53.64 | G48: 53.64 | J48: 483 | K48: 483
...

Sheet 7091
J1: УТВЕРЖДАЮ:
J4: ________________
J5: "______ " _______________2014 г.
D6: ФГУП "Комбинат "Электрохимприбор"
E7: (наименование стройки)
D9: ЛОКАЛЬНЫЙ СМЕТНЫЙ РАСЧЕТ № 7091
D10: (локальная смета)
B12: на | C12: пусконаладочные работы стадия "вхолостую" по вентиляции. Пл.1 Зд.403/1
E13: (наименование работ и затрат, наименование объекта)
C15: Основание: р.д. инв.№ 08-00545; 08-00546
C16: Сметная стоимость прочих _______________________________________________________________________________________________ | E16: ___________________________99,476 | G16: тыс. руб.
C17: Средства на оплату труда _______________________________________________________________________________________________ | E17: ___________________________4,630 | G17: тыс. руб.
C18: Сметная трудоемкость _______________________________________________________________________________________________ | E18: _______________________________________________________________________________________________272,7 | G18: чел.час
C19: Составлена в ценах 2001г. с переводом в текущие цены 2014г.
A22: № пп | B22: Обоснование | C22: Наименование | D22: Ед. изм. | E22: Кол. | F22: Стоимость единицы, руб. | J22: Общая стоимость, руб.
F23: Всего | G23: В том числе | J23: Всего | K23: В том числе
G24: Осн.З/п | H24: Эк.Маш. | I24: З/пМех | K24: Осн.З/п | L24: Эк.Маш. | M24: З/пМех
A25: 1 | B25: 2 | C25: 3 | D25: 4 | E25: 5 | F25: 6 | G25: 7 | H25: 8 | I25: 9 | J25: 10 | K25: 11 | L25: 12 | M25: 13
A26: Раздел 1. Новый Раздел
A27: 1 | B27: ТЕРп03-01-008-01 | C27: Камера оросительная, работающая по адиабатическому процессу | D27: 1 устройство | E27: 3 | F27: 185.58 | G27: 185.58 | J27: 557 | K27: 557
A28: 2 | B28: ТЕРп03-01-009-01 | C28: Отсос местный или укрытие при отсасывании воздуха в одном месте | D28: 1 устройство | E28: 3 | F28: 148.46 | G28: 148.46 | J28: 445 | K28: 445
A29: 3 | B29: ТЕРп03-01-009-02 | C29: Отсос местный или укрытие при отсасывании воздуха в нескольких местах | D29: 1 устройство | E29: 1 | F29: 204.14 | G29: 204.14 | J29: 204 | K29: 204
A30: 4 | B30: ТЕРп03-01-001-01 | C30: Шахта вытяжная (дефлектор) | D30: 1 устройство | E30: 5 | F30: 25.83 | G30: 25.83 | J30: 129 | K30: 129
A31: 5 | B31: ТЕРп03-01-011-05 | C31: Регулировочно-запорное устройство клапан обратный | D31: 1 устройство | E31: 3 | F31: 53.36 | G31: 53.36 | J31: 160 | K31: 160
A32: 6 | B32: ТЕРп03-01-011-06 | C32: Регулировочно-запорное устройство клапан огнезадерживающий | D32: 1 устройство | E32: 1 | F32: 81.95 | G32: 81.95 | J32: 82 | K32: 82
A33: 7 | B33: ТЕРп03-01-002-13 | C33: Вентилятор радиальный (центробежный), диаметральный или крышный до № 5 | D33: 1 устройство | E33: 3 | F33: 92.79 | G33: 92.79 | J33: 278 | K33: 278
A34: 8 | B34: ТЕРп03-01-060-01 | C34: Система кондиционирования воздуха | D34: 1 установка | E34: 2 | F34: 781.38 | G34: 781.38 | J34: 1563 | K34: 1563
A35: 9 | B35: ТЕРп03-01-022-01 | C35: Сеть систем вентиляции и кондиционирования воздуха при количестве сечений до 5 | D35: 1 вентиляционная сеть | E35: 8 | F35: 190.58 | G35: 190.58 | J35: 1525 | K35: 1525
A36: 10 | B36: ТЕРп03-01-028-04 | C36: Фильтр рамный и ячейковый (матерчатый, бумажный, сетчатый) масляный, фильтр-поглотитель и др. при количестве ячеек до 24 | D36: 1 устройство | E36: 2 | F36: 102.07 | G36: 102.07 | J36: 204 | K36: 204
A37: Итого прямые затраты по смете в ценах 2001г. | J37: 5147 | K37: 5147
A38: Итого прямые затраты по смете с учетом коэффициентов к итогам | J38: 4630 | K38: 4630
A39: В том числе, справочно:
A40: Районный к-т 4,3% (Поз. 1-10) | J40: 221 | K40: 221
A41: Условия работ ПЗ=1,15 (ОЗП=1,15; ЭМ=1,15; ЗПМ=1,15; МАТ=1,15) (Поз. 1-10) | J41: 805 | K41: 805
A42: Стадия "вхолостую" ПЗ=0,75 (ОЗП=0,75; ЭМ=0,75; ЗПМ=0,75; МАТ=0,75) (Поз. 1-10) | J42: -1543 | K42: -1543
A43: Накладные расходы | J43: 3010
A44: В том числе, справочно:
A45: 65% ФОТ (от 4630) (Поз. 1-10) | J45: 3010
A46: Сметная прибыль | J46: 1852
A47: В том числе, справочно:
...

Sheet 7092
J1: УТВЕРЖДАЮ:
J4: ________________
J5: "______ " _______________2014г.
D6: ФГУП "Комбинат "Электрохимприбор"
E7: (наименование стройки)
D9: ЛОКАЛЬНЫЙ СМЕТНЫЙ РАСЧЕТ № 7092
D10: (локальная смета)
B12: на | C12: пусконаладочные работы стадия "вхолостую" на электрооборудование контейнерной двух агрегатной дизельной электростанции (ДЭС), Пл.1 Зд.403/1
E13: (наименование работ и затрат, наименование объекта)
C15: Основание: рд.инв.№ 08-02367; 50902/ДСП; БКС-6 №0304
C16: Сметная стоимость прочих _______________________________________________________________________________________________ | E16: ___________________________416,947 | G16: тыс. руб.
C17: Средства на оплату труда _______________________________________________________________________________________________ | E17: ___________________________19,407 | G17: тыс. руб.
C18: Сметная трудоемкость _______________________________________________________________________________________________ | E18: _______________________________________________________________________________________________1027,08 | G18: чел.час
C19: Составлена в ценах 2001г. с переводом в текущие цены 2014г.
A22: № пп | B22: Обоснование | C22: Наименование | D22: Ед. изм. | E22: Кол. | F22: Стоимость единицы, руб. | J22: Общая стоимость, руб.
F23: Всего | G23: В том числе | J23: Всего | K23: В том числе
G24: Осн.З/п | H24: Эк.Маш. | I24: З/пМех | K24: Осн.З/п | L24: Эк.Маш. | M24: З/пМех
A25: 1 | B25: 2 | C25: 3 | D25: 4 | E25: 5 | F25: 6 | G25: 7 | H25: 8 | I25: 9 | J25: 10 | K25: 11 | L25: 12 | M25: 13
A26: Раздел 1. Новый Раздел
A27: 1 | B27: ТЕРп01-01-001-01 | C27: Генератор синхронный (компенсатор) напряжением до 1 кВ, мощностью до 100 кВт | D27: 1 шт. | E27: 2 | F27: 950.49 | G27: 950.49 | J27: 1901 | K27: 1901
A28: 2 | B28: ТЕРп01-01-013-03 | C28: Система тиристорная параллельного самовозбуждения синхронного генератора напряжением до 1 кВ, мощность генератора до 100 кВт | D28: 1 система | E28: 2 | F28: 1225.6 | G28: 1225.6 | J28: 2451 | K28: 2451
A29: 3 | B29: ТЕРп01-05-015-01 | C29: Устройство АВР со схемой восстановления напряжения | D29: 1 устройство | E29: 1 | F29: 518.52 | G29: 518.52 | J29: 519 | K29: 519
A30: 4 | B30: ТЕРп01-05-028-05 | C30: Программируемый микропроцессорный комплекс | D30: 1 устройство | E30: 2 | F30: 568.67 | G30: 568.67 | J30: 1137 | K30: 1137
A31: 5 | B31: ТЕРп01-11-011-01 | C31: Проверка наличия цепи между заземлителями и заземленными элементами | D31: 100 точек | E31: 0.18 | F31: 288.64 | G31: 288.64 | J31: 52 | K31: 52
A32: 6 | B32: ТЕРп01-11-010-02 | C32: Измерение сопротивления растеканию тока контура с диагональю до 20 м | D32: 1 измерение | E32: 1 | F32: 36.08 | G32: 36.08 | J32: 36 | K32: 36
A33: 7 | B33: ТЕРп01-11-024-01 | C33: Фазировка электрической линии или трансформатора с сетью напряжением до 1 кВ | D33: 1 фазировка | E33: 3 | F33: 18.04 | G33: 18.04 | J33: 54 | K33: 54
A34: 8 | B34: ТЕРп01-11-013-01 | C34: Замер полного сопротивления цепи «фаза-нуль» | D34: 1 токоприемник | E34: 9 | F34: 27.06 | G34: 27.06 | J34: 244 | K34: 244
A35: 9 | B35: ТЕРп01-11-028-01 | C35: Измерение сопротивления изоляции мегаомметром кабельных и других линий напряжением до 1 кВ, предназначенных для передачи электроэнергии к распределительным устройствам, щитам, шкафам, коммутационным аппаратам и электропотребителям | D35: 1 линия | E35: 8 | F35: 7.22 | G35: 7.22 | J35: 58 | K35: 58
A36: 10 | B36: ТЕРп01-11-028-02 | C36: Измерение сопротивления изоляции мегаомметром обмоток машин и аппаратов | D36: 1 измерение | E36: 12 | F36: 1.8 | G36: 1.8 | J36: 22 | K36: 22
A37: 11 | B37: ТЕРп01-13-021-04 | C37: Технологический комплекс, включающий агрегаты, связанные между собой непрерывным регулированием технологических параметров и взаимоконтролем режимов работы, в количестве до 30 шт. | D37: 1 комплекс | E37: 1 | F37: 11927.25 | G37: 11927.25 | J37: 11927 | K37: 11927
A38: 12 | B38: ТЕРп02-01-001-01 | C38: Автоматизированная система управления I категории технической сложности с количеством каналов (Кобщ) 2 | D38: 1 система | E38: 2 | F38: 267.73 | G38: 267.73 | J38: 535 | K38: 535
A39: 13 | B39: ТЕРп02-01-001-02 | C39: Автоматизированная система управления I категории технической сложности с количеством каналов (Кобщ) за каждый канал свыше 2 до 9 добавлять к расценке 02-01-001-01 | D39: 1 канал | E39: 10 | F39: 128.87 | G39: 128.87 | J39: 1289 | K39: 1289
A40: Итого прямые затраты по смете в ценах 2001г. | J40: 20225 | K40: 20225
A41: Итого прямые затраты по смете с учетом коэффициентов к итогам | J41: 19407 | K41: 19407
A42: В том числе, справочно:
A43: Районный к-т 4,3% (Поз. 1-13) | J43: 870 | K43: 870
A44: Условия работ ПЗ=1,15 (ОЗП=1,15; ЭМ=1,15; ЗПМ=1,15; МАТ=1,15) (Поз. 1-13) | J44: 3164 | K44: 3164
A45: Стадия "вхолостую" ПЗ=0,8 (ОЗП=0,8; ЭМ=0,8; ЗПМ=0,8; МАТ=0,8) (Поз. 1-13) | J45: -4852 | K45: -4852
A46: Накладные расходы | J46: 12615
A47: В том числе, справочно:
...

Sheet 7094
J1: УТВЕРЖДАЮ:
J4: ________________
J5: "______ " _______________2014 г.
D6: ФГУП "Комбинат "Электрохимприбор"
E7: (наименование стройки)
D9: ЛОКАЛЬНЫЙ СМЕТНЫЙ РАСЧЕТ № 7094
D10: (локальная смета)
B12: на | C12: пусконаладочные работы стадия "вхолостую" на электрооборудование. Пл.2 Зд.234"Г" (инв.№7401055)
E13: (наименование работ и затрат, наименование объекта)
C15: Основание: р.д инв.№ 24317-12-ЭС; 24236-12-ЭМ; 24673-13-ЭМ; 24688-13-ЭМ
C16: Сметная стоимость прочих _______________________________________________________________________________________________ | E16: ___________________________296,605 | G16: тыс. руб.
C17: Средства на оплату труда _______________________________________________________________________________________________ | E17: ___________________________13,806 | G17: тыс. руб.
C18: Сметная трудоемкость _______________________________________________________________________________________________ | E18: _______________________________________________________________________________________________943,58 | G18: чел.час
C19: Составлена в ценах 2001 г. с переводом в текущие 2014г.
A22: № пп | B22: Обоснование | C22: Наименование | D22: Ед. изм. | E22: Кол. | F22: Стоимость единицы, руб. | J22: Общая стоимость, руб.
F23: Всего | G23: В том числе | J23: Всего | K23: В том числе
G24: Осн.З/п | H24: Эк.Маш. | I24: З/пМех | K24: Осн.З/п | L24: Эк.Маш. | M24: З/пМех
A25: 1 | B25: 2 | C25: 3 | D25: 4 | E25: 5 | F25: 6 | G25: 7 | H25: 8 | I25: 9 | J25: 10 | K25: 11 | L25: 12 | M25: 13
A26: Раздел 1. Новый Раздел
A27: 1 | B27: ТЕРп01-11-028-01 | C27: Измерение сопротивления изоляции мегаомметром кабельных и других линий напряжением до 1 кВ, предназначенных для передачи электроэнергии к распределительным устройствам, щитам, шкафам, коммутационным аппаратам и электропотребителям | D27: 1 линия | E27: 79 | F27: 7.22 | G27: 7.22 | J27: 570 | K27: 570
A28: 2 | B28: ТЕРп01-11-024-01 | C28: Фазировка электрической линии или трансформатора с сетью напряжением до 1 кВ | D28: 1 фазировка | E28: 5 | F28: 18.04 | G28: 18.04 | J28: 90 | K28: 90
A29: 3 | B29: ТЕРп01-11-013-01 | C29: Замер полного сопротивления цепи «фаза-нуль» | D29: 1 токоприемник | E29: 25 | F29: 27.06 | G29: 27.06 | J29: 677 | K29: 677
A30: 4 | B30: ТЕРп01-11-011-01 | C30: Проверка наличия цепи между заземлителями и заземленными элементами | D30: 100 точек | E30: 0.35 | F30: 288.64 | G30: 288.64 | J30: 101 | K30: 101
A31: 5 | B31: ТЕРп01-11-010-03 | C31: Измерение сопротивления растеканию тока контура с диагональю до 200 м | D31: 1 измерение | E31: 1 | F31: 72.16 | G31: 72.16 | J31: 72 | K31: 72
A32: 6 | B32: ТЕРп01-12-024-01 | C32: Испытание изолятора опорного отдельного одноэлементного | D32: 1 испытание | E32: 15 | F32: 51.99 | G32: 51.99 | J32: 780 | K32: 780
A33: 7 | B33: ТЕРп01-02-017-01 | C33: Трансформатор тока измерительный выносной напряжением до 1 кВ | D33: 1 шт. | E33: 6 | F33: 25.62 | G33: 25.62 | J33: 154 | K33: 154
A34: 8 | B34: ТЕРп01-06-021-01 | C34: Схема разводки трехпроводной системы с количеством панелей (шкафов, ячеек) до 2 | D34: 1 схема | E34: 10 | F34: 64.59 | G34: 64.59 | J34: 646 | K34: 646
A35: 9 | B35: ТЕРп01-11-028-02 | C35: Измерение сопротивления изоляции мегаомметром обмоток машин и аппаратов | D35: 1 измерение | E35: 8 | F35: 1.8 | G35: 1.8 | J35: 14 | K35: 14
A36: 10 | B36: ТЕРп01-03-002-04 | C36: Выключатель трехполюсный напряжением до 1 кВ с электромагнитным, тепловым или комбинированным расцепителем, номинальный ток до 50 А | D36: 1 шт. | E36: 3 | F36: 26.47 | G36: 26.47 | J36: 79 | K36: 79
A37: 11 | B37: ТЕРп01-03-001-01 | C37: Выключатель однополюсный напряжением до 1 кВ с электромагнитным, тепловым или комбинированным расцепителем | D37: 1 шт. | E37: 18 | F37: 19.85 | G37: 19.85 | J37: 357 | K37: 357
A38: 12 | B38: ТЕРп01-03-001-02 | C38: Выключатель однополюсный напряжением до 1 кВ с устройством защитного отключения | D38: 1 шт. | E38: 1 | F38: 26.47 | G38: 26.47 | J38: 26 | K38: 26
... A52: 26 | B52: ТЕРп02-01-001-03 | C52: Автоматизированная система управления I категории технической сложности с количеством каналов (Кобщ) 10 | D52: 1 система | E52: 1 | F52: 1298.67 | G52: 1298.67 | J52: 1299 | K52: 1299
A53: Итого прямые затраты по смете в ценах 2001г. | J53: 14387 | K53: 14387
A54: Итого прямые затраты по смете с учетом коэффициентов к итогам | J54: 13806 | K54: 13806
A55: В том числе, справочно:
A56: Районный к-т 4,3% (Поз. 1-26) | J56: 619 | K56: 619
A57: Стадия "вхолостую" ОЗП=0,8 (Поз. 1-26) | J57: -3001 | K57: -3001
A58: Условия производства работ ОЗП=1,15; ТЗ=1,15 (Поз. 1-26) | J58: 1801 | K58: 1801
A59: Накладные расходы | J59: 8974
A60: В том числе, справочно:
...

Sheet 7095
J1: УТВЕРЖДАЮ:
J4: ________________
J5: "______ " _______________2014 г.
D6: ФГУП "Комбинат "Электрохимприбор"
E7: (наименование стройки)
D9: ЛОКАЛЬНЫЙ СМЕТНЫЙ РАСЧЕТ № 7095
D10: (локальная смета)
B12: на | C12: пусконаладочные работы стадия "вхолостую" по вентиляции. Пл.2 Зд.234 "Г" (инв.№ 7401055)
E13: (наименование работ и затрат, наименование объекта)
C15: Основание: р.д. инв.№ 24241-12-ОВ
C16: Сметная стоимость прочих _______________________________________________________________________________________________ | E16: ___________________________94,006 | G16: тыс. руб.
C17: Средства на оплату труда _______________________________________________________________________________________________ | E17: ___________________________4,376 | G17: тыс. руб.
C18: Сметная трудоемкость _______________________________________________________________________________________________ | E18: _______________________________________________________________________________________________296,36 | G18: чел.час
C19: Составлена в ценах 2001г. с переводом в текущие цены 2014г.
A22: № пп | B22: Обоснование | C22: Наименование | D22: Ед. изм. | E22: Кол. | F22: Стоимость единицы, руб. | J22: Общая стоимость, руб.
F23: Всего | G23: В том числе | J23: Всего | K23: В том числе
G24: Осн.З/п | H24: Эк.Маш. | I24: З/пМех | K24: Осн.З/п | L24: Эк.Маш. | M24: З/пМех
A25: 1 | B25: 2 | C25: 3 | D25: 4 | E25: 5 | F25: 6 | G25: 7 | H25: 8 | I25: 9 | J25: 10 | K25: 11 | L25: 12 | M25: 13
A26: Раздел 1. Новый Раздел
A27: 1 | B27: ТЕРп03-01-008-01 | C27: Камера оросительная. | D27: 1 устройство | E27: 1 | F27: 185.58 | G27: 185.58 | J27: 186 | K27: 186
A28: 2 | B28: ТЕРп03-01-009-01 | C28: Отсос местный или укрытие при отсасывании воздуха в одном месте | D28: 1 устройство | E28: 3 | F28: 148.46 | G28: 148.46 | J28: 445 | K28: 445
A29: 3 | B29: ТЕРп03-01-009-02 | C29: Отсос местный или укрытие при отсасывании воздуха в нескольких местах | D29: 1 устройство | E29: 1 | F29: 204.14 | G29: 204.14 | J29: 204 | K29: 204
A30: 4 | B30: ТЕРп03-01-001-01 | C30: Шахта вытяжная (дефлектор) | D30: 1 устройство | E30: 6 | F30: 25.83 | G30: 25.83 | J30: 155 | K30: 155
A31: 5 | B31: ТЕРп03-01-011-05 | C31: Регулировочно-запорное устройство клапан обратный | D31: 1 устройство | E31: 6 | F31: 53.36 | G31: 53.36 | J31: 320 | K31: 320
A32: 6 | B32: ТЕРп03-01-011-01 | C32: Регулировочно-запорное устройство клапан воздушный проходной с электрическим, пневматическим приводом | D32: 1 устройство | E32: 3 | F32: 28.59 | G32: 28.59 | J32: 86 | K32: 86
A33: 7 | B33: ТЕРп03-01-011-06 | C33: Регулировочно-запорное устройство клапан огнезадерживающий | D33: 1 устройство | E33: 5 | F33: 81.95 | G33: 81.95 | J33: 410 | K33: 410
A34: 8 | B34: ТЕРп03-01-002-13 | C34: Вентилятор радиальный (центробежный), диаметральный или крышный до № 5 | D34: 1 устройство | E34: 7 | F34: 92.79 | G34: 92.79 | J34: 650 | K34: 650
A35: 9 | B35: ТЕРп03-01-060-01 | C35: Система кондиционирования воздуха центральная с номинальной подачей по воздуху до 10 тыс. м3/ч, при количестве однотипных установок в машинном зале 1 | D35: 1 установка | E35: 1 | F35: 781.38 | G35: 781.38 | J35: 781 | K35: 781
A36: 10 | B36: ТЕРп03-01-022-01 | C36: Сеть систем вентиляции и кондиционирования воздуха при количестве сечений до 5 | D36: 1 вентиляционная сеть | E36: 8 | F36: 190.58 | G36: 190.58 | J36: 1525 | K36: 1525
A37: 11 | B37: ТЕРп03-01-028-04 | C37: Фильтр рамный и ячейковый (матерчатый, бумажный, сетчатый) масляный, фильтр-поглотитель и др. при количестве ячеек до 24 | D37: 1 устройство | E37: 1 | F37: 102.07 | G37: 102.07 | J37: 102 | K37: 102
A38: Итого прямые затраты по смете в ценах 2001г. | J38: 4864 | K38: 4864
A39: Итого прямые затраты по смете с учетом коэффициентов к итогам | J39: 4376 | K39: 4376
A40: В том числе, справочно:
A41: Районный к-т 4,3% (Поз. 1-11) | J41: 209 | K41: 209
A42: Стадия "вхолостую" ПЗ=0,75 (ОЗП=0,75; ЭМ=0,75; ЗПМ=0,75; МАТ=0,75) (Поз. 1-11) | J42: -1268 | K42: -1268
A43: Условия производства работ ОЗП=1,15; ЭМ=1,15; ЗПМ=1,15; ТЗ=1,15; ТЗМ=1,15 (Поз. 1-11) | J43: 571 | K43: 571
A44: Накладные расходы | J44: 2844
A45: В том числе, справочно:
A46: 65% ФОТ (от 4376) (Поз. 1-11) | J46: 2844
A47: Сметная прибыль | J47: 1750
...

Sheet 7096
J1: УТВЕРЖДАЮ:
J4: ________________
J5: "______ " _______________2014 г.
D6: ФГУП "Комбинат "Электрохимприбор"
E7: (наименование стройки)
D9: ЛОКАЛЬНЫЙ СМЕТНЫЙ РАСЧЕТ № 7096
D10: (локальная смета)
B12: на | C12: пусконаладочные работы стадия "вхолостую" на электрооборудование. Здание 637. Площадка 6
E13: (наименование работ и затрат, наименование объекта)
C15: Основание: р.д.инв.№ 24400-12-ЭМ; 24597-13-ЭМ
C16: Сметная стоимость прочих _______________________________________________________________________________________________ | E16: ___________________________102,673 | G16: тыс. руб.
C17: Средства на оплату труда _______________________________________________________________________________________________ | E17: ___________________________4,779 | G17: тыс. руб.
C18: Сметная трудоемкость _______________________________________________________________________________________________ | E18: _______________________________________________________________________________________________290,1 | G18: чел.час
C19: Составлена в ценах 2001г. с переводом в текущие цены 2014г.
A22: № пп | B22: Обоснование | C22: Наименование | D22: Ед. изм. | E22: Кол. | F22: Стоимость единицы, руб. | J22: Общая стоимость, руб.
F23: Всего | G23: В том числе | J23: Всего | K23: В том числе
G24: Осн.З/п | H24: Эк.Маш. | I24: З/пМех | K24: Осн.З/п | L24: Эк.Маш. | M24: З/пМех
A25: 1 | B25: 2 | C25: 3 | D25: 4 | E25: 5 | F25: 6 | G25: 7 | H25: 8 | I25: 9 | J25: 10 | K25: 11 | L25: 12 | M25: 13
A26: Раздел 1. Новый Раздел
A27: 1 | B27: ТЕРп01-11-028-01 | C27: Измерение сопротивления изоляции мегаомметром кабельных и других линий напряжением до 1 кВ, предназначенных для передачи электроэнергии к распределительным устройствам, щитам, шкафам, коммутационным аппаратам и электропотребителям | D27: 1 линия | E27: 37 | F27: 7.22 | G27: 7.22 | J27: 267 | K27: 267
A28: 2 | B28: ТЕРп01-11-024-01 | C28: Фазировка электрической линии или трансформатора с сетью напряжением до 1 кВ | D28: 1 фазировка | E28: 1 | F28: 18.04 | G28: 18.04 | J28: 18 | K28: 18
A29: 3 | B29: ТЕРп01-11-013-01 | C29: Замер полного сопротивления цепи «фаза-нуль» | D29: 1 токоприемник | E29: 10 | F29: 27.06 | G29: 27.06 | J29: 271 | K29: 271
A30: 4 | B30: ТЕРп01-03-002-04 | C30: Выключатель трехполюсный напряжением до 1 кВ с электромагнитным, тепловым или комбинированным расцепителем, номинальный ток до 50 А | D30: 1 шт. | E30: 4 | F30: 26.47 | G30: 26.47 | J30: 106 | K30: 106
A31: 5 | B31: ТЕРп01-03-001-01 | C31: Выключатель однополюсный напряжением до 1 кВ с электромагнитным, тепловым или комбинированным расцепителем | D31: 1 шт. | E31: 7 | F31: 19.85 | G31: 19.85 | J31: 139 | K31: 139
A32: 6 | B32: ТЕРп01-11-028-02 | C32: Измерение сопротивления изоляции мегаомметром обмоток машин и аппаратов | D32: 1 измерение | E32: 8 | F32: 1.8 | G32: 1.8 | J32: 14 | K32: 14
A33: 7 | B33: ТЕРп01-04-002-01 | C33: Максимальная токовая тепловая защита с одним реле | D33: 1 компл. | E33: 4 | F33: 53.64 | G33: 53.64 | J33: 215 | K33: 215
A34: 8 | B34: ТЕРп01-07-004-01 | C34: Электродвигатель переменного тока напряжением до 1 кВ однофазный | D34: 1 шт. | E34: 4 | F34: 31.82 | G34: 31.82 | J34: 127 | K34: 127
A35: 9 | B35: ТЕРп01-05-017-02 | C35: Устройство АВР электродвигателей 2 шт. | D35: 1 устройство | E35: 1 | F35: 572.16 | G35: 572.16 | J35: 572 | K35: 572
A36: 10 | B36: ТЕРп01-06-021-02 | C36: Схема разводки трехпроводной системы с количеством панелей (шкафов, ячеек) за каждую последующую панель (шкаф, ячейку) свыше 2 | D36: 1 схема | E36: 1 | F36: 16.15 | G36: 16.15 | J36: 16 | K36: 16
A37: 11 | B37: ТЕРп01-09-010-03 | C37: Функциональная группа управления релейно-контакторная с общим числом внешних блокировочных связей до 10 | D37: 1 шт. | E37: 2 | F37: 250.28 | G37: 250.28 | J37: 501 | K37: 501
A38: 12 | B38: ТЕРп01-09-010-04 | C38: Функциональная группа управления релейно-контакторная с общим числом внешних блокировочных связей до 20 | D38: 1 шт. | E38: 2 | F38: 367.07 | G38: 367.07 | J38: 734 | K38: 734
... A43: 17 | B43: ТЕРп01-06-010-03 | C43: Выпрямительный блок питания (токовый или напряжения) для питания цепей защиты, управления и сигнализации мощностью до 1 кВА со стабилизацией выходного напряжения | D43: 1 устройство | E43: 1 | F43: 444.28 | G43: 444.28 | J43: 444 | K43: 444
A44: Итого прямые затраты по смете в ценах 2001г. | J44: 4981 | K44: 4981
A45: Итого прямые затраты по смете с учетом коэффициентов к итогам | J45: 4779 | K45: 4779
A46: В том числе, справочно:
A47: Районный к-т 4,3% (Поз. 1-17) | J47: 214 | K47: 214
A48: Условия работ ПЗ=1,15 (ОЗП=1,15; ЭМ=1,15; ЗПМ=1,15; МАТ=1,15) (Поз. 1-17) | J48: 779 | K48: 779
A49: Стадия "вхолостую" ПЗ=0,8 (ОЗП=0,8; ЭМ=0,8; ЗПМ=0,8; МАТ=0,8) (Поз. 1-17) | J49: -1195 | K49: -1195
A50: Накладные расходы | J50: 3106
A51: В том числе, справочно:
...

Sheet 7098
J1: УТВЕРЖДАЮ:
J4: ________________
J5: "______ " _______________2014 г.
D6: ФГУП "Комбинат "Электрохимприбор"
E7: (наименование стройки)
D9: ЛОКАЛЬНЫЙ СМЕТНЫЙ РАСЧЕТ № 7098
D10: (локальная смета)
B12: на | C12: пусконаладочные работы стадия "вхолосту" на электрооборудование. Здание 128. Площадка 3 (инв.6400037)
E13: (наименование работ и затрат, наименование объекта)
C15: Основание: р.д.инв.№24048-11-ЭМ
C16: Сметная стоимость прочих _______________________________________________________________________________________________ | E16: ___________________________428,925 | G16: тыс. руб.
C17: Средства на оплату труда _______________________________________________________________________________________________ | E17: ___________________________19,965 | G17: тыс. руб.
C18: Сметная трудоемкость _______________________________________________________________________________________________ | E18: _______________________________________________________________________________________________1171,94 | G18: чел.час
C19: Составлена в ценах 2001г. с переводом в текущие цены 2014г.
A22: № пп | B22: Обоснование | C22: Наименование | D22: Ед. изм. | E22: Кол. | F22: Стоимость единицы, руб. | J22: Общая стоимость, руб.
F23: Всего | G23: В том числе | J23: Всего | K23: В том числе
G24: Осн.З/п | H24: Эк.Маш. | I24: З/пМех | K24: Осн.З/п | L24: Эк.Маш. | M24: З/пМех
A25: 1 | B25: 2 | C25: 3 | D25: 4 | E25: 5 | F25: 6 | G25: 7 | H25: 8 | I25: 9 | J25: 10 | K25: 11 | L25: 12 | M25: 13
A26: Раздел 1. Новый Раздел
A27: 1 | B27: ТЕРп01-11-028-01 | C27: Измерение сопротивления изоляции мегаомметром кабельных и других линий напряжением до 1 кВ, предназначенных для передачи электроэнергии к распределительным устройствам, щитам, шкафам, коммутационным аппаратам и электропотребителям | D27: 1 линия | E27: 94 | F27: 7.22 | G27: 7.22 | J27: 679 | K27: 679
A28: 2 | B28: ТЕРп01-11-024-01 | C28: Фазировка электрической линии или трансформатора с сетью напряжением до 1 кВ | D28: 1 фазировка | E28: 9 | F28: 18.04 | G28: 18.04 | J28: 162 | K28: 162
A29: 3 | B29: ТЕРп01-11-013-01 | C29: Замер полного сопротивления цепи «фаза-нуль» | D29: 1 токоприемник | E29: 28 | F29: 27.06 | G29: 27.06 | J29: 758 | K29: 758
A30: 4 | B30: ТЕРп01-11-011-01 | C30: Проверка наличия цепи между заземлителями и заземленными элементами | D30: 100 точек | E30: 0.69 | F30: 288.64 | G30: 288.64 | J30: 199 | K30: 199
A31: 5 | B31: ТЕРп01-11-010-03 | C31: Измерение сопротивления растеканию тока контура с диагональю до 200 м | D31: 1 измерение | E31: 1 | F31: 72.16 | G31: 72.16 | J31: 72 | K31: 72
A32: 6 | B32: ТЕРп01-03-002-04 | C32: Выключатель трехполюсный напряжением до 1 кВ с электромагнитным, тепловым или комбинированным расцепителем, номинальный ток до 50 А | D32: 1 шт. | E32: 19 | F32: 26.47 | G32: 26.47 | J32: 503 | K32: 503
A33: 7 | B33: ТЕРп01-03-002-05 | C33: Выключатель трехполюсный напряжением до 1 кВ с электромагнитным, тепловым или комбинированным расцепителем, номинальный ток до 200 А | D33: 1 шт. | E33: 3 | F33: 39.71 | G33: 39.71 | J33: 119 | K33: 119
A34: 8 | B34: ТЕРп01-03-001-01 | C34: Выключатель однополюсный напряжением до 1 кВ с электромагнитным, тепловым или комбинированным расцепителем | D34: 1 шт. | E34: 20 | F34: 19.85 | G34: 19.85 | J34: 397 | K34: 397
A35: 9 | B35: ТЕРп01-11-028-02 | C35: Измерение сопротивления изоляции мегаомметром обмоток машин и аппаратов | D35: 1 измерение | E35: 13 | F35: 1.8 | G35: 1.8 | J35: 23 | K35: 23
A36: 10 | B36: ТЕРп01-04-002-01 | C36: Максимальная токовая тепловая защита с одним реле | D36: 1 компл. | E36: 13 | F36: 53.64 | G36: 53.64 | J36: 697 | K36: 697
A37: 11 | B37: ТЕРп01-07-004-01 | C37: Электродвигатель переменного тока напряжением до 1 кВ однофазный | D37: 1 шт. | E37: 10 | F37: 31.82 | G37: 31.82 | J37: 318 | K37: 318
A38: 12 | B38: ТЕРп01-06-021-02 | C38: Схема разводки трехпроводной системы с количеством панелей (шкафов, ячеек) за каждую последующую панель (шкаф, ячейку) свыше 2 | D38: 1 схема | E38: 5 | F38: 16.15 | G38: 16.15 | J38: 81 | K38: 81
... A55: 29 | B55: ТЕРп01-09-010-03 | C55: Функциональная группа управления релейно-контакторная с общим числом внешних блокировочных связей до 10 | D55: 1 шт. | E55: 3 | F55: 250.28 | G55: 250.28 | J55: 751 | K55: 751
A56: Итого прямые затраты по смете в ценах 2001г. | J56: 20806 | K56: 20806
A57: Итого прямые затраты по смете с учетом коэффициентов к итогам | J57: 19965 | K57: 19965
A58: В том числе, справочно:
A59: Районный к-т 4,3% (Поз. 1-29) | J59: 895 | K59: 895
A60: Условия работ ПЗ=1,15 (ОЗП=1,15; ЭМ=1,15; ЗПМ=1,15; МАТ=1,15) (Поз. 1-29) | J60: 3255 | K60: 3255
A61: Стадия "вхолостую" ПЗ=0,8 (ОЗП=0,8; ЭМ=0,8; ЗПМ=0,8; МАТ=0,8) (Поз. 1-29) | J61: -4991 | K61: -4991
A62: Накладные расходы | J62: 12977
A63: В том числе, справочно:
...

Sheet 7099
J1: УТВЕРЖДАЮ:
J4: ________________
J5: "______ " _______________2014 г.
D6: ФГУП "Комбинат "Электрохимприбор"
E7: (наименование стройки)
D9: ЛОКАЛЬНЫЙ СМЕТНЫЙ РАСЧЕТ № 7099
D10: (локальная смета)
B12: на | C12: пусконаладочные работы стадия "вхолосту" на электрооборудование. Здание 129. Площадка 3 (инв.6200035)
E13: (наименование работ и затрат, наименование объекта)
C15: Основание: р.д.инв.№16152-ЭМ; 16152-АВС;
C16: Сметная стоимость прочих _______________________________________________________________________________________________ | E16: ___________________________140,778 | G16: тыс. руб.
C17: Средства на оплату труда _______________________________________________________________________________________________ | E17: ___________________________6,553 | G17: тыс. руб.
C18: Сметная трудоемкость _______________________________________________________________________________________________ | E18: _______________________________________________________________________________________________379,42 | G18: чел.час
C19: Составлена в ценах 2001г. С переводом в текущие цены 2014г.
A22: № пп | B22: Обоснование | C22: Наименование | D22: Ед. изм. | E22: Кол. | F22: Стоимость единицы, руб. | J22: Общая стоимость, руб.
F23: Всего | G23: В том числе | J23: Всего | K23: В том числе
G24: Осн.З/п | H24: Эк.Маш. | I24: З/пМех | K24: Осн.З/п | L24: Эк.Маш. | M24: З/пМех
A25: 1 | B25: 2 | C25: 3 | D25: 4 | E25: 5 | F25: 6 | G25: 7 | H25: 8 | I25: 9 | J25: 10 | K25: 11 | L25: 12 | M25: 13
A26: Раздел 1. Новый Раздел
A27: 1 | B27: ТЕРп01-11-028-01 | C27: Измерение сопротивления изоляции мегаомметром кабельных и других линий напряжением до 1 кВ, предназначенных для передачи электроэнергии к распределительным устройствам, щитам, шкафам, коммутационным аппаратам и электропотребителям | D27: 1 линия | E27: 68 | F27: 7.22 | G27: 7.22 | J27: 491 | K27: 491
A28: 2 | B28: ТЕРп01-11-024-01 | C28: Фазировка электрической линии или трансформатора с сетью напряжением до 1 кВ | D28: 1 фазировка | E28: 5 | F28: 18.04 | G28: 18.04 | J28: 90 | K28: 90
A29: 3 | B29: ТЕРп01-11-013-01 | C29: Замер полного сопротивления цепи «фаза-нуль» | D29: 1 токоприемник | E29: 13 | F29: 27.06 | G29: 27.06 | J29: 352 | K29: 352
A30: 4 | B30: ТЕРп01-11-011-01 | C30: Проверка наличия цепи между заземлителями и заземленными элементами | D30: 100 точек | E30: 0.47 | F30: 288.64 | G30: 288.64 | J30: 136 | K30: 136
A31: 5 | B31: ТЕРп01-03-002-04 | C31: Выключатель трехполюсный напряжением до 1 кВ с электромагнитным, тепловым или комбинированным расцепителем, номинальный ток до 50 А | D31: 1 шт. | E31: 5 | F31: 26.47 | G31: 26.47 | J31: 132 | K31: 132
A32: 6 | B32: ТЕРп01-03-002-05 | C32: Выключатель трехполюсный напряжением до 1 кВ с электромагнитным, тепловым или комбинированным расцепителем, номинальный ток до 200 А | D32: 1 шт. | E32: 2 | F32: 39.71 | G32: 39.71 | J32: 79 | K32: 79
A33: 7 | B33: ТЕРп01-03-001-02 | C33: Выключатель однополюсный напряжением до 1 кВ с устройством защитного отключения | D33: 1 шт. | E33: 16 | F33: 26.47 | G33: 26.47 | J33: 424 | K33: 424
A34: 8 | B34: ТЕРп01-11-028-02 | C34: Измерение сопротивления изоляции мегаомметром обмоток машин и аппаратов | D34: 1 измерение | E34: 12 | F34: 1.8 | G34: 1.8 | J34: 22 | K34: 22
A35: 9 | B35: ТЕРп01-04-002-01 | C35: Максимальная токовая тепловая защита с одним реле | D35: 1 компл. | E35: 2 | F35: 53.64 | G35: 53.64 | J35: 107 | K35: 107
A36: 10 | B36: ТЕРп01-06-021-02 | C36: Схема разводки трехпроводной системы с количеством панелей (шкафов, ячеек) за каждую последующую панель (шкаф, ячейку) свыше 2 | D36: 1 схема | E36: 5 | F36: 16.15 | G36: 16.15 | J36: 81 | K36: 81
A37: 11 | B37: ТЕРп01-06-010-03 | C37: Выпрямительный блок питания (токовый или напряжения) для питания цепей защиты, управления и сигнализации мощностью до 1 кВА со стабилизацией выходного напряжения | D37: 1 устройство | E37: 1 | F37: 444.28 | G37: 444.28 | J37: 444 | K37: 444
A38: 12 | B38: ТЕРп01-05-017-02 | C38: Устройство АВР электродвигателей 2 шт. | D38: 1 устройство | E38: 1 | F38: 572.16 | G38: 572.16 | J38: 572 | K38: 572
... A43: 16 | B43: ТЕРп01-09-002-01 | C43: Датчик бесконтактный с числом «вход-выход» до 3 | D43: 1 шт. | E43: 6 | F43: 150.92 | G43: 150.92 | J43: 906 | K43: 906
A44: Итого прямые затраты по смете в ценах 2001г. | J44: 6829 | K44: 6829
A45: Итого прямые затраты по смете с учетом коэффициентов к итогам | J45: 6553 | K45: 6553
A46: В том числе, справочно:
A47: Районный к-т 4,3% (Поз. 1-13, 17, 14-16) | J47: 294 | K47: 294
A48: Условия работ ПЗ=1,15 (ОЗП=1,15; ЭМ=1,15; ЗПМ=1,15; МАТ=1,15) (Поз. 1-13, 17, 14-16) | J48: 1068 | K48: 1068
A49: Стадия "вхолостую" ПЗ=0,8 (ОЗП=0,8; ЭМ=0,8; ЗПМ=0,8; МАТ=0,8) (Поз. 1-13, 17, 14-16) | J49: -1638 | K49: -1638
A50: Накладные расходы | J50: 4259
A51: В том числе, справочно:
...

Sheet 7106
J1: УТВЕРЖДАЮ:
J4: ________________
J5: "______ " _______________2014 г.
D6: ФГУП "Комбинат "Электрохимприбор"
E7: (наименование стройки)
D9: ЛОКАЛЬНЫЙ СМЕТНЫЙ РАСЧЕТ № 7106
D10: (локальная смета)
B12: на | C12: пусконаладочные работы стадия "вхолостую" по вентиляции. Здание 128. Площадка 3 (инв.6400037)
E13: (наименование работ и затрат, наименование объекта)
C15: Основание: р.д.инв.№ 309-1784
C16: Сметная стоимость прочих _______________________________________________________________________________________________ | E16: ___________________________179,480 | G16: тыс. руб.
C17: Средства на оплату труда _______________________________________________________________________________________________ | E17: ___________________________8,354 | G17: тыс. руб.
C18: Сметная трудоемкость _______________________________________________________________________________________________ | E18: _______________________________________________________________________________________________489,6 | G18: чел.час
C19: Составлена в ценах 2001г. с переводом в текущие цены 2014г.
A22: № пп | B22: Обоснование | C22: Наименование | D22: Ед. изм. | E22: Кол. | F22: Стоимость единицы, руб. | J22: Общая стоимость, руб.
F23: Всего | G23: В том числе | J23: Всего | K23: В том числе
G24: Осн.З/п | H24: Эк.Маш. | I24: З/пМех | K24: Осн.З/п | L24: Эк.Маш. | M24: З/пМех
A25: 1 | B25: 2 | C25: 3 | D25: 4 | E25: 5 | F25: 6 | G25: 7 | H25: 8 | I25: 9 | J25: 10 | K25: 11 | L25: 12 | M25: 13
A26: Раздел 1. Новый Раздел
A27: 1 | B27: ТЕРп03-01-001-01 | C27: Шахта вытяжная (дефлектор) | D27: 1 устройство | E27: 7 | F27: 25.83 | G27: 25.83 | J27: 181 | K27: 181
A28: 2 | B28: ТЕРп03-01-002-13 | C28: Вентилятор радиальный (центробежный), диаметральный или крышный до № 5 | D28: 1 устройство | E28: 8 | F28: 92.79 | G28: 92.79 | J28: 742 | K28: 742
A29: 3 | B29: ТЕРп03-01-009-02 | C29: Отсос местный или укрытие при отсасывании воздуха в нескольких местах | D29: 1 устройство | E29: 3 | F29: 204.14 | G29: 204.14 | J29: 612 | K29: 612
A30: 4 | B30: ТЕРп03-01-011-01 | C30: Регулировочно-запорное устройство клапан воздушный проходной с электрическим, пневматическим приводом | D30: 1 устройство | E30: 5 | F30: 28.59 | G30: 28.59 | J30: 143 | K30: 143
A31: 5 | B31: ТЕРп03-01-011-03 | C31: Регулировочно-запорное устройство регулятор расхода воздуха | D31: 1 устройство | E31: 9 | F31: 163.9 | G31: 163.9 | J31: 1475 | K31: 1475
A32: 6 | B32: ТЕРп03-01-011-05 | C32: Регулировочно-запорное устройство клапан обратный | D32: 1 устройство | E32: 1 | F32: 53.36 | G32: 53.36 | J32: 53 | K32: 53
A33: 7 | B33: ТЕРп03-01-011-06 | C33: Регулировочно-запорное устройство клапан огнезадерживающий | D33: 1 устройство | E33: 1 | F33: 81.95 | G33: 81.95 | J33: 82 | K33: 82
A34: 8 | B34: ТЕРп03-01-011-07 | C34: Регулировочно-запорное устройство аппарат направляющий | D34: 1 устройство | E34: 1 | F34: 53.36 | G34: 53.36 | J34: 53 | K34: 53
A35: 9 | B35: ТЕРп03-01-022-01 | C35: Сеть систем вентиляции и кондиционирования воздуха при количестве сечений до 5 | D35: 1 вентиляционная сеть | E35: 11 | F35: 190.58 | G35: 190.58 | J35: 2096 | K35: 2096
A36: 10 | B36: ТЕРп03-01-022-02 | C36: Сеть систем вентиляции и кондиционирования воздуха при количестве сечений до 10 | D36: 1 вентиляционная сеть | E36: 1 | F36: 266.81 | G36: 266.81 | J36: 267 | K36: 267
A37: 11 | B37: ТЕРп03-01-022-05 | C37: Сеть систем вентиляции и кондиционирования воздуха при количестве сечений до 30 | D37: 1 вентиляционная сеть | E37: 1 | F37: 667.03 | G37: 667.03 | J37: 667 | K37: 667
A38: 12 | B38: ТЕРп03-01-060-02 | C38: Система кондиционирования воздуха центральная с номинальной подачей по воздуху до 10 тыс. м3/ч, при количестве однотипных установок в машинном зале до 5 | D38: 1 установка | E38: 3 | F38: 724.2 | G38: 724.2 | J38: 2173 | K38: 2173
A39: 13 | B39: ТЕРп03-01-065-01 | C39: Узел технологический регулирования или защиты по параметрам температуры, относительной влажности, давления или расхода | D39: 1 узел | E39: 3 | F39: 247.75 | G39: 247.75 | J39: 743 | K39: 743
A40: Итого прямые затраты по смете в ценах 2001г. | J40: 9287 | K40: 9287
A41: Итого прямые затраты по смете с учетом коэффициентов к итогам | J41: 8354 | K41: 8354
A42: В том числе, справочно:
A43: Районный к-т 4,3% (Поз. 1-13) | J43: 399 | K43: 399
A44: Условия работ ПЗ=1,15 (ОЗП=1,15; ЭМ=1,15; ЗПМ=1,15; МАТ=1,15) (Поз. 1-13) | J44: 1453 | K44: 1453
A45: Стадия "вхолостую" ПЗ=0,75 (ОЗП=0,75; ЭМ=0,75; ЗПМ=0,75; МАТ=0,75) (Поз. 1-13) | J45: -2785 | K45: -2785
A46: Накладные расходы | J46: 5430
A47: В том числе, справочно:
...

Sheet 7107
J1: УТВЕРЖДАЮ:
J4: ________________
J5: "______ " _______________2014 г.
D6: ФГУП "Комбинат "Электрохимприбор"
E7: (наименование стройки)
D9: ЛОКАЛЬНЫЙ СМЕТНЫЙ РАСЧЕТ № 7107
D10: (локальная смета)
B12: на | C12: пусконаладочные работы стадия "вхолостую" по вентиляции. Здание 637. Площадка 6.
E13: (наименование работ и затрат, наименование объекта)
C15: Основание: р.д.инв.№24381-12ОВ
C16: Сметная стоимость прочих _______________________________________________________________________________________________ | E16: ___________________________40,285 | G16: тыс. руб.
C17: Средства на оплату труда _______________________________________________________________________________________________ | E17: ___________________________1,875 | G17: тыс. руб.
C18: Сметная трудоемкость _______________________________________________________________________________________________ | E18: _______________________________________________________________________________________________109,6 | G18: чел.час
C19: Составлена в ценах 2001г. с переводом втекущие цены 2014г.
A22: № пп | B22: Обоснование | C22: Наименование | D22: Ед. изм. | E22: Кол. | F22: Стоимость единицы, руб. | J22: Общая стоимость, руб.
F23: Всего | G23: В том числе | J23: Всего | K23: В том числе
G24: Осн.З/п | H24: Эк.Маш. | I24: З/пМех | K24: Осн.З/п | L24: Эк.Маш. | M24: З/пМех
A25: 1 | B25: 2 | C25: 3 | D25: 4 | E25: 5 | F25: 6 | G25: 7 | H25: 8 | I25: 9 | J25: 10 | K25: 11 | L25: 12 | M25: 13
A26: Раздел 1. Новый Раздел
A27: 1 | B27: ТЕРп03-01-001-01 | C27: Шахта вытяжная (дефлектор) | D27: 1 устройство | E27: 1 | F27: 25.83 | G27: 25.83 | J27: 26 | K27: 26
A28: 2 | B28: ТЕРп03-01-011-05 | C28: Регулировочно-запорное устройство клапан обратный | D28: 1 устройство | E28: 2 | F28: 53.36 | G28: 53.36 | J28: 107 | K28: 107
A29: 3 | B29: ТЕРп03-01-011-01 | C29: Регулировочно-запорное устройство клапан воздушный проходной с электрическим, пневматическим приводом | D29: 1 устройство | E29: 1 | F29: 28.59 | G29: 28.59 | J29: 29 | K29: 29
A30: 4 | B30: ТЕРп03-01-011-06 | C30: Регулировочно-запорное устройство клапан огнезадерживающий | D30: 1 устройство | E30: 2 | F30: 81.95 | G30: 81.95 | J30: 164 | K30: 164
A31: 5 | B31: ТЕРп03-01-002-13 | C31: Вентилятор радиальный (центробежный), диаметральный или крышный до № 5 | D31: 1 устройство | E31: 1 | F31: 92.79 | G31: 92.79 | J31: 93 | K31: 93
A32: 6 | B32: ТЕРп03-01-060-01 | C32: Система кондиционирования воздуха центральная с номинальной подачей по воздуху до 10 тыс. м3/ч, при количестве однотипных установок в машинном зале 1 | D32: 1 установка | E32: 2 | F32: 781.38 | G32: 781.38 | J32: 1563 | K32: 1563
A33: 7 | B33: ТЕРп03-01-028-04 | C33: Фильтр рамный и ячейковый (матерчатый, бумажный, сетчатый) масляный, фильтр-поглотитель и др. при количестве ячеек до 24 | D33: 1 устройство | E33: 1 | F33: 102.07 | G33: 102.07 | J33: 102 | K33: 102
A34: Итого прямые затраты по смете в ценах 2001г. | J34: 2084 | K34: 2084
A35: Итого прямые затраты по смете с учетом коэффициентов к итогам | J35: 1875 | K35: 1875
A36: В том числе, справочно:
A37: Районный к-т 4,3% (Поз. 1-7) | J37: 90 | K37: 90
A38: Условия работ ПЗ=1,15 (ОЗП=1,15; ЭМ=1,15; ЗПМ=1,15; МАТ=1,15) (Поз. 1-7) | J38: 326 | K38: 326
A39: Стадия "вхолостую" ПЗ=0,75 (ОЗП=0,75; ЭМ=0,75; ЗПМ=0,75; МАТ=0,75) (Поз. 1-7) | J39: -625 | K39: -625
A40: Накладные расходы | J40: 1219
A41: В том числе, справочно:
A42: 65% ФОТ (от 1875) (Поз. 1-7) | J42: 1219
A43: Сметная прибыль | J43: 750
A44: В том числе, справочно:
A45: 40% ФОТ (от 1875) (Поз. 1-7) | J45: 750
A46: Итоги по смете:
A47: Итого | J47: 3844
...

Sheet СМР
A1: Расчет начальной (максимальной) цены на
A2: выполнение пусконаладочных работ на объектах ФГУП "Комбинат "Электрохимприбор"
A4: Наименование глав ССР, объектный сметных расчетов, локальных сметных расчетов, видов прочих работ | B4: Сметная стоимость строительства в базисном уровне цен на 01.01.2000г. по ССР | F4: Остаток сметной стоимости в базисном уровне цен на 01.01.2014 | J4: Сметная стоимость строительства в базисном уровне цен на 01.01.2000г., выставленная на конкурс | N4: Текущая стоимость на момент определения начальной (максимальной) цены | O4: № обосновывающего расчета | P4: 2014 год
B5: Всего | C5: СМР | D5: Оборудование | E5: Прочие | F5: Всего | G5: СМР | H5: Оборудование | I5: Прочие | J5: Всего | K5: СМР | L5: Оборудование | M5: Прочие | P5: СМР | Q5: Оборудование | R5: Прочие
A6: 1 | B6: 2 | C6: 3 | D6: 4 | E6: 5 | F6: 6 | G6: 7 | H6: 8 | I6: 9 | J6: 10 | K6: 11 | L6: 12 | M6: 13 | N6: 14 | O6: 15 | P6: 16 | Q6: 17 | R6: 18
A7: Пусконаладочняе работы стадия "вхолостую" на электрооборудование. Конференцзал. Здание 420. | B7: =SUM(C7:E7) -> 2475 | C7: 0 | D7: 0 | E7: ='7087'!J46 -> 2475 | F7: =SUM(G7:I7) -> 2475 | G7: =C7 -> 0 | H7: =D7 -> 0 | I7: =E7 -> 2475 | J7: =SUM(K7:M7) -> 2475 | K7: =P7 -> 0 | L7: =Q7 -> 0 | M7: =R7 -> 2475 | N7: =SUM(P7:R7) -> 2475 | O7: 7087 | P7: =G7 -> 0 | Q7: =H7 -> 0 | R7: =I7 -> 2475
A8: Пусконаладочные работы стадия "вхолостую" на электрооборудование. Пл.1 Зд.155 (инв.7311197) | B8: =SUM(C8:E8) -> 18305 | C8: 0 | D8: 0 | E8: ='7088'!J57 -> 18305 | F8: =SUM(G8:I8) -> 18305 | G8: =C8 -> 0 | H8: =D8 -> 0 | I8: =E8 -> 18305 | J8: =SUM(K8:M8) -> 18305 | K8: =P8 -> 0 | L8: =Q8 -> 0 | M8: =R8 -> 18305 | N8: =SUM(P8:R8) -> 18305 | O8: 7088 | P8: =G8 -> 0 | Q8: =H8 -> 0 | R8: =I8 -> 18305
A9: Пусконаладочные работы стадия "вхолостую" на электрооборудование. Пл.1 Зд.403/1 | B9: =SUM(C9:E9) -> 29751 | C9: 0 | D9: 0 | E9: ='7089'!J69 -> 29751 | F9: =SUM(G9:I9) -> 29751 | G9: =C9 -> 0 | H9: =D9 -> 0 | I9: =E9 -> 29751 | J9: =SUM(K9:M9) -> 29751 | K9: =P9 -> 0 | L9: =Q9 -> 0 | M9: =R9 -> 29751 | N9: =SUM(P9:R9) -> 29751 | O9: 7089 | P9: =G9 -> 0 | Q9: =H9 -> 0 | R9: =I9 -> 29751
A10: Пусконаладочные работы стадия "вхолостую" по вентиляции. Пл.1 Зд.403/1 | B10: =SUM(C10:E10) -> 9492 | C10: 0 | D10: 0 | E10: ='7091'!J50 -> 9492 | F10: =SUM(G10:I10) -> 9492 | G10: =C10 -> 0 | H10: =D10 -> 0 | I10: =E10 -> 9492 | J10: =SUM(K10:M10) -> 9492 | K10: =P10 -> 0 | L10: =Q10 -> 0 | M10: =R10 -> 9492 | N10: =SUM(P10:R10) -> 9492 | O10: 7091 | P10: =G10 -> 0 | Q10: =H10 -> 0 | R10: =I10 -> 9492
A11: Пусконаладочные работы стадия "вхолостую" на электрооборудование контейнерной двух агрегатной дизельной электростанции (ДЭС), Пл.1 Зд.403/1 | B11: =SUM(C11:E11) -> 39785 | C11: 0 | D11: 0 | E11: ='7092'!J53 -> 39785 | F11: =SUM(G11:I11) -> 39785 | G11: =C11 -> 0 | H11: =D11 -> 0 | I11: =E11 -> 39785 | J11: =SUM(K11:M11) -> 39785 | K11: =P11 -> 0 | L11: =Q11 -> 0 | M11: =R11 -> 39785 | N11: =SUM(P11:R11) -> 39785 | O11: 7092 | P11: =G11 -> 0 | Q11: =H11 -> 0 | R11: =I11 -> 39785
A12: Пусконаладочные работы стадия "вхолостую" на электрооборудование. Пл.2 Зд.234"Г" (инв.№7401055) | B12: =SUM(C12:E12) -> 28302 | C12: 0 | D12: 0 | E12: ='7094'!J66 -> 28302 | F12: =SUM(G12:I12) -> 28302 | G12: =C12 -> 0 | H12: =D12 -> 0 | I12: =E12 -> 28302 | J12: =SUM(K12:M12) -> 28302 | K12: =P12 -> 0 | L12: =Q12 -> 0 | M12: =R12 -> 28302 | N12: =SUM(P12:R12) -> 28302 | O12: 7094 | P12: =G12 -> 0 | Q12: =H12 -> 0 | R12: =I12 -> 28302
A13: Пусконаладочные работы стадия "вхолостую" по вентиляции. Пл.2 Зд.234 "Г" (инв.№ 7401055) | B13: =SUM(C13:E13) -> 8970 | C13: 0 | D13: 0 | E13: ='7095'!J51 -> 8970 | F13: =SUM(G13:I13) -> 8970 | G13: =C13 -> 0 | H13: =D13 -> 0 | I13: =E13 -> 8970 | J13: =SUM(K13:M13) -> 8970 | K13: =P13 -> 0 | L13: =Q13 -> 0 | M13: =R13 -> 8970 | N13: =SUM(P13:R13) -> 8970 | O13: 7095 | P13: =G13 -> 0 | Q13: =H13 -> 0 | R13: =I13 -> 8970
