Workbook

Sheet Смета 12 гр. по ФЕР
A1: =Source!B1 -> Smeta.RU (495) 974-1589 | I1: Приложение 1 к форме 7
B4: =CONCATENATE( "ЛОКАЛЬНАЯ СМЕТА ",IF(Source!F20<>"Новая локальная смета", Source!F20, "")) -> ЛОКАЛЬНАЯ СМЕТА
B6: =IF(Source!G12<>"Новый объект", Source!G12, "") -> Капитальный ремонт лестницы лабораторного корпуса "А" НИЯУ МИФИ по адресу:г. Москва, каширское шоссе, д.31, стр.2 | AD6: =IF(Source!G12<>"Новый объект", Source!G12, "") -> Капитальный ремонт лестницы лабораторного корпуса "А" НИЯУ МИФИ по адресу:г. Москва, каширское шоссе, д.31, стр.2
B7: на капитальный ремонт лестниц лабораторного корпуса «А» НИЯУ МИФИ по адресу: г. Москва, Каширское шоссе, д.31, стр. 2
G9: базовая цена | I9: текущая цена
C10: Сметная стоимость | G10: =SUM(O18:O653)/1000 -> 194.84512 | I10: =(Source!P521/1000) -> 1502.1553 | K10: тыс. руб.
C11: Строительные работы | G11: =SUM(W18:W653)/1000 -> 194.84512 | I11: =(Source!P507)/1000 -> 194.94839 | K11: тыс. руб.
C12: Нормативная трудоемкость | G12: =I12 -> 3047.9015 | I12: =(Source!P512+Source!P513) -> 3047.9015 | K12: чел. -ч.
C13: Средства на оплату труда | G13: =SUM(R18:R653)/1000 -> 26.73073 | I13: =((Source!P505 + Source!P504)/1000) -> 26.73073 | K13: тыс. руб.
A15: Составлена в ценах I квартал 2018 года
A16: № п/п | B16: Шифр расценки и коды ресурсов | C16: Наименование работ и затрат | D16: Ед. изм. | E16: Кол-во единиц | F16: Цена на ед. изм. | G16: Попра-вочные коэфф. | H16: Стоимость в ценах 2001г. | I16: Пункт коэфф. пересчета | J16: Коэфф. пересчета | K16: Стоимость в текущих ценах | L16: ЗТР всего чел.-час
A17: 1 | B17: 2 | C17: 3 | D17: 4 | E17: 5 | F17: 6 | G17: 7 | H17: 8 | I17: 9 | J17: 10 | K17: 11 | L17: 12
A19: =CONCATENATE("Раздел: ",IF(Source!G24<>"Новый раздел", Source!G24, "")) -> Раздел: Лестница "А"
A21: =CONCATENATE("Подраздел: ",IF(Source!G28<>"Новый подраздел", Source!G28, "")) -> Подраздел: Общестроительные работы
A22: =Source!E33 -> 1 | B22: =Source!F33 -> 57-2-3 | C22: =Source!G33 -> Разборка покрытий полов из керамических плиток | D22: =Source!H33 -> 100 м2 | E22: =Source!I33 -> 0.4457 | F22: =Source!AL33+Source!AM33+Source!AO33 -> 641 | I22: =Source!BO33 | S22: =ROUND((Source!FX33/100)*((ROUND(Source!AF33*Source!I33, 2)+ROUND(Source!AE33*Source!I33, 2))), 2) -> 252.35 | T22: =Source!X33 -> 252.35 | U22: =ROUND((Source!FY33/100)*((ROUND(Source!AF33*Source!I33, 2)+ROUND(Source!AE33*Source!I33, 2))), 2) -> 214.5 | V22: =Source!Y33 -> 214.5
C23: ="Объем: "&Source!I33&"=44,57/"&"100" -> Объем: 0,4457=44,57/100
C24: Зарплата | F24: =Source!AO33 -> 595.99 | G24: =Source!DG33 -> )*1,15 | H24: =ROUND(Source!AF33*Source!I33, 2) -> 305.48 | J24: =IF(Source!BA33<> 0, Source!BA33, 1) -> 1 | K24: =Source!S33 -> 305.48 | R24: =H24 -> 305.48
C25: Эксплуатация машин | F25: =Source!AM33 -> 45.01 | G25: =Source!DE33 -> )*1,15 | H25: =ROUND(Source!AD33*Source!I33, 2) -> 23.07 | J25: =IF(Source!BB33<> 0, Source!BB33, 1) -> 1 | K25: =Source!Q33 -> 23.07
C26: в т.ч. зарплата машинистов | F26: =Source!AN33 -> 19.44 | G26: =Source!DF33 -> )*1,15 | H26: =ROUND(Source!AE33*Source!I33, 2) -> 9.96 | J26: =IF(Source!BS33<> 0, Source!BS33, 1) -> 1 | K26: =Source!R33 -> 9.96 | R26: =H26 -> 9.96
C27: НР от ФОТ | D27: % | E27: =Source!BZ33 -> 80 | H27: =SUM(S22:S30) -> 252.35 | J27: =Source!AT33 -> 80 | K27: =SUM(T22:T30) -> 252.35
C28: СП от ФОТ | D28: % | E28: =Source!CA33 -> 68 | H28: =SUM(U22:U30) -> 214.5 | J28: =Source!AU33 -> 68 | K28: =SUM(V22:V30) -> 214.5
C29: Затраты труда | D29: чел-ч | E29: =Source!AQ33 -> 69.87 | G29: =Source!DI33 -> )*1,15 | L29: =Source!U33 -> 35.812218
A30: =Source!E35 -> 1,1 | B30: =Source!F35 -> 01.7.07.07 | C30: =Source!G35 -> Строительный мусор | D30: =Source!H35 -> т | E30: =Source!I35 -> 2.31764 | F30: =Source!AL35+Source!AM35+Source!AO35 -> 0 | H30: =ROUND(Source!AC35*Source!I35, 2)+ROUND(Source!AD35*Source!I35, 2)+ROUND(Source!AF35*Source!I35, 2) -> 0 | J30: =IF(Source!BC35<> 0, Source!BC35, 1) -> 1 | K30: =Source!O35 -> 0 | S30: =ROUND((Source!FX35/100)*((ROUND(Source!AF35*Source!I35, 2)+ROUND(Source!AE35*Source!I35, 2))), 2) -> 0 | T30: =Source!X35 -> 0 | U30: =ROUND((Source!FY35/100)*((ROUND(Source!AF35*Source!I35, 2)+ROUND(Source!AE35*Source!I35, 2))), 2) -> 0 | V30: =Source!Y35 -> 0 | W30: =IF(Source!BI35<=1,H30, 0) -> 0 | X30: =IF(Source!BI35=2,H30, 0) -> 0 | Y30: =IF(Source!BI35=3,H30, 0) -> 0 | Z30: =IF(Source!BI35=4,H30, 0) -> 0
G31: =H24+H25+H27+H28+SUM(H30:H30) -> 795.4 | J31: =K24+K25+K27+K28+SUM(K30:K30) -> 795.4 | L31: =Source!U33 -> 35.812218 | O31: =G31 -> 795.4 | P31: =J31 -> 795.4 | Q31: =L31 -> 35.812218 | W31: =IF(Source!BI33<=1,H24+H25+H27+H28, 0) -> 795.4 | X31: =IF(Source!BI33=2,H24+H25+H27+H28, 0) -> 0 | Y31: =IF(Source!BI33=3,H24+H25+H27+H28, 0) -> 0 | Z31: =IF(Source!BI33=4,H24+H25+H27+H28, 0) -> 0
A32: =Source!E37 -> 2 | B32: =Source!F37 -> 59-4-3 | C32: =Source!G37 -> Разборка поручней поливинилхлоридных | D32: =Source!H37 -> 100 м | E32: =Source!I37 -> 0.33 | F32: =Source!AL37+Source!AM37+Source!AO37 -> 27.45 | I32: =Source!BO37 | S32: =ROUND((Source!FX37/100)*((ROUND(Source!AF37*Source!I37, 2)+ROUND(Source!AE37*Source!I37, 2))), 2) -> 7.92 | T32: =Source!X37 -> 7.92 | U32: =ROUND((Source!FY37/100)*((ROUND(Source!AF37*Source!I37, 2)+ROUND(Source!AE37*Source!I37, 2))), 2) -> 6.25 | V32: =Source!Y37 -> 6.25
C33: ="Объем: "&Source!I37&"=33/"&"100" -> Объем: 0,33=33/100
C34: Зарплата | F34: =Source!AO37 -> 27.45 | G34: =Source!DG37 -> )*1,15 | H34: =ROUND(Source!AF37*Source!I37, 2) -> 10.42 | J34: =IF(Source!BA37<> 0, Source!BA37, 1) -> 1 | K34: =Source!S37 -> 10.42 | R34: =H34 -> 10.42
C35: НР от ФОТ | D35: % | E35: =Source!BZ37 -> 76 | H35: =SUM(S32:S38) -> 7.92 | J35: =Source!AT37 -> 76 | K35: =SUM(T32:T38) -> 7.92
C36: СП от ФОТ | D36: % | E36: =Source!CA37 -> 60 | H36: =SUM(U32:U38) -> 6.25 | J36: =Source!AU37 -> 60 | K36: =SUM(V32:V38) -> 6.25
C37: Затраты труда | D37: чел-ч | E37: =Source!AQ37 -> 3.36 | G37: =Source!DI37 -> )*1,15 | L37: =Source!U37 -> 1.27512
A38: =Source!E39 -> 2,1 | B38: =Source!F39 -> 01.7.07.07 | C38: =Source!G39 -> Строительный мусор | D38: =Source!H39 -> т | E38: =Source!I39 -> 0.0231 | F38: =Source!AL39+Source!AM39+Source!AO39 -> 0 | H38: =ROUND(Source!AC39*Source!I39, 2)+ROUND(Source!AD39*Source!I39, 2)+ROUND(Source!AF39*Source!I39, 2) -> 0 | J38: =IF(Source!BC39<> 0, Source!BC39, 1) -> 1 | K38: =Source!O39 -> 0 | S38: =ROUND((Source!FX39/100)*((ROUND(Source!AF39*Source!I39, 2)+ROUND(Source!AE39*Source!I39, 2))), 2) -> 0 | T38: =Source!X39 -> 0 | U38: =ROUND((Source!FY39/100)*((ROUND(Source!AF39*Source!I39, 2)+ROUND(Source!AE39*Source!I39, 2))), 2) -> 0 | V38: =Source!Y39 -> 0 | W38: =IF(Source!BI39<=1,H38, 0) -> 0 | X38: =IF(Source!BI39=2,H38, 0) -> 0 | Y38: =IF(Source!BI39=3,H38, 0) -> 0 | Z38: =IF(Source!BI39=4,H38, 0) -> 0
G39: =H34+H35+H36+SUM(H38:H38) -> 24.59 | J39: =K34+K35+K36+SUM(K38:K38) -> 24.59 | L39: =Source!U37 -> 1.27512 | O39: =G39 -> 24.59 | P39: =J39 -> 24.59 | Q39: =L39 -> 1.27512 | W39: =IF(Source!BI37<=1,H34+H35+H36, 0) -> 24.59 | X39: =IF(Source!BI37=2,H34+H35+H36, 0) -> 0 | Y39: =IF(Source!BI37=3,H34+H35+H36, 0) -> 0 | Z39: =IF(Source!BI37=4,H34+H35+H36, 0) -> 0
A40: =Source!E41 -> 3 | B40: =Source!F41 -> 10-01-059-01 | C40: =Source!G41 -> Демонтаж шкафов пожарных прим. | D40: =Source!H41 -> 100 ШТ | E40: =Source!I41 -> 0.05 | F40: =Source!AL41+Source!AM41+Source!AO41 -> 2452.44 | I40: =Source!BO41 | S40: =ROUND((Source!FX41/100)*((ROUND(Source!AF41*Source!I41, 2)+ROUND(Source!AE41*Source!I41, 2))), 2) -> 37.55 | T40: =Source!X41 -> 37.48 | U40: =ROUND((Source!FY41/100)*((ROUND(Source!AF41*Source!I41, 2)+ROUND(Source!AE41*Source!I41, 2))), 2) -> 18.94 | V40: =Source!Y41 -> 19.09
C41: ="Объем: "&Source!I41&"=5/"&"100" -> Объем: 0,05=5/100
C42: Зарплата | F42: =Source!AO41 -> 602.7 | G42: =Source!DG41 -> )*0,8)*1,35 | H42: =ROUND(Source!AF41*Source!I41, 2) -> 32.55 | J42: =IF(Source!BA41<> 0, Source!BA41, 1) -> 1 | K42: =Source!S41 -> 32.55 | R42: =H42 -> 32.55
C43: Эксплуатация машин | F43: =Source!AM41 -> 216.38 | G43: =Source!DE41 -> )*0,8)*1,35 | H43: =ROUND(Source!AD41*Source!I41, 2) -> 11.68 | J43: =IF(Source!BB41<> 0, Source!BB41, 1) -> 1 | K43: =Source!Q41 -> 11.68
C44: в т.ч. зарплата машинистов | F44: =Source!AN41 -> 52.01 | G44: =Source!DF41 -> )*0,8)*1,35 | H44: =ROUND(Source!AE41*Source!I41, 2) -> 2.81 | J44: =IF(Source!BS41<> 0, Source!BS41, 1) -> 1 | K44: =Source!R41 -> 2.81 | R44: =H44 -> 2.81
C45: НР от ФОТ | D45: % | E45: =Source!BZ41 -> 118 | F45: =CONCATENATE(" )", Source!DL41, Source!FT41, "=", Source!FX41) -> )*0,9=106,2 | H45: =SUM(S40:S47) -> 37.55 | J45: =Source!AT41 -> 106 | K45: =SUM(T40:T47) -> 37.48
C46: СП от ФОТ | D46: % | E46: =Source!CA41 -> 63 | F46: =CONCATENATE(" )", Source!DM41, Source!FU41, "=", Source!FY41) -> )*0,85=53,55 | H46: =SUM(U40:U47) -> 18.94 | J46: =Source!AU41 -> 54 | K46: =SUM(V40:V47) -> 19.09
C47: Затраты труда | D47: чел-ч | E47: =Source!AQ41 -> 75.15 | G47: =Source!DI41 -> )*0,8)*1,35 | L47: =Source!U41 -> 4.0581
...

Sheet Source
A1: 0 | B1: Smeta.RU (495) 974-1589 | D1: _PS_ | F1: 0 | G1: 0 | H1: 0 | I1: Smeta.RU | J1: НИЯУ МИФИ Доп. раб. место MCCS-0016187 | K1: 0 | L1: 16187 | M1: 10
A12: 1 | B12: 585 | C12: 0 | D12: =ROW(A523) -> 523 | E12: 0 | F12: Новый объект | G12: Капитальный ремонт лестницы лабораторного корпуса "А" НИЯУ МИФИ по адресу:г. Москва, каширское шоссе, д.31, стр.2 | I12: 0 | K12: 0 | O12: 0 | P12: 0 | Q12: 2 | R12: 0 | S12: 0 | V12: 0 | BH12: Сметные нормы списания | BI12: Коды ценников | BJ12: 1 | BK12: 1 | BL12: 0 | BM12: 0 | BN12: 1 | BO12: 0 | BP12: 6 | BQ12: 2 | BR12: 1 | BS12: 1 | BT12: 0 | BU12: 0 | BV12: 1 | BW12: 0 | BX12: 0 | BY12: ФЕР-2017 | BZ12: ТР для Версии 10: Центральные регионы (с учетом п-ма 2536-ИП/12/ГС от 22.03.2017 г | CA12: ФЕР-2017 | CB12: ФЕР-2017 | CC12: ФЕР-2017 | CD12: ФЕР-2017 | CE12: Поправки для ГСН 2017 от 31.03.2017 г | CF12: 0 | CG12: 0 | CH12: 524288 | CK12: 4 | EC12: 0
A15: 15 | B15: 1
A18: 52 | B18: =B523 -> 585 | C18: =C523 -> 1 | D18: =D523 -> 12 | E18: =E523 -> 0 | F18: =F523 -> Новый объект | G18: =G523 -> Капитальный ремонт лестницы лабораторного корпуса "А" НИЯУ МИФИ по адресу:г. Москва, каширское шоссе, д.31, стр.2 | O18: =O523 -> 154703.36 | P18: =P523 -> 126164.9 | Q18: =Q523 -> 2201.4 | R18: =R523 -> 393.67 | S18: =S523 -> 26337.06 | T18: =T523 -> 0 | U18: =U523 -> 3013.8013 | V18: =V523 -> 34.100203 | ... GX18: =GX523 -> 0
A20: 3 | B20: 1 | D20: =ROW(A490) -> 490 | F20: Новая локальная смета | G20: Новая локальная смета | I20: 0 | K20: 0 | V20: 0 | BX20: 0 | CF20: 0 | CG20: 0
A22: 52 | B22: =B490 -> 1 | C22: =C490 -> 3 | D22: =D490 -> 20 | E22: =E490 -> 0 | F22: =F490 -> Новая локальная смета | G22: =G490 -> Новая локальная смета | O22: =O490 -> 154703.36 | P22: =P490 -> 126164.9 | Q22: =Q490 -> 2201.4 | R22: =R490 -> 393.67 | S22: =S490 -> 26337.06 | T22: =T490 -> 0 | U22: =U490 -> 3013.8013 | V22: =V490 -> 34.100203 | ... GX22: =GX490 -> 0
A24: 4 | B24: 1 | D24: =ROW(A224) -> 224 | F24: Новый раздел | G24: Лестница "А" | I24: 0 | K24: -1 | V24: 0 | BX24: 0 | CJ24: 0
A26: 52 | B26: =B224 -> 1 | C26: =C224 -> 4 | D26: =D224 -> 24 | E26: =E224 -> 0 | F26: =F224 -> Новый раздел | G26: =G224 -> Лестница "А" | O26: =O224 -> 75082.97 | P26: =P224 -> 60923.84 | Q26: =Q224 -> 1057.17 | R26: =R224 -> 189.75 | S26: =S224 -> 13101.96 | T26: =T224 -> 0 | U26: =U224 -> 1499.6526 | V26: =V224 -> 16.462533 | ... GX26: =GX224 -> 0
A28: 5 | B28: 1 | D28: =ROW(A157) -> 157 | F28: Новый подраздел | G28: Общестроительные работы | I28: 0 | K28: 0 | V28: 0 | BX28: 0 | CJ28: 0
A30: 52 | B30: =B157 -> 1 | C30: =C157 -> 5 | D30: =D157 -> 28 | E30: =E157 -> 0 | F30: =F157 -> Новый подраздел | G30: =G157 -> Общестроительные работы | O30: =O157 -> 74896.99 | P30: =P157 -> 60923.84 | Q30: =Q157 -> 1056.88 | R30: =R157 -> 189.63 | S30: =S157 -> 12916.27 | T30: =T157 -> 0 | U30: =U157 -> 1480.3188 | V30: =V157 -> 16.453333 | ... GX30: =GX157 -> 0
A32: 17 | B32: 1 | C32: =ROW(SmtRes!A4) -> 4 | D32: =ROW(EtalonRes!A4) -> 4 | E32: 1 | F32: 57-2-3 | G32: Разборка покрытий полов из керамических плиток | H32: 100 м2 | I32: =ROUND(44.57/100,9) -> 0.4457 | J32: 0 | O32: =ROUND(CP32,2) -> 328.55 | P32: =ROUND(CQ32*I32,2) -> 0 | Q32: =ROUND(CR32*I32,2) -> 23.07 | R32: =ROUND(CS32*I32,2) -> 9.96 | S32: =ROUND(CT32*I32,2) -> 305.48 | T32: =ROUND(CU32*I32,2) -> 0 | U32: =CV32*I32 -> 35.812218 | V32: =CW32*I32 -> 0.7380792 | W32: =ROUND(CX32*I32,2) -> 0 | X32: =ROUND(CY32,2) -> 252.35 | Y32: =ROUND(CZ32,2) -> 214.5 | AA32: 27703374 | AB32: =ROUND((AC32+AD32+AF32),6) -> 737.15 | AC32: =ROUND((ES32),6) -> 0 | AD32: =ROUND(((((ET32*1.15))-((EU32*1.15)))+AE32),6) -> 51.7615 | AE32: =ROUND(((EU32*1.15)),6) -> 22.356 | AF32: =ROUND(((EV32*1.15)),6) -> 685.3885 | AG32: =ROUND((AP32),6) -> 0 | AH32: =((EW32*1.15)) -> 80.3505 | AI32: =((EX32*1.15)) -> 1.656 | AJ32: =ROUND((AS32),6) -> 0 | AK32: 641 | AL32: 0 | AM32: 45.01 | AN32: 19.44 | AO32: 595.99 | AP32: 0 | AQ32: 69.87 | AR32: 1.44 | AS32: 0 | AT32: 80 | AU32: 68 | AV32: 1 | AW32: 1 | AZ32: 1 | BA32: 1 | BB32: 1 | BC32: 1 | BH32: 0 | BI32: 1 | BJ32: ФЕРр-2001, 57-2-3, приказ Минстроя России №1039/пр от 30.12.2016г. | BM32: 57001 | BN32: 0 | BP32: 0 | BQ32: 6 | BR32: 0 | BS32: 1 | BT32: 1 | BU32: 1 | BV32: 1 | BW32: 1 | BX32: 1 | BZ32: 80 | CA32: 68 | CF32: 0 | CG32: 0 | CM32: 0 | CN32: Поправка: МДС 81-36.2004, прил.3, п.3р Наименование: Производство строительных и других работ в существующих зданиях и сооружениях в стесненных условиях: с наличием в зоне производства работ действующего технологического оборудования (станков, установок, кранов и т.п.) или загромождающих предметов (лабораторное оборудование, мебель и т. п.), или движения транспорта по внутрицеховым путям | CO32: 0 | CP32: =(P32+Q32+S32) -> 328.55 | CQ32: =AC32*BC32 -> 0 | CR32: =AD32*BB32 -> 51.7615 | CS32: =AE32*BS32 -> 22.356 | CT32: =AF32*BA32 -> 685.3885 | CU32: =AG32 -> 0 | CV32: =AH32 -> 80.3505 | CW32: =AI32 -> 1.656 | CX32: =AJ32 -> 0 | CY32: =(((S32+R32)*AT32)/100) -> 252.352 | CZ32: =(((S32+R32)*AU32)/100) -> 214.4992 | DE32: )*1,15 | DF32: )*1,15 | DG32: )*1,15 | DI32: )*1,15 | DJ32: )*1,15 | DN32: 0 | DO32: 0 | DP32: 1 | DQ32: 1 | DU32: 1005 | DV32: 100 м2 | DW32: 100 м2 | DX32: 100 | EE32: 27029102 | EF32: 6 | EG32: Ремонтно-строительные работы | EH32: 0 | EJ32: 1 | EK32: 57001 | EL32: Полы | EM32: рФЕР-57 | EO32: Поправка: МДС 81-36.2004, прил.3, п.3р | EQ32: 0 | ER32: 641 | ES32: 0 | ET32: 45.01 | EU32: 19.44 | EV32: 595.99 | EW32: 69.87 | EX32: 1.44 | EY32: 0 | FQ32: 0 | FR32: =ROUND(IF(AND(BH32=3,BI32=3),P32,0),2) -> 0 | FS32: 0 | FX32: 80 | FY32: 68 | GD32: 0 | GF32: -1405612292 | GG32: 2 | GH32: 1 | GI32: -2 | GJ32: 0 | GK32: =ROUND(R32*(R12)/100,2) -> 0 | GL32: =ROUND(IF(AND(BH32=3,BI32=3,FS32<>0),P32,0),2) -> 0 | GM32: =ROUND(O32+X32+Y32+GK32,2)+GX32 -> 795.4 | GN32: =IF(OR(BI32=0,BI32=1),ROUND(O32+X32+Y32+GK32,2),0) -> 795.4 | GO32: =IF(BI32=2,ROUND(O32+X32+Y32+GK32,2),0) -> 0 | GP32: =IF(BI32=4,ROUND(O32+X32+Y32+GK32,2)+GX32,0) -> 0 | GR32: 0 | GS32: 3 | GT32: 0 | GV32: =ROUND(GT32,6) -> 0 | GW32: 1 | GX32: =ROUND(GV32*GW32*I32,2) -> 0 | HA32: 0 | HB32: 0 | IK32: 0
A33: 17 | B33: 1 | C33: =ROW(SmtRes!A8) -> 8 | D33: =ROW(EtalonRes!A8) -> 8 | E33: 1 | F33: 57-2-3 | G33: Разборка покрытий полов из керамических плиток | H33: 100 м2 | I33: =ROUND(44.57/100,9) -> 0.4457 | J33: 0 | O33: =ROUND(CP33,2) -> 328.55 | P33: =ROUND(CQ33*I33,2) -> 0 | Q33: =ROUND(CR33*I33,2) -> 23.07 | R33: =ROUND(CS33*I33,2) -> 9.96 | S33: =ROUND(CT33*I33,2) -> 305.48 | T33: =ROUND(CU33*I33,2) -> 0 | U33: =CV33*I33 -> 35.812218 | V33: =CW33*I33 -> 0.7380792 | W33: =ROUND(CX33*I33,2) -> 0 | X33: =ROUND(CY33,2) -> 252.35 | Y33: =ROUND(CZ33,2) -> 214.5 | AA33: 27703388 | AB33: =ROUND((AC33+AD33+AF33),6) -> 737.15 | AC33: =ROUND((ES33),6) -> 0 | AD33: =ROUND(((((ET33*1.15))-((EU33*1.15)))+AE33),6) -> 51.7615 | AE33: =ROUND(((EU33*1.15)),6) -> 22.356 | AF33: =ROUND(((EV33*1.15)),6) -> 685.3885 | AG33: =ROUND((AP33),6) -> 0 | AH33: =((EW33*1.15)) -> 80.3505 | AI33: =((EX33*1.15)) -> 1.656 | AJ33: =ROUND((AS33),6) -> 0 | AK33: 641 | AL33: 0 | AM33: 45.01 | AN33: 19.44 | AO33: 595.99 | AP33: 0 | AQ33: 69.87 | AR33: 1.44 | AS33: 0 | AT33: 80 | AU33: 68 | AV33: 1 | AW33: 1 | AZ33: 1 | BA33: 1 | BB33: 1 | BC33: 1 | BH33: 0 | BI33: 1 | BJ33: ФЕРр-2001, 57-2-3, приказ Минстроя России №1039/пр от 30.12.2016г. | BM33: 57001 | BN33: 0 | BP33: 0 | BQ33: 6 | BR33: 0 | BS33: 1 | BT33: 1 | BU33: 1 | BV33: 1 | BW33: 1 | BX33: 1 | BZ33: 80 | CA33: 68 | CF33: 0 | CG33: 0 | CM33: 0 | CN33: Поправка: МДС 81-36.2004, прил.3, п.3р Наименование: Производство строительных и других работ в существующих зданиях и сооружениях в стесненных условиях: с наличием в зоне производства работ действующего технологического оборудования (станков, установок, кранов и т.п.) или загромождающих предметов (лабораторное оборудование, мебель и т. п.), или движения транспорта по внутрицеховым путям | CO33: 0 | CP33: =(P33+Q33+S33) -> 328.55 | CQ33: =AC33*BC33 -> 0 | CR33: =AD33*BB33 -> 51.7615 | CS33: =AE33*BS33 -> 22.356 | CT33: =AF33*BA33 -> 685.3885 | CU33: =AG33 -> 0 | CV33: =AH33 -> 80.3505 | CW33: =AI33 -> 1.656 | CX33: =AJ33 -> 0 | CY33: =(((S33+R33)*AT33)/100) -> 252.352 | CZ33: =(((S33+R33)*AU33)/100) -> 214.4992 | DE33: )*1,15 | DF33: )*1,15 | DG33: )*1,15 | DI33: )*1,15 | DJ33: )*1,15 | DN33: 0 | DO33: 0 | DP33: 1 | DQ33: 1 | DU33: 1005 | DV33: 100 м2 | DW33: 100 м2 | DX33: 100 | EE33: 27029102 | EF33: 6 | EG33: Ремонтно-строительные работы | EH33: 0 | EJ33: 1 | EK33: 57001 | EL33: Полы | EM33: рФЕР-57 | EO33: Поправка: МДС 81-36.2004, прил.3, п.3р | EQ33: 0 | ER33: 641 | ES33: 0 | ET33: 45.01 | EU33: 19.44 | EV33: 595.99 | EW33: 69.87 | EX33: 1.44 | EY33: 0 | FQ33: 0 | FR33: =ROUND(IF(AND(BH33=3,BI33=3),P33,0),2) -> 0 | FS33: 0 | FX33: 80 | FY33: 68 | GD33: 0 | GF33: -1405612292 | GG33: 1 | GH33: 1 | GI33: -2 | GJ33: 0 | GK33: =ROUND(R33*(S12)/100,2) -> 0 | GL33: =ROUND(IF(AND(BH33=3,BI33=3,FS33<>0),P33,0),2) -> 0 | GM33: =ROUND(O33+X33+Y33+GK33,2)+GX33 -> 795.4 | GN33: =IF(OR(BI33=0,BI33=1),ROUND(O33+X33+Y33+GK33,2),0) -> 795.4 | GO33: =IF(BI33=2,ROUND(O33+X33+Y33+GK33,2),0) -> 0 | GP33: =IF(BI33=4,ROUND(O33+X33+Y33+GK33,2)+GX33,0) -> 0 | GR33: 0 | GS33: 3 | GT33: 0 | GV33: =ROUND(GT33,6) -> 0 | GW33: 1 | GX33: =ROUND(GV33*GW33*I33,2) -> 0 | HA33: 0 | HB33: 0 | IK33: 0
A34: 18 | B34: 1 | C34: 4 | E34: 1,1 | F34: 01.7.07.07 | G34: Строительный мусор | H34: т | I34: =I32*J34 -> 2.31764 | J34: 5.2 | O34: =ROUND(CP34,2) -> 0 | P34: =ROUND(CQ34*I34,2) -> 0 | Q34: =ROUND(CR34*I34,2) -> 0 | R34: =ROUND(CS34*I34,2) -> 0 | S34: =ROUND(CT34*I34,2) -> 0 | T34: =ROUND(CU34*I34,2) -> 0 | U34: =CV34*I34 -> 0 | V34: =CW34*I34 -> 0 | W34: =ROUND(CX34*I34,2) -> 0 | X34: =ROUND(CY34,2) -> 0 | Y34: =ROUND(CZ34,2) -> 0 | AA34: 27703374 | AB34: =ROUND((AC34+AD34+AF34),6) -> 0 | AC34: =ROUND((ES34),6) -> 0 | AD34: =ROUND((((ET34)-(EU34))+AE34),6) -> 0 | AE34: =ROUND((EU34),6) -> 0 | AF34: =ROUND((EV34),6) -> 0 | AG34: =ROUND((AP34),6) -> 0 | AH34: =(EW34) -> 0 | AI34: =(EX34) -> 0 | AJ34: =ROUND((AS34),6) -> 0 | AK34: 0 | AL34: 0 | AM34: 0 | AN34: 0 | AO34: 0 | AP34: 0 | AQ34: 0 | AR34: 0 | AS34: 0 | AT34: 80 | AU34: 68 | AV34: 1 | AW34: 1 | AZ34: 1 | BA34: 1 | BB34: 1 | BC34: 1 | BH34: 3 | BI34: 1 | BM34: 57001 | BN34: 0 | BP34: 0 | BQ34: 6 | BR34: 0 | BS34: 1 | BT34: 1 | BU34: 1 | BV34: 1 | BW34: 1 | BX34: 1 | BZ34: 80 | CA34: 68 | CF34: 0 | CG34: 0 | CM34: 0 | CO34: 0 | CP34: =(P34+Q34+S34) -> 0 | CQ34: =AC34*BC34 -> 0 | CR34: =AD34*BB34 -> 0 | CS34: =AE34*BS34 -> 0 | CT34: =AF34*BA34 -> 0 | CU34: =AG34 -> 0 | CV34: =AH34 -> 0 | CW34: =AI34 -> 0 | CX34: =AJ34 -> 0 | CY34: =(((S34+R34)*AT34)/100) -> 0 | CZ34: =(((S34+R34)*AU34)/100) -> 0 | DN34: 0 | DO34: 0 | DP34: 1 | DQ34: 1 | DU34: 1009 | DV34: т | DW34: т | DX34: 1000 | EE34: 27029102 | EF34: 6 | EG34: Ремонтно-строительные работы | EH34: 0 | EJ34: 1 | EK34: 57001 | EL34: Полы | EM34: рФЕР-57 | EQ34: 0 | ER34: 0 | ES34: 0 | ET34: 0 | EU34: 0 | EV34: 0 | EW34: 0 | EX34: 0 | FQ34: 0 | FR34: =ROUND(IF(AND(BH34=3,BI34=3),P34,0),2) -> 0 | FS34: 0 | FX34: 80 | FY34: 68 | GD34: 0 | GF34: -179832266 | GG34: 2 | GH34: 1 | GI34: -2 | GJ34: 0 | GK34: =ROUND(R34*(R12)/100,2) -> 0 | GL34: =ROUND(IF(AND(BH34=3,BI34=3,FS34<>0),P34,0),2) -> 0 | GM34: =ROUND(O34+X34+Y34+GK34,2)+GX34 -> 0 | GN34: =IF(OR(BI34=0,BI34=1),ROUND(O34+X34+Y34+GK34,2),0) -> 0 | GO34: =IF(BI34=2,ROUND(O34+X34+Y34+GK34,2),0) -> 0 | GP34: =IF(BI34=4,ROUND(O34+X34+Y34+GK34,2)+GX34,0) -> 0 | GR34: 0 | GS34: 3 | GT34: 0 | GV34: =ROUND(GT34,6) -> 0 | GW34: 1 | GX34: =ROUND(GV34*GW34*I34,2) -> 0 | HA34: 0 | HB34: 0 | IK34: 0
A35: 18 | B35: 1 | C35: 8 | E35: 1,1 | F35: 01.7.07.07 | G35: Строительный мусор | H35: т | I35: =I33*J35 -> 2.31764 | J35: 5.2 | O35: =ROUND(CP35,2) -> 0 | P35: =ROUND(CQ35*I35,2) -> 0 | Q35: =ROUND(CR35*I35,2) -> 0 | R35: =ROUND(CS35*I35,2) -> 0 | S35: =ROUND(CT35*I35,2) -> 0 | T35: =ROUND(CU35*I35,2) -> 0 | U35: =CV35*I35 -> 0 | V35: =CW35*I35 -> 0 | W35: =ROUND(CX35*I35,2) -> 0 | X35: =ROUND(CY35,2) -> 0 | Y35: =ROUND(CZ35,2) -> 0 | AA35: 27703388 | AB35: =ROUND((AC35+AD35+AF35),6) -> 0 | AC35: =ROUND((ES35),6) -> 0 | AD35: =ROUND((((ET35)-(EU35))+AE35),6) -> 0 | AE35: =ROUND((EU35),6) -> 0 | AF35: =ROUND((EV35),6) -> 0 | AG35: =ROUND((AP35),6) -> 0 | AH35: =(EW35) -> 0 | AI35: =(EX35) -> 0 | AJ35: =ROUND((AS35),6) -> 0 | AK35: 0 | AL35: 0 | AM35: 0 | AN35: 0 | AO35: 0 | AP35: 0 | AQ35: 0 | AR35: 0 | AS35: 0 | AT35: 80 | AU35: 68 | AV35: 1 | AW35: 1 | AZ35: 1 | BA35: 1 | BB35: 1 | BC35: 1 | BH35: 3 | BI35: 1 | BM35: 57001 | BN35: 0 | BP35: 0 | BQ35: 6 | BR35: 0 | BS35: 1 | BT35: 1 | BU35: 1 | BV35: 1 | BW35: 1 | BX35: 1 | BZ35: 80 | CA35: 68 | CF35: 0 | CG35: 0 | CM35: 0 | CO35: 0 | CP35: =(P35+Q35+S35) -> 0 | CQ35: =AC35*BC35 -> 0 | CR35: =AD35*BB35 -> 0 | CS35: =AE35*BS35 -> 0 | CT35: =AF35*BA35 -> 0 | CU35: =AG35 -> 0 | CV35: =AH35 -> 0 | CW35: =AI35 -> 0 | CX35: =AJ35 -> 0 | CY35: =(((S35+R35)*AT35)/100) -> 0 | CZ35: =(((S35+R35)*AU35)/100) -> 0 | DN35: 0 | DO35: 0 | DP35: 1 | DQ35: 1 | DU35: 1009 | DV35: т | DW35: т | DX35: 1000 | EE35: 27029102 | EF35: 6 | EG35: Ремонтно-строительные работы | EH35: 0 | EJ35: 1 | EK35: 57001 | EL35: Полы | EM35: рФЕР-57 | EQ35: 0 | ER35: 0 | ES35: 0 | ET35: 0 | EU35: 0 | EV35: 0 | EW35: 0 | EX35: 0 | FQ35: 0 | FR35: =ROUND(IF(AND(BH35=3,BI35=3),P35,0),2) -> 0 | FS35: 0 | FX35: 80 | FY35: 68 | GD35: 0 | GF35: -179832266 | GG35: 1 | GH35: 1 | GI35: -2 | GJ35: 0 | GK35: =ROUND(R35*(S12)/100,2) -> 0 | GL35: =ROUND(IF(AND(BH35=3,BI35=3,FS35<>0),P35,0),2) -> 0 | GM35: =ROUND(O35+X35+Y35+GK35,2)+GX35 -> 0 | GN35: =IF(OR(BI35=0,BI35=1),ROUND(O35+X35+Y35+GK35,2),0) -> 0 | GO35: =IF(BI35=2,ROUND(O35+X35+Y35+GK35,2),0) -> 0 | GP35: =IF(BI35=4,ROUND(O35+X35+Y35+GK35,2)+GX35,0) -> 0 | GR35: 0 | GS35: 3 | GT35: 0 | GV35: =ROUND(GT35,6) -> 0 | GW35: 1 | GX35: =ROUND(GV35*GW35*I35,2) -> 0 | HA35: 0 | HB35: 0 | IK35: 0
A36: 17 | B36: 1 | C36: =ROW(SmtRes!A10) -> 10 | D36: =ROW(EtalonRes!A10) -> 10 | E36: 2 | F36: 59-4-3 | G36: Разборка поручней поливинилхлоридных | H36: 100 м | I36: =ROUND(33/100,9) -> 0.33 | J36: 0 | O36: =ROUND(CP36,2) -> 10.42 | P36: =ROUND(CQ36*I36,2) -> 0 | Q36: =ROUND(CR36*I36,2) -> 0 | R36: =ROUND(CS36*I36,2) -> 0 | S36: =ROUND(CT36*I36,2) -> 10.42 | T36: =ROUND(CU36*I36,2) -> 0 | U36: =CV36*I36 -> 1.27512 | V36: =CW36*I36 -> 0 | W36: =ROUND(CX36*I36,2) -> 0 | X36: =ROUND(CY36,2) -> 7.92 | Y36: =ROUND(CZ36,2) -> 6.25 | AA36: 27703374 | AB36: =ROUND((AC36+AD36+AF36),6) -> 31.5675 | AC36: =ROUND((ES36),6) -> 0 | AD36: =ROUND(((((ET36*1.15))-((EU36*1.15)))+AE36),6) -> 0 | AE36: =ROUND(((EU36*1.15)),6) -> 0 | AF36: =ROUND(((EV36*1.15)),6) -> 31.5675 | AG36: =ROUND((AP36),6) -> 0 | AH36: =((EW36*1.15)) -> 3.864 | AI36: =((EX36*1.15)) -> 0 | AJ36: =ROUND((AS36),6) -> 0 | AK36: 27.45 | AL36: 0 | AM36: 0 | AN36: 0 | AO36: 27.45 | AP36: 0 | AQ36: 3.36 | AR36: 0 | AS36: 0 | AT36: 76 | AU36: 60 | AV36: 1 | AW36: 1 | AZ36: 1 | BA36: 1 | BB36: 1 | BC36: 1 | BH36: 0 | BI36: 1 | BJ36: ФЕРр-2001, 59-4-3, приказ Минстроя России №1039/пр от 30.12.2016г. | BM36: 59001 | BN36: 0 | BP36: 0 | BQ36: 6 | BR36: 0 | BS36: 1 | BT36: 1 | BU36: 1 | BV36: 1 | BW36: 1 | BX36: 1 | BZ36: 76 | CA36: 60 | CF36: 0 | CG36: 0 | CM36: 0 | CN36: Поправка: МДС 81-36.2004, прил.3, п.3р Наименование: Производство строительных и других работ в существующих зданиях и сооружениях в стесненных условиях: с наличием в зоне производства работ действующего технологического оборудования (станков, установок, кранов и т.п.) или загромождающих предметов (лабораторное оборудование, мебель и т. п.), или движения транспорта по внутрицеховым путям | CO36: 0 | CP36: =(P36+Q36+S36) -> 10.42 | CQ36: =AC36*BC36 -> 0 | CR36: =AD36*BB36 -> 0 | CS36: =AE36*BS36 -> 0 | CT36: =AF36*BA36 -> 31.5675 | CU36: =AG36 -> 0 | CV36: =AH36 -> 3.864 | CW36: =AI36 -> 0 | CX36: =AJ36 -> 0 | CY36: =(((S36+R36)*AT36)/100) -> 7.9192 | CZ36: =(((S36+R36)*AU36)/100) -> 6.252 | DE36: )*1,15 | DF36: )*1,15 | DG36: )*1,15 | DI36: )*1,15 | DJ36: )*1,15 | DN36: 0 | DO36: 0 | DP36: 1 | DQ36: 1 | DU36: 1003 | DV36: 100 м | DW36: 100 м | DX36: 100 | EE36: 27029104 | EF36: 6 | EG36: Ремонтно-строительные работы | EH36: 0 | EJ36: 1 | EK36: 59001 | EL36: Лестницы, кровля | EM36: рФЕР-59 | EO36: Поправка: МДС 81-36.2004, прил.3, п.3р | EQ36: 0 | ER36: 27.45 | ES36: 0 | ET36: 0 | EU36: 0 | EV36: 27.45 | EW36: 3.36 | EX36: 0 | EY36: 0 | FQ36: 0 | FR36: =ROUND(IF(AND(BH36=3,BI36=3),P36,0),2) -> 0 | FS36: 0 | FX36: 76 | FY36: 60 | GD36: 0 | GF36: 1503954982 | GG36: 2 | GH36: 1 | GI36: -2 | GJ36: 0 | GK36: =ROUND(R36*(R12)/100,2) -> 0 | GL36: =ROUND(IF(AND(BH36=3,BI36=3,FS36<>0),P36,0),2) -> 0 | GM36: =ROUND(O36+X36+Y36+GK36,2)+GX36 -> 24.59 | GN36: =IF(OR(BI36=0,BI36=1),ROUND(O36+X36+Y36+GK36,2),0) -> 24.59 | GO36: =IF(BI36=2,ROUND(O36+X36+Y36+GK36,2),0) -> 0 | GP36: =IF(BI36=4,ROUND(O36+X36+Y36+GK36,2)+GX36,0) -> 0 | GR36: 0 | GS36: 3 | GT36: 0 | GV36: =ROUND(GT36,6) -> 0 | GW36: 1 | GX36: =ROUND(GV36*GW36*I36,2) -> 0 | HA36: 0 | HB36: 0 | IK36: 0
A37: 17 | B37: 1 | C37: =ROW(SmtRes!A12) -> 12 | D37: =ROW(EtalonRes!A12) -> 12 | E37: 2 | F37: 59-4-3 | G37: Разборка поручней поливинилхлоридных | H37: 100 м | I37: =ROUND(33/100,9) -> 0.33 | J37: 0 | O37: =ROUND(CP37,2) -> 10.42 | P37: =ROUND(CQ37*I37,2) -> 0 | Q37: =ROUND(CR37*I37,2) -> 0 | R37: =ROUND(CS37*I37,2) -> 0 | S37: =ROUND(CT37*I37,2) -> 10.42 | T37: =ROUND(CU37*I37,2) -> 0 | U37: =CV37*I37 -> 1.27512 | V37: =CW37*I37 -> 0 | W37: =ROUND(CX37*I37,2) -> 0 | X37: =ROUND(CY37,2) -> 7.92 | Y37: =ROUND(CZ37,2) -> 6.25 | AA37: 27703388 | AB37: =ROUND((AC37+AD37+AF37),6) -> 31.5675 | AC37: =ROUND((ES37),6) -> 0 | AD37: =ROUND(((((ET37*1.15))-((EU37*1.15)))+AE37),6) -> 0 | AE37: =ROUND(((EU37*1.15)),6) -> 0 | AF37: =ROUND(((EV37*1.15)),6) -> 31.5675 | AG37: =ROUND((AP37),6) -> 0 | AH37: =((EW37*1.15)) -> 3.864 | AI37: =((EX37*1.15)) -> 0 | AJ37: =ROUND((AS37),6) -> 0 | AK37: 27.45 | AL37: 0 | AM37: 0 | AN37: 0 | AO37: 27.45 | AP37: 0 | AQ37: 3.36 | AR37: 0 | AS37: 0 | AT37: 76 | AU37: 60 | AV37: 1 | AW37: 1 | AZ37: 1 | BA37: 1 | BB37: 1 | BC37: 1 | BH37: 0 | BI37: 1 | BJ37: ФЕРр-2001, 59-4-3, приказ Минстроя России №1039/пр от 30.12.2016г. | BM37: 59001 | BN37: 0 | BP37: 0 | BQ37: 6 | BR37: 0 | BS37: 1 | BT37: 1 | BU37: 1 | BV37: 1 | BW37: 1 | BX37: 1 | BZ37: 76 | CA37: 60 | CF37: 0 | CG37: 0 | CM37: 0 | CN37: Поправка: МДС 81-36.2004, прил.3, п.3р Наименование: Производство строительных и других работ в существующих зданиях и сооружениях в стесненных условиях: с наличием в зоне производства работ действующего технологического оборудования (станков, установок, кранов и т.п.) или загромождающих предметов (лабораторное оборудование, мебель и т. п.), или движения транспорта по внутрицеховым путям | CO37: 0 | CP37: =(P37+Q37+S37) -> 10.42 | CQ37: =AC37*BC37 -> 0 | CR37: =AD37*BB37 -> 0 | CS37: =AE37*BS37 -> 0 | CT37: =AF37*BA37 -> 31.5675 | CU37: =AG37 -> 0 | CV37: =AH37 -> 3.864 | CW37: =AI37 -> 0 | CX37: =AJ37 -> 0 | CY37: =(((S37+R37)*AT37)/100) -> 7.9192 | CZ37: =(((S37+R37)*AU37)/100) -> 6.252 | DE37: )*1,15 | DF37: )*1,15 | DG37: )*1,15 | DI37: )*1,15 | DJ37: )*1,15 | DN37: 0 | DO37: 0 | DP37: 1 | DQ37: 1 | DU37: 1003 | DV37: 100 м | DW37: 100 м | DX37: 100 | EE37: 27029104 | EF37: 6 | EG37: Ремонтно-строительные работы | EH37: 0 | EJ37: 1 | EK37: 59001 | EL37: Лестницы, кровля | EM37: рФЕР-59 | EO37: Поправка: МДС 81-36.2004, прил.3, п.3р | EQ37: 0 | ER37: 27.45 | ES37: 0 | ET37: 0 | EU37: 0 | EV37: 27.45 | EW37: 3.36 | EX37: 0 | EY37: 0 | FQ37: 0 | FR37: =ROUND(IF(AND(BH37=3,BI37=3),P37,0),2) -> 0 | FS37: 0 | FX37: 76 | FY37: 60 | GD37: 0 | GF37: 1503954982 | GG37: 1 | GH37: 1 | GI37: -2 | GJ37: 0 | GK37: =ROUND(R37*(S12)/100,2) -> 0 | GL37: =ROUND(IF(AND(BH37=3,BI37=3,FS37<>0),P37,0),2) -> 0 | GM37: =ROUND(O37+X37+Y37+GK37,2)+GX37 -> 24.59 | GN37: =IF(OR(BI37=0,BI37=1),ROUND(O37+X37+Y37+GK37,2),0) -> 24.59 | GO37: =IF(BI37=2,ROUND(O37+X37+Y37+GK37,2),0) -> 0 | GP37: =IF(BI37=4,ROUND(O37+X37+Y37+GK37,2)+GX37,0) -> 0 | GR37: 0 | GS37: 3 | GT37: 0 | GV37: =ROUND(GT37,6) -> 0 | GW37: 1 | GX37: =ROUND(GV37*GW37*I37,2) -> 0 | HA37: 0 | HB37: 0 | IK37: 0
A38: 18 | B38: 1 | C38: 10 | E38: 2,1 | F38: 01.7.07.07 | G38: Строительный мусор | H38: т | I38: =I36*J38 -> 0.0231 | J38: 0.07 | O38: =ROUND(CP38,2) -> 0 | P38: =ROUND(CQ38*I38,2) -> 0 | Q38: =ROUND(CR38*I38,2) -> 0 | R38: =ROUND(CS38*I38,2) -> 0 | S38: =ROUND(CT38*I38,2) -> 0 | T38: =ROUND(CU38*I38,2) -> 0 | U38: =CV38*I38 -> 0 | V38: =CW38*I38 -> 0 | W38: =ROUND(CX38*I38,2) -> 0 | X38: =ROUND(CY38,2) -> 0 | Y38: =ROUND(CZ38,2) -> 0 | AA38: 27703374 | AB38: =ROUND((AC38+AD38+AF38),6) -> 0 | AC38: =ROUND((ES38),6) -> 0 | AD38: =ROUND((((ET38)-(EU38))+AE38),6) -> 0 | AE38: =ROUND((EU38),6) -> 0 | AF38: =ROUND((EV38),6) -> 0 | AG38: =ROUND((AP38),6) -> 0 | AH38: =(EW38) -> 0 | AI38: =(EX38) -> 0 | AJ38: =ROUND((AS38),6) -> 0 | AK38: 0 | AL38: 0 | AM38: 0 | AN38: 0 | AO38: 0 | AP38: 0 | AQ38: 0 | AR38: 0 | AS38: 0 | AT38: 76 | AU38: 60 | AV38: 1 | AW38: 1 | AZ38: 1 | BA38: 1 | BB38: 1 | BC38: 1 | BH38: 3 | BI38: 1 | BM38: 59001 | BN38: 0 | BP38: 0 | BQ38: 6 | BR38: 0 | BS38: 1 | BT38: 1 | BU38: 1 | BV38: 1 | BW38: 1 | BX38: 1 | BZ38: 76 | CA38: 60 | CF38: 0 | CG38: 0 | CM38: 0 | CO38: 0 | CP38: =(P38+Q38+S38) -> 0 | CQ38: =AC38*BC38 -> 0 | CR38: =AD38*BB38 -> 0 | CS38: =AE38*BS38 -> 0 | CT38: =AF38*BA38 -> 0 | CU38: =AG38 -> 0 | CV38: =AH38 -> 0 | CW38: =AI38 -> 0 | CX38: =AJ38 -> 0 | CY38: =(((S38+R38)*AT38)/100) -> 0 | CZ38: =(((S38+R38)*AU38)/100) -> 0 | DN38: 0 | DO38: 0 | DP38: 1 | DQ38: 1 | DU38: 1009 | DV38: т | DW38: т | DX38: 1000 | EE38: 27029104 | EF38: 6 | EG38: Ремонтно-строительные работы | EH38: 0 | EJ38: 1 | EK38: 59001 | EL38: Лестницы, кровля | EM38: рФЕР-59 | EQ38: 0 | ER38: 0 | ES38: 0 | ET38: 0 | EU38: 0 | EV38: 0 | EW38: 0 | EX38: 0 | FQ38: 0 | FR38: =ROUND(IF(AND(BH38=3,BI38=3),P38,0),2) -> 0 | FS38: 0 | FX38: 76 | FY38: 60 | GD38: 0 | GF38: -179832266 | GG38: 2 | GH38: 1 | GI38: -2 | GJ38: 0 | GK38: =ROUND(R38*(R12)/100,2) -> 0 | GL38: =ROUND(IF(AND(BH38=3,BI38=3,FS38<>0),P38,0),2) -> 0 | GM38: =ROUND(O38+X38+Y38+GK38,2)+GX38 -> 0 | GN38: =IF(OR(BI38=0,BI38=1),ROUND(O38+X38+Y38+GK38,2),0) -> 0 | GO38: =IF(BI38=2,ROUND(O38+X38+Y38+GK38,2),0) -> 0 | GP38: =IF(BI38=4,ROUND(O38+X38+Y38+GK38,2)+GX38,0) -> 0 | GR38: 0 | GS38: 3 | GT38: 0 | GV38: =ROUND(GT38,6) -> 0 | GW38: 1 | GX38: =ROUND(GV38*GW38*I38,2) -> 0 | HA38: 0 | HB38: 0 | IK38: 0
A39: 18 | B39: 1 | C39: 12 | E39: 2,1 | F39: 01.7.07.07 | G39: Строительный мусор | H39: т | I39: =I37*J39 -> 0.0231 | J39: 0.07 | O39: =ROUND(CP39,2) -> 0 | P39: =ROUND(CQ39*I39,2) -> 0 | Q39: =ROUND(CR39*I39,2) -> 0 | R39: =ROUND(CS39*I39,2) -> 0 | S39: =ROUND(CT39*I39,2) -> 0 | T39: =ROUND(CU39*I39,2) -> 0 | U39: =CV39*I39 -> 0 | V39: =CW39*I39 -> 0 | W39: =ROUND(CX39*I39,2) -> 0 | X39: =ROUND(CY39,2) -> 0 | Y39: =ROUND(CZ39,2) -> 0 | AA39: 27703388 | AB39: =ROUND((AC39+AD39+AF39),6) -> 0 | AC39: =ROUND((ES39),6) -> 0 | AD39: =ROUND((((ET39)-(EU39))+AE39),6) -> 0 | AE39: =ROUND((EU39),6) -> 0 | AF39: =ROUND((EV39),6) -> 0 | AG39: =ROUND((AP39),6) -> 0 | AH39: =(EW39) -> 0 | AI39: =(EX39) -> 0 | AJ39: =ROUND((AS39),6) -> 0 | AK39: 0 | AL39: 0 | AM39: 0 | AN39: 0 | AO39: 0 | AP39: 0 | AQ39: 0 | AR39: 0 | AS39: 0 | AT39: 76 | AU39: 60 | AV39: 1 | AW39: 1 | AZ39: 1 | BA39: 1 | BB39: 1 | BC39: 1 | BH39: 3 | BI39: 1 | BM39: 59001 | BN39: 0 | BP39: 0 | BQ39: 6 | BR39: 0 | BS39: 1 | BT39: 1 | BU39: 1 | BV39: 1 | BW39: 1 | BX39: 1 | BZ39: 76 | CA39: 60 | CF39: 0 | CG39: 0 | CM39: 0 | CO39: 0 | CP39: =(P39+Q39+S39) -> 0 | CQ39: =AC39*BC39 -> 0 | CR39: =AD39*BB39 -> 0 | CS39: =AE39*BS39 -> 0 | CT39: =AF39*BA39 -> 0 | CU39: =AG39 -> 0 | CV39: =AH39 -> 0 | CW39: =AI39 -> 0 | CX39: =AJ39 -> 0 | CY39: =(((S39+R39)*AT39)/100) -> 0 | CZ39: =(((S39+R39)*AU39)/100) -> 0 | DN39: 0 | DO39: 0 | DP39: 1 | DQ39: 1 | DU39: 1009 | DV39: т | DW39: т | DX39: 1000 | EE39: 27029104 | EF39: 6 | EG39: Ремонтно-строительные работы | EH39: 0 | EJ39: 1 | EK39: 59001 | EL39: Лестницы, кровля | EM39: рФЕР-59 | EQ39: 0 | ER39: 0 | ES39: 0 | ET39: 0 | EU39: 0 | EV39: 0 | EW39: 0 | EX39: 0 | FQ39: 0 | FR39: =ROUND(IF(AND(BH39=3,BI39=3),P39,0),2) -> 0 | FS39: 0 | FX39: 76 | FY39: 60 | GD39: 0 | GF39: -179832266 | GG39: 1 | GH39: 1 | GI39: -2 | GJ39: 0 | GK39: =ROUND(R39*(S12)/100,2) -> 0 | GL39: =ROUND(IF(AND(BH39=3,BI39=3,FS39<>0),P39,0),2) -> 0 | GM39: =ROUND(O39+X39+Y39+GK39,2)+GX39 -> 0 | GN39: =IF(OR(BI39=0,BI39=1),ROUND(O39+X39+Y39+GK39,2),0) -> 0 | GO39: =IF(BI39=2,ROUND(O39+X39+Y39+GK39,2),0) -> 0 | GP39: =IF(BI39=4,ROUND(O39+X39+Y39+GK39,2)+GX39,0) -> 0 | GR39: 0 | GS39: 3 | GT39: 0 | GV39: =ROUND(GT39,6) -> 0 | GW39: 1 | GX39: =ROUND(GV39*GW39*I39,2) -> 0 | HA39: 0 | HB39: 0 | IK39: 0
A40: 17 | B40: 1 | C40: =ROW(SmtRes!A19) -> 19 | D40: =ROW(EtalonRes!A20) -> 20 | E40: 3 | F40: 10-01-059-01 | G40: Демонтаж шкафов пожарных прим. | H40: 100 ШТ | I40: =ROUND(5/100,9) -> 0.05 | J40: 0 | O40: =ROUND(CP40,2) -> 44.23 | P40: =ROUND(CQ40*I40,2) -> 0 | Q40: =ROUND(CR40*I40,2) -> 11.68 | R40: =ROUND(CS40*I40,2) -> 2.81 | S40: =ROUND(CT40*I40,2) -> 32.55 | T40: =ROUND(CU40*I40,2) -> 0 | U40: =CV40*I40 -> 4.0581 | V40: =CW40*I40 -> 0.2268 | W40: =ROUND(CX40*I40,2) -> 0 | X40: =ROUND(CY40,2) -> 37.48 | Y40: =ROUND(CZ40,2) -> 19.09 | AA40: 27703374 | AB40: =ROUND((AC40+AD40+AF40),6) -> 884.6064 | AC40: =ROUND(((ES40*0)),6) -> 0 | AD40: =ROUND((((((ET40*0.8)*1.35))-(((EU40*0.8)*1.35)))+AE40),6) -> 233.6904 | AE40: =ROUND((((EU40*0.8)*1.35)),6) -> 56.1708 | AF40: =ROUND((((EV40*0.8)*1.35)),6) -> 650.916 | AG40: =ROUND((AP40),6) -> 0 | AH40: =(((EW40*0.8)*1.35)) -> 81.162 | AI40: =(((EX40*0.8)*1.35)) -> 4.536 | AJ40: =ROUND((AS40),6) -> 0 | AK40: 2452.44 | AL40: 1633.36 | AM40: 216.38 | AN40: 52.01 | AO40: 602.7 | AP40: 0 | AQ40: 75.15 | AR40: 4.2 | AS40: 0 | AT40: 106 | AU40: 54 | AV40: 1 | AW40: 1 | AZ40: 1 | BA40: 1 | BB40: 1 | BC40: 1 | BH40: 0 | BI40: 1 | BJ40: ФЕР-2001, 10-01-059-01, приказ Минстроя России №1039/пр от 30.12.2016г. | BM40: 10001 | BN40: 0 | BP40: 0 | BQ40: 2 | BR40: 0 | BS40: 1 | BT40: 1 | BU40: 1 | BV40: 1 | BW40: 1 | BX40: 1 | BZ40: 118 | CA40: 63 | CF40: 0 | CG40: 0 | CM40: 0 | CN40: Поправка: МДС 81-36.2004, п.3.3.1.б Наименование: При демонтаже сборных деревянных конструкций Поправка: МДС 81-35.2004, прил.1, т.3, п.2 Наименование: Производство ремонтных работ в существующих зданиях и сооружениях в стесненных условиях: с наличием в зоне производства работ действующего технологического оборудования (станков, установок, кранов и т.п.) или загромождающих предметов (лабораторное оборудование, мебель и т. п.), или движения транспорта по внутрицеховым путям. | CO40: 0 | CP40: =(P40+Q40+S40) -> 44.23 | CQ40: =AC40*BC40 -> 0 | CR40: =AD40*BB40 -> 233.6904 | CS40: =AE40*BS40 -> 56.1708 | CT40: =AF40*BA40 -> 650.916 | CU40: =AG40 -> 0 | CV40: =AH40 -> 81.162 | CW40: =AI40 -> 4.536 | CX40: =AJ40 -> 0 | CY40: =(((S40+R40)*AT40)/100) -> 37.4816 | CZ40: =(((S40+R40)*AU40)/100) -> 19.0944 | DD40: )*0 | DE40: )*0,8)*1,35 | DF40: )*0,8)*1,35 | DG40: )*0,8)*1,35 | DI40: )*0,8)*1,35 | DJ40: )*0,8)*1,35 | DN40: 0 | DO40: 0 | DP40: 1 | DQ40: 1 | DU40: 1013 | DV40: 100 ШТ | DW40: 100 ШТ | DX40: 1 | EE40: 27029023 | EF40: 2 | EG40: Общестроительные работы | EH40: 0 | EJ40: 1 | EK40: 10001 | EL40: Деревянные конструкции | EM40: ФЕР-10 | EO40: Поправка: МДС 81-36.2004, п.3.3.1.б Поправка: МДС 81-35.2004, прил.1, т.3, п.2 | EQ40: 0 | ER40: 2452.44 | ES40: 1633.36 | ET40: 216.38 | EU40: 52.01 | EV40: 602.7 | EW40: 75.15 | EX40: 4.2 | EY40: 0 | FQ40: 0 | FR40: =ROUND(IF(AND(BH40=3,BI40=3),P40,0),2) -> 0 | FS40: 0 | FT40: *0,9 | FU40: *0,85 | FX40: 106.2 | FY40: 53.55 | GD40: 0 | GF40: 680488592 | GG40: 2 | GH40: 1 | GI40: -2 | GJ40: 0 | GK40: =ROUND(R40*(R12)/100,2) -> 0 | GL40: =ROUND(IF(AND(BH40=3,BI40=3,FS40<>0),P40,0),2) -> 0 | GM40: =ROUND(O40+X40+Y40+GK40,2)+GX40 -> 100.8 | GN40: =IF(OR(BI40=0,BI40=1),ROUND(O40+X40+Y40+GK40,2),0) -> 100.8 | GO40: =IF(BI40=2,ROUND(O40+X40+Y40+GK40,2),0) -> 0 | GP40: =IF(BI40=4,ROUND(O40+X40+Y40+GK40,2)+GX40,0) -> 0 | GR40: 0 | GS40: 3 | GT40: 0 | GV40: =ROUND(GT40,6) -> 0 | GW40: 1 | GX40: =ROUND(GV40*GW40*I40,2) -> 0 | HA40: 0 | HB40: 0 | IK40: 0
A41: 17 | B41: 1 | C41: =ROW(SmtRes!A26) -> 26 | D41: =ROW(EtalonRes!A28) -> 28 | E41: 3 | F41: 10-01-059-01 | G41: Демонтаж шкафов пожарных прим. | H41: 100 ШТ | I41: =ROUND(5/100,9) -> 0.05 | J41: 0 | O41: =ROUND(CP41,2) -> 44.23 | P41: =ROUND(CQ41*I41,2) -> 0 | Q41: =ROUND(CR41*I41,2) -> 11.68 | R41: =ROUND(CS41*I41,2) -> 2.81 | S41: =ROUND(CT41*I41,2) -> 32.55 | T41: =ROUND(CU41*I41,2) -> 0 | U41: =CV41*I41 -> 4.0581 | V41: =CW41*I41 -> 0.2268 | W41: =ROUND(CX41*I41,2) -> 0 | X41: =ROUND(CY41,2) -> 37.48 | Y41: =ROUND(CZ41,2) -> 19.09 | AA41: 27703388 | AB41: =ROUND((AC41+AD41+AF41),6) -> 884.6064 | AC41: =ROUND(((ES41*0)),6) -> 0 | AD41: =ROUND((((((ET41*0.8)*1.35))-(((EU41*0.8)*1.35)))+AE41),6) -> 233.6904 | AE41: =ROUND((((EU41*0.8)*1.35)),6) -> 56.1708 | AF41: =ROUND((((EV41*0.8)*1.35)),6) -> 650.916 | AG41: =ROUND((AP41),6) -> 0 | AH41: =(((EW41*0.8)*1.35)) -> 81.162 | AI41: =(((EX41*0.8)*1.35)) -> 4.536 | AJ41: =ROUND((AS41),6) -> 0 | AK41: 2452.44 | AL41: 1633.36 | AM41: 216.38 | AN41: 52.01 | AO41: 602.7 | AP41: 0 | AQ41: 75.15 | AR41: 4.2 | AS41: 0 | AT41: 106 | AU41: 54 | AV41: 1 | AW41: 1 | AZ41: 1 | BA41: 1 | BB41: 1 | BC41: 1 | BH41: 0 | BI41: 1 | BJ41: ФЕР-2001, 10-01-059-01, приказ Минстроя России №1039/пр от 30.12.2016г. | BM41: 10001 | BN41: 0 | BP41: 0 | BQ41: 2 | BR41: 0 | BS41: 1 | BT41: 1 | BU41: 1 | BV41: 1 | BW41: 1 | BX41: 1 | BZ41: 118 | CA41: 63 | CF41: 0 | CG41: 0 | CM41: 0 | CN41: Поправка: МДС 81-36.2004, п.3.3.1.б Наименование: При демонтаже сборных деревянных конструкций Поправка: МДС 81-35.2004, прил.1, т.3, п.2 Наименование: Производство ремонтных работ в существующих зданиях и сооружениях в стесненных условиях: с наличием в зоне производства работ действующего технологического оборудования (станков, установок, кранов и т.п.) или загромождающих предметов (лабораторное оборудование, мебель и т. п.), или движения транспорта по внутрицеховым путям. | CO41: 0 | CP41: =(P41+Q41+S41) -> 44.23 | CQ41: =AC41*BC41 -> 0 | CR41: =AD41*BB41 -> 233.6904 | CS41: =AE41*BS41 -> 56.1708 | CT41: =AF41*BA41 -> 650.916 | CU41: =AG41 -> 0 | CV41: =AH41 -> 81.162 | CW41: =AI41 -> 4.536 | CX41: =AJ41 -> 0 | CY41: =(((S41+R41)*AT41)/100) -> 37.4816 | CZ41: =(((S41+R41)*AU41)/100) -> 19.0944 | DD41: )*0 | DE41: )*0,8)*1,35 | DF41: )*0,8)*1,35 | DG41: )*0,8)*1,35 | DI41: )*0,8)*1,35 | DJ41: )*0,8)*1,35 | DN41: 0 | DO41: 0 | DP41: 1 | DQ41: 1 | DU41: 1013 | DV41: 100 ШТ | DW41: 100 ШТ | DX41: 1 | EE41: 27029023 | EF41: 2 | EG41: Общестроительные работы | EH41: 0 | EJ41: 1 | EK41: 10001 | EL41: Деревянные конструкции | EM41: ФЕР-10 | EO41: Поправка: МДС 81-36.2004, п.3.3.1.б Поправка: МДС 81-35.2004, прил.1, т.3, п.2 | EQ41: 0 | ER41: 2452.44 | ES41: 1633.36 | ET41: 216.38 | EU41: 52.01 | EV41: 602.7 | EW41: 75.15 | EX41: 4.2 | EY41: 0 | FQ41: 0 | FR41: =ROUND(IF(AND(BH41=3,BI41=3),P41,0),2) -> 0 | FS41: 0 | FT41: *0,9 | FU41: *0,85 | FX41: 106.2 | FY41: 53.55 | GD41: 0 | GF41: 680488592 | GG41: 1 | GH41: 1 | GI41: -2 | GJ41: 0 | GK41: =ROUND(R41*(S12)/100,2) -> 0 | GL41: =ROUND(IF(AND(BH41=3,BI41=3,FS41<>0),P41,0),2) -> 0 | GM41: =ROUND(O41+X41+Y41+GK41,2)+GX41 -> 100.8 | GN41: =IF(OR(BI41=0,BI41=1),ROUND(O41+X41+Y41+GK41,2),0) -> 100.8 | GO41: =IF(BI41=2,ROUND(O41+X41+Y41+GK41,2),0) -> 0 | GP41: =IF(BI41=4,ROUND(O41+X41+Y41+GK41,2)+GX41,0) -> 0 | GR41: 0 | GS41: 3 | GT41: 0 | GV41: =ROUND(GT41,6) -> 0 | GW41: 1 | GX41: =ROUND(GV41*GW41*I41,2) -> 0 | HA41: 0 | HB41: 0 | IK41: 0
A42: 17 | B42: 1 | C42: =ROW(SmtRes!A27) -> 27 | D42: =ROW(EtalonRes!A29) -> 29 | E42: 4 | F42: 13-06-003-01 | G42: Очистка поверхности стен и потолков от краски щетками | H42: м2 | I42: =ROUND(104+278.5,9) -> 382.5 | J42: 0 | O42: =ROUND(CP42,2) -> 4560.62 | P42: =ROUND(CQ42*I42,2) -> 0 | Q42: =ROUND(CR42*I42,2) -> 0 | R42: =ROUND(CS42*I42,2) -> 0 | S42: =ROUND(CT42*I42,2) -> 4560.62 | T42: =ROUND(CU42*I42,2) -> 0 | U42: =CV42*I42 -> 534.44813 | V42: =CW42*I42 -> 0 | W42: =ROUND(CX42*I42,2) -> 0 | X42: =ROUND(CY42,2) -> 3694.1 | Y42: =ROUND(CZ42,2) -> 2736.37 | AA42: 27703374 | AB42: =ROUND((AC42+AD42+AF42),6) -> 11.9232 | AC42: =ROUND((ES42),6) -> 0 | AD42: =ROUND((((((ET42*1.25)*1.35))-(((EU42*1.25)*1.35)))+AE42),6) -> 0 | AE42: =ROUND((((EU42*1.25)*1.35)),6) -> 0 | AF42: =ROUND((((EV42*1.15)*1.35)),6) -> 11.9232 | AG42: =ROUND((AP42),6) -> 0 | AH42: =(((EW42*1.15)*1.35)) -> 1.39725 | AI42: =(((EX42*1.25)*1.35)) -> 0 | AJ42: =ROUND((AS42),6) -> 0 | AK42: 7.68 | AL42: 0 | AM42: 0 | AN42: 0 | AO42: 7.68 | AP42: 0 | AQ42: 0.9 | AR42: 0 | AS42: 0 | AT42: 81 | AU42: 60 | AV42: 1 | AW42: 1 | AZ42: 1 | BA42: 1 | BB42: 1 | BC42: 1 | BH42: 0 | BI42: 1 | BJ42: ФЕР-2001, 13-06-003-01, приказ Минстроя России №1039/пр от 30.12.2016г. | BM42: 13001 | BN42: 0 | BP42: 0 | BQ42: 2 | BR42: 0 | BS42: 1 | BT42: 1 | BU42: 1 | BV42: 1 | BW42: 1 | BX42: 1 | BZ42: 90 | CA42: 70 | CF42: 0 | CG42: 0 | CM42: 0 | CN42: Поправка: МДС 81-35.2004, п.4.7 Наименование: Работы, выполняемые при реконструкции зданий и сооружений работы, аналогичные технологическим процессам в новом строительстве (в том числе возведение новых конструктивных элементов) стоимость которых определена по соответствующим сборникам ФЕР, кроме сборника № 46 «Работы при реконструкции зданий и сооружений» Поправка: МДС 81-35.2004, прил.1, т.3, п.2 Наименование: Производство ремонтных работ в существующих зданиях и сооружениях в стесненных условиях: с наличием в зоне производства работ действующего технологического оборудования (станков, установок, кранов и т.п.) или загромождающих предметов (лабораторное оборудование, мебель и т. п.), или движения транспорта по внутрицеховым путям. | CO42: 0 | CP42: =(P42+Q42+S42) -> 4560.62 | CQ42: =AC42*BC42 -> 0 | CR42: =AD42*BB42 -> 0 | CS42: =AE42*BS42 -> 0 | CT42: =AF42*BA42 -> 11.9232 | CU42: =AG42 -> 0 | CV42: =AH42 -> 1.39725 | CW42: =AI42 -> 0 | CX42: =AJ42 -> 0 | CY42: =(((S42+R42)*AT42)/100) -> 3694.1022 | CZ42: =(((S42+R42)*AU42)/100) -> 2736.372 | DE42: )*1,25)*1,35 | DF42: )*1,25)*1,35 | DG42: )*1,15)*1,35 | DI42: )*1,15)*1,35 | DJ42: )*1,25)*1,35 | DN42: 0 | DO42: 0 | DP42: 1 | DQ42: 1 | DU42: 1005 | DV42: м2 | DW42: м2 | DX42: 1 | EE42: 27029026 | EF42: 2 | EG42: Общестроительные работы | EH42: 0 | EJ42: 1 | EK42: 13001 | EL42: Защита строительных конструкций | EM42: ФЕР-13 | EO42: Поправка: МДС 81-35.2004, п.4.7 Поправка: МДС 81-35.2004, прил.1, т.3, п.2 | EQ42: 0 | ER42: 7.68 | ES42: 0 | ET42: 0 | EU42: 0 | EV42: 7.68 | EW42: 0.9 | EX42: 0 | EY42: 0 | FQ42: 0 | FR42: =ROUND(IF(AND(BH42=3,BI42=3),P42,0),2) -> 0 | FS42: 0 | FT42: *0,9 | FU42: *0,85 | FX42: 81 | FY42: 59.5 | GD42: 0 | GF42: 1201020605 | GG42: 2 | GH42: 1 | GI42: -2 | GJ42: 0 | GK42: =ROUND(R42*(R12)/100,2) -> 0 | GL42: =ROUND(IF(AND(BH42=3,BI42=3,FS42<>0),P42,0),2) -> 0 | GM42: =ROUND(O42+X42+Y42+GK42,2)+GX42 -> 10991.09 | GN42: =IF(OR(BI42=0,BI42=1),ROUND(O42+X42+Y42+GK42,2),0) -> 10991.09 | GO42: =IF(BI42=2,ROUND(O42+X42+Y42+GK42,2),0) -> 0 | GP42: =IF(BI42=4,ROUND(O42+X42+Y42+GK42,2)+GX42,0) -> 0 | GR42: 0 | GS42: 3 | GT42: 0 | GV42: =ROUND(GT42,6) -> 0 | GW42: 1 | GX42: =ROUND(GV42*GW42*I42,2) -> 0 | HA42: 0 | HB42: 0 | IK42: 0
A43: 17 | B43: 1 | C43: =ROW(SmtRes!A28) -> 28 | D43: =ROW(EtalonRes!A30) -> 30 | E43: 4 | F43: 13-06-003-01 | G43: Очистка поверхности стен и потолков от краски щетками | H43: м2 | I43: =ROUND(104+278.5,9) -> 382.5 | J43: 0 | O43: =ROUND(CP43,2) -> 4560.62 | P43: =ROUND(CQ43*I43,2) -> 0 | Q43: =ROUND(CR43*I43,2) -> 0 | R43: =ROUND(CS43*I43,2) -> 0 | S43: =ROUND(CT43*I43,2) -> 4560.62 | T43: =ROUND(CU43*I43,2) -> 0 | U43: =CV43*I43 -> 534.44813 | V43: =CW43*I43 -> 0 | W43: =ROUND(CX43*I43,2) -> 0 | X43: =ROUND(CY43,2) -> 3694.1 | Y43: =ROUND(CZ43,2) -> 2736.37 | AA43: 27703388 | AB43: =ROUND((AC43+AD43+AF43),6) -> 11.9232 | AC43: =ROUND((ES43),6) -> 0 | AD43: =ROUND((((((ET43*1.25)*1.35))-(((EU43*1.25)*1.35)))+AE43),6) -> 0 | AE43: =ROUND((((EU43*1.25)*1.35)),6) -> 0 | AF43: =ROUND((((EV43*1.15)*1.35)),6) -> 11.9232 | AG43: =ROUND((AP43),6) -> 0 | AH43: =(((EW43*1.15)*1.35)) -> 1.39725 | AI43: =(((EX43*1.25)*1.35)) -> 0 | AJ43: =ROUND((AS43),6) -> 0 | AK43: 7.68 | AL43: 0 | AM43: 0 | AN43: 0 | AO43: 7.68 | AP43: 0 | AQ43: 0.9 | AR43: 0 | AS43: 0 | AT43: 81 | AU43: 60 | AV43: 1 | AW43: 1 | AZ43: 1 | BA43: 1 | BB43: 1 | BC43: 1 | BH43: 0 | BI43: 1 | BJ43: ФЕР-2001, 13-06-003-01, приказ Минстроя России №1039/пр от 30.12.2016г. | BM43: 13001 | BN43: 0 | BP43: 0 | BQ43: 2 | BR43: 0 | BS43: 1 | BT43: 1 | BU43: 1 | BV43: 1 | BW43: 1 | BX43: 1 | BZ43: 90 | CA43: 70 | CF43: 0 | CG43: 0 | CM43: 0 | CN43: Поправка: МДС 81-35.2004, п.4.7 Наименование: Работы, выполняемые при реконструкции зданий и сооружений работы, аналогичные технологическим процессам в новом строительстве (в том числе возведение новых конструктивных элементов) стоимость которых определена по соответствующим сборникам ФЕР, кроме сборника № 46 «Работы при реконструкции зданий и сооружений» Поправка: МДС 81-35.2004, прил.1, т.3, п.2 Наименование: Производство ремонтных работ в существующих зданиях и сооружениях в стесненных условиях: с наличием в зоне производства работ действующего технологического оборудования (станков, установок, кранов и т.п.) или загромождающих предметов (лабораторное оборудование, мебель и т. п.), или движения транспорта по внутрицеховым путям. | CO43: 0 | CP43: =(P43+Q43+S43) -> 4560.62 | CQ43: =AC43*BC43 -> 0 | CR43: =AD43*BB43 -> 0 | CS43: =AE43*BS43 -> 0 | CT43: =AF43*BA43 -> 11.9232 | CU43: =AG43 -> 0 | CV43: =AH43 -> 1.39725 | CW43: =AI43 -> 0 | CX43: =AJ43 -> 0 | CY43: =(((S43+R43)*AT43)/100) -> 3694.1022 | CZ43: =(((S43+R43)*AU43)/100) -> 2736.372 | DE43: )*1,25)*1,35 | DF43: )*1,25)*1,35 | DG43: )*1,15)*1,35 | DI43: )*1,15)*1,35 | DJ43: )*1,25)*1,35 | DN43: 0 | DO43: 0 | DP43: 1 | DQ43: 1 | DU43: 1005 | DV43: м2 | DW43: м2 | DX43: 1 | EE43: 27029026 | EF43: 2 | EG43: Общестроительные работы | EH43: 0 | EJ43: 1 | EK43: 13001 | EL43: Защита строительных конструкций | EM43: ФЕР-13 | EO43: Поправка: МДС 81-35.2004, п.4.7 Поправка: МДС 81-35.2004, прил.1, т.3, п.2 | EQ43: 0 | ER43: 7.68 | ES43: 0 | ET43: 0 | EU43: 0 | EV43: 7.68 | EW43: 0.9 | EX43: 0 | EY43: 0 | FQ43: 0 | FR43: =ROUND(IF(AND(BH43=3,BI43=3),P43,0),2) -> 0 | FS43: 0 | FT43: *0,9 | FU43: *0,85 | FX43: 81 | FY43: 59.5 | GD43: 0 | GF43: 1201020605 | GG43: 1 | GH43: 1 | GI43: -2 | GJ43: 0 | GK43: =ROUND(R43*(S12)/100,2) -> 0 | GL43: =ROUND(IF(AND(BH43=3,BI43=3,FS43<>0),P43,0),2) -> 0 | GM43: =ROUND(O43+X43+Y43+GK43,2)+GX43 -> 10991.09 | GN43: =IF(OR(BI43=0,BI43=1),ROUND(O43+X43+Y43+GK43,2),0) -> 10991.09 | GO43: =IF(BI43=2,ROUND(O43+X43+Y43+GK43,2),0) -> 0 | GP43: =IF(BI43=4,ROUND(O43+X43+Y43+GK43,2)+GX43,0) -> 0 | GR43: 0 | GS43: 3 | GT43: 0 | GV43: =ROUND(GT43,6) -> 0 | GW43: 1 | GX43: =ROUND(GV43*GW43*I43,2) -> 0 | HA43: 0 | HB43: 0 | IK43: 0
A44: 17 | B44: 1 | C44: =ROW(SmtRes!A46) -> 46 | D44: =ROW(EtalonRes!A49) -> 49 | E44: 5 | F44: 09-06-001-02 | G44: Демонтаж решеток из полосовой и тонколистовой стали | H44: т | I44: 0.19 | J44: 0 | O44: =ROUND(CP44,2) -> 100.38 | P44: =ROUND(CQ44*I44,2) -> 0 | Q44: =ROUND(CR44*I44,2) -> 22.59 | R44: =ROUND(CS44*I44,2) -> 0.69 | S44: =ROUND(CT44*I44,2) -> 77.79 | T44: =ROUND(CU44*I44,2) -> 0 | U44: =CV44*I44 -> 9.1193445 | V44: =CW44*I44 -> 0.0556605 | W44: =ROUND(CX44*I44,2) -> 0 | X44: =ROUND(CY44,2) -> 63.57 | Y44: =ROUND(CZ44,2) -> 56.51 | AA44: 27703374 | AB44: =ROUND((AC44+AD44+AF44),6) -> 528.2928 | AC44: =ROUND(((ES44*0)),6) -> 0 | AD44: =ROUND((((((ET44*0.7)*1.35))-(((EU44*0.7)*1.35)))+AE44),6) -> 118.881 | AE44: =ROUND((((EU44*0.7)*1.35)),6) -> 3.6099 | AF44: =ROUND((((EV44*0.7)*1.35)),6) -> 409.4118 | AG44: =ROUND((AP44),6) -> 0 | AH44: =(((EW44*0.7)*1.35)) -> 47.99655 | AI44: =(((EX44*0.7)*1.35)) -> 0.29295 | AJ44: =ROUND((AS44),6) -> 0 | AK44: 641 | AL44: 81.96 | AM44: 125.8 | AN44: 3.82 | AO44: 433.24 | AP44: 0 | AQ44: 50.79 | AR44: 0.31 | AS44: 0 | AT44: 81 | AU44: 72 | AV44: 1 | AW44: 1 | AZ44: 1 | BA44: 1 | BB44: 1 | BC44: 1 | BH44: 0 | BI44: 1 | BJ44: ФЕР-2001, 09-06-001-02, приказ Минстроя России №1039/пр от 30.12.2016г. | BM44: 9001 | BN44: 0 | BP44: 0 | BQ44: 2 | BR44: 0 | BS44: 1 | BT44: 1 | BU44: 1 | BV44: 1 | BW44: 1 | BX44: 1 | BZ44: 90 | CA44: 85 | CF44: 0 | CG44: 0 | CM44: 0 | CN44: Поправка: МДС 81-36.2004, п.3.3.1.д Наименование: При демонтаже металлических конструкций Поправка: МДС 81-35.2004, прил.1, т.3, п.2 Наименование: Производство ремонтных работ в существующих зданиях и сооружениях в стесненных условиях: с наличием в зоне производства работ действующего технологического оборудования (станков, установок, кранов и т.п.) или загромождающих предметов (лабораторное оборудование, мебель и т. п.), или движения транспорта по внутрицеховым путям. | CO44: 0 | CP44: =(P44+Q44+S44) -> 100.38 | CQ44: =AC44*BC44 -> 0 | CR44: =AD44*BB44 -> 118.881 | CS44: =AE44*BS44 -> 3.6099 | CT44: =AF44*BA44 -> 409.4118 | CU44: =AG44 -> 0 | CV44: =AH44 -> 47.99655 | CW44: =AI44 -> 0.29295 | CX44: =AJ44 -> 0 | CY44: =(((S44+R44)*AT44)/100) -> 63.5688 | CZ44: =(((S44+R44)*AU44)/100) -> 56.5056 | DD44: )*0 | DE44: )*0,7)*1,35 | DF44: )*0,7)*1,35 | DG44: )*0,7)*1,35 | DI44: )*0,7)*1,35 | DJ44: )*0,7)*1,35 | DN44: 0 | DO44: 0 | DP44: 1 | DQ44: 1 | DU44: 1009 | DV44: т | DW44: т | DX44: 1000 | EE44: 27029022 | EF44: 2 | EG44: Общестроительные работы | EH44: 0 | EJ44: 1 | EK44: 9001 | EL44: Металлические конструкции | EM44: ФЕР-09 | EO44: Поправка: МДС 81-36.2004, п.3.3.1.д Поправка: МДС 81-35.2004, прил.1, т.3, п.2 | EQ44: 0 | ER44: 641 | ES44: 81.96 | ET44: 125.8 | EU44: 3.82 | EV44: 433.24 | EW44: 50.79 | EX44: 0.31 | EY44: 0 | FQ44: 0 | FR44: =ROUND(IF(AND(BH44=3,BI44=3),P44,0),2) -> 0 | FS44: 0 | FT44: *0,9 | FU44: *0,85 | FX44: 81 | FY44: 72.25 | GD44: 0 | GF44: -1527117950 | GG44: 2 | GH44: 1 | GI44: -2 | GJ44: 0 | GK44: =ROUND(R44*(R12)/100,2) -> 0 | GL44: =ROUND(IF(AND(BH44=3,BI44=3,FS44<>0),P44,0),2) -> 0 | GM44: =ROUND(O44+X44+Y44+GK44,2)+GX44 -> 220.46 | GN44: =IF(OR(BI44=0,BI44=1),ROUND(O44+X44+Y44+GK44,2),0) -> 220.46 | GO44: =IF(BI44=2,ROUND(O44+X44+Y44+GK44,2),0) -> 0 | GP44: =IF(BI44=4,ROUND(O44+X44+Y44+GK44,2)+GX44,0) -> 0 | GR44: 0 | GS44: 3 | GT44: 0 | GV44: =ROUND(GT44,6) -> 0 | GW44: 1 | GX44: =ROUND(GV44*GW44*I44,2) -> 0 | HA44: 0 | HB44: 0 | IK44: 0
A45: 17 | B45: 1 | C45: =ROW(SmtRes!A64) -> 64 | D45: =ROW(EtalonRes!A68) -> 68 | E45: 5 | F45: 09-06-001-02 | G45: Демонтаж решеток из полосовой и тонколистовой стали | H45: т | I45: 0.19 | J45: 0 | O45: =ROUND(CP45,2) -> 100.38 | P45: =ROUND(CQ45*I45,2) -> 0 | Q45: =ROUND(CR45*I45,2) -> 22.59 | R45: =ROUND(CS45*I45,2) -> 0.69 | S45: =ROUND(CT45*I45,2) -> 77.79 | T45: =ROUND(CU45*I45,2) -> 0 | U45: =CV45*I45 -> 9.1193445 | V45: =CW45*I45 -> 0.0556605 | W45: =ROUND(CX45*I45,2) -> 0 | X45: =ROUND(CY45,2) -> 63.57 | Y45: =ROUND(CZ45,2) -> 56.51 | AA45: 27703388 | AB45: =ROUND((AC45+AD45+AF45),6) -> 528.2928 | AC45: =ROUND(((ES45*0)),6) -> 0 | AD45: =ROUND((((((ET45*0.7)*1.35))-(((EU45*0.7)*1.35)))+AE45),6) -> 118.881 | AE45: =ROUND((((EU45*0.7)*1.35)),6) -> 3.6099 | AF45: =ROUND((((EV45*0.7)*1.35)),6) -> 409.4118 | AG45: =ROUND((AP45),6) -> 0 | AH45: =(((EW45*0.7)*1.35)) -> 47.99655 | AI45: =(((EX45*0.7)*1.35)) -> 0.29295 | AJ45: =ROUND((AS45),6) -> 0 | AK45: 641 | AL45: 81.96 | AM45: 125.8 | AN45: 3.82 | AO45: 433.24 | AP45: 0 | AQ45: 50.79 | AR45: 0.31 | AS45: 0 | AT45: 81 | AU45: 72 | AV45: 1 | AW45: 1 | AZ45: 1 | BA45: 1 | BB45: 1 | BC45: 1 | BH45: 0 | BI45: 1 | BJ45: ФЕР-2001, 09-06-001-02, приказ Минстроя России №1039/пр от 30.12.2016г. | BM45: 9001 | BN45: 0 | BP45: 0 | BQ45: 2 | BR45: 0 | BS45: 1 | BT45: 1 | BU45: 1 | BV45: 1 | BW45: 1 | BX45: 1 | BZ45: 90 | CA45: 85 | CF45: 0 | CG45: 0 | CM45: 0 | CN45: Поправка: МДС 81-36.2004, п.3.3.1.д Наименование: При демонтаже металлических конструкций Поправка: МДС 81-35.2004, прил.1, т.3, п.2 Наименование: Производство ремонтных работ в существующих зданиях и сооружениях в стесненных условиях: с наличием в зоне производства работ действующего технологического оборудования (станков, установок, кранов и т.п.) или загромождающих предметов (лабораторное оборудование, мебель и т. п.), или движения транспорта по внутрицеховым путям. | CO45: 0 | CP45: =(P45+Q45+S45) -> 100.38 | CQ45: =AC45*BC45 -> 0 | CR45: =AD45*BB45 -> 118.881 | CS45: =AE45*BS45 -> 3.6099 | CT45: =AF45*BA45 -> 409.4118 | CU45: =AG45 -> 0 | CV45: =AH45 -> 47.99655 | CW45: =AI45 -> 0.29295 | CX45: =AJ45 -> 0 | CY45: =(((S45+R45)*AT45)/100) -> 63.5688 | CZ45: =(((S45+R45)*AU45)/100) -> 56.5056 | DD45: )*0 | DE45: )*0,7)*1,35 | DF45: )*0,7)*1,35 | DG45: )*0,7)*1,35 | DI45: )*0,7)*1,35 | DJ45: )*0,7)*1,35 | DN45: 0 | DO45: 0 | DP45: 1 | DQ45: 1 | DU45: 1009 | DV45: т | DW45: т | DX45: 1000 | EE45: 27029022 | EF45: 2 | EG45: Общестроительные работы | EH45: 0 | EJ45: 1 | EK45: 9001 | EL45: Металлические конструкции | EM45: ФЕР-09 | EO45: Поправка: МДС 81-36.2004, п.3.3.1.д Поправка: МДС 81-35.2004, прил.1, т.3, п.2 | EQ45: 0 | ER45: 641 | ES45: 81.96 | ET45: 125.8 | EU45: 3.82 | EV45: 433.24 | EW45: 50.79 | EX45: 0.31 | EY45: 0 | FQ45: 0 | FR45: =ROUND(IF(AND(BH45=3,BI45=3),P45,0),2) -> 0 | FS45: 0 | FT45: *0,9 | FU45: *0,85 | FX45: 81 | FY45: 72.25 | GD45: 0 | GF45: -1527117950 | GG45: 1 | GH45: 1 | GI45: -2 | GJ45: 0 | GK45: =ROUND(R45*(S12)/100,2) -> 0 | GL45: =ROUND(IF(AND(BH45=3,BI45=3,FS45<>0),P45,0),2) -> 0 | GM45: =ROUND(O45+X45+Y45+GK45,2)+GX45 -> 220.46 | GN45: =IF(OR(BI45=0,BI45=1),ROUND(O45+X45+Y45+GK45,2),0) -> 220.46 | GO45: =IF(BI45=2,ROUND(O45+X45+Y45+GK45,2),0) -> 0 | GP45: =IF(BI45=4,ROUND(O45+X45+Y45+GK45,2)+GX45,0) -> 0 | GR45: 0 | GS45: 3 | GT45: 0 | GV45: =ROUND(GT45,6) -> 0 | GW45: 1 | GX45: =ROUND(GV45*GW45*I45,2) -> 0 | HA45: 0 | HB45: 0 | IK45: 0
A46: 17 | B46: 1 | C46: =ROW(SmtRes!A67) -> 67 | D46: =ROW(EtalonRes!A71) -> 71 | E46: 6 | F46: 46-04-012-03 | G46: Разборка деревянных заполнений проемов дверных и воротных | H46: 100 м2 | I46: =ROUND(6.86/100,9) -> 0.0686 | J46: 0 | O46: =ROUND(CP46,2) -> 85.41 | P46: =ROUND(CQ46*I46,2) -> 0 | Q46: =ROUND(CR46*I46,2) -> 19.09 | R46: =ROUND(CS46*I46,2) -> 8.24 | S46: =ROUND(CT46*I46,2) -> 66.32 | T46: =ROUND(CU46*I46,2) -> 0 | U46: =CV46*I46 -> 8.1974599 | V46: =CW46*I46 -> 0.6106086 | W46: =ROUND(CX46*I46,2) -> 0 | X46: =ROUND(CY46,2) -> 73.81 | Y46: =ROUND(CZ46,2) -> 44.74 | AA46: 27703374 | AB46: =ROUND((AC46+AD46+AF46),6) -> 1244.967 | AC46: =ROUND((ES46),6) -> 0 | AD46: =ROUND(((((ET46*1.15))-((EU46*1.15)))+AE46),6) -> 278.2425 | AE46: =ROUND(((EU46*1.15)),6) -> 120.1635 | AF46: =ROUND(((EV46*1.15)),6) -> 966.7245 | AG46: =ROUND((AP46),6) -> 0 | AH46: =((EW46*1.15)) -> 119.4965 | AI46: =((EX46*1.15)) -> 8.901 | AJ46: =ROUND((AS46),6) -> 0 | AK46: 1082.58 | AL46: 0 | AM46: 241.95 | AN46: 104.49 | AO46: 840.63 | AP46: 0 | AQ46: 103.91 | AR46: 7.74 | AS46: 0 | AT46: 99 | AU46: 60 | AV46: 1 | AW46: 1 | AZ46: 1 | BA46: 1 | BB46: 1 | BC46: 1 | BH46: 0 | BI46: 1 | BJ46: ФЕР-2001, 46-04-012-03, приказ Минстроя России №1039/пр от 30.12.2016г. | BM46: 46001 | BN46: 0 | BP46: 0 | BQ46: 2 | BR46: 0 | BS46: 1 | BT46: 1 | BU46: 1 | BV46: 1 | BW46: 1 | BX46: 1 | BZ46: 110 | CA46: 70 | CF46: 0 | CG46: 0 | CM46: 0 | CN46: Поправка: МДС 81-36.2004, прил.3, п.3р Наименование: Производство строительных и других работ в существующих зданиях и сооружениях в стесненных условиях: с наличием в зоне производства работ действующего технологического оборудования (станков, установок, кранов и т.п.) или загромождающих предметов (лабораторное оборудование, мебель и т. п.), или движения транспорта по внутрицеховым путям | CO46: 0 | CP46: =(P46+Q46+S46) -> 85.41 | CQ46: =AC46*BC46 -> 0 | CR46: =AD46*BB46 -> 278.2425 | CS46: =AE46*BS46 -> 120.1635 | CT46: =AF46*BA46 -> 966.7245 | CU46: =AG46 -> 0 | CV46: =AH46 -> 119.4965 | CW46: =AI46 -> 8.901 | CX46: =AJ46 -> 0 | CY46: =(((S46+R46)*AT46)/100) -> 73.8144 | CZ46: =(((S46+R46)*AU46)/100) -> 44.736 | DE46: )*1,15 | DF46: )*1,15 | DG46: )*1,15 | DI46: )*1,15 | DJ46: )*1,15 | DN46: 0 | DO46: 0 | DP46: 1 | DQ46: 1 | DU46: 1005 | DV46: 100 м2 | DW46: 100 м2 | DX46: 100 | EE46: 27029091 | EF46: 2 | EG46: Общестроительные работы | EH46: 0 | EJ46: 1 | EK46: 46001 | EL46: Реконструкция зданий и сооружений | EM46: ФЕР-46 | EO46: Поправка: МДС 81-36.2004, прил.3, п.3р | EQ46: 0 | ER46: 1082.58 | ES46: 0 | ET46: 241.95 | EU46: 104.49 | EV46: 840.63 | EW46: 103.91 | EX46: 7.74 | EY46: 0 | FQ46: 0 | FR46: =ROUND(IF(AND(BH46=3,BI46=3),P46,0),2) -> 0 | FS46: 0 | FT46: *0,9 | FU46: *0,85 | FX46: 99 | FY46: 59.5 | GD46: 0 | GF46: 309229644 | GG46: 2 | GH46: 1 | GI46: -2 | GJ46: 0 | GK46: =ROUND(R46*(R12)/100,2) -> 0 | GL46: =ROUND(IF(AND(BH46=3,BI46=3,FS46<>0),P46,0),2) -> 0 | GM46: =ROUND(O46+X46+Y46+GK46,2)+GX46 -> 203.96 | GN46: =IF(OR(BI46=0,BI46=1),ROUND(O46+X46+Y46+GK46,2),0) -> 203.96 | GO46: =IF(BI46=2,ROUND(O46+X46+Y46+GK46,2),0) -> 0 | GP46: =IF(BI46=4,ROUND(O46+X46+Y46+GK46,2)+GX46,0) -> 0 | GR46: 0 | GS46: 3 | GT46: 0 | GV46: =ROUND(GT46,6) -> 0 | GW46: 1 | GX46: =ROUND(GV46*GW46*I46,2) -> 0 | HA46: 0 | HB46: 0 | IK46: 0
