Workbook
Name Constr: '01-02'!$A$1
Name Constr: '01-03'!$A$1
Name Constr: '05-01'!$A$1
Name Constr: '06-01'!$A$1
Name Constr: '06-02'!$A$1
Name Constr: '06-03 изм.1'!$A$1
Name Constr: '06-04'!$A$1
Name Constr: '07-01 изм.1'!$A$1
Name Constr: '07-02 изм.1'!$A$1
Name Constr: '07-03 изм.1'!$A$1
Name Constr: '07-04 изм.1'!$A$1
Name Constr: '07-05'!$A$7
Name Constr: '07-06 изм.1'!$A$1
Name FOT: '01-02'!$B$17
Name FOT: '01-03'!$B$20
Name FOT: '05-01'!$B$17
Name FOT: '06-01'!$B$20
Name FOT: '06-02'!$B$19
Name FOT: '06-03 изм.1'!$B$17
Name FOT: '06-04'!$B$19
Name FOT: '07-01 изм.1'!$B$17
Name FOT: '07-02 изм.1'!$B$20
Name FOT: '07-03 изм.1'!$B$17
Name FOT: '07-04 изм.1'!$B$19
Name FOT: '07-05'!$D$19
Name FOT: '07-06 изм.1'!$B$19
Name Ind: '01-02'!$D$9
Name Ind: '01-03'!$D$9
Name Ind: '05-01'!$C$9
Name Ind: '06-01'!$D$9
Name Ind: '06-02'!$C$9
Name Ind: '06-03 изм.1'!$D$9
Name Ind: '06-04'!$C$9
Name Ind: '07-01 изм.1'!$D$9
Name Ind: '07-02 изм.1'!$D$9
Name Ind: '07-03 изм.1'!$D$9
Name Ind: '07-04 изм.1'!$D$9
Name Ind: '07-05'!$H$9
Name Ind: '07-06 изм.1'!$D$9
Name Obj: '01-02'!#REF!
Name Obj: '01-03'!#REF!
Name Obj: '05-01'!#REF!
Name Obj: '06-01'!#REF!
Name Obj: '06-02'!#REF!
Name Obj: '06-03 изм.1'!#REF!
Name Obj: '06-04'!#REF!
Name Obj: '07-01 изм.1'!#REF!
Name Obj: '07-02 изм.1'!#REF!
Name Obj: '07-03 изм.1'!#REF!
Name Obj: '07-04 изм.1'!#REF!
Name Obj: '07-05'!$E$12
Name Obj: '07-06 изм.1'!#REF!
Name Obosn: '01-02'!$B$15
Name Obosn: '01-03'!$B$15
Name Obosn: '05-01'!$B$15
Name Obosn: '06-01'!$B$15
Name Obosn: '06-02'!$B$15
Name Obosn: '06-03 изм.1'!$B$15
Name Obosn: '06-04'!$B$15
Name Obosn: '07-01 изм.1'!$B$15

Sheet 01-02
H1: ФГУП "Комбинат "Электрохимприбор"
H2: (наименование стройки)
H4: ЛОКАЛЬНЫЙ СМЕТНЫЙ РАСЧЕТ № 01-02
H5: (локальная смета)
C7: на | D7: разборку и восстановление ограждения, Административно-бытовой корпус промплощадки 5
H8: (наименование работ и затрат, наименование объекта)
D10: Основание: Р-055/10674-294-ГП (л. 1-7)
D11: Сметная стоимость строительных работ _______________________________________________________________________________________________ | J11: ___________________________18,012 | L11: тыс. руб.
D12: Средства на оплату труда _______________________________________________________________________________________________ | J12: ___________________________3,979 | L12: тыс. руб.
D13: Сметная трудоемкость _______________________________________________________________________________________________ | J13: _______________________________________________________________________________________________249,95 | L13: чел.час
D14: Составлен в ценах 2001г.
A17: № пп | B17: Обосно- вание | C17: Наименование | D17: Ед. изм. | E17: Кол. | F17: Стоимость единицы, руб. | J17: Общая стоимость, руб. | N17: Т/з осн. раб.на ед. | O17: Т/з осн. раб. Всего | P17: Т/з мех. на ед. | Q17: Т/з мех. Всего
F18: Всего | G18: В том числе | J18: Всего | K18: В том числе
G19: Осн.З/п | H19: Эк.Маш | I19: З/пМех | K19: Осн.З/п | L19: Эк.Маш | M19: З/пМех
A20: 1 | B20: 2 | C20: 3 | D20: 4 | E20: 5 | F20: 6 | G20: 7 | H20: 8 | I20: 9 | J20: 10 | K20: 11 | L20: 12 | M20: 13 | N20: 14 | O20: 15 | P20: 16 | Q20: 17
A21: Раздел 1. Разборка и восстановление внешнего ограждения из профлиста
A22: 1 | B22: ТЕР09-04-006-01 примен. | C22: Демонтаж каркаса ограждения (5.Прил.9.3Разборка (демонтаж) металлических конструкций ОЗП=0,7; ЭМ=0,7 к расх.; ЗПМ=0,7; МАТ=0 к расх.; ТЗ=0,7; ТЗМ=0,7) | D22: 1 т конструкций | E22: 0.805 | F22: 785.15 | G22: 281.11 | H22: 504.04 | I22: 37.2 | J22: 632 | K22: 226 | L22: 406 | M22: 30 | N22: 19.84 | O22: 15.97 | P22: 2.04 | Q22: 1.64
A23: 2 | B23: ТЕР09-04-006-02 примен. | C23: Демонтаж ограждения из профилированного листа (5.Прил.9.3Разборка (демонтаж) металлических конструкций ОЗП=0,7; ЭМ=0,7 к расх.; ЗПМ=0,7; МАТ=0 к расх.; ТЗ=0,7; ТЗМ=0,7) | D23: 100 м2 | E23: 0,684 окр(31,11*2,2/100;3 | F23: 3070.34 | G23: 941.84 | H23: 2128.5 | I23: 219.61 | J23: 2100 | K23: 644 | L23: 1456 | M23: 150 | N23: 73.7 | O23: 50.41 | P23: 11.48 | Q23: 7.85
A24: 3 | B24: ТЕР09-04-006-01 | C24: Восстановление каркаса ограждения из ранее демонтированных конструкций (МАТ=0 к расх.) | D24: 1 т конструкций | E24: 0.805 | F24: 1121.63 | G24: 401.58 | H24: 720.05 | I24: 53.14 | J24: 903 | K24: 323 | L24: 580 | M24: 43 | N24: 28.34 | O24: 22.81 | P24: 2.91 | Q24: 2.34
A25: 4 | B25: ТЕР09-04-006-02 примен. | C25: Восстановление ограждения из профилированного листа (МАТ=0 к расх.) | D25: 100 м2 | E25: 0,684 окр(31,11*2,2/100;3 | F25: 4386.2 | G25: 1345.48 | H25: 3040.72 | I25: 313.73 | J25: 3000 | K25: 920 | L25: 2080 | M25: 215 | N25: 105.28 | O25: 72.01 | P25: 16.4 | Q25: 11.22
A26: 5 | B26: ТЕР09-04-006-01 | C26: Монтаж вновь возводимых конструкций каркаса | D26: 1 т конструкций | E26: 0.05 | F26: 1377.22 | G26: 401.58 | H26: 720.05 | I26: 53.14 | J26: 69 | K26: 20 | L26: 36 | M26: 3 | N26: 28.34 | O26: 1.42 | P26: 2.91 | Q26: 0.15
A27: 6 | B27: ТСЦ-103-8003 | C27: Столбы стальные из труб наружный диаметр 108 мм | D27: т | E27: 0.04 | F27: 9568.66 | J27: 383
A28: 7 | B28: ТСЦ-103-8002 | C28: Ригели стальные из труб диаметром 50 мм | D28: т | E28: 0.01 | F28: 8121.39 | J28: 81
A29: 8 | B29: ТЕР13-03-004-26 | C29: Окраска металлических огрунтованных поверхностей эмалью ПФ-115 | D29: 100 м2 окрашиваемой поверхности | E29: 0,015 окр((0,04*26,5+0,01*43,5)/100;3 | F29: 630.91 | G29: 48.95 | H29: 6.68 | I29: 0.16 | J29: 9 | K29: 1 | N29: 3.83 | O29: 0.06 | P29: 0.01
A30: 9 | B30: ТЕР09-04-006-02 примен. | C30: Монтаж ограждения из профилированного листа | D30: 100 м2 | E30: 0,018 окр(0,81*2,2/100;3 | F30: 4831.7 | G30: 1345.48 | H30: 3040.72 | I30: 313.73 | J30: 87 | K30: 24 | L30: 55 | M30: 6 | N30: 105.28 | O30: 1.9 | P30: 16.4 | Q30: 0.3
A31: 10 | B31: ТСЦ-101-3859 | C31: Профилированный настил оцинкованный С44-1000-0,7 | D31: т | E31: 0,014 окр(0,81*2,2*0,0074*1,03;3 | F31: 15136 | J31: 212
A32: Итого прямые затраты по разделу в ценах 2001г. | J32: 7476 | K32: 2158 | L32: 4613 | M32: 447 | O32: 164.58 | Q32: 23.5
A33: Накладные расходы | J33: 2345
A34: Сметная прибыль | J34: 2214
A35: Итого по разделу 1 Разборка и восстановление внешнего ограждения из профлиста | J35: 12035 | O35: 164.58 | Q35: 23.5
A36: Раздел 2. Разборка и восстановление внутреннего ограждения из металлической сетки
A37: 11 | B37: ТЕР07-01-054-11 примен. | C37: Демонтаж металлических оград по железобетонным столбам без цоколя из сетчатых панелей высотой до 1,7 м (Коэффициент на демонтаж (разборку) конструкций ОЗП=0,8; ЭМ=0,8 к расх.; ЗПМ=0,8; МАТ=0 к расх.; ТЗ=0,8; ТЗМ=0,8) | D37: 100 м ограды | E37: 0,297 29,7/100 | F37: 4182.44 | G37: 1659.24 | H37: 2523.2 | I37: 334.01 | J37: 1242 | K37: 493 | L37: 749 | M37: 99 | N37: 123.82 | O37: 36.77 | P37: 18.35 | Q37: 5.45
A38: 12 | B38: ТЕР07-01-054-11 | C38: Восстановление металлических оград по железобетонным столбам без цоколя из сетчатых панелей высотой до 1,7 м из ранее демонтированных конструкций (МАТ=0 к расх.) | D38: 100 м ограды | E38: 0,297 29,7/100 | F38: 5228.05 | G38: 2074.05 | H38: 3154 | I38: 417.51 | J38: 1553 | K38: 616 | L38: 937 | M38: 124 | N38: 154.78 | O38: 45.97 | P38: 22.94 | Q38: 6.81
A39: 13 | B39: ТЕР07-01-054-11 | C39: Установка металлических оград по железобетонным столбам без цоколя из сетчатых панелей высотой до 1,7 м (добавление нового материала) | D39: 100 м ограды | E39: 0,017 1,7/100 | F39: 13401.62 | G39: 2074.05 | H39: 3154 | I39: 417.51 | J39: 228 | K39: 35 | L39: 54 | M39: 7 | N39: 154.78 | O39: 2.63 | P39: 22.94 | Q39: 0.39
A40: Итого прямые затраты по разделу в ценах 2001г. | J40: 3023 | K40: 1144 | L40: 1740 | M40: 230 | O40: 85.37 | Q40: 12.65
A41: Накладные расходы | J41: 1786
A42: Сметная прибыль | J42: 1168
A43: Итого по разделу 2 Разборка и восстановление внутреннего ограждения из металлической сетки | J43: 5977 | O43: 85.37 | Q43: 12.65
A44: ИТОГИ ПО СМЕТЕ:
A45: Итого прямые затраты по смете в ценах 2001г. | J45: 10499 | K45: 3302 | L45: 6353 | M45: 677 | O45: 249.95 | Q45: 36.15
...

Sheet 01-03
H1: ФГУП "Комбинат "Электрохимприбор"
H2: (наименование стройки)
H4: ЛОКАЛЬНЫЙ СМЕТНЫЙ РАСЧЕТ № 01-03
H5: (локальная смета)
C7: на | D7: разборку тротуара, Административно-бытовой корпус промплощадки 5
H8: (наименование работ и затрат, наименование объекта)
D10: Основание: Р-055/10674-294-ГП (л. 1-7)
D11: Сметная стоимость строительных работ _______________________________________________________________________________________________ | J11: ___________________________1,206 | L11: тыс. руб.
D12: Средства на оплату труда _______________________________________________________________________________________________ | J12: ___________________________0,138 | L12: тыс. руб.
D13: Сметная трудоемкость _______________________________________________________________________________________________ | J13: _______________________________________________________________________________________________8,81 | L13: чел.час
D14: Составлен в ценах по состоянию на 01.01.2001г
A17: № пп | B17: Обосно- вание | C17: Наименование | D17: Ед. изм. | E17: Кол. | F17: Стоимость единицы, руб. | J17: Общая стоимость, руб. | N17: Т/з осн. раб.на ед. | O17: Т/з осн. раб. Всего | P17: Т/з мех. на ед. | Q17: Т/з мех. Всего
F18: Всего | G18: В том числе | J18: Всего | K18: В том числе
G19: Осн.З/п | H19: Эк.Маш | I19: З/пМех | K19: Осн.З/п | L19: Эк.Маш | M19: З/пМех
A20: 1 | B20: 2 | C20: 3 | D20: 4 | E20: 5 | F20: 6 | G20: 7 | H20: 8 | I20: 9 | J20: 10 | K20: 11 | L20: 12 | M20: 13 | N20: 14 | O20: 15 | P20: 16 | Q20: 17
A21: Раздел 1. Разборка существующего асфальтобетонного тротуара
A22: 1 | B22: ТЕР27-03-008-04 | C22: Разборка покрытий асфальтобетонных | D22: 100 м3 конструкций | E22: 0,049 98*0,05/100 | F22: 9798.75 | G22: 2105.46 | H22: 7693.29 | I22: 716.85 | J22: 480 | K22: 103 | L22: 377 | M22: 35 | N22: 179.8 | O22: 8.81 | P22: 45.63 | Q22: 2.24
A23: 2 | B23: ФССЦпг01-01-01-042 | C23: Погрузочные работы при автомобильных перевозках: мусор строительный с погрузкой транспортерами (коэффициент перехода от ФЕР к ТЕР Свердловской обл. ОЗП=1,41; ЭМ=1,242; ЗПМ=1,242; МАТ=1,052) | D23: 1 т груза | E23: 10,3 98*0,05*2,1 | F23: 9.89 | H23: 9.89 | J23: 102 | L23: 102
A24: 3 | B24: ФССЦпг03-21-01-040 | C24: Перевозка грузов автомобилями-самосвалами грузоподъемностью 10 т, работающих вне карьера, на расстояние: до 40 км I класс груза (коэффициент перехода от ФЕР к ТЕР Свердловской обл. ОЗП=1,41; ЭМ=1,242; ЗПМ=1,242; МАТ=1,052) | D24: 1 т груза | E24: 10,3 98*0,05*2,1 | F24: 28.85 | H24: 28.85 | J24: 297 | L24: 297
A25: Итого прямые затраты по смете в ценах 2001г. | J25: 879 | K25: 103 | L25: 776 | M25: 35 | O25: 8.81 | Q25: 2.24
A26: Накладные расходы | J26: 196
A27: В том числе, справочно:
A28: 142% ФОТ (от 138) (Поз. 1) | J28: 196
A29: Сметная прибыль | J29: 131
A30: В том числе, справочно:
A31: 95% ФОТ (от 138) (Поз. 1) | J31: 131
A32: Итоги по смете:
A33: Автомобильные дороги | J33: 807 | O33: 8.81 | Q33: 2.24
A34: Погрузо-разгрузочные работы | J34: 102
A35: Перевозка грузов автотранспортом | J35: 297
A36: Итого | J36: 1206 | O36: 8.81 | Q36: 2.24
A37: В том числе:
A38: Машины и механизмы | J38: 776
A39: ФОТ | J39: 138
A40: Накладные расходы | J40: 196
A41: Сметная прибыль | J41: 131
A42: ВСЕГО по смете | J42: 1206 | O42: 8.81 | Q42: 2.24

Sheet 02-01-01 изм.1
H1: ФГУП "Комбинат "Электрохимприбор"
H2: (наименование стройки)
H4: ЛОКАЛЬНЫЙ СМЕТНЫЙ РАСЧЕТ № 02-01-01 изм.1
H5: (локальная смета)
C7: на | D7: Общестроительные работы, Административно-бытовой корпус промышленной площадки 5
H8: (наименование работ и затрат, наименование объекта)
D10: Основание: Р-055/10674-294_изм.2 (АС 1-26, КМ 1-11, КМ.СМ)
D11: Сметная стоимость строительных работ _______________________________________________________________________________________________ | J11: ___________________________1946,956 | L11: тыс. руб.
D12: Средства на оплату труда _______________________________________________________________________________________________ | J12: ___________________________84,311 | L12: тыс. руб.
D13: Сметная трудоемкость _______________________________________________________________________________________________ | J13: _______________________________________________________________________________________________6090,43 | L13: чел.час
D14: Составлен(а) в текущих (прогнозных) ценах 2001г.
A17: № пп | B17: Обосно- вание | C17: Наименование | D17: Ед. изм. | E17: Кол. | F17: Стоимость единицы, руб. | J17: Общая стоимость, руб. | N17: Т/з осн. раб.на ед. | O17: Т/з осн. раб. Всего | P17: Т/з мех. на ед. | Q17: Т/з мех. Всего
F18: Всего | G18: В том числе | J18: Всего | K18: В том числе
G19: Осн.З/п | H19: Эк.Маш | I19: З/пМех | K19: Осн.З/п | L19: Эк.Маш | M19: З/пМех
A20: 1 | B20: 2 | C20: 3 | D20: 4 | E20: 5 | F20: 6 | G20: 7 | H20: 8 | I20: 9 | J20: 10 | K20: 11 | L20: 12 | M20: 13 | N20: 14 | O20: 15 | P20: 16 | Q20: 17
A21: Раздел 1. Земляные работы
A22: 1 | B22: ТЕР01-01-013-08 | C22: Разработка грунта с погрузкой на автомобили-самосвалы экскаваторами с ковшом вместимостью 0,65 (0,5-1) м3, группа грунтов 2 | D22: 1000 м3 грунта | E22: 0,497 котлов*0,93/1000 | F22: 5028.78 | G22: 125.4 | H22: 4898.28 | I22: 559.88 | J22: 2499 | K22: 62 | L22: 2434 | M22: 278 | N22: 11.41 | O22: 5.67 | P22: 33.09 | Q22: 16.45
A23: 2 | B23: ТЕР01-02-057-02 | C23: Разработка грунта вручную в траншеях глубиной до 2 м без креплений с откосами, группа грунтов 2 | D23: 100 м3 грунта | E23: 0,37 котлов*0,07/100 | F23: 2030.95 | G23: 2030.95 | J23: 751 | K23: 751 | N23: 184.8 | O23: 68.38
A24: 3 | B24: ТЕР01-01-013-08 | C24: Погрузка грунта от ручной доработки на автомобили-самосвалы экскаваторами с ковшом вместимостью 0,65 (0,5-1) м3, группа грунтов 2 | D24: 1000 м3 грунта | E24: 0,037 котлов*0,07/1000 | F24: 5028.78 | G24: 125.4 | H24: 4898.28 | I24: 559.88 | J24: 186 | K24: 5 | L24: 181 | M24: 21 | N24: 11.41 | O24: 0.42 | P24: 33.09 | Q24: 1.22
A25: 4 | B25: ФССЦпг03-21-01-030 | C25: Перевозка грузов автомобилями-самосвалами грузоподъемностью 10 т, работающих вне карьера, на расстояние: до 30 км I класс груза | D25: 1 т груза | E25: 935 окр(котлов*1,75 | F25: 23.96 | H25: 23.96 | J25: 22403 | L25: 22403
A26: 5 | B26: ТСЦ-408-0200 примен. | C26: Непучинистый грунт для обратной засыпки | D26: м3 | E26: 497 окр(засып | F26: 138.7 | J26: 68934
A27: 6 | B27: ТЕР01-01-033-02 | C27: Засыпка траншей и котлованов с перемещением грунта до 5 м бульдозерами мощностью 59 кВт (80 л.с.), группа грунтов 2 | D27: 1000 м3 грунта | E27: 0,472 засып*0,95/1000 | F27: 822.69 | H27: 822.69 | I27: 138.55 | J27: 388 | L27: 388 | M27: 65 | P27: 8.87 | Q27: 4.19
A28: 7 | B28: ТЕР01-02-005-01 | C28: Уплотнение грунта пневматическими трамбовками, группа грунтов 1-2 | D28: 100 м3 уплотненного грунта | E28: 4,72 засып*0,95/100 | F28: 604.71 | G28: 150.49 | H28: 454.22 | I28: 47.48 | J28: 2854 | K28: 710 | L28: 2144 | M28: 224 | N28: 12.53 | O28: 59.14 | P28: 3.04 | Q28: 14.35
A29: 8 | B29: ТЕР01-02-061-02 | C29: Засыпка вручную траншей, пазух котлованов и ям, группа грунтов 2 | D29: 100 м3 грунта | E29: 0,25 засып*0,05/100 | F29: 1027.4 | G29: 1027.4 | J29: 257 | K29: 257 | N29: 97.2 | O29: 24.3
A30: Итого прямые затраты по разделу в ценах 2001г. | J30: 98272 | K30: 1785 | L30: 27550 | M30: 588 | O30: 157.91 | Q30: 36.21
A31: Накладные расходы | J31: 2103
A32: Сметная прибыль | J32: 1137
A33: Итоги по разделу 1 Земляные работы :
A34: Земляные работы, выполняемые механизированным способом | J34: 7907 | O34: 65.23 | Q34: 36.21
A35: Земляные работы, выполняемые ручным способом | J35: 2268 | O35: 92.68
A36: Перевозка грузов автотранспортом | J36: 22403
A37: Материалы | J37: 68934
A38: Итого | J38: 101512 | O38: 157.91 | Q38: 36.21
A39: В том числе:
A40: Материалы | J40: 68937
A41: Машины и механизмы | J41: 27550
A42: ФОТ | J42: 2373
A43: Накладные расходы | J43: 2103
A44: Сметная прибыль | J44: 1137
A45: Итого по разделу 1 Земляные работы | J45: 101512 | O45: 157.91 | Q45: 36.21
...

Sheet 02-01-02 изм.1
H1: ЛОКАЛЬНЫЙ СМЕТНЫЙ РАСЧЕТ № 02-01-02 изм.1
H2: (локальная смета)
C4: на | D4: водопровод и канализацию, Административно-бытовой корпус промышленной площадки 5
H5: (наименование работ и затрат, наименование объекта)
D7: Основание: Р-055/10674-294-ВК изм1
D8: Сметная стоимость строительных работ _______________________________________________________________________________________________ | J8: ___________________________82,114 | L8: тыс. руб.
D9: Средства на оплату труда _______________________________________________________________________________________________ | J9: ___________________________6,815 | L9: тыс. руб.
D10: Сметная трудоемкость _______________________________________________________________________________________________ | J10: _______________________________________________________________________________________________560,05 | L10: чел.час
D11: Составлен(а) в текущих (прогнозных) ценах 2001г.
A14: № пп | B14: Обосно- вание | C14: Наименование | D14: Ед. изм. | E14: Кол. | F14: Стоимость единицы, руб. | J14: Общая стоимость, руб. | N14: Т/з осн. раб.на ед. | O14: Т/з осн. раб. Всего | P14: Т/з мех. на ед. | Q14: Т/з мех. Всего
F15: Всего | G15: В том числе | J15: Всего | K15: В том числе
G16: Осн.З/п | H16: Эк.Маш | I16: З/пМех | K16: Осн.З/п | L16: Эк.Маш | M16: З/пМех
A17: 1 | B17: 2 | C17: 3 | D17: 4 | E17: 5 | F17: 6 | G17: 7 | H17: 8 | I17: 9 | J17: 10 | K17: 11 | L17: 12 | M17: 13 | N17: 14 | O17: 15 | P17: 16 | Q17: 17
A18: Раздел 1.
A19: Хозяйственно-питьевой водопровод В1
A20: 1 | B20: ТЕР16-06-005-01 | C20: Установка счетчиков (водомеров) диаметром до 40 мм 7,47 = 1 266,37 - 1 x 1 258,90 | D20: 1 счетчик (водомер) | E20: 2 1+1 | F20: 7.47 | G20: 5.43 | H20: 1.09 | J20: 15 | K20: 11 | L20: 2 | N20: 0.41 | O20: 0.82
A21: 2 | B21: ТСЦ-301-3151 | C21: Счетчик холодной воды, марка ВСХ-20 | D21: шт. | E21: 1 | F21: 1350.26 | J21: 1350
A22: 3 | B22: ТСЦ-301-3140 | C22: Счетчик холодной воды, марка ВСХ-15 | D22: шт. | E22: 1 | F22: 157.8 | J22: 158
A23: 4 | B23: ТЕР18-07-001-02 | C23: Установка манометров с трехходовым краном | D23: 1 компл. | E23: 1 | F23: 244.31 | G23: 3.07 | J23: 244 | K23: 3 | N23: 0.22 | O23: 0.22
A24: 5 | B24: ФССЦ-301-2993 | C24: Фильтр магнитный муфтовый ФММ-40 | D24: шт. | E24: 1 | F24: 641.14 | J24: 641
A25: 6 | B25: ФССЦ-301-1312 | C25: Фильтр магнитный муфтовый ФММ-32 | D25: шт. | E25: 1 | F25: 475.19 | J25: 475
A26: 7 | B26: ТЕР16-05-001-03 | C26: Установка вентилей, задвижек, затворов, клапанов обратных, кранов проходных на трубопроводах из стальных труб диаметром до 100 мм 99,87 = 278,39 - 2 x 89,26 | D26: 1 шт. | E26: 1 | F26: 99.87 | G26: 37.19 | H26: 11.67 | I26: 0.36 | J26: 100 | K26: 37 | L26: 12 | N26: 2.91 | O26: 2.91 | P26: 0.02 | Q26: 0.02
A27: 8 | B27: прайс-лист "Ураларматура" от 12.09.2013 | C27: Задвижка чугунная 30ч39р МЗВ д 65мм | D27: шт | E27: 1 | F27: 603,38 3980/1,18/5,59 | J27: 603
A28: 9 | B28: ТСЦ-507-1001 | C28: Фланцы стальные плоские приварные из стали ВСт3сп2, ВСт3сп3, давлением 1,6 МПа (16 кгс/см2), диаметром 65 мм | D28: шт. | E28: 2 | F28: 66.64 | J28: 133
A29: 10 | B29: ТСЦ-302-1835 | C29: Кран шаровой муфтовый 11Б27П1, диаметром 40 мм | D29: шт. | E29: 3 | F29: 161.84 | J29: 486
A30: 11 | B30: ТСЦ-302-1834 | C30: Кран шаровой муфтовый 11Б27П1, диаметром 32 мм | D30: шт. | E30: 1 | F30: 117.5 | J30: 118
A31: 12 | B31: ТСЦ-302-1278 | C31: Вентили проходные муфтовые 15Б3Р для воды и пара давлением 1,0 МПа (10 кгс/см2) диаметром 20 мм | D31: шт. | E31: 1 | F31: 22.13 | J31: 22
A32: 13 | B32: ТСЦ-302-1832 | C32: Кран шаровой муфтовый 11Б27П1, диаметром 20 мм | D32: шт. | E32: 2 | F32: 39.32 | J32: 79
A33: 14 | B33: ТСЦ-302-1831 | C33: Кран шаровой муфтовый 11Б27П1, диаметром 15 мм | D33: шт. | E33: 6 | F33: 25.14 | J33: 151
A34: 15 | B34: ТЕР10-01-059-01 | C34: Установка столов, шкафов под мойки, холодильных шкафов и др. | D34: 100 шт. изделий | E34: 4 | F34: 3440.78 | G34: 848.44 | H34: 339.37 | I34: 27.02 | J34: 13763 | K34: 3394 | L34: 1357 | M34: 108 | N34: 75.15 | O34: 300.6 | P34: 1.73 | Q34: 6.92
A35: 16 | B35: прайс-лист "Холт-Групп" от 2кв. 2013г. | C35: Шкаф для пожарного крана Престиж ШП-03П | D35: шт | E35: 4 | F35: 341,74 2230/1,18/5,53 | J35: 1367
A36: 17 | B36: ТЕР16-07-001-01 | C36: Установка кранов пожарных диаметром 50 мм 258,64 = 12 778,04 - 10 x 1 251,94 | D36: 1 кран | E36: 4 | F36: 258.64 | G36: 12.1 | H36: 3.57 | I36: 0.18 | J36: 1035 | K36: 48 | L36: 14 | M36: 1 | N36: 1.01 | O36: 4.04 | P36: 0.01 | Q36: 0.04
A37: 18 | B37: прайс-лист РусАрсенал от 1кв. 2013г. | C37: Рукав пожарный напорный "Латексированный" Ф=50 мм скатка=20м | D37: скатка | E37: 4 | F37: 277,42 1807/1,18/5,52 | J37: 1110
A38: 19 | B38: ТСЦ-301-0626 | C38: Смесители для умывальников СМ-УМ-ЦА настольные, с верхней камерой смешения, центральные, с аэратором СМ-УМОЦБА | D38: компл. | E38: 3 | F38: 91.1 | J38: 273
A39: 20 | B39: ТЕР17-01-002-03 | C39: Установка смесителей для мойки С-МДРНЩнр 112,27 = 1 246,07 - 10 x 113,38 | D39: 10 шт. | E39: 0,1 1/10 | F39: 112.27 | G39: 94.85 | H39: 0.29 | J39: 11 | K39: 9 | N39: 7 | O39: 0.7
A40: 21 | B40: торговая сеть 3кв. 2013г. | C40: Смеситель для мойки со щеткой С-МДРНЩнр-15 | D40: шт. | E40: 1 | F40: 1085,47 7160/1,18/5,59 | J40: 1085
A41: 22 | B41: ТЕР16-04-001-02 | C41: Прокладка трубопроводов из полиэтиленовых труб высокой плотности диаметром 100 мм 1 062,92 = 8 610,79 - 99,8 x 75,63 | D41: 100 м трубопровода | E41: 0.04 | F41: 1062.92 | G41: 860.55 | H41: 36.81 | I41: 1.09 | J41: 43 | K41: 34 | L41: 1 | N41: 61.6 | O41: 2.46 | P41: 0.06
A42: 23 | B42: ТСЦ-507-2841 | C42: Труба ПЭ 80 SDR 13,6, наружный диаметр 75 мм (ГОСТ 18599-2001) | D42: 10 м | E42: 0.4 | F42: 284.03 | J42: 114
A43: 24 | B43: ТЕР16-02-002-07 | C43: Прокладка трубопроводов водоснабжения из стальных водогазопроводных оцинкованных труб диаметром 65 мм | D43: 100 м трубопровода | E43: 0,27 27/100 | F43: 12178.01 | G43: 789.99 | H43: 188.31 | I43: 5.1 | J43: 3288 | K43: 213 | L43: 51 | M43: 1 | N43: 61.05 | O43: 16.48 | P43: 0.28 | Q43: 0.08
A44: 25 | B44: ТЕР16-02-002-06 | C44: Прокладка трубопроводов водоснабжения из стальных водогазопроводных оцинкованных труб диаметром 50 мм | D44: 100 м трубопровода | E44: 0,13 13/100 | F44: 10345.12 | G44: 645.39 | H44: 142.18 | I44: 3.82 | J44: 1345 | K44: 84 | L44: 18 | N44: 47.63 | O44: 6.19 | P44: 0.21 | Q44: 0.03
...

Sheet 02-01-03 изм.1
H1: ФГУП "Комбинат "Электрохимприбор"
H2: (наименование стройки)
H4: ЛОКАЛЬНЫЙ СМЕТНЫЙ РАСЧЕТ № 02-01-03 изм.1
H5: (локальная смета)
C7: на | D7: Отопление, Административно-бытовой корпус промышленной площадки 5
H8: (наименование работ и затрат, наименование объекта)
D10: Основание: Р-055/10674-294-ОВ изм.1
D11: Сметная стоимость _______________________________________________________________________________________________ | J11: ___________________________187,011 | L11: тыс. руб.
D12: строительных работ _______________________________________________________________________________________________ | J12: _______________________________________________________________________________________________136,836 | L12: тыс. руб.
D13: монтажных работ _______________________________________________________________________________________________ | J13: _______________________________________________________________________________________________9,046 | L13: тыс. руб.
D14: оборудования _______________________________________________________________________________________________ | J14: _______________________________________________________________________________________________41,129 | L14: тыс. руб.
D15: Средства на оплату труда _______________________________________________________________________________________________ | J15: ___________________________4,757 | L15: тыс. руб.
D16: Сметная трудоемкость _______________________________________________________________________________________________ | J16: _______________________________________________________________________________________________346,81 | L16: чел.час
D17: Составлен(а) в текущих (прогнозных) ценах 2001г.
A20: № пп | B20: Обосно- вание | C20: Наименование | D20: Ед. изм. | E20: Кол. | F20: Стоимость единицы, руб. | J20: Общая стоимость, руб. | N20: Т/з осн. раб.на ед. | O20: Т/з осн. раб. Всего | P20: Т/з мех. на ед. | Q20: Т/з мех. Всего
F21: Всего | G21: В том числе | J21: Всего | K21: В том числе
G22: Осн.З/п | H22: Эк.Маш | I22: З/пМех | K22: Осн.З/п | L22: Эк.Маш | M22: З/пМех
A23: 1 | B23: 2 | C23: 3 | D23: 4 | E23: 5 | F23: 6 | G23: 7 | H23: 8 | I23: 9 | J23: 10 | K23: 11 | L23: 12 | M23: 13 | N23: 14 | O23: 15 | P23: 16 | Q23: 17
A24: Раздел 1. Отопление
A25: 1 | B25: ТЕР16-02-001-02 | C25: Прокладка трубопроводов отопления из стальных водогазопроводных неоцинкованных труб диаметром 20 мм | D25: 100 м трубопровода | E25: 1,07 107/100 | F25: 4340.3 | G25: 446.74 | H25: 69.04 | I25: 2.73 | J25: 4644 | K25: 478 | L25: 74 | M25: 3 | N25: 32.97 | O25: 35.28 | P25: 0.15 | Q25: 0.16
A26: 2 | B26: ТЕР16-02-001-03 | C26: Прокладка трубопроводов отопления из стальных водогазопроводных неоцинкованных труб диаметром 25 мм | D26: 100 м трубопровода | E26: 0,76 76/100 | F26: 4893.53 | G26: 446.74 | H26: 69.04 | I26: 2.73 | J26: 3719 | K26: 340 | L26: 52 | M26: 2 | N26: 32.97 | O26: 25.06 | P26: 0.15 | Q26: 0.11
A27: 3 | B27: ТЕР16-02-001-04 | C27: Прокладка трубопроводов отопления из стальных водогазопроводных неоцинкованных труб диаметром 32 мм | D27: 100 м трубопровода | E27: 0,54 54/100 | F27: 5528.68 | G27: 446.74 | H27: 69.04 | I27: 2.73 | J27: 2985 | K27: 241 | L27: 37 | M27: 1 | N27: 32.97 | O27: 17.8 | P27: 0.15 | Q27: 0.08
A28: 4 | B28: ТЕР16-02-001-05 | C28: Прокладка трубопроводов отопления из стальных водогазопроводных неоцинкованных труб диаметром 40 мм | D28: 100 м трубопровода | E28: 0,09 9/100 | F28: 6103.76 | G28: 446.74 | H28: 69.04 | I28: 2.73 | J28: 549 | K28: 40 | L28: 6 | N28: 32.97 | O28: 2.97 | P28: 0.15 | Q28: 0.01
A29: 5 | B29: ТЕР16-07-005-01 | C29: Гидравлическое испытание трубопроводов систем отопления, водопровода и горячего водоснабжения диаметром до 50 мм | D29: 100 м трубопровода | E29: 2,46 (107+76+54+9)/100 | F29: 104.4 | G29: 82.16 | H29: 15.29 | J29: 257 | K29: 202 | L29: 38 | N29: 5.01 | O29: 12.32
A30: 6 | B30: ТЕР18-03-001-02 | C30: Установка радиаторов стальных 2 426,28 = 20 364,28 - 100 x 179,38 | D30: 100 кВт радиаторов и конвекторов | E30: 0,307 30,7/100 | F30: 2426.28 | G30: 828.53 | H30: 270.15 | I30: 20.22 | J30: 745 | K30: 254 | L30: 83 | M30: 6 | N30: 65.6 | O30: 20.14 | P30: 1.28 | Q30: 0.39
A31: 7 | B31: ТСЦ-301-1239 | C31: Радиаторы алюминивые, марка «Calidor 97 Super 500», количество секций 1, мощность 199 Вт | D31: шт. | E31: 154 | F31: 228.36 | J31: 35167
A32: 8 | B32: ТЕР16-05-001-02 | C32: Установка вентилей, задвижек, затворов, клапанов обратных, кранов проходных на трубопроводах из стальных труб диаметром до 50 мм 50,52 = 138,58 - 2 x 44,03 | D32: 1 шт. | E32: 2 | F32: 50.52 | G32: 18.79 | H32: 5.32 | J32: 101 | K32: 38 | L32: 11 | N32: 1.47 | O32: 2.94
A33: 9 | B33: Прайс-лист ООО "Данфосс" 2кв. 2013г. | C33: Ручной балансировочный клапан MSV-F2 Ду32 код 003Z1088 (Цена=206,96х41,3/5,53) | D33: шт | E33: 2 | F33: 1545,65 206,96*41,3/5,53 | J33: 3091
A34: 10 | B34: ТСЦ-507-0998 | C34: Фланцы стальные плоские приварные из стали ВСт3сп2, ВСт3сп3, давлением 1,6 МПа (16 кгс/см2), диаметром 32 мм | D34: шт. | E34: 4 | F34: 27.73 | J34: 111
A35: 11 | B35: Прайс-лист ООО "Данфосс" 2кв. 2013г. | C35: Шаровой полнопроходной кран Danfoss с внутренней резьбой Ду20 код 065B8208 (Цена=9,06х41,3/5,53) | D35: шт | E35: 29 | F35: 67,66 9,06*41,3/5,53 | J35: 1962
A36: 12 | B36: Прайс-лист ООО "Данфосс" 2кв. 2013г. | C36: Шаровой полнопроходной кран Danfoss с внутренней резьбой Ду32 код 065B8210 (Цена=21,02х41,3/5,53) | D36: шт | E36: 2 | F36: 156,98 21,02*41,3/5,53 | J36: 314
A37: 13 | B37: ИЕР18-07-002-01 | C37: Установка терморегуляторов радиаторных для системы отопления | D37: 1 терморегулятор | E37: 25 | F37: 6.3 | G37: 6.3 | J37: 158 | K37: 158 | N37: 0.38 | O37: 9.5
A38: 14 | B38: Прайс-лист ООО "Данфосс" 2кв. 2013 | C38: Комплект терморегулятора для двухтрубной системы отопления, состоящий из клапана RA-N и термостата RA2940 код 013G2156 Ду20 (Цена=36,54х41,3/5,53) | D38: шт | E38: 25 | F38: 272,89 36,54*41,3/5,53 | J38: 6822
A39: 15 | B39: ТЕР18-07-001-05 | C39: Установка кранов воздушных 2,68 = 15,29 - 1 x 12,61 | D39: 1 компл. | E39: 25 | F39: 2.68 | G39: 1.73 | J39: 67 | K39: 43 | N39: 0.12 | O39: 3
A40: 16 | B40: ТСЦ-301-1307 | C40: Краны воздушные радиаторов диаметром 25 мм | D40: шт. | E40: 25 | F40: 3.14 | J40: 79
A41: 17 | B41: ТСЦ-301-1224 | C41: Крепления для трубопроводов: кронштейны, планки, хомуты | D41: кг | E41: 7 | F41: 17.02 | J41: 119
A42: 18 | B42: ТЕР13-03-004-26 | C42: Окраска металлических огрунтованных поверхностей краской Нержамет (за 2 раза) 65,66 = 630,91 - 0,019 x 29 750,00 | D42: 100 м2 окрашиваемой поверхности | E42: 0,38 38/100 | F42: 131.32 | G42: 97.9 | H42: 13.36 | I42: 0.32 | J42: 50 | K42: 37 | L42: 5 | N42: 7.66 | O42: 2.91 | P42: 0.02 | Q42: 0.01
A43: 19 | B43: Прайс-лист "КрасКо", 2кв.2013г. | C43: Краска для металла антикоррозионная Нержамет (Цена=173/1,18/5,53) | D43: кг | E43: 19 38/4*2 | F43: 26,51 173/1,18/5,53 | J43: 504
A44: 20 | B44: ТЕР13-03-002-04 | C44: Огрунтовка металлических поверхностей за один раз грунтовкой ГФ-021 | D44: 100 м2 окрашиваемой поверхности | E44: 0,02 2/100 | F44: 417.46 | G44: 79.65 | H44: 10.15 | I44: 0.16 | J44: 8 | K44: 2 | N44: 5.31 | O44: 0.11 | P44: 0.01
A45: 21 | B45: ТЕР13-03-004-23 | C45: Окраска металлических огрунтованных поверхностей краской БТ-177 серебристой | D45: 100 м2 окрашиваемой поверхности | E45: 0,04 4/100 | F45: 388.79 | G45: 36.81 | H45: 13.3 | I45: 0.16 | J45: 16 | K45: 1 | L45: 1 | N45: 2.88 | O45: 0.12 | P45: 0.01
...

Sheet 02-01-04 изм.1
H1: ФГУП "Комбинат "Электрохимприбор"
H2: (наименование стройки)
H4: ЛОКАЛЬНЫЙ СМЕТНЫЙ РАСЧЕТ № 02-01-04 изм.1
H5: (локальная смета)
C7: на | D7: вентиляцию, Административно-бытовой корпус промышленной площадки 5
H8: (наименование работ и затрат, наименование объекта)
D10: Основание: Р-055/10674-294-ОВ изм.1
D11: Сметная стоимость _______________________________________________________________________________________________ | J11: ___________________________327,963 | L11: тыс. руб.
D12: строительных работ _______________________________________________________________________________________________ | J12: _______________________________________________________________________________________________170,072 | L12: тыс. руб.
D13: монтажных работ _______________________________________________________________________________________________ | J13: _______________________________________________________________________________________________7,947 | L13: тыс. руб.
D14: оборудования _______________________________________________________________________________________________ | J14: _______________________________________________________________________________________________149,944 | L14: тыс. руб.
D15: Средства на оплату труда _______________________________________________________________________________________________ | J15: ___________________________27,553 | L15: тыс. руб.
D16: Сметная трудоемкость _______________________________________________________________________________________________ | J16: _______________________________________________________________________________________________2160,85 | L16: чел.час
D17: Составлен(а) в текущих (прогнозных) ценах 2001г.
A20: № пп | B20: Обосно- вание | C20: Наименование | D20: Ед. изм. | E20: Кол. | F20: Стоимость единицы, руб. | J20: Общая стоимость, руб. | N20: Т/з осн. раб.на ед. | O20: Т/з осн. раб. Всего | P20: Т/з мех. на ед. | Q20: Т/з мех. Всего
F21: Всего | G21: В том числе | J21: Всего | K21: В том числе
G22: Осн.З/п | H22: Эк.Маш | I22: З/пМех | K22: Осн.З/п | L22: Эк.Маш | M22: З/пМех
A23: 1 | B23: 2 | C23: 3 | D23: 4 | E23: 5 | F23: 6 | G23: 7 | H23: 8 | I23: 9 | J23: 10 | K23: 11 | L23: 12 | M23: 13 | N23: 14 | O23: 15 | P23: 16 | Q23: 17
A24: Раздел 1. Вентиляция
A25: Система П1
A26: 1 | B26: ТЕР20-06-002-09 | C26: Приточно-вытяжная установка LITENED 50-25 А.3.25-0,55x30 производительностью 1500 м3/час в составе: | D26: 1 камера | E26: 1 | F26: 1298.61 | G26: 748.97 | H26: 186.79 | I26: 8.01 | J26: 1299 | K26: 749 | L26: 187 | M26: 8 | N26: 57.88 | O26: 57.88 | P26: 0.44 | Q26: 0.44
A27: 2 | B27: КП №ND13-148355 ООО "НЕД" от 10.09.2013 | C27: Секция фильтра, вод. нагрева, вентилятора 50-25 А.3.25-0,55x30 (Цена=1374*43,4/1,18/5,59) | D27: шт | E27: 1 | F27: 9040,3 1374*43,4/1,18/5,59 | J27: 9040
A28: 3 | B28: КП №ND13-148355 ООО "НЕД" от 10.09.2013 | C28: Вставка карманная фильтрующая укороченная DFU 50-25 G3 (Цена=30х43,4:1,18:5,59) | D28: шт | E28: 1 | F28: 197,39 30*43,4/1,18/5,59 | J28: 197
A29: 4 | B29: КП №ND13-148355 ООО "НЕД" от 10.09.2013 | C29: Заслонка CHR 50-25 (Цена=69х43,4:1,18:5,59) | D29: шт | E29: 1 | F29: 453,99 69*43,4/1,18/5,59 | J29: 454
A30: 5 | B30: ТЕР20-02-018-01 | C30: Установка вставок гибких к радиальным вентиляторам | D30: 1 м2 | E30: 0.25 | F30: 77.27 | G30: 70.84 | H30: 1.09 | J30: 19 | K30: 18 | N30: 5.75 | O30: 1.44
A31: 6 | B31: КП №ND13-148355 ООО "НЕД" от 10.09.2013 | C31: Вставка гибкая FH 50-25 (Цена=24х43,4:1,18:5,59) | D31: шт | E31: 2 | F31: 157,91 24*43,4/1,18/5,59 | J31: 316
A32: 7 | B32: ТЕРм08-03-573-04 | C32: Шкаф (пульт) управления навесной, высота, ширина и глубина, мм, до: 600х600х350 | D32: 1 шт. | E32: 1 | F32: 99.26 | G32: 33.11 | H32: 62.05 | I32: 4.71 | J32: 99 | K32: 33 | L32: 62 | M32: 5 | N32: 2.37 | O32: 2.37 | P32: 0.29 | Q32: 0.29
A33: 8 | B33: КП №ND13-148355 ООО "НЕД" от 10.09.2013 | C33: Блок управления ACW CR1-30 / 1А1,6 (=956х43,4:1,18:3,67) | E33: 1 | F33: 9580,75 956*43,4/1,18/3,67 | J33: 9581
A34: 9 | B34: ТЕРм11-02-001-01 | C34: Приборы, устанавливаемые на резьбовых соединениях, масса, кг, до: 1,5 | D34: 1 шт. | E34: 4 1+1+2 | F34: 15.88 | G34: 14.39 | J34: 64 | K34: 58 | N34: 1.03 | O34: 4.12
A35: 10 | B35: КП №ND13-148355 ООО "НЕД" от 10.09.2013 | C35: Датчик перепада давления 500 Pa DPD-5 с контактором (=36х43,4:1,18:3,67) | D35: шт | E35: 1 | F35: 360,78 36*43,4/1,18/3,67 | J35: 361
A36: 11 | B36: КП №ND13-148355 ООО "НЕД" от 10.09.2013 | C36: Датчик температуры воды погружной VSP (=44х43,4:1,18:3,67) | D36: шт | E36: 1 | F36: 440,96 44*43,4/1,18/3,67 | J36: 441
A37: 12 | B37: КП №ND13-148355 ООО "НЕД" от 10.09.2013 | C37: Датчик температуры канальный STK-3 (=44х43,4:1,18:3,67) | D37: шт | E37: 2 | F37: 440,96 44*43,4/1,18/3,67 | J37: 882
A38: 13 | B38: ТЕРм11-05-001-01 | C38: Механизм исполнительный, масса, кг, до: 20 | D38: 1 шт. | E38: 1 | F38: 52.74 | G38: 7.09 | H38: 38.02 | I38: 4.19 | J38: 53 | K38: 7 | L38: 38 | M38: 4 | N38: 0.59 | O38: 0.59 | P38: 0.23 | Q38: 0.23
A39: 14 | B39: КП №ND13-148355 ООО "НЕД" от 10.09.2013 | C39: Привод воздушной заслонки GMA 321.1E (=233х43,4:1,18:3,67) | D39: шт | E39: 1 | F39: 2335,06 233*43,4/1,18/3,67 | J39: 2335
A40: 15 | B40: ТЕР16-06-002-01 | C40: Установка смесительного узла 1 852,98 = 1 931,48 - 1 x 78,50 | D40: 1 узел | E40: 1 | F40: 1852.98 | G40: 84.09 | H40: 12.04 | I40: 0.36 | J40: 1853 | K40: 84 | L40: 12 | N40: 6.58 | O40: 6.58 | P40: 0.02 | Q40: 0.02
A41: 16 | B41: КП №ND13-148355 ООО "НЕД" от 10.09.2013 | C41: Смесительный узел SMEХ 40-1.0_x000D_ (Цена=708х43,4:1,18:3,67) | D41: шт | E41: 1 | F41: 7095,37 708*43,4/1,18/3,67 | J41: 7095
A42: 17 | B42: ТЕРм11-03-001-01 | C42: Приборы, устанавливаемые на металлоконструкциях, щитах и пультах, масса до 5 кг | D42: 1 шт. | E42: 1 | F42: 8.41 | G42: 7.26 | J42: 8 | K42: 7 | N42: 0.52 | O42: 0.52
A43: 18 | B43: КП №ND13-148355 ООО "НЕД" от 10.09.2013 | C43: Термостат AZT-3 (=102х43,4:1,18:3,67) | D43: шт | E43: 1 | F43: 1022,21 102*43,4/1,18/3,67 | J43: 1022
A44: 19 | B44: ТЕР20-02-002-01 | C44: Установка решеток жалюзийных площадью в свету: до 0,5 м2 | D44: 1 решетка | E44: 14 1+6+7 | F44: 24.67 | G44: 18.44 | H44: 2.94 | J44: 345 | K44: 258 | L44: 41 | N44: 1.46 | O44: 20.44
A45: 20 | B45: ФССЦ-301-2637 | C45: Решетки вентиляционные алюминиевые "АРКТОС" типа АРН размером 400х400 мм | D45: шт. | E45: 1 | F45: 955.53 | J45: 956
...

Sheet 02-01-05 изм.1
H1: ФГУП "Комбинат "Электрохимприбор"
H2: (наименование стройки)
H4: ЛОКАЛЬНЫЙ СМЕТНЫЙ РАСЧЕТ № 02-01-05 изм.1
H5: (локальная смета)
C7: на электрооборудование, освещение, автоматизация, Административно-бытовой корпус промышленной площадки 5
H8: (наименование работ и затрат, наименование объекта)
D10: Основание: Р-055/10674-294-ЭМ изм.1
D11: Сметная стоимость _______________________________________________________________________________________________ | J11: ___________________________381,859 | L11: тыс. руб.
D12: строительных работ _______________________________________________________________________________________________ | J12: _______________________________________________________________________________________________0,124 | L12: тыс. руб.
D13: монтажных работ _______________________________________________________________________________________________ | J13: _______________________________________________________________________________________________200,403 | L13: тыс. руб.
D14: оборудования _______________________________________________________________________________________________ | J14: _______________________________________________________________________________________________181,332 | L14: тыс. руб.
D15: Средства на оплату труда _______________________________________________________________________________________________ | J15: ___________________________22,417 | L15: тыс. руб.
D16: Сметная трудоемкость _______________________________________________________________________________________________ | J16: _______________________________________________________________________________________________1167,96 | L16: чел.час
D17: Составлен(а) в текущих (прогнозных) ценах 2001г.
A20: № пп | B20: Обосно- вание | C20: Наименование | D20: Ед. изм. | E20: Кол. | F20: Стоимость единицы, руб. | J20: Общая стоимость, руб. | N20: Т/з осн. раб.на ед. | O20: Т/з осн. раб. Всего | P20: Т/з мех. на ед. | Q20: Т/з мех. Всего
F21: Всего | G21: В том числе | J21: Всего | K21: В том числе
G22: Осн.З/п | H22: Эк.Маш | I22: З/пМех | K22: Осн.З/п | L22: Эк.Маш | M22: З/пМех
A23: 1 | B23: 2 | C23: 3 | D23: 4 | E23: 5 | F23: 6 | G23: 7 | H23: 8 | I23: 9 | J23: 10 | K23: 11 | L23: 12 | M23: 13 | N23: 14 | O23: 15 | P23: 16 | Q23: 17
A24: Раздел 1.
A25: Электрооборудование
A26: ВРУ1
A27: 1 | B27: ТЕРм08-03-571-02 | C27: Щит, собираемый из отдельных панелей и блоков управления, однорядный или двухрядный без блоков резисторов глубиной до 800 мм шкафного исполнения | D27: 1 м ширины по фронту | E27: 1.05 | F27: 2447.9 | G27: 331.09 | H27: 523.14 | I27: 60.35 | J27: 2570 | K27: 348 | L27: 549 | M27: 63 | N27: 23.7 | O27: 24.89 | P27: 2.2 | Q27: 2.31
A28: 2 | B28: Комерческое предложение ЭЛЕКТРОПРОФИ №2709-13/3 от 30.09.2013г. | C28: Щит для монтажа модульных устройств 055/10674-ЭМ ОЛ1 | D28: шт. | E28: 1 | F28: 152696,19 560395/3,67 | J28: 152696
A29: ШУОГК
A30: 3 | B30: ТЕРм08-03-573-04 | C30: Шкаф (пульт) управления навесной, высота, ширина и глубина до 600х600х350 мм | D30: 1 шт. | E30: 1 | F30: 99.26 | G30: 33.11 | H30: 62.05 | I30: 4.71 | J30: 99 | K30: 33 | L30: 62 | M30: 5 | N30: 2.37 | O30: 2.37 | P30: 0.29 | Q30: 0.29
A31: 4 | B31: Прайс АСБ-Сервис 2кв.2012г. | C31: Шкаф для управления огнезадерживающими клапанами ШУОГК 3-220/2-MSEF Цена=11549/1,18/3,63 | D31: шт. | E31: 1 | F31: 2696,22 11549/1,18/3,63 | J31: 2696
A32: ЩРО
A33: 5 | B33: ТЕРм08-03-573-04 | C33: Шкаф (пульт) управления навесной, высота, ширина и глубина до 600х600х350 мм | D33: 1 шт. | E33: 1 | F33: 99.26 | G33: 33.11 | H33: 62.05 | I33: 4.71 | J33: 99 | K33: 33 | L33: 62 | M33: 5 | N33: 2.37 | O33: 2.37 | P33: 0.29 | Q33: 0.29
A34: 6 | B34: Прайс-лист "Шнейдер Электрик" от 01.04.2013 | C34: MINI PRAGMA ЩИТ НАВЕСНОЙ С ПРОЗРАЧ. ДВ. 1РЯД/12МОД 13369(MIP12112S) | D34: шт. | E34: 1 | F34: 278,24 1010/3,63 | J34: 278
A35: Аппаратура устанавливемая в один шкаф:
A36: 7 | B36: ТЕРм08-03-526-01 | C36: Автомат одно-, двух-, трехполюсный, устанавливаемый на конструкции на стене или колонне, на ток до 25 А | D36: 1 шт. | E36: 10 1+9 | F36: 174.77 | G36: 20.9 | H36: 1.28 | J36: 1748 | K36: 209 | L36: 13 | N36: 1.56 | O36: 15.6
A37: 8 | B37: Прайс-лист "Шнейдер Электрик" от 01.04.2013 | C37: АВТ. ВЫКЛ.iC60N 3П 20A C A9F79320 | D37: шт. | E37: 1 | F37: 238,31 865,08/3,63 | J37: 238
A38: 9 | B38: Прайс-лист "Шнейдер Электрик" от 01.04.2013 | C38: АВТ. ВЫКЛ.iC60N 1П 10A C A9F79110 | D38: шт. | E38: 9 | F38: 56,07 203,53/3,63 | J38: 505
A39: ЩА
A40: 10 | B40: ТЕРм08-03-573-04 | C40: Шкаф (пульт) управления навесной, высота, ширина и глубина до 600х600х350 мм | D40: 1 шт. | E40: 1 | F40: 99.26 | G40: 33.11 | H40: 62.05 | I40: 4.71 | J40: 99 | K40: 33 | L40: 62 | M40: 5 | N40: 2.37 | O40: 2.37 | P40: 0.29 | Q40: 0.29
A41: 11 | B41: Прайс-лист "Шнейдер Электрик" от 01.04.2013 | C41: ЩИТ MICRO PRAGMA 2 МОД НАВЕСНОЙ 10205 | D41: шт. | E41: 1 | F41: 23,82 86,48/3,63 | J41: 24
A42: 12 | B42: ТЕРм08-03-526-01 | C42: Автомат одно-, двух-, трехполюсный, устанавливаемый на конструкции на стене или колонне, на ток до 25 А | D42: 1 шт. | E42: 1 | F42: 174.77 | G42: 20.9 | H42: 1.28 | J42: 175 | K42: 21 | L42: 1 | N42: 1.56 | O42: 1.56
A43: 13 | B43: Прайс-лист "Шнейдер Электрик" от 01.04.2013 | C43: АВТ. ВЫКЛ.iC60N 1П 1A B A9F73101 | D43: шт. | E43: 1 | F43: 240,97 874,71/3,63 | J43: 241
A44: ШУТ
A45: 14 | B45: ТЕРм08-03-573-04 | C45: Шкаф (пульт) управления навесной, высота, ширина и глубина до 600х600х350 мм | D45: 1 шт. | E45: 1 | F45: 99.26 | G45: 33.11 | H45: 62.05 | I45: 4.71 | J45: 99 | K45: 33 | L45: 62 | M45: 5 | N45: 2.37 | O45: 2.37 | P45: 0.29 | Q45: 0.29
...

Sheet 02-01-06 изм.1
H1: ФГУП "Комбинат "Электрохимприбор"
H2: (наименование стройки)
H4: ЛОКАЛЬНЫЙ СМЕТНЫЙ РАСЧЕТ № 02-01-06 изм.1
H5: (локальная смета)
C7: на | D7: внутренние сети связи, Административно-бытовой корпус промышленной площадки 5
H8: (наименование работ и затрат, наименование объекта)
D10: Основание: Р-055/10674-294-СС изм.1
D11: Сметная стоимость _______________________________________________________________________________________________ | J11: ___________________________61,160 | L11: тыс. руб.
D12: монтажных работ _______________________________________________________________________________________________ | J12: _______________________________________________________________________________________________32,431 | L12: тыс. руб.
D13: оборудования _______________________________________________________________________________________________ | J13: _______________________________________________________________________________________________28,729 | L13: тыс. руб.
D14: Средства на оплату труда _______________________________________________________________________________________________ | J14: ___________________________3,773 | L14: тыс. руб.
D15: Сметная трудоемкость _______________________________________________________________________________________________ | J15: _______________________________________________________________________________________________266,7 | L15: чел.час
D16: Составлен(а) в текущих (прогнозных) ценах 2001г.
A19: № пп | B19: Обосно- вание | C19: Наименование | D19: Ед. изм. | E19: Кол. | F19: Стоимость единицы, руб. | J19: Общая стоимость, руб. | N19: Т/з осн. раб.на ед. | O19: Т/з осн. раб. Всего | P19: Т/з мех. на ед. | Q19: Т/з мех. Всего
F20: Всего | G20: В том числе | J20: Всего | K20: В том числе
G21: Осн.З/п | H21: Эк.Маш | I21: З/пМех | K21: Осн.З/п | L21: Эк.Маш | M21: З/пМех
A22: 1 | B22: 2 | C22: 3 | D22: 4 | E22: 5 | F22: 6 | G22: 7 | H22: 8 | I22: 9 | J22: 10 | K22: 11 | L22: 12 | M22: 13 | N22: 14 | O22: 15 | P22: 16 | Q22: 17
A23: Раздел 1.
A24: 1 | B24: ТЕРм10-03-013-05 | C24: Коммутатор служебной связи | D24: 1 шт. | E24: 1 | F24: 137.61 | G24: 91.6 | H24: 20.76 | I24: 4.22 | J24: 138 | K24: 92 | L24: 21 | M24: 4 | N24: 6.76 | O24: 6.76 | P24: 0.27 | Q24: 0.27
A25: 2 | B25: Прайс-лист ООО "НАГ" | C25: Управляемый коммутатор 2 уровня с 24 портами 10/100 Мбит/с + 4 комбо-портами 1000BASE-T/SFP. D-Link DES-3200-28 | D25: шт. | E25: 1 | F25: 3610,21 15179/1,18/3,67 | J25: 3610
A26: 3 | B26: ТЕРм10-03-001-04 | C26: Плата дополнительная, устанавливаемая на готовом месте стойки | D26: 1 шт. | E26: 3 2+1 | F26: 34.97 | G26: 27.5 | H26: 6.92 | I26: 1.41 | J26: 105 | K26: 83 | L26: 21 | M26: 4 | N26: 2.29 | O26: 6.87 | P26: 0.09 | Q26: 0.27
A27: 4 | B27: Прайс-лист Лансет 3 кв. 2013 | C27: Оптическая панель (шкаф) 19", 1U на 24 SC адаптеров (3 сменные пластиковые планки) | D27: шт | E27: 2 | F27: 103,46 435/1,18/3,67 | J27: 207
A28: 5 | B28: Прайс-лист Лансет 3 кв. 2013 | C28: Панель РСВ кат.5е 19",1U, 24 порта RJ-45 | D28: шт | E28: 1 | F28: 185,51 780/1,18/3,67 | J28: 186
A29: 6 | B29: ТЕРм11-04-028-02 | C29: Включение в аппаратуру разъемов штепсельных, количество контактов в разъеме до 24 шт. | D29: 1 разъем | E29: 80 34+30+15+1 | F29: 3.65 | G29: 3.58 | J29: 292 | K29: 286 | N29: 0.27 | O29: 21.6
A30: 7 | B30: Прайс-лист ООО "НАГ" | C30: Пигтейлы SC | D30: шт | E30: 34 | F30: 11,54 48,50/1,18/3,67 | J30: 392
A31: 8 | B31: Прайс-лист АБН 3 кв. 2013 | C31: Патч-корд RJ-45-RJ-45 3м | D31: шт | E31: 30 | F31: 138,31 581,5/1,18/3,67 | J31: 4149
A32: 9 | B32: Прайс-лист АБН 3 кв. 2013 | C32: Патч-корд RJ-45-RJ-45 1м | D32: шт | E32: 15 | F32: 130,24 547,6/1,18/3,67 | J32: 1954
A33: 10 | B33: Прайс-лист ООО "НАГ" | C33: Патч-корд SC -SC 1м | D33: шт | E33: 1 | F33: 38,01 159,78/1,18/3,67 | J33: 38
A34: 11 | B34: ТЕРм10-02-016-06 | C34: Отдельно устанавливаемый преобразователь или блок питания | D34: 1 шт. | E34: 1 | F34: 256.7 | G34: 157.76 | H34: 33.83 | I34: 6.87 | J34: 257 | K34: 158 | L34: 34 | M34: 7 | N34: 10.1 | O34: 10.1 | P34: 0.44 | Q34: 0.44
A35: 12 | B35: "НИКС - Компьютерный Супермаркет" | C35: Источник бесперебойного питания VANGUARD RM 1000 Powercom | D35: шт | E35: 1 | F35: 3609,97 15178,00/1,18/3,67 | J35: 3610
A36: 13 | B36: ТЕРм10-03-001-01 | C36: Стойка, полустойка, каркас стойки или шкаф, масса до 100 кг | D36: 1 шт. | E36: 1 | F36: 185.48 | G36: 107.37 | H36: 30.48 | I36: 5.62 | J36: 185 | K36: 107 | L36: 30 | M36: 6 | N36: 8.94 | O36: 8.94 | P36: 0.36 | Q36: 0.36
A37: 14 | B37: Прайс-лист "Веритек " | C37: Шкаф 19" 32Uс модулем вентиляции и блоком розеток DG-Rack 800 ESTAP | D37: к-т | E37: 1 | F37: 7625,62 992,62*32,3/1,18/3,67 | J37: 7626
A38: 15 | B38: ТЕРм08-03-575-01 | C38: Прибор или аппарат | D38: 1 шт. | E38: 19 | F38: 16.3 | G38: 15.65 | J38: 310 | K38: 297 | N38: 1.12 | O38: 21.28
A39: 16 | B39: Прайс-лист Legrand 1кв.2013г. | C39: Розетка компьютерная Mosaic RJ45 UTP кат6 1модуль L076561 | D39: шт | E39: 19 | F39: 54,5 355/1,18/5,52 | J39: 1036
A40: 17 | B40: ТЕРм10-06-037-13 | C40: Крышка декоративная и другие мелкие изделия (без присоединения проводов) | D40: 100 шт. | E40: 0,38 (19+19)/100 | F40: 82.85 | G40: 78.98 | J40: 31 | K40: 30 | N40: 6.18 | O40: 2.35
A41: 18 | B41: Прайс-лист Legrand 1кв.2013г. | C41: Суппорт Mosaic 1 модуль L080250 | D41: шт | E41: 19 | F41: 15,35 100/1,18/5,52 | J41: 292
A42: 19 | B42: Прайс-лист Legrand 1кв.2013г. | C42: Mosaic Рамка 1 модуль L078801 | D42: шт | E42: 19 | F42: 19,04 124/1,18/5,52 | J42: 362
A43: 20 | B43: ТЕРм10-02-030-01 | C43: Аппарат телефонный системы ЦБ или АТС настольный | D43: 1 шт. | E43: 15 | F43: 110.22 | G43: 97.56 | J43: 1653 | K43: 1463 | N43: 7.2 | O43: 108
A44: 21 | B44: Прайс-лист ООО "НАГ" | C44: IP-телефон SNR-VP-6020 | D44: шт | E44: 15 | F44: 441,13 1854,70/1,18/3,67 | J44: 6617
A45: 22 | B45: ТЕРм10-06-034-01 | C45: Шкаф телефонный распределительный емкостью до 600х2 при установке на фундаменте | D45: 1 шкаф | E45: 2 | F45: 512.1 | G45: 108.09 | H45: 75.74 | I45: 9.37 | J45: 1024 | K45: 216 | L45: 151 | M45: 19 | N45: 9 | O45: 18 | P45: 0.6 | Q45: 1.2
...

Sheet 02-01-07 изм.1
H1: ФГУП "Комбинат "Электрохимприбор"
H2: (наименование стройки)
H4: ЛОКАЛЬНЫЙ СМЕТНЫЙ РАСЧЕТ № 02-01-07 изм.1
H5: (локальная смета)
C7: на | D7: пожарную сигнализацию, Административно-бытовой корпус промышленной площадки 5
H8: (наименование работ и затрат, наименование объекта)
D10: Основание: Р-055/10674-294-ПС изм.1
D11: Сметная стоимость _______________________________________________________________________________________________ | J11: ___________________________23,446 | L11: тыс. руб.
D12: монтажных работ _______________________________________________________________________________________________ | J12: _______________________________________________________________________________________________21,084 | L12: тыс. руб.
D13: оборудования _______________________________________________________________________________________________ | J13: _______________________________________________________________________________________________2,362 | L13: тыс. руб.
D14: Средства на оплату труда _______________________________________________________________________________________________ | J14: ___________________________4,399 | L14: тыс. руб.
D15: Сметная трудоемкость _______________________________________________________________________________________________ | J15: _______________________________________________________________________________________________321,71 | L15: чел.час
D16: Составлен(а) в текущих (прогнозных) ценах 2001г.
A19: № пп | B19: Обосно- вание | C19: Наименование | D19: Ед. изм. | E19: Кол. | F19: Стоимость единицы, руб. | J19: Общая стоимость, руб. | N19: Т/з осн. раб.на ед. | O19: Т/з осн. раб. Всего | P19: Т/з мех. на ед. | Q19: Т/з мех. Всего
F20: Всего | G20: В том числе | J20: Всего | K20: В том числе
G21: Осн.З/п | H21: Эк.Маш | I21: З/пМех | K21: Осн.З/п | L21: Эк.Маш | M21: З/пМех
A22: 1 | B22: 2 | C22: 3 | D22: 4 | E22: 5 | F22: 6 | G22: 7 | H22: 8 | I22: 9 | J22: 10 | K22: 11 | L22: 12 | M22: 13 | N22: 14 | O22: 15 | P22: 16 | Q22: 17
A23: Раздел 1.
A24: Пожарная сигнализация
A25: 1 | B25: ТЕРм10-08-001-03 | C25: Приборы ПС приемно-контрольные, пусковые, концентратор блок линейный | D25: 10 лучей | E25: 12,7 127/10 | F25: 97.72 | G25: 75.44 | H25: 0.46 | J25: 1241 | K25: 958 | L25: 6 | N25: 5.4 | O25: 68.58
A26: 2 | B26: Прайс-лист "Болид"на 05.08.2013 г. | C26: Контроллер двухпроводной линии связи "С2000-КДЛ" Цена=1830,4/1,18/3,67 | D26: шт. | E26: 1 | F26: 435,35 1830,4/1,18/3,67 | J26: 435
A27: 3 | B27: ТЕРм10-08-002-06 | C27: Извещатель пожарный ручной | D27: 1 шт. | E27: 4 | F27: 8.84 | G27: 4.74 | H27: 1.08 | J27: 35 | K27: 19 | L27: 4 | N27: 0.35 | O27: 1.4
A28: 4 | B28: Прайс-лист "Болид"на 05.08.2013 г. | C28: Извещатель пожарный ручной адресный ИПР 513-3АМ Цена=460,20/1,18/5,59 | D28: шт. | E28: 4 | F28: 69,77 460,20/1,18/5,59 | J28: 279
A29: 5 | B29: ТЕРм10-08-002-02 | C29: Извещатель ПС автоматический дымовой, фотоэлектрический, радиоизотопный, световой в нормальном исполнении | D29: 1 шт. | E29: 18 | F29: 28.38 | G29: 22.76 | H29: 0.46 | J29: 511 | K29: 410 | L29: 8 | N29: 1.68 | O29: 30.24
A30: 6 | B30: Прайс-лист "Болид"на 05.08.2013 г. | C30: Извещатель дымовой оптико-электронный адресно-аналоговый ДИП-34А 01-02 Цена=650/1,18/5,59 | D30: шт. | E30: 18 | F30: 98,54 650/1,18/5,59 | J30: 1774
A31: 7 | B31: ТЕРм10-08-001-13 | C31: Устройства промежуточные на количество лучей 1 | D31: 1 шт. | E31: 1 | F31: 64.92 | G31: 57.52 | H31: 0.37 | J31: 65 | K31: 58 | N31: 4 | O31: 4
A32: 8 | B32: Прайс-лист "Болид"на 05.08.2013 г. | C32: Адресный двухпозиционый расширитель С2000-АР1 исп.02 Цена=337,48/1,18/5,59 | D32: шт. | E32: 1 | F32: 51,16 337,48/1,18/5,59 | J32: 51
A33: 9 | B33: ТЕРм10-08-001-04 | C33: Приборы ПС на 4 луча | D33: 1 шт. | E33: 1 | F33: 58.33 | G33: 48.15 | H33: 0.83 | J33: 58 | K33: 48 | L33: 1 | N33: 3.3 | O33: 3.3
A34: 10 | B34: Прайс-лист "Болид"на 05.08.2013 г. | C34: Адресный релейный блок на два реле С2000-СП2 Цена=915,2/1,18/3,67 | D34: шт. | E34: 1 | F34: 217,67 915,2/1,18/3,67 | J34: 218
A35: 11 | B35: ТЕРм10-04-066-04 применительно | C35: Коробка кабельная соединительная или разветвительная ( Блок разветвительно-изолирующий ) | D35: 1 шт. | E35: 6 | F35: 58.16 | G35: 48.04 | J35: 349 | K35: 288 | N35: 4 | O35: 24
A36: 12 | B36: Прайс-лист "Болид"на 05.08.2013 г. | C36: Блок разветвительно-изолирующий БРИЗ Цена=320,61/1,18/5,59 | D36: шт. | E36: 6 | F36: 48,61 320,61/1,18/5,59 | J36: 292
A37: 13 | B37: ТЕРм10-02-016-06 | C37: Отдельно устанавливаемый преобразователь или блок питания | D37: 1 шт. | E37: 1 | F37: 256.7 | G37: 157.76 | H37: 33.83 | I37: 6.87 | J37: 257 | K37: 158 | L37: 34 | M37: 7 | N37: 10.1 | O37: 10.1 | P37: 0.44 | Q37: 0.44
A38: 14 | B38: Прайс-лист "Болид"на 05.08.2013 г. | C38: Источник питания СКАТ-2400 Цена=4507,20/1,18/3,67 | D38: шт. | E38: 1 | F38: 1072 4507,20/1,18/3,67 | J38: 1072
A39: 15 | B39: ТЕРм10-01-003-08 | C39: Аккумуляторная батарея монтаж | D39: 1 ящик | E39: 2 | F39: 48.5 | G39: 39.62 | J39: 97 | K39: 79 | N39: 3.1 | O39: 6.2
A40: 16 | B40: Прайс-лист "Болид"на 05.08.2013 г. | C40: Аккумуляторная батарея U=12В, емк. 12 А?час DELTA DTM1212 Цена=827,875/1,18/3,67 | D40: шт. | E40: 2 | F40: 196,91 827,875/1,18/3,67 | J40: 394
A41: 17 | B41: ТЕРм10-03-001-04 | C41: Плата дополнительная, устанавливаемая на готовом месте стойки | D41: 1 шт. | E41: 1 | F41: 34.97 | G41: 27.5 | H41: 6.92 | I41: 1.41 | J41: 35 | K41: 28 | L41: 7 | M41: 1 | N41: 2.29 | O41: 2.29 | P41: 0.09 | Q41: 0.09
A42: 18 | B42: Прайс-лист ЦМО 1 квартал 2013г. | C42: Панель заземления горизонтальная 19" Код номенклатуры 30517720100 Цена=1230/1,18/5,59 | D42: шт | E42: 1 | F42: 192,06 1230/1,18/5,59 | J42: 192
A43: 19 | B43: ТЕРм08-03-545-01 | C43: Коробка (ящик) с зажимами для кабелей и проводов сечением до 6 мм2, устанавливаемая на конструкции на стене или колонне, количество зажимов до 10 | D43: 1 шт. | E43: 1 | F43: 160.78 | G43: 43.86 | H43: 2.36 | J43: 161 | K43: 44 | L43: 2 | N43: 3.31 | O43: 3.31
A44: 20 | B44: Прайс-лист "Торговый Дом "СКВИД" 1 квартал 2013г. | C44: Коробка соединительная JB 720 Цена=70/1,18/5,53 | D44: шт. | E44: 1 | F44: 10,73 70,0/1,18/5,53 | J44: 11
A45: 21 | B45: ФЕРм08-02-390-01 | C45: Короба пластмассовые: шириной до 40 мм | D45: 100 м | E45: 2 200/100 | F45: 311.4 | G45: 218.44 | H45: 38.75 | I45: 0.17 | J45: 623 | K45: 437 | L45: 78 | N45: 16.29 | O45: 32.58 | P45: 0.01 | Q45: 0.02
...

Sheet 02-01-08 изм.1
H1: ФГУП "Комбинат "Электрохимприбор"
H2: (наименование стройки)
H4: ЛОКАЛЬНЫЙ СМЕТНЫЙ РАСЧЕТ № 02-01-08 изм.1
H5: (локальная смета)
C7: на | D7: охранную сигнализацию, Административно-бытовой корпус промышленной площадки 5
H8: (наименование работ и затрат, наименование объекта)
D10: Основание: Р-055/10674-294-ОС изм.1
D11: Сметная стоимость _______________________________________________________________________________________________ | J11: ___________________________85,770 | L11: тыс. руб.
D12: монтажных работ _______________________________________________________________________________________________ | J12: _______________________________________________________________________________________________30,111 | L12: тыс. руб.
D13: оборудования _______________________________________________________________________________________________ | J13: _______________________________________________________________________________________________55,659 | L13: тыс. руб.
D14: Средства на оплату труда _______________________________________________________________________________________________ | J14: ___________________________6,765 | L14: тыс. руб.
D15: Сметная трудоемкость _______________________________________________________________________________________________ | J15: _______________________________________________________________________________________________503,71 | L15: чел.час
D16: Составлен(а) в текущих (прогнозных) ценах 2001г.
A19: № пп | B19: Обосно- вание | C19: Наименование | D19: Ед. изм. | E19: Кол. | F19: Стоимость единицы, руб. | J19: Общая стоимость, руб. | N19: Т/з осн. раб.на ед. | O19: Т/з осн. раб. Всего | P19: Т/з мех. на ед. | Q19: Т/з мех. Всего
F20: Всего | G20: В том числе | J20: Всего | K20: В том числе
G21: Осн.З/п | H21: Эк.Маш | I21: З/пМех | K21: Осн.З/п | L21: Эк.Маш | M21: З/пМех
A22: 1 | B22: 2 | C22: 3 | D22: 4 | E22: 5 | F22: 6 | G22: 7 | H22: 8 | I22: 9 | J22: 10 | K22: 11 | L22: 12 | M22: 13 | N22: 14 | O22: 15 | P22: 16 | Q22: 17
A23: Раздел 1.
A24: Охранная сигнализация
A25: 1 | B25: ТЕРм10-08-001-06 | C25: Приборы приемно-контрольные сигнальные, концентратор блок базовый на 10 лучей | D25: 1 шт. | E25: 4 | F25: 79.87 | G25: 68.02 | H25: 0.46 | J25: 319 | K25: 272 | L25: 2 | N25: 4.8 | O25: 19.2
A26: 2 | B26: Eleron | C26: Концентратор датчиков КД4М.1 | D26: шт. | E26: 4 | F26: 9056,09 44440/1,18/1,18/3,63 | J26: 36224
A27: 3 | B27: ТЕРм10-08-001-06 | C27: Приборы приемно-контрольные сигнальные, концентратор блок базовый на 10 лучей | D27: 1 шт. | E27: 1 | F27: 79.87 | G27: 68.02 | H27: 0.46 | J27: 80 | K27: 68 | N27: 4.8 | O27: 4.8
A28: 4 | B28: Eleron | C28: Блок пропуска специального типа "HID" БСЧ2.УМ Блок БСЧ1.УМ HID | E28: 1 | F28: 15101,09 62800/1,18/3,63 | J28: 15101
A29: 5 | B29: ТЕРм10-08-002-04 | C29: Извещатель ОС автоматический контактный, магнитоконтактный на открывание окон, дверей | D29: 1 шт. | E29: 27 | F29: 13.47 | G29: 11.38 | J29: 364 | K29: 307 | N29: 0.84 | O29: 22.68
A30: 6 | B30: Прайс-лист "ТИНКО" | C30: Извещатель магнитоконтактный ИО102-6 | D30: шт. | E30: 27 | F30: 10,6 69,9/1,18/5,59 | J30: 286
A31: 7 | B31: ТЕРм10-08-003-02 | C31: Устройство ультразвуковое, прибор ультразвуковой в одноблочном исполнении | D31: 1 шт. | E31: 17 | F31: 57.07 | G31: 51.77 | H31: 0.26 | J31: 970 | K31: 880 | L31: 4 | N31: 3.6 | O31: 61.2
A32: 8 | B32: Прайс-лист "ТИНКО" | C32: Извещатель охранный поверхностный звуковой Астра-С (ИО-329-5) | D32: шт | E32: 17 | F32: 68,07 449/1,18/5,59 | J32: 1157
A33: 9 | B33: ТЕРм10-08-003-05 | C33: Устройство оптико-(фото)электрическое, прибор оптико-электрический в одноблочном исполнении | D33: 1 шт. | E33: 4 | F33: 86.32 | G33: 78.05 | H33: 0.37 | J33: 345 | K33: 312 | L33: 1 | N33: 5.76 | O33: 23.04
A34: 10 | B34: Прайс-лист "ТИНКО" | C34: Извещатель охранный бъемный оптико-электронный Фотон-9 (ИО 409-8) | D34: шт | E34: 4 | F34: 88,73 585,28/1,18/5,59 | J34: 355
A35: 11 | B35: ТЕРм10-08-002-04 | C35: Извещатель ОС автоматический контактный, магнитоконтактный на открывание окон, дверей | D35: 1 шт. | E35: 8 | F35: 13.47 | G35: 11.38 | J35: 108 | K35: 91 | N35: 0.84 | O35: 6.72
A36: 12 | B36: Прайс-лист "ТИНКО" | C36: Извещатель охранный поверхностный Фотон-Ш (ИО 309-7) | D36: шт | E36: 8 | F36: 102,86 678,5/1,18/5,59 | J36: 823
A37: 13 | B37: ТЕРм10-08-001-01 | C37: Приборы ПС приемно-контрольные, пусковые, концентратор блок базовый на 10 лучей | D37: 1 шт. | E37: 1 | F37: 117.52 | G37: 102.02 | H37: 0.46 | J37: 118 | K37: 102 | N37: 7.2 | O37: 7.2
A38: 14 | B38: Прайс-лист "ТИНКО" | C38: Извещатель охранный поверхностный вибрационный Шорх-2-10 (ИО 315-5/2) | D38: шт | E38: 1 | F38: 1655,97 6962,47/1,18/3,67 | J38: 1656
A39: 15 | B39: Прайс-лист "ТИНКО" | C39: Бесконтактные карты Prox-Card II | D39: шт | E39: 20 | F39: 20,57 86,49/1,18/3,67 | J39: 411
A40: 16 | B40: ТЕРм10-02-016-06 | C40: Отдельно устанавливаемый преобразователь или блок питания | D40: 1 шт. | E40: 1 | F40: 256.7 | G40: 157.76 | H40: 33.83 | I40: 6.87 | J40: 257 | K40: 158 | L40: 34 | M40: 7 | N40: 10.1 | O40: 10.1 | P40: 0.44 | Q40: 0.44
A41: 17 | B41: Прайс-лист "Болид"на 05.08.2013 г. | C41: Источник питания СКАТ-2400И7 Цена=4752/1,18/3,67 | D41: шт. | E41: 1 | F41: 1130,23 4752/1,18/3,67 | J41: 1130
A42: 18 | B42: ТЕРм10-01-003-08 | C42: Аккумуляторная батарея монтаж | D42: 1 ящик | E42: 2 | F42: 48.5 | G42: 39.62 | J42: 97 | K42: 79 | N42: 3.1 | O42: 6.2
