Workbook

Sheet Смета 12 гр. по ФЕР
A1: =Source!B1 -> Smeta.RU (495) 974-1589
H3: Приложение № 1 к Приложению № 5 к извещению о проведении запроса котировок
B11: СМЕТА
B12: =IF(Source!G20<>"Новая локальная смета", Source!G20, "")
B14: на капитальный ремонт помещения №37 лаборатории СХД 2-го этажа зданияучебного корпуса Озёрского технологического института -филиала НИЯУ МИФИ по адресу: Челябинская обл.,г.Озёрск,проспект Победы,48 | AD14: =IF(Source!G12<>"Новый объект", Source!G12, "") -> на капитальный ремонт помещения №37 лаборатории СХД в здании учебного корпуса Озёрского технологического института -филиала НИЯУ МИФИ по адресу: Челябинская обл.,г.Озёрск,проспект Победы,48
G17: базовая цена | I17: текущая цена
C18: Сметная стоимость | G18: =SUM(O29:O146)/1000 -> 19.89351 | I18: =(Source!F83/1000) -> 142.79674 | K18: тыс. руб.
C19: Строительные работы | G19: =SUM(W29:W146)/1000 -> 19.89351 | I19: =(Source!F70)/1000 -> 121.01419 | K19: тыс. руб.
C20: Монтажные работы | G20: =SUM(X29:X146)/1000 -> 0 | I20: =(Source!F71)/1000 -> 0 | K20: тыс. руб.
C21: Оборудование | G21: =SUM(Y29:Y146)/1000 -> 0 | I21: =(Source!F62)/1000 -> 0 | K21: тыс. руб.
C22: Прочие работы | G22: =SUM(Z29:Z146)/1000 -> 0 | I22: =(Source!F72+Source!F73)/1000 -> 0 | K22: тыс. руб.
C23: Нормативная трудоемкость | G23: =I23 -> 243.91646 | I23: =(Source!F75+Source!F76) -> 243.91646 | K23: чел. -ч.
C24: Средства на оплату труда | G24: =SUM(R29:R146)/1000 -> 2.11282 | I24: =(Source!F68+ Source!F67)/1000 -> 12.84606 | K24: тыс. руб.
A26: Составлена в ценах IV квартал 2017 года
A27: № п/п | B27: Шифр расценки и коды ресурсов | C27: Наименование работ и затрат | D27: Ед. изм. | E27: Кол-во единиц | F27: Цена на ед. изм. | G27: Попра-вочные коэфф. | H27: Стоимость в ценах 2001г. | I27: Пункт коэфф. пересчета | J27: Коэфф. пересчета | K27: Стоимость в текущих ценах | L27: ЗТР всего чел.-час
A28: 1 | B28: 2 | C28: 3 | D28: 4 | E28: 5 | F28: 6 | G28: 7 | H28: 8 | I28: 9 | J28: 10 | K28: 11 | L28: 12
A29: =Source!E24 -> 1 | B29: =Source!F24 -> 57-3-1 | C29: =Source!G24 -> Разборка плинтусов деревянных | D29: =Source!H24 -> 100 м | E29: =Source!I24 -> 0.23 | F29: =Source!AL24+Source!AM24+Source!AO24 -> 29.41 | I29: =Source!BO24 | S29: =ROUND((Source!FX24/100)*((ROUND(Source!AF24*Source!I24, 2)+ROUND(Source!AE24*Source!I24, 2))), 2) -> 5.41 | T29: =Source!X24 -> 32.9 | U29: =ROUND((Source!FY24/100)*((ROUND(Source!AF24*Source!I24, 2)+ROUND(Source!AE24*Source!I24, 2))), 2) -> 4.6 | V29: =Source!Y24 -> 27.97
C30: Зарплата | F30: =Source!AO24 -> 29.41 | G30: =Source!DG24 | H30: =ROUND(Source!AF24*Source!I24, 2) -> 6.76 | J30: =IF(Source!BA24<> 0, Source!BA24, 1) -> 6.08 | K30: =Source!S24 -> 41.13 | R30: =H30 -> 6.76
C31: НР от ФОТ | D31: % | E31: =Source!BZ24 -> 80 | H31: =SUM(S29:S33) -> 5.41 | J31: =Source!AT24 -> 80 | K31: =SUM(T29:T33) -> 32.9
C32: СП от ФОТ | D32: % | E32: =Source!CA24 -> 68 | H32: =SUM(U29:U33) -> 4.6 | J32: =Source!AU24 -> 68 | K32: =SUM(V29:V33) -> 27.97
C33: Затраты труда | D33: чел-ч | E33: =Source!AQ24 -> 3.77 | G33: =Source!DI24 | L33: =Source!U24 -> 0.8671
G34: =H30+H31+H32 -> 16.77 | J34: =K30+K31+K32 -> 102 | L34: =Source!U24 -> 0.8671 | O34: =G34 -> 16.77 | P34: =J34 -> 102 | Q34: =L34 -> 0.8671 | W34: =IF(Source!BI24<=1,H30+H31+H32, 0) -> 16.77 | X34: =IF(Source!BI24=2,H30+H31+H32, 0) -> 0 | Y34: =IF(Source!BI24=3,H30+H31+H32, 0) -> 0 | Z34: =IF(Source!BI24=4,H30+H31+H32, 0) -> 0
A35: =Source!E25 -> 2 | B35: =Source!F25 -> 57-2-1 | C35: =Source!G25 -> Разборка покрытий полов из линолеума | D35: =Source!H25 -> 100 м2 | E35: =Source!I25 -> 0.363 | F35: =Source!AL25+Source!AM25+Source!AO25 -> 92.9 | I35: =Source!BO25 | S35: =ROUND((Source!FX25/100)*((ROUND(Source!AF25*Source!I25, 2)+ROUND(Source!AE25*Source!I25, 2))), 2) -> 26.31 | T35: =Source!X25 -> 159.96 | U35: =ROUND((Source!FY25/100)*((ROUND(Source!AF25*Source!I25, 2)+ROUND(Source!AE25*Source!I25, 2))), 2) -> 22.37 | V35: =Source!Y25 -> 135.97
C36: Зарплата | F36: =Source!AO25 -> 88.84 | G36: =Source!DG25 | H36: =ROUND(Source!AF25*Source!I25, 2) -> 32.25 | J36: =IF(Source!BA25<> 0, Source!BA25, 1) -> 6.08 | K36: =Source!S25 -> 196.07 | R36: =H36 -> 32.25
C37: Эксплуатация машин | F37: =Source!AM25 -> 4.06 | G37: =Source!DE25 | H37: =ROUND(Source!AD25*Source!I25, 2) -> 1.47 | J37: =IF(Source!BB25<> 0, Source!BB25, 1) -> 6.08 | K37: =Source!Q25 -> 8.96
C38: в т.ч. зарплата машинистов | F38: =Source!AN25 -> 1.76 | G38: =Source!DF25 | H38: =ROUND(Source!AE25*Source!I25, 2) -> 0.64 | J38: =IF(Source!BS25<> 0, Source!BS25, 1) -> 6.08 | K38: =Source!R25 -> 3.88 | R38: =H38 -> 0.64
C39: НР от ФОТ | D39: % | E39: =Source!BZ25 -> 80 | H39: =SUM(S35:S41) -> 26.31 | J39: =Source!AT25 -> 80 | K39: =SUM(T35:T41) -> 159.96
C40: СП от ФОТ | D40: % | E40: =Source!CA25 -> 68 | H40: =SUM(U35:U41) -> 22.37 | J40: =Source!AU25 -> 68 | K40: =SUM(V35:V41) -> 135.97
C41: Затраты труда | D41: чел-ч | E41: =Source!AQ25 -> 11.39 | G41: =Source!DI25 | L41: =Source!U25 -> 4.13457
G42: =H36+H37+H39+H40 -> 82.4 | J42: =K36+K37+K39+K40 -> 500.96 | L42: =Source!U25 -> 4.13457 | O42: =G42 -> 82.4 | P42: =J42 -> 500.96 | Q42: =L42 -> 4.13457 | W42: =IF(Source!BI25<=1,H36+H37+H39+H40, 0) -> 82.4 | X42: =IF(Source!BI25=2,H36+H37+H39+H40, 0) -> 0 | Y42: =IF(Source!BI25=3,H36+H37+H39+H40, 0) -> 0 | Z42: =IF(Source!BI25=4,H36+H37+H39+H40, 0) -> 0
A43: =Source!E26 -> 3 | B43: =Source!F26 -> 11-01-011-08 | C43: =Source!G26 -> Устройство стяжек из выравнивающей смеси типа "Ветонит" 5000, толщиной 5 мм | D43: =Source!H26 -> 100 м2 | E43: =Source!I26 -> 0.363 | F43: =Source!AL26+Source!AM26+Source!AO26 -> 11028.89 | I43: =Source!BO26 | S43: =ROUND((Source!FX26/100)*((ROUND(Source!AF26*Source!I26, 2)+ROUND(Source!AE26*Source!I26, 2))), 2) -> 179.38 | T43: =Source!X26 -> 1093.59 | U43: =ROUND((Source!FY26/100)*((ROUND(Source!AF26*Source!I26, 2)+ROUND(Source!AE26*Source!I26, 2))), 2) -> 103.3 | V43: =Source!Y26 -> 630.54
C44: Зарплата | F44: =Source!AO26 -> 321.33 | G44: =Source!DG26 -> )*1,15)*1,2 | H44: =ROUND(Source!AF26*Source!I26, 2) -> 160.97 | J44: =IF(Source!BA26<> 0, Source!BA26, 1) -> 6.08 | K44: =Source!S26 -> 978.69 | R44: =H44 -> 160.97
C45: Эксплуатация машин | F45: =Source!AM26 -> 6.23 | G45: =Source!DE26 -> )*1,25)*1,2 | H45: =ROUND(Source!AD26*Source!I26, 2) -> 3.39 | J45: =IF(Source!BB26<> 0, Source!BB26, 1) -> 6.08 | K45: =Source!Q26 -> 20.64
C46: в т.ч. зарплата машинистов | F46: =Source!AN26 -> 1.97 | G46: =Source!DF26 -> )*1,25)*1,2 | H46: =ROUND(Source!AE26*Source!I26, 2) -> 1.07 | J46: =IF(Source!BS26<> 0, Source!BS26, 1) -> 6.08 | K46: =Source!R26 -> 6.53 | R46: =H46 -> 1.07
C47: Материальные ресурсы | F47: =Source!AL26 -> 10701.33 | G47: =Source!DD26 | H47: =ROUND(Source!AC26*Source!I26, 2) -> 3884.58 | J47: =IF(Source!BC26<> 0, Source!BC26, 1) -> 6.08 | K47: =Source!P26 -> 23618.26
C48: НР от ФОТ | D48: % | E48: =Source!BZ26 -> 123 | F48: =CONCATENATE(" )", Source!DL26, Source!FT26, "=", Source!FX26) -> )*0,9=110,7 | H48: =SUM(S43:S50) -> 179.38 | J48: =Source!AT26 -> 111 | K48: =SUM(T43:T50) -> 1093.59
C49: СП от ФОТ | D49: % | E49: =Source!CA26 -> 75 | F49: =CONCATENATE(" )", Source!DM26, Source!FU26, "=", Source!FY26) -> )*0,85=63,75 | H49: =SUM(U43:U50) -> 103.3 | J49: =Source!AU26 -> 64 | K49: =SUM(V43:V50) -> 630.54
C50: Затраты труда | D50: чел-ч | E50: =Source!AQ26 -> 37.67 | G50: =Source!DI26 -> )*1,15)*1,2 | L50: =Source!U26 -> 18.87041
G51: =H44+H45+H47+H48+H49 -> 4331.62 | J51: =K44+K45+K47+K48+K49 -> 26341.72 | L51: =Source!U26 -> 18.87041 | O51: =G51 -> 4331.62 | P51: =J51 -> 26341.72 | Q51: =L51 -> 18.87041 | W51: =IF(Source!BI26<=1,H44+H45+H47+H48+H49, 0) -> 4331.62 | X51: =IF(Source!BI26=2,H44+H45+H47+H48+H49, 0) -> 0 | Y51: =IF(Source!BI26=3,H44+H45+H47+H48+H49, 0) -> 0 | Z51: =IF(Source!BI26=4,H44+H45+H47+H48+H49, 0) -> 0
A52: =Source!E27 -> 4 | B52: =Source!F27 -> 11-01-011-10 | C52: =Source!G27 -> Устройство стяжек на каждый последующий слой толщиной 1 мм добавлять к расценке 11-01-011-08 | D52: =Source!H27 -> 100 м2 | E52: =Source!I27 -> 0.363 | F52: =Source!AL27+Source!AM27+Source!AO27 -> 2070.6 | I52: =Source!BO27 | S52: =ROUND((Source!FX27/100)*((ROUND(Source!AF27*Source!I27, 2)+ROUND(Source!AE27*Source!I27, 2))), 2) -> 23.31 | T52: =Source!X27 -> 142.15 | U52: =ROUND((Source!FY27/100)*((ROUND(Source!AF27*Source!I27, 2)+ROUND(Source!AE27*Source!I27, 2))), 2) -> 13.43 | V52: =Source!Y27 -> 81.96
...

Sheet Source
A1: 0 | B1: Smeta.RU (495) 974-1589 | D1: _PS_ | F1: 0 | G1: 0 | H1: 0 | I1: Smeta.RU | K1: 0 | L1: 13277 | M1: 10
A12: 1 | B12: 143 | C12: 0 | D12: =ROW(A85) -> 85 | E12: 0 | F12: Новый объект_(Копия) | G12: на капитальный ремонт помещения №37 лаборатории СХД в здании учебного корпуса Озёрского технологического института -филиала НИЯУ МИФИ по адресу: Челябинская обл.,г.Озёрск,проспект Победы,48 | I12: 0 | K12: 0 | O12: 0 | P12: 0 | Q12: 0 | R12: 0 | V12: 0 | BH12: Сметные нормы списания | BI12: Коды ценников | BJ12: 1 | BK12: 1 | BL12: 0 | BM12: 0 | BN12: 1 | BO12: 0 | BP12: 2 | BQ12: 2 | BR12: 1 | BS12: 1 | BT12: 0 | BU12: 0 | BV12: 0 | BW12: 0 | BX12: 0 | BY12: ФЕР-2017 | BZ12: ТР для Версии 10: Центральные регионы (с учетом п-ма 2536-ИП/12/ГС от 22.03.2017 г | CA12: ФЕР-2017 | CB12: ФЕР-2017 | CC12: ФЕР-2017 | CD12: ФЕР-2017 | CE12: Поправки для ГСН 2017 от 31.03.2017 г | CF12: 0 | CG12: 0 | CH12: 8 | CK12: 0 | EC12: 0
A15: 15 | B15: 1
A18: 52 | B18: =B85 -> 143 | C18: =C85 -> 1 | D18: =D85 -> 12 | E18: =E85 -> 0 | F18: =F85 -> Новый объект_(Копия) | G18: =G85 -> на капитальный ремонт помещения №37 лаборатории СХД в здании учебного корпуса Озёрского технологического института -филиала НИЯУ МИФИ по адресу: Челябинская обл.,г.Озёрск,проспект Победы,48 | O18: =O85 -> 102286.84 | P18: =P85 -> 89191.61 | Q18: =Q85 -> 366.57 | R18: =R85 -> 117.4 | S18: =S85 -> 12728.66 | T18: =T85 -> 0 | U18: =U85 -> 242.25641 | V18: =V85 -> 1.660045 | ... GX18: =GX85 -> 0
A20: 3 | B20: 1 | D20: =ROW(A53) -> 53 | F20: Новая локальная смета | G20: Новая локальная смета | I20: 0 | K20: 0 | V20: 0 | BX20: 0 | CF20: 0 | CG20: 0
A22: 52 | B22: =B53 -> 1 | C22: =C53 -> 3 | D22: =D53 -> 20 | E22: =E53 -> 0 | F22: =F53 -> Новая локальная смета | G22: =G53 -> Новая локальная смета | O22: =O53 -> 102286.84 | P22: =P53 -> 89191.61 | Q22: =Q53 -> 366.57 | R22: =R53 -> 117.4 | S22: =S53 -> 12728.66 | T22: =T53 -> 0 | U22: =U53 -> 242.25641 | V22: =V53 -> 1.660045 | ... GX22: =GX53 -> 0
A24: 17 | B24: 1 | C24: =ROW(SmtRes!A1) -> 1 | D24: =ROW(EtalonRes!A2) -> 2 | E24: 1 | F24: 57-3-1 | G24: Разборка плинтусов деревянных | H24: 100 м | I24: 0.23 | J24: 0 | O24: =ROUND(CP24,2) -> 41.13 | P24: =ROUND(CQ24*I24,2) -> 0 | Q24: =ROUND(CR24*I24,2) -> 0 | R24: =ROUND(CS24*I24,2) -> 0 | S24: =ROUND(CT24*I24,2) -> 41.13 | T24: =ROUND(CU24*I24,2) -> 0 | U24: =CV24*I24 -> 0.8671 | V24: =CW24*I24 -> 0 | W24: =ROUND(CX24*I24,2) -> 0 | X24: =ROUND(CY24,2) -> 32.9 | Y24: =ROUND(CZ24,2) -> 27.97 | AA24: 39102310 | AB24: =ROUND((AC24+AD24+AF24),2) -> 29.41 | AC24: =ROUND((ES24),2) -> 0 | AD24: =ROUND((((ET24)-(EU24))+AE24),2) -> 0 | AE24: =ROUND((EU24),2) -> 0 | AF24: =ROUND((EV24),2) -> 29.41 | AG24: =ROUND((AP24),2) -> 0 | AH24: =(EW24) -> 3.77 | AI24: =(EX24) -> 0 | AJ24: =ROUND((AS24),2) -> 0 | AK24: 29.41 | AL24: 0 | AM24: 0 | AN24: 0 | AO24: 29.41 | AP24: 0 | AQ24: 3.77 | AR24: 0 | AS24: 0 | AT24: 80 | AU24: 68 | AV24: 1 | AW24: 1 | AZ24: 6.08 | BA24: 6.08 | BB24: 6.08 | BC24: 6.08 | BH24: 0 | BI24: 1 | BJ24: ФЕР-2001, 57-3-1, приказ Минстроя России №1039/пр от 30.12.2016г. | BM24: 57001 | BN24: 0 | BP24: 0 | BQ24: 6 | BR24: 0 | BS24: 6.08 | BT24: 1 | BU24: 1 | BV24: 1 | BW24: 1 | BX24: 1 | BZ24: 80 | CA24: 68 | CF24: 0 | CG24: 0 | CM24: 0 | CO24: 0 | CP24: =(P24+Q24+S24) -> 41.13 | CQ24: =AC24*BC24 -> 0 | CR24: =AD24*BB24 -> 0 | CS24: =AE24*BS24 -> 0 | CT24: =AF24*BA24 -> 178.8128 | CU24: =AG24 -> 0 | CV24: =AH24 -> 3.77 | CW24: =AI24 -> 0 | CX24: =AJ24 -> 0 | CY24: =(((S24+R24)*AT24)/100) -> 32.904 | CZ24: =(((S24+R24)*AU24)/100) -> 27.9684 | DN24: 0 | DO24: 0 | DP24: 1 | DQ24: 1 | DU24: 1003 | DV24: 100 м | DW24: 100 м | DX24: 100 | EE24: 38092894 | EF24: 6 | EG24: Ремонтно-строительные работы | EH24: 0 | EJ24: 1 | EK24: 57001 | EL24: Полы | EM24: рФЕР-57 | EQ24: 0 | ER24: 29.41 | ES24: 0 | ET24: 0 | EU24: 0 | EV24: 29.41 | EW24: 3.77 | EX24: 0 | EY24: 0 | FQ24: 0 | FR24: =ROUND(IF(AND(BH24=3,BI24=3),P24,0),2) -> 0 | FS24: 0 | FX24: 80 | FY24: 68 | GD24: 0 | GF24: -1219653826 | GG24: 1 | GH24: 1 | GI24: 4 | GJ24: 0 | GK24: =ROUND(R24*(R12)/100,2) -> 0 | GL24: =ROUND(IF(AND(BH24=3,BI24=3,FS24<>0),P24,0),2) -> 0 | GM24: =ROUND(O24+X24+Y24+GK24,2)+GX24 -> 102 | GN24: =IF(OR(BI24=0,BI24=1),ROUND(O24+X24+Y24+GK24,2),0) -> 102 | GO24: =IF(BI24=2,ROUND(O24+X24+Y24+GK24,2),0) -> 0 | GP24: =IF(BI24=4,ROUND(O24+X24+Y24+GK24,2)+GX24,0) -> 0 | GR24: 0 | GS24: 3 | GT24: 0 | GV24: =ROUND(GT24,2) -> 0 | GW24: 1 | GX24: =ROUND(GV24*GW24*I24,2) -> 0 | HA24: 0 | HB24: 0 | IK24: 0
A25: 17 | B25: 1 | C25: =ROW(SmtRes!A4) -> 4 | D25: =ROW(EtalonRes!A6) -> 6 | E25: 2 | F25: 57-2-1 | G25: Разборка покрытий полов из линолеума | H25: 100 м2 | I25: 0.363 | J25: 0 | O25: =ROUND(CP25,2) -> 205.03 | P25: =ROUND(CQ25*I25,2) -> 0 | Q25: =ROUND(CR25*I25,2) -> 8.96 | R25: =ROUND(CS25*I25,2) -> 3.88 | S25: =ROUND(CT25*I25,2) -> 196.07 | T25: =ROUND(CU25*I25,2) -> 0 | U25: =CV25*I25 -> 4.13457 | V25: =CW25*I25 -> 0.04719 | W25: =ROUND(CX25*I25,2) -> 0 | X25: =ROUND(CY25,2) -> 159.96 | Y25: =ROUND(CZ25,2) -> 135.97 | AA25: 39102310 | AB25: =ROUND((AC25+AD25+AF25),2) -> 92.9 | AC25: =ROUND((ES25),2) -> 0 | AD25: =ROUND((((ET25)-(EU25))+AE25),2) -> 4.06 | AE25: =ROUND((EU25),2) -> 1.76 | AF25: =ROUND((EV25),2) -> 88.84 | AG25: =ROUND((AP25),2) -> 0 | AH25: =(EW25) -> 11.39 | AI25: =(EX25) -> 0.13 | AJ25: =ROUND((AS25),2) -> 0 | AK25: 92.9 | AL25: 0 | AM25: 4.06 | AN25: 1.76 | AO25: 88.84 | AP25: 0 | AQ25: 11.39 | AR25: 0.13 | AS25: 0 | AT25: 80 | AU25: 68 | AV25: 1 | AW25: 1 | AZ25: 6.08 | BA25: 6.08 | BB25: 6.08 | BC25: 6.08 | BH25: 0 | BI25: 1 | BJ25: ФЕР-2001, 57-2-1, приказ Минстроя России №1039/пр от 30.12.2016г. | BM25: 57001 | BN25: 0 | BP25: 0 | BQ25: 6 | BR25: 0 | BS25: 6.08 | BT25: 1 | BU25: 1 | BV25: 1 | BW25: 1 | BX25: 1 | BZ25: 80 | CA25: 68 | CF25: 0 | CG25: 0 | CM25: 0 | CO25: 0 | CP25: =(P25+Q25+S25) -> 205.03 | CQ25: =AC25*BC25 -> 0 | CR25: =AD25*BB25 -> 24.6848 | CS25: =AE25*BS25 -> 10.7008 | CT25: =AF25*BA25 -> 540.1472 | CU25: =AG25 -> 0 | CV25: =AH25 -> 11.39 | CW25: =AI25 -> 0.13 | CX25: =AJ25 -> 0 | CY25: =(((S25+R25)*AT25)/100) -> 159.96 | CZ25: =(((S25+R25)*AU25)/100) -> 135.966 | DN25: 0 | DO25: 0 | DP25: 1 | DQ25: 1 | DU25: 1005 | DV25: 100 м2 | DW25: 100 м2 | DX25: 100 | EE25: 38092894 | EF25: 6 | EG25: Ремонтно-строительные работы | EH25: 0 | EJ25: 1 | EK25: 57001 | EL25: Полы | EM25: рФЕР-57 | EQ25: 0 | ER25: 92.9 | ES25: 0 | ET25: 4.06 | EU25: 1.76 | EV25: 88.84 | EW25: 11.39 | EX25: 0.13 | EY25: 0 | FQ25: 0 | FR25: =ROUND(IF(AND(BH25=3,BI25=3),P25,0),2) -> 0 | FS25: 0 | FX25: 80 | FY25: 68 | GD25: 0 | GF25: 334444289 | GG25: 1 | GH25: 1 | GI25: 4 | GJ25: 0 | GK25: =ROUND(R25*(R12)/100,2) -> 0 | GL25: =ROUND(IF(AND(BH25=3,BI25=3,FS25<>0),P25,0),2) -> 0 | GM25: =ROUND(O25+X25+Y25+GK25,2)+GX25 -> 500.96 | GN25: =IF(OR(BI25=0,BI25=1),ROUND(O25+X25+Y25+GK25,2),0) -> 500.96 | GO25: =IF(BI25=2,ROUND(O25+X25+Y25+GK25,2),0) -> 0 | GP25: =IF(BI25=4,ROUND(O25+X25+Y25+GK25,2)+GX25,0) -> 0 | GR25: 0 | GS25: 3 | GT25: 0 | GV25: =ROUND(GT25,2) -> 0 | GW25: 1 | GX25: =ROUND(GV25*GW25*I25,2) -> 0 | HA25: 0 | HB25: 0 | IK25: 0
A26: 17 | B26: 1 | C26: =ROW(SmtRes!A11) -> 11 | D26: =ROW(EtalonRes!A13) -> 13 | E26: 3 | F26: 11-01-011-08 | G26: Устройство стяжек из выравнивающей смеси типа "Ветонит" 5000, толщиной 5 мм | H26: 100 м2 | I26: 0.363 | J26: 0 | O26: =ROUND(CP26,2) -> 24617.59 | P26: =ROUND(CQ26*I26,2) -> 23618.26 | Q26: =ROUND(CR26*I26,2) -> 20.64 | R26: =ROUND(CS26*I26,2) -> 6.53 | S26: =ROUND(CT26*I26,2) -> 978.69 | T26: =ROUND(CU26*I26,2) -> 0 | U26: =CV26*I26 -> 18.87041 | V26: =CW26*I26 -> 0.092565 | W26: =ROUND(CX26*I26,2) -> 0 | X26: =ROUND(CY26,2) -> 1093.59 | Y26: =ROUND(CZ26,2) -> 630.54 | AA26: 39102310 | AB26: =ROUND((AC26+AD26+AF26),2) -> 11154.12 | AC26: =ROUND((ES26),2) -> 10701.33 | AD26: =ROUND((((((ET26*1.25)*1.2))-(((EU26*1.25)*1.2)))+AE26),2) -> 9.35 | AE26: =ROUND((((EU26*1.25)*1.2)),2) -> 2.96 | AF26: =ROUND((((EV26*1.15)*1.2)),2) -> 443.44 | AG26: =ROUND((AP26),2) -> 0 | AH26: =(((EW26*1.15)*1.2)) -> 51.9846 | AI26: =(((EX26*1.25)*1.2)) -> 0.255 | AJ26: =ROUND((AS26),2) -> 0 | AK26: 11028.89 | AL26: 10701.33 | AM26: 6.23 | AN26: 1.97 | AO26: 321.33 | AP26: 0 | AQ26: 37.67 | AR26: 0.17 | AS26: 0 | AT26: 111 | AU26: 64 | AV26: 1 | AW26: 1 | AZ26: 6.08 | BA26: 6.08 | BB26: 6.08 | BC26: 6.08 | BH26: 0 | BI26: 1 | BJ26: ФЕР-2001, 11-01-011-08, приказ Минстроя России №1039/пр от 30.12.2016г. | BM26: 11001 | BN26: 0 | BP26: 0 | BQ26: 2 | BR26: 0 | BS26: 6.08 | BT26: 1 | BU26: 1 | BV26: 1 | BW26: 1 | BX26: 1 | BZ26: 123 | CA26: 75 | CF26: 0 | CG26: 0 | CM26: 0 | CN26: Поправка: МДС 81-35.2004, п.4.7 Наименование: Работы, выполняемые при реконструкции зданий и сооружений работы, аналогичные технологическим процессам в новом строительстве (в том числе возведение новых конструктивных элементов) стоимость которых определена по соответствующим сборникам ФЕР, кроме сборника № 46 «Работы при реконструкции зданий и сооружений» Поправка: МДС 81-35.2004, прил.1, т.3, п.1 Наименование: Производство ремонтных работ в существующих зданиях и сооружениях, освобожденных от оборудования и других предметов, мешающих нормальному производству работ. | CO26: 0 | CP26: =(P26+Q26+S26) -> 24617.59 | CQ26: =AC26*BC26 -> 65064.086 | CR26: =AD26*BB26 -> 56.848 | CS26: =AE26*BS26 -> 17.9968 | CT26: =AF26*BA26 -> 2696.1152 | CU26: =AG26 -> 0 | CV26: =AH26 -> 51.9846 | CW26: =AI26 -> 0.255 | CX26: =AJ26 -> 0 | CY26: =(((S26+R26)*AT26)/100) -> 1093.5942 | CZ26: =(((S26+R26)*AU26)/100) -> 630.5408 | DE26: )*1,25)*1,2 | DF26: )*1,25)*1,2 | DG26: )*1,15)*1,2 | DI26: )*1,15)*1,2 | DJ26: )*1,25)*1,2 | DN26: 0 | DO26: 0 | DP26: 1 | DQ26: 1 | DU26: 1005 | DV26: 100 м2 | DW26: 100 м2 | DX26: 100 | EE26: 38092816 | EF26: 2 | EG26: Общестроительные работы | EH26: 0 | EJ26: 1 | EK26: 11001 | EL26: Полы | EM26: ФЕР-11 | EO26: Поправка: МДС 81-35.2004, п.4.7 Поправка: МДС 81-35.2004, прил.1, т.3, п.1 | EQ26: 0 | ER26: 11028.89 | ES26: 10701.33 | ET26: 6.23 | EU26: 1.97 | EV26: 321.33 | EW26: 37.67 | EX26: 0.17 | EY26: 0 | FQ26: 0 | FR26: =ROUND(IF(AND(BH26=3,BI26=3),P26,0),2) -> 0 | FS26: 0 | FT26: *0,9 | FU26: *0,85 | FX26: 110.7 | FY26: 63.75 | GD26: 0 | GF26: 1715562049 | GG26: 1 | GH26: 1 | GI26: 4 | GJ26: 0 | GK26: =ROUND(R26*(R12)/100,2) -> 0 | GL26: =ROUND(IF(AND(BH26=3,BI26=3,FS26<>0),P26,0),2) -> 0 | GM26: =ROUND(O26+X26+Y26+GK26,2)+GX26 -> 26341.72 | GN26: =IF(OR(BI26=0,BI26=1),ROUND(O26+X26+Y26+GK26,2),0) -> 26341.72 | GO26: =IF(BI26=2,ROUND(O26+X26+Y26+GK26,2),0) -> 0 | GP26: =IF(BI26=4,ROUND(O26+X26+Y26+GK26,2)+GX26,0) -> 0 | GR26: 0 | GS26: 3 | GT26: 0 | GV26: =ROUND(GT26,2) -> 0 | GW26: 1 | GX26: =ROUND(GV26*GW26*I26,2) -> 0 | HA26: 0 | HB26: 0 | IK26: 0
A27: 17 | B27: 1 | C27: =ROW(SmtRes!A17) -> 17 | D27: =ROW(EtalonRes!A19) -> 19 | E27: 4 | F27: 11-01-011-10 | G27: Устройство стяжек на каждый последующий слой толщиной 1 мм добавлять к расценке 11-01-011-08 | H27: 100 м2 | I27: 0.363 | J27: 0 | O27: =ROUND(CP27,2) -> 9177.1 | P27: =ROUND(CQ27*I27,2) -> 9043.35 | Q27: =ROUND(CR27*I27,2) -> 8.01 | R27: =ROUND(CS27*I27,2) -> 2.32 | S27: =ROUND(CT27*I27,2) -> 125.74 | T27: =ROUND(CU27*I27,2) -> 0 | U27: =CV27*I27 -> 2.4245496 | V27: =CW27*I27 -> 0.03267 | W27: =ROUND(CX27*I27,2) -> 0 | X27: =ROUND(CY27,2) -> 142.15 | Y27: =ROUND(CZ27,2) -> 81.96 | AA27: 39102310 | AB27: =ROUND((AC27+AD27+AF27),2) -> 4158.1 | AC27: =ROUND(((ES27*2)),2) -> 4097.5 | AD27: =ROUND((((((ET27*1.25*2)*1.2))-(((EU27*1.25*2)*1.2)))+AE27),2) -> 3.63 | AE27: =ROUND((((EU27*1.25*2)*1.2)),2) -> 1.05 | AF27: =ROUND((((EV27*1.15*2)*1.2)),2) -> 56.97 | AG27: =ROUND((AP27),2) -> 0 | AH27: =(((EW27*1.15*2)*1.2)) -> 6.6792 | AI27: =(((EX27*1.25*2)*1.2)) -> 0.09 | AJ27: =ROUND((AS27),2) -> 0 | AK27: 2070.6 | AL27: 2048.75 | AM27: 1.21 | AN27: 0.35 | AO27: 20.64 | AP27: 0 | AQ27: 2.42 | AR27: 0.03 | AS27: 0 | AT27: 111 | AU27: 64 | AV27: 1 | AW27: 1 | AZ27: 6.08 | BA27: 6.08 | BB27: 6.08 | BC27: 6.08 | BH27: 0 | BI27: 1 | BJ27: ФЕР-2001, 11-01-011-10, приказ Минстроя России №1039/пр от 30.12.2016г. | BM27: 11001 | BN27: 0 | BP27: 0 | BQ27: 2 | BR27: 0 | BS27: 6.08 | BT27: 1 | BU27: 1 | BV27: 1 | BW27: 1 | BX27: 1 | BZ27: 123 | CA27: 75 | CF27: 0 | CG27: 0 | CM27: 0 | CN27: Поправка: МДС 81-35.2004, п.4.7 Наименование: Работы, выполняемые при реконструкции зданий и сооружений работы, аналогичные технологическим процессам в новом строительстве (в том числе возведение новых конструктивных элементов) стоимость которых определена по соответствующим сборникам ФЕР, кроме сборника № 46 «Работы при реконструкции зданий и сооружений» Поправка: МДС 81-35.2004, прил.1, т.1, п.2 Наименование: Производство строительных и других работ в существующих зданиях и сооружениях, освобожденных от оборудования и других предметов, мешающих нормальному производству работ. | CO27: 0 | CP27: =(P27+Q27+S27) -> 9177.1 | CQ27: =AC27*BC27 -> 24912.8 | CR27: =AD27*BB27 -> 22.0704 | CS27: =AE27*BS27 -> 6.384 | CT27: =AF27*BA27 -> 346.3776 | CU27: =AG27 -> 0 | CV27: =AH27 -> 6.6792 | CW27: =AI27 -> 0.09 | CX27: =AJ27 -> 0 | CY27: =(((S27+R27)*AT27)/100) -> 142.1466 | CZ27: =(((S27+R27)*AU27)/100) -> 81.9584 | DD27: *2 | DE27: )*1,25*2)*1,2 | DF27: )*1,25*2)*1,2 | DG27: )*1,15*2)*1,2 | DI27: )*1,15*2)*1,2 | DJ27: )*1,25*2)*1,2 | DN27: 0 | DO27: 0 | DP27: 1 | DQ27: 1 | DU27: 1005 | DV27: 100 м2 | DW27: 100 м2 | DX27: 100 | EE27: 38092816 | EF27: 2 | EG27: Общестроительные работы | EH27: 0 | EJ27: 1 | EK27: 11001 | EL27: Полы | EM27: ФЕР-11 | EO27: Поправка: МДС 81-35.2004, п.4.7 Поправка: МДС 81-35.2004, прил.1, т.1, п.2 | EQ27: 0 | ER27: 2070.6 | ES27: 2048.75 | ET27: 1.21 | EU27: 0.35 | EV27: 20.64 | EW27: 2.42 | EX27: 0.03 | EY27: 0 | FQ27: 0 | FR27: =ROUND(IF(AND(BH27=3,BI27=3),P27,0),2) -> 0 | FS27: 0 | FT27: *0,9 | FU27: *0,85 | FX27: 110.7 | FY27: 63.75 | GD27: 0 | GF27: 337317905 | GG27: 1 | GH27: 1 | GI27: 4 | GJ27: 0 | GK27: =ROUND(R27*(R12)/100,2) -> 0 | GL27: =ROUND(IF(AND(BH27=3,BI27=3,FS27<>0),P27,0),2) -> 0 | GM27: =ROUND(O27+X27+Y27+GK27,2)+GX27 -> 9401.21 | GN27: =IF(OR(BI27=0,BI27=1),ROUND(O27+X27+Y27+GK27,2),0) -> 9401.21 | GO27: =IF(BI27=2,ROUND(O27+X27+Y27+GK27,2),0) -> 0 | GP27: =IF(BI27=4,ROUND(O27+X27+Y27+GK27,2)+GX27,0) -> 0 | GR27: 0 | GS27: 3 | GT27: 0 | GV27: =ROUND(GT27,2) -> 0 | GW27: 1 | GX27: =ROUND(GV27*GW27*I27,2) -> 0 | HA27: 0 | HB27: 0 | IK27: 0
A28: 17 | B28: 1 | C28: =ROW(SmtRes!A26) -> 26 | D28: =ROW(EtalonRes!A26) -> 26 | E28: 5 | F28: 11-01-036-01 | G28: Устройство покрытий из линолеума на клее | H28: 100 м2 | I28: 0.363 | J28: 0 | O28: =ROUND(CP28,2) -> 1220.16 | P28: =ROUND(CQ28*I28,2) -> 2.01 | Q28: =ROUND(CR28*I28,2) -> 145.02 | R28: =ROUND(CS28*I28,2) -> 34.87 | S28: =ROUND(CT28*I28,2) -> 1073.13 | T28: =ROUND(CU28*I28,2) -> 0 | U28: =CV28*I28 -> 21.239856 | V28: =CW28*I28 -> 0.462825 | W28: =ROUND(CX28*I28,2) -> 0 | X28: =ROUND(CY28,2) -> 1229.88 | Y28: =ROUND(CZ28,2) -> 709.12 | AA28: 39102310 | AB28: =ROUND((AC28+AD28+AF28),2) -> 552.85 | AC28: =ROUND((ES28),2) -> 0.91 | AD28: =ROUND((((((ET28*1.25)*1.2))-(((EU28*1.25)*1.2)))+AE28),2) -> 65.71 | AE28: =ROUND((((EU28*1.25)*1.2)),2) -> 15.8 | AF28: =ROUND((((EV28*1.15)*1.2)),2) -> 486.23 | AG28: =ROUND((AP28),2) -> 0 | AH28: =(((EW28*1.15)*1.2)) -> 58.512 | AI28: =(((EX28*1.25)*1.2)) -> 1.275 | AJ28: =ROUND((AS28),2) -> 0 | AK28: 397.05 | AL28: 0.91 | AM28: 43.8 | AN28: 10.53 | AO28: 352.34 | AP28: 0 | AQ28: 42.4 | AR28: 0.85 | AS28: 0 | AT28: 111 | AU28: 64 | AV28: 1 | AW28: 1 | AZ28: 6.08 | BA28: 6.08 | BB28: 6.08 | BC28: 6.08 | BH28: 0 | BI28: 1 | BJ28: ФЕР-2001, 11-01-036-01, приказ Минстроя России №1039/пр от 30.12.2016г. | BM28: 11001 | BN28: 0 | BP28: 0 | BQ28: 2 | BR28: 0 | BS28: 6.08 | BT28: 1 | BU28: 1 | BV28: 1 | BW28: 1 | BX28: 1 | BZ28: 123 | CA28: 75 | CF28: 0 | CG28: 0 | CM28: 0 | CN28: Поправка: МДС 81-35.2004, п.4.7 Наименование: Работы, выполняемые при реконструкции зданий и сооружений работы, аналогичные технологическим процессам в новом строительстве (в том числе возведение новых конструктивных элементов) стоимость которых определена по соответствующим сборникам ФЕР, кроме сборника № 46 «Работы при реконструкции зданий и сооружений» Поправка: МДС 81-35.2004, прил.1, т.1, п.2 Наименование: Производство строительных и других работ в существующих зданиях и сооружениях, освобожденных от оборудования и других предметов, мешающих нормальному производству работ. | CO28: 0 | CP28: =(P28+Q28+S28) -> 1220.16 | CQ28: =AC28*BC28 -> 5.5328 | CR28: =AD28*BB28 -> 399.5168 | CS28: =AE28*BS28 -> 96.064 | CT28: =AF28*BA28 -> 2956.2784 | CU28: =AG28 -> 0 | CV28: =AH28 -> 58.512 | CW28: =AI28 -> 1.275 | CX28: =AJ28 -> 0 | CY28: =(((S28+R28)*AT28)/100) -> 1229.88 | CZ28: =(((S28+R28)*AU28)/100) -> 709.12 | DE28: )*1,25)*1,2 | DF28: )*1,25)*1,2 | DG28: )*1,15)*1,2 | DI28: )*1,15)*1,2 | DJ28: )*1,25)*1,2 | DN28: 0 | DO28: 0 | DP28: 1 | DQ28: 1 | DU28: 1005 | DV28: 100 м2 | DW28: 100 м2 | DX28: 100 | EE28: 38092816 | EF28: 2 | EG28: Общестроительные работы | EH28: 0 | EJ28: 1 | EK28: 11001 | EL28: Полы | EM28: ФЕР-11 | EO28: Поправка: МДС 81-35.2004, п.4.7 Поправка: МДС 81-35.2004, прил.1, т.1, п.2 | EQ28: 0 | ER28: 397.05 | ES28: 0.91 | ET28: 43.8 | EU28: 10.53 | EV28: 352.34 | EW28: 42.4 | EX28: 0.85 | EY28: 0 | FQ28: 0 | FR28: =ROUND(IF(AND(BH28=3,BI28=3),P28,0),2) -> 0 | FS28: 0 | FT28: *0,9 | FU28: *0,85 | FX28: 110.7 | FY28: 63.75 | GD28: 0 | GF28: 35623097 | GG28: 1 | GH28: 1 | GI28: 4 | GJ28: 0 | GK28: =ROUND(R28*(R12)/100,2) -> 0 | GL28: =ROUND(IF(AND(BH28=3,BI28=3,FS28<>0),P28,0),2) -> 0 | GM28: =ROUND(O28+X28+Y28+GK28,2)+GX28 -> 3159.16 | GN28: =IF(OR(BI28=0,BI28=1),ROUND(O28+X28+Y28+GK28,2),0) -> 3159.16 | GO28: =IF(BI28=2,ROUND(O28+X28+Y28+GK28,2),0) -> 0 | GP28: =IF(BI28=4,ROUND(O28+X28+Y28+GK28,2)+GX28,0) -> 0 | GR28: 0 | GS28: 3 | GT28: 0 | GV28: =ROUND(GT28,2) -> 0 | GW28: 1 | GX28: =ROUND(GV28*GW28*I28,2) -> 0 | HA28: 0 | HB28: 0 | IK28: 0
A29: 18 | B29: 1 | C29: 23 | E29: 5,1 | F29: 01.6.03.04-0121 | G29: Линолеум коммерческий гомогенный "ТАРКЕТТ iQ MONOLIT" (толщина 2 мм, класс 34/43, пож. безопасность Г1, В2, РП1, Д2, Т2) | H29: м2 | I29: =I28*J29 -> 37.026 | J29: 102 | O29: =ROUND(CP29,2) -> 39668.06 | P29: =ROUND(CQ29*I29,2) -> 39668.06 | Q29: =ROUND(CR29*I29,2) -> 0 | R29: =ROUND(CS29*I29,2) -> 0 | S29: =ROUND(CT29*I29,2) -> 0 | T29: =ROUND(CU29*I29,2) -> 0 | U29: =CV29*I29 -> 0 | V29: =CW29*I29 -> 0 | W29: =ROUND(CX29*I29,2) -> 0 | X29: =ROUND(CY29,2) -> 0 | Y29: =ROUND(CZ29,2) -> 0 | AA29: 39102310 | AB29: =ROUND((AC29+AD29+AF29),2) -> 176.21 | AC29: =ROUND((ES29),2) -> 176.21 | AD29: =ROUND((((ET29)-(EU29))+AE29),2) -> 0 | AE29: =ROUND((EU29),2) -> 0 | AF29: =ROUND((EV29),2) -> 0 | AG29: =ROUND((AP29),2) -> 0 | AH29: =(EW29) -> 0 | AI29: =(EX29) -> 0 | AJ29: =ROUND((AS29),2) -> 0 | AK29: 176.21 | AL29: 176.21 | AM29: 0 | AN29: 0 | AO29: 0 | AP29: 0 | AQ29: 0 | AR29: 0 | AS29: 0 | AT29: 111 | AU29: 64 | AV29: 1 | AW29: 1 | AZ29: 6.08 | BA29: 1 | BB29: 1 | BC29: 6.08 | BH29: 3 | BI29: 1 | BJ29: ФССЦ-2001, 01.6.03.04-0121, приказ Минстроя России №1039/пр от 30.12.2016г. | BM29: 11001 | BN29: 0 | BP29: 0 | BQ29: 2 | BR29: 0 | BS29: 1 | BT29: 1 | BU29: 1 | BV29: 1 | BW29: 1 | BX29: 1 | BZ29: 123 | CA29: 75 | CF29: 0 | CG29: 0 | CM29: 0 | CO29: 0 | CP29: =(P29+Q29+S29) -> 39668.06 | CQ29: =AC29*BC29 -> 1071.3568 | CR29: =AD29*BB29 -> 0 | CS29: =AE29*BS29 -> 0 | CT29: =AF29*BA29 -> 0 | CU29: =AG29 -> 0 | CV29: =AH29 -> 0 | CW29: =AI29 -> 0 | CX29: =AJ29 -> 0 | CY29: =(((S29+R29)*AT29)/100) -> 0 | CZ29: =(((S29+R29)*AU29)/100) -> 0 | DN29: 0 | DO29: 0 | DP29: 1 | DQ29: 1 | DU29: 1005 | DV29: м2 | DW29: м2 | DX29: 1 | EE29: 38092816 | EF29: 2 | EG29: Общестроительные работы | EH29: 0 | EJ29: 1 | EK29: 11001 | EL29: Полы | EM29: ФЕР-11 | EQ29: 0 | ER29: 176.21 | ES29: 176.21 | ET29: 0 | EU29: 0 | EV29: 0 | EW29: 0 | EX29: 0 | FQ29: 0 | FR29: =ROUND(IF(AND(BH29=3,BI29=3),P29,0),2) -> 0 | FS29: 0 | FT29: *0,9 | FU29: *0,85 | FX29: 110.7 | FY29: 63.75 | GD29: 0 | GF29: -1736667289 | GG29: 1 | GH29: 1 | GI29: 4 | GJ29: 0 | GK29: =ROUND(R29*(R12)/100,2) -> 0 | GL29: =ROUND(IF(AND(BH29=3,BI29=3,FS29<>0),P29,0),2) -> 0 | GM29: =ROUND(O29+X29+Y29+GK29,2)+GX29 -> 39668.06 | GN29: =IF(OR(BI29=0,BI29=1),ROUND(O29+X29+Y29+GK29,2),0) -> 39668.06 | GO29: =IF(BI29=2,ROUND(O29+X29+Y29+GK29,2),0) -> 0 | GP29: =IF(BI29=4,ROUND(O29+X29+Y29+GK29,2)+GX29,0) -> 0 | GR29: 0 | GS29: 3 | GT29: 0 | GV29: =ROUND(GT29,2) -> 0 | GW29: 1 | GX29: =ROUND(GV29*GW29*I29,2) -> 0 | HA29: 0 | HB29: 0 | IK29: 0
A30: 18 | B30: 1 | C30: 22 | E30: 5,2 | F30: 01.6.03.04 | G30: Линолеум на теплозвукоизолирующей подоснове | H30: м2 | I30: =I28*J30 -> 37.026 | J30: 102 | O30: =ROUND(CP30,2) -> 0 | P30: =ROUND(CQ30*I30,2) -> 0 | Q30: =ROUND(CR30*I30,2) -> 0 | R30: =ROUND(CS30*I30,2) -> 0 | S30: =ROUND(CT30*I30,2) -> 0 | T30: =ROUND(CU30*I30,2) -> 0 | U30: =CV30*I30 -> 0 | V30: =CW30*I30 -> 0 | W30: =ROUND(CX30*I30,2) -> 0 | X30: =ROUND(CY30,2) -> 0 | Y30: =ROUND(CZ30,2) -> 0 | AA30: 39102310 | AB30: =ROUND((AC30+AD30+AF30),2) -> 0 | AC30: =ROUND((ES30),2) -> 0 | AD30: =ROUND((((ET30)-(EU30))+AE30),2) -> 0 | AE30: =ROUND((EU30),2) -> 0 | AF30: =ROUND((EV30),2) -> 0 | AG30: =ROUND((AP30),2) -> 0 | AH30: =(EW30) -> 0 | AI30: =(EX30) -> 0 | AJ30: =ROUND((AS30),2) -> 0 | AK30: 0 | AL30: 0 | AM30: 0 | AN30: 0 | AO30: 0 | AP30: 0 | AQ30: 0 | AR30: 0 | AS30: 0 | AT30: 111 | AU30: 64 | AV30: 1 | AW30: 1 | AZ30: 6.08 | BA30: 1 | BB30: 1 | BC30: 6.08 | BH30: 3 | BI30: 1 | BM30: 11001 | BN30: 0 | BP30: 0 | BQ30: 2 | BR30: 0 | BS30: 1 | BT30: 1 | BU30: 1 | BV30: 1 | BW30: 1 | BX30: 1 | BZ30: 123 | CA30: 75 | CF30: 0 | CG30: 0 | CM30: 0 | CO30: 0 | CP30: =(P30+Q30+S30) -> 0 | CQ30: =AC30*BC30 -> 0 | CR30: =AD30*BB30 -> 0 | CS30: =AE30*BS30 -> 0 | CT30: =AF30*BA30 -> 0 | CU30: =AG30 -> 0 | CV30: =AH30 -> 0 | CW30: =AI30 -> 0 | CX30: =AJ30 -> 0 | CY30: =(((S30+R30)*AT30)/100) -> 0 | CZ30: =(((S30+R30)*AU30)/100) -> 0 | DN30: 0 | DO30: 0 | DP30: 1 | DQ30: 1 | DU30: 1005 | DV30: м2 | DW30: м2 | DX30: 1 | EE30: 38092816 | EF30: 2 | EG30: Общестроительные работы | EH30: 0 | EJ30: 1 | EK30: 11001 | EL30: Полы | EM30: ФЕР-11 | EQ30: 0 | ER30: 0 | ES30: 0 | ET30: 0 | EU30: 0 | EV30: 0 | EW30: 0 | EX30: 0 | FQ30: 0 | FR30: =ROUND(IF(AND(BH30=3,BI30=3),P30,0),2) -> 0 | FS30: 0 | FT30: *0,9 | FU30: *0,85 | FX30: 110.7 | FY30: 63.75 | GA30: занесена вручную | GD30: 0 | GF30: -919469713 | GG30: 1 | GH30: 1 | GI30: 4 | GJ30: 0 | GK30: =ROUND(R30*(R12)/100,2) -> 0 | GL30: =ROUND(IF(AND(BH30=3,BI30=3,FS30<>0),P30,0),2) -> 0 | GM30: =ROUND(O30+X30+Y30+GK30,2)+GX30 -> 0 | GN30: =IF(OR(BI30=0,BI30=1),ROUND(O30+X30+Y30+GK30,2),0) -> 0 | GO30: =IF(BI30=2,ROUND(O30+X30+Y30+GK30,2),0) -> 0 | GP30: =IF(BI30=4,ROUND(O30+X30+Y30+GK30,2)+GX30,0) -> 0 | GR30: 0 | GS30: 4 | GT30: 0 | GV30: =ROUND(GT30,2) -> 0 | GW30: 1 | GX30: =ROUND(GV30*GW30*I30,2) -> 0 | HA30: 0 | HB30: 0 | IK30: 0
A31: 18 | B31: 1 | C31: 25 | E31: 5,3 | F31: 14.1.02.04-0101 | G31: Клей «Бустилат» | H31: т | I31: =I28*J31 -> 0.01815 | J31: 0.05 | O31: =ROUND(CP31,2) -> 1246.98 | P31: =ROUND(CQ31*I31,2) -> 1246.98 | Q31: =ROUND(CR31*I31,2) -> 0 | R31: =ROUND(CS31*I31,2) -> 0 | S31: =ROUND(CT31*I31,2) -> 0 | T31: =ROUND(CU31*I31,2) -> 0 | U31: =CV31*I31 -> 0 | V31: =CW31*I31 -> 0 | W31: =ROUND(CX31*I31,2) -> 0 | X31: =ROUND(CY31,2) -> 0 | Y31: =ROUND(CZ31,2) -> 0 | AA31: 39102310 | AB31: =ROUND((AC31+AD31+AF31),2) -> 11300 | AC31: =ROUND((ES31),2) -> 11300 | AD31: =ROUND((((ET31)-(EU31))+AE31),2) -> 0 | AE31: =ROUND((EU31),2) -> 0 | AF31: =ROUND((EV31),2) -> 0 | AG31: =ROUND((AP31),2) -> 0 | AH31: =(EW31) -> 0 | AI31: =(EX31) -> 0 | AJ31: =ROUND((AS31),2) -> 0 | AK31: 11300 | AL31: 11300 | AM31: 0 | AN31: 0 | AO31: 0 | AP31: 0 | AQ31: 0 | AR31: 0 | AS31: 0 | AT31: 111 | AU31: 64 | AV31: 1 | AW31: 1 | AZ31: 6.08 | BA31: 1 | BB31: 1 | BC31: 6.08 | BH31: 3 | BI31: 1 | BJ31: ФССЦ-2001, 14.1.02.04-0101, приказ Минстроя России №1039/пр от 30.12.2016г. | BM31: 11001 | BN31: 0 | BP31: 0 | BQ31: 2 | BR31: 0 | BS31: 1 | BT31: 1 | BU31: 1 | BV31: 1 | BW31: 1 | BX31: 1 | BZ31: 123 | CA31: 75 | CF31: 0 | CG31: 0 | CM31: 0 | CO31: 0 | CP31: =(P31+Q31+S31) -> 1246.98 | CQ31: =AC31*BC31 -> 68704 | CR31: =AD31*BB31 -> 0 | CS31: =AE31*BS31 -> 0 | CT31: =AF31*BA31 -> 0 | CU31: =AG31 -> 0 | CV31: =AH31 -> 0 | CW31: =AI31 -> 0 | CX31: =AJ31 -> 0 | CY31: =(((S31+R31)*AT31)/100) -> 0 | CZ31: =(((S31+R31)*AU31)/100) -> 0 | DN31: 0 | DO31: 0 | DP31: 1 | DQ31: 1 | DU31: 1009 | DV31: т | DW31: т | DX31: 1000 | EE31: 38092816 | EF31: 2 | EG31: Общестроительные работы | EH31: 0 | EJ31: 1 | EK31: 11001 | EL31: Полы | EM31: ФЕР-11 | EQ31: 0 | ER31: 11300 | ES31: 11300 | ET31: 0 | EU31: 0 | EV31: 0 | EW31: 0 | EX31: 0 | FQ31: 0 | FR31: =ROUND(IF(AND(BH31=3,BI31=3),P31,0),2) -> 0 | FS31: 0 | FT31: *0,9 | FU31: *0,85 | FX31: 110.7 | FY31: 63.75 | GD31: 0 | GF31: 486476101 | GG31: 1 | GH31: 1 | GI31: 4 | GJ31: 0 | GK31: =ROUND(R31*(R12)/100,2) -> 0 | GL31: =ROUND(IF(AND(BH31=3,BI31=3,FS31<>0),P31,0),2) -> 0 | GM31: =ROUND(O31+X31+Y31+GK31,2)+GX31 -> 1246.98 | GN31: =IF(OR(BI31=0,BI31=1),ROUND(O31+X31+Y31+GK31,2),0) -> 1246.98 | GO31: =IF(BI31=2,ROUND(O31+X31+Y31+GK31,2),0) -> 0 | GP31: =IF(BI31=4,ROUND(O31+X31+Y31+GK31,2)+GX31,0) -> 0 | GR31: 0 | GS31: 3 | GT31: 0 | GV31: =ROUND(GT31,2) -> 0 | GW31: 1 | GX31: =ROUND(GV31*GW31*I31,2) -> 0 | HA31: 0 | HB31: 0 | IK31: 0
A32: 18 | B32: 1 | C32: 26 | E32: 5,4 | F32: 14.1.06.05 | G32: Состав клеящий | H32: кг | I32: =I28*J32 -> 18.15 | J32: 50 | O32: =ROUND(CP32,2) -> 0 | P32: =ROUND(CQ32*I32,2) -> 0 | Q32: =ROUND(CR32*I32,2) -> 0 | R32: =ROUND(CS32*I32,2) -> 0 | S32: =ROUND(CT32*I32,2) -> 0 | T32: =ROUND(CU32*I32,2) -> 0 | U32: =CV32*I32 -> 0 | V32: =CW32*I32 -> 0 | W32: =ROUND(CX32*I32,2) -> 0 | X32: =ROUND(CY32,2) -> 0 | Y32: =ROUND(CZ32,2) -> 0 | AA32: 39102310 | AB32: =ROUND((AC32+AD32+AF32),2) -> 0 | AC32: =ROUND((ES32),2) -> 0 | AD32: =ROUND((((ET32)-(EU32))+AE32),2) -> 0 | AE32: =ROUND((EU32),2) -> 0 | AF32: =ROUND((EV32),2) -> 0 | AG32: =ROUND((AP32),2) -> 0 | AH32: =(EW32) -> 0 | AI32: =(EX32) -> 0 | AJ32: =ROUND((AS32),2) -> 0 | AK32: 0 | AL32: 0 | AM32: 0 | AN32: 0 | AO32: 0 | AP32: 0 | AQ32: 0 | AR32: 0 | AS32: 0 | AT32: 111 | AU32: 64 | AV32: 1 | AW32: 1 | AZ32: 6.08 | BA32: 1 | BB32: 1 | BC32: 6.08 | BH32: 3 | BI32: 1 | BM32: 11001 | BN32: 0 | BP32: 0 | BQ32: 2 | BR32: 0 | BS32: 1 | BT32: 1 | BU32: 1 | BV32: 1 | BW32: 1 | BX32: 1 | BZ32: 123 | CA32: 75 | CF32: 0 | CG32: 0 | CM32: 0 | CO32: 0 | CP32: =(P32+Q32+S32) -> 0 | CQ32: =AC32*BC32 -> 0 | CR32: =AD32*BB32 -> 0 | CS32: =AE32*BS32 -> 0 | CT32: =AF32*BA32 -> 0 | CU32: =AG32 -> 0 | CV32: =AH32 -> 0 | CW32: =AI32 -> 0 | CX32: =AJ32 -> 0 | CY32: =(((S32+R32)*AT32)/100) -> 0 | CZ32: =(((S32+R32)*AU32)/100) -> 0 | DN32: 0 | DO32: 0 | DP32: 1 | DQ32: 1 | DU32: 1009 | DV32: кг | DW32: кг | DX32: 1 | EE32: 38092816 | EF32: 2 | EG32: Общестроительные работы | EH32: 0 | EJ32: 1 | EK32: 11001 | EL32: Полы | EM32: ФЕР-11 | EQ32: 0 | ER32: 0 | ES32: 0 | ET32: 0 | EU32: 0 | EV32: 0 | EW32: 0 | EX32: 0 | FQ32: 0 | FR32: =ROUND(IF(AND(BH32=3,BI32=3),P32,0),2) -> 0 | FS32: 0 | FT32: *0,9 | FU32: *0,85 | FX32: 110.7 | FY32: 63.75 | GA32: занесена вручную | GD32: 0 | GF32: 290394019 | GG32: 1 | GH32: 1 | GI32: 4 | GJ32: 0 | GK32: =ROUND(R32*(R12)/100,2) -> 0 | GL32: =ROUND(IF(AND(BH32=3,BI32=3,FS32<>0),P32,0),2) -> 0 | GM32: =ROUND(O32+X32+Y32+GK32,2)+GX32 -> 0 | GN32: =IF(OR(BI32=0,BI32=1),ROUND(O32+X32+Y32+GK32,2),0) -> 0 | GO32: =IF(BI32=2,ROUND(O32+X32+Y32+GK32,2),0) -> 0 | GP32: =IF(BI32=4,ROUND(O32+X32+Y32+GK32,2)+GX32,0) -> 0 | GR32: 0 | GS32: 4 | GT32: 0 | GV32: =ROUND(GT32,2) -> 0 | GW32: 1 | GX32: =ROUND(GV32*GW32*I32,2) -> 0 | HA32: 0 | HB32: 0 | IK32: 0
A33: 17 | B33: 1 | C33: =ROW(SmtRes!A33) -> 33 | D33: =ROW(EtalonRes!A32) -> 32 | E33: 6 | F33: 11-01-040-01 | G33: Устройство плинтусов поливинилхлоридных на клее КН-2 | H33: 100 м | I33: 0.23 | J33: 0 | O33: =ROUND(CP33,2) -> 234.38 | P33: =ROUND(CQ33*I33,2) -> 60.2 | Q33: =ROUND(CR33*I33,2) -> 4.47 | R33: =ROUND(CS33*I33,2) -> 0.88 | S33: =ROUND(CT33*I33,2) -> 169.71 | T33: =ROUND(CU33*I33,2) -> 0 | U33: =CV33*I33 -> 2.859774 | V33: =CW33*I33 -> 0.0138 | W33: =ROUND(CX33*I33,2) -> 0 | X33: =ROUND(CY33,2) -> 189.35 | Y33: =ROUND(CZ33,2) -> 109.18 | AA33: 39102310 | AB33: =ROUND((AC33+AD33+AF33),2) -> 167.61 | AC33: =ROUND((ES33),2) -> 43.05 | AD33: =ROUND((((((ET33*1.25)*1.2))-(((EU33*1.25)*1.2)))+AE33),2) -> 3.2 | AE33: =ROUND((((EU33*1.25)*1.2)),2) -> 0.63 | AF33: =ROUND((((EV33*1.15)*1.2)),2) -> 121.36 | AG33: =ROUND((AP33),2) -> 0 | AH33: =(((EW33*1.15)*1.2)) -> 12.4338 | AI33: =(((EX33*1.25)*1.2)) -> 0.06 | AJ33: =ROUND((AS33),2) -> 0 | AK33: 133.12 | AL33: 43.05 | AM33: 2.13 | AN33: 0.42 | AO33: 87.94 | AP33: 0 | AQ33: 9.01 | AR33: 0.04 | AS33: 0 | AT33: 111 | AU33: 64 | AV33: 1 | AW33: 1 | AZ33: 6.08 | BA33: 6.08 | BB33: 6.08 | BC33: 6.08 | BH33: 0 | BI33: 1 | BJ33: ФЕР-2001, 11-01-040-01, приказ Минстроя России №1039/пр от 30.12.2016г. | BM33: 11001 | BN33: 0 | BP33: 0 | BQ33: 2 | BR33: 0 | BS33: 6.08 | BT33: 1 | BU33: 1 | BV33: 1 | BW33: 1 | BX33: 1 | BZ33: 123 | CA33: 75 | CF33: 0 | CG33: 0 | CM33: 0 | CN33: Поправка: МДС 81-35.2004, п.4.7 Наименование: Работы, выполняемые при реконструкции зданий и сооружений работы, аналогичные технологическим процессам в новом строительстве (в том числе возведение новых конструктивных элементов) стоимость которых определена по соответствующим сборникам ФЕР, кроме сборника № 46 «Работы при реконструкции зданий и сооружений» Поправка: МДС 81-35.2004, прил.1, т.1, п.2 Наименование: Производство строительных и других работ в существующих зданиях и сооружениях, освобожденных от оборудования и других предметов, мешающих нормальному производству работ. | CO33: 0 | CP33: =(P33+Q33+S33) -> 234.38 | CQ33: =AC33*BC33 -> 261.744 | CR33: =AD33*BB33 -> 19.456 | CS33: =AE33*BS33 -> 3.8304 | CT33: =AF33*BA33 -> 737.8688 | CU33: =AG33 -> 0 | CV33: =AH33 -> 12.4338 | CW33: =AI33 -> 0.06 | CX33: =AJ33 -> 0 | CY33: =(((S33+R33)*AT33)/100) -> 189.3549 | CZ33: =(((S33+R33)*AU33)/100) -> 109.1776 | DE33: )*1,25)*1,2 | DF33: )*1,25)*1,2 | DG33: )*1,15)*1,2 | DI33: )*1,15)*1,2 | DJ33: )*1,25)*1,2 | DN33: 0 | DO33: 0 | DP33: 1 | DQ33: 1 | DU33: 1003 | DV33: 100 м | DW33: 100 м | DX33: 100 | EE33: 38092816 | EF33: 2 | EG33: Общестроительные работы | EH33: 0 | EJ33: 1 | EK33: 11001 | EL33: Полы | EM33: ФЕР-11 | EO33: Поправка: МДС 81-35.2004, п.4.7 Поправка: МДС 81-35.2004, прил.1, т.1, п.2 | EQ33: 0 | ER33: 133.12 | ES33: 43.05 | ET33: 2.13 | EU33: 0.42 | EV33: 87.94 | EW33: 9.01 | EX33: 0.04 | EY33: 0 | FQ33: 0 | FR33: =ROUND(IF(AND(BH33=3,BI33=3),P33,0),2) -> 0 | FS33: 0 | FT33: *0,9 | FU33: *0,85 | FX33: 110.7 | FY33: 63.75 | GD33: 0 | GF33: 1673334608 | GG33: 1 | GH33: 1 | GI33: 4 | GJ33: 0 | GK33: =ROUND(R33*(R12)/100,2) -> 0 | GL33: =ROUND(IF(AND(BH33=3,BI33=3,FS33<>0),P33,0),2) -> 0 | GM33: =ROUND(O33+X33+Y33+GK33,2)+GX33 -> 532.91 | GN33: =IF(OR(BI33=0,BI33=1),ROUND(O33+X33+Y33+GK33,2),0) -> 532.91 | GO33: =IF(BI33=2,ROUND(O33+X33+Y33+GK33,2),0) -> 0 | GP33: =IF(BI33=4,ROUND(O33+X33+Y33+GK33,2)+GX33,0) -> 0 | GR33: 0 | GS33: 3 | GT33: 0 | GV33: =ROUND(GT33,2) -> 0 | GW33: 1 | GX33: =ROUND(GV33*GW33*I33,2) -> 0 | HA33: 0 | HB33: 0 | IK33: 0
A34: 18 | B34: 1 | C34: 32 | E34: 6,1 | F34: 11.3.03.06-0001 | G34: Плинтуса для полов пластиковые, 19х48 мм | H34: м | I34: =I33*J34 -> 23.23 | J34: 101 | O34: =ROUND(CP34,2) -> 1737.23 | P34: =ROUND(CQ34*I34,2) -> 1737.23 | Q34: =ROUND(CR34*I34,2) -> 0 | R34: =ROUND(CS34*I34,2) -> 0 | S34: =ROUND(CT34*I34,2) -> 0 | T34: =ROUND(CU34*I34,2) -> 0 | U34: =CV34*I34 -> 0 | V34: =CW34*I34 -> 0 | W34: =ROUND(CX34*I34,2) -> 0 | X34: =ROUND(CY34,2) -> 0 | Y34: =ROUND(CZ34,2) -> 0 | AA34: 39102310 | AB34: =ROUND((AC34+AD34+AF34),2) -> 12.3 | AC34: =ROUND((ES34),2) -> 12.3 | AD34: =ROUND((((ET34)-(EU34))+AE34),2) -> 0 | AE34: =ROUND((EU34),2) -> 0 | AF34: =ROUND((EV34),2) -> 0 | AG34: =ROUND((AP34),2) -> 0 | AH34: =(EW34) -> 0 | AI34: =(EX34) -> 0 | AJ34: =ROUND((AS34),2) -> 0 | AK34: 12.3 | AL34: 12.3 | AM34: 0 | AN34: 0 | AO34: 0 | AP34: 0 | AQ34: 0 | AR34: 0 | AS34: 0 | AT34: 111 | AU34: 64 | AV34: 1 | AW34: 1 | AZ34: 6.08 | BA34: 1 | BB34: 1 | BC34: 6.08 | BH34: 3 | BI34: 1 | BJ34: ФССЦ-2001, 11.3.03.06-0001, приказ Минстроя России №1039/пр от 30.12.2016г. | BM34: 11001 | BN34: 0 | BP34: 0 | BQ34: 2 | BR34: 0 | BS34: 1 | BT34: 1 | BU34: 1 | BV34: 1 | BW34: 1 | BX34: 1 | BZ34: 123 | CA34: 75 | CF34: 0 | CG34: 0 | CM34: 0 | CO34: 0 | CP34: =(P34+Q34+S34) -> 1737.23 | CQ34: =AC34*BC34 -> 74.784 | CR34: =AD34*BB34 -> 0 | CS34: =AE34*BS34 -> 0 | CT34: =AF34*BA34 -> 0 | CU34: =AG34 -> 0 | CV34: =AH34 -> 0 | CW34: =AI34 -> 0 | CX34: =AJ34 -> 0 | CY34: =(((S34+R34)*AT34)/100) -> 0 | CZ34: =(((S34+R34)*AU34)/100) -> 0 | DN34: 0 | DO34: 0 | DP34: 1 | DQ34: 1 | DU34: 1003 | DV34: м | DW34: м | DX34: 1 | EE34: 38092816 | EF34: 2 | EG34: Общестроительные работы | EH34: 0 | EJ34: 1 | EK34: 11001 | EL34: Полы | EM34: ФЕР-11 | EQ34: 0 | ER34: 12.3 | ES34: 12.3 | ET34: 0 | EU34: 0 | EV34: 0 | EW34: 0 | EX34: 0 | FQ34: 0 | FR34: =ROUND(IF(AND(BH34=3,BI34=3),P34,0),2) -> 0 | FS34: 0 | FT34: *0,9 | FU34: *0,85 | FX34: 110.7 | FY34: 63.75 | GD34: 0 | GF34: 26470480 | GG34: 1 | GH34: 1 | GI34: 4 | GJ34: 0 | GK34: =ROUND(R34*(R12)/100,2) -> 0 | GL34: =ROUND(IF(AND(BH34=3,BI34=3,FS34<>0),P34,0),2) -> 0 | GM34: =ROUND(O34+X34+Y34+GK34,2)+GX34 -> 1737.23 | GN34: =IF(OR(BI34=0,BI34=1),ROUND(O34+X34+Y34+GK34,2),0) -> 1737.23 | GO34: =IF(BI34=2,ROUND(O34+X34+Y34+GK34,2),0) -> 0 | GP34: =IF(BI34=4,ROUND(O34+X34+Y34+GK34,2)+GX34,0) -> 0 | GR34: 0 | GS34: 3 | GT34: 0 | GV34: =ROUND(GT34,2) -> 0 | GW34: 1 | GX34: =ROUND(GV34*GW34*I34,2) -> 0 | HA34: 0 | HB34: 0 | IK34: 0
A35: 18 | B35: 1 | C35: 31 | E35: 6,2 | F35: 11.3.03.06 | G35: Плинтуса для полов пластиковые | H35: м | I35: =I33*J35 -> 23.23 | J35: 101 | O35: =ROUND(CP35,2) -> 0 | P35: =ROUND(CQ35*I35,2) -> 0 | Q35: =ROUND(CR35*I35,2) -> 0 | R35: =ROUND(CS35*I35,2) -> 0 | S35: =ROUND(CT35*I35,2) -> 0 | T35: =ROUND(CU35*I35,2) -> 0 | U35: =CV35*I35 -> 0 | V35: =CW35*I35 -> 0 | W35: =ROUND(CX35*I35,2) -> 0 | X35: =ROUND(CY35,2) -> 0 | Y35: =ROUND(CZ35,2) -> 0 | AA35: 39102310 | AB35: =ROUND((AC35+AD35+AF35),2) -> 0 | AC35: =ROUND((ES35),2) -> 0 | AD35: =ROUND((((ET35)-(EU35))+AE35),2) -> 0 | AE35: =ROUND((EU35),2) -> 0 | AF35: =ROUND((EV35),2) -> 0 | AG35: =ROUND((AP35),2) -> 0 | AH35: =(EW35) -> 0 | AI35: =(EX35) -> 0 | AJ35: =ROUND((AS35),2) -> 0 | AK35: 0 | AL35: 0 | AM35: 0 | AN35: 0 | AO35: 0 | AP35: 0 | AQ35: 0 | AR35: 0 | AS35: 0 | AT35: 111 | AU35: 64 | AV35: 1 | AW35: 1 | AZ35: 6.08 | BA35: 1 | BB35: 1 | BC35: 6.08 | BH35: 3 | BI35: 1 | BM35: 11001 | BN35: 0 | BP35: 0 | BQ35: 2 | BR35: 0 | BS35: 1 | BT35: 1 | BU35: 1 | BV35: 1 | BW35: 1 | BX35: 1 | BZ35: 123 | CA35: 75 | CF35: 0 | CG35: 0 | CM35: 0 | CO35: 0 | CP35: =(P35+Q35+S35) -> 0 | CQ35: =AC35*BC35 -> 0 | CR35: =AD35*BB35 -> 0 | CS35: =AE35*BS35 -> 0 | CT35: =AF35*BA35 -> 0 | CU35: =AG35 -> 0 | CV35: =AH35 -> 0 | CW35: =AI35 -> 0 | CX35: =AJ35 -> 0 | CY35: =(((S35+R35)*AT35)/100) -> 0 | CZ35: =(((S35+R35)*AU35)/100) -> 0 | DN35: 0 | DO35: 0 | DP35: 1 | DQ35: 1 | DU35: 1003 | DV35: м | DW35: м | DX35: 1 | EE35: 38092816 | EF35: 2 | EG35: Общестроительные работы | EH35: 0 | EJ35: 1 | EK35: 11001 | EL35: Полы | EM35: ФЕР-11 | EQ35: 0 | ER35: 0 | ES35: 0 | ET35: 0 | EU35: 0 | EV35: 0 | EW35: 0 | EX35: 0 | FQ35: 0 | FR35: =ROUND(IF(AND(BH35=3,BI35=3),P35,0),2) -> 0 | FS35: 0 | FT35: *0,9 | FU35: *0,85 | FX35: 110.7 | FY35: 63.75 | GA35: занесена вручную | GD35: 0 | GF35: -2049262376 | GG35: 1 | GH35: 1 | GI35: 4 | GJ35: 0 | GK35: =ROUND(R35*(R12)/100,2) -> 0 | GL35: =ROUND(IF(AND(BH35=3,BI35=3,FS35<>0),P35,0),2) -> 0 | GM35: =ROUND(O35+X35+Y35+GK35,2)+GX35 -> 0 | GN35: =IF(OR(BI35=0,BI35=1),ROUND(O35+X35+Y35+GK35,2),0) -> 0 | GO35: =IF(BI35=2,ROUND(O35+X35+Y35+GK35,2),0) -> 0 | GP35: =IF(BI35=4,ROUND(O35+X35+Y35+GK35,2)+GX35,0) -> 0 | GR35: 0 | GS35: 4 | GT35: 0 | GV35: =ROUND(GT35,2) -> 0 | GW35: 1 | GX35: =ROUND(GV35*GW35*I35,2) -> 0 | HA35: 0 | HB35: 0 | IK35: 0
A36: 17 | B36: 1 | C36: =ROW(SmtRes!A34) -> 34 | D36: =ROW(EtalonRes!A33) -> 33 | E36: 7 | F36: 13-06-003-01 | G36: Очистка поверхности щетками | H36: м2 | I36: 76.9 | J36: 0 | O36: =ROUND(CP36,2) -> 4956.05 | P36: =ROUND(CQ36*I36,2) -> 0 | Q36: =ROUND(CR36*I36,2) -> 0 | R36: =ROUND(CS36*I36,2) -> 0 | S36: =ROUND(CT36*I36,2) -> 4956.05 | T36: =ROUND(CU36*I36,2) -> 0 | U36: =CV36*I36 -> 95.5098 | V36: =CW36*I36 -> 0 | W36: =ROUND(CX36*I36,2) -> 0 | X36: =ROUND(CY36,2) -> 4014.4 | Y36: =ROUND(CZ36,2) -> 2973.63 | AA36: 39102310 | AB36: =ROUND((AC36+AD36+AF36),2) -> 10.6 | AC36: =ROUND((ES36),2) -> 0 | AD36: =ROUND((((((ET36*1.25)*1.2))-(((EU36*1.25)*1.2)))+AE36),2) -> 0 | AE36: =ROUND((((EU36*1.25)*1.2)),2) -> 0 | AF36: =ROUND((((EV36*1.15)*1.2)),2) -> 10.6 | AG36: =ROUND((AP36),2) -> 0 | AH36: =(((EW36*1.15)*1.2)) -> 1.242 | AI36: =(((EX36*1.25)*1.2)) -> 0 | AJ36: =ROUND((AS36),2) -> 0 | AK36: 7.68 | AL36: 0 | AM36: 0 | AN36: 0 | AO36: 7.68 | AP36: 0 | AQ36: 0.9 | AR36: 0 | AS36: 0 | AT36: 81 | AU36: 60 | AV36: 1 | AW36: 1 | AZ36: 6.08 | BA36: 6.08 | BB36: 6.08 | BC36: 6.08 | BH36: 0 | BI36: 1 | BJ36: ФЕР-2001, 13-06-003-01, приказ Минстроя России №1039/пр от 30.12.2016г. | BM36: 13001 | BN36: 0 | BP36: 0 | BQ36: 2 | BR36: 0 | BS36: 6.08 | BT36: 1 | BU36: 1 | BV36: 1 | BW36: 1 | BX36: 1 | BZ36: 90 | CA36: 70 | CF36: 0 | CG36: 0 | CM36: 0 | CN36: Поправка: МДС 81-35.2004, п.4.7 Наименование: Работы, выполняемые при реконструкции зданий и сооружений работы, аналогичные технологическим процессам в новом строительстве (в том числе возведение новых конструктивных элементов) стоимость которых определена по соответствующим сборникам ФЕР, кроме сборника № 46 «Работы при реконструкции зданий и сооружений» Поправка: МДС 81-35.2004, прил.1, т.1, п.2 Наименование: Производство строительных и других работ в существующих зданиях и сооружениях, освобожденных от оборудования и других предметов, мешающих нормальному производству работ. | CO36: 0 | CP36: =(P36+Q36+S36) -> 4956.05 | CQ36: =AC36*BC36 -> 0 | CR36: =AD36*BB36 -> 0 | CS36: =AE36*BS36 -> 0 | CT36: =AF36*BA36 -> 64.448 | CU36: =AG36 -> 0 | CV36: =AH36 -> 1.242 | CW36: =AI36 -> 0 | CX36: =AJ36 -> 0 | CY36: =(((S36+R36)*AT36)/100) -> 4014.4005 | CZ36: =(((S36+R36)*AU36)/100) -> 2973.63 | DE36: )*1,25)*1,2 | DF36: )*1,25)*1,2 | DG36: )*1,15)*1,2 | DI36: )*1,15)*1,2 | DJ36: )*1,25)*1,2 | DN36: 0 | DO36: 0 | DP36: 1 | DQ36: 1 | DU36: 1005 | DV36: м2 | DW36: м2 | DX36: 1 | EE36: 38092818 | EF36: 2 | EG36: Общестроительные работы | EH36: 0 | EJ36: 1 | EK36: 13001 | EL36: Защита строительных конструкций | EM36: ФЕР-13 | EO36: Поправка: МДС 81-35.2004, п.4.7 Поправка: МДС 81-35.2004, прил.1, т.1, п.2 | EQ36: 0 | ER36: 7.68 | ES36: 0 | ET36: 0 | EU36: 0 | EV36: 7.68 | EW36: 0.9 | EX36: 0 | EY36: 0 | FQ36: 0 | FR36: =ROUND(IF(AND(BH36=3,BI36=3),P36,0),2) -> 0 | FS36: 0 | FT36: *0,9 | FU36: *0,85 | FX36: 81 | FY36: 59.5 | GD36: 0 | GF36: 1256725681 | GG36: 1 | GH36: 1 | GI36: 4 | GJ36: 0 | GK36: =ROUND(R36*(R12)/100,2) -> 0 | GL36: =ROUND(IF(AND(BH36=3,BI36=3,FS36<>0),P36,0),2) -> 0 | GM36: =ROUND(O36+X36+Y36+GK36,2)+GX36 -> 11944.08 | GN36: =IF(OR(BI36=0,BI36=1),ROUND(O36+X36+Y36+GK36,2),0) -> 11944.08 | GO36: =IF(BI36=2,ROUND(O36+X36+Y36+GK36,2),0) -> 0 | GP36: =IF(BI36=4,ROUND(O36+X36+Y36+GK36,2)+GX36,0) -> 0 | GR36: 0 | GS36: 3 | GT36: 0 | GV36: =ROUND(GT36,2) -> 0 | GW36: 1 | GX36: =ROUND(GV36*GW36*I36,2) -> 0 | HA36: 0 | HB36: 0 | IK36: 0
A37: 17 | B37: 1 | C37: =ROW(SmtRes!A42) -> 42 | D37: =ROW(EtalonRes!A41) -> 41 | E37: 8 | F37: 61-1-9 | G37: Сплошное выравнивание внутренних поверхностей (однослойное оштукатуривание) из сухих растворных смесей толщиной до 10 мм для последующей окраски или оклейки обоями стен | H37: 100 м2 | I37: 0.769 | J37: 0 | O37: =ROUND(CP37,2) -> 1503.31 | P37: =ROUND(CQ37*I37,2) -> 5.84 | Q37: =ROUND(CR37*I37,2) -> 80.23 | R37: =ROUND(CS37*I37,2) -> 47.6 | S37: =ROUND(CT37*I37,2) -> 1417.24 | T37: =ROUND(CU37*I37,2) -> 0 | U37: =CV37*I37 -> 27.55327 | V37: =CW37*I37 -> 0.72286 | W37: =ROUND(CX37*I37,2) -> 0 | X37: =ROUND(CY37,2) -> 1157.22 | Y37: =ROUND(CZ37,2) -> 732.42 | AA37: 39102310 | AB37: =ROUND((AC37+AD37+AF37),2) -> 321.53 | AC37: =ROUND((ES37),2) -> 1.25 | AD37: =ROUND((((ET37)-(EU37))+AE37),2) -> 17.16 | AE37: =ROUND((EU37),2) -> 10.18 | AF37: =ROUND((EV37),2) -> 303.12 | AG37: =ROUND((AP37),2) -> 0 | AH37: =(EW37) -> 35.83 | AI37: =(EX37) -> 0.94 | AJ37: =ROUND((AS37),2) -> 0 | AK37: 321.53 | AL37: 1.25 | AM37: 17.16 | AN37: 10.18 | AO37: 303.12 | AP37: 0 | AQ37: 35.83 | AR37: 0.94 | AS37: 0 | AT37: 79 | AU37: 50 | AV37: 1 | AW37: 1 | AZ37: 6.08 | BA37: 6.08 | BB37: 6.08 | BC37: 6.08 | BH37: 0 | BI37: 1 | BJ37: ФЕР-2001, 61-1-9, приказ Минстроя России №1039/пр от 30.12.2016г. | BM37: 61001 | BN37: 0 | BP37: 0 | BQ37: 6 | BR37: 0 | BS37: 6.08 | BT37: 1 | BU37: 1 | BV37: 1 | BW37: 1 | BX37: 1 | BZ37: 79 | CA37: 50 | CF37: 0 | CG37: 0 | CM37: 0 | CO37: 0 | CP37: =(P37+Q37+S37) -> 1503.31 | CQ37: =AC37*BC37 -> 7.6 | CR37: =AD37*BB37 -> 104.3328 | CS37: =AE37*BS37 -> 61.8944 | CT37: =AF37*BA37 -> 1842.9696 | CU37: =AG37 -> 0 | CV37: =AH37 -> 35.83 | CW37: =AI37 -> 0.94 | CX37: =AJ37 -> 0 | CY37: =(((S37+R37)*AT37)/100) -> 1157.2236 | CZ37: =(((S37+R37)*AU37)/100) -> 732.42 | DN37: 0 | DO37: 0 | DP37: 1 | DQ37: 1 | DU37: 1005 | DV37: 100 м2 | DW37: 100 м2 | DX37: 100 | EE37: 38092898 | EF37: 6 | EG37: Ремонтно-строительные работы | EH37: 0 | EJ37: 1 | EK37: 61001 | EL37: Штукатрурные работы | EM37: рФЕР-61 | EQ37: 0 | ER37: 321.53 | ES37: 1.25 | ET37: 17.16 | EU37: 10.18 | EV37: 303.12 | EW37: 35.83 | EX37: 0.94 | EY37: 0 | FQ37: 0 | FR37: =ROUND(IF(AND(BH37=3,BI37=3),P37,0),2) -> 0 | FS37: 0 | FX37: 79 | FY37: 50 | GD37: 0 | GF37: 23825336 | GG37: 1 | GH37: 1 | GI37: 4 | GJ37: 0 | GK37: =ROUND(R37*(R12)/100,2) -> 0 | GL37: =ROUND(IF(AND(BH37=3,BI37=3,FS37<>0),P37,0),2) -> 0 | GM37: =ROUND(O37+X37+Y37+GK37,2)+GX37 -> 3392.95 | GN37: =IF(OR(BI37=0,BI37=1),ROUND(O37+X37+Y37+GK37,2),0) -> 3392.95 | GO37: =IF(BI37=2,ROUND(O37+X37+Y37+GK37,2),0) -> 0 | GP37: =IF(BI37=4,ROUND(O37+X37+Y37+GK37,2)+GX37,0) -> 0 | GR37: 0 | GS37: 3 | GT37: 0 | GV37: =ROUND(GT37,2) -> 0 | GW37: 1 | GX37: =ROUND(GV37*GW37*I37,2) -> 0 | HA37: 0 | HB37: 0 | IK37: 0
A38: 18 | B38: 1 | C38: 42 | E38: 8,1 | F38: 04.3.02.12-0002 | G38: Смесь сухая штукатурная цементно-известково-песчаная "БИРСС 15" (марка М100) | H38: т | I38: =I37*J38 -> 0.657495 | J38: 0.855 | O38: =ROUND(CP38,2) -> 3723.22 | P38: =ROUND(CQ38*I38,2) -> 3723.22 | Q38: =ROUND(CR38*I38,2) -> 0 | R38: =ROUND(CS38*I38,2) -> 0 | S38: =ROUND(CT38*I38,2) -> 0 | T38: =ROUND(CU38*I38,2) -> 0 | U38: =CV38*I38 -> 0 | V38: =CW38*I38 -> 0 | W38: =ROUND(CX38*I38,2) -> 0 | X38: =ROUND(CY38,2) -> 0 | Y38: =ROUND(CZ38,2) -> 0 | AA38: 39102310 | AB38: =ROUND((AC38+AD38+AF38),2) -> 931.37 | AC38: =ROUND((ES38),2) -> 931.37 | AD38: =ROUND((((ET38)-(EU38))+AE38),2) -> 0 | AE38: =ROUND((EU38),2) -> 0 | AF38: =ROUND((EV38),2) -> 0 | AG38: =ROUND((AP38),2) -> 0 | AH38: =(EW38) -> 0 | AI38: =(EX38) -> 0 | AJ38: =ROUND((AS38),2) -> 0 | AK38: 931.37 | AL38: 931.37 | AM38: 0 | AN38: 0 | AO38: 0 | AP38: 0 | AQ38: 0 | AR38: 0 | AS38: 0 | AT38: 79 | AU38: 50 | AV38: 1 | AW38: 1 | AZ38: 6.08 | BA38: 1 | BB38: 1 | BC38: 6.08 | BH38: 3 | BI38: 1 | BJ38: ФССЦ-2001, 04.3.02.12-0002, приказ Минстроя России №1039/пр от 30.12.2016г. | BM38: 61001 | BN38: 0 | BP38: 0 | BQ38: 6 | BR38: 0 | BS38: 1 | BT38: 1 | BU38: 1 | BV38: 1 | BW38: 1 | BX38: 1 | BZ38: 79 | CA38: 50 | CF38: 0 | CG38: 0 | CM38: 0 | CO38: 0 | CP38: =(P38+Q38+S38) -> 3723.22 | CQ38: =AC38*BC38 -> 5662.7296 | CR38: =AD38*BB38 -> 0 | CS38: =AE38*BS38 -> 0 | CT38: =AF38*BA38 -> 0 | CU38: =AG38 -> 0 | CV38: =AH38 -> 0 | CW38: =AI38 -> 0 | CX38: =AJ38 -> 0 | CY38: =(((S38+R38)*AT38)/100) -> 0 | CZ38: =(((S38+R38)*AU38)/100) -> 0 | DN38: 0 | DO38: 0 | DP38: 1 | DQ38: 1 | DU38: 1009 | DV38: т | DW38: т | DX38: 1000 | EE38: 38092898 | EF38: 6 | EG38: Ремонтно-строительные работы | EH38: 0 | EJ38: 1 | EK38: 61001 | EL38: Штукатрурные работы | EM38: рФЕР-61 | EQ38: 0 | ER38: 931.37 | ES38: 931.37 | ET38: 0 | EU38: 0 | EV38: 0 | EW38: 0 | EX38: 0 | FQ38: 0 | FR38: =ROUND(IF(AND(BH38=3,BI38=3),P38,0),2) -> 0 | FS38: 0 | FX38: 79 | FY38: 50 | GD38: 0 | GF38: -791558573 | GG38: 1 | GH38: 1 | GI38: 4 | GJ38: 0 | GK38: =ROUND(R38*(R12)/100,2) -> 0 | GL38: =ROUND(IF(AND(BH38=3,BI38=3,FS38<>0),P38,0),2) -> 0 | GM38: =ROUND(O38+X38+Y38+GK38,2)+GX38 -> 3723.22 | GN38: =IF(OR(BI38=0,BI38=1),ROUND(O38+X38+Y38+GK38,2),0) -> 3723.22 | GO38: =IF(BI38=2,ROUND(O38+X38+Y38+GK38,2),0) -> 0 | GP38: =IF(BI38=4,ROUND(O38+X38+Y38+GK38,2)+GX38,0) -> 0 | GR38: 0 | GS38: 3 | GT38: 0 | GV38: =ROUND(GT38,2) -> 0 | GW38: 1 | GX38: =ROUND(GV38*GW38*I38,2) -> 0 | HA38: 0 | HB38: 0 | IK38: 0
A39: 18 | B39: 1 | C39: 41 | E39: 8,2 | F39: 04.3.02.09 | G39: Смеси на цементной основе | H39: т | I39: =I37*J39 -> 0.657495 | J39: 0.855 | O39: =ROUND(CP39,2) -> 0 | P39: =ROUND(CQ39*I39,2) -> 0 | Q39: =ROUND(CR39*I39,2) -> 0 | R39: =ROUND(CS39*I39,2) -> 0 | S39: =ROUND(CT39*I39,2) -> 0 | T39: =ROUND(CU39*I39,2) -> 0 | U39: =CV39*I39 -> 0 | V39: =CW39*I39 -> 0 | W39: =ROUND(CX39*I39,2) -> 0 | X39: =ROUND(CY39,2) -> 0 | Y39: =ROUND(CZ39,2) -> 0 | AA39: 39102310 | AB39: =ROUND((AC39+AD39+AF39),2) -> 0 | AC39: =ROUND((ES39),2) -> 0 | AD39: =ROUND((((ET39)-(EU39))+AE39),2) -> 0 | AE39: =ROUND((EU39),2) -> 0 | AF39: =ROUND((EV39),2) -> 0 | AG39: =ROUND((AP39),2) -> 0 | AH39: =(EW39) -> 0 | AI39: =(EX39) -> 0 | AJ39: =ROUND((AS39),2) -> 0 | AK39: 0 | AL39: 0 | AM39: 0 | AN39: 0 | AO39: 0 | AP39: 0 | AQ39: 0 | AR39: 0 | AS39: 0 | AT39: 79 | AU39: 50 | AV39: 1 | AW39: 1 | AZ39: 6.08 | BA39: 1 | BB39: 1 | BC39: 6.08 | BH39: 3 | BI39: 1 | BM39: 61001 | BN39: 0 | BP39: 0 | BQ39: 6 | BR39: 0 | BS39: 1 | BT39: 1 | BU39: 1 | BV39: 1 | BW39: 1 | BX39: 1 | BZ39: 79 | CA39: 50 | CF39: 0 | CG39: 0 | CM39: 0 | CO39: 0 | CP39: =(P39+Q39+S39) -> 0 | CQ39: =AC39*BC39 -> 0 | CR39: =AD39*BB39 -> 0 | CS39: =AE39*BS39 -> 0 | CT39: =AF39*BA39 -> 0 | CU39: =AG39 -> 0 | CV39: =AH39 -> 0 | CW39: =AI39 -> 0 | CX39: =AJ39 -> 0 | CY39: =(((S39+R39)*AT39)/100) -> 0 | CZ39: =(((S39+R39)*AU39)/100) -> 0 | DN39: 0 | DO39: 0 | DP39: 1 | DQ39: 1 | DU39: 1009 | DV39: т | DW39: т | DX39: 1000 | EE39: 38092898 | EF39: 6 | EG39: Ремонтно-строительные работы | EH39: 0 | EJ39: 1 | EK39: 61001 | EL39: Штукатрурные работы | EM39: рФЕР-61 | EQ39: 0 | ER39: 0 | ES39: 0 | ET39: 0 | EU39: 0 | EV39: 0 | EW39: 0 | EX39: 0 | FQ39: 0 | FR39: =ROUND(IF(AND(BH39=3,BI39=3),P39,0),2) -> 0 | FS39: 0 | FX39: 79 | FY39: 50 | GA39: занесена вручную | GD39: 0 | GF39: 1880203204 | GG39: 1 | GH39: 1 | GI39: 4 | GJ39: 0 | GK39: =ROUND(R39*(R12)/100,2) -> 0 | GL39: =ROUND(IF(AND(BH39=3,BI39=3,FS39<>0),P39,0),2) -> 0 | GM39: =ROUND(O39+X39+Y39+GK39,2)+GX39 -> 0 | GN39: =IF(OR(BI39=0,BI39=1),ROUND(O39+X39+Y39+GK39,2),0) -> 0 | GO39: =IF(BI39=2,ROUND(O39+X39+Y39+GK39,2),0) -> 0 | GP39: =IF(BI39=4,ROUND(O39+X39+Y39+GK39,2)+GX39,0) -> 0 | GR39: 0 | GS39: 4 | GT39: 0 | GV39: =ROUND(GT39,2) -> 0 | GW39: 1 | GX39: =ROUND(GV39*GW39*I39,2) -> 0 | HA39: 0 | HB39: 0 | IK39: 0
A40: 17 | B40: 1 | C40: =ROW(SmtRes!A49) -> 49 | D40: =ROW(EtalonRes!A47) -> 47 | E40: 9 | F40: 15-04-006-03 | G40: Покрытие поверхностей грунтовкой глубокого проникновения за 1 раз стен | H40: 100 м2 | I40: 0.769 | J40: 0 | O40: =ROUND(CP40,2) -> 414.21 | P40: =ROUND(CQ40*I40,2) -> 0.84 | Q40: =ROUND(CR40*I40,2) -> 6.83 | R40: =ROUND(CS40*I40,2) -> 1.82 | S40: =ROUND(CT40*I40,2) -> 406.54 | T40: =ROUND(CU40*I40,2) -> 0 | U40: =CV40*I40 -> 6.950991 | V40: =CW40*I40 -> 0.02307 | W40: =ROUND(CX40*I40,2) -> 0 | X40: =ROUND(CY40,2) -> 387.94 | Y40: =ROUND(CZ40,2) -> 191.93 | AA40: 39102310 | AB40: =ROUND((AC40+AD40+AF40),2) -> 88.59 | AC40: =ROUND((ES40),2) -> 0.18 | AD40: =ROUND((((((ET40*1.25)*1.2))-(((EU40*1.25)*1.2)))+AE40),2) -> 1.46 | AE40: =ROUND((((EU40*1.25)*1.2)),2) -> 0.39 | AF40: =ROUND((((EV40*1.15)*1.2)),2) -> 86.95 | AG40: =ROUND((AP40),2) -> 0 | AH40: =(((EW40*1.15)*1.2)) -> 9.039 | AI40: =(((EX40*1.25)*1.2)) -> 0.03 | AJ40: =ROUND((AS40),2) -> 0 | AK40: 64.16 | AL40: 0.18 | AM40: 0.97 | AN40: 0.26 | AO40: 63.01 | AP40: 0 | AQ40: 6.55 | AR40: 0.02 | AS40: 0 | AT40: 95 | AU40: 47 | AV40: 1 | AW40: 1 | AZ40: 6.08 | BA40: 6.08 | BB40: 6.08 | BC40: 6.08 | BH40: 0 | BI40: 1 | BJ40: ФЕР-2001, 15-04-006-03, приказ Минстроя России №1039/пр от 30.12.2016г. | BM40: 15001 | BN40: 0 | BP40: 0 | BQ40: 2 | BR40: 0 | BS40: 6.08 | BT40: 1 | BU40: 1 | BV40: 1 | BW40: 1 | BX40: 1 | BZ40: 105 | CA40: 55 | CF40: 0 | CG40: 0 | CM40: 0 | CN40: Поправка: МДС 81-35.2004, п.4.7 Наименование: Работы, выполняемые при реконструкции зданий и сооружений работы, аналогичные технологическим процессам в новом строительстве (в том числе возведение новых конструктивных элементов) стоимость которых определена по соответствующим сборникам ФЕР, кроме сборника № 46 «Работы при реконструкции зданий и сооружений» Поправка: МДС 81-35.2004, прил.1, т.1, п.2 Наименование: Производство строительных и других работ в существующих зданиях и сооружениях, освобожденных от оборудования и других предметов, мешающих нормальному производству работ. | CO40: 0 | CP40: =(P40+Q40+S40) -> 414.21 | CQ40: =AC40*BC40 -> 1.0944 | CR40: =AD40*BB40 -> 8.8768 | CS40: =AE40*BS40 -> 2.3712 | CT40: =AF40*BA40 -> 528.656 | CU40: =AG40 -> 0 | CV40: =AH40 -> 9.039 | CW40: =AI40 -> 0.03 | CX40: =AJ40 -> 0 | CY40: =(((S40+R40)*AT40)/100) -> 387.942 | CZ40: =(((S40+R40)*AU40)/100) -> 191.9292 | DE40: )*1,25)*1,2 | DF40: )*1,25)*1,2 | DG40: )*1,15)*1,2 | DI40: )*1,15)*1,2 | DJ40: )*1,25)*1,2 | DN40: 0 | DO40: 0 | DP40: 1 | DQ40: 1 | DU40: 1005 | DV40: 100 м2 | DW40: 100 м2 | DX40: 100 | EE40: 38092841 | EF40: 2 | EG40: Общестроительные работы | EH40: 0 | EJ40: 1 | EK40: 15001 | EL40: Отделочные работы | EM40: ФЕР-15 | EO40: Поправка: МДС 81-35.2004, п.4.7 Поправка: МДС 81-35.2004, прил.1, т.1, п.2 | EQ40: 0 | ER40: 64.16 | ES40: 0.18 | ET40: 0.97 | EU40: 0.26 | EV40: 63.01 | EW40: 6.55 | EX40: 0.02 | EY40: 0 | FQ40: 0 | FR40: =ROUND(IF(AND(BH40=3,BI40=3),P40,0),2) -> 0 | FS40: 0 | FT40: *0,9 | FU40: *0,85 | FX40: 94.5 | FY40: 46.75 | GD40: 0 | GF40: -2014629731 | GG40: 1 | GH40: 1 | GI40: 4 | GJ40: 0 | GK40: =ROUND(R40*(R12)/100,2) -> 0 | GL40: =ROUND(IF(AND(BH40=3,BI40=3,FS40<>0),P40,0),2) -> 0 | GM40: =ROUND(O40+X40+Y40+GK40,2)+GX40 -> 994.08 | GN40: =IF(OR(BI40=0,BI40=1),ROUND(O40+X40+Y40+GK40,2),0) -> 994.08 | GO40: =IF(BI40=2,ROUND(O40+X40+Y40+GK40,2),0) -> 0 | GP40: =IF(BI40=4,ROUND(O40+X40+Y40+GK40,2)+GX40,0) -> 0 | GR40: 0 | GS40: 3 | GT40: 0 | GV40: =ROUND(GT40,2) -> 0 | GW40: 1 | GX40: =ROUND(GV40*GW40*I40,2) -> 0 | HA40: 0 | HB40: 0 | IK40: 0
