Workbook

Sheet Смета 12 гр. по ФЕР
A1: =Source!B1 -> Smeta.RU (495) 974-1589 | I1: Приложение 1 к форме 7
B6: СМЕТА
B8: =IF(Source!G20<>"Новая локальная смета", Source!G20, "")
B10: =IF(Source!G12<>"Новый объект", Source!G12, "") -> на капитальный ремонт учебных аудиторий 4-го этажа учебно-научного корпуса "К" НИЯУ МИФИ по адресу: г. Москва, Каширское шоссе, д.31, стр.46 | AD10: =IF(Source!G12<>"Новый объект", Source!G12, "") -> на капитальный ремонт учебных аудиторий 4-го этажа учебно-научного корпуса "К" НИЯУ МИФИ по адресу: г. Москва, Каширское шоссе, д.31, стр.46
G15: базовая цена | I15: текущая цена
C16: Сметная стоимость | G16: =SUM(O27:O552)/1000 -> 330.43835 | I16: =(Source!F305/1000) -> 2601.8163 | K16: тыс. руб.
C17: Строительные работы | G17: =SUM(W27:W552)/1000 -> 210.45022 | I17: =(Source!F292)/1000 -> 1374.7106 | K17: тыс. руб.
C18: Монтажные работы | G18: =SUM(X27:X552)/1000 -> 116.19785 | I18: =(Source!F293)/1000 -> 758.77175 | K18: тыс. руб.
C19: Оборудование | G19: =SUM(Y27:Y552)/1000 -> 0 | I19: =(Source!F284)/1000 -> 0 | K19: тыс. руб.
C20: Прочие работы | G20: =SUM(Z27:Z552)/1000 -> 3.79028 | I20: =(Source!F294+Source!F295)/1000 -> 71.44664 | K20: тыс. руб.
C21: Нормативная трудоемкость | G21: =I21 -> 2330.6885 | I21: =(Source!F297+Source!F298) -> 2330.6885 | K21: чел. -ч.
C22: Средства на оплату труда | G22: =SUM(R27:R552)/1000 -> 21.7752 | I22: =(Source!F290+ Source!F289)/1000 -> 164.97018 | K22: тыс. руб.
A24: Составлена в ценах I квартал 2018 года
A25: № п/п | B25: Шифр расценки и коды ресурсов | C25: Наименование работ и затрат | D25: Ед. изм. | E25: Кол-во единиц | F25: Цена на ед. изм. | G25: Попра-вочные коэфф. | H25: Стоимость в ценах 2001г. | I25: Пункт коэфф. пересчета | J25: Коэфф. пересчета | K25: Стоимость в текущих ценах | L25: ЗТР всего чел.-час
A26: 1 | B26: 2 | C26: 3 | D26: 4 | E26: 5 | F26: 6 | G26: 7 | H26: 8 | I26: 9 | J26: 10 | K26: 11 | L26: 12
A28: =CONCATENATE("Раздел: ",IF(Source!G24<>"Новый раздел", Source!G24, "")) -> Раздел: 1 Общестроительные работы
A29: =Source!E28 -> 1 | B29: =Source!F28 -> 57-3-1 | C29: =Source!G28 -> Разборка плинтусов деревянных | D29: =Source!H28 -> 100 м | E29: =Source!I28 -> 1.7048 | F29: =Source!AL28+Source!AM28+Source!AO28 -> 29.41 | I29: =Source!BO28 | S29: =ROUND((Source!FX28/100)*((ROUND(Source!AF28*Source!I28, 2)+ROUND(Source!AE28*Source!I28, 2))), 2) -> 40.11 | T29: =Source!X28 -> 261.92 | U29: =ROUND((Source!FY28/100)*((ROUND(Source!AF28*Source!I28, 2)+ROUND(Source!AE28*Source!I28, 2))), 2) -> 34.1 | V29: =Source!Y28 -> 222.63
C30: Зарплата | F30: =Source!AO28 -> 29.41 | G30: =Source!DG28 | H30: =ROUND(Source!AF28*Source!I28, 2) -> 50.14 | J30: =IF(Source!BA28<> 0, Source!BA28, 1) -> 6.53 | K30: =Source!S28 -> 327.4 | R30: =H30 -> 50.14
C31: НР от ФОТ | D31: % | E31: =Source!BZ28 -> 80 | H31: =SUM(S29:S33) -> 40.11 | J31: =Source!AT28 -> 80 | K31: =SUM(T29:T33) -> 261.92
C32: СП от ФОТ | D32: % | E32: =Source!CA28 -> 68 | H32: =SUM(U29:U33) -> 34.1 | J32: =Source!AU28 -> 68 | K32: =SUM(V29:V33) -> 222.63
C33: Затраты труда | D33: чел-ч | E33: =Source!AQ28 -> 3.77 | G33: =Source!DI28 | L33: =Source!U28 -> 6.427096
G34: =H30+H31+H32 -> 124.35 | J34: =K30+K31+K32 -> 811.95 | L34: =Source!U28 -> 6.427096 | O34: =G34 -> 124.35 | P34: =J34 -> 811.95 | Q34: =L34 -> 6.427096 | W34: =IF(Source!BI28<=1,H30+H31+H32, 0) -> 124.35 | X34: =IF(Source!BI28=2,H30+H31+H32, 0) -> 0 | Y34: =IF(Source!BI28=3,H30+H31+H32, 0) -> 0 | Z34: =IF(Source!BI28=4,H30+H31+H32, 0) -> 0
A35: =Source!E29 -> 2 | B35: =Source!F29 -> 57-2-1 | C35: =Source!G29 -> Разборка покрытий полов из линолеума | D35: =Source!H29 -> 100 м2 | E35: =Source!I29 -> 2.793 | F35: =Source!AL29+Source!AM29+Source!AO29 -> 92.9 | I35: =Source!BO29 | S35: =ROUND((Source!FX29/100)*((ROUND(Source!AF29*Source!I29, 2)+ROUND(Source!AE29*Source!I29, 2))), 2) -> 202.44 | T35: =Source!X29 -> 1321.91 | U35: =ROUND((Source!FY29/100)*((ROUND(Source!AF29*Source!I29, 2)+ROUND(Source!AE29*Source!I29, 2))), 2) -> 172.07 | V35: =Source!Y29 -> 1123.63
C36: Зарплата | F36: =Source!AO29 -> 88.84 | G36: =Source!DG29 | H36: =ROUND(Source!AF29*Source!I29, 2) -> 248.13 | J36: =IF(Source!BA29<> 0, Source!BA29, 1) -> 6.53 | K36: =Source!S29 -> 1620.29 | R36: =H36 -> 248.13
C37: Эксплуатация машин | F37: =Source!AM29 -> 4.06 | G37: =Source!DE29 | H37: =ROUND(Source!AD29*Source!I29, 2) -> 11.34 | J37: =IF(Source!BB29<> 0, Source!BB29, 1) -> 6.53 | K37: =Source!Q29 -> 74.05
C38: в т.ч. зарплата машинистов | F38: =Source!AN29 -> 1.76 | G38: =Source!DF29 | H38: =ROUND(Source!AE29*Source!I29, 2) -> 4.92 | J38: =IF(Source!BS29<> 0, Source!BS29, 1) -> 6.53 | K38: =Source!R29 -> 32.1 | R38: =H38 -> 4.92
C39: НР от ФОТ | D39: % | E39: =Source!BZ29 -> 80 | H39: =SUM(S35:S41) -> 202.44 | J39: =Source!AT29 -> 80 | K39: =SUM(T35:T41) -> 1321.91
C40: СП от ФОТ | D40: % | E40: =Source!CA29 -> 68 | H40: =SUM(U35:U41) -> 172.07 | J40: =Source!AU29 -> 68 | K40: =SUM(V35:V41) -> 1123.63
C41: Затраты труда | D41: чел-ч | E41: =Source!AQ29 -> 11.39 | G41: =Source!DI29 | L41: =Source!U29 -> 31.81227
G42: =H36+H37+H39+H40 -> 633.98 | J42: =K36+K37+K39+K40 -> 4139.88 | L42: =Source!U29 -> 31.81227 | O42: =G42 -> 633.98 | P42: =J42 -> 4139.88 | Q42: =L42 -> 31.81227 | W42: =IF(Source!BI29<=1,H36+H37+H39+H40, 0) -> 633.98 | X42: =IF(Source!BI29=2,H36+H37+H39+H40, 0) -> 0 | Y42: =IF(Source!BI29=3,H36+H37+H39+H40, 0) -> 0 | Z42: =IF(Source!BI29=4,H36+H37+H39+H40, 0) -> 0
A43: =Source!E30 -> 3 | B43: =Source!F30 -> 65-33-1 | C43: =Source!G30 -> Смена жалюзийных решеток | D43: =Source!H30 -> 100 ШТ | E43: =Source!I30 -> 0.13 | F43: =Source!AL30+Source!AM30+Source!AO30 -> 430.86 | I43: =Source!BO30 | S43: =ROUND((Source!FX30/100)*((ROUND(Source!AF30*Source!I30, 2)+ROUND(Source!AE30*Source!I30, 2))), 2) -> 52.78 | T43: =Source!X30 -> 344.63 | U43: =ROUND((Source!FY30/100)*((ROUND(Source!AF30*Source!I30, 2)+ROUND(Source!AE30*Source!I30, 2))), 2) -> 30.74 | V43: =Source!Y30 -> 200.75
C44: Зарплата | F44: =Source!AO30 -> 394 | G44: =Source!DG30 | H44: =ROUND(Source!AF30*Source!I30, 2) -> 51.22 | J44: =IF(Source!BA30<> 0, Source!BA30, 1) -> 6.53 | K44: =Source!S30 -> 334.47 | R44: =H44 -> 51.22
C45: Эксплуатация машин | F45: =Source!AM30 -> 0.31 | G45: =Source!DE30 | H45: =ROUND(Source!AD30*Source!I30, 2) -> 0.04 | J45: =IF(Source!BB30<> 0, Source!BB30, 1) -> 6.53 | K45: =Source!Q30 -> 0.26
C46: в т.ч. зарплата машинистов | F46: =Source!AN30 -> 0.14 | G46: =Source!DF30 | H46: =ROUND(Source!AE30*Source!I30, 2) -> 0.02 | J46: =IF(Source!BS30<> 0, Source!BS30, 1) -> 6.53 | K46: =Source!R30 -> 0.12 | R46: =H46 -> 0.02
C47: Материальные ресурсы | F47: =Source!AL30 -> 36.55 | G47: =Source!DD30 | H47: =ROUND(Source!AC30*Source!I30, 2) -> 4.75 | J47: =IF(Source!BC30<> 0, Source!BC30, 1) -> 6.53 | K47: =Source!P30 -> 31.03
C48: НР от ФОТ | D48: % | E48: =Source!BZ30 -> 103 | H48: =SUM(S43:S51) -> 52.78 | J48: =Source!AT30 -> 103 | K48: =SUM(T43:T51) -> 344.63
C49: СП от ФОТ | D49: % | E49: =Source!CA30 -> 60 | H49: =SUM(U43:U51) -> 30.74 | J49: =Source!AU30 -> 60 | K49: =SUM(V43:V51) -> 200.75
C50: Затраты труда | D50: чел-ч | E50: =Source!AQ30 -> 46.19 | G50: =Source!DI30 | L50: =Source!U30 -> 6.0047
A51: =Source!E31 -> 3,1 | B51: =Source!F31 -> 19.2.03.07-0028 | C51: =Source!G31 -> Решетки пластиковые вентиляционные прим.(согласно тех.заданию) | D51: =Source!H31 -> шт. | E51: =Source!I31 -> 13 | F51: =Source!AL31+Source!AM31+Source!AO31 -> 956.29 | H51: =ROUND(Source!AC31*Source!I31, 2)+ROUND(Source!AD31*Source!I31, 2)+ROUND(Source!AF31*Source!I31, 2) -> 12431.77 | J51: =IF(Source!BC31<> 0, Source!BC31, 1) -> 6.53 | K51: =Source!O31 -> 81179.46 | S51: =ROUND((Source!FX31/100)*((ROUND(Source!AF31*Source!I31, 2)+ROUND(Source!AE31*Source!I31, 2))), 2) -> 0 | T51: =Source!X31 -> 0 | U51: =ROUND((Source!FY31/100)*((ROUND(Source!AF31*Source!I31, 2)+ROUND(Source!AE31*Source!I31, 2))), 2) -> 0 | V51: =Source!Y31 -> 0 | W51: =IF(Source!BI31<=1,H51, 0) -> 12431.77 | X51: =IF(Source!BI31=2,H51, 0) -> 0 | Y51: =IF(Source!BI31=3,H51, 0) -> 0 | Z51: =IF(Source!BI31=4,H51, 0) -> 0
G52: =H44+H45+H47+H48+H49+SUM(H51:H51) -> 12571.3 | J52: =K44+K45+K47+K48+K49+SUM(K51:K51) -> 82090.6 | L52: =Source!U30 -> 6.0047 | O52: =G52 -> 12571.3 | P52: =J52 -> 82090.6 | Q52: =L52 -> 6.0047 | W52: =IF(Source!BI30<=1,H44+H45+H47+H48+H49, 0) -> 139.53 | X52: =IF(Source!BI30=2,H44+H45+H47+H48+H49, 0) -> 0 | Y52: =IF(Source!BI30=3,H44+H45+H47+H48+H49, 0) -> 0 | Z52: =IF(Source!BI30=4,H44+H45+H47+H48+H49, 0) -> 0
...

Sheet Акт КС-2 c НР и СП
A1: =Source!B1 -> Smeta.RU (495) 974-1589
E2: Унифицированная форма № КС-2
E3: Утверждена постановлением Госкомстата России
E4: от 11.11.99. № 100
G6: Код
F7: Форма по ОКУД | G7: 0322005
G8: =IF(Source!AT15 <> "", Source!AT15, "")
A9: Инвестор | C9: =IF(Source!BA15 <> "", Source!BA15, IF(Source!AU15 <> "", Source!AU15, "")) | F9: по ОКПО
C10: организация, адрес, телефон, факс | G10: =IF(Source!AK15 <> "", Source!AK15, "")
A11: Заказчик | C11: =IF(Source!AX12<> "", Source!AX12, IF(Source!AJ12 <> "", Source!AJ12, "")) | F11: по ОКПО
C12: организация, адрес, телефон, факс | G12: =IF(Source!AO15 <> "", Source!AO15, "")
A13: Подрядчик | C13: =IF(Source!AY12<> "", Source!AY12, IF(Source!AN12 <> "", Source!AN12, "")) | F13: по ОКПО
C14: организация, адрес, телефон, факс | G14: =IF(Source!CO15 <> "", Source!CO15, "")
A15: Стройка | C15: на капитальный ремонт помещений учебных аудиторий 4-го этажа Корпуса К НИЯУ МИФИ по адресу: г.Москва,Каширское шоссе,д.31,стр.46 | AE15: на капитальный ремонт помещений учебных аудиторий 4-го этажа Корпуса К НИЯУ МИФИ по адресу: г.Москва,Каширское шоссе,д.31,стр.46
C16: наименование, адрес | G16: =IF(Source!CP15 <> "", Source!CP15, "")
A17: Объект | C17: =IF(Source!G12<>"Новый объект", Source!G12, "") -> на капитальный ремонт учебных аудиторий 4-го этажа учебно-научного корпуса "К" НИЯУ МИФИ по адресу: г. Москва, Каширское шоссе, д.31, стр.46 | AE17: =IF(Source!G12<>"Новый объект", Source!G12, "") -> на капитальный ремонт учебных аудиторий 4-го этажа учебно-научного корпуса "К" НИЯУ МИФИ по адресу: г. Москва, Каширское шоссе, д.31, стр.46
C18: наименование
D19: Вид деятельности по ОКДП | G19: =IF(Source!CQ15 <> "", Source!CQ15, "")
D20: Договор подряда | F20: номер | G20: =IF(Source!CR15 <> "", Source!CR15, "")
F21: дата | G21: =IF(Source!CS15 <> 0, Source!CS15, "")
F22: Вид операции | G22: =IF(Source!CT15 <> "", Source!CT15, "")
D24: Номер документа | E24: Дата составления | F24: Отчетный период
F25: с | G25: по
D26: =IF(Source!CN15 <> "", Source!CN15, "") | E26: 43266.503
A28: AKT
A29: О ПРИЕМКЕ ВЫПОЛНЕННЫХ РАБОТ
A31: Сметная (договорная) стоимость в соответствии с договором подряда (субподряда) | F31: =(Source!F305/1000) -> 2601.8163 | H31: тыс.руб
A33: Номер | C33: Наименование работ | D33: Номер единичной расценки | E33: Единица измерения | F33: Выполнено работ
A34: по порядку | B34: поз. по смете | F34: Количество | G34: цена за единицу, руб | H34: стоимость, руб
A35: 1 | B35: 2 | C35: 3 | D35: 4 | E35: 5 | F35: 6 | G35: 7 | H35: 8
A37: =CONCATENATE("Раздел: ",IF(Source!G24<>"Новый раздел", Source!G24, "")) -> Раздел: 1 Общестроительные работы
A38: 1 | B38: =Source!E28 -> 1 | C38: =Source!G28 -> Разборка плинтусов деревянных | D38: =Source!F28 -> 57-3-1 | E38: =Source!H28 -> 100 м | F38: =Source!I28 -> 1.7048 | G38: =Source!AB28 -> 29.41 | H38: =Source!O28 -> 327.4 | T38: =Source!O28+Source!X28+Source!Y28 -> 811.95 | U38: =Source!P28 -> 0 | V38: =Source!S28 -> 327.4 | W38: =Source!Q28 -> 0 | X38: =Source!R28 -> 0 | Y38: =Source!U28 -> 6.427096 | Z38: =Source!V28 -> 0 | AA38: =Source!X28 -> 261.92 | AB38: =Source!Y28 -> 222.63
C39: Коэфф. к ОЗП | D39: =Source!BA28 -> 6.53
C40: Коэфф. к эксплуатации машин | D40: =Source!BB28 -> 6.53
C41: Коэфф. к материалам | D41: =Source!BC28 -> 6.53
C42: Коэфф. к ЗПМ | D42: =Source!BS28 -> 6.53
C43: % НР | F43: =Source!BZ28 -> 80 | G43: =(Source!AF28+Source!AE28)*Source!FX28/100 -> 23.528 | H43: =Source!X28 -> 261.92
C44: % СП | F44: =Source!CA28 -> 68 | G44: =(Source!AF28+Source!AE28)*Source!FY28/100 -> 19.9988 | H44: =Source!Y28 -> 222.63
C45: Итого с НР и СП | G45: =((Source!AF28+Source!AE28)*Source!FX28/100)+((Source!AF28+Source!AE28)*Source!FY28/100)+Source!AB28 -> 72.9368 | H45: =Source!O28+Source!X28+Source!Y28 -> 811.95
A46: 2 | B46: =Source!E29 -> 2 | C46: =Source!G29 -> Разборка покрытий полов из линолеума | D46: =Source!F29 -> 57-2-1 | E46: =Source!H29 -> 100 м2 | F46: =Source!I29 -> 2.793 | G46: =Source!AB29 -> 92.9 | H46: =Source!O29 -> 1694.34 | T46: =Source!O29+Source!X29+Source!Y29 -> 4139.88 | U46: =Source!P29 -> 0 | V46: =Source!S29 -> 1620.29 | W46: =Source!Q29 -> 74.05 | X46: =Source!R29 -> 32.1 | Y46: =Source!U29 -> 31.81227 | Z46: =Source!V29 -> 0.36309 | AA46: =Source!X29 -> 1321.91 | AB46: =Source!Y29 -> 1123.63
...

Sheet Source
A1: 0 | B1: Smeta.RU (495) 974-1589 | D1: _PS_ | F1: 0 | G1: 0 | H1: 0 | I1: Smeta.RU | K1: 0 | L1: 13277 | M1: 10
A12: 1 | B12: 365 | C12: 0 | D12: =ROW(A307) -> 307 | E12: 0 | F12: Новый объект_(Копия)_(Копия) | G12: на капитальный ремонт учебных аудиторий 4-го этажа учебно-научного корпуса "К" НИЯУ МИФИ по адресу: г. Москва, Каширское шоссе, д.31, стр.46 | I12: 0 | K12: 0 | O12: 0 | P12: 0 | Q12: 0 | R12: 0 | V12: 0 | BH12: Сметные нормы списания | BI12: Коды ценников | BJ12: 1 | BK12: 1 | BL12: 0 | BM12: 0 | BN12: 1 | BO12: 0 | BP12: 2 | BQ12: 2 | BR12: 1 | BS12: 1 | BT12: 0 | BU12: 0 | BV12: 0 | BW12: 0 | BX12: 0 | BY12: ФЕР-2017 | BZ12: ТР для Версии 10: Центральные регионы (с учетом п-ма 2536-ИП/12/ГС от 22.03.2017 г | CA12: ФЕР-2017 | CB12: ФЕР-2017 | CC12: ФЕР-2017 | CD12: ФЕР-2017 | CE12: Поправки для ГСН 2017 от 31.03.2017 г | CF12: 0 | CG12: 0 | CH12: 524296 | CK12: 4 | EC12: 0
A15: 15 | B15: 1
A18: 52 | B18: =B307 -> 365 | C18: =C307 -> 1 | D18: =D307 -> 12 | E18: =E307 -> 0 | F18: =F307 -> Новый объект_(Копия)_(Копия) | G18: =G307 -> на капитальный ремонт учебных аудиторий 4-го этажа учебно-научного корпуса "К" НИЯУ МИФИ по адресу: г. Москва, Каширское шоссе, д.31, стр.46 | O18: =O307 -> 1970855.5 | P18: =P307 -> 1794567.4 | Q18: =Q307 -> 14459.14 | R18: =R307 -> 3141.31 | S18: =S307 -> 161828.87 | T18: =T307 -> 0 | U18: =U307 -> 2288.6531 | V18: =V307 -> 42.035352 | ... GX18: =GX307 -> 0
A20: 3 | B20: 1 | D20: =ROW(A275) -> 275 | F20: Новая локальная смета | G20: Новая локальная смета | I20: 0 | K20: 0 | V20: 0 | BX20: 0 | CF20: 0 | CG20: 0
A22: 52 | B22: =B275 -> 1 | C22: =C275 -> 3 | D22: =D275 -> 20 | E22: =E275 -> 0 | F22: =F275 -> Новая локальная смета | G22: =G275 -> Новая локальная смета | O22: =O275 -> 1970855.5 | P22: =P275 -> 1794567.4 | Q22: =Q275 -> 14459.14 | R22: =R275 -> 3141.31 | S22: =S275 -> 161828.87 | T22: =T275 -> 0 | U22: =U275 -> 2288.6531 | V22: =V275 -> 42.035352 | ... GX22: =GX275 -> 0
A24: 4 | B24: 1 | D24: =ROW(A83) -> 83 | F24: Новый раздел | G24: 1 Общестроительные работы | I24: 0 | K24: 0 | V24: 0 | BX24: 0 | CJ24: 0
A26: 52 | B26: =B83 -> 1 | C26: =C83 -> 4 | D26: =D83 -> 24 | E26: =E83 -> 0 | F26: =F83 -> Новый раздел | G26: =G83 -> 1 Общестроительные работы | O26: =O83 -> 1004846.6 | P26: =P83 -> 912062.98 | Q26: =Q83 -> 10200.38 | R26: =R83 -> 2626.99 | S26: =S83 -> 82583.22 | T26: =T83 -> 0 | U26: =U83 -> 1424.4293 | V26: =V83 -> 35.762058 | ... GX26: =GX83 -> 0
A28: 17 | B28: 1 | C28: =ROW(SmtRes!A1) -> 1 | D28: =ROW(EtalonRes!A2) -> 2 | E28: 1 | F28: 57-3-1 | G28: Разборка плинтусов деревянных | H28: 100 м | I28: 1.7048 | J28: 0 | O28: =ROUND(CP28,2) -> 327.4 | P28: =ROUND(CQ28*I28,2) -> 0 | Q28: =ROUND(CR28*I28,2) -> 0 | R28: =ROUND(CS28*I28,2) -> 0 | S28: =ROUND(CT28*I28,2) -> 327.4 | T28: =ROUND(CU28*I28,2) -> 0 | U28: =CV28*I28 -> 6.427096 | V28: =CW28*I28 -> 0 | W28: =ROUND(CX28*I28,2) -> 0 | X28: =ROUND(CY28,2) -> 261.92 | Y28: =ROUND(CZ28,2) -> 222.63 | AA28: 39099382 | AB28: =ROUND((AC28+AD28+AF28),2) -> 29.41 | AC28: =ROUND((ES28),2) -> 0 | AD28: =ROUND((((ET28)-(EU28))+AE28),2) -> 0 | AE28: =ROUND((EU28),2) -> 0 | AF28: =ROUND((EV28),2) -> 29.41 | AG28: =ROUND((AP28),2) -> 0 | AH28: =(EW28) -> 3.77 | AI28: =(EX28) -> 0 | AJ28: =ROUND((AS28),2) -> 0 | AK28: 29.41 | AL28: 0 | AM28: 0 | AN28: 0 | AO28: 29.41 | AP28: 0 | AQ28: 3.77 | AR28: 0 | AS28: 0 | AT28: 80 | AU28: 68 | AV28: 1 | AW28: 1 | AZ28: 6.53 | BA28: 6.53 | BB28: 6.53 | BC28: 6.53 | BH28: 0 | BI28: 1 | BJ28: ФЕР-2001, 57-3-1, приказ Минстроя России №1039/пр от 30.12.2016г. | BM28: 57001 | BN28: 0 | BP28: 0 | BQ28: 6 | BR28: 0 | BS28: 6.53 | BT28: 1 | BU28: 1 | BV28: 1 | BW28: 1 | BX28: 1 | BZ28: 80 | CA28: 68 | CF28: 0 | CG28: 0 | CM28: 0 | CO28: 0 | CP28: =(P28+Q28+S28) -> 327.4 | CQ28: =AC28*BC28 -> 0 | CR28: =AD28*BB28 -> 0 | CS28: =AE28*BS28 -> 0 | CT28: =AF28*BA28 -> 192.0473 | CU28: =AG28 -> 0 | CV28: =AH28 -> 3.77 | CW28: =AI28 -> 0 | CX28: =AJ28 -> 0 | CY28: =(((S28+R28)*AT28)/100) -> 261.92 | CZ28: =(((S28+R28)*AU28)/100) -> 222.632 | DN28: 0 | DO28: 0 | DP28: 1 | DQ28: 1 | DU28: 1003 | DV28: 100 м | DW28: 100 м | DX28: 100 | EE28: 39174582 | EF28: 6 | EG28: Ремонтно-строительные работы | EH28: 0 | EJ28: 1 | EK28: 57001 | EL28: Полы | EM28: рФЕР-57 | EQ28: 0 | ER28: 29.41 | ES28: 0 | ET28: 0 | EU28: 0 | EV28: 29.41 | EW28: 3.77 | EX28: 0 | EY28: 0 | FQ28: 0 | FR28: =ROUND(IF(AND(BH28=3,BI28=3),P28,0),2) -> 0 | FS28: 0 | FX28: 80 | FY28: 68 | GD28: 0 | GF28: -1219653826 | GG28: 1 | GH28: 1 | GI28: 4 | GJ28: 0 | GK28: =ROUND(R28*(R12)/100,2) -> 0 | GL28: =ROUND(IF(AND(BH28=3,BI28=3,FS28<>0),P28,0),2) -> 0 | GM28: =ROUND(O28+X28+Y28+GK28,2)+GX28 -> 811.95 | GN28: =IF(OR(BI28=0,BI28=1),ROUND(O28+X28+Y28+GK28,2),0) -> 811.95 | GO28: =IF(BI28=2,ROUND(O28+X28+Y28+GK28,2),0) -> 0 | GP28: =IF(BI28=4,ROUND(O28+X28+Y28+GK28,2)+GX28,0) -> 0 | GR28: 0 | GS28: 0 | GT28: 0 | GV28: =ROUND(GT28,2) -> 0 | GW28: 1 | GX28: =ROUND(GV28*GW28*I28,2) -> 0 | HA28: 0 | HB28: 0 | IK28: 0
A29: 17 | B29: 1 | C29: =ROW(SmtRes!A4) -> 4 | D29: =ROW(EtalonRes!A6) -> 6 | E29: 2 | F29: 57-2-1 | G29: Разборка покрытий полов из линолеума | H29: 100 м2 | I29: 2.793 | J29: 0 | O29: =ROUND(CP29,2) -> 1694.34 | P29: =ROUND(CQ29*I29,2) -> 0 | Q29: =ROUND(CR29*I29,2) -> 74.05 | R29: =ROUND(CS29*I29,2) -> 32.1 | S29: =ROUND(CT29*I29,2) -> 1620.29 | T29: =ROUND(CU29*I29,2) -> 0 | U29: =CV29*I29 -> 31.81227 | V29: =CW29*I29 -> 0.36309 | W29: =ROUND(CX29*I29,2) -> 0 | X29: =ROUND(CY29,2) -> 1321.91 | Y29: =ROUND(CZ29,2) -> 1123.63 | AA29: 39099382 | AB29: =ROUND((AC29+AD29+AF29),2) -> 92.9 | AC29: =ROUND((ES29),2) -> 0 | AD29: =ROUND((((ET29)-(EU29))+AE29),2) -> 4.06 | AE29: =ROUND((EU29),2) -> 1.76 | AF29: =ROUND((EV29),2) -> 88.84 | AG29: =ROUND((AP29),2) -> 0 | AH29: =(EW29) -> 11.39 | AI29: =(EX29) -> 0.13 | AJ29: =ROUND((AS29),2) -> 0 | AK29: 92.9 | AL29: 0 | AM29: 4.06 | AN29: 1.76 | AO29: 88.84 | AP29: 0 | AQ29: 11.39 | AR29: 0.13 | AS29: 0 | AT29: 80 | AU29: 68 | AV29: 1 | AW29: 1 | AZ29: 6.53 | BA29: 6.53 | BB29: 6.53 | BC29: 6.53 | BH29: 0 | BI29: 1 | BJ29: ФЕР-2001, 57-2-1, приказ Минстроя России №1039/пр от 30.12.2016г. | BM29: 57001 | BN29: 0 | BP29: 0 | BQ29: 6 | BR29: 0 | BS29: 6.53 | BT29: 1 | BU29: 1 | BV29: 1 | BW29: 1 | BX29: 1 | BZ29: 80 | CA29: 68 | CF29: 0 | CG29: 0 | CM29: 0 | CO29: 0 | CP29: =(P29+Q29+S29) -> 1694.34 | CQ29: =AC29*BC29 -> 0 | CR29: =AD29*BB29 -> 26.5118 | CS29: =AE29*BS29 -> 11.4928 | CT29: =AF29*BA29 -> 580.1252 | CU29: =AG29 -> 0 | CV29: =AH29 -> 11.39 | CW29: =AI29 -> 0.13 | CX29: =AJ29 -> 0 | CY29: =(((S29+R29)*AT29)/100) -> 1321.912 | CZ29: =(((S29+R29)*AU29)/100) -> 1123.6252 | DN29: 0 | DO29: 0 | DP29: 1 | DQ29: 1 | DU29: 1005 | DV29: 100 м2 | DW29: 100 м2 | DX29: 100 | EE29: 39174582 | EF29: 6 | EG29: Ремонтно-строительные работы | EH29: 0 | EJ29: 1 | EK29: 57001 | EL29: Полы | EM29: рФЕР-57 | EQ29: 0 | ER29: 92.9 | ES29: 0 | ET29: 4.06 | EU29: 1.76 | EV29: 88.84 | EW29: 11.39 | EX29: 0.13 | EY29: 0 | FQ29: 0 | FR29: =ROUND(IF(AND(BH29=3,BI29=3),P29,0),2) -> 0 | FS29: 0 | FX29: 80 | FY29: 68 | GD29: 0 | GF29: 334444289 | GG29: 1 | GH29: 1 | GI29: 4 | GJ29: 0 | GK29: =ROUND(R29*(R12)/100,2) -> 0 | GL29: =ROUND(IF(AND(BH29=3,BI29=3,FS29<>0),P29,0),2) -> 0 | GM29: =ROUND(O29+X29+Y29+GK29,2)+GX29 -> 4139.88 | GN29: =IF(OR(BI29=0,BI29=1),ROUND(O29+X29+Y29+GK29,2),0) -> 4139.88 | GO29: =IF(BI29=2,ROUND(O29+X29+Y29+GK29,2),0) -> 0 | GP29: =IF(BI29=4,ROUND(O29+X29+Y29+GK29,2)+GX29,0) -> 0 | GR29: 0 | GS29: 0 | GT29: 0 | GV29: =ROUND(GT29,2) -> 0 | GW29: 1 | GX29: =ROUND(GV29*GW29*I29,2) -> 0 | HA29: 0 | HB29: 0 | IK29: 0
A30: 17 | B30: 1 | C30: =ROW(SmtRes!A10) -> 10 | D30: =ROW(EtalonRes!A13) -> 13 | E30: 3 | F30: 65-33-1 | G30: Смена жалюзийных решеток | H30: 100 ШТ | I30: 0.13 | J30: 0 | O30: =ROUND(CP30,2) -> 365.76 | P30: =ROUND(CQ30*I30,2) -> 31.03 | Q30: =ROUND(CR30*I30,2) -> 0.26 | R30: =ROUND(CS30*I30,2) -> 0.12 | S30: =ROUND(CT30*I30,2) -> 334.47 | T30: =ROUND(CU30*I30,2) -> 0 | U30: =CV30*I30 -> 6.0047 | V30: =CW30*I30 -> 0.0013 | W30: =ROUND(CX30*I30,2) -> 0 | X30: =ROUND(CY30,2) -> 344.63 | Y30: =ROUND(CZ30,2) -> 200.75 | AA30: 39099382 | AB30: =ROUND((AC30+AD30+AF30),2) -> 430.86 | AC30: =ROUND((ES30),2) -> 36.55 | AD30: =ROUND((((ET30)-(EU30))+AE30),2) -> 0.31 | AE30: =ROUND((EU30),2) -> 0.14 | AF30: =ROUND((EV30),2) -> 394 | AG30: =ROUND((AP30),2) -> 0 | AH30: =(EW30) -> 46.19 | AI30: =(EX30) -> 0.01 | AJ30: =ROUND((AS30),2) -> 0 | AK30: 430.86 | AL30: 36.55 | AM30: 0.31 | AN30: 0.14 | AO30: 394 | AP30: 0 | AQ30: 46.19 | AR30: 0.01 | AS30: 0 | AT30: 103 | AU30: 60 | AV30: 1 | AW30: 1 | AZ30: 6.53 | BA30: 6.53 | BB30: 6.53 | BC30: 6.53 | BH30: 0 | BI30: 1 | BJ30: ФЕР-2001, 65-33-1, приказ Минстроя России №1039/пр от 30.12.2016г. | BM30: 65010 | BN30: 0 | BP30: 0 | BQ30: 6 | BR30: 0 | BS30: 6.53 | BT30: 1 | BU30: 1 | BV30: 1 | BW30: 1 | BX30: 1 | BZ30: 103 | CA30: 60 | CF30: 0 | CG30: 0 | CM30: 0 | CO30: 0 | CP30: =(P30+Q30+S30) -> 365.76 | CQ30: =AC30*BC30 -> 238.6715 | CR30: =AD30*BB30 -> 2.0243 | CS30: =AE30*BS30 -> 0.9142 | CT30: =AF30*BA30 -> 2572.82 | CU30: =AG30 -> 0 | CV30: =AH30 -> 46.19 | CW30: =AI30 -> 0.01 | CX30: =AJ30 -> 0 | CY30: =(((S30+R30)*AT30)/100) -> 344.6277 | CZ30: =(((S30+R30)*AU30)/100) -> 200.754 | DN30: 0 | DO30: 0 | DP30: 1 | DQ30: 1 | DU30: 1013 | DV30: 100 ШТ | DW30: 100 ШТ | DX30: 1 | EE30: 39174605 | EF30: 6 | EG30: Ремонтно-строительные работы | EH30: 0 | EJ30: 1 | EK30: 65010 | EL30: Внтуренниие с/техработы: смена труб | EM30: рФЕР-65 | EQ30: 0 | ER30: 430.86 | ES30: 36.55 | ET30: 0.31 | EU30: 0.14 | EV30: 394 | EW30: 46.19 | EX30: 0.01 | EY30: 0 | FQ30: 0 | FR30: =ROUND(IF(AND(BH30=3,BI30=3),P30,0),2) -> 0 | FS30: 0 | FX30: 103 | FY30: 60 | GD30: 0 | GF30: -2051527918 | GG30: 1 | GH30: 1 | GI30: 4 | GJ30: 0 | GK30: =ROUND(R30*(R12)/100,2) -> 0 | GL30: =ROUND(IF(AND(BH30=3,BI30=3,FS30<>0),P30,0),2) -> 0 | GM30: =ROUND(O30+X30+Y30+GK30,2)+GX30 -> 911.14 | GN30: =IF(OR(BI30=0,BI30=1),ROUND(O30+X30+Y30+GK30,2),0) -> 911.14 | GO30: =IF(BI30=2,ROUND(O30+X30+Y30+GK30,2),0) -> 0 | GP30: =IF(BI30=4,ROUND(O30+X30+Y30+GK30,2)+GX30,0) -> 0 | GR30: 0 | GS30: 0 | GT30: 0 | GV30: =ROUND(GT30,2) -> 0 | GW30: 1 | GX30: =ROUND(GV30*GW30*I30,2) -> 0 | HA30: 0 | HB30: 0 | IK30: 0
A31: 18 | B31: 1 | C31: 10 | E31: 3,1 | F31: 19.2.03.07-0028 | G31: Решетки пластиковые вентиляционные прим.(согласно тех.заданию) | H31: шт. | I31: =I30*J31 -> 13 | J31: 100 | O31: =ROUND(CP31,2) -> 81179.46 | P31: =ROUND(CQ31*I31,2) -> 81179.46 | Q31: =ROUND(CR31*I31,2) -> 0 | R31: =ROUND(CS31*I31,2) -> 0 | S31: =ROUND(CT31*I31,2) -> 0 | T31: =ROUND(CU31*I31,2) -> 0 | U31: =CV31*I31 -> 0 | V31: =CW31*I31 -> 0 | W31: =ROUND(CX31*I31,2) -> 0 | X31: =ROUND(CY31,2) -> 0 | Y31: =ROUND(CZ31,2) -> 0 | AA31: 39099382 | AB31: =ROUND((AC31+AD31+AF31),2) -> 956.29 | AC31: =ROUND((ES31),2) -> 956.29 | AD31: =ROUND((((ET31)-(EU31))+AE31),2) -> 0 | AE31: =ROUND((EU31),2) -> 0 | AF31: =ROUND((EV31),2) -> 0 | AG31: =ROUND((AP31),2) -> 0 | AH31: =(EW31) -> 0 | AI31: =(EX31) -> 0 | AJ31: =ROUND((AS31),2) -> 0 | AK31: 956.29 | AL31: 956.29 | AM31: 0 | AN31: 0 | AO31: 0 | AP31: 0 | AQ31: 0 | AR31: 0 | AS31: 0 | AT31: 103 | AU31: 60 | AV31: 1 | AW31: 1 | AZ31: 6.53 | BA31: 1 | BB31: 1 | BC31: 6.53 | BH31: 3 | BI31: 1 | BJ31: ФССЦ-2001, 19.2.03.07-0028, приказ Минстроя России №1039/пр от 30.12.2016г. | BM31: 65010 | BN31: 0 | BP31: 0 | BQ31: 6 | BR31: 0 | BS31: 1 | BT31: 1 | BU31: 1 | BV31: 1 | BW31: 1 | BX31: 1 | BZ31: 103 | CA31: 60 | CF31: 0 | CG31: 0 | CM31: 0 | CO31: 0 | CP31: =(P31+Q31+S31) -> 81179.46 | CQ31: =AC31*BC31 -> 6244.5737 | CR31: =AD31*BB31 -> 0 | CS31: =AE31*BS31 -> 0 | CT31: =AF31*BA31 -> 0 | CU31: =AG31 -> 0 | CV31: =AH31 -> 0 | CW31: =AI31 -> 0 | CX31: =AJ31 -> 0 | CY31: =(((S31+R31)*AT31)/100) -> 0 | CZ31: =(((S31+R31)*AU31)/100) -> 0 | DN31: 0 | DO31: 0 | DP31: 1 | DQ31: 1 | DU31: 1010 | DV31: шт. | DW31: шт. | DX31: 1 | EE31: 39174605 | EF31: 6 | EG31: Ремонтно-строительные работы | EH31: 0 | EJ31: 1 | EK31: 65010 | EL31: Внтуренниие с/техработы: смена труб | EM31: рФЕР-65 | EQ31: 0 | ER31: 956.29 | ES31: 956.29 | ET31: 0 | EU31: 0 | EV31: 0 | EW31: 0 | EX31: 0 | FQ31: 0 | FR31: =ROUND(IF(AND(BH31=3,BI31=3),P31,0),2) -> 0 | FS31: 0 | FX31: 103 | FY31: 60 | GD31: 0 | GF31: 128350836 | GG31: 1 | GH31: 1 | GI31: 4 | GJ31: 0 | GK31: =ROUND(R31*(R12)/100,2) -> 0 | GL31: =ROUND(IF(AND(BH31=3,BI31=3,FS31<>0),P31,0),2) -> 0 | GM31: =ROUND(O31+X31+Y31+GK31,2)+GX31 -> 81179.46 | GN31: =IF(OR(BI31=0,BI31=1),ROUND(O31+X31+Y31+GK31,2),0) -> 81179.46 | GO31: =IF(BI31=2,ROUND(O31+X31+Y31+GK31,2),0) -> 0 | GP31: =IF(BI31=4,ROUND(O31+X31+Y31+GK31,2)+GX31,0) -> 0 | GR31: 0 | GS31: 3 | GT31: 0 | GV31: =ROUND(GT31,2) -> 0 | GW31: 1 | GX31: =ROUND(GV31*GW31*I31,2) -> 0 | HA31: 0 | HB31: 0 | IK31: 0
A32: 17 | B32: 1 | C32: =ROW(SmtRes!A11) -> 11 | D32: =ROW(EtalonRes!A14) -> 14 | E32: 4 | F32: 46-02-009-02 | G32: Отбивка штукатурки с поверхностей стен | H32: 100 м2 | I32: 1.5465 | J32: 0 | O32: =ROUND(CP32,2) -> 1797.56 | P32: =ROUND(CQ32*I32,2) -> 0 | Q32: =ROUND(CR32*I32,2) -> 0 | R32: =ROUND(CS32*I32,2) -> 0 | S32: =ROUND(CT32*I32,2) -> 1797.56 | T32: =ROUND(CU32*I32,2) -> 0 | U32: =CV32*I32 -> 35.29113 | V32: =CW32*I32 -> 0 | W32: =ROUND(CX32*I32,2) -> 0 | X32: =ROUND(CY32,2) -> 1779.58 | Y32: =ROUND(CZ32,2) -> 1078.54 | AA32: 39099382 | AB32: =ROUND((AC32+AD32+AF32),2) -> 178 | AC32: =ROUND((ES32),2) -> 0 | AD32: =ROUND((((ET32)-(EU32))+AE32),2) -> 0 | AE32: =ROUND((EU32),2) -> 0 | AF32: =ROUND((EV32),2) -> 178 | AG32: =ROUND((AP32),2) -> 0 | AH32: =(EW32) -> 22.82 | AI32: =(EX32) -> 0 | AJ32: =ROUND((AS32),2) -> 0 | AK32: 178 | AL32: 0 | AM32: 0 | AN32: 0 | AO32: 178 | AP32: 0 | AQ32: 22.82 | AR32: 0 | AS32: 0 | AT32: 99 | AU32: 60 | AV32: 1 | AW32: 1 | AZ32: 6.53 | BA32: 6.53 | BB32: 6.53 | BC32: 6.53 | BH32: 0 | BI32: 1 | BJ32: ФЕР-2001, 46-02-009-02, приказ Минстроя России №1039/пр от 30.12.2016г. | BM32: 46001 | BN32: 0 | BP32: 0 | BQ32: 2 | BR32: 0 | BS32: 6.53 | BT32: 1 | BU32: 1 | BV32: 1 | BW32: 1 | BX32: 1 | BZ32: 110 | CA32: 70 | CF32: 0 | CG32: 0 | CM32: 0 | CO32: 0 | CP32: =(P32+Q32+S32) -> 1797.56 | CQ32: =AC32*BC32 -> 0 | CR32: =AD32*BB32 -> 0 | CS32: =AE32*BS32 -> 0 | CT32: =AF32*BA32 -> 1162.34 | CU32: =AG32 -> 0 | CV32: =AH32 -> 22.82 | CW32: =AI32 -> 0 | CX32: =AJ32 -> 0 | CY32: =(((S32+R32)*AT32)/100) -> 1779.5844 | CZ32: =(((S32+R32)*AU32)/100) -> 1078.536 | DN32: 0 | DO32: 0 | DP32: 1 | DQ32: 1 | DU32: 1005 | DV32: 100 м2 | DW32: 100 м2 | DX32: 100 | EE32: 39174571 | EF32: 2 | EG32: Общестроительные работы | EH32: 0 | EJ32: 1 | EK32: 46001 | EL32: Реконструкция зданий и сооружений | EM32: ФЕР-46 | EQ32: 0 | ER32: 178 | ES32: 0 | ET32: 0 | EU32: 0 | EV32: 178 | EW32: 22.82 | EX32: 0 | EY32: 0 | FQ32: 0 | FR32: =ROUND(IF(AND(BH32=3,BI32=3),P32,0),2) -> 0 | FS32: 0 | FT32: *0,9 | FU32: *0,85 | FX32: 99 | FY32: 59.5 | GD32: 0 | GF32: 232532105 | GG32: 1 | GH32: 1 | GI32: 4 | GJ32: 0 | GK32: =ROUND(R32*(R12)/100,2) -> 0 | GL32: =ROUND(IF(AND(BH32=3,BI32=3,FS32<>0),P32,0),2) -> 0 | GM32: =ROUND(O32+X32+Y32+GK32,2)+GX32 -> 4655.68 | GN32: =IF(OR(BI32=0,BI32=1),ROUND(O32+X32+Y32+GK32,2),0) -> 4655.68 | GO32: =IF(BI32=2,ROUND(O32+X32+Y32+GK32,2),0) -> 0 | GP32: =IF(BI32=4,ROUND(O32+X32+Y32+GK32,2)+GX32,0) -> 0 | GR32: 0 | GS32: 0 | GT32: 0 | GV32: =ROUND(GT32,2) -> 0 | GW32: 1 | GX32: =ROUND(GV32*GW32*I32,2) -> 0 | HA32: 0 | HB32: 0 | IK32: 0
A33: 17 | B33: 1 | C33: =ROW(SmtRes!A17) -> 17 | D33: =ROW(EtalonRes!A21) -> 21 | E33: 5 | F33: 57-10-3 | G33: Заделка выбоин в полах цементных площадью до 1,0 м2 | H33: 100 мест | I33: 0.43 | J33: 0 | O33: =ROUND(CP33,2) -> 3108.01 | P33: =ROUND(CQ33*I33,2) -> 0.67 | Q33: =ROUND(CR33*I33,2) -> 131.86 | R33: =ROUND(CS33*I33,2) -> 0 | S33: =ROUND(CT33*I33,2) -> 2975.48 | T33: =ROUND(CU33*I33,2) -> 0 | U33: =CV33*I33 -> 53.4189 | V33: =CW33*I33 -> 0 | W33: =ROUND(CX33*I33,2) -> 0 | X33: =ROUND(CY33,2) -> 2380.38 | Y33: =ROUND(CZ33,2) -> 2023.33 | AA33: 39099382 | AB33: =ROUND((AC33+AD33+AF33),2) -> 1106.88 | AC33: =ROUND((ES33),2) -> 0.24 | AD33: =ROUND((((ET33)-(EU33))+AE33),2) -> 46.96 | AE33: =ROUND((EU33),2) -> 0 | AF33: =ROUND((EV33),2) -> 1059.68 | AG33: =ROUND((AP33),2) -> 0 | AH33: =(EW33) -> 124.23 | AI33: =(EX33) -> 0 | AJ33: =ROUND((AS33),2) -> 0 | AK33: 1106.88 | AL33: 0.24 | AM33: 46.96 | AN33: 0 | AO33: 1059.68 | AP33: 0 | AQ33: 124.23 | AR33: 0 | AS33: 0 | AT33: 80 | AU33: 68 | AV33: 1 | AW33: 1 | AZ33: 6.53 | BA33: 6.53 | BB33: 6.53 | BC33: 6.53 | BH33: 0 | BI33: 1 | BJ33: ФЕР-2001, 57-10-3, приказ Минстроя России №1039/пр от 30.12.2016г. | BM33: 57001 | BN33: 0 | BP33: 0 | BQ33: 6 | BR33: 0 | BS33: 6.53 | BT33: 1 | BU33: 1 | BV33: 1 | BW33: 1 | BX33: 1 | BZ33: 80 | CA33: 68 | CF33: 0 | CG33: 0 | CM33: 0 | CO33: 0 | CP33: =(P33+Q33+S33) -> 3108.01 | CQ33: =AC33*BC33 -> 1.5672 | CR33: =AD33*BB33 -> 306.6488 | CS33: =AE33*BS33 -> 0 | CT33: =AF33*BA33 -> 6919.7104 | CU33: =AG33 -> 0 | CV33: =AH33 -> 124.23 | CW33: =AI33 -> 0 | CX33: =AJ33 -> 0 | CY33: =(((S33+R33)*AT33)/100) -> 2380.384 | CZ33: =(((S33+R33)*AU33)/100) -> 2023.3264 | DN33: 0 | DO33: 0 | DP33: 1 | DQ33: 1 | DU33: 1013 | DV33: 100 мест | DW33: 100 мест | DX33: 1 | EE33: 39174582 | EF33: 6 | EG33: Ремонтно-строительные работы | EH33: 0 | EJ33: 1 | EK33: 57001 | EL33: Полы | EM33: рФЕР-57 | EQ33: 0 | ER33: 1106.88 | ES33: 0.24 | ET33: 46.96 | EU33: 0 | EV33: 1059.68 | EW33: 124.23 | EX33: 0 | EY33: 0 | FQ33: 0 | FR33: =ROUND(IF(AND(BH33=3,BI33=3),P33,0),2) -> 0 | FS33: 0 | FX33: 80 | FY33: 68 | GD33: 0 | GF33: 424324215 | GG33: 1 | GH33: 1 | GI33: 4 | GJ33: 0 | GK33: =ROUND(R33*(R12)/100,2) -> 0 | GL33: =ROUND(IF(AND(BH33=3,BI33=3,FS33<>0),P33,0),2) -> 0 | GM33: =ROUND(O33+X33+Y33+GK33,2)+GX33 -> 7511.72 | GN33: =IF(OR(BI33=0,BI33=1),ROUND(O33+X33+Y33+GK33,2),0) -> 7511.72 | GO33: =IF(BI33=2,ROUND(O33+X33+Y33+GK33,2),0) -> 0 | GP33: =IF(BI33=4,ROUND(O33+X33+Y33+GK33,2)+GX33,0) -> 0 | GR33: 0 | GS33: 0 | GT33: 0 | GV33: =ROUND(GT33,2) -> 0 | GW33: 1 | GX33: =ROUND(GV33*GW33*I33,2) -> 0 | HA33: 0 | HB33: 0 | IK33: 0
A34: 18 | B34: 1 | C34: 16 | E34: 5,1 | F34: 04.3.01.09 | G34: Раствор готовый кладочный тяжелый цементный | H34: м3 | I34: =I33*J34 -> 0.9202 | J34: 2.14 | O34: =ROUND(CP34,2) -> 0 | P34: =ROUND(CQ34*I34,2) -> 0 | Q34: =ROUND(CR34*I34,2) -> 0 | R34: =ROUND(CS34*I34,2) -> 0 | S34: =ROUND(CT34*I34,2) -> 0 | T34: =ROUND(CU34*I34,2) -> 0 | U34: =CV34*I34 -> 0 | V34: =CW34*I34 -> 0 | W34: =ROUND(CX34*I34,2) -> 0 | X34: =ROUND(CY34,2) -> 0 | Y34: =ROUND(CZ34,2) -> 0 | AA34: 39099382 | AB34: =ROUND((AC34+AD34+AF34),2) -> 0 | AC34: =ROUND((ES34),2) -> 0 | AD34: =ROUND((((ET34)-(EU34))+AE34),2) -> 0 | AE34: =ROUND((EU34),2) -> 0 | AF34: =ROUND((EV34),2) -> 0 | AG34: =ROUND((AP34),2) -> 0 | AH34: =(EW34) -> 0 | AI34: =(EX34) -> 0 | AJ34: =ROUND((AS34),2) -> 0 | AK34: 0 | AL34: 0 | AM34: 0 | AN34: 0 | AO34: 0 | AP34: 0 | AQ34: 0 | AR34: 0 | AS34: 0 | AT34: 80 | AU34: 68 | AV34: 1 | AW34: 1 | AZ34: 6.53 | BA34: 1 | BB34: 1 | BC34: 6.53 | BH34: 3 | BI34: 1 | BM34: 57001 | BN34: 0 | BP34: 0 | BQ34: 6 | BR34: 0 | BS34: 1 | BT34: 1 | BU34: 1 | BV34: 1 | BW34: 1 | BX34: 1 | BZ34: 80 | CA34: 68 | CF34: 0 | CG34: 0 | CM34: 0 | CO34: 0 | CP34: =(P34+Q34+S34) -> 0 | CQ34: =AC34*BC34 -> 0 | CR34: =AD34*BB34 -> 0 | CS34: =AE34*BS34 -> 0 | CT34: =AF34*BA34 -> 0 | CU34: =AG34 -> 0 | CV34: =AH34 -> 0 | CW34: =AI34 -> 0 | CX34: =AJ34 -> 0 | CY34: =(((S34+R34)*AT34)/100) -> 0 | CZ34: =(((S34+R34)*AU34)/100) -> 0 | DN34: 0 | DO34: 0 | DP34: 1 | DQ34: 1 | DU34: 1007 | DV34: м3 | DW34: м3 | DX34: 1 | EE34: 39174582 | EF34: 6 | EG34: Ремонтно-строительные работы | EH34: 0 | EJ34: 1 | EK34: 57001 | EL34: Полы | EM34: рФЕР-57 | EQ34: 0 | ER34: 0 | ES34: 0 | ET34: 0 | EU34: 0 | EV34: 0 | EW34: 0 | EX34: 0 | FQ34: 0 | FR34: =ROUND(IF(AND(BH34=3,BI34=3),P34,0),2) -> 0 | FS34: 0 | FX34: 80 | FY34: 68 | GD34: 0 | GF34: -2113302258 | GG34: 1 | GH34: 1 | GI34: 4 | GJ34: 0 | GK34: =ROUND(R34*(R12)/100,2) -> 0 | GL34: =ROUND(IF(AND(BH34=3,BI34=3,FS34<>0),P34,0),2) -> 0 | GM34: =ROUND(O34+X34+Y34+GK34,2)+GX34 -> 0 | GN34: =IF(OR(BI34=0,BI34=1),ROUND(O34+X34+Y34+GK34,2),0) -> 0 | GO34: =IF(BI34=2,ROUND(O34+X34+Y34+GK34,2),0) -> 0 | GP34: =IF(BI34=4,ROUND(O34+X34+Y34+GK34,2)+GX34,0) -> 0 | GR34: 0 | GS34: 3 | GT34: 0 | GV34: =ROUND(GT34,2) -> 0 | GW34: 1 | GX34: =ROUND(GV34*GW34*I34,2) -> 0 | HA34: 0 | HB34: 0 | IK34: 0
A35: 18 | B35: 1 | C35: 17 | E35: 5,2 | F35: 04.3.01.09-0015 | G35: Раствор готовый кладочный цементный марки 150 | H35: м3 | I35: =I33*J35 -> 0.9202 | J35: 2.14 | O35: =ROUND(CP35,2) -> 3294.68 | P35: =ROUND(CQ35*I35,2) -> 3294.68 | Q35: =ROUND(CR35*I35,2) -> 0 | R35: =ROUND(CS35*I35,2) -> 0 | S35: =ROUND(CT35*I35,2) -> 0 | T35: =ROUND(CU35*I35,2) -> 0 | U35: =CV35*I35 -> 0 | V35: =CW35*I35 -> 0 | W35: =ROUND(CX35*I35,2) -> 0 | X35: =ROUND(CY35,2) -> 0 | Y35: =ROUND(CZ35,2) -> 0 | AA35: 39099382 | AB35: =ROUND((AC35+AD35+AF35),2) -> 548.3 | AC35: =ROUND((ES35),2) -> 548.3 | AD35: =ROUND((((ET35)-(EU35))+AE35),2) -> 0 | AE35: =ROUND((EU35),2) -> 0 | AF35: =ROUND((EV35),2) -> 0 | AG35: =ROUND((AP35),2) -> 0 | AH35: =(EW35) -> 0 | AI35: =(EX35) -> 0 | AJ35: =ROUND((AS35),2) -> 0 | AK35: 548.3 | AL35: 548.3 | AM35: 0 | AN35: 0 | AO35: 0 | AP35: 0 | AQ35: 0 | AR35: 0 | AS35: 0 | AT35: 80 | AU35: 68 | AV35: 1 | AW35: 1 | AZ35: 6.53 | BA35: 1 | BB35: 1 | BC35: 6.53 | BH35: 3 | BI35: 1 | BJ35: ФССЦ-2001, 04.3.01.09-0015, приказ Минстроя России №1039/пр от 30.12.2016г. | BM35: 57001 | BN35: 0 | BP35: 0 | BQ35: 6 | BR35: 0 | BS35: 1 | BT35: 1 | BU35: 1 | BV35: 1 | BW35: 1 | BX35: 1 | BZ35: 80 | CA35: 68 | CF35: 0 | CG35: 0 | CM35: 0 | CO35: 0 | CP35: =(P35+Q35+S35) -> 3294.68 | CQ35: =AC35*BC35 -> 3580.399 | CR35: =AD35*BB35 -> 0 | CS35: =AE35*BS35 -> 0 | CT35: =AF35*BA35 -> 0 | CU35: =AG35 -> 0 | CV35: =AH35 -> 0 | CW35: =AI35 -> 0 | CX35: =AJ35 -> 0 | CY35: =(((S35+R35)*AT35)/100) -> 0 | CZ35: =(((S35+R35)*AU35)/100) -> 0 | DN35: 0 | DO35: 0 | DP35: 1 | DQ35: 1 | DU35: 1007 | DV35: м3 | DW35: м3 | DX35: 1 | EE35: 39174582 | EF35: 6 | EG35: Ремонтно-строительные работы | EH35: 0 | EJ35: 1 | EK35: 57001 | EL35: Полы | EM35: рФЕР-57 | EQ35: 0 | ER35: 548.3 | ES35: 548.3 | ET35: 0 | EU35: 0 | EV35: 0 | EW35: 0 | EX35: 0 | FQ35: 0 | FR35: =ROUND(IF(AND(BH35=3,BI35=3),P35,0),2) -> 0 | FS35: 0 | FX35: 80 | FY35: 68 | GD35: 0 | GF35: -1970722706 | GG35: 1 | GH35: 1 | GI35: 4 | GJ35: 0 | GK35: =ROUND(R35*(R12)/100,2) -> 0 | GL35: =ROUND(IF(AND(BH35=3,BI35=3,FS35<>0),P35,0),2) -> 0 | GM35: =ROUND(O35+X35+Y35+GK35,2)+GX35 -> 3294.68 | GN35: =IF(OR(BI35=0,BI35=1),ROUND(O35+X35+Y35+GK35,2),0) -> 3294.68 | GO35: =IF(BI35=2,ROUND(O35+X35+Y35+GK35,2),0) -> 0 | GP35: =IF(BI35=4,ROUND(O35+X35+Y35+GK35,2)+GX35,0) -> 0 | GR35: 0 | GS35: 3 | GT35: 0 | GV35: =ROUND(GT35,2) -> 0 | GW35: 1 | GX35: =ROUND(GV35*GW35*I35,2) -> 0 | HA35: 0 | HB35: 0 | IK35: 0
A36: 17 | B36: 1 | C36: =ROW(SmtRes!A24) -> 24 | D36: =ROW(EtalonRes!A28) -> 28 | E36: 6 | F36: 11-01-011-08 | G36: Устройство стяжек из выравнивающей смеси типа "Ветонит" 5000, толщиной 5 мм | H36: 100 м2 | I36: 2.793 | J36: 0 | O36: =ROUND(CP36,2) -> 202055.64 | P36: =ROUND(CQ36*I36,2) -> 195173.96 | Q36: =ROUND(CR36*I36,2) -> 142.08 | R36: =ROUND(CS36*I36,2) -> 44.87 | S36: =ROUND(CT36*I36,2) -> 6739.6 | T36: =ROUND(CU36*I36,2) -> 0 | U36: =CV36*I36 -> 120.99416 | V36: =CW36*I36 -> 0.5935125 | W36: =ROUND(CX36*I36,2) -> 0 | X36: =ROUND(CY36,2) -> 7530.76 | Y36: =ROUND(CZ36,2) -> 4342.06 | AA36: 39099382 | AB36: =ROUND((AC36+AD36+AF36),2) -> 11078.65 | AC36: =ROUND((ES36),2) -> 10701.33 | AD36: =ROUND(((((ET36*1.25))-((EU36*1.25)))+AE36),2) -> 7.79 | AE36: =ROUND(((EU36*1.25)),2) -> 2.46 | AF36: =ROUND(((EV36*1.15)),2) -> 369.53 | AG36: =ROUND((AP36),2) -> 0 | AH36: =((EW36*1.15)) -> 43.3205 | AI36: =((EX36*1.25)) -> 0.2125 | AJ36: =ROUND((AS36),2) -> 0 | AK36: 11028.89 | AL36: 10701.33 | AM36: 6.23 | AN36: 1.97 | AO36: 321.33 | AP36: 0 | AQ36: 37.67 | AR36: 0.17 | AS36: 0 | AT36: 111 | AU36: 64 | AV36: 1 | AW36: 1 | AZ36: 6.53 | BA36: 6.53 | BB36: 6.53 | BC36: 6.53 | BH36: 0 | BI36: 1 | BJ36: ФЕР-2001, 11-01-011-08, приказ Минстроя России №1039/пр от 30.12.2016г. | BM36: 11001 | BN36: 0 | BP36: 0 | BQ36: 2 | BR36: 0 | BS36: 6.53 | BT36: 1 | BU36: 1 | BV36: 1 | BW36: 1 | BX36: 1 | BZ36: 123 | CA36: 75 | CF36: 0 | CG36: 0 | CM36: 0 | CN36: Поправка: МДС 81-35.2004, п.4.7 Наименование: Работы, выполняемые при реконструкции зданий и сооружений работы, аналогичные технологическим процессам в новом строительстве (в том числе возведение новых конструктивных элементов) стоимость которых определена по соответствующим сборникам ФЕР, кроме сборника № 46 «Работы при реконструкции зданий и сооружений» | CO36: 0 | CP36: =(P36+Q36+S36) -> 202055.64 | CQ36: =AC36*BC36 -> 69879.685 | CR36: =AD36*BB36 -> 50.8687 | CS36: =AE36*BS36 -> 16.0638 | CT36: =AF36*BA36 -> 2413.0309 | CU36: =AG36 -> 0 | CV36: =AH36 -> 43.3205 | CW36: =AI36 -> 0.2125 | CX36: =AJ36 -> 0 | CY36: =(((S36+R36)*AT36)/100) -> 7530.7617 | CZ36: =(((S36+R36)*AU36)/100) -> 4342.0608 | DE36: )*1,25 | DF36: )*1,25 | DG36: )*1,15 | DI36: )*1,15 | DJ36: )*1,25 | DN36: 0 | DO36: 0 | DP36: 1 | DQ36: 1 | DU36: 1005 | DV36: 100 м2 | DW36: 100 м2 | DX36: 100 | EE36: 39174504 | EF36: 2 | EG36: Общестроительные работы | EH36: 0 | EJ36: 1 | EK36: 11001 | EL36: Полы | EM36: ФЕР-11 | EO36: Поправка: МДС 81-35.2004, п.4.7 | EQ36: 0 | ER36: 11028.89 | ES36: 10701.33 | ET36: 6.23 | EU36: 1.97 | EV36: 321.33 | EW36: 37.67 | EX36: 0.17 | EY36: 0 | FQ36: 0 | FR36: =ROUND(IF(AND(BH36=3,BI36=3),P36,0),2) -> 0 | FS36: 0 | FT36: *0,9 | FU36: *0,85 | FX36: 110.7 | FY36: 63.75 | GD36: 0 | GF36: 1715562049 | GG36: 1 | GH36: 1 | GI36: 4 | GJ36: 0 | GK36: =ROUND(R36*(R12)/100,2) -> 0 | GL36: =ROUND(IF(AND(BH36=3,BI36=3,FS36<>0),P36,0),2) -> 0 | GM36: =ROUND(O36+X36+Y36+GK36,2)+GX36 -> 213928.46 | GN36: =IF(OR(BI36=0,BI36=1),ROUND(O36+X36+Y36+GK36,2),0) -> 213928.46 | GO36: =IF(BI36=2,ROUND(O36+X36+Y36+GK36,2),0) -> 0 | GP36: =IF(BI36=4,ROUND(O36+X36+Y36+GK36,2)+GX36,0) -> 0 | GR36: 0 | GS36: 0 | GT36: 0 | GV36: =ROUND(GT36,2) -> 0 | GW36: 1 | GX36: =ROUND(GV36*GW36*I36,2) -> 0 | HA36: 0 | HB36: 0 | IK36: 0
A37: 17 | B37: 1 | C37: =ROW(SmtRes!A30) -> 30 | D37: =ROW(EtalonRes!A34) -> 34 | E37: 7 | F37: 11-01-011-10 | G37: Устройство стяжек на каждый последующий слой толщиной 1 мм добавлять к расценке 11-01-011-08 | H37: 100 м2 | I37: 2.793 | J37: 0 | O37: =ROUND(CP37,2) -> 189131.06 | P37: =ROUND(CQ37*I37,2) -> 186828.48 | Q37: =ROUND(CR37*I37,2) -> 138.06 | R37: =ROUND(CS37*I37,2) -> 39.94 | S37: =ROUND(CT37*I37,2) -> 2164.52 | T37: =ROUND(CU37*I37,2) -> 0 | U37: =CV37*I37 -> 38.864595 | V37: =CW37*I37 -> 0.5236875 | W37: =ROUND(CX37*I37,2) -> 0 | X37: =ROUND(CY37,2) -> 2446.95 | Y37: =ROUND(CZ37,2) -> 1410.85 | AA37: 39099382 | AB37: =ROUND((AC37+AD37+AF37),2) -> 10370 | AC37: =ROUND(((ES37*5)),2) -> 10243.75 | AD37: =ROUND(((((ET37*1.25*5))-((EU37*1.25*5)))+AE37),2) -> 7.57 | AE37: =ROUND(((EU37*1.25*5)),2) -> 2.19 | AF37: =ROUND(((EV37*1.15*5)),2) -> 118.68 | AG37: =ROUND((AP37),2) -> 0 | AH37: =((EW37*1.15*5)) -> 13.915 | AI37: =((EX37*1.25*5)) -> 0.1875 | AJ37: =ROUND((AS37),2) -> 0 | AK37: 2070.6 | AL37: 2048.75 | AM37: 1.21 | AN37: 0.35 | AO37: 20.64 | AP37: 0 | AQ37: 2.42 | AR37: 0.03 | AS37: 0 | AT37: 111 | AU37: 64 | AV37: 1 | AW37: 1 | AZ37: 6.53 | BA37: 6.53 | BB37: 6.53 | BC37: 6.53 | BH37: 0 | BI37: 1 | BJ37: ФЕР-2001, 11-01-011-10, приказ Минстроя России №1039/пр от 30.12.2016г. | BM37: 11001 | BN37: 0 | BP37: 0 | BQ37: 2 | BR37: 0 | BS37: 6.53 | BT37: 1 | BU37: 1 | BV37: 1 | BW37: 1 | BX37: 1 | BZ37: 123 | CA37: 75 | CF37: 0 | CG37: 0 | CM37: 0 | CN37: Поправка: МДС 81-35.2004, п.4.7 Наименование: Работы, выполняемые при реконструкции зданий и сооружений работы, аналогичные технологическим процессам в новом строительстве (в том числе возведение новых конструктивных элементов) стоимость которых определена по соответствующим сборникам ФЕР, кроме сборника № 46 «Работы при реконструкции зданий и сооружений» | CO37: 0 | CP37: =(P37+Q37+S37) -> 189131.06 | CQ37: =AC37*BC37 -> 66891.688 | CR37: =AD37*BB37 -> 49.4321 | CS37: =AE37*BS37 -> 14.3007 | CT37: =AF37*BA37 -> 774.9804 | CU37: =AG37 -> 0 | CV37: =AH37 -> 13.915 | CW37: =AI37 -> 0.1875 | CX37: =AJ37 -> 0 | CY37: =(((S37+R37)*AT37)/100) -> 2446.9506 | CZ37: =(((S37+R37)*AU37)/100) -> 1410.8544 | DD37: *5 | DE37: )*1,25*5 | DF37: )*1,25*5 | DG37: )*1,15*5 | DI37: )*1,15*5 | DJ37: )*1,25*5 | DN37: 0 | DO37: 0 | DP37: 1 | DQ37: 1 | DU37: 1005 | DV37: 100 м2 | DW37: 100 м2 | DX37: 100 | EE37: 39174504 | EF37: 2 | EG37: Общестроительные работы | EH37: 0 | EJ37: 1 | EK37: 11001 | EL37: Полы | EM37: ФЕР-11 | EO37: Поправка: МДС 81-35.2004, п.4.7 | EQ37: 0 | ER37: 2070.6 | ES37: 2048.75 | ET37: 1.21 | EU37: 0.35 | EV37: 20.64 | EW37: 2.42 | EX37: 0.03 | EY37: 0 | FQ37: 0 | FR37: =ROUND(IF(AND(BH37=3,BI37=3),P37,0),2) -> 0 | FS37: 0 | FT37: *0,9 | FU37: *0,85 | FX37: 110.7 | FY37: 63.75 | GD37: 0 | GF37: 337317905 | GG37: 1 | GH37: 1 | GI37: 4 | GJ37: 0 | GK37: =ROUND(R37*(R12)/100,2) -> 0 | GL37: =ROUND(IF(AND(BH37=3,BI37=3,FS37<>0),P37,0),2) -> 0 | GM37: =ROUND(O37+X37+Y37+GK37,2)+GX37 -> 192988.86 | GN37: =IF(OR(BI37=0,BI37=1),ROUND(O37+X37+Y37+GK37,2),0) -> 192988.86 | GO37: =IF(BI37=2,ROUND(O37+X37+Y37+GK37,2),0) -> 0 | GP37: =IF(BI37=4,ROUND(O37+X37+Y37+GK37,2)+GX37,0) -> 0 | GR37: 0 | GS37: 3 | GT37: 0 | GV37: =ROUND(GT37,2) -> 0 | GW37: 1 | GX37: =ROUND(GV37*GW37*I37,2) -> 0 | HA37: 0 | HB37: 0 | IK37: 0
A38: 17 | B38: 1 | C38: =ROW(SmtRes!A38) -> 38 | D38: =ROW(EtalonRes!A42) -> 42 | E38: 8 | F38: 15-07-003-02 | G38: Грунтование водно-дисперсионной грунтовкой поверхностей пористых (камень, кирпич, бетон и т д) | H38: 100 м2 | I38: 2.793 | J38: 0 | O38: =ROUND(CP38,2) -> 4893.34 | P38: =ROUND(CQ38*I38,2) -> 3871.81 | Q38: =ROUND(CR38*I38,2) -> 403.8 | R38: =ROUND(CS38*I38,2) -> 10.58 | S38: =ROUND(CT38*I38,2) -> 617.73 | T38: =ROUND(CU38*I38,2) -> 0 | U38: =CV38*I38 -> 10.30617 | V38: =CW38*I38 -> 0.13965 | W38: =ROUND(CX38*I38,2) -> 0 | X38: =ROUND(CY38,2) -> 596.89 | Y38: =ROUND(CZ38,2) -> 295.31 | AA38: 39099382 | AB38: =ROUND((AC38+AD38+AF38),2) -> 268.3 | AC38: =ROUND((ES38),2) -> 212.29 | AD38: =ROUND((((ET38)-(EU38))+AE38),2) -> 22.14 | AE38: =ROUND((EU38),2) -> 0.58 | AF38: =ROUND((EV38),2) -> 33.87 | AG38: =ROUND((AP38),2) -> 0 | AH38: =(EW38) -> 3.69 | AI38: =(EX38) -> 0.05 | AJ38: =ROUND((AS38),2) -> 0 | AK38: 268.3 | AL38: 212.29 | AM38: 22.14 | AN38: 0.58 | AO38: 33.87 | AP38: 0 | AQ38: 3.69 | AR38: 0.05 | AS38: 0 | AT38: 95 | AU38: 47 | AV38: 1 | AW38: 1 | AZ38: 6.53 | BA38: 6.53 | BB38: 6.53 | BC38: 6.53 | BH38: 0 | BI38: 1 | BJ38: ФЕР-2001, 15-07-003-02, приказ Минстроя России №1039/пр от 30.12.2016г. | BM38: 15001 | BN38: 0 | BP38: 0 | BQ38: 2 | BR38: 0 | BS38: 6.53 | BT38: 1 | BU38: 1 | BV38: 1 | BW38: 1 | BX38: 1 | BZ38: 105 | CA38: 55 | CF38: 0 | CG38: 0 | CM38: 0 | CO38: 0 | CP38: =(P38+Q38+S38) -> 4893.34 | CQ38: =AC38*BC38 -> 1386.2537 | CR38: =AD38*BB38 -> 144.5742 | CS38: =AE38*BS38 -> 3.7874 | CT38: =AF38*BA38 -> 221.1711 | CU38: =AG38 -> 0 | CV38: =AH38 -> 3.69 | CW38: =AI38 -> 0.05 | CX38: =AJ38 -> 0 | CY38: =(((S38+R38)*AT38)/100) -> 596.8945 | CZ38: =(((S38+R38)*AU38)/100) -> 295.3057 | DN38: 0 | DO38: 0 | DP38: 1 | DQ38: 1 | DU38: 1005 | DV38: 100 м2 | DW38: 100 м2 | DX38: 100 | EE38: 39174529 | EF38: 2 | EG38: Общестроительные работы | EH38: 0 | EJ38: 1 | EK38: 15001 | EL38: Отделочные работы | EM38: ФЕР-15 | EQ38: 0 | ER38: 268.3 | ES38: 212.29 | ET38: 22.14 | EU38: 0.58 | EV38: 33.87 | EW38: 3.69 | EX38: 0.05 | EY38: 0 | FQ38: 0 | FR38: =ROUND(IF(AND(BH38=3,BI38=3),P38,0),2) -> 0 | FS38: 0 | FT38: *0,9 | FU38: *0,85 | FX38: 94.5 | FY38: 46.75 | GD38: 0 | GF38: 686490124 | GG38: 1 | GH38: 1 | GI38: 4 | GJ38: 0 | GK38: =ROUND(R38*(R12)/100,2) -> 0 | GL38: =ROUND(IF(AND(BH38=3,BI38=3,FS38<>0),P38,0),2) -> 0 | GM38: =ROUND(O38+X38+Y38+GK38,2)+GX38 -> 5785.54 | GN38: =IF(OR(BI38=0,BI38=1),ROUND(O38+X38+Y38+GK38,2),0) -> 5785.54 | GO38: =IF(BI38=2,ROUND(O38+X38+Y38+GK38,2),0) -> 0 | GP38: =IF(BI38=4,ROUND(O38+X38+Y38+GK38,2)+GX38,0) -> 0 | GR38: 0 | GS38: 0 | GT38: 0 | GV38: =ROUND(GT38,2) -> 0 | GW38: 1 | GX38: =ROUND(GV38*GW38*I38,2) -> 0 | HA38: 0 | HB38: 0 | IK38: 0
A39: 17 | B39: 1 | C39: =ROW(SmtRes!A47) -> 47 | D39: =ROW(EtalonRes!A49) -> 49 | E39: 9 | F39: 11-01-036-01 | G39: Устройство покрытий из линолеума на клее | H39: 100 м2 | I39: 2.793 | J39: 0 | O39: =ROUND(CP39,2) -> 7241.52 | P39: =ROUND(CQ39*I39,2) -> 16.6 | Q39: =ROUND(CR39*I39,2) -> 798.84 | R39: =ROUND(CS39*I39,2) -> 192.05 | S39: =ROUND(CT39*I39,2) -> 6426.08 | T39: =ROUND(CU39*I39,2) -> 0 | U39: =CV39*I39 -> 118.4232 | V39: =CW39*I39 -> 2.37405 | W39: =ROUND(CX39*I39,2) -> 0 | X39: =ROUND(CY39,2) -> 7346.12 | Y39: =ROUND(CZ39,2) -> 4235.6 | AA39: 39099382 | AB39: =ROUND((AC39+AD39+AF39),2) -> 397.05 | AC39: =ROUND((ES39),2) -> 0.91 | AD39: =ROUND((((ET39)-(EU39))+AE39),2) -> 43.8 | AE39: =ROUND((EU39),2) -> 10.53 | AF39: =ROUND((EV39),2) -> 352.34 | AG39: =ROUND((AP39),2) -> 0 | AH39: =(EW39) -> 42.4 | AI39: =(EX39) -> 0.85 | AJ39: =ROUND((AS39),2) -> 0 | AK39: 397.05 | AL39: 0.91 | AM39: 43.8 | AN39: 10.53 | AO39: 352.34 | AP39: 0 | AQ39: 42.4 | AR39: 0.85 | AS39: 0 | AT39: 111 | AU39: 64 | AV39: 1 | AW39: 1 | AZ39: 6.53 | BA39: 6.53 | BB39: 6.53 | BC39: 6.53 | BH39: 0 | BI39: 1 | BJ39: ФЕР-2001, 11-01-036-01, приказ Минстроя России №1039/пр от 30.12.2016г. | BM39: 11001 | BN39: 0 | BP39: 0 | BQ39: 2 | BR39: 0 | BS39: 6.53 | BT39: 1 | BU39: 1 | BV39: 1 | BW39: 1 | BX39: 1 | BZ39: 123 | CA39: 75 | CF39: 0 | CG39: 0 | CM39: 0 | CO39: 0 | CP39: =(P39+Q39+S39) -> 7241.52 | CQ39: =AC39*BC39 -> 5.9423 | CR39: =AD39*BB39 -> 286.014 | CS39: =AE39*BS39 -> 68.7609 | CT39: =AF39*BA39 -> 2300.7802 | CU39: =AG39 -> 0 | CV39: =AH39 -> 42.4 | CW39: =AI39 -> 0.85 | CX39: =AJ39 -> 0 | CY39: =(((S39+R39)*AT39)/100) -> 7346.1243 | CZ39: =(((S39+R39)*AU39)/100) -> 4235.6032 | DN39: 0 | DO39: 0 | DP39: 1 | DQ39: 1 | DU39: 1005 | DV39: 100 м2 | DW39: 100 м2 | DX39: 100 | EE39: 39174504 | EF39: 2 | EG39: Общестроительные работы | EH39: 0 | EJ39: 1 | EK39: 11001 | EL39: Полы | EM39: ФЕР-11 | EQ39: 0 | ER39: 397.05 | ES39: 0.91 | ET39: 43.8 | EU39: 10.53 | EV39: 352.34 | EW39: 42.4 | EX39: 0.85 | EY39: 0 | FQ39: 0 | FR39: =ROUND(IF(AND(BH39=3,BI39=3),P39,0),2) -> 0 | FS39: 0 | FT39: *0,9 | FU39: *0,85 | FX39: 110.7 | FY39: 63.75 | GD39: 0 | GF39: 35623097 | GG39: 1 | GH39: 1 | GI39: 4 | GJ39: 0 | GK39: =ROUND(R39*(R12)/100,2) -> 0 | GL39: =ROUND(IF(AND(BH39=3,BI39=3,FS39<>0),P39,0),2) -> 0 | GM39: =ROUND(O39+X39+Y39+GK39,2)+GX39 -> 18823.24 | GN39: =IF(OR(BI39=0,BI39=1),ROUND(O39+X39+Y39+GK39,2),0) -> 18823.24 | GO39: =IF(BI39=2,ROUND(O39+X39+Y39+GK39,2),0) -> 0 | GP39: =IF(BI39=4,ROUND(O39+X39+Y39+GK39,2)+GX39,0) -> 0 | GR39: 0 | GS39: 0 | GT39: 0 | GV39: =ROUND(GT39,2) -> 0 | GW39: 1 | GX39: =ROUND(GV39*GW39*I39,2) -> 0 | HA39: 0 | HB39: 0 | IK39: 0
A40: 18 | B40: 1 | C40: 43 | E40: 9,1 | F40: 01.6.03.04 | G40: Линолеум на теплозвукоизолирующей подоснове | H40: м2 | I40: =I39*J40 -> 284.886 | J40: 102 | O40: =ROUND(CP40,2) -> 0 | P40: =ROUND(CQ40*I40,2) -> 0 | Q40: =ROUND(CR40*I40,2) -> 0 | R40: =ROUND(CS40*I40,2) -> 0 | S40: =ROUND(CT40*I40,2) -> 0 | T40: =ROUND(CU40*I40,2) -> 0 | U40: =CV40*I40 -> 0 | V40: =CW40*I40 -> 0 | W40: =ROUND(CX40*I40,2) -> 0 | X40: =ROUND(CY40,2) -> 0 | Y40: =ROUND(CZ40,2) -> 0 | AA40: 39099382 | AB40: =ROUND((AC40+AD40+AF40),2) -> 0 | AC40: =ROUND((ES40),2) -> 0 | AD40: =ROUND((((ET40)-(EU40))+AE40),2) -> 0 | AE40: =ROUND((EU40),2) -> 0 | AF40: =ROUND((EV40),2) -> 0 | AG40: =ROUND((AP40),2) -> 0 | AH40: =(EW40) -> 0 | AI40: =(EX40) -> 0 | AJ40: =ROUND((AS40),2) -> 0 | AK40: 0 | AL40: 0 | AM40: 0 | AN40: 0 | AO40: 0 | AP40: 0 | AQ40: 0 | AR40: 0 | AS40: 0 | AT40: 111 | AU40: 64 | AV40: 1 | AW40: 1 | AZ40: 6.53 | BA40: 1 | BB40: 1 | BC40: 6.53 | BH40: 3 | BI40: 1 | BM40: 11001 | BN40: 0 | BP40: 0 | BQ40: 2 | BR40: 0 | BS40: 1 | BT40: 1 | BU40: 1 | BV40: 1 | BW40: 1 | BX40: 1 | BZ40: 123 | CA40: 75 | CF40: 0 | CG40: 0 | CM40: 0 | CO40: 0 | CP40: =(P40+Q40+S40) -> 0 | CQ40: =AC40*BC40 -> 0 | CR40: =AD40*BB40 -> 0 | CS40: =AE40*BS40 -> 0 | CT40: =AF40*BA40 -> 0 | CU40: =AG40 -> 0 | CV40: =AH40 -> 0 | CW40: =AI40 -> 0 | CX40: =AJ40 -> 0 | CY40: =(((S40+R40)*AT40)/100) -> 0 | CZ40: =(((S40+R40)*AU40)/100) -> 0 | DN40: 0 | DO40: 0 | DP40: 1 | DQ40: 1 | DU40: 1005 | DV40: м2 | DW40: м2 | DX40: 1 | EE40: 39174504 | EF40: 2 | EG40: Общестроительные работы | EH40: 0 | EJ40: 1 | EK40: 11001 | EL40: Полы | EM40: ФЕР-11 | EQ40: 0 | ER40: 0 | ES40: 0 | ET40: 0 | EU40: 0 | EV40: 0 | EW40: 0 | EX40: 0 | FQ40: 0 | FR40: =ROUND(IF(AND(BH40=3,BI40=3),P40,0),2) -> 0 | FS40: 0 | FT40: *0,9 | FU40: *0,85 | FX40: 110.7 | FY40: 63.75 | GD40: 0 | GF40: -919469713 | GG40: 1 | GH40: 1 | GI40: 4 | GJ40: 0 | GK40: =ROUND(R40*(R12)/100,2) -> 0 | GL40: =ROUND(IF(AND(BH40=3,BI40=3,FS40<>0),P40,0),2) -> 0 | GM40: =ROUND(O40+X40+Y40+GK40,2)+GX40 -> 0 | GN40: =IF(OR(BI40=0,BI40=1),ROUND(O40+X40+Y40+GK40,2),0) -> 0 | GO40: =IF(BI40=2,ROUND(O40+X40+Y40+GK40,2),0) -> 0 | GP40: =IF(BI40=4,ROUND(O40+X40+Y40+GK40,2)+GX40,0) -> 0 | GR40: 0 | GS40: 3 | GT40: 0 | GV40: =ROUND(GT40,2) -> 0 | GW40: 1 | GX40: =ROUND(GV40*GW40*I40,2) -> 0 | HA40: 0 | HB40: 0 | IK40: 0
A41: 18 | B41: 1 | C41: 44 | E41: 9,2 | F41: 01.6.03.04-0101 | G41: Линолеум коммерческий гетерогенный "ТАРКЕТТ TRAVERTINE" (толщина 2 мм, толщина защитного слоя 0,5 мм, класс 33/41, пож. безопасность Г1, В2, РП1, Д2, Т2) | H41: м2 | I41: =I39*J41 -> 284.886 | J41: 102 | O41: =ROUND(CP41,2) -> 144173.68 | P41: =ROUND(CQ41*I41,2) -> 144173.68 | Q41: =ROUND(CR41*I41,2) -> 0 | R41: =ROUND(CS41*I41,2) -> 0 | S41: =ROUND(CT41*I41,2) -> 0 | T41: =ROUND(CU41*I41,2) -> 0 | U41: =CV41*I41 -> 0 | V41: =CW41*I41 -> 0 | W41: =ROUND(CX41*I41,2) -> 0 | X41: =ROUND(CY41,2) -> 0 | Y41: =ROUND(CZ41,2) -> 0 | AA41: 39099382 | AB41: =ROUND((AC41+AD41+AF41),2) -> 77.5 | AC41: =ROUND((ES41),2) -> 77.5 | AD41: =ROUND((((ET41)-(EU41))+AE41),2) -> 0 | AE41: =ROUND((EU41),2) -> 0 | AF41: =ROUND((EV41),2) -> 0 | AG41: =ROUND((AP41),2) -> 0 | AH41: =(EW41) -> 0 | AI41: =(EX41) -> 0 | AJ41: =ROUND((AS41),2) -> 0 | AK41: 77.5 | AL41: 77.5 | AM41: 0 | AN41: 0 | AO41: 0 | AP41: 0 | AQ41: 0 | AR41: 0 | AS41: 0 | AT41: 111 | AU41: 64 | AV41: 1 | AW41: 1 | AZ41: 6.53 | BA41: 1 | BB41: 1 | BC41: 6.53 | BH41: 3 | BI41: 1 | BJ41: ФССЦ-2001, 01.6.03.04-0101, приказ Минстроя России №1039/пр от 30.12.2016г. | BM41: 11001 | BN41: 0 | BP41: 0 | BQ41: 2 | BR41: 0 | BS41: 1 | BT41: 1 | BU41: 1 | BV41: 1 | BW41: 1 | BX41: 1 | BZ41: 123 | CA41: 75 | CF41: 0 | CG41: 0 | CM41: 0 | CO41: 0 | CP41: =(P41+Q41+S41) -> 144173.68 | CQ41: =AC41*BC41 -> 506.075 | CR41: =AD41*BB41 -> 0 | CS41: =AE41*BS41 -> 0 | CT41: =AF41*BA41 -> 0 | CU41: =AG41 -> 0 | CV41: =AH41 -> 0 | CW41: =AI41 -> 0 | CX41: =AJ41 -> 0 | CY41: =(((S41+R41)*AT41)/100) -> 0 | CZ41: =(((S41+R41)*AU41)/100) -> 0 | DN41: 0 | DO41: 0 | DP41: 1 | DQ41: 1 | DU41: 1005 | DV41: м2 | DW41: м2 | DX41: 1 | EE41: 39174504 | EF41: 2 | EG41: Общестроительные работы | EH41: 0 | EJ41: 1 | EK41: 11001 | EL41: Полы | EM41: ФЕР-11 | EQ41: 0 | ER41: 77.5 | ES41: 77.5 | ET41: 0 | EU41: 0 | EV41: 0 | EW41: 0 | EX41: 0 | FQ41: 0 | FR41: =ROUND(IF(AND(BH41=3,BI41=3),P41,0),2) -> 0 | FS41: 0 | FT41: *0,9 | FU41: *0,85 | FX41: 110.7 | FY41: 63.75 | GD41: 0 | GF41: 1392042579 | GG41: 1 | GH41: 1 | GI41: 4 | GJ41: 0 | GK41: =ROUND(R41*(R12)/100,2) -> 0 | GL41: =ROUND(IF(AND(BH41=3,BI41=3,FS41<>0),P41,0),2) -> 0 | GM41: =ROUND(O41+X41+Y41+GK41,2)+GX41 -> 144173.68 | GN41: =IF(OR(BI41=0,BI41=1),ROUND(O41+X41+Y41+GK41,2),0) -> 144173.68 | GO41: =IF(BI41=2,ROUND(O41+X41+Y41+GK41,2),0) -> 0 | GP41: =IF(BI41=4,ROUND(O41+X41+Y41+GK41,2)+GX41,0) -> 0 | GR41: 0 | GS41: 0 | GT41: 0 | GV41: =ROUND(GT41,2) -> 0 | GW41: 1 | GX41: =ROUND(GV41*GW41*I41,2) -> 0 | HA41: 0 | HB41: 0 | IK41: 0
A42: 18 | B42: 1 | C42: 47 | E42: 9,3 | F42: 14.1.06.05 | G42: Состав клеящий | H42: кг | I42: =I39*J42 -> 139.65 | J42: 50 | O42: =ROUND(CP42,2) -> 0 | P42: =ROUND(CQ42*I42,2) -> 0 | Q42: =ROUND(CR42*I42,2) -> 0 | R42: =ROUND(CS42*I42,2) -> 0 | S42: =ROUND(CT42*I42,2) -> 0 | T42: =ROUND(CU42*I42,2) -> 0 | U42: =CV42*I42 -> 0 | V42: =CW42*I42 -> 0 | W42: =ROUND(CX42*I42,2) -> 0 | X42: =ROUND(CY42,2) -> 0 | Y42: =ROUND(CZ42,2) -> 0 | AA42: 39099382 | AB42: =ROUND((AC42+AD42+AF42),2) -> 0 | AC42: =ROUND((ES42),2) -> 0 | AD42: =ROUND((((ET42)-(EU42))+AE42),2) -> 0 | AE42: =ROUND((EU42),2) -> 0 | AF42: =ROUND((EV42),2) -> 0 | AG42: =ROUND((AP42),2) -> 0 | AH42: =(EW42) -> 0 | AI42: =(EX42) -> 0 | AJ42: =ROUND((AS42),2) -> 0 | AK42: 0 | AL42: 0 | AM42: 0 | AN42: 0 | AO42: 0 | AP42: 0 | AQ42: 0 | AR42: 0 | AS42: 0 | AT42: 111 | AU42: 64 | AV42: 1 | AW42: 1 | AZ42: 6.53 | BA42: 1 | BB42: 1 | BC42: 6.53 | BH42: 3 | BI42: 1 | BM42: 11001 | BN42: 0 | BP42: 0 | BQ42: 2 | BR42: 0 | BS42: 1 | BT42: 1 | BU42: 1 | BV42: 1 | BW42: 1 | BX42: 1 | BZ42: 123 | CA42: 75 | CF42: 0 | CG42: 0 | CM42: 0 | CO42: 0 | CP42: =(P42+Q42+S42) -> 0 | CQ42: =AC42*BC42 -> 0 | CR42: =AD42*BB42 -> 0 | CS42: =AE42*BS42 -> 0 | CT42: =AF42*BA42 -> 0 | CU42: =AG42 -> 0 | CV42: =AH42 -> 0 | CW42: =AI42 -> 0 | CX42: =AJ42 -> 0 | CY42: =(((S42+R42)*AT42)/100) -> 0 | CZ42: =(((S42+R42)*AU42)/100) -> 0 | DN42: 0 | DO42: 0 | DP42: 1 | DQ42: 1 | DU42: 1009 | DV42: кг | DW42: кг | DX42: 1 | EE42: 39174504 | EF42: 2 | EG42: Общестроительные работы | EH42: 0 | EJ42: 1 | EK42: 11001 | EL42: Полы | EM42: ФЕР-11 | EQ42: 0 | ER42: 0 | ES42: 0 | ET42: 0 | EU42: 0 | EV42: 0 | EW42: 0 | EX42: 0 | FQ42: 0 | FR42: =ROUND(IF(AND(BH42=3,BI42=3),P42,0),2) -> 0 | FS42: 0 | FT42: *0,9 | FU42: *0,85 | FX42: 110.7 | FY42: 63.75 | GD42: 0 | GF42: 290394019 | GG42: 1 | GH42: 1 | GI42: 4 | GJ42: 0 | GK42: =ROUND(R42*(R12)/100,2) -> 0 | GL42: =ROUND(IF(AND(BH42=3,BI42=3,FS42<>0),P42,0),2) -> 0 | GM42: =ROUND(O42+X42+Y42+GK42,2)+GX42 -> 0 | GN42: =IF(OR(BI42=0,BI42=1),ROUND(O42+X42+Y42+GK42,2),0) -> 0 | GO42: =IF(BI42=2,ROUND(O42+X42+Y42+GK42,2),0) -> 0 | GP42: =IF(BI42=4,ROUND(O42+X42+Y42+GK42,2)+GX42,0) -> 0 | GR42: 0 | GS42: 3 | GT42: 0 | GV42: =ROUND(GT42,2) -> 0 | GW42: 1 | GX42: =ROUND(GV42*GW42*I42,2) -> 0 | HA42: 0 | HB42: 0 | IK42: 0
A43: 18 | B43: 1 | C43: 46 | E43: 9,4 | F43: 14.1.02.03-0002 | G43: Клей ПВА | H43: кг | I43: =I39*J43 -> 139.65 | J43: 50 | O43: =ROUND(CP43,2) -> 14499.44 | P43: =ROUND(CQ43*I43,2) -> 14499.44 | Q43: =ROUND(CR43*I43,2) -> 0 | R43: =ROUND(CS43*I43,2) -> 0 | S43: =ROUND(CT43*I43,2) -> 0 | T43: =ROUND(CU43*I43,2) -> 0 | U43: =CV43*I43 -> 0 | V43: =CW43*I43 -> 0 | W43: =ROUND(CX43*I43,2) -> 0 | X43: =ROUND(CY43,2) -> 0 | Y43: =ROUND(CZ43,2) -> 0 | AA43: 39099382 | AB43: =ROUND((AC43+AD43+AF43),2) -> 15.9 | AC43: =ROUND((ES43),2) -> 15.9 | AD43: =ROUND((((ET43)-(EU43))+AE43),2) -> 0 | AE43: =ROUND((EU43),2) -> 0 | AF43: =ROUND((EV43),2) -> 0 | AG43: =ROUND((AP43),2) -> 0 | AH43: =(EW43) -> 0 | AI43: =(EX43) -> 0 | AJ43: =ROUND((AS43),2) -> 0 | AK43: 15.9 | AL43: 15.9 | AM43: 0 | AN43: 0 | AO43: 0 | AP43: 0 | AQ43: 0 | AR43: 0 | AS43: 0 | AT43: 111 | AU43: 64 | AV43: 1 | AW43: 1 | AZ43: 6.53 | BA43: 1 | BB43: 1 | BC43: 6.53 | BH43: 3 | BI43: 1 | BJ43: ФССЦ-2001, 14.1.02.03-0002, приказ Минстроя России №1039/пр от 30.12.2016г. | BM43: 11001 | BN43: 0 | BP43: 0 | BQ43: 2 | BR43: 0 | BS43: 1 | BT43: 1 | BU43: 1 | BV43: 1 | BW43: 1 | BX43: 1 | BZ43: 123 | CA43: 75 | CF43: 0 | CG43: 0 | CM43: 0 | CO43: 0 | CP43: =(P43+Q43+S43) -> 14499.44 | CQ43: =AC43*BC43 -> 103.827 | CR43: =AD43*BB43 -> 0 | CS43: =AE43*BS43 -> 0 | CT43: =AF43*BA43 -> 0 | CU43: =AG43 -> 0 | CV43: =AH43 -> 0 | CW43: =AI43 -> 0 | CX43: =AJ43 -> 0 | CY43: =(((S43+R43)*AT43)/100) -> 0 | CZ43: =(((S43+R43)*AU43)/100) -> 0 | DN43: 0 | DO43: 0 | DP43: 1 | DQ43: 1 | DU43: 1009 | DV43: кг | DW43: кг | DX43: 1 | EE43: 39174504 | EF43: 2 | EG43: Общестроительные работы | EH43: 0 | EJ43: 1 | EK43: 11001 | EL43: Полы | EM43: ФЕР-11 | EQ43: 0 | ER43: 15.9 | ES43: 15.9 | ET43: 0 | EU43: 0 | EV43: 0 | EW43: 0 | EX43: 0 | FQ43: 0 | FR43: =ROUND(IF(AND(BH43=3,BI43=3),P43,0),2) -> 0 | FS43: 0 | FT43: *0,9 | FU43: *0,85 | FX43: 110.7 | FY43: 63.75 | GD43: 0 | GF43: 1104462431 | GG43: 1 | GH43: 1 | GI43: 4 | GJ43: 0 | GK43: =ROUND(R43*(R12)/100,2) -> 0 | GL43: =ROUND(IF(AND(BH43=3,BI43=3,FS43<>0),P43,0),2) -> 0 | GM43: =ROUND(O43+X43+Y43+GK43,2)+GX43 -> 14499.44 | GN43: =IF(OR(BI43=0,BI43=1),ROUND(O43+X43+Y43+GK43,2),0) -> 14499.44 | GO43: =IF(BI43=2,ROUND(O43+X43+Y43+GK43,2),0) -> 0 | GP43: =IF(BI43=4,ROUND(O43+X43+Y43+GK43,2)+GX43,0) -> 0 | GR43: 0 | GS43: 0 | GT43: 0 | GV43: =ROUND(GT43,2) -> 0 | GW43: 1 | GX43: =ROUND(GV43*GW43*I43,2) -> 0 | HA43: 0 | HB43: 0 | IK43: 0
