Workbook

Sheet Смета 12 гр. по ФЕР
A1: =Source!B1 -> Smeta.RU (495) 974-1589
B3: "СОГЛАСОВАНО" | H3: "УТВЕРЖДАЮ"
B6: =CONCATENATE("______________________ ", IF(Source!AL12<>"", Source!AL12, "")) -> ______________________ | H6: =CONCATENATE("______________________ ", IF(Source!AH12<>"", Source!AH12, "")) -> ______________________
B7: "_____"________________ 2018 г. | H7: "_____"________________ 2018 г.
B11: СМЕТА
B12: =IF(Source!G20<>"Новая локальная смета", Source!G20, "")
B14: Выполнение работ по ремонту системы электроснабжения в загородном учебно-спортивном комплексе «база отдыха Волга» НИЯУ МИФИ по адресу: Тверская область, Калининский район, п/о Лисицкий бор, деревня Видогощи.
G17: базовая цена | I17: текущая цена
C18: Сметная стоимость | G18: =SUM(O29:O318)/1000 -> 498.76035 | I18: =(Source!F111/1000) -> 2925.5655 | K18: тыс. руб.
C19: Строительные работы | G19: =SUM(W29:W318)/1000 -> 52.40813 | I19: =(Source!F98)/1000 -> 255.57861 | K19: тыс. руб.
C20: Монтажные работы | G20: =SUM(X29:X318)/1000 -> 441.47383 | I20: =(Source!F99)/1000 -> 2154.3923 | K20: тыс. руб.
C21: Оборудование | G21: =SUM(Y29:Y318)/1000 -> 0 | I21: =(Source!F90)/1000 -> 0 | K21: тыс. руб.
C22: Прочие работы | G22: =SUM(Z29:Z318)/1000 -> 4.87839 | I22: =(Source!F100+Source!F101)/1000 -> 69.32186 | K22: тыс. руб.
C23: Нормативная трудоемкость | G23: =I23 -> 2929.941 | I23: =(Source!F103+Source!F104) -> 2929.941 | K23: чел. -ч.
C24: Средства на оплату труда | G24: =SUM(R29:R318)/1000 -> 27.11317 | I24: =(Source!F96+ Source!F95)/1000 -> 154.51486 | K24: тыс. руб.
A26: Составлена в ценах III квартал 2018 года
A27: № п/п | B27: Шифр расценки и коды ресурсов | C27: Наименование работ и затрат | D27: Ед. изм. | E27: Кол-во единиц | F27: Цена на ед. изм. | G27: Попра-вочные коэфф. | H27: Стоимость в ценах 2001г. | I27: Пункт коэфф. пересчета | J27: Коэфф. пересчета | K27: Стоимость в текущих ценах | L27: ЗТР всего чел.-час
A28: 1 | B28: 2 | C28: 3 | D28: 4 | E28: 5 | F28: 6 | G28: 7 | H28: 8 | I28: 9 | J28: 10 | K28: 11 | L28: 12
A29: =Source!E24 -> 1 | B29: =Source!F24 -> м08-01-011-02 | C29: =Source!G24 -> Демонтаж: Разъединитель трехполюсный напряжением 35 кВ, на ток 1000А с одним или двумя заземляющими ножами | D29: =Source!H24 -> КОМПЛ | E29: =Source!I24 -> 8 | F29: =Source!AL24+Source!AM24+Source!AO24 -> 893.52 | I29: =Source!BO24 | S29: =ROUND((Source!FX24/100)*((ROUND(Source!AF24*Source!I24, 2)+ROUND(Source!AE24*Source!I24, 2))), 2) -> 793.82 | T29: =Source!X24 -> 3873.83 | U29: =ROUND((Source!FY24/100)*((ROUND(Source!AF24*Source!I24, 2)+ROUND(Source!AE24*Source!I24, 2))), 2) -> 543.14 | V29: =Source!Y24 -> 2650.52
C30: Зарплата | F30: =Source!AO24 -> 302.07 | G30: =Source!DG24 -> )*0,3 | H30: =ROUND(Source!AF24*Source!I24, 2) -> 724.96 | J30: =IF(Source!BA24<> 0, Source!BA24, 1) -> 4.88 | K30: =Source!S24 -> 3537.8 | R30: =H30 -> 724.96
C31: Эксплуатация машин | F31: =Source!AM24 -> 396.99 | G31: =Source!DE24 -> )*0,3 | H31: =ROUND(Source!AD24*Source!I24, 2) -> 952.8 | J31: =IF(Source!BB24<> 0, Source!BB24, 1) -> 4.88 | K31: =Source!Q24 -> 4649.66
C32: в т.ч. зарплата машинистов | F32: =Source!AN24 -> 46.1 | G32: =Source!DF24 -> )*0,3 | H32: =ROUND(Source!AE24*Source!I24, 2) -> 110.64 | J32: =IF(Source!BS24<> 0, Source!BS24, 1) -> 4.88 | K32: =Source!R24 -> 539.92 | R32: =H32 -> 110.64
C33: НР от ФОТ | D33: % | E33: =Source!BZ24 -> 95 | H33: =SUM(S29:S35) -> 793.82 | J33: =Source!AT24 -> 95 | K33: =SUM(T29:T35) -> 3873.83
C34: СП от ФОТ | D34: % | E34: =Source!CA24 -> 65 | H34: =SUM(U29:U35) -> 543.14 | J34: =Source!AU24 -> 65 | K34: =SUM(V29:V35) -> 2650.52
C35: Затраты труда | D35: чел-ч | E35: =Source!AQ24 -> 31.4 | G35: =Source!DI24 -> )*0,3 | L35: =Source!U24 -> 75.36
G36: =H30+H31+H33+H34 -> 3014.72 | J36: =K30+K31+K33+K34 -> 14711.81 | L36: =Source!U24 -> 75.36 | O36: =G36 -> 3014.72 | P36: =J36 -> 14711.81 | Q36: =L36 -> 75.36 | W36: =IF(Source!BI24<=1,H30+H31+H33+H34, 0) -> 0 | X36: =IF(Source!BI24=2,H30+H31+H33+H34, 0) -> 3014.72 | Y36: =IF(Source!BI24=3,H30+H31+H33+H34, 0) -> 0 | Z36: =IF(Source!BI24=4,H30+H31+H33+H34, 0) -> 0
A37: =Source!E25 -> 2 | B37: =Source!F25 -> м08-02-374-03 прим. | C37: =Source!G25 -> Демонтаж: Устройство ввода в здание в стальной трубе, провод сечением до 16 мм2, количество проводов в линии 4 | D37: =Source!H25 -> ШТ | E37: =Source!I25 -> 18 | F37: =Source!AL25+Source!AM25+Source!AO25 -> 585.11 | I37: =Source!BO25 | S37: =ROUND((Source!FX25/100)*((ROUND(Source!AF25*Source!I25, 2)+ROUND(Source!AE25*Source!I25, 2))), 2) -> 488.38 | T37: =Source!X25 -> 2383.27 | U37: =ROUND((Source!FY25/100)*((ROUND(Source!AF25*Source!I25, 2)+ROUND(Source!AE25*Source!I25, 2))), 2) -> 334.15 | V37: =Source!Y25 -> 1630.66
C38: Зарплата | F38: =Source!AO25 -> 44.84 | G38: =Source!DG25 -> )*0,3 | H38: =ROUND(Source!AF25*Source!I25, 2) -> 242.1 | J38: =IF(Source!BA25<> 0, Source!BA25, 1) -> 4.88 | K38: =Source!S25 -> 1181.45 | R38: =H38 -> 242.1
C39: Эксплуатация машин | F39: =Source!AM25 -> 531.2 | G39: =Source!DE25 -> )*0,3 | H39: =ROUND(Source!AD25*Source!I25, 2) -> 2868.66 | J39: =IF(Source!BB25<> 0, Source!BB25, 1) -> 4.88 | K39: =Source!Q25 -> 13999.06
C40: в т.ч. зарплата машинистов | F40: =Source!AN25 -> 50.35 | G40: =Source!DF25 -> )*0,3 | H40: =ROUND(Source!AE25*Source!I25, 2) -> 271.98 | J40: =IF(Source!BS25<> 0, Source!BS25, 1) -> 4.88 | K40: =Source!R25 -> 1327.26 | R40: =H40 -> 271.98
C41: НР от ФОТ | D41: % | E41: =Source!BZ25 -> 95 | H41: =SUM(S37:S43) -> 488.38 | J41: =Source!AT25 -> 95 | K41: =SUM(T37:T43) -> 2383.27
C42: СП от ФОТ | D42: % | E42: =Source!CA25 -> 65 | H42: =SUM(U37:U43) -> 334.15 | J42: =Source!AU25 -> 65 | K42: =SUM(V37:V43) -> 1630.66
C43: Затраты труда | D43: чел-ч | E43: =Source!AQ25 -> 4.27 | G43: =Source!DI25 -> )*0,3 | L43: =Source!U25 -> 23.058
G44: =H38+H39+H41+H42 -> 3933.29 | J44: =K38+K39+K41+K42 -> 19194.44 | L44: =Source!U25 -> 23.058 | O44: =G44 -> 3933.29 | P44: =J44 -> 19194.44 | Q44: =L44 -> 23.058 | W44: =IF(Source!BI25<=1,H38+H39+H41+H42, 0) -> 0 | X44: =IF(Source!BI25=2,H38+H39+H41+H42, 0) -> 3933.29 | Y44: =IF(Source!BI25=3,H38+H39+H41+H42, 0) -> 0 | Z44: =IF(Source!BI25=4,H38+H39+H41+H42, 0) -> 0
A45: =Source!E26 -> 3 | B45: =Source!F26 -> м08-03-530-05 | C45: =Source!G26 -> Демонтаж:Пускатель магнитный общего назначения отдельно стоящий, устанавливаемый на конструкции на стене или колонне, на ток до 100 А | D45: =Source!H26 -> ШТ | E45: =Source!I26 -> 1 | F45: =Source!AL26+Source!AM26+Source!AO26 -> 104.51 | I45: =Source!BO26 | S45: =ROUND((Source!FX26/100)*((ROUND(Source!AF26*Source!I26, 2)+ROUND(Source!AE26*Source!I26, 2))), 2) -> 10.3 | T45: =Source!X26 -> 50.26 | U45: =ROUND((Source!FY26/100)*((ROUND(Source!AF26*Source!I26, 2)+ROUND(Source!AE26*Source!I26, 2))), 2) -> 7.05 | V45: =Source!Y26 -> 34.39
C46: Зарплата | F46: =Source!AO26 -> 35.86 | G46: =Source!DG26 -> )*0,3 | H46: =ROUND(Source!AF26*Source!I26, 2) -> 10.76 | J46: =IF(Source!BA26<> 0, Source!BA26, 1) -> 4.88 | K46: =Source!S26 -> 52.51 | R46: =H46 -> 10.76
C47: Эксплуатация машин | F47: =Source!AM26 -> 3.05 | G47: =Source!DE26 -> )*0,3 | H47: =ROUND(Source!AD26*Source!I26, 2) -> 0.92 | J47: =IF(Source!BB26<> 0, Source!BB26, 1) -> 4.88 | K47: =Source!Q26 -> 4.49
C48: в т.ч. зарплата машинистов | F48: =Source!AN26 -> 0.26 | G48: =Source!DF26 -> )*0,3 | H48: =ROUND(Source!AE26*Source!I26, 2) -> 0.08 | J48: =IF(Source!BS26<> 0, Source!BS26, 1) -> 4.88 | K48: =Source!R26 -> 0.39 | R48: =H48 -> 0.08
C49: НР от ФОТ | D49: % | E49: =Source!BZ26 -> 95 | H49: =SUM(S45:S51) -> 10.3 | J49: =Source!AT26 -> 95 | K49: =SUM(T45:T51) -> 50.26
C50: СП от ФОТ | D50: % | E50: =Source!CA26 -> 65 | H50: =SUM(U45:U51) -> 7.05 | J50: =Source!AU26 -> 65 | K50: =SUM(V45:V51) -> 34.39
...

Sheet Source
A1: 0 | B1: Smeta.RU (495) 974-1589 | D1: _PS_ | F1: 0 | G1: 0 | H1: 0 | I1: Smeta.RU | K1: 0 | L1: 13277 | M1: 10
A12: 1 | B12: 171 | C12: 0 | D12: =ROW(A113) -> 113 | E12: 0 | F12: Новый объект | G12: на капитальный ремонт кабельных трасс и щита распределительной подстанции ТП2 загородного учебно-спортивного комплекса "база отдыха Волга" НИЯУ МИФИ по адресу: Тверская область,Калининский район,п/о Лисицкий бор,деревня Видогощи | I12: 0 | K12: 0 | O12: 0 | P12: 0 | Q12: 0 | R12: 0 | V12: 0 | BH12: Сметные нормы списания | BI12: Коды ценников | BJ12: 1 | BK12: 1 | BL12: 0 | BM12: 0 | BN12: 1 | BO12: 0 | BP12: 2 | BQ12: 2 | BR12: 1 | BS12: 1 | BT12: 0 | BU12: 0 | BV12: 0 | BW12: 0 | BX12: 0 | BY12: ФЕР-2017 | BZ12: ТР для Версии 10: Центральные регионы (с учетом п-ма 2536-ИП/12/ГС от 22.03.2017 г | CA12: ФЕР-2017 | CB12: ФЕР-2017 | CC12: ФЕР-2017 | CD12: ФЕР-2017 | CE12: Поправки для ГСН 2017 от 31.03.2017 г | CF12: 0 | CG12: 0 | CH12: 524296 | CK12: 4 | EC12: 0
A15: 15 | B15: 1
A18: 52 | B18: =B113 -> 171 | C18: =C113 -> 1 | D18: =D113 -> 12 | E18: =E113 -> 0 | F18: =F113 -> Новый объект | G18: =G113 -> на капитальный ремонт кабельных трасс и щита распределительной подстанции ТП2 загородного учебно-спортивного комплекса "база отдыха Волга" НИЯУ МИФИ по адресу: Тверская область,Калининский район,п/о Лисицкий бор,деревня Видогощи | O18: =O113 -> 2286433.8 | P18: =P113 -> 2042191.7 | Q18: =Q113 -> 102517.07 | R18: =R113 -> 12789.79 | S18: =S113 -> 141725.07 | T18: =T113 -> 0 | U18: =U113 -> 2722.8475 | V18: =V113 -> 207.09349 | ... GX18: =GX113 -> 0
A20: 3 | B20: 1 | D20: =ROW(A81) -> 81 | F20: Новая локальная смета | G20: Новая локальная смета | I20: 0 | K20: 0 | V20: 0 | BX20: 0 | CF20: 0 | CG20: 0
A22: 52 | B22: =B81 -> 1 | C22: =C81 -> 3 | D22: =D81 -> 20 | E22: =E81 -> 0 | F22: =F81 -> Новая локальная смета | G22: =G81 -> Новая локальная смета | O22: =O81 -> 2286433.8 | P22: =P81 -> 2042191.7 | Q22: =Q81 -> 102517.07 | R22: =R81 -> 12789.79 | S22: =S81 -> 141725.07 | T22: =T81 -> 0 | U22: =U81 -> 2722.8475 | V22: =V81 -> 207.09349 | ... GX22: =GX81 -> 0
A24: 17 | B24: 1 | C24: =ROW(SmtRes!A12) -> 12 | D24: =ROW(EtalonRes!A12) -> 12 | E24: 1 | F24: м08-01-011-02 | G24: Демонтаж: Разъединитель трехполюсный напряжением 35 кВ, на ток 1000А с одним или двумя заземляющими ножами | H24: КОМПЛ | I24: 8 | J24: 0 | O24: =ROUND(CP24,2) -> 8187.46 | P24: =ROUND(CQ24*I24,2) -> 0 | Q24: =ROUND(CR24*I24,2) -> 4649.66 | R24: =ROUND(CS24*I24,2) -> 539.92 | S24: =ROUND(CT24*I24,2) -> 3537.8 | T24: =ROUND(CU24*I24,2) -> 0 | U24: =CV24*I24 -> 75.36 | V24: =CW24*I24 -> 8.28 | W24: =ROUND(CX24*I24,2) -> 0 | X24: =ROUND(CY24,2) -> 3873.83 | Y24: =ROUND(CZ24,2) -> 2650.52 | AA24: 39610380 | AB24: =ROUND((AC24+AD24+AF24),2) -> 209.72 | AC24: =ROUND(((ES24*0)),2) -> 0 | AD24: =ROUND(((((ET24*0.3))-((EU24*0.3)))+AE24),2) -> 119.1 | AE24: =ROUND(((EU24*0.3)),2) -> 13.83 | AF24: =ROUND(((EV24*0.3)),2) -> 90.62 | AG24: =ROUND((AP24),2) -> 0 | AH24: =((EW24*0.3)) -> 9.42 | AI24: =((EX24*0.3)) -> 1.035 | AJ24: =ROUND((AS24),2) -> 0 | AK24: 893.52 | AL24: 194.46 | AM24: 396.99 | AN24: 46.1 | AO24: 302.07 | AP24: 0 | AQ24: 31.4 | AR24: 3.45 | AS24: 0 | AT24: 95 | AU24: 65 | AV24: 1 | AW24: 1 | AZ24: 4.88 | BA24: 4.88 | BB24: 4.88 | BC24: 4.88 | BH24: 0 | BI24: 2 | BJ24: ФЕРм-2001, м08-01-011-02, приказ Минстроя России №1039/пр от 30.12.2016г. | BM24: 108001 | BN24: 0 | BP24: 0 | BQ24: 3 | BR24: 0 | BS24: 4.88 | BT24: 1 | BU24: 1 | BV24: 1 | BW24: 1 | BX24: 1 | BZ24: 95 | CA24: 65 | CF24: 0 | CG24: 0 | CM24: 0 | CN24: Поправка: Табл.3, п.4 Наименование: Демонтаж: Оборудование, не пригодное для дальнейшего использования, (предназначено в лом) без разборки и резки | CO24: 0 | CP24: =(P24+Q24+S24) -> 8187.46 | CQ24: =AC24*BC24 -> 0 | CR24: =AD24*BB24 -> 581.208 | CS24: =AE24*BS24 -> 67.4904 | CT24: =AF24*BA24 -> 442.2256 | CU24: =AG24 -> 0 | CV24: =AH24 -> 9.42 | CW24: =AI24 -> 1.035 | CX24: =AJ24 -> 0 | CY24: =(((S24+R24)*AT24)/100) -> 3873.834 | CZ24: =(((S24+R24)*AU24)/100) -> 2650.518 | DD24: )*0 | DE24: )*0,3 | DF24: )*0,3 | DG24: )*0,3 | DI24: )*0,3 | DJ24: )*0,3 | DN24: 0 | DO24: 0 | DP24: 1 | DQ24: 1 | DU24: 1013 | DV24: КОМПЛ | DW24: КОМПЛ | DX24: 1 | EE24: 39174386 | EF24: 3 | EG24: Монтажные работы | EH24: 0 | EJ24: 2 | EK24: 108001 | EL24: Электромонтажные работы , отдел 01-03 : ( на АЭС НР = 110% ) - (работы по упр. авиа.- движением: СП=55% ( {АВИА}=1; обычные работы : СП=65 - {AВИА}=0), при работе на АЭС СП= 68% ) | EM24: мФЕР-08 | EO24: Поправка: Табл.3, п.4 | EQ24: 0 | ER24: 893.52 | ES24: 194.46 | ET24: 396.99 | EU24: 46.1 | EV24: 302.07 | EW24: 31.4 | EX24: 3.45 | EY24: 0 | FQ24: 0 | FR24: =ROUND(IF(AND(BH24=3,BI24=3),P24,0),2) -> 0 | FS24: 0 | FX24: 95 | FY24: 65 | GD24: 0 | GF24: 839760218 | GG24: 1 | GH24: 1 | GI24: 4 | GJ24: 0 | GK24: =ROUND(R24*(R12)/100,2) -> 0 | GL24: =ROUND(IF(AND(BH24=3,BI24=3,FS24<>0),P24,0),2) -> 0 | GM24: =ROUND(O24+X24+Y24+GK24,2)+GX24 -> 14711.81 | GN24: =IF(OR(BI24=0,BI24=1),ROUND(O24+X24+Y24+GK24,2),0) -> 0 | GO24: =IF(BI24=2,ROUND(O24+X24+Y24+GK24,2),0) -> 14711.81 | GP24: =IF(BI24=4,ROUND(O24+X24+Y24+GK24,2)+GX24,0) -> 0 | GR24: 0 | GS24: 3 | GT24: 0 | GV24: =ROUND(GT24,2) -> 0 | GW24: 1 | GX24: =ROUND(GV24*GW24*I24,2) -> 0 | HA24: 0 | HB24: 0 | IK24: 0
A25: 17 | B25: 1 | C25: =ROW(SmtRes!A23) -> 23 | D25: =ROW(EtalonRes!A23) -> 23 | E25: 2 | F25: м08-02-374-03 прим. | G25: Демонтаж: Устройство ввода в здание в стальной трубе, провод сечением до 16 мм2, количество проводов в линии 4 | H25: ШТ | I25: 18 | J25: 0 | O25: =ROUND(CP25,2) -> 15180.51 | P25: =ROUND(CQ25*I25,2) -> 0 | Q25: =ROUND(CR25*I25,2) -> 13999.06 | R25: =ROUND(CS25*I25,2) -> 1327.26 | S25: =ROUND(CT25*I25,2) -> 1181.45 | T25: =ROUND(CU25*I25,2) -> 0 | U25: =CV25*I25 -> 23.058 | V25: =CW25*I25 -> 20.142 | W25: =ROUND(CX25*I25,2) -> 0 | X25: =ROUND(CY25,2) -> 2383.27 | Y25: =ROUND(CZ25,2) -> 1630.66 | AA25: 39610380 | AB25: =ROUND((AC25+AD25+AF25),2) -> 172.82 | AC25: =ROUND(((ES25*0)),2) -> 0 | AD25: =ROUND(((((ET25*0.3))-((EU25*0.3)))+AE25),2) -> 159.37 | AE25: =ROUND(((EU25*0.3)),2) -> 15.11 | AF25: =ROUND(((EV25*0.3)),2) -> 13.45 | AG25: =ROUND((AP25),2) -> 0 | AH25: =((EW25*0.3)) -> 1.281 | AI25: =((EX25*0.3)) -> 1.119 | AJ25: =ROUND((AS25),2) -> 0 | AK25: 585.11 | AL25: 9.07 | AM25: 531.2 | AN25: 50.35 | AO25: 44.84 | AP25: 0 | AQ25: 4.27 | AR25: 3.73 | AS25: 0 | AT25: 95 | AU25: 65 | AV25: 1 | AW25: 1 | AZ25: 4.88 | BA25: 4.88 | BB25: 4.88 | BC25: 4.88 | BH25: 0 | BI25: 2 | BJ25: ФЕРм-2001, м08-02-374-03, приказ Минстроя России №1039/пр от 30.12.2016г. | BM25: 108001 | BN25: 0 | BP25: 0 | BQ25: 3 | BR25: 0 | BS25: 4.88 | BT25: 1 | BU25: 1 | BV25: 1 | BW25: 1 | BX25: 1 | BZ25: 95 | CA25: 65 | CF25: 0 | CG25: 0 | CM25: 0 | CN25: Поправка: Табл.3, п.4 Наименование: Демонтаж: Оборудование, не пригодное для дальнейшего использования, (предназначено в лом) без разборки и резки | CO25: 0 | CP25: =(P25+Q25+S25) -> 15180.51 | CQ25: =AC25*BC25 -> 0 | CR25: =AD25*BB25 -> 777.7256 | CS25: =AE25*BS25 -> 73.7368 | CT25: =AF25*BA25 -> 65.636 | CU25: =AG25 -> 0 | CV25: =AH25 -> 1.281 | CW25: =AI25 -> 1.119 | CX25: =AJ25 -> 0 | CY25: =(((S25+R25)*AT25)/100) -> 2383.2745 | CZ25: =(((S25+R25)*AU25)/100) -> 1630.6615 | DD25: )*0 | DE25: )*0,3 | DF25: )*0,3 | DG25: )*0,3 | DI25: )*0,3 | DJ25: )*0,3 | DN25: 0 | DO25: 0 | DP25: 1 | DQ25: 1 | DU25: 1013 | DV25: ШТ | DW25: ШТ | DX25: 1 | EE25: 39174386 | EF25: 3 | EG25: Монтажные работы | EH25: 0 | EJ25: 2 | EK25: 108001 | EL25: Электромонтажные работы , отдел 01-03 : ( на АЭС НР = 110% ) - (работы по упр. авиа.- движением: СП=55% ( {АВИА}=1; обычные работы : СП=65 - {AВИА}=0), при работе на АЭС СП= 68% ) | EM25: мФЕР-08 | EO25: Поправка: Табл.3, п.4 | EQ25: 0 | ER25: 585.11 | ES25: 9.07 | ET25: 531.2 | EU25: 50.35 | EV25: 44.84 | EW25: 4.27 | EX25: 3.73 | EY25: 0 | FQ25: 0 | FR25: =ROUND(IF(AND(BH25=3,BI25=3),P25,0),2) -> 0 | FS25: 0 | FX25: 95 | FY25: 65 | GD25: 0 | GF25: 697447041 | GG25: 1 | GH25: 1 | GI25: 4 | GJ25: 0 | GK25: =ROUND(R25*(R12)/100,2) -> 0 | GL25: =ROUND(IF(AND(BH25=3,BI25=3,FS25<>0),P25,0),2) -> 0 | GM25: =ROUND(O25+X25+Y25+GK25,2)+GX25 -> 19194.44 | GN25: =IF(OR(BI25=0,BI25=1),ROUND(O25+X25+Y25+GK25,2),0) -> 0 | GO25: =IF(BI25=2,ROUND(O25+X25+Y25+GK25,2),0) -> 19194.44 | GP25: =IF(BI25=4,ROUND(O25+X25+Y25+GK25,2)+GX25,0) -> 0 | GR25: 0 | GS25: 3 | GT25: 0 | GV25: =ROUND(GT25,2) -> 0 | GW25: 1 | GX25: =ROUND(GV25*GW25*I25,2) -> 0 | HA25: 0 | HB25: 0 | IK25: 0
A26: 17 | B26: 1 | C26: =ROW(SmtRes!A42) -> 42 | D26: =ROW(EtalonRes!A42) -> 42 | E26: 3 | F26: м08-03-530-05 | G26: Демонтаж:Пускатель магнитный общего назначения отдельно стоящий, устанавливаемый на конструкции на стене или колонне, на ток до 100 А | H26: ШТ | I26: 1 | J26: 0 | O26: =ROUND(CP26,2) -> 57 | P26: =ROUND(CQ26*I26,2) -> 0 | Q26: =ROUND(CR26*I26,2) -> 4.49 | R26: =ROUND(CS26*I26,2) -> 0.39 | S26: =ROUND(CT26*I26,2) -> 52.51 | T26: =ROUND(CU26*I26,2) -> 0 | U26: =CV26*I26 -> 1.158 | V26: =CW26*I26 -> 0.006 | W26: =ROUND(CX26*I26,2) -> 0 | X26: =ROUND(CY26,2) -> 50.26 | Y26: =ROUND(CZ26,2) -> 34.39 | AA26: 39610380 | AB26: =ROUND((AC26+AD26+AF26),2) -> 11.68 | AC26: =ROUND(((ES26*0)),2) -> 0 | AD26: =ROUND(((((ET26*0.3))-((EU26*0.3)))+AE26),2) -> 0.92 | AE26: =ROUND(((EU26*0.3)),2) -> 0.08 | AF26: =ROUND(((EV26*0.3)),2) -> 10.76 | AG26: =ROUND((AP26),2) -> 0 | AH26: =((EW26*0.3)) -> 1.158 | AI26: =((EX26*0.3)) -> 0.006 | AJ26: =ROUND((AS26),2) -> 0 | AK26: 104.51 | AL26: 65.6 | AM26: 3.05 | AN26: 0.26 | AO26: 35.86 | AP26: 0 | AQ26: 3.86 | AR26: 0.02 | AS26: 0 | AT26: 95 | AU26: 65 | AV26: 1 | AW26: 1 | AZ26: 4.88 | BA26: 4.88 | BB26: 4.88 | BC26: 4.88 | BH26: 0 | BI26: 2 | BJ26: ФЕРм-2001, м08-03-530-05, приказ Минстроя России №1039/пр от 30.12.2016г. | BM26: 108001 | BN26: 0 | BP26: 0 | BQ26: 3 | BR26: 0 | BS26: 4.88 | BT26: 1 | BU26: 1 | BV26: 1 | BW26: 1 | BX26: 1 | BZ26: 95 | CA26: 65 | CF26: 0 | CG26: 0 | CM26: 0 | CN26: Поправка: Табл.3, п.4 Наименование: Демонтаж: Оборудование, не пригодное для дальнейшего использования, (предназначено в лом) без разборки и резки | CO26: 0 | CP26: =(P26+Q26+S26) -> 57 | CQ26: =AC26*BC26 -> 0 | CR26: =AD26*BB26 -> 4.4896 | CS26: =AE26*BS26 -> 0.3904 | CT26: =AF26*BA26 -> 52.5088 | CU26: =AG26 -> 0 | CV26: =AH26 -> 1.158 | CW26: =AI26 -> 0.006 | CX26: =AJ26 -> 0 | CY26: =(((S26+R26)*AT26)/100) -> 50.255 | CZ26: =(((S26+R26)*AU26)/100) -> 34.385 | DD26: )*0 | DE26: )*0,3 | DF26: )*0,3 | DG26: )*0,3 | DI26: )*0,3 | DJ26: )*0,3 | DN26: 0 | DO26: 0 | DP26: 1 | DQ26: 1 | DU26: 1013 | DV26: ШТ | DW26: ШТ | DX26: 1 | EE26: 39174386 | EF26: 3 | EG26: Монтажные работы | EH26: 0 | EJ26: 2 | EK26: 108001 | EL26: Электромонтажные работы , отдел 01-03 : ( на АЭС НР = 110% ) - (работы по упр. авиа.- движением: СП=55% ( {АВИА}=1; обычные работы : СП=65 - {AВИА}=0), при работе на АЭС СП= 68% ) | EM26: мФЕР-08 | EO26: Поправка: Табл.3, п.4 | EQ26: 0 | ER26: 104.51 | ES26: 65.6 | ET26: 3.05 | EU26: 0.26 | EV26: 35.86 | EW26: 3.86 | EX26: 0.02 | EY26: 0 | FQ26: 0 | FR26: =ROUND(IF(AND(BH26=3,BI26=3),P26,0),2) -> 0 | FS26: 0 | FX26: 95 | FY26: 65 | GD26: 0 | GF26: -1520043211 | GG26: 1 | GH26: 1 | GI26: 4 | GJ26: 0 | GK26: =ROUND(R26*(R12)/100,2) -> 0 | GL26: =ROUND(IF(AND(BH26=3,BI26=3,FS26<>0),P26,0),2) -> 0 | GM26: =ROUND(O26+X26+Y26+GK26,2)+GX26 -> 141.65 | GN26: =IF(OR(BI26=0,BI26=1),ROUND(O26+X26+Y26+GK26,2),0) -> 0 | GO26: =IF(BI26=2,ROUND(O26+X26+Y26+GK26,2),0) -> 141.65 | GP26: =IF(BI26=4,ROUND(O26+X26+Y26+GK26,2)+GX26,0) -> 0 | GR26: 0 | GS26: 3 | GT26: 0 | GV26: =ROUND(GT26,2) -> 0 | GW26: 1 | GX26: =ROUND(GV26*GW26*I26,2) -> 0 | HA26: 0 | HB26: 0 | IK26: 0
A27: 17 | B27: 1 | C27: =ROW(SmtRes!A45) -> 45 | D27: =ROW(EtalonRes!A45) -> 45 | E27: 4 | F27: 67-3-1 | G27: Демонтаж кабеля | H27: 100 м | I27: =ROUND(18/100,9) -> 0.18 | J27: 0 | O27: =ROUND(CP27,2) -> 66.32 | P27: =ROUND(CQ27*I27,2) -> 0 | Q27: =ROUND(CR27*I27,2) -> 0.27 | R27: =ROUND(CS27*I27,2) -> 0.12 | S27: =ROUND(CT27*I27,2) -> 66.05 | T27: =ROUND(CU27*I27,2) -> 0 | U27: =CV27*I27 -> 1.7352 | V27: =CW27*I27 -> 0.0018 | W27: =ROUND(CX27*I27,2) -> 0 | X27: =ROUND(CY27,2) -> 56.24 | Y27: =ROUND(CZ27,2) -> 43.01 | AA27: 39610380 | AB27: =ROUND((AC27+AD27+AF27),2) -> 75.5 | AC27: =ROUND((ES27),2) -> 0 | AD27: =ROUND((((ET27)-(EU27))+AE27),2) -> 0.31 | AE27: =ROUND((EU27),2) -> 0.14 | AF27: =ROUND((EV27),2) -> 75.19 | AG27: =ROUND((AP27),2) -> 0 | AH27: =(EW27) -> 9.64 | AI27: =(EX27) -> 0.01 | AJ27: =ROUND((AS27),2) -> 0 | AK27: 75.5 | AL27: 0 | AM27: 0.31 | AN27: 0.14 | AO27: 75.19 | AP27: 0 | AQ27: 9.64 | AR27: 0.01 | AS27: 0 | AT27: 85 | AU27: 65 | AV27: 1 | AW27: 1 | AZ27: 4.88 | BA27: 4.88 | BB27: 4.88 | BC27: 4.88 | BH27: 0 | BI27: 1 | BJ27: ФЕРр-2001, 67-3-1, приказ Минстроя России №1039/пр от 30.12.2016г. | BM27: 67001 | BN27: 0 | BP27: 0 | BQ27: 6 | BR27: 0 | BS27: 4.88 | BT27: 1 | BU27: 1 | BV27: 1 | BW27: 1 | BX27: 1 | BZ27: 85 | CA27: 65 | CF27: 0 | CG27: 0 | CM27: 0 | CO27: 0 | CP27: =(P27+Q27+S27) -> 66.32 | CQ27: =AC27*BC27 -> 0 | CR27: =AD27*BB27 -> 1.5128 | CS27: =AE27*BS27 -> 0.6832 | CT27: =AF27*BA27 -> 366.9272 | CU27: =AG27 -> 0 | CV27: =AH27 -> 9.64 | CW27: =AI27 -> 0.01 | CX27: =AJ27 -> 0 | CY27: =(((S27+R27)*AT27)/100) -> 56.2445 | CZ27: =(((S27+R27)*AU27)/100) -> 43.0105 | DN27: 0 | DO27: 0 | DP27: 1 | DQ27: 1 | DU27: 1003 | DV27: 100 м | DW27: 100 м | DX27: 100 | EE27: 39174628 | EF27: 6 | EG27: Ремонтно-строительные работы | EH27: 0 | EJ27: 1 | EK27: 67001 | EL27: Электромонтажные работы | EM27: рФЕР-67 | EQ27: 0 | ER27: 75.5 | ES27: 0 | ET27: 0.31 | EU27: 0.14 | EV27: 75.19 | EW27: 9.64 | EX27: 0.01 | EY27: 0 | FQ27: 0 | FR27: =ROUND(IF(AND(BH27=3,BI27=3),P27,0),2) -> 0 | FS27: 0 | FX27: 85 | FY27: 65 | GD27: 0 | GF27: 994189354 | GG27: 1 | GH27: 1 | GI27: 4 | GJ27: 0 | GK27: =ROUND(R27*(R12)/100,2) -> 0 | GL27: =ROUND(IF(AND(BH27=3,BI27=3,FS27<>0),P27,0),2) -> 0 | GM27: =ROUND(O27+X27+Y27+GK27,2)+GX27 -> 165.57 | GN27: =IF(OR(BI27=0,BI27=1),ROUND(O27+X27+Y27+GK27,2),0) -> 165.57 | GO27: =IF(BI27=2,ROUND(O27+X27+Y27+GK27,2),0) -> 0 | GP27: =IF(BI27=4,ROUND(O27+X27+Y27+GK27,2)+GX27,0) -> 0 | GR27: 0 | GS27: 3 | GT27: 0 | GV27: =ROUND(GT27,2) -> 0 | GW27: 1 | GX27: =ROUND(GV27*GW27*I27,2) -> 0 | HA27: 0 | HB27: 0 | IK27: 0
A28: 17 | B28: 1 | C28: =ROW(SmtRes!A53) -> 53 | D28: =ROW(EtalonRes!A53) -> 53 | E28: 5 | F28: м08-02-370-01 | G28: Демонтаж: Щиток до трех групп, устанавливаемый в обхват колонн | H28: ШТ | I28: 8 | J28: 0 | O28: =ROUND(CP28,2) -> 313.88 | P28: =ROUND(CQ28*I28,2) -> 0 | Q28: =ROUND(CR28*I28,2) -> 208.08 | R28: =ROUND(CS28*I28,2) -> 29.28 | S28: =ROUND(CT28*I28,2) -> 105.8 | T28: =ROUND(CU28*I28,2) -> 0 | U28: =CV28*I28 -> 2.064 | V28: =CW28*I28 -> 0.48 | W28: =ROUND(CX28*I28,2) -> 0 | X28: =ROUND(CY28,2) -> 128.33 | Y28: =ROUND(CZ28,2) -> 87.8 | AA28: 39610380 | AB28: =ROUND((AC28+AD28+AF28),2) -> 8.04 | AC28: =ROUND(((ES28*0)),2) -> 0 | AD28: =ROUND(((((ET28*0.3))-((EU28*0.3)))+AE28),2) -> 5.33 | AE28: =ROUND(((EU28*0.3)),2) -> 0.75 | AF28: =ROUND(((EV28*0.3)),2) -> 2.71 | AG28: =ROUND((AP28),2) -> 0 | AH28: =((EW28*0.3)) -> 0.258 | AI28: =((EX28*0.3)) -> 0.06 | AJ28: =ROUND((AS28),2) -> 0 | AK28: 32.99 | AL28: 6.19 | AM28: 17.77 | AN28: 2.51 | AO28: 9.03 | AP28: 0 | AQ28: 0.86 | AR28: 0.2 | AS28: 0 | AT28: 95 | AU28: 65 | AV28: 1 | AW28: 1 | AZ28: 4.88 | BA28: 4.88 | BB28: 4.88 | BC28: 4.88 | BH28: 0 | BI28: 2 | BJ28: ФЕРм-2001, м08-02-370-01, приказ Минстроя России №1039/пр от 30.12.2016г. | BM28: 108001 | BN28: 0 | BP28: 0 | BQ28: 3 | BR28: 0 | BS28: 4.88 | BT28: 1 | BU28: 1 | BV28: 1 | BW28: 1 | BX28: 1 | BZ28: 95 | CA28: 65 | CF28: 0 | CG28: 0 | CM28: 0 | CN28: Поправка: Табл.3, п.4 Наименование: Демонтаж: Оборудование, не пригодное для дальнейшего использования, (предназначено в лом) без разборки и резки | CO28: 0 | CP28: =(P28+Q28+S28) -> 313.88 | CQ28: =AC28*BC28 -> 0 | CR28: =AD28*BB28 -> 26.0104 | CS28: =AE28*BS28 -> 3.66 | CT28: =AF28*BA28 -> 13.2248 | CU28: =AG28 -> 0 | CV28: =AH28 -> 0.258 | CW28: =AI28 -> 0.06 | CX28: =AJ28 -> 0 | CY28: =(((S28+R28)*AT28)/100) -> 128.326 | CZ28: =(((S28+R28)*AU28)/100) -> 87.802 | DD28: )*0 | DE28: )*0,3 | DF28: )*0,3 | DG28: )*0,3 | DI28: )*0,3 | DJ28: )*0,3 | DN28: 0 | DO28: 0 | DP28: 1 | DQ28: 1 | DU28: 1013 | DV28: ШТ | DW28: ШТ | DX28: 1 | EE28: 39174386 | EF28: 3 | EG28: Монтажные работы | EH28: 0 | EJ28: 2 | EK28: 108001 | EL28: Электромонтажные работы , отдел 01-03 : ( на АЭС НР = 110% ) - (работы по упр. авиа.- движением: СП=55% ( {АВИА}=1; обычные работы : СП=65 - {AВИА}=0), при работе на АЭС СП= 68% ) | EM28: мФЕР-08 | EO28: Поправка: Табл.3, п.4 | EQ28: 0 | ER28: 32.99 | ES28: 6.19 | ET28: 17.77 | EU28: 2.51 | EV28: 9.03 | EW28: 0.86 | EX28: 0.2 | EY28: 0 | FQ28: 0 | FR28: =ROUND(IF(AND(BH28=3,BI28=3),P28,0),2) -> 0 | FS28: 0 | FX28: 95 | FY28: 65 | GD28: 0 | GF28: 1091227919 | GG28: 1 | GH28: 1 | GI28: 4 | GJ28: 0 | GK28: =ROUND(R28*(R12)/100,2) -> 0 | GL28: =ROUND(IF(AND(BH28=3,BI28=3,FS28<>0),P28,0),2) -> 0 | GM28: =ROUND(O28+X28+Y28+GK28,2)+GX28 -> 530.01 | GN28: =IF(OR(BI28=0,BI28=1),ROUND(O28+X28+Y28+GK28,2),0) -> 0 | GO28: =IF(BI28=2,ROUND(O28+X28+Y28+GK28,2),0) -> 530.01 | GP28: =IF(BI28=4,ROUND(O28+X28+Y28+GK28,2)+GX28,0) -> 0 | GR28: 0 | GS28: 3 | GT28: 0 | GV28: =ROUND(GT28,2) -> 0 | GW28: 1 | GX28: =ROUND(GV28*GW28*I28,2) -> 0 | HA28: 0 | HB28: 0 | IK28: 0
A29: 17 | B29: 1 | C29: =ROW(SmtRes!A54) -> 54 | D29: =ROW(EtalonRes!A54) -> 54 | E29: 6 | F29: 01-02-055-02 | G29: Разработка грунта вручную с креплениями в траншеях шириной до 2 м, глубиной до 2 м, группа грунтов 2 | H29: 100 м3 | I29: =ROUND(920/100,9) -> 9.2 | J29: 0 | O29: =ROUND(CP29,2) -> 71107.18 | P29: =ROUND(CQ29*I29,2) -> 0 | Q29: =ROUND(CR29*I29,2) -> 0 | R29: =ROUND(CS29*I29,2) -> 0 | S29: =ROUND(CT29*I29,2) -> 71107.18 | T29: =ROUND(CU29*I29,2) -> 0 | U29: =CV29*I29 -> 1738.8 | V29: =CW29*I29 -> 0 | W29: =ROUND(CX29*I29,2) -> 0 | X29: =ROUND(CY29,2) -> 51197.17 | Y29: =ROUND(CZ29,2) -> 27020.73 | AA29: 39610380 | AB29: =ROUND((AC29+AD29+AF29),2) -> 1583.82 | AC29: =ROUND((ES29),2) -> 0 | AD29: =ROUND((((ET29)-(EU29))+AE29),2) -> 0 | AE29: =ROUND((EU29),2) -> 0 | AF29: =ROUND((EV29),2) -> 1583.82 | AG29: =ROUND((AP29),2) -> 0 | AH29: =(EW29) -> 189 | AI29: =(EX29) -> 0 | AJ29: =ROUND((AS29),2) -> 0 | AK29: 1583.82 | AL29: 0 | AM29: 0 | AN29: 0 | AO29: 1583.82 | AP29: 0 | AQ29: 189 | AR29: 0 | AS29: 0 | AT29: 72 | AU29: 38 | AV29: 1 | AW29: 1 | AZ29: 4.88 | BA29: 4.88 | BB29: 4.88 | BC29: 4.88 | BH29: 0 | BI29: 1 | BJ29: ФЕР-2001, 01-02-055-02, приказ Минстроя России №1039/пр от 30.12.2016г. | BM29: 1003 | BN29: 0 | BP29: 0 | BQ29: 2 | BR29: 0 | BS29: 4.88 | BT29: 1 | BU29: 1 | BV29: 1 | BW29: 1 | BX29: 1 | BZ29: 80 | CA29: 45 | CF29: 0 | CG29: 0 | CM29: 0 | CO29: 0 | CP29: =(P29+Q29+S29) -> 71107.18 | CQ29: =AC29*BC29 -> 0 | CR29: =AD29*BB29 -> 0 | CS29: =AE29*BS29 -> 0 | CT29: =AF29*BA29 -> 7729.0416 | CU29: =AG29 -> 0 | CV29: =AH29 -> 189 | CW29: =AI29 -> 0 | CX29: =AJ29 -> 0 | CY29: =(((S29+R29)*AT29)/100) -> 51197.17 | CZ29: =(((S29+R29)*AU29)/100) -> 27020.728 | DN29: 0 | DO29: 0 | DP29: 1 | DQ29: 1 | DU29: 1007 | DV29: 100 м3 | DW29: 100 м3 | DX29: 100 | EE29: 39174479 | EF29: 2 | EG29: Общестроительные работы | EH29: 0 | EJ29: 1 | EK29: 1003 | EL29: Земляные работы, выполняемые ручным способом | EM29: ФЕР-01 | EQ29: 0 | ER29: 1583.82 | ES29: 0 | ET29: 0 | EU29: 0 | EV29: 1583.82 | EW29: 189 | EX29: 0 | EY29: 0 | FQ29: 0 | FR29: =ROUND(IF(AND(BH29=3,BI29=3),P29,0),2) -> 0 | FS29: 0 | FT29: *0,9 | FU29: *0,85 | FX29: 72 | FY29: 38.25 | GD29: 0 | GF29: 1494300783 | GG29: 1 | GH29: 1 | GI29: 4 | GJ29: 0 | GK29: =ROUND(R29*(R12)/100,2) -> 0 | GL29: =ROUND(IF(AND(BH29=3,BI29=3,FS29<>0),P29,0),2) -> 0 | GM29: =ROUND(O29+X29+Y29+GK29,2)+GX29 -> 149325.08 | GN29: =IF(OR(BI29=0,BI29=1),ROUND(O29+X29+Y29+GK29,2),0) -> 149325.08 | GO29: =IF(BI29=2,ROUND(O29+X29+Y29+GK29,2),0) -> 0 | GP29: =IF(BI29=4,ROUND(O29+X29+Y29+GK29,2)+GX29,0) -> 0 | GR29: 0 | GS29: 3 | GT29: 0 | GV29: =ROUND(GT29,2) -> 0 | GW29: 1 | GX29: =ROUND(GV29*GW29*I29,2) -> 0 | HA29: 0 | HB29: 0 | IK29: 0
A30: 17 | B30: 1 | C30: =ROW(SmtRes!A57) -> 57 | D30: =ROW(EtalonRes!A57) -> 57 | E30: 7 | F30: 46-03-007-02 | G30: Пробивка проемов в конструкциях из бетона | H30: м3 | I30: 0.12 | J30: 0 | O30: =ROUND(CP30,2) -> 383.05 | P30: =ROUND(CQ30*I30,2) -> 0 | Q30: =ROUND(CR30*I30,2) -> 238.02 | R30: =ROUND(CS30*I30,2) -> 0 | S30: =ROUND(CT30*I30,2) -> 145.03 | T30: =ROUND(CU30*I30,2) -> 0 | U30: =CV30*I30 -> 3.3132 | V30: =CW30*I30 -> 0 | W30: =ROUND(CX30*I30,2) -> 0 | X30: =ROUND(CY30,2) -> 143.58 | Y30: =ROUND(CZ30,2) -> 87.02 | AA30: 39610380 | AB30: =ROUND((AC30+AD30+AF30),2) -> 654.12 | AC30: =ROUND((ES30),2) -> 0 | AD30: =ROUND((((ET30)-(EU30))+AE30),2) -> 406.46 | AE30: =ROUND((EU30),2) -> 0 | AF30: =ROUND((EV30),2) -> 247.66 | AG30: =ROUND((AP30),2) -> 0 | AH30: =(EW30) -> 27.61 | AI30: =(EX30) -> 0 | AJ30: =ROUND((AS30),2) -> 0 | AK30: 654.12 | AL30: 0 | AM30: 406.46 | AN30: 0 | AO30: 247.66 | AP30: 0 | AQ30: 27.61 | AR30: 0 | AS30: 0 | AT30: 99 | AU30: 60 | AV30: 1 | AW30: 1 | AZ30: 4.88 | BA30: 4.88 | BB30: 4.88 | BC30: 4.88 | BH30: 0 | BI30: 1 | BJ30: ФЕР-2001, 46-03-007-02, приказ Минстроя России №1039/пр от 30.12.2016г. | BM30: 46001 | BN30: 0 | BP30: 0 | BQ30: 2 | BR30: 0 | BS30: 4.88 | BT30: 1 | BU30: 1 | BV30: 1 | BW30: 1 | BX30: 1 | BZ30: 110 | CA30: 70 | CF30: 0 | CG30: 0 | CM30: 0 | CO30: 0 | CP30: =(P30+Q30+S30) -> 383.05 | CQ30: =AC30*BC30 -> 0 | CR30: =AD30*BB30 -> 1983.5248 | CS30: =AE30*BS30 -> 0 | CT30: =AF30*BA30 -> 1208.5808 | CU30: =AG30 -> 0 | CV30: =AH30 -> 27.61 | CW30: =AI30 -> 0 | CX30: =AJ30 -> 0 | CY30: =(((S30+R30)*AT30)/100) -> 143.5797 | CZ30: =(((S30+R30)*AU30)/100) -> 87.018 | DN30: 0 | DO30: 0 | DP30: 1 | DQ30: 1 | DU30: 1007 | DV30: м3 | DW30: м3 | DX30: 1 | EE30: 39174571 | EF30: 2 | EG30: Общестроительные работы | EH30: 0 | EJ30: 1 | EK30: 46001 | EL30: Реконструкция зданий и сооружений | EM30: ФЕР-46 | EQ30: 0 | ER30: 654.12 | ES30: 0 | ET30: 406.46 | EU30: 0 | EV30: 247.66 | EW30: 27.61 | EX30: 0 | EY30: 0 | FQ30: 0 | FR30: =ROUND(IF(AND(BH30=3,BI30=3),P30,0),2) -> 0 | FS30: 0 | FT30: *0,9 | FU30: *0,85 | FX30: 99 | FY30: 59.5 | GD30: 0 | GF30: -707843890 | GG30: 1 | GH30: 1 | GI30: 4 | GJ30: 0 | GK30: =ROUND(R30*(R12)/100,2) -> 0 | GL30: =ROUND(IF(AND(BH30=3,BI30=3,FS30<>0),P30,0),2) -> 0 | GM30: =ROUND(O30+X30+Y30+GK30,2)+GX30 -> 613.65 | GN30: =IF(OR(BI30=0,BI30=1),ROUND(O30+X30+Y30+GK30,2),0) -> 613.65 | GO30: =IF(BI30=2,ROUND(O30+X30+Y30+GK30,2),0) -> 0 | GP30: =IF(BI30=4,ROUND(O30+X30+Y30+GK30,2)+GX30,0) -> 0 | GR30: 0 | GS30: 3 | GT30: 0 | GV30: =ROUND(GT30,2) -> 0 | GW30: 1 | GX30: =ROUND(GV30*GW30*I30,2) -> 0 | HA30: 0 | HB30: 0 | IK30: 0
A31: 17 | B31: 1 | C31: =ROW(SmtRes!A64) -> 64 | D31: =ROW(EtalonRes!A64) -> 64 | E31: 8 | F31: 08-02-001-09 | G31: Кладка стен приямков и каналов | H31: м3 | I31: 7.4 | J31: 0 | O31: =ROUND(CP31,2) -> 8262.42 | P31: =ROUND(CQ31*I31,2) -> 4415.41 | Q31: =ROUND(CR31*I31,2) -> 1404.03 | R31: =ROUND(CS31*I31,2) -> 219.56 | S31: =ROUND(CT31*I31,2) -> 2442.98 | T31: =ROUND(CU31*I31,2) -> 0 | U31: =CV31*I31 -> 60.2508 | V31: =CW31*I31 -> 3.33 | W31: =ROUND(CX31*I31,2) -> 0 | X31: =ROUND(CY31,2) -> 2928.79 | Y31: =ROUND(CZ31,2) -> 1810.53 | AA31: 39610380 | AB31: =ROUND((AC31+AD31+AF31),2) -> 228.8 | AC31: =ROUND((ES31),2) -> 122.27 | AD31: =ROUND(((((ET31*1.25))-((EU31*1.25)))+AE31),2) -> 38.88 | AE31: =ROUND(((EU31*1.25)),2) -> 6.08 | AF31: =ROUND(((EV31*1.15)),2) -> 67.65 | AG31: =ROUND((AP31),2) -> 0 | AH31: =((EW31*1.15)) -> 8.142 | AI31: =((EX31*1.25)) -> 0.45 | AJ31: =ROUND((AS31),2) -> 0 | AK31: 212.2 | AL31: 122.27 | AM31: 31.1 | AN31: 4.86 | AO31: 58.83 | AP31: 0 | AQ31: 7.08 | AR31: 0.36 | AS31: 0 | AT31: 110 | AU31: 68 | AV31: 1 | AW31: 1 | AZ31: 4.88 | BA31: 4.88 | BB31: 4.88 | BC31: 4.88 | BH31: 0 | BI31: 1 | BJ31: ФЕР-2001, 08-02-001-09, приказ Минстроя России №1039/пр от 30.12.2016г. | BM31: 8001 | BN31: 0 | BP31: 0 | BQ31: 2 | BR31: 0 | BS31: 4.88 | BT31: 1 | BU31: 1 | BV31: 1 | BW31: 1 | BX31: 1 | BZ31: 122 | CA31: 80 | CF31: 0 | CG31: 0 | CM31: 0 | CN31: Поправка: п.8.7.1 Наименование: При выполнении работ в существующих зданиях и сооружениях, аналогичных процессам при новом строительстве (кроме работ по нормам сборника № 46 «Работы при реконструкции зданий и сооружений») | CO31: 0 | CP31: =(P31+Q31+S31) -> 8262.42 | CQ31: =AC31*BC31 -> 596.6776 | CR31: =AD31*BB31 -> 189.7344 | CS31: =AE31*BS31 -> 29.6704 | CT31: =AF31*BA31 -> 330.132 | CU31: =AG31 -> 0 | CV31: =AH31 -> 8.142 | CW31: =AI31 -> 0.45 | CX31: =AJ31 -> 0 | CY31: =(((S31+R31)*AT31)/100) -> 2928.794 | CZ31: =(((S31+R31)*AU31)/100) -> 1810.5272 | DE31: )*1,25 | DF31: )*1,25 | DG31: )*1,15 | DI31: )*1,15 | DJ31: )*1,25 | DN31: 0 | DO31: 0 | DP31: 1 | DQ31: 1 | DU31: 1007 | DV31: м3 | DW31: м3 | DX31: 1 | EE31: 39174501 | EF31: 2 | EG31: Общестроительные работы | EH31: 0 | EJ31: 1 | EK31: 8001 | EL31: Конструкции из кирпича и блоков | EM31: ФЕР-08 | EO31: Поправка: п.8.7.1 | EQ31: 0 | ER31: 212.2 | ES31: 122.27 | ET31: 31.1 | EU31: 4.86 | EV31: 58.83 | EW31: 7.08 | EX31: 0.36 | EY31: 0 | FQ31: 0 | FR31: =ROUND(IF(AND(BH31=3,BI31=3),P31,0),2) -> 0 | FS31: 0 | FT31: *0,9 | FU31: *0,85 | FX31: 109.8 | FY31: 68 | GD31: 0 | GF31: 1347223012 | GG31: 1 | GH31: 1 | GI31: 4 | GJ31: 0 | GK31: =ROUND(R31*(R12)/100,2) -> 0 | GL31: =ROUND(IF(AND(BH31=3,BI31=3,FS31<>0),P31,0),2) -> 0 | GM31: =ROUND(O31+X31+Y31+GK31,2)+GX31 -> 13001.74 | GN31: =IF(OR(BI31=0,BI31=1),ROUND(O31+X31+Y31+GK31,2),0) -> 13001.74 | GO31: =IF(BI31=2,ROUND(O31+X31+Y31+GK31,2),0) -> 0 | GP31: =IF(BI31=4,ROUND(O31+X31+Y31+GK31,2)+GX31,0) -> 0 | GR31: 0 | GS31: 3 | GT31: 0 | GV31: =ROUND(GT31,2) -> 0 | GW31: 1 | GX31: =ROUND(GV31*GW31*I31,2) -> 0 | HA31: 0 | HB31: 0 | IK31: 0
A32: 18 | B32: 1 | C32: 63 | E32: 8,1 | F32: 06.1.01.05 | G32: Кирпич керамический, силикатный или пустотелый | H32: 1000 шт. | I32: =I31*J32 -> 2.96 | J32: 0.4 | O32: =ROUND(CP32,2) -> 0 | P32: =ROUND(CQ32*I32,2) -> 0 | Q32: =ROUND(CR32*I32,2) -> 0 | R32: =ROUND(CS32*I32,2) -> 0 | S32: =ROUND(CT32*I32,2) -> 0 | T32: =ROUND(CU32*I32,2) -> 0 | U32: =CV32*I32 -> 0 | V32: =CW32*I32 -> 0 | W32: =ROUND(CX32*I32,2) -> 0 | X32: =ROUND(CY32,2) -> 0 | Y32: =ROUND(CZ32,2) -> 0 | AA32: 39610380 | AB32: =ROUND((AC32+AD32+AF32),2) -> 0 | AC32: =ROUND((ES32),2) -> 0 | AD32: =ROUND((((ET32)-(EU32))+AE32),2) -> 0 | AE32: =ROUND((EU32),2) -> 0 | AF32: =ROUND((EV32),2) -> 0 | AG32: =ROUND((AP32),2) -> 0 | AH32: =(EW32) -> 0 | AI32: =(EX32) -> 0 | AJ32: =ROUND((AS32),2) -> 0 | AK32: 0 | AL32: 0 | AM32: 0 | AN32: 0 | AO32: 0 | AP32: 0 | AQ32: 0 | AR32: 0 | AS32: 0 | AT32: 110 | AU32: 68 | AV32: 1 | AW32: 1 | AZ32: 4.88 | BA32: 1 | BB32: 1 | BC32: 4.88 | BH32: 3 | BI32: 1 | BM32: 8001 | BN32: 0 | BP32: 0 | BQ32: 2 | BR32: 0 | BS32: 1 | BT32: 1 | BU32: 1 | BV32: 1 | BW32: 1 | BX32: 1 | BZ32: 122 | CA32: 80 | CF32: 0 | CG32: 0 | CM32: 0 | CO32: 0 | CP32: =(P32+Q32+S32) -> 0 | CQ32: =AC32*BC32 -> 0 | CR32: =AD32*BB32 -> 0 | CS32: =AE32*BS32 -> 0 | CT32: =AF32*BA32 -> 0 | CU32: =AG32 -> 0 | CV32: =AH32 -> 0 | CW32: =AI32 -> 0 | CX32: =AJ32 -> 0 | CY32: =(((S32+R32)*AT32)/100) -> 0 | CZ32: =(((S32+R32)*AU32)/100) -> 0 | DN32: 0 | DO32: 0 | DP32: 1 | DQ32: 1 | DU32: 1010 | DV32: 1000 шт. | DW32: 1000 шт. | DX32: 1000 | EE32: 39174501 | EF32: 2 | EG32: Общестроительные работы | EH32: 0 | EJ32: 1 | EK32: 8001 | EL32: Конструкции из кирпича и блоков | EM32: ФЕР-08 | EQ32: 0 | ER32: 0 | ES32: 0 | ET32: 0 | EU32: 0 | EV32: 0 | EW32: 0 | EX32: 0 | FQ32: 0 | FR32: =ROUND(IF(AND(BH32=3,BI32=3),P32,0),2) -> 0 | FS32: 0 | FT32: *0,9 | FU32: *0,85 | FX32: 109.8 | FY32: 68 | GD32: 0 | GF32: -1480842532 | GG32: 1 | GH32: 1 | GI32: 4 | GJ32: 0 | GK32: =ROUND(R32*(R12)/100,2) -> 0 | GL32: =ROUND(IF(AND(BH32=3,BI32=3,FS32<>0),P32,0),2) -> 0 | GM32: =ROUND(O32+X32+Y32+GK32,2)+GX32 -> 0 | GN32: =IF(OR(BI32=0,BI32=1),ROUND(O32+X32+Y32+GK32,2),0) -> 0 | GO32: =IF(BI32=2,ROUND(O32+X32+Y32+GK32,2),0) -> 0 | GP32: =IF(BI32=4,ROUND(O32+X32+Y32+GK32,2)+GX32,0) -> 0 | GR32: 0 | GS32: 3 | GT32: 0 | GV32: =ROUND(GT32,2) -> 0 | GW32: 1 | GX32: =ROUND(GV32*GW32*I32,2) -> 0 | HA32: 0 | HB32: 0 | IK32: 0
A33: 17 | B33: 1 | C33: =ROW(SmtRes!A70) -> 70 | D33: =ROW(EtalonRes!A69) -> 69 | E33: 9 | F33: 07-06-002-06 | G33: Устройство плит перекрытий каналов площадью до 1 м2 | H33: 100 ШТ | I33: =ROUND(10/100,9) -> 0.1 | J33: 0 | O33: =ROUND(CP33,2) -> 3771.93 | P33: =ROUND(CQ33*I33,2) -> 61.65 | Q33: =ROUND(CR33*I33,2) -> 3142.5 | R33: =ROUND(CS33*I33,2) -> 437.86 | S33: =ROUND(CT33*I33,2) -> 567.78 | T33: =ROUND(CU33*I33,2) -> 0 | U33: =CV33*I33 -> 12.37745 | V33: =CW33*I33 -> 6.64625 | W33: =ROUND(CX33*I33,2) -> 0 | X33: =ROUND(CY33,2) -> 1176.6 | Y33: =ROUND(CZ33,2) -> 724.06 | AA33: 39610380 | AB33: =ROUND((AC33+AD33+AF33),2) -> 7729.36 | AC33: =ROUND((ES33),2) -> 126.33 | AD33: =ROUND(((((ET33*1.25))-((EU33*1.25)))+AE33),2) -> 6439.55 | AE33: =ROUND(((EU33*1.25)),2) -> 897.25 | AF33: =ROUND(((EV33*1.15)),2) -> 1163.48 | AG33: =ROUND((AP33),2) -> 0 | AH33: =((EW33*1.15)) -> 123.7745 | AI33: =((EX33*1.25)) -> 66.4625 | AJ33: =ROUND((AS33),2) -> 0 | AK33: 6289.69 | AL33: 126.33 | AM33: 5151.64 | AN33: 717.8 | AO33: 1011.72 | AP33: 0 | AQ33: 107.63 | AR33: 53.17 | AS33: 0 | AT33: 117 | AU33: 72 | AV33: 1 | AW33: 1 | AZ33: 4.88 | BA33: 4.88 | BB33: 4.88 | BC33: 4.88 | BH33: 0 | BI33: 1 | BJ33: ФЕР-2001, 07-06-002-06, приказ Минстроя России №1039/пр от 30.12.2016г. | BM33: 7006 | BN33: 0 | BP33: 0 | BQ33: 2 | BR33: 0 | BS33: 4.88 | BT33: 1 | BU33: 1 | BV33: 1 | BW33: 1 | BX33: 1 | BZ33: 130 | CA33: 85 | CF33: 0 | CG33: 0 | CM33: 0 | CN33: Поправка: п.8.7.1 Наименование: При выполнении работ в существующих зданиях и сооружениях, аналогичных процессам при новом строительстве (кроме работ по нормам сборника № 46 «Работы при реконструкции зданий и сооружений») | CO33: 0 | CP33: =(P33+Q33+S33) -> 3771.93 | CQ33: =AC33*BC33 -> 616.4904 | CR33: =AD33*BB33 -> 31425.004 | CS33: =AE33*BS33 -> 4378.58 | CT33: =AF33*BA33 -> 5677.7824 | CU33: =AG33 -> 0 | CV33: =AH33 -> 123.7745 | CW33: =AI33 -> 66.4625 | CX33: =AJ33 -> 0 | CY33: =(((S33+R33)*AT33)/100) -> 1176.5988 | CZ33: =(((S33+R33)*AU33)/100) -> 724.0608 | DE33: )*1,25 | DF33: )*1,25 | DG33: )*1,15 | DI33: )*1,15 | DJ33: )*1,25 | DN33: 0 | DO33: 0 | DP33: 1 | DQ33: 1 | DU33: 1013 | DV33: 100 ШТ | DW33: 100 ШТ | DX33: 1 | EE33: 39174497 | EF33: 2 | EG33: Общестроительные работы | EH33: 0 | EJ33: 1 | EK33: 7006 | EL33: Сборные бетонные конструкции в промышленном строительстве ( тепловые сети ) | EM33: ФЕР-07 | EO33: Поправка: п.8.7.1 | EQ33: 0 | ER33: 6289.69 | ES33: 126.33 | ET33: 5151.64 | EU33: 717.8 | EV33: 1011.72 | EW33: 107.63 | EX33: 53.17 | EY33: 0 | FQ33: 0 | FR33: =ROUND(IF(AND(BH33=3,BI33=3),P33,0),2) -> 0 | FS33: 0 | FT33: *0,9 | FU33: *0,85 | FX33: 117 | FY33: 72.25 | GD33: 0 | GF33: 172651708 | GG33: 1 | GH33: 1 | GI33: 4 | GJ33: 0 | GK33: =ROUND(R33*(R12)/100,2) -> 0 | GL33: =ROUND(IF(AND(BH33=3,BI33=3,FS33<>0),P33,0),2) -> 0 | GM33: =ROUND(O33+X33+Y33+GK33,2)+GX33 -> 5672.59 | GN33: =IF(OR(BI33=0,BI33=1),ROUND(O33+X33+Y33+GK33,2),0) -> 5672.59 | GO33: =IF(BI33=2,ROUND(O33+X33+Y33+GK33,2),0) -> 0 | GP33: =IF(BI33=4,ROUND(O33+X33+Y33+GK33,2)+GX33,0) -> 0 | GR33: 0 | GS33: 3 | GT33: 0 | GV33: =ROUND(GT33,2) -> 0 | GW33: 1 | GX33: =ROUND(GV33*GW33*I33,2) -> 0 | HA33: 0 | HB33: 0 | IK33: 0
A34: 18 | B34: 1 | C34: 69 | E34: 9,1 | F34: 05.1.01.12-0010 | G34: Плиты перекрытия лотков и каналов ПО-1 /бетон В25 (М350), объем 0,7 м3, расход арматуры 54,4 кг/ (серия 3.006.1-2/82.1) | H34: шт. | I34: =I33*J34 -> 10 | J34: 100 | O34: =ROUND(CP34,2) -> 77449.02 | P34: =ROUND(CQ34*I34,2) -> 77449.02 | Q34: =ROUND(CR34*I34,2) -> 0 | R34: =ROUND(CS34*I34,2) -> 0 | S34: =ROUND(CT34*I34,2) -> 0 | T34: =ROUND(CU34*I34,2) -> 0 | U34: =CV34*I34 -> 0 | V34: =CW34*I34 -> 0 | W34: =ROUND(CX34*I34,2) -> 0 | X34: =ROUND(CY34,2) -> 0 | Y34: =ROUND(CZ34,2) -> 0 | AA34: 39610380 | AB34: =ROUND((AC34+AD34+AF34),2) -> 1587.07 | AC34: =ROUND((ES34),2) -> 1587.07 | AD34: =ROUND((((ET34)-(EU34))+AE34),2) -> 0 | AE34: =ROUND((EU34),2) -> 0 | AF34: =ROUND((EV34),2) -> 0 | AG34: =ROUND((AP34),2) -> 0 | AH34: =(EW34) -> 0 | AI34: =(EX34) -> 0 | AJ34: =ROUND((AS34),2) -> 0 | AK34: 1587.07 | AL34: 1587.07 | AM34: 0 | AN34: 0 | AO34: 0 | AP34: 0 | AQ34: 0 | AR34: 0 | AS34: 0 | AT34: 117 | AU34: 72 | AV34: 1 | AW34: 1 | AZ34: 4.88 | BA34: 1 | BB34: 1 | BC34: 4.88 | BH34: 3 | BI34: 1 | BJ34: ФССЦ-2001, 05.1.01.12-0010, приказ Минстроя России №1039/пр от 30.12.2016г. | BM34: 7006 | BN34: 0 | BP34: 0 | BQ34: 2 | BR34: 0 | BS34: 1 | BT34: 1 | BU34: 1 | BV34: 1 | BW34: 1 | BX34: 1 | BZ34: 130 | CA34: 85 | CF34: 0 | CG34: 0 | CM34: 0 | CO34: 0 | CP34: =(P34+Q34+S34) -> 77449.02 | CQ34: =AC34*BC34 -> 7744.9016 | CR34: =AD34*BB34 -> 0 | CS34: =AE34*BS34 -> 0 | CT34: =AF34*BA34 -> 0 | CU34: =AG34 -> 0 | CV34: =AH34 -> 0 | CW34: =AI34 -> 0 | CX34: =AJ34 -> 0 | CY34: =(((S34+R34)*AT34)/100) -> 0 | CZ34: =(((S34+R34)*AU34)/100) -> 0 | DN34: 0 | DO34: 0 | DP34: 1 | DQ34: 1 | DU34: 1010 | DV34: шт. | DW34: шт. | DX34: 1 | EE34: 39174497 | EF34: 2 | EG34: Общестроительные работы | EH34: 0 | EJ34: 1 | EK34: 7006 | EL34: Сборные бетонные конструкции в промышленном строительстве ( тепловые сети ) | EM34: ФЕР-07 | EQ34: 0 | ER34: 1587.07 | ES34: 1587.07 | ET34: 0 | EU34: 0 | EV34: 0 | EW34: 0 | EX34: 0 | FQ34: 0 | FR34: =ROUND(IF(AND(BH34=3,BI34=3),P34,0),2) -> 0 | FS34: 0 | FT34: *0,9 | FU34: *0,85 | FX34: 117 | FY34: 72.25 | GD34: 0 | GF34: 388335175 | GG34: 1 | GH34: 1 | GI34: 4 | GJ34: 0 | GK34: =ROUND(R34*(R12)/100,2) -> 0 | GL34: =ROUND(IF(AND(BH34=3,BI34=3,FS34<>0),P34,0),2) -> 0 | GM34: =ROUND(O34+X34+Y34+GK34,2)+GX34 -> 77449.02 | GN34: =IF(OR(BI34=0,BI34=1),ROUND(O34+X34+Y34+GK34,2),0) -> 77449.02 | GO34: =IF(BI34=2,ROUND(O34+X34+Y34+GK34,2),0) -> 0 | GP34: =IF(BI34=4,ROUND(O34+X34+Y34+GK34,2)+GX34,0) -> 0 | GR34: 0 | GS34: 3 | GT34: 0 | GV34: =ROUND(GT34,2) -> 0 | GW34: 1 | GX34: =ROUND(GV34*GW34*I34,2) -> 0 | HA34: 0 | HB34: 0 | IK34: 0
A35: 18 | B35: 1 | C35: 70 | E35: 9,2 | F35: 05.1.08.14 | G35: Конструкции сборные железобетонные | H35: шт. | I35: =I33*J35 -> 10 | J35: 100 | O35: =ROUND(CP35,2) -> 0 | P35: =ROUND(CQ35*I35,2) -> 0 | Q35: =ROUND(CR35*I35,2) -> 0 | R35: =ROUND(CS35*I35,2) -> 0 | S35: =ROUND(CT35*I35,2) -> 0 | T35: =ROUND(CU35*I35,2) -> 0 | U35: =CV35*I35 -> 0 | V35: =CW35*I35 -> 0 | W35: =ROUND(CX35*I35,2) -> 0 | X35: =ROUND(CY35,2) -> 0 | Y35: =ROUND(CZ35,2) -> 0 | AA35: 39610380 | AB35: =ROUND((AC35+AD35+AF35),2) -> 0 | AC35: =ROUND((ES35),2) -> 0 | AD35: =ROUND((((ET35)-(EU35))+AE35),2) -> 0 | AE35: =ROUND((EU35),2) -> 0 | AF35: =ROUND((EV35),2) -> 0 | AG35: =ROUND((AP35),2) -> 0 | AH35: =(EW35) -> 0 | AI35: =(EX35) -> 0 | AJ35: =ROUND((AS35),2) -> 0 | AK35: 0 | AL35: 0 | AM35: 0 | AN35: 0 | AO35: 0 | AP35: 0 | AQ35: 0 | AR35: 0 | AS35: 0 | AT35: 117 | AU35: 72 | AV35: 1 | AW35: 1 | AZ35: 4.88 | BA35: 1 | BB35: 1 | BC35: 4.88 | BH35: 3 | BI35: 1 | BM35: 7006 | BN35: 0 | BP35: 0 | BQ35: 2 | BR35: 0 | BS35: 1 | BT35: 1 | BU35: 1 | BV35: 1 | BW35: 1 | BX35: 1 | BZ35: 130 | CA35: 85 | CF35: 0 | CG35: 0 | CM35: 0 | CO35: 0 | CP35: =(P35+Q35+S35) -> 0 | CQ35: =AC35*BC35 -> 0 | CR35: =AD35*BB35 -> 0 | CS35: =AE35*BS35 -> 0 | CT35: =AF35*BA35 -> 0 | CU35: =AG35 -> 0 | CV35: =AH35 -> 0 | CW35: =AI35 -> 0 | CX35: =AJ35 -> 0 | CY35: =(((S35+R35)*AT35)/100) -> 0 | CZ35: =(((S35+R35)*AU35)/100) -> 0 | DN35: 0 | DO35: 0 | DP35: 1 | DQ35: 1 | DU35: 1010 | DV35: шт. | DW35: шт. | DX35: 1 | EE35: 39174497 | EF35: 2 | EG35: Общестроительные работы | EH35: 0 | EJ35: 1 | EK35: 7006 | EL35: Сборные бетонные конструкции в промышленном строительстве ( тепловые сети ) | EM35: ФЕР-07 | EQ35: 0 | ER35: 0 | ES35: 0 | ET35: 0 | EU35: 0 | EV35: 0 | EW35: 0 | EX35: 0 | FQ35: 0 | FR35: =ROUND(IF(AND(BH35=3,BI35=3),P35,0),2) -> 0 | FS35: 0 | FT35: *0,9 | FU35: *0,85 | FX35: 117 | FY35: 72.25 | GD35: 0 | GF35: -1926765613 | GG35: 1 | GH35: 1 | GI35: 4 | GJ35: 0 | GK35: =ROUND(R35*(R12)/100,2) -> 0 | GL35: =ROUND(IF(AND(BH35=3,BI35=3,FS35<>0),P35,0),2) -> 0 | GM35: =ROUND(O35+X35+Y35+GK35,2)+GX35 -> 0 | GN35: =IF(OR(BI35=0,BI35=1),ROUND(O35+X35+Y35+GK35,2),0) -> 0 | GO35: =IF(BI35=2,ROUND(O35+X35+Y35+GK35,2),0) -> 0 | GP35: =IF(BI35=4,ROUND(O35+X35+Y35+GK35,2)+GX35,0) -> 0 | GR35: 0 | GS35: 3 | GT35: 0 | GV35: =ROUND(GT35,2) -> 0 | GW35: 1 | GX35: =ROUND(GV35*GW35*I35,2) -> 0 | HA35: 0 | HB35: 0 | IK35: 0
A36: 17 | B36: 1 | C36: =ROW(SmtRes!A88) -> 88 | D36: =ROW(EtalonRes!A87) -> 87 | E36: 10 | F36: 06-01-005-01 | G36: Устройство бетонных фундаментов общего назначения объемом до 5 м3 (Основание бетонное под под уличные щитки) | H36: 100 м3 | I36: =ROUND(0.9/100,9) -> 0.009 | J36: 0 | O36: =ROUND(CP36,2) -> 551.57 | P36: =ROUND(CQ36*I36,2) -> 170.33 | Q36: =ROUND(CR36*I36,2) -> 192.68 | R36: =ROUND(CS36*I36,2) -> 26.55 | S36: =ROUND(CT36*I36,2) -> 188.56 | T36: =ROUND(CU36*I36,2) -> 0 | U36: =CV36*I36 -> 4.567248 | V36: =CW36*I36 -> 0.4062375 | W36: =ROUND(CX36*I36,2) -> 0 | X36: =ROUND(CY36,2) -> 204.35 | Y36: =ROUND(CZ36,2) -> 118.31 | AA36: 39610380 | AB36: =ROUND((AC36+AD36+AF36),2) -> 12558.58 | AC36: =ROUND((ES36),2) -> 3878.26 | AD36: =ROUND(((((ET36*1.25))-((EU36*1.25)))+AE36),2) -> 4387.11 | AE36: =ROUND(((EU36*1.25)),2) -> 604.58 | AF36: =ROUND(((EV36*1.15)),2) -> 4293.21 | AG36: =ROUND((AP36),2) -> 0 | AH36: =((EW36*1.15)) -> 507.472 | AI36: =((EX36*1.25)) -> 45.1375 | AJ36: =ROUND((AS36),2) -> 0 | AK36: 11121.17 | AL36: 3878.26 | AM36: 3509.68 | AN36: 483.66 | AO36: 3733.23 | AP36: 0 | AQ36: 441.28 | AR36: 36.11 | AS36: 0 | AT36: 95 | AU36: 55 | AV36: 1 | AW36: 1 | AZ36: 4.88 | BA36: 4.88 | BB36: 4.88 | BC36: 4.88 | BH36: 0 | BI36: 1 | BJ36: ФЕР-2001, 06-01-005-01, приказ Минстроя России №1039/пр от 30.12.2016г. | BM36: 6001 | BN36: 0 | BP36: 0 | BQ36: 2 | BR36: 0 | BS36: 4.88 | BT36: 1 | BU36: 1 | BV36: 1 | BW36: 1 | BX36: 1 | BZ36: 105 | CA36: 65 | CF36: 0 | CG36: 0 | CM36: 0 | CN36: Поправка: п.8.7.1 Наименование: При выполнении работ в существующих зданиях и сооружениях, аналогичных процессам при новом строительстве (кроме работ по нормам сборника № 46 «Работы при реконструкции зданий и сооружений») | CO36: 0 | CP36: =(P36+Q36+S36) -> 551.57 | CQ36: =AC36*BC36 -> 18925.909 | CR36: =AD36*BB36 -> 21409.097 | CS36: =AE36*BS36 -> 2950.3504 | CT36: =AF36*BA36 -> 20950.865 | CU36: =AG36 -> 0 | CV36: =AH36 -> 507.472 | CW36: =AI36 -> 45.1375 | CX36: =AJ36 -> 0 | CY36: =(((S36+R36)*AT36)/100) -> 204.3545 | CZ36: =(((S36+R36)*AU36)/100) -> 118.3105 | DE36: )*1,25 | DF36: )*1,25 | DG36: )*1,15 | DI36: )*1,15 | DJ36: )*1,25 | DN36: 0 | DO36: 0 | DP36: 1 | DQ36: 1 | DU36: 1007 | DV36: 100 м3 | DW36: 100 м3 | DX36: 100 | EE36: 39174490 | EF36: 2 | EG36: Общестроительные работы | EH36: 0 | EJ36: 1 | EK36: 6001 | EL36: Монолитные бетонные и железобетонные конструкции в промышленном строительстве | EM36: ФЕР-06 | EO36: Поправка: п.8.7.1 | EQ36: 0 | ER36: 11121.17 | ES36: 3878.26 | ET36: 3509.68 | EU36: 483.66 | EV36: 3733.23 | EW36: 441.28 | EX36: 36.11 | EY36: 0 | FQ36: 0 | FR36: =ROUND(IF(AND(BH36=3,BI36=3),P36,0),2) -> 0 | FS36: 0 | FT36: *0,9 | FU36: *0,85 | FX36: 94.5 | FY36: 55.25 | GD36: 0 | GF36: 660562484 | GG36: 1 | GH36: 1 | GI36: 4 | GJ36: 0 | GK36: =ROUND(R36*(R12)/100,2) -> 0 | GL36: =ROUND(IF(AND(BH36=3,BI36=3,FS36<>0),P36,0),2) -> 0 | GM36: =ROUND(O36+X36+Y36+GK36,2)+GX36 -> 874.23 | GN36: =IF(OR(BI36=0,BI36=1),ROUND(O36+X36+Y36+GK36,2),0) -> 874.23 | GO36: =IF(BI36=2,ROUND(O36+X36+Y36+GK36,2),0) -> 0 | GP36: =IF(BI36=4,ROUND(O36+X36+Y36+GK36,2)+GX36,0) -> 0 | GR36: 0 | GS36: 3 | GT36: 0 | GV36: =ROUND(GT36,2) -> 0 | GW36: 1 | GX36: =ROUND(GV36*GW36*I36,2) -> 0 | HA36: 0 | HB36: 0 | IK36: 0
A37: 18 | B37: 1 | C37: 82 | E37: 10,1 | F37: 04.1.02.01-0004 | G37: Бетон мелкозернистый, класс В10 (М150) | H37: м3 | I37: =I36*J37 -> 0.918 | J37: 102 | O37: =ROUND(CP37,2) -> 2107.14 | P37: =ROUND(CQ37*I37,2) -> 2107.14 | Q37: =ROUND(CR37*I37,2) -> 0 | R37: =ROUND(CS37*I37,2) -> 0 | S37: =ROUND(CT37*I37,2) -> 0 | T37: =ROUND(CU37*I37,2) -> 0 | U37: =CV37*I37 -> 0 | V37: =CW37*I37 -> 0 | W37: =ROUND(CX37*I37,2) -> 0 | X37: =ROUND(CY37,2) -> 0 | Y37: =ROUND(CZ37,2) -> 0 | AA37: 39610380 | AB37: =ROUND((AC37+AD37+AF37),2) -> 470.36 | AC37: =ROUND((ES37),2) -> 470.36 | AD37: =ROUND((((ET37)-(EU37))+AE37),2) -> 0 | AE37: =ROUND((EU37),2) -> 0 | AF37: =ROUND((EV37),2) -> 0 | AG37: =ROUND((AP37),2) -> 0 | AH37: =(EW37) -> 0 | AI37: =(EX37) -> 0 | AJ37: =ROUND((AS37),2) -> 0 | AK37: 470.36 | AL37: 470.36 | AM37: 0 | AN37: 0 | AO37: 0 | AP37: 0 | AQ37: 0 | AR37: 0 | AS37: 0 | AT37: 95 | AU37: 55 | AV37: 1 | AW37: 1 | AZ37: 4.88 | BA37: 1 | BB37: 1 | BC37: 4.88 | BH37: 3 | BI37: 1 | BJ37: ФССЦ-2001, 04.1.02.01-0004, приказ Минстроя России №1039/пр от 30.12.2016г. | BM37: 6001 | BN37: 0 | BP37: 0 | BQ37: 2 | BR37: 0 | BS37: 1 | BT37: 1 | BU37: 1 | BV37: 1 | BW37: 1 | BX37: 1 | BZ37: 105 | CA37: 65 | CF37: 0 | CG37: 0 | CM37: 0 | CO37: 0 | CP37: =(P37+Q37+S37) -> 2107.14 | CQ37: =AC37*BC37 -> 2295.3568 | CR37: =AD37*BB37 -> 0 | CS37: =AE37*BS37 -> 0 | CT37: =AF37*BA37 -> 0 | CU37: =AG37 -> 0 | CV37: =AH37 -> 0 | CW37: =AI37 -> 0 | CX37: =AJ37 -> 0 | CY37: =(((S37+R37)*AT37)/100) -> 0 | CZ37: =(((S37+R37)*AU37)/100) -> 0 | DN37: 0 | DO37: 0 | DP37: 1 | DQ37: 1 | DU37: 1007 | DV37: м3 | DW37: м3 | DX37: 1 | EE37: 39174490 | EF37: 2 | EG37: Общестроительные работы | EH37: 0 | EJ37: 1 | EK37: 6001 | EL37: Монолитные бетонные и железобетонные конструкции в промышленном строительстве | EM37: ФЕР-06 | EQ37: 0 | ER37: 470.36 | ES37: 470.36 | ET37: 0 | EU37: 0 | EV37: 0 | EW37: 0 | EX37: 0 | FQ37: 0 | FR37: =ROUND(IF(AND(BH37=3,BI37=3),P37,0),2) -> 0 | FS37: 0 | FT37: *0,9 | FU37: *0,85 | FX37: 94.5 | FY37: 55.25 | GD37: 0 | GF37: -964623361 | GG37: 1 | GH37: 1 | GI37: 4 | GJ37: 0 | GK37: =ROUND(R37*(R12)/100,2) -> 0 | GL37: =ROUND(IF(AND(BH37=3,BI37=3,FS37<>0),P37,0),2) -> 0 | GM37: =ROUND(O37+X37+Y37+GK37,2)+GX37 -> 2107.14 | GN37: =IF(OR(BI37=0,BI37=1),ROUND(O37+X37+Y37+GK37,2),0) -> 2107.14 | GO37: =IF(BI37=2,ROUND(O37+X37+Y37+GK37,2),0) -> 0 | GP37: =IF(BI37=4,ROUND(O37+X37+Y37+GK37,2)+GX37,0) -> 0 | GR37: 0 | GS37: 3 | GT37: 0 | GV37: =ROUND(GT37,2) -> 0 | GW37: 1 | GX37: =ROUND(GV37*GW37*I37,2) -> 0 | HA37: 0 | HB37: 0 | IK37: 0
A38: 17 | B38: 1 | C38: =ROW(SmtRes!A95) -> 95 | D38: =ROW(EtalonRes!A90) -> 90 | E38: 11 | F38: м08-03-575-01 | G38: Прибор или аппарат | H38: ШТ | I38: 18 | J38: 0 | O38: =ROUND(CP38,2) -> 1011.04 | P38: =ROUND(CQ38*I38,2) -> 35.14 | Q38: =ROUND(CR38*I38,2) -> 0 | R38: =ROUND(CS38*I38,2) -> 0 | S38: =ROUND(CT38*I38,2) -> 975.9 | T38: =ROUND(CU38*I38,2) -> 0 | U38: =CV38*I38 -> 20.16 | V38: =CW38*I38 -> 0 | W38: =ROUND(CX38*I38,2) -> 0 | X38: =ROUND(CY38,2) -> 927.11 | Y38: =ROUND(CZ38,2) -> 634.34 | AA38: 39610380 | AB38: =ROUND((AC38+AD38+AF38),2) -> 11.51 | AC38: =ROUND((ES38),2) -> 0.4 | AD38: =ROUND((((ET38)-(EU38))+AE38),2) -> 0 | AE38: =ROUND((EU38),2) -> 0 | AF38: =ROUND((EV38),2) -> 11.11 | AG38: =ROUND((AP38),2) -> 0 | AH38: =(EW38) -> 1.12 | AI38: =(EX38) -> 0 | AJ38: =ROUND((AS38),2) -> 0 | AK38: 11.51 | AL38: 0.4 | AM38: 0 | AN38: 0 | AO38: 11.11 | AP38: 0 | AQ38: 1.12 | AR38: 0 | AS38: 0 | AT38: 95 | AU38: 65 | AV38: 1 | AW38: 1 | AZ38: 4.88 | BA38: 4.88 | BB38: 4.88 | BC38: 4.88 | BH38: 0 | BI38: 2 | BJ38: ФЕРм-2001, м08-03-575-01, приказ Минстроя России №1039/пр от 30.12.2016г. | BM38: 108001 | BN38: 0 | BP38: 0 | BQ38: 3 | BR38: 0 | BS38: 4.88 | BT38: 1 | BU38: 1 | BV38: 1 | BW38: 1 | BX38: 1 | BZ38: 95 | CA38: 65 | CF38: 0 | CG38: 0 | CM38: 0 | CO38: 0 | CP38: =(P38+Q38+S38) -> 1011.04 | CQ38: =AC38*BC38 -> 1.952 | CR38: =AD38*BB38 -> 0 | CS38: =AE38*BS38 -> 0 | CT38: =AF38*BA38 -> 54.2168 | CU38: =AG38 -> 0 | CV38: =AH38 -> 1.12 | CW38: =AI38 -> 0 | CX38: =AJ38 -> 0 | CY38: =(((S38+R38)*AT38)/100) -> 927.105 | CZ38: =(((S38+R38)*AU38)/100) -> 634.335 | DN38: 0 | DO38: 0 | DP38: 1 | DQ38: 1 | DU38: 1013 | DV38: ШТ | DW38: ШТ | DX38: 1 | EE38: 39174386 | EF38: 3 | EG38: Монтажные работы | EH38: 0 | EJ38: 2 | EK38: 108001 | EL38: Электромонтажные работы , отдел 01-03 : ( на АЭС НР = 110% ) - (работы по упр. авиа.- движением: СП=55% ( {АВИА}=1; обычные работы : СП=65 - {AВИА}=0), при работе на АЭС СП= 68% ) | EM38: мФЕР-08 | EQ38: 0 | ER38: 11.51 | ES38: 0.4 | ET38: 0 | EU38: 0 | EV38: 11.11 | EW38: 1.12 | EX38: 0 | EY38: 0 | FQ38: 0 | FR38: =ROUND(IF(AND(BH38=3,BI38=3),P38,0),2) -> 0 | FS38: 0 | FX38: 95 | FY38: 65 | GD38: 0 | GF38: 234181014 | GG38: 1 | GH38: 1 | GI38: 4 | GJ38: 0 | GK38: =ROUND(R38*(R12)/100,2) -> 0 | GL38: =ROUND(IF(AND(BH38=3,BI38=3,FS38<>0),P38,0),2) -> 0 | GM38: =ROUND(O38+X38+Y38+GK38,2)+GX38 -> 2572.49 | GN38: =IF(OR(BI38=0,BI38=1),ROUND(O38+X38+Y38+GK38,2),0) -> 0 | GO38: =IF(BI38=2,ROUND(O38+X38+Y38+GK38,2),0) -> 2572.49 | GP38: =IF(BI38=4,ROUND(O38+X38+Y38+GK38,2)+GX38,0) -> 0 | GR38: 0 | GS38: 3 | GT38: 0 | GV38: =ROUND(GT38,2) -> 0 | GW38: 1 | GX38: =ROUND(GV38*GW38*I38,2) -> 0 | HA38: 0 | HB38: 0 | IK38: 0
A39: 18 | B39: 1 | C39: 93 | E39: 11,1 | F39: 62.1.01.09-0102 | G39: Выключатели автоматические А3134 150А | H39: шт. | I39: =I38*J39 -> 3 | J39: 0.16666667 | O39: =ROUND(CP39,2) -> 15371.85 | P39: =ROUND(CQ39*I39,2) -> 15371.85 | Q39: =ROUND(CR39*I39,2) -> 0 | R39: =ROUND(CS39*I39,2) -> 0 | S39: =ROUND(CT39*I39,2) -> 0 | T39: =ROUND(CU39*I39,2) -> 0 | U39: =CV39*I39 -> 0 | V39: =CW39*I39 -> 0 | W39: =ROUND(CX39*I39,2) -> 0 | X39: =ROUND(CY39,2) -> 0 | Y39: =ROUND(CZ39,2) -> 0 | AA39: 39610380 | AB39: =ROUND((AC39+AD39+AF39),2) -> 1049.99 | AC39: =ROUND((ES39),2) -> 1049.99 | AD39: =ROUND((((ET39)-(EU39))+AE39),2) -> 0 | AE39: =ROUND((EU39),2) -> 0 | AF39: =ROUND((EV39),2) -> 0 | AG39: =ROUND((AP39),2) -> 0 | AH39: =(EW39) -> 0 | AI39: =(EX39) -> 0 | AJ39: =ROUND((AS39),2) -> 0 | AK39: 1049.99 | AL39: 1049.99 | AM39: 0 | AN39: 0 | AO39: 0 | AP39: 0 | AQ39: 0 | AR39: 0 | AS39: 0 | AT39: 95 | AU39: 65 | AV39: 1 | AW39: 1 | AZ39: 4.88 | BA39: 1 | BB39: 1 | BC39: 4.88 | BH39: 3 | BI39: 2 | BJ39: ФССЦ-2001, 62.1.01.09-0102, приказ Минстроя России №1039/пр от 30.12.2016г. | BM39: 108001 | BN39: 0 | BP39: 0 | BQ39: 3 | BR39: 0 | BS39: 1 | BT39: 1 | BU39: 1 | BV39: 1 | BW39: 1 | BX39: 1 | BZ39: 95 | CA39: 65 | CF39: 0 | CG39: 0 | CM39: 0 | CO39: 0 | CP39: =(P39+Q39+S39) -> 15371.85 | CQ39: =AC39*BC39 -> 5123.9512 | CR39: =AD39*BB39 -> 0 | CS39: =AE39*BS39 -> 0 | CT39: =AF39*BA39 -> 0 | CU39: =AG39 -> 0 | CV39: =AH39 -> 0 | CW39: =AI39 -> 0 | CX39: =AJ39 -> 0 | CY39: =(((S39+R39)*AT39)/100) -> 0 | CZ39: =(((S39+R39)*AU39)/100) -> 0 | DN39: 0 | DO39: 0 | DP39: 1 | DQ39: 1 | DU39: 1010 | DV39: шт. | DW39: шт. | DX39: 1 | EE39: 39174386 | EF39: 3 | EG39: Монтажные работы | EH39: 0 | EJ39: 2 | EK39: 108001 | EL39: Электромонтажные работы , отдел 01-03 : ( на АЭС НР = 110% ) - (работы по упр. авиа.- движением: СП=55% ( {АВИА}=1; обычные работы : СП=65 - {AВИА}=0), при работе на АЭС СП= 68% ) | EM39: мФЕР-08 | EQ39: 0 | ER39: 1049.99 | ES39: 1049.99 | ET39: 0 | EU39: 0 | EV39: 0 | EW39: 0 | EX39: 0 | FQ39: 0 | FR39: =ROUND(IF(AND(BH39=3,BI39=3),P39,0),2) -> 0 | FS39: 0 | FX39: 95 | FY39: 65 | GD39: 0 | GF39: -1842424436 | GG39: 1 | GH39: 1 | GI39: 4 | GJ39: 0 | GK39: =ROUND(R39*(R12)/100,2) -> 0 | GL39: =ROUND(IF(AND(BH39=3,BI39=3,FS39<>0),P39,0),2) -> 0 | GM39: =ROUND(O39+X39+Y39+GK39,2)+GX39 -> 15371.85 | GN39: =IF(OR(BI39=0,BI39=1),ROUND(O39+X39+Y39+GK39,2),0) -> 0 | GO39: =IF(BI39=2,ROUND(O39+X39+Y39+GK39,2),0) -> 15371.85 | GP39: =IF(BI39=4,ROUND(O39+X39+Y39+GK39,2)+GX39,0) -> 0 | GR39: 0 | GS39: 3 | GT39: 0 | GV39: =ROUND(GT39,2) -> 0 | GW39: 1 | GX39: =ROUND(GV39*GW39*I39,2) -> 0 | HA39: 0 | HB39: 0 | IK39: 0
A40: 18 | B40: 1 | C40: 94 | E40: 11,2 | F40: 62.1.01.09-0104 | G40: Выключатели автоматические А3721У I-250А | H40: шт. | I40: =I38*J40 -> 4 | J40: 0.22222222 | O40: =ROUND(CP40,2) -> 16874.06 | P40: =ROUND(CQ40*I40,2) -> 16874.06 | Q40: =ROUND(CR40*I40,2) -> 0 | R40: =ROUND(CS40*I40,2) -> 0 | S40: =ROUND(CT40*I40,2) -> 0 | T40: =ROUND(CU40*I40,2) -> 0 | U40: =CV40*I40 -> 0 | V40: =CW40*I40 -> 0 | W40: =ROUND(CX40*I40,2) -> 0 | X40: =ROUND(CY40,2) -> 0 | Y40: =ROUND(CZ40,2) -> 0 | AA40: 39610380 | AB40: =ROUND((AC40+AD40+AF40),2) -> 864.45 | AC40: =ROUND((ES40),2) -> 864.45 | AD40: =ROUND((((ET40)-(EU40))+AE40),2) -> 0 | AE40: =ROUND((EU40),2) -> 0 | AF40: =ROUND((EV40),2) -> 0 | AG40: =ROUND((AP40),2) -> 0 | AH40: =(EW40) -> 0 | AI40: =(EX40) -> 0 | AJ40: =ROUND((AS40),2) -> 0 | AK40: 864.45 | AL40: 864.45 | AM40: 0 | AN40: 0 | AO40: 0 | AP40: 0 | AQ40: 0 | AR40: 0 | AS40: 0 | AT40: 95 | AU40: 65 | AV40: 1 | AW40: 1 | AZ40: 4.88 | BA40: 1 | BB40: 1 | BC40: 4.88 | BH40: 3 | BI40: 2 | BJ40: ФССЦ-2001, 62.1.01.09-0104, приказ Минстроя России №1039/пр от 30.12.2016г. | BM40: 108001 | BN40: 0 | BP40: 0 | BQ40: 3 | BR40: 0 | BS40: 1 | BT40: 1 | BU40: 1 | BV40: 1 | BW40: 1 | BX40: 1 | BZ40: 95 | CA40: 65 | CF40: 0 | CG40: 0 | CM40: 0 | CO40: 0 | CP40: =(P40+Q40+S40) -> 16874.06 | CQ40: =AC40*BC40 -> 4218.516 | CR40: =AD40*BB40 -> 0 | CS40: =AE40*BS40 -> 0 | CT40: =AF40*BA40 -> 0 | CU40: =AG40 -> 0 | CV40: =AH40 -> 0 | CW40: =AI40 -> 0 | CX40: =AJ40 -> 0 | CY40: =(((S40+R40)*AT40)/100) -> 0 | CZ40: =(((S40+R40)*AU40)/100) -> 0 | DN40: 0 | DO40: 0 | DP40: 1 | DQ40: 1 | DU40: 1010 | DV40: шт. | DW40: шт. | DX40: 1 | EE40: 39174386 | EF40: 3 | EG40: Монтажные работы | EH40: 0 | EJ40: 2 | EK40: 108001 | EL40: Электромонтажные работы , отдел 01-03 : ( на АЭС НР = 110% ) - (работы по упр. авиа.- движением: СП=55% ( {АВИА}=1; обычные работы : СП=65 - {AВИА}=0), при работе на АЭС СП= 68% ) | EM40: мФЕР-08 | EQ40: 0 | ER40: 864.45 | ES40: 864.45 | ET40: 0 | EU40: 0 | EV40: 0 | EW40: 0 | EX40: 0 | FQ40: 0 | FR40: =ROUND(IF(AND(BH40=3,BI40=3),P40,0),2) -> 0 | FS40: 0 | FX40: 95 | FY40: 65 | GD40: 0 | GF40: 516885426 | GG40: 1 | GH40: 1 | GI40: 4 | GJ40: 0 | GK40: =ROUND(R40*(R12)/100,2) -> 0 | GL40: =ROUND(IF(AND(BH40=3,BI40=3,FS40<>0),P40,0),2) -> 0 | GM40: =ROUND(O40+X40+Y40+GK40,2)+GX40 -> 16874.06 | GN40: =IF(OR(BI40=0,BI40=1),ROUND(O40+X40+Y40+GK40,2),0) -> 0 | GO40: =IF(BI40=2,ROUND(O40+X40+Y40+GK40,2),0) -> 16874.06 | GP40: =IF(BI40=4,ROUND(O40+X40+Y40+GK40,2)+GX40,0) -> 0 | GR40: 0 | GS40: 3 | GT40: 0 | GV40: =ROUND(GT40,2) -> 0 | GW40: 1 | GX40: =ROUND(GV40*GW40*I40,2) -> 0 | HA40: 0 | HB40: 0 | IK40: 0
