Workbook

Sheet Смета 12 гр. по ФЕР
A1: =Source!B1 -> Smeta.RU (495) 974-1589 | I1: Приложение 1 к форме 6
B5: СМЕТА
B7: =IF(Source!G20<>"Новая локальная смета", Source!G20, "")
B9: =IF(Source!G12<>"Новый объект", Source!G12, "") -> на ремонт помещений № 2- № 8, № 10 2-го этажа здания корпуса 30 НИЯУ МИФИ по адресу: г. Москва, Каширское шоссе, д. 31 стр. 7 | AD9: =IF(Source!G12<>"Новый объект", Source!G12, "") -> на ремонт помещений № 2- № 8, № 10 2-го этажа здания корпуса 30 НИЯУ МИФИ по адресу: г. Москва, Каширское шоссе, д. 31 стр. 7
G14: базовая цена | I14: текущая цена
C15: Сметная стоимость | G15: =SUM(O26:O625)/1000 -> 166.65792 | I15: =(Source!F359/1000) -> 1355.4333 | K15: тыс. руб.
C16: Строительные работы | G16: =SUM(W26:W625)/1000 -> 113.31611 | I16: =(Source!F346)/1000 -> 760.50839 | K16: тыс. руб.
C17: Монтажные работы | G17: =SUM(X26:X625)/1000 -> 50.95693 | I17: =(Source!F347)/1000 -> 341.92095 | K17: тыс. руб.
C18: Оборудование | G18: =SUM(Y26:Y625)/1000 -> 0 | I18: =(Source!F338)/1000 -> 0 | K18: тыс. руб.
C19: Прочие работы | G19: =SUM(Z26:Z625)/1000 -> 2.38488 | I19: =(Source!F348+Source!F349)/1000 -> 46.24298 | K19: тыс. руб.
C20: Нормативная трудоемкость | G20: =I20 -> 1349.7378 | I20: =(Source!F351+Source!F352) -> 1349.7378 | K20: чел. -ч.
C21: Средства на оплату труда | G21: =SUM(R26:R625)/1000 -> 12.39884 | I21: =(Source!F344+ Source!F343)/1000 -> 97.94762 | K21: тыс. руб.
A23: Составлена в ценах III квартал 2018 года
A24: № п/п | B24: Шифр расценки и коды ресурсов | C24: Наименование работ и затрат | D24: Ед. изм. | E24: Кол-во единиц | F24: Цена на ед. изм. | G24: Попра-вочные коэфф. | H24: Стоимость в ценах 2001г. | I24: Пункт коэфф. пересчета | J24: Коэфф. пересчета | K24: Стоимость в текущих ценах | L24: ЗТР всего чел.-час
A25: 1 | B25: 2 | C25: 3 | D25: 4 | E25: 5 | F25: 6 | G25: 7 | H25: 8 | I25: 9 | J25: 10 | K25: 11 | L25: 12
A27: =CONCATENATE("Раздел: ",IF(Source!G24<>"Новый раздел", Source!G24, "")) -> Раздел: Демонтаж
A28: =Source!E28 -> 1 | B28: =Source!F28 -> 46-04-012-03 | C28: =Source!G28 -> Разборка деревянных заполнений проемов дверных и воротных | D28: =Source!H28 -> 100 м2 | E28: =Source!I28 -> 0.0945 | F28: =Source!AL28+Source!AM28+Source!AO28 -> 1082.58 | I28: =Source!BO28 | S28: =ROUND((Source!FX28/100)*((ROUND(Source!AF28*Source!I28, 2)+ROUND(Source!AE28*Source!I28, 2))), 2) -> 88.42 | T28: =Source!X28 -> 593.31 | U28: =ROUND((Source!FY28/100)*((ROUND(Source!AF28*Source!I28, 2)+ROUND(Source!AE28*Source!I28, 2))), 2) -> 53.14 | V28: =Source!Y28 -> 359.58
C29: ="Объем: "&Source!I28&"=9,45/"&"100" -> Объем: 0,0945=9,45/100
C30: Зарплата | F30: =Source!AO28 -> 840.63 | G30: =Source!DG28 | H30: =ROUND(Source!AF28*Source!I28, 2) -> 79.44 | J30: =IF(Source!BA28<> 0, Source!BA28, 1) -> 6.71 | K30: =Source!S28 -> 533.04 | R30: =H30 -> 79.44
C31: Эксплуатация машин | F31: =Source!AM28 -> 241.95 | G31: =Source!DE28 | H31: =ROUND(Source!AD28*Source!I28, 2) -> 22.86 | J31: =IF(Source!BB28<> 0, Source!BB28, 1) -> 6.71 | K31: =Source!Q28 -> 153.42
C32: в т.ч. зарплата машинистов | F32: =Source!AN28 -> 104.49 | G32: =Source!DF28 | H32: =ROUND(Source!AE28*Source!I28, 2) -> 9.87 | J32: =IF(Source!BS28<> 0, Source!BS28, 1) -> 6.71 | K32: =Source!R28 -> 66.26 | R32: =H32 -> 9.87
C33: НР от ФОТ | D33: % | E33: =Source!BZ28 -> 110 | F33: =CONCATENATE(" )", Source!DL28, Source!FT28, "=", Source!FX28) -> )*0,9=99 | H33: =SUM(S28:S35) -> 88.42 | J33: =Source!AT28 -> 99 | K33: =SUM(T28:T35) -> 593.31
C34: СП от ФОТ | D34: % | E34: =Source!CA28 -> 70 | F34: =CONCATENATE(" )", Source!DM28, Source!FU28, "=", Source!FY28) -> )*0,85=59,5 | H34: =SUM(U28:U35) -> 53.14 | J34: =Source!AU28 -> 60 | K34: =SUM(V28:V35) -> 359.58
C35: Затраты труда | D35: чел-ч | E35: =Source!AQ28 -> 103.91 | G35: =Source!DI28 | L35: =Source!U28 -> 9.819495
G36: =H30+H31+H33+H34 -> 243.86 | J36: =K30+K31+K33+K34 -> 1639.35 | L36: =Source!U28 -> 9.819495 | O36: =G36 -> 243.86 | P36: =J36 -> 1639.35 | Q36: =L36 -> 9.819495 | W36: =IF(Source!BI28<=1,H30+H31+H33+H34, 0) -> 243.86 | X36: =IF(Source!BI28=2,H30+H31+H33+H34, 0) -> 0 | Y36: =IF(Source!BI28=3,H30+H31+H33+H34, 0) -> 0 | Z36: =IF(Source!BI28=4,H30+H31+H33+H34, 0) -> 0
A37: =Source!E29 -> 2 | B37: =Source!F29 -> 67-4-5 | C37: =Source!G29 -> Демонтаж светильников для люминесцентных ламп (прим.) | D37: =Source!H29 -> 100 ШТ | E37: =Source!I29 -> 0.48 | F37: =Source!AL29+Source!AM29+Source!AO29 -> 145.98 | I37: =Source!BO29 | S37: =ROUND((Source!FX29/100)*((ROUND(Source!AF29*Source!I29, 2)+ROUND(Source!AE29*Source!I29, 2))), 2) -> 58.98 | T37: =Source!X29 -> 395.76 | U37: =ROUND((Source!FY29/100)*((ROUND(Source!AF29*Source!I29, 2)+ROUND(Source!AE29*Source!I29, 2))), 2) -> 45.1 | V37: =Source!Y29 -> 302.64
C38: ="Объем: "&Source!I29&"=48/"&"100" -> Объем: 0,48=48/100
C39: Зарплата | F39: =Source!AO29 -> 143.48 | G39: =Source!DG29 | H39: =ROUND(Source!AF29*Source!I29, 2) -> 68.87 | J39: =IF(Source!BA29<> 0, Source!BA29, 1) -> 6.71 | K39: =Source!S29 -> 462.12 | R39: =H39 -> 68.87
C40: Эксплуатация машин | F40: =Source!AM29 -> 2.5 | G40: =Source!DE29 | H40: =ROUND(Source!AD29*Source!I29, 2) -> 1.2 | J40: =IF(Source!BB29<> 0, Source!BB29, 1) -> 6.71 | K40: =Source!Q29 -> 8.05
C41: в т.ч. зарплата машинистов | F41: =Source!AN29 -> 1.08 | G41: =Source!DF29 | H41: =ROUND(Source!AE29*Source!I29, 2) -> 0.52 | J41: =IF(Source!BS29<> 0, Source!BS29, 1) -> 6.71 | K41: =Source!R29 -> 3.48 | R41: =H41 -> 0.52
C42: НР от ФОТ | D42: % | E42: =Source!BZ29 -> 85 | H42: =SUM(S37:S44) -> 58.98 | J42: =Source!AT29 -> 85 | K42: =SUM(T37:T44) -> 395.76
C43: СП от ФОТ | D43: % | E43: =Source!CA29 -> 65 | H43: =SUM(U37:U44) -> 45.1 | J43: =Source!AU29 -> 65 | K43: =SUM(V37:V44) -> 302.64
C44: Затраты труда | D44: чел-ч | E44: =Source!AQ29 -> 17.89 | G44: =Source!DI29 | L44: =Source!U29 -> 8.5872
G45: =H39+H40+H42+H43 -> 174.15 | J45: =K39+K40+K42+K43 -> 1168.57 | L45: =Source!U29 -> 8.5872 | O45: =G45 -> 174.15 | P45: =J45 -> 1168.57 | Q45: =L45 -> 8.5872 | W45: =IF(Source!BI29<=1,H39+H40+H42+H43, 0) -> 174.15 | X45: =IF(Source!BI29=2,H39+H40+H42+H43, 0) -> 0 | Y45: =IF(Source!BI29=3,H39+H40+H42+H43, 0) -> 0 | Z45: =IF(Source!BI29=4,H39+H40+H42+H43, 0) -> 0
A46: =Source!E30 -> 3 | B46: =Source!F30 -> 67-4-1 | C46: =Source!G30 -> Демонтаж выключателей, розеток | D46: =Source!H30 -> 100 ШТ | E46: =Source!I30 -> 0.46 | F46: =Source!AL30+Source!AM30+Source!AO30 -> 45.55 | I46: =Source!BO30 | S46: =ROUND((Source!FX30/100)*((ROUND(Source!AF30*Source!I30, 2)+ROUND(Source!AE30*Source!I30, 2))), 2) -> 17.81 | T46: =Source!X30 -> 119.5 | U46: =ROUND((Source!FY30/100)*((ROUND(Source!AF30*Source!I30, 2)+ROUND(Source!AE30*Source!I30, 2))), 2) -> 13.62 | V46: =Source!Y30 -> 91.38
C47: ="Объем: "&Source!I30&"=46/"&"100" -> Объем: 0,46=46/100
C48: Зарплата | F48: =Source!AO30 -> 45.55 | G48: =Source!DG30 | H48: =ROUND(Source!AF30*Source!I30, 2) -> 20.95 | J48: =IF(Source!BA30<> 0, Source!BA30, 1) -> 6.71 | K48: =Source!S30 -> 140.59 | R48: =H48 -> 20.95
C49: НР от ФОТ | D49: % | E49: =Source!BZ30 -> 85 | H49: =SUM(S46:S51) -> 17.81 | J49: =Source!AT30 -> 85 | K49: =SUM(T46:T51) -> 119.5
C50: СП от ФОТ | D50: % | E50: =Source!CA30 -> 65 | H50: =SUM(U46:U51) -> 13.62 | J50: =Source!AU30 -> 65 | K50: =SUM(V46:V51) -> 91.38
C51: Затраты труда | D51: чел-ч | E51: =Source!AQ30 -> 5.84 | G51: =Source!DI30 | L51: =Source!U30 -> 2.6864
...

Sheet Акт КС-2 c НР и СП
A1: =Source!B1 -> Smeta.RU (495) 974-1589
E2: Унифицированная форма № КС-2
E3: Утверждена постановлением Госкомстата России
E4: от 11.11.99. № 100
G6: Код
F7: Форма по ОКУД | G7: 0322005
G8: =IF(Source!AT15 <> "", Source!AT15, "")
A9: Инвестор | C9: =IF(Source!BA15 <> "", Source!BA15, IF(Source!AU15 <> "", Source!AU15, "")) | F9: по ОКПО
C10: организация, адрес, телефон, факс | G10: =IF(Source!AK15 <> "", Source!AK15, "")
A11: Заказчик | C11: =IF(Source!AX12<> "", Source!AX12, IF(Source!AJ12 <> "", Source!AJ12, "")) | F11: по ОКПО
C12: организация, адрес, телефон, факс | G12: =IF(Source!AO15 <> "", Source!AO15, "")
A13: Подрядчик | C13: =IF(Source!AY12<> "", Source!AY12, IF(Source!AN12 <> "", Source!AN12, "")) | F13: по ОКПО
C14: организация, адрес, телефон, факс | G14: =IF(Source!CO15 <> "", Source!CO15, "")
A15: Стройка | C15: на капитальный ремонт 2-го этажа здания корпуса 30 НИЯУ МИФИ по адресу: г.Москва,Каширское шоссе,д.31,стр.7 | AE15: на капитальный ремонт 2-го этажа здания корпуса 30 НИЯУ МИФИ по адресу: г.Москва,Каширское шоссе,д.31,стр.7
C16: наименование, адрес | G16: =IF(Source!CP15 <> "", Source!CP15, "")
A17: Объект | C17: =IF(Source!G12<>"Новый объект", Source!G12, "") -> на ремонт помещений № 2- № 8, № 10 2-го этажа здания корпуса 30 НИЯУ МИФИ по адресу: г. Москва, Каширское шоссе, д. 31 стр. 7 | AE17: =IF(Source!G12<>"Новый объект", Source!G12, "") -> на ремонт помещений № 2- № 8, № 10 2-го этажа здания корпуса 30 НИЯУ МИФИ по адресу: г. Москва, Каширское шоссе, д. 31 стр. 7
C18: наименование
D19: Вид деятельности по ОКДП | G19: =IF(Source!CQ15 <> "", Source!CQ15, "")
D20: Договор подряда | F20: номер | G20: =IF(Source!CR15 <> "", Source!CR15, "")
F21: дата | G21: =IF(Source!CS15 <> 0, Source!CS15, "")
F22: Вид операции | G22: =IF(Source!CT15 <> "", Source!CT15, "")
D24: Номер документа | E24: Дата составления | F24: Отчетный период
F25: с | G25: по
D26: =IF(Source!CN15 <> "", Source!CN15, "") | E26: 43390.58
A28: AKT
A29: О ПРИЕМКЕ ВЫПОЛНЕННЫХ РАБОТ
A31: Сметная (договорная) стоимость в соответствии с договором подряда (субподряда) | F31: =(Source!F388/1000) -> 1148.6723 | H31: тыс.руб
A33: Номер | C33: Наименование работ | D33: Номер единичной расценки | E33: Единица измерения | F33: Выполнено работ
A34: по порядку | B34: поз. по смете | F34: Количество | G34: цена за единицу, руб | H34: стоимость, руб
A35: 1 | B35: 2 | C35: 3 | D35: 4 | E35: 5 | F35: 6 | G35: 7 | H35: 8
A37: =CONCATENATE("Локальная смета: ",IF(Source!G20<>"Новая локальная смета", Source!G20, "")) -> Локальная смета:
A39: =CONCATENATE("Раздел: ",IF(Source!G24<>"Новый раздел", Source!G24, "")) -> Раздел: Демонтаж
A40: 1 | B40: =Source!E28 -> 1 | C40: =Source!G28 -> Разборка деревянных заполнений проемов дверных и воротных | D40: =Source!F28 -> 46-04-012-03 | E40: =Source!H28 -> 100 м2 | F40: =Source!I28 -> 0.0945 | G40: =Source!AB28 -> 1082.58 | H40: =Source!O28 -> 686.46 | T40: =Source!O28+Source!X28+Source!Y28 -> 1639.35 | U40: =Source!P28 -> 0 | V40: =Source!S28 -> 533.04 | W40: =Source!Q28 -> 153.42 | X40: =Source!R28 -> 66.26 | Y40: =Source!U28 -> 9.819495 | Z40: =Source!V28 -> 0.73143 | AA40: =Source!X28 -> 593.31 | AB40: =Source!Y28 -> 359.58
C41: ="Объем: "&Source!I28&"=9,45/"&"100" -> Объем: 0,0945=9,45/100
C42: Коэфф. к ОЗП | D42: =Source!BA28 -> 6.71
C43: Коэфф. к эксплуатации машин | D43: =Source!BB28 -> 6.71
C44: Коэфф. к материалам | D44: =Source!BC28 -> 6.71
C45: Коэфф. к ЗПМ | D45: =Source!BS28 -> 6.71
C46: % НР | F46: =Source!BZ28 -> 110 | G46: =(Source!AF28+Source!AE28)*Source!FX28/100 -> 935.6688 | H46: =Source!X28 -> 593.31
C47: % НР с поправкой | G47: =CONCATENATE(Source!DL28,Source!FT28, "=", Source!FX28, "%") -> *0,9=99% | H47: =CONCATENATE(Source!AT28) -> 99
...

Sheet Макет форма-3
A1: =Source!B1 -> Smeta.RU (495) 974-1589 | H1: Унифицированная форма № КС-3
H2: Утверждена постановлением Госкомстата России
H3: от 11.11.99. № 100
K4: Коды
I5: Форма по ОКУД | K5: 322001
A6: Инвестор | J6: по ОКПО
C7: организация, адрес, телефон, факс
A8: Заказчик (генподрядчик) | J8: по ОКПО
C9: организация, адрес, телефон, факс
A10: Подрядчик (субподрядчик) | J10: по ОКПО
C11: организация, адрес, телефон, факс
A12: Стройка | J12: по ОКПО
C13: наименование, адрес | H13: Вид деятельности по ОКДП
E14: Договор подряда (контракт) | I14: номер
I15: дата
I16: Вид операции
C19: Номер документа | E19: Дата составления | I19: Отчетный период
I20: с | K20: по
A24: СПРАВКА
A25: СТОИМОСТИ ВЫПОЛНЕННЫХ РАБОТ И ЗАТРАТ
A28: № п/п | B28: Наименование пусковых комплексов, объектов, видов работ, оборудования, затрат | F28: Код | G28: Стоимость выполненных работ и затрат
G29: с начала проведения работ | I29: с начала года по отчетный период включительно | K29: в том числе за отчетный месяц
A33: 1 | B33: 2 | F33: 3 | G33: 4 | I33: 5 | K33: 6
B34: Всего работ и затрат, включаемых в стоимость
B35: В том числе:
A36: Итого
A37: Сумма НДС
A38: Всего с учетом НДС
A42: Заказчик (генподрядчик)
C43: должность | G43: подпись | J43: расшифровка подпись
A45: МП
A49: Подрядчик (субподрядчик)
C50: должность | G50: подпись | J50: расшифровка подпись
A52: МП

Sheet Source
A1: 0 | B1: Smeta.RU (495) 974-1589 | D1: _PS_ | F1: 0 | G1: 0 | H1: 0 | I1: Smeta.RU | J1: НИЯУ МИФИ Доп. раб. место MCCS-0027251 | K1: 0 | L1: 27251 | M1: 10 | N1: 10 | O1: 1 | P1: 0 | Q1: 8
A12: 1 | B12: 419 | C12: 0 | D12: =ROW(A361) -> 361 | E12: 0 | F12: Новый объект | G12: на ремонт помещений № 2- № 8, № 10 2-го этажа здания корпуса 30 НИЯУ МИФИ по адресу: г. Москва, Каширское шоссе, д. 31 стр. 7 | I12: 0 | K12: 0 | O12: 0 | P12: 0 | Q12: 0 | R12: 0 | V12: 0 | BH12: Сметные нормы списания | BI12: Коды ценников | BJ12: 1 | BK12: 1 | BL12: 0 | BM12: 0 | BN12: 1 | BO12: 0 | BP12: 2 | BQ12: 2 | BR12: 1 | BS12: 1 | BT12: 0 | BU12: 0 | BV12: 0 | BW12: 0 | BX12: 0 | BY12: ФЕР-2017 | BZ12: ТР для Версии 10: Центральные регионы (с учетом п-ма 2536-ИП/12/ГС от 22.03.2017 г | CA12: ФЕР-2017 | CB12: ФЕР-2017 | CC12: ФЕР-2017 | CD12: ФЕР-2017 | CE12: Поправки для ГСН 2017 от 31.03.2017 г | CF12: 0 | CG12: 0 | CH12: 17301512 | CK12: 4 | EC12: 0
A15: 15 | B15: 1
A18: 52 | B18: =B361 -> 419 | C18: =C361 -> 1 | D18: =D361 -> 12 | E18: =E361 -> 0 | F18: =F361 -> Новый объект | G18: =G361 -> на ремонт помещений № 2- № 8, № 10 2-го этажа здания корпуса 30 НИЯУ МИФИ по адресу: г. Москва, Каширское шоссе, д. 31 стр. 7 | O18: =O361 -> 1006235.7 | P18: =P361 -> 902976.05 | Q18: =Q361 -> 6775.09 | R18: =R361 -> 1463.02 | S18: =S361 -> 96484.6 | T18: =T361 -> 0 | U18: =U361 -> 1332.7118 | V18: =V361 -> 17.025969 | ... GX18: =GX361 -> 0
A20: 3 | B20: 1 | D20: =ROW(A329) -> 329 | F20: Новая локальная смета | G20: Новая локальная смета | I20: 0 | K20: 0 | V20: 0 | BX20: 0 | CF20: 0 | CG20: 0
A22: 52 | B22: =B329 -> 1 | C22: =C329 -> 3 | D22: =D329 -> 20 | E22: =E329 -> 0 | F22: =F329 -> Новая локальная смета | G22: =G329 -> Новая локальная смета | O22: =O329 -> 1006235.7 | P22: =P329 -> 902976.05 | Q22: =Q329 -> 6775.09 | R22: =R329 -> 1463.02 | S22: =S329 -> 96484.6 | T22: =T329 -> 0 | U22: =U329 -> 1332.7118 | V22: =V329 -> 17.025969 | ... GX22: =GX329 -> 0
A24: 4 | B24: 1 | D24: =ROW(A46) -> 46 | F24: Новый раздел | G24: Демонтаж | I24: 0 | K24: 0 | V24: 0 | BX24: 0 | CJ24: 0
A26: 52 | B26: =B46 -> 1 | C26: =C46 -> 4 | D26: =D46 -> 24 | E26: =E46 -> 0 | F26: =F46 -> Новый раздел | G26: =G46 -> Демонтаж | O26: =O46 -> 10591.82 | P26: =P46 -> 0 | Q26: =Q46 -> 746.92 | R26: =R46 -> 276.14 | S26: =S46 -> 9844.9 | T26: =T46 -> 0 | U26: =U46 -> 181.25867 | V26: =V46 -> 3.055758 | ... GX26: =GX46 -> 0
A28: 17 | B28: 1 | C28: =ROW(SmtRes!A3) -> 3 | D28: =ROW(EtalonRes!A3) -> 3 | E28: 1 | F28: 46-04-012-03 | G28: Разборка деревянных заполнений проемов дверных и воротных | H28: 100 м2 | I28: =ROUND(9.45/100,9) -> 0.0945 | J28: 0 | O28: =ROUND(CP28,2) -> 686.46 | P28: =ROUND(CQ28*I28,2) -> 0 | Q28: =ROUND(CR28*I28,2) -> 153.42 | R28: =ROUND(CS28*I28,2) -> 66.26 | S28: =ROUND(CT28*I28,2) -> 533.04 | T28: =ROUND(CU28*I28,2) -> 0 | U28: =CV28*I28 -> 9.819495 | V28: =CW28*I28 -> 0.73143 | W28: =ROUND(CX28*I28,2) -> 0 | X28: =ROUND(CY28,2) -> 593.31 | Y28: =ROUND(CZ28,2) -> 359.58 | AA28: 16808636 | AB28: =ROUND((AC28+AD28+AF28),2) -> 1082.58 | AC28: =ROUND((ES28),2) -> 0 | AD28: =ROUND((((ET28)-(EU28))+AE28),2) -> 241.95 | AE28: =ROUND((EU28),2) -> 104.49 | AF28: =ROUND((EV28),2) -> 840.63 | AG28: =ROUND((AP28),2) -> 0 | AH28: =(EW28) -> 103.91 | AI28: =(EX28) -> 7.74 | AJ28: =(AS28) -> 0 | AK28: 1082.58 | AL28: 0 | AM28: 241.95 | AN28: 104.49 | AO28: 840.63 | AP28: 0 | AQ28: 103.91 | AR28: 7.74 | AS28: 0 | AT28: 99 | AU28: 60 | AV28: 1 | AW28: 1 | AZ28: 6.71 | BA28: 6.71 | BB28: 6.71 | BC28: 6.71 | BH28: 0 | BI28: 1 | BJ28: ФЕР-2001, 46-04-012-03, приказ Минстроя России №1039/пр от 30.12.2016г. | BM28: 46001 | BN28: 0 | BP28: 0 | BQ28: 2 | BR28: 0 | BS28: 6.71 | BT28: 1 | BU28: 1 | BV28: 1 | BW28: 1 | BX28: 1 | BZ28: 110 | CA28: 70 | CE28: 0 | CF28: 0 | CG28: 0 | CM28: 0 | CO28: 0 | CP28: =(P28+Q28+S28) -> 686.46 | CQ28: =AC28*BC28 -> 0 | CR28: =AD28*BB28 -> 1623.4845 | CS28: =AE28*BS28 -> 701.1279 | CT28: =AF28*BA28 -> 5640.6273 | CU28: =AG28 -> 0 | CV28: =AH28 -> 103.91 | CW28: =AI28 -> 7.74 | CX28: =AJ28 -> 0 | CY28: =(((S28+R28)*AT28)/100) -> 593.307 | CZ28: =(((S28+R28)*AU28)/100) -> 359.58 | DN28: 0 | DO28: 0 | DP28: 1 | DQ28: 1 | DU28: 1005 | DV28: 100 м2 | DW28: 100 м2 | DX28: 100 | EE28: 16510555 | EF28: 2 | EG28: Общестроительные работы | EH28: 0 | EJ28: 1 | EK28: 46001 | EL28: Реконструкция зданий и сооружений | EM28: ФЕР-46 | EQ28: 0 | ER28: 1082.58 | ES28: 0 | ET28: 241.95 | EU28: 104.49 | EV28: 840.63 | EW28: 103.91 | EX28: 7.74 | EY28: 0 | FQ28: 0 | FR28: =ROUND(IF(AND(BH28=3,BI28=3),P28,0),2) -> 0 | FS28: 0 | FT28: *0,9 | FU28: *0,85 | FX28: 99 | FY28: 59.5 | GD28: 0 | GF28: 309229644 | GG28: 1 | GH28: 1 | GI28: 4 | GJ28: 0 | GK28: =ROUND(R28*(R12)/100,2) -> 0 | GL28: =ROUND(IF(AND(BH28=3,BI28=3,FS28<>0),P28,0),2) -> 0 | GM28: =ROUND(O28+X28+Y28+GK28,2)+GX28 -> 1639.35 | GN28: =IF(OR(BI28=0,BI28=1),ROUND(O28+X28+Y28+GK28,2),0) -> 1639.35 | GO28: =IF(BI28=2,ROUND(O28+X28+Y28+GK28,2),0) -> 0 | GP28: =IF(BI28=4,ROUND(O28+X28+Y28+GK28,2)+GX28,0) -> 0 | GR28: 0 | GS28: 3 | GT28: 0 | GV28: =ROUND((GT28),2) -> 0 | GW28: 1 | GX28: =ROUND(HC28*I28,2) -> 0 | HA28: 0 | HB28: 0 | HC28: =GV28*GW28 -> 0 | IK28: 0
A29: 17 | B29: 1 | C29: =ROW(SmtRes!A6) -> 6 | D29: =ROW(EtalonRes!A6) -> 6 | E29: 2 | F29: 67-4-5 | G29: Демонтаж светильников для люминесцентных ламп (прим.) | H29: 100 ШТ | I29: =ROUND(48/100,9) -> 0.48 | J29: 0 | O29: =ROUND(CP29,2) -> 470.17 | P29: =ROUND(CQ29*I29,2) -> 0 | Q29: =ROUND(CR29*I29,2) -> 8.05 | R29: =ROUND(CS29*I29,2) -> 3.48 | S29: =ROUND(CT29*I29,2) -> 462.12 | T29: =ROUND(CU29*I29,2) -> 0 | U29: =CV29*I29 -> 8.5872 | V29: =CW29*I29 -> 0.0384 | W29: =ROUND(CX29*I29,2) -> 0 | X29: =ROUND(CY29,2) -> 395.76 | Y29: =ROUND(CZ29,2) -> 302.64 | AA29: 16808636 | AB29: =ROUND((AC29+AD29+AF29),2) -> 145.98 | AC29: =ROUND((ES29),2) -> 0 | AD29: =ROUND((((ET29)-(EU29))+AE29),2) -> 2.5 | AE29: =ROUND((EU29),2) -> 1.08 | AF29: =ROUND((EV29),2) -> 143.48 | AG29: =ROUND((AP29),2) -> 0 | AH29: =(EW29) -> 17.89 | AI29: =(EX29) -> 0.08 | AJ29: =(AS29) -> 0 | AK29: 145.98 | AL29: 0 | AM29: 2.5 | AN29: 1.08 | AO29: 143.48 | AP29: 0 | AQ29: 17.89 | AR29: 0.08 | AS29: 0 | AT29: 85 | AU29: 65 | AV29: 1 | AW29: 1 | AZ29: 6.71 | BA29: 6.71 | BB29: 6.71 | BC29: 6.71 | BH29: 0 | BI29: 1 | BJ29: ФЕРр-2001, 67-4-5, приказ Минстроя России №1039/пр от 30.12.2016г. | BM29: 67001 | BN29: 0 | BP29: 0 | BQ29: 6 | BR29: 0 | BS29: 6.71 | BT29: 1 | BU29: 1 | BV29: 1 | BW29: 1 | BX29: 1 | BZ29: 85 | CA29: 65 | CE29: 0 | CF29: 0 | CG29: 0 | CM29: 0 | CO29: 0 | CP29: =(P29+Q29+S29) -> 470.17 | CQ29: =AC29*BC29 -> 0 | CR29: =AD29*BB29 -> 16.775 | CS29: =AE29*BS29 -> 7.2468 | CT29: =AF29*BA29 -> 962.7508 | CU29: =AG29 -> 0 | CV29: =AH29 -> 17.89 | CW29: =AI29 -> 0.08 | CX29: =AJ29 -> 0 | CY29: =(((S29+R29)*AT29)/100) -> 395.76 | CZ29: =(((S29+R29)*AU29)/100) -> 302.64 | DN29: 0 | DO29: 0 | DP29: 1 | DQ29: 1 | DU29: 1013 | DV29: 100 ШТ | DW29: 100 ШТ | DX29: 1 | EE29: 16510612 | EF29: 6 | EG29: Ремонтно-строительные работы | EH29: 0 | EJ29: 1 | EK29: 67001 | EL29: Электромонтажные работы | EM29: рФЕР-67 | EQ29: 0 | ER29: 145.98 | ES29: 0 | ET29: 2.5 | EU29: 1.08 | EV29: 143.48 | EW29: 17.89 | EX29: 0.08 | EY29: 0 | FQ29: 0 | FR29: =ROUND(IF(AND(BH29=3,BI29=3),P29,0),2) -> 0 | FS29: 0 | FX29: 85 | FY29: 65 | GD29: 0 | GF29: -436817836 | GG29: 1 | GH29: 1 | GI29: 4 | GJ29: 0 | GK29: =ROUND(R29*(R12)/100,2) -> 0 | GL29: =ROUND(IF(AND(BH29=3,BI29=3,FS29<>0),P29,0),2) -> 0 | GM29: =ROUND(O29+X29+Y29+GK29,2)+GX29 -> 1168.57 | GN29: =IF(OR(BI29=0,BI29=1),ROUND(O29+X29+Y29+GK29,2),0) -> 1168.57 | GO29: =IF(BI29=2,ROUND(O29+X29+Y29+GK29,2),0) -> 0 | GP29: =IF(BI29=4,ROUND(O29+X29+Y29+GK29,2)+GX29,0) -> 0 | GR29: 0 | GS29: 3 | GT29: 0 | GV29: =ROUND((GT29),2) -> 0 | GW29: 1 | GX29: =ROUND(HC29*I29,2) -> 0 | HA29: 0 | HB29: 0 | HC29: =GV29*GW29 -> 0 | IK29: 0
A30: 17 | B30: 1 | C30: =ROW(SmtRes!A7) -> 7 | D30: =ROW(EtalonRes!A7) -> 7 | E30: 3 | F30: 67-4-1 | G30: Демонтаж выключателей, розеток | H30: 100 ШТ | I30: =ROUND(46/100,9) -> 0.46 | J30: 0 | O30: =ROUND(CP30,2) -> 140.59 | P30: =ROUND(CQ30*I30,2) -> 0 | Q30: =ROUND(CR30*I30,2) -> 0 | R30: =ROUND(CS30*I30,2) -> 0 | S30: =ROUND(CT30*I30,2) -> 140.59 | T30: =ROUND(CU30*I30,2) -> 0 | U30: =CV30*I30 -> 2.6864 | V30: =CW30*I30 -> 0 | W30: =ROUND(CX30*I30,2) -> 0 | X30: =ROUND(CY30,2) -> 119.5 | Y30: =ROUND(CZ30,2) -> 91.38 | AA30: 16808636 | AB30: =ROUND((AC30+AD30+AF30),2) -> 45.55 | AC30: =ROUND((ES30),2) -> 0 | AD30: =ROUND((((ET30)-(EU30))+AE30),2) -> 0 | AE30: =ROUND((EU30),2) -> 0 | AF30: =ROUND((EV30),2) -> 45.55 | AG30: =ROUND((AP30),2) -> 0 | AH30: =(EW30) -> 5.84 | AI30: =(EX30) -> 0 | AJ30: =(AS30) -> 0 | AK30: 45.55 | AL30: 0 | AM30: 0 | AN30: 0 | AO30: 45.55 | AP30: 0 | AQ30: 5.84 | AR30: 0 | AS30: 0 | AT30: 85 | AU30: 65 | AV30: 1 | AW30: 1 | AZ30: 6.71 | BA30: 6.71 | BB30: 6.71 | BC30: 6.71 | BH30: 0 | BI30: 1 | BJ30: ФЕРр-2001, 67-4-1, приказ Минстроя России №1039/пр от 30.12.2016г. | BM30: 67001 | BN30: 0 | BP30: 0 | BQ30: 6 | BR30: 0 | BS30: 6.71 | BT30: 1 | BU30: 1 | BV30: 1 | BW30: 1 | BX30: 1 | BZ30: 85 | CA30: 65 | CE30: 0 | CF30: 0 | CG30: 0 | CM30: 0 | CO30: 0 | CP30: =(P30+Q30+S30) -> 140.59 | CQ30: =AC30*BC30 -> 0 | CR30: =AD30*BB30 -> 0 | CS30: =AE30*BS30 -> 0 | CT30: =AF30*BA30 -> 305.6405 | CU30: =AG30 -> 0 | CV30: =AH30 -> 5.84 | CW30: =AI30 -> 0 | CX30: =AJ30 -> 0 | CY30: =(((S30+R30)*AT30)/100) -> 119.5015 | CZ30: =(((S30+R30)*AU30)/100) -> 91.3835 | DN30: 0 | DO30: 0 | DP30: 1 | DQ30: 1 | DU30: 1013 | DV30: 100 ШТ | DW30: 100 ШТ | DX30: 1 | EE30: 16510612 | EF30: 6 | EG30: Ремонтно-строительные работы | EH30: 0 | EJ30: 1 | EK30: 67001 | EL30: Электромонтажные работы | EM30: рФЕР-67 | EQ30: 0 | ER30: 45.55 | ES30: 0 | ET30: 0 | EU30: 0 | EV30: 45.55 | EW30: 5.84 | EX30: 0 | EY30: 0 | FQ30: 0 | FR30: =ROUND(IF(AND(BH30=3,BI30=3),P30,0),2) -> 0 | FS30: 0 | FX30: 85 | FY30: 65 | GD30: 0 | GF30: -729058478 | GG30: 1 | GH30: 1 | GI30: 4 | GJ30: 0 | GK30: =ROUND(R30*(R12)/100,2) -> 0 | GL30: =ROUND(IF(AND(BH30=3,BI30=3,FS30<>0),P30,0),2) -> 0 | GM30: =ROUND(O30+X30+Y30+GK30,2)+GX30 -> 351.47 | GN30: =IF(OR(BI30=0,BI30=1),ROUND(O30+X30+Y30+GK30,2),0) -> 351.47 | GO30: =IF(BI30=2,ROUND(O30+X30+Y30+GK30,2),0) -> 0 | GP30: =IF(BI30=4,ROUND(O30+X30+Y30+GK30,2)+GX30,0) -> 0 | GR30: 0 | GS30: 3 | GT30: 0 | GV30: =ROUND((GT30),2) -> 0 | GW30: 1 | GX30: =ROUND(HC30*I30,2) -> 0 | HA30: 0 | HB30: 0 | HC30: =GV30*GW30 -> 0 | IK30: 0
A31: 17 | B31: 1 | C31: =ROW(SmtRes!A10) -> 10 | D31: =ROW(EtalonRes!A10) -> 10 | E31: 4 | F31: 67-3-1 | G31: Демонтаж кабеля | H31: 100 м | I31: =ROUND(115/100,9) -> 1.15 | J31: 0 | O31: =ROUND(CP31,2) -> 582.59 | P31: =ROUND(CQ31*I31,2) -> 0 | Q31: =ROUND(CR31*I31,2) -> 2.39 | R31: =ROUND(CS31*I31,2) -> 1.08 | S31: =ROUND(CT31*I31,2) -> 580.2 | T31: =ROUND(CU31*I31,2) -> 0 | U31: =CV31*I31 -> 11.086 | V31: =CW31*I31 -> 0.0115 | W31: =ROUND(CX31*I31,2) -> 0 | X31: =ROUND(CY31,2) -> 494.09 | Y31: =ROUND(CZ31,2) -> 377.83 | AA31: 16808636 | AB31: =ROUND((AC31+AD31+AF31),2) -> 75.5 | AC31: =ROUND((ES31),2) -> 0 | AD31: =ROUND((((ET31)-(EU31))+AE31),2) -> 0.31 | AE31: =ROUND((EU31),2) -> 0.14 | AF31: =ROUND((EV31),2) -> 75.19 | AG31: =ROUND((AP31),2) -> 0 | AH31: =(EW31) -> 9.64 | AI31: =(EX31) -> 0.01 | AJ31: =(AS31) -> 0 | AK31: 75.5 | AL31: 0 | AM31: 0.31 | AN31: 0.14 | AO31: 75.19 | AP31: 0 | AQ31: 9.64 | AR31: 0.01 | AS31: 0 | AT31: 85 | AU31: 65 | AV31: 1 | AW31: 1 | AZ31: 6.71 | BA31: 6.71 | BB31: 6.71 | BC31: 6.71 | BH31: 0 | BI31: 1 | BJ31: ФЕРр-2001, 67-3-1, приказ Минстроя России №1039/пр от 30.12.2016г. | BM31: 67001 | BN31: 0 | BP31: 0 | BQ31: 6 | BR31: 0 | BS31: 6.71 | BT31: 1 | BU31: 1 | BV31: 1 | BW31: 1 | BX31: 1 | BZ31: 85 | CA31: 65 | CE31: 0 | CF31: 0 | CG31: 0 | CM31: 0 | CO31: 0 | CP31: =(P31+Q31+S31) -> 582.59 | CQ31: =AC31*BC31 -> 0 | CR31: =AD31*BB31 -> 2.0801 | CS31: =AE31*BS31 -> 0.9394 | CT31: =AF31*BA31 -> 504.5249 | CU31: =AG31 -> 0 | CV31: =AH31 -> 9.64 | CW31: =AI31 -> 0.01 | CX31: =AJ31 -> 0 | CY31: =(((S31+R31)*AT31)/100) -> 494.088 | CZ31: =(((S31+R31)*AU31)/100) -> 377.832 | DN31: 0 | DO31: 0 | DP31: 1 | DQ31: 1 | DU31: 1003 | DV31: 100 м | DW31: 100 м | DX31: 100 | EE31: 16510612 | EF31: 6 | EG31: Ремонтно-строительные работы | EH31: 0 | EJ31: 1 | EK31: 67001 | EL31: Электромонтажные работы | EM31: рФЕР-67 | EQ31: 0 | ER31: 75.5 | ES31: 0 | ET31: 0.31 | EU31: 0.14 | EV31: 75.19 | EW31: 9.64 | EX31: 0.01 | EY31: 0 | FQ31: 0 | FR31: =ROUND(IF(AND(BH31=3,BI31=3),P31,0),2) -> 0 | FS31: 0 | FX31: 85 | FY31: 65 | GD31: 0 | GF31: 994189354 | GG31: 1 | GH31: 1 | GI31: 4 | GJ31: 0 | GK31: =ROUND(R31*(R12)/100,2) -> 0 | GL31: =ROUND(IF(AND(BH31=3,BI31=3,FS31<>0),P31,0),2) -> 0 | GM31: =ROUND(O31+X31+Y31+GK31,2)+GX31 -> 1454.51 | GN31: =IF(OR(BI31=0,BI31=1),ROUND(O31+X31+Y31+GK31,2),0) -> 1454.51 | GO31: =IF(BI31=2,ROUND(O31+X31+Y31+GK31,2),0) -> 0 | GP31: =IF(BI31=4,ROUND(O31+X31+Y31+GK31,2)+GX31,0) -> 0 | GR31: 0 | GS31: 3 | GT31: 0 | GV31: =ROUND((GT31),2) -> 0 | GW31: 1 | GX31: =ROUND(HC31*I31,2) -> 0 | HA31: 0 | HB31: 0 | HC31: =GV31*GW31 -> 0 | IK31: 0
A32: 17 | B32: 1 | C32: =ROW(SmtRes!A18) -> 18 | D32: =ROW(EtalonRes!A18) -> 18 | E32: 5 | F32: м08-02-370-02 | G32: Демонтаж:Щиток до трех групп, устанавливаемый в нише цоколя | H32: ШТ | I32: 2 | J32: 0 | O32: =ROUND(CP32,2) -> 109.64 | P32: =ROUND(CQ32*I32,2) -> 0 | Q32: =ROUND(CR32*I32,2) -> 71.53 | R32: =ROUND(CS32*I32,2) -> 10.07 | S32: =ROUND(CT32*I32,2) -> 38.11 | T32: =ROUND(CU32*I32,2) -> 0 | U32: =CV32*I32 -> 0.54 | V32: =CW32*I32 -> 0.12 | W32: =ROUND(CX32*I32,2) -> 0 | X32: =ROUND(CY32,2) -> 45.77 | Y32: =ROUND(CZ32,2) -> 31.32 | AA32: 16808636 | AB32: =ROUND((AC32+AD32+AF32),2) -> 8.17 | AC32: =ROUND(((ES32*0)),2) -> 0 | AD32: =ROUND(((((ET32*0.3))-((EU32*0.3)))+AE32),2) -> 5.33 | AE32: =ROUND(((EU32*0.3)),2) -> 0.75 | AF32: =ROUND(((EV32*0.3)),2) -> 2.84 | AG32: =ROUND((AP32),2) -> 0 | AH32: =((EW32*0.3)) -> 0.27 | AI32: =((EX32*0.3)) -> 0.06 | AJ32: =(AS32) -> 0 | AK32: 33.42 | AL32: 6.2 | AM32: 17.77 | AN32: 2.51 | AO32: 9.45 | AP32: 0 | AQ32: 0.9 | AR32: 0.2 | AS32: 0 | AT32: 95 | AU32: 65 | AV32: 1 | AW32: 1 | AZ32: 6.71 | BA32: 6.71 | BB32: 6.71 | BC32: 6.71 | BH32: 0 | BI32: 2 | BJ32: ФЕРм-2001, м08-02-370-02, приказ Минстроя России №1039/пр от 30.12.2016г. | BM32: 108001 | BN32: 0 | BP32: 0 | BQ32: 3 | BR32: 0 | BS32: 6.71 | BT32: 1 | BU32: 1 | BV32: 1 | BW32: 1 | BX32: 1 | BZ32: 95 | CA32: 65 | CE32: 0 | CF32: 0 | CG32: 0 | CM32: 0 | CN32: Поправка: Табл.3, п.4 Наименование: Демонтаж: Оборудование, не пригодное для дальнейшего использования, (предназначено в лом) без разборки и резки | CO32: 0 | CP32: =(P32+Q32+S32) -> 109.64 | CQ32: =AC32*BC32 -> 0 | CR32: =AD32*BB32 -> 35.7643 | CS32: =AE32*BS32 -> 5.0325 | CT32: =AF32*BA32 -> 19.0564 | CU32: =AG32 -> 0 | CV32: =AH32 -> 0.27 | CW32: =AI32 -> 0.06 | CX32: =AJ32 -> 0 | CY32: =(((S32+R32)*AT32)/100) -> 45.771 | CZ32: =(((S32+R32)*AU32)/100) -> 31.317 | DD32: )*0 | DE32: )*0,3 | DF32: )*0,3 | DG32: )*0,3 | DI32: )*0,3 | DJ32: )*0,3 | DN32: 0 | DO32: 0 | DP32: 1 | DQ32: 1 | DU32: 1013 | DV32: ШТ | DW32: ШТ | DX32: 1 | EE32: 16510370 | EF32: 3 | EG32: Монтажные работы | EH32: 0 | EJ32: 2 | EK32: 108001 | EL32: Электромонтажные работы , отдел 01-03 : ( на АЭС НР = 110% ) - (работы по упр. авиа.- движением: СП=55% ( {АВИА}=1; обычные работы : СП=65 - {AВИА}=0), при работе на АЭС СП= 68% ) | EM32: мФЕР-08 | EO32: Поправка: Табл.3, п.4 | EQ32: 0 | ER32: 33.42 | ES32: 6.2 | ET32: 17.77 | EU32: 2.51 | EV32: 9.45 | EW32: 0.9 | EX32: 0.2 | EY32: 0 | FQ32: 0 | FR32: =ROUND(IF(AND(BH32=3,BI32=3),P32,0),2) -> 0 | FS32: 0 | FX32: 95 | FY32: 65 | GD32: 0 | GF32: -906572006 | GG32: 1 | GH32: 1 | GI32: 4 | GJ32: 0 | GK32: =ROUND(R32*(R12)/100,2) -> 0 | GL32: =ROUND(IF(AND(BH32=3,BI32=3,FS32<>0),P32,0),2) -> 0 | GM32: =ROUND(O32+X32+Y32+GK32,2)+GX32 -> 186.73 | GN32: =IF(OR(BI32=0,BI32=1),ROUND(O32+X32+Y32+GK32,2),0) -> 0 | GO32: =IF(BI32=2,ROUND(O32+X32+Y32+GK32,2),0) -> 186.73 | GP32: =IF(BI32=4,ROUND(O32+X32+Y32+GK32,2)+GX32,0) -> 0 | GR32: 0 | GS32: 3 | GT32: 0 | GV32: =ROUND((GT32),2) -> 0 | GW32: 1 | GX32: =ROUND(HC32*I32,2) -> 0 | HA32: 0 | HB32: 0 | HC32: =GV32*GW32 -> 0 | IK32: 0
A33: 17 | B33: 1 | C33: =ROW(SmtRes!A24) -> 24 | D33: =ROW(EtalonRes!A24) -> 24 | E33: 6 | F33: м08-02-390-01 | G33: Демонтаж:Короба пластмассовые шириной до 40 мм | H33: 100 м | I33: =ROUND(115/100,9) -> 1.15 | J33: 0 | O33: =ROUND(CP33,2) -> 359.35 | P33: =ROUND(CQ33*I33,2) -> 0 | Q33: =ROUND(CR33*I33,2) -> 0.69 | R33: =ROUND(CS33*I33,2) -> 0.31 | S33: =ROUND(CT33*I33,2) -> 358.66 | T33: =ROUND(CU33*I33,2) -> 0 | U33: =CV33*I33 -> 5.62005 | V33: =CW33*I33 -> 0.00345 | W33: =ROUND(CX33*I33,2) -> 0 | X33: =ROUND(CY33,2) -> 341.02 | Y33: =ROUND(CZ33,2) -> 233.33 | AA33: 16808636 | AB33: =ROUND((AC33+AD33+AF33),2) -> 46.57 | AC33: =ROUND(((ES33*0)),2) -> 0 | AD33: =ROUND(((((ET33*0.3))-((EU33*0.3)))+AE33),2) -> 0.09 | AE33: =ROUND(((EU33*0.3)),2) -> 0.04 | AF33: =ROUND(((EV33*0.3)),2) -> 46.48 | AG33: =ROUND((AP33),2) -> 0 | AH33: =((EW33*0.3)) -> 4.887 | AI33: =((EX33*0.3)) -> 0.003 | AJ33: =(AS33) -> 0 | AK33: 206.76 | AL33: 51.53 | AM33: 0.31 | AN33: 0.14 | AO33: 154.92 | AP33: 0 | AQ33: 16.29 | AR33: 0.01 | AS33: 0 | AT33: 95 | AU33: 65 | AV33: 1 | AW33: 1 | AZ33: 6.71 | BA33: 6.71 | BB33: 6.71 | BC33: 6.71 | BH33: 0 | BI33: 2 | BJ33: ФЕРм-2001, м08-02-390-01, приказ Минстроя России №1039/пр от 30.12.2016г. | BM33: 108001 | BN33: 0 | BP33: 0 | BQ33: 3 | BR33: 0 | BS33: 6.71 | BT33: 1 | BU33: 1 | BV33: 1 | BW33: 1 | BX33: 1 | BZ33: 95 | CA33: 65 | CE33: 0 | CF33: 0 | CG33: 0 | CM33: 0 | CN33: Поправка: Табл.3, п.4 Наименование: Демонтаж: Оборудование, не пригодное для дальнейшего использования, (предназначено в лом) без разборки и резки | CO33: 0 | CP33: =(P33+Q33+S33) -> 359.35 | CQ33: =AC33*BC33 -> 0 | CR33: =AD33*BB33 -> 0.6039 | CS33: =AE33*BS33 -> 0.2684 | CT33: =AF33*BA33 -> 311.8808 | CU33: =AG33 -> 0 | CV33: =AH33 -> 4.887 | CW33: =AI33 -> 0.003 | CX33: =AJ33 -> 0 | CY33: =(((S33+R33)*AT33)/100) -> 341.0215 | CZ33: =(((S33+R33)*AU33)/100) -> 233.3305 | DD33: )*0 | DE33: )*0,3 | DF33: )*0,3 | DG33: )*0,3 | DI33: )*0,3 | DJ33: )*0,3 | DN33: 0 | DO33: 0 | DP33: 1 | DQ33: 1 | DU33: 1003 | DV33: 100 м | DW33: 100 м | DX33: 100 | EE33: 16510370 | EF33: 3 | EG33: Монтажные работы | EH33: 0 | EJ33: 2 | EK33: 108001 | EL33: Электромонтажные работы , отдел 01-03 : ( на АЭС НР = 110% ) - (работы по упр. авиа.- движением: СП=55% ( {АВИА}=1; обычные работы : СП=65 - {AВИА}=0), при работе на АЭС СП= 68% ) | EM33: мФЕР-08 | EO33: Поправка: Табл.3, п.4 | EQ33: 0 | ER33: 206.76 | ES33: 51.53 | ET33: 0.31 | EU33: 0.14 | EV33: 154.92 | EW33: 16.29 | EX33: 0.01 | EY33: 0 | FQ33: 0 | FR33: =ROUND(IF(AND(BH33=3,BI33=3),P33,0),2) -> 0 | FS33: 0 | FX33: 95 | FY33: 65 | GD33: 0 | GF33: -1862294278 | GG33: 1 | GH33: 1 | GI33: 4 | GJ33: 0 | GK33: =ROUND(R33*(R12)/100,2) -> 0 | GL33: =ROUND(IF(AND(BH33=3,BI33=3,FS33<>0),P33,0),2) -> 0 | GM33: =ROUND(O33+X33+Y33+GK33,2)+GX33 -> 933.7 | GN33: =IF(OR(BI33=0,BI33=1),ROUND(O33+X33+Y33+GK33,2),0) -> 0 | GO33: =IF(BI33=2,ROUND(O33+X33+Y33+GK33,2),0) -> 933.7 | GP33: =IF(BI33=4,ROUND(O33+X33+Y33+GK33,2)+GX33,0) -> 0 | GR33: 0 | GS33: 3 | GT33: 0 | GV33: =ROUND((GT33),2) -> 0 | GW33: 1 | GX33: =ROUND(HC33*I33,2) -> 0 | HA33: 0 | HB33: 0 | HC33: =GV33*GW33 -> 0 | IK33: 0
A34: 17 | B34: 1 | C34: =ROW(SmtRes!A31) -> 31 | D34: =ROW(EtalonRes!A31) -> 31 | E34: 7 | F34: м10-08-002-01 | G34: Демонтаж:ПС автоматический тепловой электро-контактный, магнитоконтактный в нормальном исполнении | H34: ШТ | I34: 21 | J34: 0 | O34: =ROUND(CP34,2) -> 341 | P34: =ROUND(CQ34*I34,2) -> 0 | Q34: =ROUND(CR34*I34,2) -> 0 | R34: =ROUND(CS34*I34,2) -> 0 | S34: =ROUND(CT34*I34,2) -> 341 | T34: =ROUND(CU34*I34,2) -> 0 | U34: =CV34*I34 -> 5.292 | V34: =CW34*I34 -> 0 | W34: =ROUND(CX34*I34,2) -> 0 | X34: =ROUND(CY34,2) -> 272.8 | Y34: =ROUND(CZ34,2) -> 204.6 | AA34: 16808636 | AB34: =ROUND((AC34+AD34+AF34),2) -> 2.42 | AC34: =ROUND(((ES34*0)),2) -> 0 | AD34: =ROUND(((((ET34*0.3))-((EU34*0.3)))+AE34),2) -> 0 | AE34: =ROUND(((EU34*0.3)),2) -> 0 | AF34: =ROUND(((EV34*0.3)),2) -> 2.42 | AG34: =ROUND((AP34),2) -> 0 | AH34: =((EW34*0.3)) -> 0.252 | AI34: =((EX34*0.3)) -> 0 | AJ34: =(AS34) -> 0 | AK34: 9.36 | AL34: 1.28 | AM34: 0 | AN34: 0 | AO34: 8.08 | AP34: 0 | AQ34: 0.84 | AR34: 0 | AS34: 0 | AT34: 80 | AU34: 60 | AV34: 1 | AW34: 1 | AZ34: 6.71 | BA34: 6.71 | BB34: 6.71 | BC34: 6.71 | BH34: 0 | BI34: 2 | BJ34: ФЕРм-2001, м10-08-002-01, приказ Минстроя России №1039/пр от 30.12.2016г. | BM34: 110011 | BN34: 0 | BP34: 0 | BQ34: 3 | BR34: 0 | BS34: 6.71 | BT34: 1 | BU34: 1 | BV34: 1 | BW34: 1 | BX34: 1 | BZ34: 80 | CA34: 60 | CE34: 0 | CF34: 0 | CG34: 0 | CM34: 0 | CN34: Поправка: Табл.3, п.4 Наименование: Демонтаж: Оборудование, не пригодное для дальнейшего использования, (предназначено в лом) без разборки и резки | CO34: 0 | CP34: =(P34+Q34+S34) -> 341 | CQ34: =AC34*BC34 -> 0 | CR34: =AD34*BB34 -> 0 | CS34: =AE34*BS34 -> 0 | CT34: =AF34*BA34 -> 16.2382 | CU34: =AG34 -> 0 | CV34: =AH34 -> 0.252 | CW34: =AI34 -> 0 | CX34: =AJ34 -> 0 | CY34: =(((S34+R34)*AT34)/100) -> 272.8 | CZ34: =(((S34+R34)*AU34)/100) -> 204.6 | DD34: )*0 | DE34: )*0,3 | DF34: )*0,3 | DG34: )*0,3 | DI34: )*0,3 | DJ34: )*0,3 | DN34: 0 | DO34: 0 | DP34: 1 | DQ34: 1 | DU34: 1013 | DV34: ШТ | DW34: ШТ | DX34: 1 | EE34: 16510417 | EF34: 3 | EG34: Монтажные работы | EH34: 0 | EJ34: 2 | EK34: 110011 | EL34: Связь: пожарно-охранная сигнализация и пром. телевиз. установки ( отделы 8 и 9 ) (при устройстве средств посадки самолетов : НР=95%, СП=55% - {АВИА}=1) | EM34: мФЕР-10 | EO34: Поправка: Табл.3, п.4 | EQ34: 0 | ER34: 9.36 | ES34: 1.28 | ET34: 0 | EU34: 0 | EV34: 8.08 | EW34: 0.84 | EX34: 0 | EY34: 0 | FQ34: 0 | FR34: =ROUND(IF(AND(BH34=3,BI34=3),P34,0),2) -> 0 | FS34: 0 | FX34: 80 | FY34: 60 | GD34: 0 | GF34: -2034624208 | GG34: 1 | GH34: 1 | GI34: 4 | GJ34: 0 | GK34: =ROUND(R34*(R12)/100,2) -> 0 | GL34: =ROUND(IF(AND(BH34=3,BI34=3,FS34<>0),P34,0),2) -> 0 | GM34: =ROUND(O34+X34+Y34+GK34,2)+GX34 -> 818.4 | GN34: =IF(OR(BI34=0,BI34=1),ROUND(O34+X34+Y34+GK34,2),0) -> 0 | GO34: =IF(BI34=2,ROUND(O34+X34+Y34+GK34,2),0) -> 818.4 | GP34: =IF(BI34=4,ROUND(O34+X34+Y34+GK34,2)+GX34,0) -> 0 | GR34: 0 | GS34: 3 | GT34: 0 | GV34: =ROUND((GT34),2) -> 0 | GW34: 1 | GX34: =ROUND(HC34*I34,2) -> 0 | HA34: 0 | HB34: 0 | HC34: =GV34*GW34 -> 0 | IK34: 0
A35: 17 | B35: 1 | C35: =ROW(SmtRes!A36) -> 36 | D35: =ROW(EtalonRes!A36) -> 36 | E35: 8 | F35: м10-04-101-07 | G35: Демонтаж:Громкоговоритель или звуковая колонка в помещении | H35: ШТ | I35: 6 | J35: 0 | O35: =ROUND(CP35,2) -> 438.03 | P35: =ROUND(CQ35*I35,2) -> 0 | Q35: =ROUND(CR35*I35,2) -> 0 | R35: =ROUND(CS35*I35,2) -> 0 | S35: =ROUND(CT35*I35,2) -> 438.03 | T35: =ROUND(CU35*I35,2) -> 0 | U35: =CV35*I35 -> 7.2 | V35: =CW35*I35 -> 0 | W35: =ROUND(CX35*I35,2) -> 0 | X35: =ROUND(CY35,2) -> 402.99 | Y35: =ROUND(CZ35,2) -> 284.72 | AA35: 16808636 | AB35: =ROUND((AC35+AD35+AF35),2) -> 10.88 | AC35: =ROUND(((ES35*0)),2) -> 0 | AD35: =ROUND(((((ET35*0.6))-((EU35*0.6)))+AE35),2) -> 0 | AE35: =ROUND(((EU35*0.6)),2) -> 0 | AF35: =ROUND(((EV35*0.6)),2) -> 10.88 | AG35: =ROUND((AP35),2) -> 0 | AH35: =((EW35*0.6)) -> 1.2 | AI35: =((EX35*0.6)) -> 0 | AJ35: =(AS35) -> 0 | AK35: 30.77 | AL35: 12.63 | AM35: 0 | AN35: 0 | AO35: 18.14 | AP35: 0 | AQ35: 2 | AR35: 0 | AS35: 0 | AT35: 92 | AU35: 65 | AV35: 1 | AW35: 1 | AZ35: 6.71 | BA35: 6.71 | BB35: 6.71 | BC35: 6.71 | BH35: 0 | BI35: 2 | BJ35: ФЕРм-2001, м10-04-101-07, приказ Минстроя России №1039/пр от 30.12.2016г. | BM35: 110004 | BN35: 0 | BP35: 0 | BQ35: 3 | BR35: 0 | BS35: 6.71 | BT35: 1 | BU35: 1 | BV35: 1 | BW35: 1 | BX35: 1 | BZ35: 92 | CA35: 65 | CE35: 0 | CF35: 0 | CG35: 0 | CM35: 0 | CN35: Поправка: МДС 81-37.2004, п.3.2.1.2 Наименование: Для оборудования легковесного, габаритного, поступающего на стройку в собранном виде, при монтаже которого отсутствуют работы по сварке, демонтаж при условии что оборудование подлежит дальнейшему использованию, без надобности хранения (перемещается в цеху на другое место установки и т.п.) | CO35: 0 | CP35: =(P35+Q35+S35) -> 438.03 | CQ35: =AC35*BC35 -> 0 | CR35: =AD35*BB35 -> 0 | CS35: =AE35*BS35 -> 0 | CT35: =AF35*BA35 -> 73.0048 | CU35: =AG35 -> 0 | CV35: =AH35 -> 1.2 | CW35: =AI35 -> 0 | CX35: =AJ35 -> 0 | CY35: =(((S35+R35)*AT35)/100) -> 402.9876 | CZ35: =(((S35+R35)*AU35)/100) -> 284.7195 | DD35: )*0 | DE35: )*0,6 | DF35: )*0,6 | DG35: )*0,6 | DI35: )*0,6 | DJ35: )*0,6 | DN35: 0 | DO35: 0 | DP35: 1 | DQ35: 1 | DU35: 1013 | DV35: ШТ | DW35: ШТ | DX35: 1 | EE35: 16510374 | EF35: 3 | EG35: Монтажные работы | EH35: 0 | EJ35: 2 | EK35: 110004 | EL35: Связь: монтаж теле- радио оборудования ( отдел 4 и 5 ) - (при устройстве средств посадки самолетов : НР=95%, СП=55% - {АВИА}=1) | EM35: мФЕР-10 | EO35: Поправка: МДС 81-37.2004, п.3.2.1.2 | EQ35: 0 | ER35: 30.77 | ES35: 12.63 | ET35: 0 | EU35: 0 | EV35: 18.14 | EW35: 2 | EX35: 0 | EY35: 0 | FQ35: 0 | FR35: =ROUND(IF(AND(BH35=3,BI35=3),P35,0),2) -> 0 | FS35: 0 | FX35: 92 | FY35: 65 | GD35: 0 | GF35: -1597645418 | GG35: 1 | GH35: 1 | GI35: 4 | GJ35: 0 | GK35: =ROUND(R35*(R12)/100,2) -> 0 | GL35: =ROUND(IF(AND(BH35=3,BI35=3,FS35<>0),P35,0),2) -> 0 | GM35: =ROUND(O35+X35+Y35+GK35,2)+GX35 -> 1125.74 | GN35: =IF(OR(BI35=0,BI35=1),ROUND(O35+X35+Y35+GK35,2),0) -> 0 | GO35: =IF(BI35=2,ROUND(O35+X35+Y35+GK35,2),0) -> 1125.74 | GP35: =IF(BI35=4,ROUND(O35+X35+Y35+GK35,2)+GX35,0) -> 0 | GR35: 0 | GS35: 3 | GT35: 0 | GV35: =ROUND((GT35),2) -> 0 | GW35: 1 | GX35: =ROUND(HC35*I35,2) -> 0 | HA35: 0 | HB35: 0 | HC35: =GV35*GW35 -> 0 | IK35: 0
A36: 17 | B36: 1 | C36: =ROW(SmtRes!A39) -> 39 | D36: =ROW(EtalonRes!A40) -> 40 | E36: 9 | F36: 57-2-2 | G36: Разборка покрытий полов из плиток поливинилхлоридных | H36: 100 м2 | I36: =ROUND(150/100,9) -> 1.5 | J36: 0 | O36: =ROUND(CP36,2) -> 2827.05 | P36: =ROUND(CQ36*I36,2) -> 0 | Q36: =ROUND(CR36*I36,2) -> 40.86 | R36: =ROUND(CS36*I36,2) -> 17.71 | S36: =ROUND(CT36*I36,2) -> 2786.19 | T36: =ROUND(CU36*I36,2) -> 0 | U36: =CV36*I36 -> 53.235 | V36: =CW36*I36 -> 0.195 | W36: =ROUND(CX36*I36,2) -> 0 | X36: =ROUND(CY36,2) -> 2243.12 | Y36: =ROUND(CZ36,2) -> 1906.65 | AA36: 16808636 | AB36: =ROUND((AC36+AD36+AF36),2) -> 280.88 | AC36: =ROUND((ES36),2) -> 0 | AD36: =ROUND((((ET36)-(EU36))+AE36),2) -> 4.06 | AE36: =ROUND((EU36),2) -> 1.76 | AF36: =ROUND((EV36),2) -> 276.82 | AG36: =ROUND((AP36),2) -> 0 | AH36: =(EW36) -> 35.49 | AI36: =(EX36) -> 0.13 | AJ36: =(AS36) -> 0 | AK36: 280.88 | AL36: 0 | AM36: 4.06 | AN36: 1.76 | AO36: 276.82 | AP36: 0 | AQ36: 35.49 | AR36: 0.13 | AS36: 0 | AT36: 80 | AU36: 68 | AV36: 1 | AW36: 1 | AZ36: 6.71 | BA36: 6.71 | BB36: 6.71 | BC36: 6.71 | BH36: 0 | BI36: 1 | BJ36: ФЕРр-2001, 57-2-2, приказ Минстроя России №1039/пр от 30.12.2016г. | BM36: 57001 | BN36: 0 | BP36: 0 | BQ36: 6 | BR36: 0 | BS36: 6.71 | BT36: 1 | BU36: 1 | BV36: 1 | BW36: 1 | BX36: 1 | BZ36: 80 | CA36: 68 | CE36: 0 | CF36: 0 | CG36: 0 | CM36: 0 | CO36: 0 | CP36: =(P36+Q36+S36) -> 2827.05 | CQ36: =AC36*BC36 -> 0 | CR36: =AD36*BB36 -> 27.2426 | CS36: =AE36*BS36 -> 11.8096 | CT36: =AF36*BA36 -> 1857.4622 | CU36: =AG36 -> 0 | CV36: =AH36 -> 35.49 | CW36: =AI36 -> 0.13 | CX36: =AJ36 -> 0 | CY36: =(((S36+R36)*AT36)/100) -> 2243.12 | CZ36: =(((S36+R36)*AU36)/100) -> 1906.652 | DN36: 0 | DO36: 0 | DP36: 1 | DQ36: 1 | DU36: 1005 | DV36: 100 м2 | DW36: 100 м2 | DX36: 100 | EE36: 16510566 | EF36: 6 | EG36: Ремонтно-строительные работы | EH36: 0 | EJ36: 1 | EK36: 57001 | EL36: Полы | EM36: рФЕР-57 | EQ36: 0 | ER36: 280.88 | ES36: 0 | ET36: 4.06 | EU36: 1.76 | EV36: 276.82 | EW36: 35.49 | EX36: 0.13 | EY36: 0 | FQ36: 0 | FR36: =ROUND(IF(AND(BH36=3,BI36=3),P36,0),2) -> 0 | FS36: 0 | FX36: 80 | FY36: 68 | GD36: 0 | GF36: 1273045449 | GG36: 1 | GH36: 1 | GI36: 4 | GJ36: 0 | GK36: =ROUND(R36*(R12)/100,2) -> 0 | GL36: =ROUND(IF(AND(BH36=3,BI36=3,FS36<>0),P36,0),2) -> 0 | GM36: =ROUND(O36+X36+Y36+GK36,2)+GX36 -> 6976.82 | GN36: =IF(OR(BI36=0,BI36=1),ROUND(O36+X36+Y36+GK36,2),0) -> 6976.82 | GO36: =IF(BI36=2,ROUND(O36+X36+Y36+GK36,2),0) -> 0 | GP36: =IF(BI36=4,ROUND(O36+X36+Y36+GK36,2)+GX36,0) -> 0 | GR36: 0 | GS36: 3 | GT36: 0 | GV36: =ROUND((GT36),2) -> 0 | GW36: 1 | GX36: =ROUND(HC36*I36,2) -> 0 | HA36: 0 | HB36: 0 | HC36: =GV36*GW36 -> 0 | IK36: 0
A37: 17 | B37: 1 | C37: =ROW(SmtRes!A44) -> 44 | D37: =ROW(EtalonRes!A46) -> 46 | E37: 10 | F37: 11-01-011-01 | G37: Демонтаж: Устройство стяжек цементных толщиной 20 мм | H37: 100 м2 | I37: =ROUND(166.3/100,9) -> 1.663 | J37: 0 | O37: =ROUND(CP37,2) -> 3195.42 | P37: =ROUND(CQ37*I37,2) -> 0 | Q37: =ROUND(CR37*I37,2) -> 394.91 | R37: =ROUND(CS37*I37,2) -> 153.1 | S37: =ROUND(CT37*I37,2) -> 2800.51 | T37: =ROUND(CU37*I37,2) -> 0 | U37: =CV37*I37 -> 52.564104 | V37: =CW37*I37 -> 1.689608 | W37: =ROUND(CX37*I37,2) -> 0 | X37: =ROUND(CY37,2) -> 3278.51 | Y37: =ROUND(CZ37,2) -> 1890.31 | AA37: 16808636 | AB37: =ROUND((AC37+AD37+AF37),2) -> 286.36 | AC37: =ROUND(((ES37*0)),2) -> 0 | AD37: =ROUND(((((ET37*0.8))-((EU37*0.8)))+AE37),2) -> 35.39 | AE37: =ROUND(((EU37*0.8)),2) -> 13.72 | AF37: =ROUND(((EV37*0.8)),2) -> 250.97 | AG37: =ROUND((AP37),2) -> 0 | AH37: =((EW37*0.8)) -> 31.608 | AI37: =((EX37*0.8)) -> 1.016 | AJ37: =(AS37) -> 0 | AK37: 366.49 | AL37: 8.54 | AM37: 44.24 | AN37: 17.15 | AO37: 313.71 | AP37: 0 | AQ37: 39.51 | AR37: 1.27 | AS37: 0 | AT37: 111 | AU37: 64 | AV37: 1 | AW37: 1 | AZ37: 6.71 | BA37: 6.71 | BB37: 6.71 | BC37: 6.71 | BH37: 0 | BI37: 1 | BJ37: ФЕР-2001, 11-01-011-01, приказ Минстроя России №1039/пр от 30.12.2016г. | BM37: 11001 | BN37: 0 | BP37: 0 | BQ37: 2 | BR37: 0 | BS37: 6.71 | BT37: 1 | BU37: 1 | BV37: 1 | BW37: 1 | BX37: 1 | BZ37: 123 | CA37: 75 | CE37: 0 | CF37: 0 | CG37: 0 | CM37: 0 | CN37: Поправка: Табл.2, п.2 Наименование: При демонтаже (разборке) сборных деревянных конструкций | CO37: 0 | CP37: =(P37+Q37+S37) -> 3195.42 | CQ37: =AC37*BC37 -> 0 | CR37: =AD37*BB37 -> 237.4669 | CS37: =AE37*BS37 -> 92.0612 | CT37: =AF37*BA37 -> 1684.0087 | CU37: =AG37 -> 0 | CV37: =AH37 -> 31.608 | CW37: =AI37 -> 1.016 | CX37: =AJ37 -> 0 | CY37: =(((S37+R37)*AT37)/100) -> 3278.5071 | CZ37: =(((S37+R37)*AU37)/100) -> 1890.3104 | DD37: )*0 | DE37: )*0,8 | DF37: )*0,8 | DG37: )*0,8 | DI37: )*0,8 | DJ37: )*0,8 | DN37: 0 | DO37: 0 | DP37: 1 | DQ37: 1 | DU37: 1005 | DV37: 100 м2 | DW37: 100 м2 | DX37: 100 | EE37: 16510488 | EF37: 2 | EG37: Общестроительные работы | EH37: 0 | EJ37: 1 | EK37: 11001 | EL37: Полы | EM37: ФЕР-11 | EO37: Поправка: Табл.2, п.2 | EQ37: 0 | ER37: 366.49 | ES37: 8.54 | ET37: 44.24 | EU37: 17.15 | EV37: 313.71 | EW37: 39.51 | EX37: 1.27 | EY37: 0 | FQ37: 0 | FR37: =ROUND(IF(AND(BH37=3,BI37=3),P37,0),2) -> 0 | FS37: 0 | FT37: *0,9 | FU37: *0,85 | FX37: 110.7 | FY37: 63.75 | GD37: 0 | GF37: -1520010440 | GG37: 1 | GH37: 1 | GI37: 4 | GJ37: 0 | GK37: =ROUND(R37*(R12)/100,2) -> 0 | GL37: =ROUND(IF(AND(BH37=3,BI37=3,FS37<>0),P37,0),2) -> 0 | GM37: =ROUND(O37+X37+Y37+GK37,2)+GX37 -> 8364.24 | GN37: =IF(OR(BI37=0,BI37=1),ROUND(O37+X37+Y37+GK37,2),0) -> 8364.24 | GO37: =IF(BI37=2,ROUND(O37+X37+Y37+GK37,2),0) -> 0 | GP37: =IF(BI37=4,ROUND(O37+X37+Y37+GK37,2)+GX37,0) -> 0 | GR37: 0 | GS37: 3 | GT37: 0 | GV37: =ROUND((GT37),2) -> 0 | GW37: 1 | GX37: =ROUND(HC37*I37,2) -> 0 | HA37: 0 | HB37: 0 | HC37: =GV37*GW37 -> 0 | IK37: 0
A38: 17 | B38: 1 | C38: =ROW(SmtRes!A45) -> 45 | D38: =ROW(EtalonRes!A48) -> 48 | E38: 11 | F38: 57-3-1 | G38: Разборка плинтусов деревянных и из пластмассовых материалов | H38: 100 м | I38: =ROUND(137.3/100,9) -> 1.373 | J38: 0 | O38: =ROUND(CP38,2) -> 270.95 | P38: =ROUND(CQ38*I38,2) -> 0 | Q38: =ROUND(CR38*I38,2) -> 0 | R38: =ROUND(CS38*I38,2) -> 0 | S38: =ROUND(CT38*I38,2) -> 270.95 | T38: =ROUND(CU38*I38,2) -> 0 | U38: =CV38*I38 -> 5.17621 | V38: =CW38*I38 -> 0 | W38: =ROUND(CX38*I38,2) -> 0 | X38: =ROUND(CY38,2) -> 216.76 | Y38: =ROUND(CZ38,2) -> 184.25 | AA38: 16808636 | AB38: =ROUND((AC38+AD38+AF38),2) -> 29.41 | AC38: =ROUND((ES38),2) -> 0 | AD38: =ROUND((((ET38)-(EU38))+AE38),2) -> 0 | AE38: =ROUND((EU38),2) -> 0 | AF38: =ROUND((EV38),2) -> 29.41 | AG38: =ROUND((AP38),2) -> 0 | AH38: =(EW38) -> 3.77 | AI38: =(EX38) -> 0 | AJ38: =(AS38) -> 0 | AK38: 29.41 | AL38: 0 | AM38: 0 | AN38: 0 | AO38: 29.41 | AP38: 0 | AQ38: 3.77 | AR38: 0 | AS38: 0 | AT38: 80 | AU38: 68 | AV38: 1 | AW38: 1 | AZ38: 6.71 | BA38: 6.71 | BB38: 6.71 | BC38: 6.71 | BH38: 0 | BI38: 1 | BJ38: ФЕРр-2001, 57-3-1, приказ Минстроя России №1039/пр от 30.12.2016г. | BM38: 57001 | BN38: 0 | BP38: 0 | BQ38: 6 | BR38: 0 | BS38: 6.71 | BT38: 1 | BU38: 1 | BV38: 1 | BW38: 1 | BX38: 1 | BZ38: 80 | CA38: 68 | CE38: 0 | CF38: 0 | CG38: 0 | CM38: 0 | CO38: 0 | CP38: =(P38+Q38+S38) -> 270.95 | CQ38: =AC38*BC38 -> 0 | CR38: =AD38*BB38 -> 0 | CS38: =AE38*BS38 -> 0 | CT38: =AF38*BA38 -> 197.3411 | CU38: =AG38 -> 0 | CV38: =AH38 -> 3.77 | CW38: =AI38 -> 0 | CX38: =AJ38 -> 0 | CY38: =(((S38+R38)*AT38)/100) -> 216.76 | CZ38: =(((S38+R38)*AU38)/100) -> 184.246 | DN38: 0 | DO38: 0 | DP38: 1 | DQ38: 1 | DU38: 1003 | DV38: 100 м | DW38: 100 м | DX38: 100 | EE38: 16510566 | EF38: 6 | EG38: Ремонтно-строительные работы | EH38: 0 | EJ38: 1 | EK38: 57001 | EL38: Полы | EM38: рФЕР-57 | EQ38: 0 | ER38: 29.41 | ES38: 0 | ET38: 0 | EU38: 0 | EV38: 29.41 | EW38: 3.77 | EX38: 0 | EY38: 0 | FQ38: 0 | FR38: =ROUND(IF(AND(BH38=3,BI38=3),P38,0),2) -> 0 | FS38: 0 | FX38: 80 | FY38: 68 | GD38: 0 | GF38: -1389370821 | GG38: 1 | GH38: 1 | GI38: 4 | GJ38: 0 | GK38: =ROUND(R38*(R12)/100,2) -> 0 | GL38: =ROUND(IF(AND(BH38=3,BI38=3,FS38<>0),P38,0),2) -> 0 | GM38: =ROUND(O38+X38+Y38+GK38,2)+GX38 -> 671.96 | GN38: =IF(OR(BI38=0,BI38=1),ROUND(O38+X38+Y38+GK38,2),0) -> 671.96 | GO38: =IF(BI38=2,ROUND(O38+X38+Y38+GK38,2),0) -> 0 | GP38: =IF(BI38=4,ROUND(O38+X38+Y38+GK38,2)+GX38,0) -> 0 | GR38: 0 | GS38: 3 | GT38: 0 | GV38: =ROUND((GT38),2) -> 0 | GW38: 1 | GX38: =ROUND(HC38*I38,2) -> 0 | HA38: 0 | HB38: 0 | HC38: =GV38*GW38 -> 0 | IK38: 0
A39: 17 | B39: 1 | C39: =ROW(SmtRes!A50) -> 50 | D39: =ROW(EtalonRes!A53) -> 53 | E39: 12 | F39: 63-7-5 | G39: Разборка облицовки стен из керамических глазурованных плиток | H39: 100 м2 | I39: =ROUND(4.5/100,9) -> 0.045 | J39: 0 | O39: =ROUND(CP39,2) -> 197.47 | P39: =ROUND(CQ39*I39,2) -> 0 | Q39: =ROUND(CR39*I39,2) -> 20.91 | R39: =ROUND(CS39*I39,2) -> 1.43 | S39: =ROUND(CT39*I39,2) -> 176.56 | T39: =ROUND(CU39*I39,2) -> 0 | U39: =CV39*I39 -> 3.3435 | V39: =CW39*I39 -> 0.01575 | W39: =ROUND(CX39*I39,2) -> 0 | X39: =ROUND(CY39,2) -> 137.05 | Y39: =ROUND(CZ39,2) -> 89 | AA39: 16808636 | AB39: =ROUND((AC39+AD39+AF39),2) -> 654 | AC39: =ROUND((ES39),2) -> 0 | AD39: =ROUND((((ET39)-(EU39))+AE39),2) -> 69.26 | AE39: =ROUND((EU39),2) -> 4.73 | AF39: =ROUND((EV39),2) -> 584.74 | AG39: =ROUND((AP39),2) -> 0 | AH39: =(EW39) -> 74.3 | AI39: =(EX39) -> 0.35 | AJ39: =(AS39) -> 0 | AK39: 654 | AL39: 0 | AM39: 69.26 | AN39: 4.73 | AO39: 584.74 | AP39: 0 | AQ39: 74.3 | AR39: 0.35 | AS39: 0 | AT39: 77 | AU39: 50 | AV39: 1 | AW39: 1 | AZ39: 6.71 | BA39: 6.71 | BB39: 6.71 | BC39: 6.71 | BH39: 0 | BI39: 1 | BJ39: ФЕРр-2001, 63-7-5, приказ Минстроя России №1039/пр от 30.12.2016г. | BM39: 63001 | BN39: 0 | BP39: 0 | BQ39: 6 | BR39: 0 | BS39: 6.71 | BT39: 1 | BU39: 1 | BV39: 1 | BW39: 1 | BX39: 1 | BZ39: 77 | CA39: 50 | CE39: 0 | CF39: 0 | CG39: 0 | CM39: 0 | CO39: 0 | CP39: =(P39+Q39+S39) -> 197.47 | CQ39: =AC39*BC39 -> 0 | CR39: =AD39*BB39 -> 464.7346 | CS39: =AE39*BS39 -> 31.7383 | CT39: =AF39*BA39 -> 3923.6054 | CU39: =AG39 -> 0 | CV39: =AH39 -> 74.3 | CW39: =AI39 -> 0.35 | CX39: =AJ39 -> 0 | CY39: =(((S39+R39)*AT39)/100) -> 137.0523 | CZ39: =(((S39+R39)*AU39)/100) -> 88.995 | DN39: 0 | DO39: 0 | DP39: 1 | DQ39: 1 | DU39: 1005 | DV39: 100 м2 | DW39: 100 м2 | DX39: 100 | EE39: 16510572 | EF39: 6 | EG39: Ремонтно-строительные работы | EH39: 0 | EJ39: 1 | EK39: 63001 | EL39: Стекольные, обойные, облицовочные работы | EM39: рФЕР-63 | EQ39: 0 | ER39: 654 | ES39: 0 | ET39: 69.26 | EU39: 4.73 | EV39: 584.74 | EW39: 74.3 | EX39: 0.35 | EY39: 0 | FQ39: 0 | FR39: =ROUND(IF(AND(BH39=3,BI39=3),P39,0),2) -> 0 | FS39: 0 | FX39: 77 | FY39: 50 | GD39: 0 | GF39: 1410032296 | GG39: 1 | GH39: 1 | GI39: 4 | GJ39: 0 | GK39: =ROUND(R39*(R12)/100,2) -> 0 | GL39: =ROUND(IF(AND(BH39=3,BI39=3,FS39<>0),P39,0),2) -> 0 | GM39: =ROUND(O39+X39+Y39+GK39,2)+GX39 -> 423.52 | GN39: =IF(OR(BI39=0,BI39=1),ROUND(O39+X39+Y39+GK39,2),0) -> 423.52 | GO39: =IF(BI39=2,ROUND(O39+X39+Y39+GK39,2),0) -> 0 | GP39: =IF(BI39=4,ROUND(O39+X39+Y39+GK39,2)+GX39,0) -> 0 | GR39: 0 | GS39: 3 | GT39: 0 | GV39: =ROUND((GT39),2) -> 0 | GW39: 1 | GX39: =ROUND(HC39*I39,2) -> 0 | HA39: 0 | HB39: 0 | HC39: =GV39*GW39 -> 0 | IK39: 0
A40: 17 | B40: 1 | C40: =ROW(SmtRes!A54) -> 54 | D40: =ROW(EtalonRes!A57) -> 57 | E40: 13 | F40: 65-3-7 | G40: Снятие смесителя без душевой сетки | H40: 100 ШТ | I40: =ROUND(3/100,9) -> 0.03 | J40: 0 | O40: =ROUND(CP40,2) -> 63.48 | P40: =ROUND(CQ40*I40,2) -> 0 | Q40: =ROUND(CR40*I40,2) -> 0.44 | R40: =ROUND(CS40*I40,2) -> 0.19 | S40: =ROUND(CT40*I40,2) -> 63.04 | T40: =ROUND(CU40*I40,2) -> 0 | U40: =CV40*I40 -> 1.1013 | V40: =CW40*I40 -> 0.0021 | W40: =ROUND(CX40*I40,2) -> 0 | X40: =ROUND(CY40,2) -> 46.79 | Y40: =ROUND(CZ40,2) -> 31.62 | AA40: 16808636 | AB40: =ROUND((AC40+AD40+AF40),2) -> 315.33 | AC40: =ROUND((ES40),2) -> 0 | AD40: =ROUND((((ET40)-(EU40))+AE40),2) -> 2.19 | AE40: =ROUND((EU40),2) -> 0.95 | AF40: =ROUND((EV40),2) -> 313.14 | AG40: =ROUND((AP40),2) -> 0 | AH40: =(EW40) -> 36.71 | AI40: =(EX40) -> 0.07 | AJ40: =(AS40) -> 0 | AK40: 315.33 | AL40: 0 | AM40: 2.19 | AN40: 0.95 | AO40: 313.14 | AP40: 0 | AQ40: 36.71 | AR40: 0.07 | AS40: 0 | AT40: 74 | AU40: 50 | AV40: 1 | AW40: 1 | AZ40: 6.71 | BA40: 6.71 | BB40: 6.71 | BC40: 6.71 | BH40: 0 | BI40: 1 | BJ40: ФЕРр-2001, 65-3-7, приказ Минстроя России №1039/пр от 30.12.2016г. | BM40: 65001 | BN40: 0 | BP40: 0 | BQ40: 6 | BR40: 0 | BS40: 6.71 | BT40: 1 | BU40: 1 | BV40: 1 | BW40: 1 | BX40: 1 | BZ40: 74 | CA40: 50 | CE40: 0 | CF40: 0 | CG40: 0 | CM40: 0 | CO40: 0 | CP40: =(P40+Q40+S40) -> 63.48 | CQ40: =AC40*BC40 -> 0 | CR40: =AD40*BB40 -> 14.6949 | CS40: =AE40*BS40 -> 6.3745 | CT40: =AF40*BA40 -> 2101.1694 | CU40: =AG40 -> 0 | CV40: =AH40 -> 36.71 | CW40: =AI40 -> 0.07 | CX40: =AJ40 -> 0 | CY40: =(((S40+R40)*AT40)/100) -> 46.7902 | CZ40: =(((S40+R40)*AU40)/100) -> 31.615 | DN40: 0 | DO40: 0 | DP40: 1 | DQ40: 1 | DU40: 1013 | DV40: 100 ШТ | DW40: 100 ШТ | DX40: 1 | EE40: 16510574 | EF40: 6 | EG40: Ремонтно-строительные работы | EH40: 0 | EJ40: 1 | EK40: 65001 | EL40: Внтуренниие с/техработы: демонтаж, разборка, промывка | EM40: рФЕР-65 | EQ40: 0 | ER40: 315.33 | ES40: 0 | ET40: 2.19 | EU40: 0.95 | EV40: 313.14 | EW40: 36.71 | EX40: 0.07 | EY40: 0 | FQ40: 0 | FR40: =ROUND(IF(AND(BH40=3,BI40=3),P40,0),2) -> 0 | FS40: 0 | FX40: 74 | FY40: 50 | GD40: 0 | GF40: 2129386662 | GG40: 1 | GH40: 1 | GI40: 4 | GJ40: 0 | GK40: =ROUND(R40*(R12)/100,2) -> 0 | GL40: =ROUND(IF(AND(BH40=3,BI40=3,FS40<>0),P40,0),2) -> 0 | GM40: =ROUND(O40+X40+Y40+GK40,2)+GX40 -> 141.89 | GN40: =IF(OR(BI40=0,BI40=1),ROUND(O40+X40+Y40+GK40,2),0) -> 141.89 | GO40: =IF(BI40=2,ROUND(O40+X40+Y40+GK40,2),0) -> 0 | GP40: =IF(BI40=4,ROUND(O40+X40+Y40+GK40,2)+GX40,0) -> 0 | GR40: 0 | GS40: 3 | GT40: 0 | GV40: =ROUND((GT40),2) -> 0 | GW40: 1 | GX40: =ROUND(HC40*I40,2) -> 0 | HA40: 0 | HB40: 0 | HC40: =GV40*GW40 -> 0 | IK40: 0
A41: 18 | B41: 1 | C41: 54 | E41: 13,1 | F41: 01.7.07.07 | G41: Строительный мусор и масса возвратных материалов | H41: т | I41: =I40*J41 -> 0.0066 | J41: 0.22 | O41: =ROUND(CP41,2) -> 0 | P41: =ROUND(CQ41*I41,2) -> 0 | Q41: =ROUND(CR41*I41,2) -> 0 | R41: =ROUND(CS41*I41,2) -> 0 | S41: =ROUND(CT41*I41,2) -> 0 | T41: =ROUND(CU41*I41,2) -> 0 | U41: =CV41*I41 -> 0 | V41: =CW41*I41 -> 0 | W41: =ROUND(CX41*I41,2) -> 0 | X41: =ROUND(CY41,2) -> 0 | Y41: =ROUND(CZ41,2) -> 0 | AA41: 16808636 | AB41: =ROUND((AC41+AD41+AF41),2) -> 0 | AC41: =ROUND((ES41),2) -> 0 | AD41: =ROUND((((ET41)-(EU41))+AE41),2) -> 0 | AE41: =ROUND((EU41),2) -> 0 | AF41: =ROUND((EV41),2) -> 0 | AG41: =ROUND((AP41),2) -> 0 | AH41: =(EW41) -> 0 | AI41: =(EX41) -> 0 | AJ41: =(AS41) -> 0 | AK41: 0 | AL41: 0 | AM41: 0 | AN41: 0 | AO41: 0 | AP41: 0 | AQ41: 0 | AR41: 0 | AS41: 0 | AT41: 74 | AU41: 50 | AV41: 1 | AW41: 1 | AZ41: 6.71 | BA41: 1 | BB41: 1 | BC41: 6.71 | BH41: 3 | BI41: 1 | BM41: 65001 | BN41: 0 | BP41: 0 | BQ41: 6 | BR41: 0 | BS41: 1 | BT41: 1 | BU41: 1 | BV41: 1 | BW41: 1 | BX41: 1 | BZ41: 74 | CA41: 50 | CE41: 0 | CF41: 0 | CG41: 0 | CM41: 0 | CO41: 0 | CP41: =(P41+Q41+S41) -> 0 | CQ41: =AC41*BC41 -> 0 | CR41: =AD41*BB41 -> 0 | CS41: =AE41*BS41 -> 0 | CT41: =AF41*BA41 -> 0 | CU41: =AG41 -> 0 | CV41: =AH41 -> 0 | CW41: =AI41 -> 0 | CX41: =AJ41 -> 0 | CY41: =(((S41+R41)*AT41)/100) -> 0 | CZ41: =(((S41+R41)*AU41)/100) -> 0 | DN41: 0 | DO41: 0 | DP41: 1 | DQ41: 1 | DU41: 1009 | DV41: т | DW41: т | DX41: 1000 | EE41: 16510574 | EF41: 6 | EG41: Ремонтно-строительные работы | EH41: 0 | EJ41: 1 | EK41: 65001 | EL41: Внтуренниие с/техработы: демонтаж, разборка, промывка | EM41: рФЕР-65 | EQ41: 0 | ER41: 0 | ES41: 0 | ET41: 0 | EU41: 0 | EV41: 0 | EW41: 0 | EX41: 0 | FQ41: 0 | FR41: =ROUND(IF(AND(BH41=3,BI41=3),P41,0),2) -> 0 | FS41: 0 | FX41: 74 | FY41: 50 | GD41: 0 | GF41: -66286256 | GG41: 1 | GH41: 1 | GI41: 4 | GJ41: 0 | GK41: =ROUND(R41*(R12)/100,2) -> 0 | GL41: =ROUND(IF(AND(BH41=3,BI41=3,FS41<>0),P41,0),2) -> 0 | GM41: =ROUND(O41+X41+Y41+GK41,2)+GX41 -> 0 | GN41: =IF(OR(BI41=0,BI41=1),ROUND(O41+X41+Y41+GK41,2),0) -> 0 | GO41: =IF(BI41=2,ROUND(O41+X41+Y41+GK41,2),0) -> 0 | GP41: =IF(BI41=4,ROUND(O41+X41+Y41+GK41,2)+GX41,0) -> 0 | GR41: 0 | GS41: 3 | GT41: 0 | GV41: =ROUND((GT41),2) -> 0 | GW41: 1 | GX41: =ROUND(HC41*I41,2) -> 0 | HA41: 0 | HB41: 0 | HC41: =GV41*GW41 -> 0 | IK41: 0
A42: 17 | B42: 1 | C42: =ROW(SmtRes!A57) -> 57 | D42: =ROW(EtalonRes!A61) -> 61 | E42: 14 | F42: 65-4-1 | G42: Демонтаж умывальников и раковин | H42: 100 ШТ | I42: =ROUND(3/100,9) -> 0.03 | J42: 0 | O42: =ROUND(CP42,2) -> 89.73 | P42: =ROUND(CQ42*I42,2) -> 0 | Q42: =ROUND(CR42*I42,2) -> 1.64 | R42: =ROUND(CS42*I42,2) -> 0.71 | S42: =ROUND(CT42*I42,2) -> 88.09 | T42: =ROUND(CU42*I42,2) -> 0 | U42: =CV42*I42 -> 1.539 | V42: =CW42*I42 -> 0.0078 | W42: =ROUND(CX42*I42,2) -> 0 | X42: =ROUND(CY42,2) -> 65.71 | Y42: =ROUND(CZ42,2) -> 44.4 | AA42: 16808636 | AB42: =ROUND((AC42+AD42+AF42),2) -> 445.72 | AC42: =ROUND((ES42),2) -> 0 | AD42: =ROUND((((ET42)-(EU42))+AE42),2) -> 8.13 | AE42: =ROUND((EU42),2) -> 3.51 | AF42: =ROUND((EV42),2) -> 437.59 | AG42: =ROUND((AP42),2) -> 0 | AH42: =(EW42) -> 51.3 | AI42: =(EX42) -> 0.26 | AJ42: =(AS42) -> 0 | AK42: 445.72 | AL42: 0 | AM42: 8.13 | AN42: 3.51 | AO42: 437.59 | AP42: 0 | AQ42: 51.3 | AR42: 0.26 | AS42: 0 | AT42: 74 | AU42: 50 | AV42: 1 | AW42: 1 | AZ42: 6.71 | BA42: 6.71 | BB42: 6.71 | BC42: 6.71 | BH42: 0 | BI42: 1 | BJ42: ФЕРр-2001, 65-4-1, приказ Минстроя России №1039/пр от 30.12.2016г. | BM42: 65001 | BN42: 0 | BP42: 0 | BQ42: 6 | BR42: 0 | BS42: 6.71 | BT42: 1 | BU42: 1 | BV42: 1 | BW42: 1 | BX42: 1 | BZ42: 74 | CA42: 50 | CE42: 0 | CF42: 0 | CG42: 0 | CM42: 0 | CO42: 0 | CP42: =(P42+Q42+S42) -> 89.73 | CQ42: =AC42*BC42 -> 0 | CR42: =AD42*BB42 -> 54.5523 | CS42: =AE42*BS42 -> 23.5521 | CT42: =AF42*BA42 -> 2936.2289 | CU42: =AG42 -> 0 | CV42: =AH42 -> 51.3 | CW42: =AI42 -> 0.26 | CX42: =AJ42 -> 0 | CY42: =(((S42+R42)*AT42)/100) -> 65.712 | CZ42: =(((S42+R42)*AU42)/100) -> 44.4 | DN42: 0 | DO42: 0 | DP42: 1 | DQ42: 1 | DU42: 1013 | DV42: 100 ШТ | DW42: 100 ШТ | DX42: 1 | EE42: 16510574 | EF42: 6 | EG42: Ремонтно-строительные работы | EH42: 0 | EJ42: 1 | EK42: 65001 | EL42: Внтуренниие с/техработы: демонтаж, разборка, промывка | EM42: рФЕР-65 | EQ42: 0 | ER42: 445.72 | ES42: 0 | ET42: 8.13 | EU42: 3.51 | EV42: 437.59 | EW42: 51.3 | EX42: 0.26 | EY42: 0 | FQ42: 0 | FR42: =ROUND(IF(AND(BH42=3,BI42=3),P42,0),2) -> 0 | FS42: 0 | FX42: 74 | FY42: 50 | GD42: 0 | GF42: -869396583 | GG42: 1 | GH42: 1 | GI42: 4 | GJ42: 0 | GK42: =ROUND(R42*(R12)/100,2) -> 0 | GL42: =ROUND(IF(AND(BH42=3,BI42=3,FS42<>0),P42,0),2) -> 0 | GM42: =ROUND(O42+X42+Y42+GK42,2)+GX42 -> 199.84 | GN42: =IF(OR(BI42=0,BI42=1),ROUND(O42+X42+Y42+GK42,2),0) -> 199.84 | GO42: =IF(BI42=2,ROUND(O42+X42+Y42+GK42,2),0) -> 0 | GP42: =IF(BI42=4,ROUND(O42+X42+Y42+GK42,2)+GX42,0) -> 0 | GR42: 0 | GS42: 3 | GT42: 0 | GV42: =ROUND((GT42),2) -> 0 | GW42: 1 | GX42: =ROUND(HC42*I42,2) -> 0 | HA42: 0 | HB42: 0 | HC42: =GV42*GW42 -> 0 | IK42: 0
A43: 17 | B43: 1 | C43: =ROW(SmtRes!A63) -> 63 | D43: =ROW(EtalonRes!A68) -> 68 | E43: 15 | F43: 65-1-1 | G43: Разборка трубопроводов из водогазопроводных труб диаметром до 32 мм | H43: 100 м | I43: =ROUND(6/100,9) -> 0.06 | J43: 0 | O43: =ROUND(CP43,2) -> 118.81 | P43: =ROUND(CQ43*I43,2) -> 0 | Q43: =ROUND(CR43*I43,2) -> 2.85 | R43: =ROUND(CS43*I43,2) -> 0.54 | S43: =ROUND(CT43*I43,2) -> 115.96 | T43: =ROUND(CU43*I43,2) -> 0 | U43: =CV43*I43 -> 2.0796 | V43: =CW43*I43 -> 0.006 | W43: =ROUND(CX43*I43,2) -> 0 | X43: =ROUND(CY43,2) -> 86.21 | Y43: =ROUND(CZ43,2) -> 58.25 | AA43: 16808636 | AB43: =ROUND((AC43+AD43+AF43),2) -> 295.11 | AC43: =ROUND(((ES43*0)),2) -> 0 | AD43: =ROUND((((ET43)-(EU43))+AE43),2) -> 7.09 | AE43: =ROUND((EU43),2) -> 1.35 | AF43: =ROUND((EV43),2) -> 288.02 | AG43: =ROUND((AP43),2) -> 0 | AH43: =(EW43) -> 34.66 | AI43: =(EX43) -> 0.1 | AJ43: =(AS43) -> 0 | AK43: 328.71 | AL43: 33.6 | AM43: 7.09 | AN43: 1.35 | AO43: 288.02 | AP43: 0 | AQ43: 34.66 | AR43: 0.1 | AS43: 0 | AT43: 74 | AU43: 50 | AV43: 1 | AW43: 1 | AZ43: 6.71 | BA43: 6.71 | BB43: 6.71 | BC43: 6.71 | BH43: 0 | BI43: 1 | BJ43: ФЕРр-2001, 65-1-1, приказ Минстроя России №1039/пр от 30.12.2016г. | BM43: 65001 | BN43: 0 | BP43: 0 | BQ43: 6 | BR43: 0 | BS43: 6.71 | BT43: 1 | BU43: 1 | BV43: 1 | BW43: 1 | BX43: 1 | BZ43: 74 | CA43: 50 | CE43: 0 | CF43: 0 | CG43: 0 | CM43: 0 | CO43: 0 | CP43: =(P43+Q43+S43) -> 118.81 | CQ43: =AC43*BC43 -> 0 | CR43: =AD43*BB43 -> 47.5739 | CS43: =AE43*BS43 -> 9.0585 | CT43: =AF43*BA43 -> 1932.6142 | CU43: =AG43 -> 0 | CV43: =AH43 -> 34.66 | CW43: =AI43 -> 0.1 | CX43: =AJ43 -> 0 | CY43: =(((S43+R43)*AT43)/100) -> 86.21 | CZ43: =(((S43+R43)*AU43)/100) -> 58.25 | DD43: *0 | DN43: 0 | DO43: 0 | DP43: 1 | DQ43: 1 | DU43: 1003 | DV43: 100 м | DW43: 100 м | DX43: 100 | EE43: 16510574 | EF43: 6 | EG43: Ремонтно-строительные работы | EH43: 0 | EJ43: 1 | EK43: 65001 | EL43: Внтуренниие с/техработы: демонтаж, разборка, промывка | EM43: рФЕР-65 | EQ43: 0 | ER43: 328.71 | ES43: 33.6 | ET43: 7.09 | EU43: 1.35 | EV43: 288.02 | EW43: 34.66 | EX43: 0.1 | EY43: 0 | FQ43: 0 | FR43: =ROUND(IF(AND(BH43=3,BI43=3),P43,0),2) -> 0 | FS43: 0 | FX43: 74 | FY43: 50 | GD43: 0 | GF43: -319600296 | GG43: 1 | GH43: 1 | GI43: 4 | GJ43: 0 | GK43: =ROUND(R43*(R12)/100,2) -> 0 | GL43: =ROUND(IF(AND(BH43=3,BI43=3,FS43<>0),P43,0),2) -> 0 | GM43: =ROUND(O43+X43+Y43+GK43,2)+GX43 -> 263.27 | GN43: =IF(OR(BI43=0,BI43=1),ROUND(O43+X43+Y43+GK43,2),0) -> 263.27 | GO43: =IF(BI43=2,ROUND(O43+X43+Y43+GK43,2),0) -> 0 | GP43: =IF(BI43=4,ROUND(O43+X43+Y43+GK43,2)+GX43,0) -> 0 | GR43: 0 | GS43: 3 | GT43: 0 | GV43: =ROUND((GT43),2) -> 0 | GW43: 1 | GX43: =ROUND(HC43*I43,2) -> 0 | HA43: 0 | HB43: 0 | HC43: =GV43*GW43 -> 0 | IK43: 0
