Workbook
Name Constr: '19-4-216'!$A$1
Name Constr: '19-4-217'!$A$1
Name Constr: '19-4-224'!$A$1
Name Constr: '19-4-225'!$A$1
Name Constr: '19-4-444'!$A$1
Name Constr: '19-4-446'!$A$1
Name Constr: '19-4-447'!$A$1
Name Constr: '19-4-449'!$A$1
Name Constr: '19-4-451'!$A$1
Name Constr: '19-4-453'!$A$1
Name Constr: '19-4-454'!$A$1
Name Constr: '19-4-456'!$A$1
Name Constr: '19-4-460'!$A$1
Name Constr: '19-4-462'!$A$1
Name Constr: '19-4-464'!$A$1
Name Constr: '19-4-466'!$A$1
Name Constr: '19-4-468'!$A$1
Name Constr: '19-4-470'!$A$1
Name Constr: '19-4-472'!$A$1
Name Constr: '19-4-474'!$A$1
Name Constr: '19-4-475'!$A$1
Name FOT: '19-4-216'!$B$19
Name FOT: '19-4-217'!$B$19
Name FOT: '19-4-224'!$B$19
Name FOT: '19-4-225'!$B$19
Name FOT: '19-4-444'!$B$19
Name FOT: '19-4-446'!$B$19
Name FOT: '19-4-447'!$B$20
Name FOT: '19-4-449'!$B$19
Name FOT: '19-4-451'!$B$20
Name FOT: '19-4-453'!$B$19
Name FOT: '19-4-454'!$B$19
Name FOT: '19-4-456'!$B$19
Name FOT: '19-4-460'!$B$20
Name FOT: '19-4-462'!$B$20
Name FOT: '19-4-464'!$B$20
Name FOT: '19-4-466'!$B$20
Name FOT: '19-4-468'!$B$20
Name FOT: '19-4-470'!$B$20
Name FOT: '19-4-472'!$B$20
Name FOT: '19-4-474'!$B$20
Name FOT: '19-4-475'!$B$19
Name Ind: '19-4-216'!$D$9
Name Ind: '19-4-217'!$D$9
Name Ind: '19-4-224'!$D$9
Name Ind: '19-4-225'!$D$9
Name Ind: '19-4-444'!$D$9
Name Ind: '19-4-446'!$D$9
Name Ind: '19-4-447'!$D$9
Name Ind: '19-4-449'!$D$9
Name Ind: '19-4-451'!$D$9
Name Ind: '19-4-453'!$D$9
Name Ind: '19-4-454'!$D$9
Name Ind: '19-4-456'!$D$9
Name Ind: '19-4-460'!$D$9
Name Ind: '19-4-462'!$D$9
Name Ind: '19-4-464'!$D$9
Name Ind: '19-4-466'!$D$9
Name Ind: '19-4-468'!$D$9
Name Ind: '19-4-470'!$D$9

Sheet 19-4-474
A1: СОГЛАСОВАНО: | I1: УТВЕРЖДАЮ:
A4: ______________ | I4: ____________
A5: " _____ " ________________ 2012 г. | I5: "______ " _______________2012 г.
D6: г. Лесной Свердловской области. ФГУП "Комбинат "Электрохимприбор"
D7: (наименование стройки)
D9: ЛОКАЛЬНЫЙ СМЕТНЫЙ РАСЧЕТ № 313-2095/19-4-474
D10: (локальная смета)
A12: на | B12: Пожарную сигнализацию и оповещение о пожаре, Площадка 17. Цех 343. Здание 377
D13: (наименование работ и затрат, наименование объекта)
B15: Основание: р.ч. 0503.017.0377 - ПС инв. № 313-758, 313-757
B16: Сметная стоимость _______________________________________________________________________________________________ | D16: ___________________________54,827 | F16: тыс. руб.
B17: строительных работ _______________________________________________________________________________________________ | D17: _______________________________________________________________________________________________0,924 | F17: тыс. руб.
B18: монтажных работ _______________________________________________________________________________________________ | D18: _______________________________________________________________________________________________53,669 | F18: тыс. руб.
B19: оборудования _______________________________________________________________________________________________ | D19: _______________________________________________________________________________________________0,234 | F19: тыс. руб.
B20: Средства на оплату труда _______________________________________________________________________________________________ | D20: ___________________________7,996 | F20: тыс. руб.
B21: Сметная трудоемкость _______________________________________________________________________________________________ | D21: _______________________________________________________________________________________________499,49 | F21: чел.час
B22: Трудозатраты механизаторов _______________________________________________________________________________________________ | D22: _______________________________________________________________________________________________31,52 | F22: чел.час
B23: Составлен(а) в ценах по состоянию на 01.01.2000 г. (Редакция 2009 г.)
A26: № пп | B26: Шифр и номер позиции норматива | C26: Наименование работ и затрат, единица измерения | D26: Количество | E26: Стоимость единицы, руб. | G26: Общая стоимость, руб. | J26: Затраты труда рабочих, чел.-ч, не занятых обслуживанием машин
E27: всего | F27: эксплуата- ции машин | G27: Всего | H27: оплаты труда | I27: эксплуата- ция машин
E28: оплаты труда | F28: в т.ч. оплаты труда | I28: в т.ч. оплаты труда | J28: на единицу | K28: всего
A29: 1 | B29: 2 | C29: 3 | D29: 4 | E29: 5 | F29: 6 | G29: 7 | H29: 8 | I29: 9 | J29: 10 | K29: 11
A30: Раздел 1. Монтажные работы и оборудование
A31: Применен повышающий территориальный коэффициент к заработной плате К=1,0434
A32: Учтены индексы:
A33: К = 3,94 - индекс перехода сметной стоимости на оборудование от цен 3 кв. 2013 г. к ценам на 01.01.2000 г. (письмо Минрегиона № 13478-СД/10 от 29.07.2013 г. прил. 5)
A34: К= 5,59 - индекс перехода к стоимости материалов от цен 3 кв. 2013 г. к ценам на 01.01.2000 г. (письмо Минрегиона № 13478-СД/10 от 29.07.2013 г. прил. 1)
A35: Учтены транспортные (3%), заготовительно-складские расходы (1,2%) и расходы на материалы (2%)
A37: Пожарная сигнализация
A38: 1 | B38: ТЕРм10-08-002-03 | C38: Извещатель ПС автоматический тепловой, дымовой, световой во взрывозащищенном исполнении (ИП 101-3А) (1 шт.) | D38: 74 | E38: 35,7 29,18 | F38: 0.54 | G38: 2642 | H38: 2159 | I38: 40 | J38: 1.68 | K38: 124.32
A39: 2 | B39: г. Воронеж, "Электроника и связь" III кв. 2013 г. | C39: Диод Д - 226Г Цена: 7,70:1,18:3,94*1,03*1,012 (шт.) | D39: 74 | E39: 1.73 | G39: 128
A40: 3 | B40: ТЕРм11-03-001-01 | C40: Приборы, устанавливаемые на металлоконструкциях, щитах и пультах, масса до 5 кг(Диоды) (1 шт.) | D40: 74 | E40: 8,73 7,58 | G40: 646 | H40: 561 | J40: 0.52 | K40: 38.48
A41: 4 | B41: ТСЦ-509-8065 прим. | C41: Резисторы (шт.) | D41: 3 | E41: 9.99 | G41: 30
A42: 5 | B42: ТЕРм11-03-001-01 | C42: Резисторы (1 шт.) | D42: 3 | E42: 8,73 7,58 | G42: 26 | H42: 23 | J42: 0.52 | K42: 1.56
A43: 6 | B43: ТЕРм10-04-066-05 | C43: Извещатель пожарный ручной (ИПР 3СУ) (1 шт.) | D43: 3 | E43: 14,44 13,33 | G43: 43 | H43: 40 | J43: 1 | K43: 3
A44: 7 | B44: г. Москва, "Сигналспецавтоматика" III кв. 2013 г. | C44: Устройство контроля шлейфов УШК-02 Цена: 113,52:1,18:3,94*1,03*1,012 (шт.) | D44: 3 | E44: 25.45 | G44: 76
A45: 8 | B45: ТЕРм10-08-001-12 | C45: Устройства промежуточные на количество лучей 2 (1 шт.) | D45: 3 | E45: 131,28 121,79 | F45: 0.37 | G45: 394 | H45: 365 | I45: 1 | J45: 8 | K45: 24
A46: 9 | B46: ТЕРм08-02-148-01 прим | C46: Кабель связи в проложенных трубах, блоках и коробах, масса 1 м кабеля до 1 кг (100 м кабеля) | D46: 8 0,01*800 | E46: 808,64 175,31 | F46: 547,32 60,38 | G46: 6469 | H46: 1402 | I46: 4379 483 | J46: 12.4 | K46: 99.2
A47: 10 | B47: ТЕРм08-02-407-06 | C47: Установка гильзы для прохода заземляющего проводника через стены и перекрытия, диаметр до 25 мм (100 м) | D47: 0,05 0,01*5 | E47: 1632,82 262,68 | F47: 175,85 8,92 | G47: 82 | H47: 13 | I47: 9 | J47: 19 | K47: 0.95
A48: 11 | B48: ТЕРм08-02-411-01 прим. | C48: Рукав металлический наружным диаметром до 48 мм с муфтами и скобами (100 м) | D48: 5,5 0,01*550 | E48: 3967,54 479,73 | F48: 240,39 4,17 | G48: 21821 | H48: 2639 | I48: 1322 23 | J48: 34.7 | K48: 190.85
...

Sheet 19-4-475
A1: СОГЛАСОВАНО: | I1: УТВЕРЖДАЮ:
A4: ______________ | I4: ____________
A5: " _____ " ________________ 2012 г. | I5: "______ " _______________2012 г.
B6: г.Леской ФГУП Комбинат Электрохимприбор
D7: (наименование стройки)
C9: ЛОКАЛЬНЫЙ СМЕТНЫЙ РАСЧЕТ № 313-2099/19-4-475
D10: (локальная смета)
A12: на | B12: Пожарную сигнализацию и оповещение о пожаре, Общежитие "Дружба"
D13: (наименование работ и затрат, наименование объекта)
B15: Основание: р.ч. 0503.000.0000 - ПС, инв. № 313-776, 313-775
B16: Сметная стоимость _______________________________________________________________________________________________ | D16: ___________________________588,544 | F16: тыс. руб.
B17: монтажных работ _______________________________________________________________________________________________ | D17: _______________________________________________________________________________________________578,240 | F17: тыс. руб.
B18: оборудования _______________________________________________________________________________________________ | D18: _______________________________________________________________________________________________10,304 | F18: тыс. руб.
B19: Средства на оплату труда _______________________________________________________________________________________________ | D19: ___________________________74,270 | F19: тыс. руб.
B20: Сметная трудоемкость _______________________________________________________________________________________________ | D20: _______________________________________________________________________________________________4225,82 | F20: чел.час
B21: Трудозатраты механизаторов _______________________________________________________________________________________________ | D21: _______________________________________________________________________________________________631,47 | F21: чел.час
B22: Составлена в ценах по состоянию на 01.01.2000 г. (редакция 2009 г.)
A25: № пп | B25: Шифр и номер позиции норматива | C25: Наименование работ и затрат, единица измерения | D25: Количество | E25: Стоимость единицы, руб. | G25: Общая стоимость, руб. | J25: Затраты труда рабочих, чел.-ч, не занятых обслуживанием машин
E26: всего | F26: эксплуата- ции машин | G26: Всего | H26: оплаты труда | I26: эксплуата- ция машин
E27: оплаты труда | F27: в т.ч. оплаты труда | I27: в т.ч. оплаты труда | J27: на единицу | K27: всего
A28: 1 | B28: 2 | C28: 3 | D28: 4 | E28: 5 | F28: 6 | G28: 7 | H28: 8 | I28: 9 | J28: 10 | K28: 11
A29: Раздел 1. Монтажные работы и оборудование
A30: Применен повышающий территориальный коэффициент к заработной плате К=1,0434
A31: Учтены индексы:
A32: К = 3,94 - индекс перехода сметной стоимости на оборудование от цен 3 кв. 2013 г. к ценам на 01.01.2000 г. (письмо Минрегиона № 13478-СД/10 от 29.07.2013 г. прил. 5)
A33: К= 5,59 - индекс перехода к стоимости материалов от цен 3 кв. 2013 г. к ценам на 01.01.2000 г. (письмо Минрегиона № 13478-СД/10 от 29.07.2013 г. прил. 1)
A34: Учтены транспортные (3%), заготовительно-складские расходы (1,2%) и расходы на оборудование (2%)
A36: Пожарная сигнализация
A37: 1 | B37: г. Москва, "Альтоника" III кв. 2013 г. | C37: Объектовый прибор со встроенным передатчиком "Риф Стринг RS-202 ТD-RR" Цена: 4170:1,18:3,94*1,03*1,012 (компл.) | D37: 1 | E37: 934.92 | G37: 935
A38: 2 | B38: ТЕРм10-08-001-08 | C38: Прибор ОПС на 4 луча (1 шт.) | D38: 1 | E38: 45,14 37,04 | F38: 0.37 | G38: 45 | H38: 37 | J38: 2.4 | K38: 2.4
A39: 3 | B39: г. Москва, "Альтоника" III кв. 2013 г. | C39: Антенна АН7-433, направленная усилением +7dBd Цена: 1470,0:1,18:3,94*1,03*1,012 (шт.) | D39: 1 | E39: 329.58 | G39: 330
A40: 4 | B40: ТЕРм10-04-100-09 | C40: Антенна направленная; аппаратура настенная (1 шт.) | D40: 1 | E40: 151,45 113,1 | G40: 151 | H40: 113 | J40: 8 | K40: 8
A41: 5 | B41: г. Москва, "Юнитест" III кв. 2013 г. | C41: Прибор ППКОПУ "Минитроник А32М" Цена:3900,0:1,18:3,94*1,03*1,012 (шт.) | D41: 1 | E41: 874.39 | G41: 874
A42: 6 | B42: ТЕРм10-08-001-01 | C42: Приборы ПС приемно-контрольные, пусковые, концентратор блок базовый на 10 лучей (1 шт.) | D42: 1 | E42: 121,95 106,45 | F42: 0.46 | G42: 122 | H42: 106 | J42: 7.2 | K42: 7.2
A43: 7 | B43: г. Москва, "Юнитест" III кв. 2013 г. | C43: Модуль адресный управляющий А16-УОП Цена:422,0:1,18:3,94*1,03*1,012 (шт.) | D43: 9 | E43: 94.61 | G43: 851
A44: 8 | B44: г. Москва, "Юнитест" III кв. 2013 г. | C44: Модуль адресный управляющий А16-УОП-В Цена:422,0:1,18:3,94*1,03*1,012 (шт.) | D44: 4 | E44: 94.61 | G44: 378
A45: 9 | B45: ТЕРм10-08-001-09 прим. | C45: Приборы приемно-контрольные объектовые на 2 луча (1 шт.) | D45: 6 4+2 | E45: 95,37 86,77 | F45: 0.37 | G45: 572 | H45: 521 | I45: 2 | J45: 5.7 | K45: 34.2
A46: 10 | B46: ТЕРм10-08-002-03 | C46: Извещатель ПС автоматический тепловой, дымовой, световой во взрывозащищенном исполнении (ИП 101-50А1R, ИП 103-5/2) (1 шт.) | D46: 573 5+568 | E46: 35,7 29,18 | F46: 0.54 | G46: 20456 | H46: 16720 | I46: 309 | J46: 1.68 | K46: 962.64
A47: 11 | B47: ТЕРм10-04-066-05 | C47: Извещатель пожарный ручной (А16-ИПР) (1 шт.) | D47: 14 | E47: 14,44 13,33 | G47: 202 | H47: 187 | J47: 1 | K47: 14
A48: 12 | B48: г. Королев, "Болид" III кв. 2013 г. | C48: Блок резервного питания БРП12/3 Цена: 1497,0:1,18:3,94*1,03*1,012 (шт.) | D48: 10 | E48: 335.63 | G48: 3356
...

Sheet 19-4-216
A1: СОГЛАСОВАНО: | I1: УТВЕРЖДАЮ:
A4: ______________ | I4: ____________
A5: " _____ " ________________ 2012 г. | I5: "______ " _______________2012 г.
D6: г. Лесной. Свердловская область. ФГУП "Комбинат "Электрохимприбор"
D7: (наименование стройки)
D9: ЛОКАЛЬНЫЙ СМЕТНЫЙ РАСЧЕТ № 313-2227 / 19-4-216
D10: (локальная смета)
A12: на | B12: Пожарную сигнализацию и оповещение о пожаре, Здание 58. Площадка 14. Монтаж АПС и СОУЭ в зданиях комбината
D13: (наименование работ и затрат, наименование объекта)
B15: Основание: р.ч. 0503.014.0058 - ПС, инв. № 313-704, 313-703
B16: Сметная стоимость _______________________________________________________________________________________________ | D16: ___________________________11,692 | F16: тыс. руб.
B17: монтажных работ _______________________________________________________________________________________________ | D17: _______________________________________________________________________________________________7,139 | F17: тыс. руб.
B18: оборудования _______________________________________________________________________________________________ | D18: _______________________________________________________________________________________________4,553 | F18: тыс. руб.
B19: Средства на оплату труда _______________________________________________________________________________________________ | D19: ___________________________1,300 | F19: тыс. руб.
B20: Сметная трудоемкость _______________________________________________________________________________________________ | D20: _______________________________________________________________________________________________74,72 | F20: чел.час
B21: Трудозатраты механизаторов _______________________________________________________________________________________________ | D21: _______________________________________________________________________________________________14,97 | F21: чел.час
B22: Составлен(а) в ценах по состоянию на 01.01.2000 г.
A25: № пп | B25: Шифр и номер позиции норматива | C25: Наименование работ и затрат, единица измерения | D25: Количество | E25: Стоимость единицы, руб. | G25: Общая стоимость, руб. | J25: Затраты труда рабочих, чел.-ч, не занятых обслуживанием машин
E26: всего | F26: эксплуата- ции машин | G26: Всего | H26: оплаты труда | I26: эксплуата- ция машин
E27: оплаты труда | F27: в т.ч. оплаты труда | I27: в т.ч. оплаты труда | J27: на единицу | K27: всего
A28: 1 | B28: 2 | C28: 3 | D28: 4 | E28: 5 | F28: 6 | G28: 7 | H28: 8 | I28: 9 | J28: 10 | K28: 11
A29: Раздел 1. Монтажные работы и оборудование
A30: Применен повышающий территориальный коэффициент к заработной плате К=1,0434
A31: Учтены индексы:
A32: К = 3,93 - индекс перехода сметной стоимости на оборудование от цен 3 кв. 2013 г. к ценам на 01.01.2000 г. (письмо Минрегиона № 13478-СД/10 от 29.07.2013 г. прил. 5)
A33: К= 5,12 - индекс перехода к стоимости материалов от цен 3 кв. 2013 г. к ценам на 01.01.2000 г. (письмо Минрегиона № 13478-СД/10 от 29.07.2013 г. прил. 1)
A34: Учтены транспортные (3%), заготовительно-складские расходы (1,2%) на оборудование и (2%) на материалы
A36: 1 | B36: г. Москва, "Альтоника" III кв. 2013 г. | C36: Объектовый прибор со встроенным передатчиком "Риф Стринг RS-202 ТР 8" Цена: 9919,00/1,18/3,94*1,03*1,012 (компл.) | D36: 1 | E36: 2229.52 | G36: 2230
A37: 2 | B37: ТЕРм10-08-001-08 | C37: Прибор ОПС на 4 луча (1 шт.) | D37: 1 | E37: 45,14 37,04 | F37: 0.37 | G37: 45 | H37: 37 | J37: 2.4 | K37: 2.4
A38: 3 | B38: г. Москва, "Альтоника" III кв. 2013 г. | C38: Антенна АН7-433, направленная усилением +7dBd Цена: 2275,00/1,18/3,93*1,03*1,012 (шт.) | D38: 1 | E38: 511.36 | G38: 511
A39: 4 | B39: ТЕРм10-04-100-09 | C39: Антенна направленная; аппаратура настенная (1 шт.) | D39: 1 | E39: 151,45 113,1 | G39: 151 | H39: 113 | J39: 8 | K39: 8
A40: 5 | B40: г. Челябинск, "Холдинговый центр системы безопасности" III кв. 2013 г. | C40: Резервированный источник питания "Скат-1200Д исп.2" 3390,00/1,18/3,94*1,03*1,012 (шт.) | D40: 1 | E40: 761.98 | G40: 762
A41: 6 | B41: г. Челябинск, "Электромир" III кв. 2013 г., прим. | C41: Аккумуляторная батарея U= 12В, I=4,5 A, емк.12 Ач Цена: 988,00/1,18/3,94*1,03*1,012 (шт.) | D41: 1 | E41: 222.08 | G41: 222
A42: 7 | B42: ТЕРм10-08-003-03 | C42: Блок питания и контроля (1 шт.) | D42: 1 | E42: 62,22 54,02 | F42: 0.37 | G42: 62 | H42: 54 | J42: 3.6 | K42: 3.6
A43: 8 | B43: ТЕРм10-04-066-05 прим. | C43: Оповещатель комбинированный "Маяк" (1 шт.) | D43: 2 | E43: 14,44 13,33 | G43: 29 | H43: 27 | J43: 1 | K43: 2
A44: 9 | B44: ТЕРм10-04-066-05 | C44: Извещатель пожарный ручной (ИПР-55) (1 шт.) | D44: 2 | E44: 14,44 13,33 | G44: 29 | H44: 27 | J44: 1 | K44: 2
A45: 10 | B45: ТЕРм10-08-002-02 | C45: Извещатель ПС автоматический дымовой, фотоэлектрический, радиоизотопный, световой в нормальном исполнении (ИП 212-3СМ) (1 шт.) | D45: 7 | E45: 29,37 23,75 | F45: 0.46 | G45: 206 | H45: 166 | I45: 3 | J45: 1.68 | K45: 11.76
A46: 11 | B46: г. Москва, "СветЭлектро" III кв. 2013 г. | C46: Настенный шкаф R5CEX0442 c прозрачной дверью, 400х400х200 мм в комплекте с ручкой с замком R5CE205 Цена: (3146,82+251,20)/1,18/3,94*1,03*1,012 (компл.) | D46: 1 | E46: 763.78 | G46: 764
A47: 12 | B47: ТЕРм10-06-037-05 | C47: Шкаф настенный, размер до 640х840 мм (1 шт.) | D47: 1 | E47: 123,01 27,47 | F47: 2.39 | G47: 123 | H47: 27 | I47: 2 | J47: 2.06 | K47: 2.06
A48: 13 | B48: г. Москва, "СветЭлектро" III кв. 2013 г. | C48: Кронштейн настенного крепления R5A50 Цена: 282,98/1,18/3,94*1,03*1,012 (компл.) | D48: 1 | E48: 63.61 | G48: 64
...

Sheet 19-4-217
A1: СОГЛАСОВАНО: | I1: УТВЕРЖДАЮ:
A4: ______________ | I4: ____________
A5: " _____ " ________________ 2012 г. | I5: "______ " _______________2012 г.
D6: г. Лесной. Свердловская область. ФГУП "Комбинат "Электрохимприбор"
D7: (наименование стройки)
D9: ЛОКАЛЬНЫЙ СМЕТНЫЙ РАСЧЕТ № 313-2228 / 19-4-217
D10: (локальная смета)
A12: на | B12: Пожарную сигнализацию и оповещение о пожаре, Здание 400. Площадка 14. Монтаж АПС и СОУЭ в зданиях комбината
D13: (наименование работ и затрат, наименование объекта)
B15: Основание: р.ч. 0503.014.0400 - ПС, инв. № 313-700 с изм. 1, 313-699 с изм. 1
B16: Сметная стоимость _______________________________________________________________________________________________ | D16: ___________________________35,541 | F16: тыс. руб.
B17: монтажных работ _______________________________________________________________________________________________ | D17: _______________________________________________________________________________________________31,069 | F17: тыс. руб.
B18: оборудования _______________________________________________________________________________________________ | D18: _______________________________________________________________________________________________4,472 | F18: тыс. руб.
B19: Средства на оплату труда _______________________________________________________________________________________________ | D19: ___________________________4,916 | F19: тыс. руб.
B20: Сметная трудоемкость _______________________________________________________________________________________________ | D20: _______________________________________________________________________________________________289,52 | F20: чел.час
B21: Трудозатраты механизаторов _______________________________________________________________________________________________ | D21: _______________________________________________________________________________________________49,47 | F21: чел.час
B22: Составлен(а) в ценах по состоянию на 01.01.2000 г. (редакция 2009 г.)
A25: № пп | B25: Шифр и номер позиции норматива | C25: Наименование работ и затрат, единица измерения | D25: Количество | E25: Стоимость единицы, руб. | G25: Общая стоимость, руб. | J25: Затраты труда рабочих, чел.-ч, не занятых обслуживанием машин
E26: всего | F26: эксплуата- ции машин | G26: Всего | H26: оплаты труда | I26: эксплуата- ция машин
E27: оплаты труда | F27: в т.ч. оплаты труда | I27: в т.ч. оплаты труда | J27: на единицу | K27: всего
A28: 1 | B28: 2 | C28: 3 | D28: 4 | E28: 5 | F28: 6 | G28: 7 | H28: 8 | I28: 9 | J28: 10 | K28: 11
A29: Раздел 1. Монтажные работы и оборудование
A30: Применен повышающий территориальный коэффициент к заработной плате К=1,0434
A31: Учтены индексы:
A32: К = 3,94 - индекс перехода сметной стоимости на оборудование от цен 3 кв. 2013 г. к ценам на 01.01.2000 г. (письмо Минрегиона № 13478-СД/10 от 29.07.2013 г. прил. 5)
A33: К= 5,59 - индекс перехода к стоимости материалов от цен 3 кв. 2013 г. к ценам на 01.01.2000 г. (письмо Минрегиона № 13478-СД/10 от 29.07.2013 г. прил. 1)
A34: Учтены транспортные (3%), заготовительно-складские расходы (1,2%) на оборудование и (2%) на материалы
A36: Пожарная сигнализация
A37: 1 | B37: г. Москва, "Альтоника" III кв. 2013 г. | C37: Объектовый прибор со встроенным передатчиком "Риф Стринг RS-202 ТР 8" Цена: 9919,00/1,18/3,94*1,03*1,012 (компл.) | D37: 1 | E37: 2223.86 | G37: 2224
A38: 2 | B38: ТЕРм10-08-001-08 | C38: Прибор ОПС на 4 луча (1 шт.) | D38: 1 | E38: 45,14 37,04 | F38: 0.37 | G38: 45 | H38: 37 | J38: 2.4 | K38: 2.4
A39: 3 | B39: г. Москва, "Альтоника" III кв. 2013 г. | C39: Антенна АН7-433, направленная усилением +7dBd Цена: 2275,00/1,18/3,94*1,03*1,012 (шт.) | D39: 1 | E39: 510.06 | G39: 510
A40: 4 | B40: ТЕРм10-04-100-09 | C40: Антенна направленная; аппаратура настенная (1 шт.) | D40: 1 | E40: 151,45 113,1 | G40: 151 | H40: 113 | J40: 8 | K40: 8
A41: 5 | B41: г. Челябинск, "Холдинговый центр системы безопасности" III кв. 2013 г. | C41: Резервированный источник питания "Скат-1200Д исп.2" Цена: 3390,00/1,18/3,94*1,03*1,012 (шт.) | D41: 1 | E41: 760.04 | G41: 760
A42: 6 | B42: г. Челябинск, "Электромир" III кв. 2013 г. | C42: Аккумуляторная батарея U= 12В, I=4A, емк. 20 Ач Цена: 988,00/1,18/3,94*1,03*1,012 (шт.) | D42: 1 | E42: 221.51 | G42: 222
A43: 7 | B43: ТЕРм10-08-003-03 | C43: Блок питания и контроля (1 шт.) | D43: 1 | E43: 62,22 54,02 | F43: 0.37 | G43: 62 | H43: 54 | J43: 3.6 | K43: 3.6
A44: 8 | B44: ТЕРм10-04-066-05 прим. | C44: Оповещатель комбинированный "Маяк" (1 шт.) | D44: 1 | E44: 14,44 13,33 | G44: 14 | H44: 13 | J44: 1 | K44: 1
A45: 9 | B45: г. Москва, "Сигналспецавтоматика" III кв. 2013 г. | C45: Устройство контроля шлейфов УШК-02 Цена: 113,52/1,18/3,94*1,03*1,012 (шт.) | D45: 2 | E45: 25.45 | G45: 51
A46: 10 | B46: ТЕРм10-08-001-12 | C46: Устройства промежуточные на количество лучей 2 (1 шт.) | D46: 2 | E46: 131,28 121,79 | F46: 0.37 | G46: 263 | H46: 244 | I46: 1 | J46: 8 | K46: 16
A47: 11 | B47: ТЕРм10-04-066-05 | C47: Извещатель пожарный ручной (ИПР-55) (1 шт.) | D47: 3 | E47: 14,44 13,33 | G47: 43 | H47: 40 | J47: 1 | K47: 3
A48: 12 | B48: г. Королев, "Болид" III кв. 2013 г. | C48: Прибор приемно-контрольный охранно-пожарный "Сигнал-20М". Цена: 3145,31/1,18/3,94*1,03*1,012 (компл.) | D48: 1 | E48: 705.18 | G48: 705
...

Sheet 19-4-444
A1: СОГЛАСОВАНО: | I1: УТВЕРЖДАЮ:
A4: ______________ | I4: ____________
A5: " _____ " ________________ 2012 г. | I5: "______ " _______________2012 г.
D6: г. Лесной Свердловкой области. ФГУП "Комбинат "Электрохимприбор"
D7: (наименование стройки)
D9: ЛОКАЛЬНЫЙ СМЕТНЫЙ РАСЧЕТ № 313-2331/19-4-444
D10: (локальная смета)
A12: на | B12: Пожарную сигнализацию и оповещение о пожаре, Площадка 14. Здание 281А.
D13: (наименование работ и затрат, наименование объекта)
B15: Основание: р.ч. 0503.014.0400 - ПС, инв. № 313-691, 313-692
B16: Сметная стоимость _______________________________________________________________________________________________ | D16: ___________________________158,896 | F16: тыс. руб.
B17: монтажных работ _______________________________________________________________________________________________ | D17: _______________________________________________________________________________________________129,927 | F17: тыс. руб.
B18: оборудования _______________________________________________________________________________________________ | D18: _______________________________________________________________________________________________28,969 | F18: тыс. руб.
B19: Средства на оплату труда _______________________________________________________________________________________________ | D19: ___________________________19,734 | F19: тыс. руб.
B20: Сметная трудоемкость _______________________________________________________________________________________________ | D20: _______________________________________________________________________________________________1105,01 | F20: чел.час
B21: Трудозатраты механизаторов _______________________________________________________________________________________________ | D21: _______________________________________________________________________________________________243,74 | F21: чел.час
B22: Составлен(а) в текущих (прогнозных) ценах по состоянию на 01.01.2000 г. (Редакция 2009 г.)
A25: № пп | B25: Шифр и номер позиции норматива | C25: Наименование работ и затрат, единица измерения | D25: Количество | E25: Стоимость единицы, руб. | G25: Общая стоимость, руб. | J25: Затраты труда рабочих, чел.-ч, не занятых обслуживанием машин
E26: всего | F26: эксплуата- ции машин | G26: Всего | H26: оплаты труда | I26: эксплуата- ция машин
E27: оплаты труда | F27: в т.ч. оплаты труда | I27: в т.ч. оплаты труда | J27: на единицу | K27: всего
A28: 1 | B28: 2 | C28: 3 | D28: 4 | E28: 5 | F28: 6 | G28: 7 | H28: 8 | I28: 9 | J28: 10 | K28: 11
A29: Раздел 1. Монтажные работы и оборудование
A30: Применен повышающий территориальный коэффициент к заработной плате К=1,0434
A31: Учтены индексы:
A32: К = 3,94 - индекс перехода сметной стоимости на оборудование от цен 3 кв. 2013 г. к ценам на 01.01.2000 г. (письмо Минрегиона № 13478-СД/10 от 29.07.2013 г. прил. 5)
A33: К= 5,59 - индекс перехода к стоимости материалов от цен 3 кв. 2013 г. к ценам на 01.01.2000 г. (письмо Минрегиона № 13478-СД/10 от 29.07.2013 г. прил. 1)
A34: Учтены транспортные (3%), заготовительно-складские расходы (1,2%) и расходы на оборудование (2%)
A36: Пожарная сигнализация
A37: 1 | B37: г. Москва, "Альтоника" III кв. 2013 г. | C37: Объектовый прибор со встроенным передатчиком "Риф Стринг RS-202 ТD-RR" Цена: 4170:1,18:3,94*1,03*1,012 (компл.) | D37: 1 | E37: 934.92 | G37: 935
A38: 2 | B38: ТЕРм10-08-001-08 | C38: Прибор ОПС на 4 луча (1 шт.) | D38: 1 | E38: 45,14 37,04 | F38: 0.37 | G38: 45 | H38: 37 | J38: 2.4 | K38: 2.4
A39: 3 | B39: г. Москва, "Альтоника" III кв. 2013 г. | C39: Антенна АН7-433, направленная усилением +7dBd Цена: 2275,0:1,18:3,94*1,03*1,012 (шт.) | D39: 1 | E39: 510.06 | G39: 510
A40: 4 | B40: ТЕРм10-04-100-09 | C40: Антенна направленная; аппаратура настенная (1 шт.) | D40: 1 | E40: 151,45 113,1 | G40: 151 | H40: 113 | J40: 8 | K40: 8
A41: 5 | B41: г. Королев ЗАО НВП "Болид" III кв. 2013 г. | C41: Пульт контроля и управления С2000 М Цена: 5930,0:1,18:3,94*1,03*1,012 (шт.) | D41: 1 | E41: 1329.52 | G41: 1330
A42: 6 | B42: ТЕРм10-08-001-01 | C42: Приборы ПС приемно-контрольные, пусковые, концентратор блок базовый на 10 лучей (1 шт.) | D42: 1 | E42: 121,95 106,45 | F42: 0.46 | G42: 122 | H42: 106 | J42: 7.2 | K42: 7.2
A43: 7 | B43: г. Королев ЗАО НВП "Болид" III кв. 2013 г. | C43: Контроллер двухпроводной линии связи С2000-КДЛ Цена: 1971,2:1,18:3,94*1,03*1,012 (шт.) | D43: 1 | E43: 441.95 | G43: 442
A44: 8 | B44: ТЕРм11-03-001-02 | C44: Приборы, устанавливаемые на металлоконструкциях, щитах и пультах, масса до 10 кг (1 шт.) | D44: 1 | E44: 17,55 15,01 | G44: 18 | H44: 15 | J44: 1.03 | K44: 1.03
A45: 9 | B45: г. Королев ЗАО НВП "Болид" III кв. 2013 г. | C45: Блок сигнально-пусковой С2000-СП1 Цена: 1551:1,18:3,94*1,03*1,012 (шт.) | D45: 2 | E45: 347.74 | G45: 695
A46: 10 | B46: ТЕРм10-08-001-01 | C46: Приборы ПС приемно-контрольные, пусковые, концентратор блок базовый на 10 лучей (1 шт.) | D46: 2 | E46: 121,95 106,45 | F46: 0.46 | G46: 244 | H46: 213 | I46: 1 | J46: 7.2 | K46: 14.4
A47: 11 | B47: г. Королев ЗАО НВП "Болид" III кв. 2013 г. | C47: Адресный расширитель Цена:364:1,18:3,94*1,03*1,012 (шт.) | D47: 5 | E47: 81.61 | G47: 408
A48: 12 | B48: ТЕРм10-08-003-08 прим | C48: Адресный расширитель (1 шт.) | D48: 5 | E48: 13,95 10,18 | F48: 0.26 | G48: 70 | H48: 51 | I48: 1 | J48: 0.72 | K48: 3.6
...

Sheet 19-4-453
A1: СОГЛАСОВАНО: | I1: УТВЕРЖДАЮ:
A4: ______________ | I4: ____________
A5: " _____ " ________________ 2012 г. | I5: "______ " _______________2012 г.
D6: г. Лесной Свердловской области. ФГУП "Комбинат "Электрохимприбор"
D7: (наименование стройки)
D9: ЛОКАЛЬНЫЙ СМЕТНЫЙ РАСЧЕТ № 313-2331/19-4-453
D10: (локальная смета)
A12: на | B12: Пожарную сигнализацию и оповещение о пожаре, Площадка 14. Здание 281.
D13: (наименование работ и затрат, наименование объекта)
B15: Основание: р.ч. 0503.014.0400 - ПС, инв. № 313-696, 313-695
B16: Сметная стоимость _______________________________________________________________________________________________ | D16: ___________________________101,683 | F16: тыс. руб.
B17: монтажных работ _______________________________________________________________________________________________ | D17: _______________________________________________________________________________________________73,952 | F17: тыс. руб.
B18: оборудования _______________________________________________________________________________________________ | D18: _______________________________________________________________________________________________27,731 | F18: тыс. руб.
B19: Средства на оплату труда _______________________________________________________________________________________________ | D19: ___________________________11,483 | F19: тыс. руб.
B20: Сметная трудоемкость _______________________________________________________________________________________________ | D20: _______________________________________________________________________________________________628,11 | F20: чел.час
B21: Трудозатраты механизаторов _______________________________________________________________________________________________ | D21: _______________________________________________________________________________________________156,98 | F21: чел.час
B22: Составлен(а) в ценах по состоянию на 01.01.2000 г. (редакция 2009 г.)
A25: № пп | B25: Шифр и номер позиции норматива | C25: Наименование работ и затрат, единица измерения | D25: Количество | E25: Стоимость единицы, руб. | G25: Общая стоимость, руб. | J25: Затраты труда рабочих, чел.-ч, не занятых обслуживанием машин
E26: всего | F26: эксплуата- ции машин | G26: Всего | H26: оплаты труда | I26: эксплуата- ция машин
E27: оплаты труда | F27: в т.ч. оплаты труда | I27: в т.ч. оплаты труда | J27: на единицу | K27: всего
A28: 1 | B28: 2 | C28: 3 | D28: 4 | E28: 5 | F28: 6 | G28: 7 | H28: 8 | I28: 9 | J28: 10 | K28: 11
A29: Раздел 1. Монтажные работы и оборудование
A30: Применен повышающий территориальный коэффициент к заработной плате К=1,0434
A31: Учтены индексы:
A32: К = 3,94 - индекс перехода сметной стоимости на оборудование от цен 3 кв. 2013 г. к ценам на 01.01.2000 г. (письмо Минрегиона № 13478-СД/10 от 29.07.2013 г. прил. 5)
A33: К= 5,59 - индекс перехода к стоимости материалов от цен 3 кв. 2013 г. к ценам на 01.01.2000 г. (письмо Минрегиона № 13478-СД/10 от 29.07.2013 г. прил. 1)
A34: Учтены транспортные (3%), заготовительно-складские расходы (1,2%) и расходы на оборудование (2%)
A36: Пожарная сигнализация
A37: 1 | B37: г. Москва, "Альтоника" III кв. 2013 г. | C37: Объектовый прибор со встроенным передатчиком "Риф Стринг RS-202 ТD-RR" Цена: 4170:1,18:3,94*1,03*1,012 (компл.) | D37: 1 | E37: 934.92 | G37: 935
A38: 2 | B38: ТЕРм10-08-001-08 | C38: Прибор ОПС на 4 луча (1 шт.) | D38: 1 | E38: 45,14 37,04 | F38: 0.37 | G38: 45 | H38: 37 | J38: 2.4 | K38: 2.4
A39: 3 | B39: г. Москва, "Альтоника" III кв. 2013 г. | C39: Антенна АН7-433, направленная усилением +7dBd Цена: 2275,0:1,18:3,94*1,03*1,012 (шт.) | D39: 1 | E39: 510.06 | G39: 510
A40: 4 | B40: ТЕРм10-04-100-09 | C40: Антенна направленная; аппаратура настенная (1 шт.) | D40: 1 | E40: 151,45 113,1 | G40: 151 | H40: 113 | J40: 8 | K40: 8
A41: 5 | B41: г. Королев ЗАО НВП "Болид" III кв. 2013 г. | C41: Пульт контроля и управления С2000 М Цена: 5930,0:1,18:3,94*1,03*1,012 (шт.) | D41: 1 | E41: 1329.52 | G41: 1330
A42: 6 | B42: ТЕРм10-08-001-01 | C42: Приборы ПС приемно-контрольные, пусковые, концентратор блок базовый на 10 лучей (1 шт.) | D42: 1 | E42: 121,95 106,45 | F42: 0.46 | G42: 122 | H42: 106 | J42: 7.2 | K42: 7.2
A43: 7 | B43: г. Королев ЗАО НВП "Болид" III кв. 2013 г. | C43: Контроллер двухпроводной линии связи С2000-КДЛ Цена: 1971,2:1,18:3,94*1,03*1,012 (шт.) | D43: 1 | E43: 441.95 | G43: 442
A44: 8 | B44: ТЕРм11-03-001-02 | C44: Приборы, устанавливаемые на металлоконструкциях, щитах и пультах, масса до 10 кг (1 шт.) | D44: 1 | E44: 17,55 15,01 | G44: 18 | H44: 15 | J44: 1.03 | K44: 1.03
A45: 9 | B45: г. Королев ЗАО НВП "Болид" III кв. 2013 г. | C45: Блок сигнально-пусковой С2000-СП1 Цена: 1551:1,18:3,94*1,03*1,012 (шт.) | D45: 2 | E45: 347.74 | G45: 695
A46: 10 | B46: ТЕРм10-08-001-01 | C46: Приборы ПС приемно-контрольные, пусковые, концентратор блок базовый на 10 лучей (1 шт.) | D46: 2 | E46: 121,95 106,45 | F46: 0.46 | G46: 244 | H46: 213 | I46: 1 | J46: 7.2 | K46: 14.4
A47: 11 | B47: г. Королев ЗАО НВП "Болид" III кв. 2013 г. | C47: Адресный расширитель Цена:364:1,18:3,94*1,03*1,012 (шт.) | D47: 3 | E47: 81.61 | G47: 245
A48: 12 | B48: ТЕРм10-08-003-08 прим | C48: Адресный расширитель (1 шт.) | D48: 3 | E48: 13,95 10,18 | F48: 0.26 | G48: 42 | H48: 31 | I48: 1 | J48: 0.72 | K48: 2.16
...

Sheet 19-4-225
A1: СОГЛАСОВАНО: | I1: УТВЕРЖДАЮ:
A4: ______________ | I4: ____________
A5: " _____ " ________________ 2012 г. | I5: "______ " _______________2012 г.
D6: г. Лесной Свердловкой области. ФГУП "Комбинат "Электрохимприбор"
D7: (наименование стройки)
D9: ЛОКАЛЬНЫЙ СМЕТНЫЙ РАСЧЕТ № 313-2332/19-4-225
D10: (локальная смета)
A12: на | B12: Пожарную сигнализацию и оповещение о пожаре, Площадка 8. Разгруз-сарай
D13: (наименование работ и затрат, наименование объекта)
B15: Основание: р.ч. 0503.014.0400 - ПС, инв. № 313-708, 313-707
B16: Сметная стоимость _______________________________________________________________________________________________ | D16: ___________________________54,996 | F16: тыс. руб.
B17: монтажных работ _______________________________________________________________________________________________ | D17: _______________________________________________________________________________________________29,689 | F17: тыс. руб.
B18: оборудования _______________________________________________________________________________________________ | D18: _______________________________________________________________________________________________25,307 | F18: тыс. руб.
B19: Средства на оплату труда _______________________________________________________________________________________________ | D19: ___________________________4,989 | F19: тыс. руб.
B20: Сметная трудоемкость _______________________________________________________________________________________________ | D20: _______________________________________________________________________________________________266,19 | F20: чел.час
B21: Трудозатраты механизаторов _______________________________________________________________________________________________ | D21: _______________________________________________________________________________________________63,26 | F21: чел.час
B22: Составлен(а) в ценах по состоянию на 01.01.2000 г.(Редакция 2009 г.)
A25: № пп | B25: Шифр и номер позиции норматива | C25: Наименование работ и затрат, единица измерения | D25: Количество | E25: Стоимость единицы, руб. | G25: Общая стоимость, руб. | J25: Затраты труда рабочих, чел.-ч, не занятых обслуживанием машин
E26: всего | F26: эксплуата- ции машин | G26: Всего | H26: оплаты труда | I26: эксплуата- ция машин
E27: оплаты труда | F27: в т.ч. оплаты труда | I27: в т.ч. оплаты труда | J27: на единицу | K27: всего
A28: 1 | B28: 2 | C28: 3 | D28: 4 | E28: 5 | F28: 6 | G28: 7 | H28: 8 | I28: 9 | J28: 10 | K28: 11
A29: Раздел 1. Монтажные работы и оборудование
A30: Применен повышающий территориальный коэффициент к заработной плате К=1,0434
A31: Учтены индексы:
A32: К = 3,94 - индекс перехода сметной стоимости на оборудование от цен 3 кв. 2013 г. к ценам на 01.01.2000 г. (письмо Минрегиона № 13478-СД/10 от 29.07.2013 г. прил. 5)
A33: К= 5,59 - индекс перехода к стоимости материалов от цен 3 кв. 2013 г. к ценам на 01.01.2000 г. (письмо Минрегиона № 13478-СД/10 от 29.07.2013 г. прил. 1)
A34: Учтены транспортные (3%), заготовительно-складские расходы (1,2%) и расходы на оборудование (2%)
A36: Пожарная сигнализация
A37: 1 | B37: г. Москва, "Альтоника" III кв. 2013 г. | C37: Объектовый прибор со встроенным передатчиком "Риф Стринг RS-202 ТР 8" Цена: 9919,00/1,18/3,94*1,03*1,012 (компл.) | D37: 1 | E37: 2223.86 | G37: 2224
A38: 2 | B38: ТЕРм10-08-001-08 | C38: Прибор ОПС на 4 луча (1 шт.) | D38: 1 | E38: 45,14 37,04 | F38: 0.37 | G38: 45 | H38: 37 | J38: 2.4 | K38: 2.4
A39: 3 | B39: г. Москва, "Альтоника" III кв. 2013 г. | C39: Антенна АН7-433, направленная усилением +7dBd Цена: 2275,00/1,18/3,94*1,03*1,012 (шт.) | D39: 1 | E39: 510.06 | G39: 510
A40: 4 | B40: ТЕРм10-04-100-09 | C40: Антенна направленная; аппаратура настенная (1 шт.) | D40: 1 | E40: 151,45 113,1 | G40: 151 | H40: 113 | J40: 8 | K40: 8
A41: 5 | B41: г. Челябинск, "Холдинговый центр системы безопасности" III кв. 2013 г. | C41: Резервированный источник питания "Скат-1200Д исп.2" 3390,00:1,18:3,94*1,03*1,012 (шт.) | D41: 1 | E41: 760.04 | G41: 760
A42: 6 | B42: г. Челябинск, "Электромир" III кв. 2013 г. | C42: Аккумуляторная батарея U= 12В, I=4A, емк. 20 Ач Цена: 988,00:1,18:3,94*1,03*1,012 (шт.) | D42: 1 | E42: 221.51 | G42: 222
A43: 7 | B43: ТЕРм10-08-003-03 | C43: Блок питания и контроля (1 шт.) | D43: 1 | E43: 62,22 54,02 | F43: 0.37 | G43: 62 | H43: 54 | J43: 3.6 | K43: 3.6
A44: 8 | B44: ТЕРм10-08-002-02 | C44: Извещатель ПС автоматический дымовой, фотоэлектрический, радиоизотопный, световой в нормальном исполнении (ИП 212-3СМ) (1 шт.) | D44: 3 | E44: 29,37 23,75 | F44: 0.46 | G44: 88 | H44: 71 | I44: 1 | J44: 1.68 | K44: 5.04
A45: 9 | B45: ТЕРм10-04-066-05 | C45: Извещатель пожарный ручной (ИПР 3СУ) (1 шт.) | D45: 3 | E45: 14,44 13,33 | G45: 43 | H45: 40 | J45: 1 | K45: 3
A46: 10 | B46: ТЕРм10-08-002-03 | C46: Извещатель ПС автоматический тепловой, дымовой, световой во взрывозащищенном исполнении (1 шт.) | D46: 28 | E46: 35,7 29,18 | F46: 0.54 | G46: 1000 | H46: 817 | I46: 15 | J46: 1.68 | K46: 47.04
A47: 11 | B47: ТСЦ-509-8065 прим. | C47: Резисторы (шт.) | D47: 28 4+2+22 | E47: 2.24 | G47: 63
A48: 12 | B48: ТЕРм11-03-001-01 | C48: Резисторы (1 шт.) | D48: 28 4+2+22 | E48: 8,73 7,58 | G48: 244 | H48: 212 | J48: 0.52 | K48: 14.56
...

Sheet 19-4-446
A1: СОГЛАСОВАНО: | I1: УТВЕРЖДАЮ:
A4: ______________ | I4: ____________
A5: " _____ " ________________ 2012 г. | I5: "______ " _______________2012 г.
D6: г. Лесной Свердловкой области. ФГУП "Комбинат "Электрохимприбор"
D7: (наименование стройки)
D9: ЛОКАЛЬНЫЙ СМЕТНЫЙ РАСЧЕТ № 313-2332/19-4-446
D10: (локальная смета)
A12: на | B12: Пожарную сигнализацию и оповещение о пожаре, Площадка 8. Здание 18
D13: (наименование работ и затрат, наименование объекта)
B15: Основание: р.ч. 0503.008.0000 - ПС инв. № 313-710, 313-709
B16: Сметная стоимость _______________________________________________________________________________________________ | D16: ___________________________32,571 | F16: тыс. руб.
B17: монтажных работ _______________________________________________________________________________________________ | D17: _______________________________________________________________________________________________27,384 | F17: тыс. руб.
B18: оборудования _______________________________________________________________________________________________ | D18: _______________________________________________________________________________________________5,187 | F18: тыс. руб.
B19: Средства на оплату труда _______________________________________________________________________________________________ | D19: ___________________________4,207 | F19: тыс. руб.
B20: Сметная трудоемкость _______________________________________________________________________________________________ | D20: _______________________________________________________________________________________________248 | F20: чел.час
B21: Трудозатраты механизаторов _______________________________________________________________________________________________ | D21: _______________________________________________________________________________________________42,72 | F21: чел.час
B22: Составлен(а) в ценах по состоянию на 01.01.2000 (Редакция 2009 г.)
A25: № пп | B25: Шифр и номер позиции норматива | C25: Наименование работ и затрат, единица измерения | D25: Количество | E25: Стоимость единицы, руб. | G25: Общая стоимость, руб. | J25: Затраты труда рабочих, чел.-ч, не занятых обслуживанием машин
E26: всего | F26: эксплуата- ции машин | G26: Всего | H26: оплаты труда | I26: эксплуата- ция машин
E27: оплаты труда | F27: в т.ч. оплаты труда | I27: в т.ч. оплаты труда | J27: на единицу | K27: всего
A28: 1 | B28: 2 | C28: 3 | D28: 4 | E28: 5 | F28: 6 | G28: 7 | H28: 8 | I28: 9 | J28: 10 | K28: 11
A29: Раздел 1. Монтажные работы и оборудование
A30: Применен повышающий территориальный коэффициент к заработной плате К=1,0434
A31: Учтены индексы:
A32: К = 3,94 - индекс перехода сметной стоимости на оборудование от цен 3 кв. 2013 г. к ценам на 01.01.2000 г. (письмо Минрегиона № 13478-СД/10 от 29.07.2013 г. прил. 5)
A33: К= 5,59 - индекс перехода к стоимости материалов от цен 3 кв. 2013 г. к ценам на 01.01.2000 г. (письмо Минрегиона № 13478-СД/10 от 29.07.2013 г. прил. 1)
A34: Учтены транспортные (3%), заготовительно-складские расходы (1,2%) и расходы на материалы (2%)
A36: Пожарная сигнализация
A37: 1 | B37: г. Москва, "Альтоника" III кв. 2013 г. | C37: Объектовый прибор со встроенным передатчиком "Риф Стринг RS-202 ТР 8" Цена: 9919,00/1,18/3,94*1,03*1,012 (компл.) | D37: 1 | E37: 2223.86 | G37: 2224
A38: 2 | B38: ТЕРм10-08-001-08 | C38: Прибор ОПС на 4 луча (1 шт.) | D38: 1 | E38: 45,14 37,04 | F38: 0.37 | G38: 45 | H38: 37 | J38: 2.4 | K38: 2.4
A39: 3 | B39: г. Москва, "Альтоника" III кв. 2013 г. | C39: Антенна АН7-433, направленная усилением +7dBd Цена: 2275,00/1,18/3,94*1,03*1,012 (шт.) | D39: 1 | E39: 510.06 | G39: 510
A40: 4 | B40: ТЕРм10-04-100-09 | C40: Антенна направленная; аппаратура настенная (1 шт.) | D40: 1 | E40: 151,45 113,1 | G40: 151 | H40: 113 | J40: 8 | K40: 8
A41: 5 | B41: г. Королев, "Болид" III кв. 2013 г. | C41: Резервированный источник питания РИП-12 испе. 06 Цена: 5174,00/1,18/3,94*1,03*1,012 (шт.) | D41: 1 | E41: 1160.02 | G41: 1160
A42: 6 | B42: г. Москва, "База электроники" III кв. 2013 г. | C42: Аккумуляторная батарея U= 12В, I=6A, емк. 26 Ач Цена: 2230,00/1,18/3,94*1,03*1,012 (шт.) | D42: 1 | E42: 499.97 | G42: 500
A43: 7 | B43: ТЕРм10-08-003-03 | C43: Блок питания и контроля (1 шт.) | D43: 1 | E43: 62,22 54,02 | F43: 0.37 | G43: 62 | H43: 54 | J43: 3.6 | K43: 3.6
A44: 8 | B44: ТЕРм10-04-066-05 прим. | C44: Оповещатель комбинированный "Маяк" (1 шт.) | D44: 1 | E44: 14,44 13,33 | G44: 14 | H44: 13 | J44: 1 | K44: 1
A45: 9 | B45: ТЕРм10-08-002-02 | C45: Извещатель ПС автоматический дымовой, фотоэлектрический, радиоизотопный, световой в нормальном исполнении (ИП 212-3СМ) (1 шт.) | D45: 24 | E45: 29,37 23,75 | F45: 0.46 | G45: 705 | H45: 570 | I45: 11 | J45: 1.68 | K45: 40.32
A46: 10 | B46: ТЕРм10-04-066-05 | C46: Извещатель пожарный ручной (ИПР 3СУ) (1 шт.) | D46: 4 | E46: 14,44 13,33 | G46: 58 | H46: 53 | J46: 1 | K46: 4
A47: 11 | B47: ТСЦ-509-8065 прим. | C47: Резисторы (шт.) | D47: 28 25+3 | E47: 9.99 | G47: 280
A48: 12 | B48: ТЕРм11-03-001-01 | C48: Резисторы (1 шт.) | D48: 28 25+3 | E48: 8,73 7,58 | G48: 244 | H48: 212 | J48: 0.52 | K48: 14.56
...

Sheet 19-4-449
A1: СОГЛАСОВАНО: | I1: УТВЕРЖДАЮ:
A4: ______________ | I4: ____________
A5: " _____ " ________________ 2012 г. | I5: "______ " _______________2012 г.
D6: г. Лесной Свердловской области. ФГУП "Комбинат "Электрохимприбор"
D7: (наименование стройки)
D9: ЛОКАЛЬНЫЙ СМЕТНЫЙ РАСЧЕТ № 313-2361/19-4-449
D10: (локальная смета)
A12: на | B12: Пожарную сигнализацию и оповещение о пожаре, Площадка 8. Здание 400А
D13: (наименование работ и затрат, наименование объекта)
B15: Основание: р.ч. 0503.008.0000 - ПС инв. № 313-718, 313-717
B16: Сметная стоимость _______________________________________________________________________________________________ | D16: ___________________________155,704 | F16: тыс. руб.
B17: монтажных работ _______________________________________________________________________________________________ | D17: _______________________________________________________________________________________________150,051 | F17: тыс. руб.
B18: оборудования _______________________________________________________________________________________________ | D18: _______________________________________________________________________________________________5,653 | F18: тыс. руб.
B19: Средства на оплату труда _______________________________________________________________________________________________ | D19: ___________________________15,048 | F19: тыс. руб.
B20: Сметная трудоемкость _______________________________________________________________________________________________ | D20: _______________________________________________________________________________________________1014,74 | F20: чел.час
B21: Трудозатраты механизаторов _______________________________________________________________________________________________ | D21: _______________________________________________________________________________________________49,27 | F21: чел.час
B22: Составлен(а) в ценах по состоянию на 01.01.2000г. (редакция 2009г.)
A25: № пп | B25: Шифр и номер позиции норматива | C25: Наименование работ и затрат, единица измерения | D25: Количество | E25: Стоимость единицы, руб. | G25: Общая стоимость, руб. | J25: Затраты труда рабочих, чел.-ч, не занятых обслуживанием машин
E26: всего | F26: эксплуата- ции машин | G26: Всего | H26: оплаты труда | I26: эксплуата- ция машин
E27: оплаты труда | F27: в т.ч. оплаты труда | I27: в т.ч. оплаты труда | J27: на единицу | K27: всего
A28: 1 | B28: 2 | C28: 3 | D28: 4 | E28: 5 | F28: 6 | G28: 7 | H28: 8 | I28: 9 | J28: 10 | K28: 11
A29: Раздел 1. Монтажные работы и оборудование
A30: Применен повышающий территориальный коэффициент к заработной плате К=1,0434
A31: Учтены индексы:
A32: К = 3,94 - индекс перехода сметной стоимости на оборудование от цен 3 кв. 2013 г. к ценам на 01.01.2000 г. (письмо Минрегиона № 13478-СД/10 от 29.07.2013 г. прил. 5)
A33: К= 5,59 - индекс перехода к стоимости материалов от цен 3 кв. 2013 г. к ценам на 01.01.2000 г. (письмо Минрегиона № 13478-СД/10 от 29.07.2013 г. прил. 1)
A34: Учтены транспортные (3%), заготовительно-складские расходы (1,2%) и расходы на материалы (2%)
A36: Пожарная сигнализация
A37: 1 | B37: г. Москва, "Альтоника" III кв. 2013 г. | C37: Объектовый прибор со встроенным передатчиком "Риф Стринг RS-202 ТР 8" Цена: 9919,0:1,18:3,94*1,03*1,012 (компл.) | D37: 1 | E37: 2223.86 | G37: 2224
A38: 2 | B38: ТЕРм10-08-001-08 | C38: Прибор ОПС на 4 луча (1 шт.) | D38: 1 | E38: 45,14 37,04 | F38: 0.37 | G38: 45 | H38: 37 | J38: 2.4 | K38: 2.4
A39: 3 | B39: г. Москва, "Альтоника" III кв. 2013 г. | C39: Антенна АН7-433, направленная усилением +7dBd Цена: 2275,0:1,18:3,94*1,03*1,012 (шт.) | D39: 1 | E39: 510.06 | G39: 510
A40: 4 | B40: ТЕРм10-04-100-09 | C40: Антенна направленная; аппаратура настенная (1 шт.) | D40: 1 | E40: 151,45 113,1 | G40: 151 | H40: 113 | J40: 8 | K40: 8
A41: 5 | B41: г. Королев, "Болид" III кв. 2013 г. | C41: Резервированный источник питания РИП-12 исп. 06 Цена: 5174,0:1,18:3,94*1,03*1,012 (шт.) | D41: 1 | E41: 1160.02 | G41: 1160
A42: 6 | B42: г. Москва, "База электроники" III кв. 2013 г. | C42: Аккумуляторная батарея U= 12В, I=6A, емк. 26 Ач Цена: 2230,0:1,18:3,94*1,03*1,012 (шт.) | D42: 1 | E42: 499.97 | G42: 500
A43: 7 | B43: ТЕРм10-08-003-03 | C43: Блок питания и контроля (1 шт.) | D43: 1 | E43: 62,22 54,02 | F43: 0.37 | G43: 62 | H43: 54 | J43: 3.6 | K43: 3.6
A44: 8 | B44: ТЕРм10-04-066-05 прим. | C44: Оповещатель комбинированный "Маяк" (1 шт.) | D44: 1 | E44: 14,44 13,33 | G44: 14 | H44: 13 | J44: 1 | K44: 1
A45: 9 | B45: ТЕРм10-08-002-02 | C45: Извещатель ПС автоматический дымовой, фотоэлектрический, радиоизотопный, световой в нормальном исполнении (ИП 212-3СМ) (1 шт.) | D45: 42 | E45: 29,37 23,75 | F45: 0.46 | G45: 1234 | H45: 998 | I45: 19 | J45: 1.68 | K45: 70.56
A46: 10 | B46: ТЕРм10-04-066-05 | C46: Извещатель пожарный ручной (ИПР 3СУ) (1 шт.) | D46: 3 | E46: 14,44 13,33 | G46: 43 | H46: 40 | J46: 1 | K46: 3
A47: 11 | B47: г. Москва, "Сигналспецавтоматика" III кв. 2013 г. | C47: Устройство контроля шлейфов УШК-02 Цена: 113,52:1,18:3,94*1,03*1,012 (шт.) | D47: 1 | E47: 25.45 | G47: 25
A48: 12 | B48: ТЕРм10-08-001-12 | C48: Устройства промежуточные на количество лучей 2 (1 шт.) | D48: 1 | E48: 131,28 121,79 | F48: 0.37 | G48: 131 | H48: 122 | J48: 8 | K48: 8
...

Sheet 19-4-224
A1: СОГЛАСОВАНО: | I1: УТВЕРЖДАЮ:
A4: ______________ | I4: ____________
A5: " _____ " ________________ 2012 г. | I5: "______ " _______________2012 г.
D6: г. Лесной Свердловской области. ФГУП "Комбинат "Электрохимприбор"
D7: (наименование стройки)
D9: ЛОКАЛЬНЫЙ СМЕТНЫЙ РАСЧЕТ № 313-2472/19-4-224
D10: (локальная смета)
A12: на | B12: Пожарную сигнализацию и оповещение о пожаре, Площадка 14. База снабжения отдела 071. Здание 367
D13: (наименование работ и затрат, наименование объекта)
B15: Основание: р.ч. 0503.014.0367 - ПС, инв. № 313-772, 313-771
B16: Сметная стоимость _______________________________________________________________________________________________ | D16: ___________________________100,881 | F16: тыс. руб.
B17: монтажных работ _______________________________________________________________________________________________ | D17: _______________________________________________________________________________________________93,743 | F17: тыс. руб.
B18: оборудования _______________________________________________________________________________________________ | D18: _______________________________________________________________________________________________7,138 | F18: тыс. руб.
B19: Средства на оплату труда _______________________________________________________________________________________________ | D19: ___________________________13,308 | F19: тыс. руб.
B20: Сметная трудоемкость _______________________________________________________________________________________________ | D20: _______________________________________________________________________________________________805,7 | F20: чел.час
B21: Трудозатраты механизаторов _______________________________________________________________________________________________ | D21: _______________________________________________________________________________________________117,38 | F21: чел.час
B22: Составлен(а) в ценах по состоянию на 01.01.2000 г. (Редакция 2009 г.)
A25: № пп | B25: Шифр и номер позиции норматива | C25: Наименование работ и затрат, единица измерения | D25: Количество | E25: Стоимость единицы, руб. | G25: Общая стоимость, руб. | J25: Затраты труда рабочих, чел.-ч, не занятых обслуживанием машин
E26: всего | F26: эксплуата- ции машин | G26: Всего | H26: оплаты труда | I26: эксплуата- ция машин
E27: оплаты труда | F27: в т.ч. оплаты труда | I27: в т.ч. оплаты труда | J27: на единицу | K27: всего
A28: 1 | B28: 2 | C28: 3 | D28: 4 | E28: 5 | F28: 6 | G28: 7 | H28: 8 | I28: 9 | J28: 10 | K28: 11
A29: Раздел 1. Монтажные работы и оборудование
A30: Применен повышающий территориальный коэффициент к заработной плате К=1,0434
A31: Учтены индексы:
A32: К = 3,94 - индекс перехода сметной стоимости на оборудование от цен 3 кв. 2013 г. к ценам на 01.01.2000 г. (письмо Минрегиона № 13478-СД/10 от 29.07.2013 г. прил. 5)
A33: К= 5,59 - индекс перехода к стоимости материалов от цен 3 кв. 2013 г. к ценам на 01.01.2000 г. (письмо Минрегиона № 13478-СД/10 от 29.07.2013 г. прил. 1)
A34: Учтены транспортные (3%), заготовительно-складские расходы (1,2%) и расходы на оборудование (2%)
A36: Пожарная сигнализация
A37: 1 | B37: г. Королев ЗАО НВП "Болид" III кв. 2013 г. | C37: Преобразователь протокола С2000-ПП Цена: 567,58:1,18:3,94*1,03*1,012 (шт.) | D37: 1 | E37: 127.25 | G37: 127
A38: 2 | B38: ТЕРм11-04-008-01 | C38: Съемные и выдвижные блоки (модули, ячейки, ТЭЗ), масса до 5 кг (1 шт.) | D38: 1 | E38: 14,42 13,08 | F38: 1.09 | G38: 14 | H38: 13 | I38: 1 | J38: 1.03 | K38: 1.03
A39: 3 | B39: г. Королев ЗАО НВП "Болид" III кв. 2013 г. | C39: Пульт контроля и управления С2000 М Цена: 5930,0:1,18:3,94*1,03*1,012 (шт.) | D39: 1 | E39: 1329.52 | G39: 1330
A40: 4 | B40: ТЕРм10-08-001-01 | C40: Приборы ПС приемно-контрольные, пусковые, концентратор блок базовый на 10 лучей (1 шт.) | D40: 1 | E40: 121,95 106,45 | F40: 0.46 | G40: 122 | H40: 106 | J40: 7.2 | K40: 7.2
A41: 5 | B41: г. Королев ЗАО НВП "Болид" III кв. 2013 г. | C41: Блок индикации С2000-БКИ Цена: 3645,0:1,18:3,94*1,03*1,012 (шт.) | D41: 1 | E41: 817.22 | G41: 817
A42: 6 | B42: ТЕРм10-08-001-08 | C42: Прибор ОПС на 4 луча (1 шт.) | D42: 1 | E42: 45,14 37,04 | F42: 0.37 | G42: 45 | H42: 37 | J42: 2.4 | K42: 2.4
A43: 7 | B43: г. Королев ЗАО НВП "Болид" III кв. 2013 г. | C43: Контроллер двухпроводной линии связи С2000-КДЛ Цена: 1971,2:1,18:3,94*1,03*1,012 (шт.) | D43: 1 | E43: 441.95 | G43: 442
A44: 8 | B44: ТЕРм11-03-001-02 | C44: Приборы, устанавливаемые на металлоконструкциях, щитах и пультах, масса до 10 кг (1 шт.) | D44: 1 | E44: 17,55 15,01 | G44: 18 | H44: 15 | J44: 1.03 | K44: 1.03
A45: 9 | B45: г. Москва, "База электроники" III кв. 2013 г. | C45: Блок разветвительно-изолирующий "БРИЗ" Цена: 320,61:1,18:3,94*1,03*1,012 (шт.) | D45: 4 | E45: 71.88 | G45: 288
A46: 10 | B46: ТЕРм10-08-001-05 прим | C46: Приборы ПС на 1 луч (1 шт.) | D46: 4 | E46: 33,62 25,85 | F46: 0.37 | G46: 134 | H46: 103 | I46: 1 | J46: 1.8 | K46: 7.2
A47: 11 | B47: г. Королев, "Болид" III кв. 2013 г. | C47: Резервированный источник питания РИП-12 исп. 06 Цена: 2464,0:1,18:3,94*1,03*1,012 (шт.) | D47: 1 | E47: 552.43 | G47: 552
A48: 12 | B48: г. Москва, "База электроники" III кв. 2013 г. | C48: Аккумуляторная батарея U= 12В, I=6A, емк. 26 Ач Цена: 400:1,18:3,94*1,03*1,012 (шт.) | D48: 1 | E48: 89.68 | G48: 90
...

Sheet 19-4-447
A1: СОГЛАСОВАНО: | I1: УТВЕРЖДАЮ:
A4: ______________ | I4: ____________
A5: " _____ " ________________ 2012 г. | I5: "______ " _______________2012 г.
D6: г. Лесной Свердловской области. ФГУП "Комбинат "Электрохимприбор"
D7: (наименование стройки)
D9: ЛОКАЛЬНЫЙ СМЕТНЫЙ РАСЧЕТ № 313-2473/19-4-447
D10: (локальная смета)
A12: на | B12: Пожарную сигнализацию и оповещение о пожаре, Площадка 8. Здание 440
D13: (наименование работ и затрат, наименование объекта)
B15: Основание: р.ч. 0503.008.0440 - ПС инв. № 313-714, 313-713
B16: Сметная стоимость _______________________________________________________________________________________________ | D16: ___________________________49,010 | F16: тыс. руб.
B17: строительных работ _______________________________________________________________________________________________ | D17: _______________________________________________________________________________________________0,635 | F17: тыс. руб.
B18: монтажных работ _______________________________________________________________________________________________ | D18: _______________________________________________________________________________________________43,286 | F18: тыс. руб.
B19: оборудования _______________________________________________________________________________________________ | D19: _______________________________________________________________________________________________5,089 | F19: тыс. руб.
B20: Средства на оплату труда _______________________________________________________________________________________________ | D20: ___________________________5,917 | F20: тыс. руб.
B21: Сметная трудоемкость _______________________________________________________________________________________________ | D21: _______________________________________________________________________________________________347,55 | F21: чел.час
B22: Трудозатраты механизаторов _______________________________________________________________________________________________ | D22: _______________________________________________________________________________________________59,53 | F22: чел.час
B23: Составлен(а) в ценах по состоянию на 01.01.2000 г. (Редакция 2009 г.)
A26: № пп | B26: Шифр и номер позиции норматива | C26: Наименование работ и затрат, единица измерения | D26: Количество | E26: Стоимость единицы, руб. | G26: Общая стоимость, руб. | J26: Затраты труда рабочих, чел.-ч, не занятых обслуживанием машин
E27: всего | F27: эксплуата- ции машин | G27: Всего | H27: оплаты труда | I27: эксплуата- ция машин
E28: оплаты труда | F28: в т.ч. оплаты труда | I28: в т.ч. оплаты труда | J28: на единицу | K28: всего
A29: 1 | B29: 2 | C29: 3 | D29: 4 | E29: 5 | F29: 6 | G29: 7 | H29: 8 | I29: 9 | J29: 10 | K29: 11
A30: Раздел 1. Монтажные работы и оборудование
A31: Применен повышающий территориальный коэффициент к заработной плате К=1,0434
A32: Учтены индексы:
A33: К = 3,94 - индекс перехода сметной стоимости на оборудование от цен 3 кв. 2013 г. к ценам на 01.01.2000 г. (письмо Минрегиона № 13478-СД/10 от 29.07.2013 г. прил. 5)
A34: К= 5,59 - индекс перехода к стоимости материалов от цен 3 кв. 2013 г. к ценам на 01.01.2000 г. (письмо Минрегиона № 13478-СД/10 от 29.07.2013 г. прил. 1)
A35: Учтены транспортные (3%), заготовительно-складские расходы (1,2%) и расходы на материалы (2%)
A37: Пожарная сигнализация
A38: 1 | B38: г. Москва, "Альтоника" III кв. 2013 г. | C38: Объектовый прибор со встроенным передатчиком "Риф Стринг RS-202 ТР 8" Цена: 9919,00:1,18:3,94*1,03*1,012 (компл.) | D38: 1 | E38: 2223.86 | G38: 2224
A39: 2 | B39: ТЕРм10-08-001-08 | C39: Прибор ОПС на 4 луча (1 шт.) | D39: 1 | E39: 45,14 37,04 | F39: 0.37 | G39: 45 | H39: 37 | J39: 2.4 | K39: 2.4
A40: 3 | B40: г. Москва, "Альтоника" III кв. 2013 г. | C40: Антенна АН7-433, направленная усилением +7dBd Цена: 1470,00:1,18:3,94*1,03*1,012 (шт.) | D40: 1 | E40: 329.58 | G40: 330
A41: 4 | B41: ТЕРм10-04-100-09 | C41: Антенна направленная; аппаратура настенная (1 шт.) | D41: 1 | E41: 151,45 113,1 | G41: 151 | H41: 113 | J41: 8 | K41: 8
A42: 5 | B42: ТЕРм11-04-020-01 | C42: Разъемы штепсельные с разделкой и включением экранированного кабеля, сечение жилы до 1 мм2, количество подключаемых жил 14 шт. (1 шт.) | D42: 2 1+1 | E42: 35,04 28,48 | G42: 70 | H42: 57 | J42: 2.06 | K42: 4.12
A43: 6 | B43: ТЕРм08-01-061-01 прим. | C43: Грозоразрядник (1 шт.) | D43: 1 | E43: 38,29 15,97 | F43: 7,28 0,55 | G43: 38 | H43: 16 | I43: 7 1 | J43: 1.13 | K43: 1.13
A44: 7 | B44: ТЕРм10-04-066-06 прим. | C44: Оповещатель комбинированный "Маяк" (1 шт.) | D44: 1 | E44: 102,01 78,13 | G44: 102 | H44: 78 | J44: 6 | K44: 6
A45: 8 | B45: ТЕРм10-08-002-02 | C45: Извещатель ПС автоматический дымовой, фотоэлектрический, радиоизотопный, световой в нормальном исполнении (ИП 212-3СМ) (1 шт.) | D45: 22 | E45: 29,37 23,75 | F45: 0.46 | G45: 646 | H45: 523 | I45: 10 | J45: 1.68 | K45: 36.96
A46: 9 | B46: ТЕРм10-08-002-06 | C46: Конструкция для установки извещателя (1 шт.) | D46: 6 | E46: 9,05 4,95 | F46: 1.08 | G46: 54 | H46: 30 | I46: 6 | J46: 0.35 | K46: 2.1
