Workbook
Name Constr: '25178'!$A$7
Name Constr: '25179.'!$A$7
Name Constr: '25180'!$A$7
Name Constr: '25181.'!$A$7
Name Constr: '25262'!$A$7
Name Constr: '25263'!$A$7
Name FOT: '25178'!$D$13
Name FOT: '25179.'!$D$14
Name FOT: '25180'!$D$16
Name FOT: '25181.'!$D$13
Name FOT: '25262'!$D$13
Name FOT: '25263'!$D$16
Name Ind: '25178'!$H$9
Name Ind: '25179.'!$H$9
Name Ind: '25180'!#REF!
Name Ind: '25181.'!$H$9
Name Ind: '25262'!$H$9
Name Ind: '25263'!$H$9
Name Obj: '25178'!#REF!
Name Obj: '25179.'!$E$12
Name Obj: '25180'!$E$9
Name Obj: '25181.'!#REF!
Name Obj: '25262'!#REF!
Name Obj: '25263'!$E$12
Name Obosn: '25178'!#REF!
Name Obosn: '25179.'!#REF!
Name Obosn: '25180'!$D$14
Name Obosn: '25181.'!#REF!
Name Obosn: '25262'!#REF!
Name Obosn: '25263'!$D$14
Name SmPr: '25178'!$D$12
Name SmPr: '25179.'!$D$13
Name SmPr: '25180'!$D$15
Name SmPr: '25181.'!$D$12
Name SmPr: '25262'!$D$12
Name SmPr: '25263'!$D$15
Name аааааппппппрррппппппп: #REF!
Name аараооооооооооооо: #REF!
Name автом: #REF!
Name алшрльоплварл: #REF!
Name аолвлддддддддддддддддввввввввв: #REF!
Name апарв: #REF!
Name апрлдджаоырыфрпопрлпрлпрлп: #REF!
Name арлггаджаш: #REF!
Name ароррбллтблпроорапииас: #REF!
Name арррррблллпдрлдддддддддд: #REF!
Name варпаааааааааа: #REF!
Name ввпьььььлднд: #REF!
Name вед: #REF!
Name вертикальная: #REF!
Name вертикплан: #REF!
Name волен: #REF!
Name вп: #REF!
Name впырпфдыпл: #REF!
Name впьглорьтитттттттттт: #REF!
Name всввввввввввввввввввввввввв: #REF!
Name выб: #REF!
Name выпуск: #REF!
Name выьлепвввввпмп: #REF!
Name еваопродолжэрщэрзшщщх: #REF!

Sheet 25178
A1: СОГЛАСОВАНО: | E1: ФГУП "Комбинат "Электрохимприбор" | M1: УТВЕРЖДАЮ:
G2: (наименование стройки) | M2: Зам. генерального директора
A3: _____________________________ | M3: Е.В.Гордеев
A4: " _____ " ________________ 2014г. | G4: ЛОКАЛЬНЫЙ СМЕТНЫЙ РАСЧЕТ № 25178-П14
G5: (взамен сметы 25178) | M5: "______ " __________2014 г.
C7: на | D7: строительно-монтажные работы по реконструкции помещений 225,225а (санпропускника)
D8: Площадка 3 Здание 106/118, пом 225,255а (инв.№ 6101000) Раздел: Водопровод, канализация.
H9: (наименование работ и затрат, наименование объекта)
D11: Основание: Проект № 24781-13-ВК КПМ Ц6053.518; ПМ №518-46/87-ДСП
D12: Сметная стоимость строительных работ _______________________________________________________________________________________________ | J12: ___________________________18,651 | L12: тыс. руб.
D13: Средства на оплату труда _______________________________________________________________________________________________ | J13: ___________________________2,386 | L13: тыс. руб.
D14: Сметная трудоемкость _______________________________________________________________________________________________ | J14: _______________________________________________________________________________________________168,96 | L14: чел.час
D15: Материалы ___________________________________________________________ | J15: =J74/1000 -> 11.009 | L15: тыс.руб.
D16: Составлен(а) в базовых ценах 2001г. в редакции 2009г.
A18: № пп | B18: Обоснование | C18: Наименование | D18: Ед. изм. | E18: Кол. | F18: Стоимость единицы, руб. | J18: Общая стоимость, руб. | N18: Т/з осн. раб.на ед. | O18: Т/з осн. раб. Всего | P18: Т/з мех. на ед. | Q18: Т/з мех. Всего
F19: Всего | G19: В том числе | J19: Всего | K19: В том числе
G20: Осн.З/п | H20: Эк.Маш | I20: З/пМех | K20: Осн.З/п | L20: Эк.Маш | M20: З/пМех
A21: 1 | B21: 2 | C21: 3 | D21: 4 | E21: 5 | F21: 6 | G21: 7 | H21: 8 | I21: 9 | J21: 10 | K21: 11 | L21: 12 | M21: 13 | N21: 14 | O21: 15 | P21: 16 | Q21: 17
A22: Раздел 1. Разборка.
A23: 1 | B23: ТЕРр65-3-6 | C23: Снятие смесителя с душевой сеткой | D23: 100 шт. арматуры | E23: 0.01 | F23: 696.26 | G23: 691.42 | H23: 4.84 | I23: 1.87 | J23: 7 | K23: 7 | N23: 57.57 | O23: 0.58 | P23: 0.12
A24: 2 | B24: ТЕРр65-4-1 | C24: Демонтаж умывальников и раковин | D24: 100 приборов | E24: 0.01 | F24: 626.59 | G24: 616.11 | H24: 10.48 | I24: 4.06 | J24: 6 | K24: 6 | N24: 51.3 | O24: 0.51 | P24: 0.26
A25: 3 | B25: ТЕРр65-1-2 | C25: Разборка трубопроводов из водогазопроводных труб диаметром до 63 мм | D25: 100 м | E25: 0.1 | F25: 831.21 | G25: 698.15 | H25: 13.92 | I25: 2.66 | J25: 83 | K25: 70 | L25: 1 | N25: 59.62 | O25: 5.96 | P25: 0.17 | Q25: 0.02
A26: 4 | B26: ТЕРр65-1-1 | C26: Разборка трубопроводов из водогазопроводных труб диаметром до 32 мм | D26: 100 м | E26: 0.08 | F26: 483.12 | G26: 405.87 | H26: 8.12 | I26: 1.56 | J26: 39 | K26: 32 | L26: 1 | N26: 34.66 | O26: 2.77 | P26: 0.1 | Q26: 0.01
A27: Раздел 2. Водопровод.
A28: 5 | B28: ТЕР16-02-002-02 | C28: Прокладка трубопроводов водоснабжения из стальных водогазопроводных оцинкованных труб диаметром 20 мм | D28: 100 м | E28: 0.41 | F28: 5654.2 | G28: 502.3 | H28: 79.16 | I28: 2.73 | J28: 2318 | K28: 206 | L28: 32 | M28: 1 | N28: 37.07 | O28: 15.2 | P28: 0.15 | Q28: 0.06
A29: 6 | B29: ТЕР16-02-002-01 | C29: Прокладка трубопроводов водоснабжения из стальных водогазопроводных оцинкованных труб диаметром 15 мм | D29: 100 м | E29: 0.38 | F29: 5020.27 | G29: 502.3 | H29: 79.16 | I29: 2.73 | J29: 1908 | K29: 191 | L29: 30 | M29: 1 | N29: 37.07 | O29: 14.09 | P29: 0.15 | Q29: 0.06
A30: 7 | B30: ТСЦ-301-1224 | C30: Крепления для трубопроводов: кронштейны, планки, хомуты | D30: кг | E30: 15.8 | F30: 17.02 | J30: 269
A31: 8 | B31: ТСЦ-302-1831 | C31: Кран шаровой муфтовый 11Б27П1, диаметром 15 мм | D31: шт. | E31: 7 | F31: 25.14 | J31: 176
A32: 9 | B32: ТСЦ-302-1342 | C32: Вентили проходные муфтовые 15кч18п для воды давлением 1,6 МПа (16 кгс/см2), диаметром 20 мм | D32: шт. | E32: 3 | F32: 27.25 | J32: 82
A33: 10 | B33: ТЕР16-07-003-02 | C33: Врезка в действующие внутренние сети трубопроводов отопления и водоснабжения диаметром 20 мм | D33: 1 врезка | E33: 1 | F33: 107.91 | G33: 62.31 | H33: 5.56 | J33: 108 | K33: 62 | L33: 6 | N33: 4.46 | O33: 4.46
A34: 11 | B34: ТЕР16-07-003-01 | C34: Врезка в действующие внутренние сети трубопроводов отопления и водоснабжения диаметром 15 мм | D34: 1 врезка | E34: 1 | F34: 104.6 | G34: 62.31 | H34: 5.56 | J34: 105 | K34: 62 | L34: 6 | N34: 4.46 | O34: 4.46
A35: 12 | B35: ТЕР16-07-005-01 | C35: Гидравлическое испытание трубопроводов систем отопления, водопровода и горячего водоснабжения диаметром до 50 мм | D35: 100 м | E35: 0.79 | F35: 104.4 | G35: 82.16 | H35: 15.29 | J35: 82 | K35: 65 | L35: 12 | N35: 5.01 | O35: 3.96
A36: 13 | B36: ТЕР15-04-030-04 | C36: Масляная окраска металлических труб диаметром менее 50 мм, количество окрасок 2 | D36: 100 м2 | E36: 0.095 | F36: 1384.09 | G36: 886.83 | H36: 3.68 | I36: 0.16 | J36: 131 | K36: 84 | N36: 71.06 | O36: 6.75 | P36: 0.01
A37: Раздел 3. Канализация.
A38: 14 | B38: ТЕР16-04-001-02 прим. | C38: Прокладка трубопроводов канализации из полиэтиленовых труб высокой плотности диаметром 110 мм (с учетом тройников,отводов,крестовин,прочисток) | D38: 100 м | E38: 0.052 | F38: 8610.79 | G38: 860.55 | H38: 36.81 | I38: 1.09 | J38: 448 | K38: 45 | L38: 2 | N38: 61.6 | O38: 3.2 | P38: 0.06
A39: 15 | B39: ТЕР16-04-001-01 | C39: Прокладка трубопроводов канализации из полиэтиленовых труб высокой плотности диаметром 50 мм (с учетом тройников, отводов, прочисток) | D39: 100 м | E39: 0.134 | F39: 5197.98 | G39: 897.43 | H39: 15.84 | I39: 0.36 | J39: 697 | K39: 120 | L39: 2 | N39: 64.24 | O39: 8.61 | P39: 0.02
A40: 16 | B40: ТЕР16-02-005-05 | C40: Прокладка трубопроводов отопления и водоснабжения из стальных электросварных труб диаметром 100 мм (с учетом тройников,отводов,прочисток и заглушек) | D40: 100 м | E40: 0.216 | F40: 12101.59 | G40: 1097.36 | H40: 278 | I40: 6.73 | J40: 2614 | K40: 237 | L40: 60 | M40: 1 | N40: 79.75 | O40: 17.23 | P40: 0.37 | Q40: 0.08
A41: 17 | B41: ТСЦ-301-1224 | C41: Крепления для трубопроводов: кронштейны, планки, хомуты | D41: кг | E41: 3.72 | F41: 17.02 | J41: 63
A42: 18 | B42: ФССЦ-103-0936 | C42: Муфты диаметром 100 мм КОЭФ. К ПОЗИЦИИ: Проведение расценок ФЕР к территориальному уровню (Письмо УРЦЦС Ц-297 от 12.04.2011) ОЗП=1,41; ЭМ=1,242; ЗПМ=1,41; МАТ=1,052 | D42: шт. | E42: 2 | F42: 30.78 | J42: 62
A43: 19 | B43: ТЕР17-01-001-14 | C43: Установка умывальников одиночных с подводкой холодной и горячей воды | D43: 10 компл. | E43: 0.2 | F43: 407.19 | G43: 293.36 | H43: 29.83 | I43: 2.03 | J43: 81 | K43: 59 | L43: 6 | N43: 21.65 | O43: 4.33 | P43: 0.13 | Q43: 0.03
...

Sheet 25179.
A1: СОГЛАСОВАНО: | E1: ФГУП "Комбинат "Электрохимприбор" | M1: УТВЕРЖДАЮ:
G2: (наименование стройки) | M2: Зам.генерального директора
A3: _________________ | N3: Е.В. Гордеев
A4: " _____ " ________________ 2014 г. | M4: __________________
G5: ЛОКАЛЬНЫЙ СМЕТНЫЙ РАСЧЕТ № 25179 | M5: "______ " __________2014 г.
G6: (локальная смета)
C8: на | D8: Реконструкцию помещений 225,225а (санпропускники) в здании 106, обустройство помещений для
D9: хранения СИЗ, кладовых грязной и чистой спецодежды. Раздел: архитектурно-строительный. Инв.№6101000
D10: (наименование работ и затрат, наименование объекта)
D12: Основание: проект № 24757-13-АС, тема КПМ Ц6053.518
D13: Сметная стоимость строительных работ _______________________________________________________________________________________________ | J13: ___________________________207,059 | L13: тыс. руб.
D14: Средства на оплату труда _______________________________________________________________________________________________ | J14: ___________________________41,213 | L14: тыс. руб.
D15: Сметная трудоемкость _______________________________________________________________________________________________ | J15: _______________________________________________________________________________________________2797,75 | L15: чел.час
D16: Материалы _________________________________________________________ | K16: =J163/1000 -> 92.56 | L16: тыс. руб.
D17: Составлен(а) в базовых ценах 2001г. в редакции 2009г.
A19: № пп | B19: Обоснование | C19: Наименование | D19: Ед. изм. | E19: Кол. | F19: Стоимость единицы, руб. | J19: Общая стоимость, руб. | N19: Т/з осн. раб.на ед. | O19: Т/з осн. раб. Всего | P19: Т/з мех. на ед. | Q19: Т/з мех. Всего
F20: Всего | G20: В том числе | J20: Всего | K20: В том числе
G21: Осн.З/п | H21: Эк.Маш | I21: З/пМех | K21: Осн.З/п | L21: Эк.Маш | M21: З/пМех
A22: 1 | B22: 2 | C22: 3 | D22: 4 | E22: 5 | F22: 6 | G22: 7 | H22: 8 | I22: 9 | J22: 10 | K22: 11 | L22: 12 | M22: 13 | N22: 14 | O22: 15 | P22: 16 | Q22: 17
A23: Раздел 1. Разборка конструкций
A24: 1 | B24: ТЕР46-04-012-03 | C24: Разборка деревянных заполнений проемов дверных | D24: 100 м2 | E24: 0.038 | F24: 1496.49 | G24: 1184.57 | H24: 311.92 | I24: 120.9 | J24: 57 | K24: 45 | L24: 12 | M24: 5 | N24: 103.91 | O24: 3.95 | P24: 7.74 | Q24: 0.29
A25: 2 | B25: ТЕР46-04-001-04 | C25: Разборка кирпичных стен | D25: 1 м3 | E25: 4.1 | F25: 296.8 | G25: 102.84 | H25: 193.96 | I25: 17.96 | J25: 1217 | K25: 422 | L25: 795 | M25: 74 | N25: 8.24 | O25: 33.78 | P25: 1.15 | Q25: 4.72
A26: 3 | B26: ТЕР46-03-007-03 | C26: Пробивка проемов в конструкциях из кирпича | D26: 1 м3 | E26: 0.75 | F26: 583.75 | G26: 155.35 | H26: 428.4 | I26: 39.67 | J26: 438 | K26: 117 | L26: 321 | M26: 30 | N26: 12.3 | O26: 9.23 | P26: 2.54 | Q26: 1.91
A27: 4 | B27: ТЕРр65-4-3 | C27: Демонтаж моек | D27: 100 приборов | E27: 0.01 | F27: 1264.07 | G27: 1232.23 | H27: 31.84 | I27: 12.34 | J27: 13 | K27: 13 | N27: 102.6 | O27: 1.03 | P27: 0.79 | Q27: 0.01
A28: 5 | B28: ТЕРр57-3-2 | C28: Разборка плинтусов цементных и из керамической плитки | D28: 100 м | E28: 0.35 | F28: 156.94 | G28: 156.94 | J28: 55 | K28: 55 | N28: 14.28 | O28: 5
A29: 6 | B29: ТЕРр57-3-1 | C29: Разборка плинтусов деревянных и из пластмассовых материалов | D29: 100 м | E29: 0.31 | F29: 41.43 | G29: 41.43 | J29: 13 | K29: 13 | N29: 3.77 | O29: 1.17
A30: 7 | B30: ТЕРр57-2-3 | C30: Разборка покрытий полов из керамических плиток | D30: 100 м2 | E30: 0.323 | F30: 897.17 | G30: 839.14 | H30: 58.03 | I30: 22.49 | J30: 290 | K30: 271 | L30: 19 | M30: 7 | N30: 69.87 | O30: 22.57 | P30: 1.44 | Q30: 0.47
A31: 8 | B31: ТЕР11-01-004-01 | C31: Разборка гидроизоляции оклеечной из рулонных материалов в 2 слоя КОЭФ. К ПОЗИЦИИ: разборка ОЗП=0,8; ЭМ=0,8 к расх.; ЗПМ=0,8; МАТ=0 к расх.; ТЗ=0,8; ТЗМ=0,8 | D31: 100 м2 | E31: 0.323 | F31: 938.23 | G31: 586.67 | H31: 351.56 | I31: 4.87 | J31: 303 | K31: 189 | L31: 114 | M31: 2 | N31: 36.94 | O31: 11.93 | P31: 0.31 | Q31: 0.1
A32: 9 | B32: ТЕРр63-7-5 | C32: Разборка облицовки стен из керамических глазурованных плиток | D32: 100 м2 | E32: 0.16 | F32: 1081.91 | G32: 823.99 | H32: 257.92 | I32: 27.68 | J32: 173 | K32: 132 | L32: 41 | M32: 4 | N32: 74.3 | O32: 11.89 | P32: 1.99 | Q32: 0.32
A33: 10 | B33: ТЕРр57-2-1 | C33: Разборка покрытий полов из линолеума | D33: 100 м2 | E33: 0.3 | F33: 130.42 | G33: 125.18 | H33: 5.24 | I33: 2.03 | J33: 39 | K33: 38 | L33: 1 | M33: 1 | N33: 11.39 | O33: 3.42 | P33: 0.13 | Q33: 0.04
A34: 11 | B34: ТЕРр57-1-4 | C34: Разборка оснований покрытия полов дощатых | D34: 100 м2 основания | E34: 0.3 | F34: 163.75 | G34: 163.75 | J34: 49 | K34: 49 | N34: 14.9 | O34: 4.47
A35: 12 | B35: ТЕРр57-1-2 | C35: Разборка оснований покрытия полов лаг из досок и брусков | D35: 100 м2 основания | E35: 0.3 | F35: 84.29 | G35: 84.29 | J35: 25 | K35: 25 | N35: 7.67 | O35: 2.3
A36: 13 | B36: ТЕРр57-1-1 | C36: Разборка оснований покрытия полов кирпичных столбиков под лаги | D36: 100 м2 основания | E36: 0.3 | F36: 95.72 | G36: 95.72 | J36: 29 | K36: 29 | N36: 8.71 | O36: 2.61
A37: 14 | B37: ТЕР46-03-010-02 прим. | C37: Пробивка в бетонных полах толщиной 100 мм отверстий площадью до 100 см2 КОЭФ. К ПОЗИЦИИ: на увеличение толщины бетонной конструкции ПЗ=2,2 (ОЗП=2,2; ЭМ=2,2 к расх.; ЗПМ=2,2; МАТ=2,2 к расх.; ТЗ=2,2; ТЗМ=2,2) | D37: 100 отверстий | E37: 0.02 | F37: 4380.22 | G37: 1044.47 | H37: 3335.75 | I37: 308.92 | J37: 88 | K37: 21 | L37: 67 | M37: 6 | N37: 77.95 | O37: 1.56 | P37: 19.78 | Q37: 0.4
A38: 15 | B38: ТЕР46-03-010-03 | C38: Пробивка в бетонных перекрытиях толщиной 100 мм отверстий площадью до 500 см2 | D38: 100 отверстий | E38: 0.01 | F38: 6638.52 | G38: 1482.58 | H38: 5155.94 | I38: 477.5 | J38: 66 | K38: 15 | L38: 51 | M38: 5 | N38: 110.64 | O38: 1.11 | P38: 30.57 | Q38: 0.31
A39: 16 | B39: ФССЦпг01-01-01-041 | C39: Погрузочные работы при автомобильных перевозках: Мусор строительный с погрузкой вручную КОЭФ. К ПОЗИЦИИ: п.1.1.9 ОП Прил.1. Поясной коэффициент: Свердловская область ПЗ=1,1 (ОЗП=1,1; ЭМ=1,1; ЗПМ=1,1; МАТ=1,1); Коэффициент техн.часть п.3 ПЗ=1,025 (ОЗП=1,025; ЭМ=1,025 к расх.; ЗПМ=1,025; МАТ=1,025 к расх.; ТЗ=1,025; ТЗМ=1,025) | D39: 1 т | E39: 42 | F39: 48.46 | G39: 48.46 | J39: 2035 | K39: 2035
A40: 17 | B40: ФССЦпг03-21-01-040 | C40: Перевозка грузов автомобилями-самосвалами грузоподъемностью 10 т, работающих вне карьера, на расстояние: до 40 км I класс груза КОЭФ. К ПОЗИЦИИ: 15 Поясные коэффициенты к сметным ценам на перевозку грузов автомобильным транспортом: Свердловская ПЗ=1,1 (ОЗП=1,1; ЭМ=1,1; ЗПМ=1,1; МАТ=1,1) | D40: 1 т груза | E40: 42 | F40: 25.55 | H40: 25.55 | J40: 1073 | L40: 1073
A41: Итого по разделу 1 Разборка конструкций | J41: 8992 | O41: 118.41 | Q41: 8.59
A42: Раздел 2. Общестроительные работы
A43: Устройство узла прохода через покрытие, в т.ч. разборка и восстановление кровли
...

Sheet 25180
A1: СОГЛАСОВАНО: | E1: ФГУП "Комбинат "Электрохимприбор" | M1: УТВЕРЖДАЮ:
G2: (наименование стройки) | M2: Зам. генерального директора
M3: Е.В.Гордеев
A4: _________________ | M4: _________________
A5: " _____ " ________________ 2014 г. | M5: "______ " __________2014 г.
G6: ЛОКАЛЬНЫЙ СМЕТНЫЙ РАСЧЕТ № 25180
G7: (локальная смета)
C9: на | D9: строительно-монтажные работы по реконструкции помещений 225, 225а (санпропускник)
E10: Площадка 3. Здание 106/118 (инв.№ 6101000).
E11: Раздел: Электрооборудование. Электрическое освещение.
H12: (наименование работ и затрат, наименование объекта)
D14: Основание: проект № 24788-13-ЭМО КПМ Ц6053.518
D15: Сметная стоимость монтажных работ _______________________________________________________________________________________________ | J15: ___________________________29,469 | L15: тыс. руб.
D16: Средства на оплату труда _______________________________________________________________________________________________ | J16: ___________________________3,891 | L16: тыс. руб.
D17: Сметная трудоемкость _______________________________________________________________________________________________ | J17: _______________________________________________________________________________________________254,36 | L17: чел.час
D18: Материалы ______________________________________ | K18: =J72/1000 -> 17.412 | L18: тыс.руб.
D19: Составлен(а) в базовых ценах 2001г. в редакции 2009г.
A21: № пп | B21: Обоснование | C21: Наименование | D21: Ед. изм. | E21: Кол. | F21: Стоимость единицы, руб. | J21: Общая стоимость, руб. | N21: Т/з осн. раб.на ед. | O21: Т/з осн. раб. Всего | P21: Т/з мех. на ед. | Q21: Т/з мех. Всего
F22: Всего | G22: В том числе | J22: Всего | K22: В том числе
G23: Осн.З/п | H23: Эк.Маш | I23: З/пМех | K23: Осн.З/п | L23: Эк.Маш | M23: З/пМех
A24: 1 | B24: 2 | C24: 3 | D24: 4 | E24: 5 | F24: 6 | G24: 7 | H24: 8 | I24: 9 | J24: 10 | K24: 11 | L24: 12 | M24: 13 | N24: 14 | O24: 15 | P24: 16 | Q24: 17
A25: Раздел 1. Демонтажные работы
A26: 1 | B26: ТЕРр67-4-3 | C26: Демонтаж светильников с лампами накаливания | D26: 100 шт. | E26: 0.06 | F26: 70.67 | G26: 69.46 | H26: 1.21 | I26: 0.47 | J26: 4 | K26: 4 | N26: 6.32 | O26: 0.38 | P26: 0.03
A27: 2 | B27: ТЕРр67-4-1 | C27: Демонтаж выключателей, розеток | D27: 100 шт. | E27: 0.05 | F27: 64.18 | G27: 64.18 | J27: 3 | K27: 3 | N27: 5.84 | O27: 0.29
A28: 3 | B28: ТЕРм08-03-545-01 | C28: Демонтаж: коробка ответвительная КОЭФ. К ПОЗИЦИИ: Демонтаж оборудования, которое не подлежит дальнейшему использованию (предназначено в лом) без разборки и резки ОЗП=0,3; ЭМ=0,3 к расх.; ЗПМ=0,3; МАТ=0 к расх.; ТЗ=0,3; ТЗМ=0,3 | D28: 1 шт. | E28: 1 | F28: 13.87 | G28: 13.16 | H28: 0.71 | J28: 14 | K28: 13 | L28: 1 | N28: 0.99 | O28: 0.99
A29: 4 | B29: ТЕРр67-3-1 | C29: Демонтаж кабеля | D29: 100 м | E29: 0.5 | F29: 106.34 | G29: 105.94 | H29: 0.4 | I29: 0.16 | J29: 53 | K29: 53 | N29: 9.64 | O29: 4.82 | P29: 0.01 | Q29: 0.01
A30: Итого по разделу 1 Демонтажные работы | J30: 208 | O30: 6.83 | Q30: 0.01
A31: Раздел 2. Монтажные работы
A32: 5 | B32: Цена поставщика | C32: Светильник ARCTIC 218 (SAN/SMC) ES1 1069002290 | D32: шт. | E32: 14 | F32: 607,62 3986,50/1,18/5,56 | J32: 8507
A33: 6 | B33: Цена поставщика | C33: Светильник ARCTIC 228 (SAN/SMC) 1069002330 | D33: шт. | E33: 7 | F33: 246,86 1619,61/1,18/5,56 | J33: 1728
A34: 7 | B34: Цена поставщика | C34: Светильник ARCTIC 236 (SAN/SMC) (2) HF 1069002410 | D34: шт. | E34: 1 | F34: 194,69 1277,30/1,18/5,56 | J34: 195
A35: 8 | B35: ТЕРм08-03-594-07 прим. | C35: Светильник отдельно устанавливаемый на троссовых подвесах с количеством ламп в светильнике 2 КОЭФ. К ПОЗИЦИИ: 1.8.3.ОП При производстве работ на высоте свыше расстояний, указанных в вводных указаниях к разделам сборника: при высоте свыше 2 до 8 м ОЗП=1,05; ТЗ=1,05 | D35: 100 шт. | E35: 0.22 | F35: 7352.62 | G35: 2170.94 | H35: 2787.63 | I35: 960.77 | J35: 1618 | K35: 478 | L35: 613 | M35: 211 | N35: 155.4 | O35: 34.19 | P35: 61.04 | Q35: 13.43
A36: 9 | B36: Цена поставщика | C36: Комплект крепления Arctic /2/ на трос 2069000330 | D36: шт. | E36: 22 | F36: 4,37 28,68/1,18/5,56 | J36: 96
A37: 10 | B37: ФССЦ-509-0689 | C37: Лампы люминесцентные КОЭФ. К ПОЗИЦИИ: Приведение расценок ФЕР к территориальному уровню (Письмо УРЦЦС Ц-297 от 12.04.2011) ОЗП=1,41; ЭМ=1,242; ЗПМ=1,41; МАТ=1,052 | D37: шт. | E37: 44 | F37: 22.53 | J37: 991
A38: 11 | B38: Цена поставщика | C38: Выключатель двухклавишный для открытой установки ВС20-2-0-ГБ IP44 серия "ГЕРМЕС" (цвет клавиши: белый) | D38: шт. | E38: 2 | F38: 21,43 140,63/1,18/5,56 | J38: 43
A39: 12 | B39: ТЕРм08-03-591-04 | C39: Выключатель двухклавишный неутопленного типа при открытой проводке | D39: 100 шт. | E39: 0.02 | F39: 801.67 | G39: 613.28 | H39: 29.99 | I39: 0.73 | J39: 16 | K39: 12 | L39: 1 | N39: 43.9 | O39: 0.88 | P39: 0.04
A40: 13 | B40: Цена поставщика | C40: ВС20-1-0-ГБ выкл 1кл о/у IP44 (цвет клавиши: белый) ГЕРМЕС (цвет клавиши: белый) EVM10-K01-10-44-EC | D40: шт. | E40: 7 | F40: 19,43 127,48/1,18/5,56 | J40: 136
A41: 14 | B41: ТЕРм08-03-591-01 | C41: Выключатель одноклавишный неутопленного типа при открытой проводке | D41: 100 шт. | E41: 0.07 | F41: 758.17 | G41: 551.82 | H41: 27.07 | I41: 0.55 | J41: 53 | K41: 39 | L41: 2 | N41: 39.5 | O41: 2.77 | P41: 0.03
A42: 15 | B42: ФЕРм08-02-390-01 | C42: Короба пластмассовые: шириной до 40 мм КОЭФ. К ПОЗИЦИИ: Приведение расценок ФЕР к территориальному уровню (Письмо УРЦЦС Ц-297 от 12.04.2011) ОЗП=1,41; ЭМ=1,242; ЗПМ=1,41; МАТ=1,052 | D42: 100 м | E42: 1.5 | F42: 311.4 | G42: 218.44 | H42: 38.75 | I42: 0.17 | J42: 467 | K42: 328 | L42: 58 | N42: 16.29 | O42: 24.44 | P42: 0.01 | Q42: 0.02
A43: 16 | B43: Цена поставщика | C43: Кабель-канал 30х25 "ЭЛЕКОР" CKK10-030-025-1-K01 | D43: м | E43: 20 | F43: 5,33 35/1,18/5,56 | J43: 107
...

Sheet 25181.
A1: СОГЛАСОВАНО: | E1: ФГУП "Комбинат "Электрохимприбор" | M1: УТВЕРЖДАЮ:
G2: (наименование стройки) | M2: Зам. генерального директора
A3: _____________________________ | M3: Е.В.Гордеев
A4: " _____ " ________________ 2014г. | G4: ЛОКАЛЬНЫЙ СМЕТНЫЙ РАСЧЕТ № 25181-П14
G5: (взамен сметы 25181) | M5: "______ " __________2014 г.
C7: на | D7: строительно-монтажные работы по реконструкции помещений 225,225а (санпропускника)
D8: Площадка 3 Здание 106/118, пом 225, 255а (инв.№ 6101000) Раздел: Вентиляция
H9: (наименование работ и затрат, наименование объекта)
D11: Основание: Проект № 24792-13-ОВ КПМ Ц6053.518
D12: Сметная стоимость строительных работ _______________________________________________________________________________________________ | J12: ___________________________16,648 | L12: тыс. руб.
D13: Средства на оплату труда _______________________________________________________________________________________________ | J13: ___________________________1,072 | L13: тыс. руб.
D14: Сметная трудоемкость _______________________________________________________________________________________________ | J14: _______________________________________________________________________________________________79,45 | L14: чел.час
D15: Составлен(а) в базовых ценах 2001г. в редакции 2009г.
A17: № пп | B17: Обоснование | C17: Наименование | D17: Ед. изм. | E17: Кол. | F17: Стоимость единицы, руб. | J17: Общая стоимость, руб. | N17: Т/з осн. раб.на ед. | O17: Т/з осн. раб. Всего | P17: Т/з мех. на ед. | Q17: Т/з мех. Всего
F18: Всего | G18: В том числе | J18: Всего | K18: В том числе
G19: Осн.З/п | H19: Эк.Маш | I19: З/пМех | K19: Осн.З/п | L19: Эк.Маш | M19: З/пМех
A20: 1 | B20: 2 | C20: 3 | D20: 4 | E20: 5 | F20: 6 | G20: 7 | H20: 8 | I20: 9 | J20: 10 | K20: 11 | L20: 12 | M20: 13 | N20: 14 | O20: 15 | P20: 16 | Q20: 17
A21: Раздел 1. Система В-1*
A22: 1 | B22: ТЕР20-03-001-01 | C22: Установка вентиляторов радиальных массой до 0,05 т | D22: 1 вентилятор | E22: 1 | F22: 100.35 | G22: 78.55 | H22: 6.66 | I22: 0.18 | J22: 100 | K22: 79 | L22: 7 | N22: 6.54 | O22: 6.54 | P22: 0.01 | Q22: 0.01
A23: 2 | B23: Цена поставщика. | C23: Вентилятор канальный К 315 L | D23: комп-кт | E23: 1 | F23: 2221,79 14290,91/1,18/5,56*1,02 | J23: 2222
A24: 3 | B24: Цена поставщика. | C24: Трансформатор RE 1,5 | D24: шт | E24: 1 | F24: 728,53 4686,00/1,18/5,56*1,02 | J24: 729
A25: 4 | B25: Цена поставщика. | C25: Быстросъемная муфта FK 315 | D25: шт | E25: 2 | F25: 86,84 558,60/1,18/5,56*1,02 | J25: 174
A26: 5 | B26: ТЕР20-02-004-01 | C26: Установка клапанов обратных диаметром до 355 мм | D26: 1 клапан | E26: 1 | F26: 24.14 | G26: 12.85 | H26: 1.84 | J26: 24 | K26: 13 | L26: 2 | N26: 1.03 | O26: 1.03
A27: 6 | B27: Цена поставщика. | C27: Обратный клапан RSK- 315 L=140мм | D27: шт | E27: 1 | F27: 160,91 1035,00/1,18/5,56*1,02 | J27: 161
A28: 7 | B28: ТЕР20-05-003-01 прим. | C28: Установка панели равномерного всасывания. | D28: 10 шт | E28: 0.1 | F28: 2170.3 | G28: 519.91 | H28: 1396.79 | I28: 198.38 | J28: 217 | K28: 52 | L28: 140 | M28: 20 | N28: 38.37 | O28: 3.84 | P28: 10.9 | Q28: 1.09
A29: 8 | B29: Цена поставщика. | C29: Панель равномерного всасывания типа 1П6; | D29: шт | E29: 1 | F29: 1398,29 8994,00/1,18/5,56*1,02 | J29: 1398
A30: 9 | B30: ТЕР20-01-002-22 прим. | C30: Шахта из листовой оцинкованной стали класса П (плотные) толщиной 1,4 мм, ф 315 | D30: 100 м2 | E30: 0.01 | F30: 1459.57 | G30: 663.43 | H30: 147.61 | I30: 7.28 | J30: 15 | K30: 7 | L30: 1 | N30: 53.85 | O30: 0.54 | P30: 0.4
A31: 10 | B31: ТСЦ-301-1821 прим. | C31: Шахта из листовой оцинкованной стали класса П (плотные) толщиной 1,4 мм, ф 315 | D31: м2 | E31: 1 | F31: 357.5 | J31: 358
A32: 11 | B32: ТЕР20-01-002-18 прим. | C32: Прокладка перехода из оцинкованной стали ф 315хф280 L=300мм | D32: 100 м2 | E32: 0.0028 | F32: 1769.5 | G32: 996.44 | H32: 122.03 | I32: 5.1 | J32: 5 | K32: 3 | N32: 80.88 | O32: 0.23 | P32: 0.28
A33: 12 | B33: ТСЦ-301-1798 прим. | C33: Переход из оцинкованной стали ф 315хф280 L=300мм | D33: м2 | E33: 0.28 | F33: 272.33 | J33: 76
A34: 13 | B34: ТЕР20-01-002-18 прим. | C34: Прокладка отвода из оцинкованной стали ф 315 | D34: 100 м2 | E34: 0.0348 | F34: 1769.5 | G34: 996.44 | H34: 122.03 | I34: 5.1 | J34: 62 | K34: 35 | L34: 4 | N34: 80.88 | O34: 2.81 | P34: 0.28 | Q34: 0.01
A35: 14 | B35: ТСЦ-301-1798 прим. | C35: Отвод из оцинкованной стали ф 315 | D35: м2 | E35: 3.48 | F35: 272.33 | J35: 948
A36: 15 | B36: ТЕР20-01-002-18 прим. | C36: Прокладка воздуховодов из оцинкованной стали класса П (плотные) толщиной 1,0 мм, диаметром 315 | D36: 100 м2 | E36: 0.005 | F36: 1769.5 | G36: 996.44 | H36: 122.03 | I36: 5.1 | J36: 9 | K36: 5 | L36: 1 | N36: 80.88 | O36: 0.4 | P36: 0.28
A37: 16 | B37: ТСЦ-301-1798 | C37: Воздуховоды из оцинкованной стали толщиной 1,0 мм, диаметром до 1000 мм | D37: м2 | E37: 0.5 | F37: 272.33 | J37: 136
A38: 17 | B38: ТСЦ-301-0475 | C38: Крепления для воздуховодов подвески СТД6208, СТД6209, СТД6210 | D38: т | E38: 0.006 | F38: 8739.36 | J38: 52
A39: 18 | B39: ТЕР20-02-008-01 прим. | C39: Установка: насадок с водоотводящим кольцом НВК-315 | D39: 100 кг | E39: 0.17 | F39: 76.62 | G39: 52.6 | H39: 10.92 | J39: 13 | K39: 9 | L39: 2 | N39: 3.97 | O39: 0.67
A40: 19 | B40: ТСЦ-301-2028 прим. | C40: Стоимость: насадок с водоотводящим кольцом. | D40: кг | E40: 17 | F40: 11.61 | J40: 197
A41: 20 | B41: ТЕР13-03-002-04 прим. | C41: Огрунтовка воздуховодов | D41: 100 м2 | E41: 0.16 | F41: 417.46 | G41: 79.65 | H41: 10.15 | I41: 0.16 | J41: 67 | K41: 13 | L41: 2 | N41: 5.31 | O41: 0.85 | P41: 0.01
A42: 21 | B42: ТЕР13-03-004-23 прим. | C42: Окраска воздуховодов изнутри, (количество окрасок 1) | D42: 100 м2 | E42: 0.08 | F42: 388.79 | G42: 36.81 | H42: 13.3 | I42: 0.16 | J42: 31 | K42: 3 | L42: 1 | N42: 2.88 | O42: 0.23 | P42: 0.01
A43: 22 | B43: ТЕР13-03-004-23 прим. | C43: Окраска воздуховодов снаружи КОЭФ. К ПОЗИЦИИ: Количество окрасок ПЗ=2 | D43: 100 м2 | E43: 0.08 | F43: 777.58 | G43: 73.62 | H43: 26.6 | I43: 0.32 | J43: 62 | K43: 6 | L43: 2 | N43: 5.76 | O43: 0.46 | P43: 0.02
...

Sheet 25262
A1: СОГЛАСОВАНО: | E1: ФГУП "Комбинат "Электрохимприбор" | M1: УТВЕРЖДАЮ:
G2: (наименование стройки) | M2: Зам. генерального директора
A3: _____________________________ | M3: Е.В.Гордеев
A4: " _____ " ________________ 2014г. | G4: ЛОКАЛЬНЫЙ СМЕТНЫЙ РАСЧЕТ № 25262
M5: "______ " __________2014 г.
C7: на | D7: строительно-монтажные работы по реконструкции помещений 225,225а (санпропускника)
D8: Площадка 3 Здание 106/118 (инв.№ 6101000) Раздел: Пусконаладочные работы
H9: (наименование работ и затрат, наименование объекта)
D11: Основание: Проект № 24792-13-ОВ КПМ Ц6053.518
D12: Сметная стоимость прочих _______________________________________________________________________________________________ | J12: ___________________________3,044 | L12: тыс. руб.
D13: Средства на оплату труда _______________________________________________________________________________________________ | J13: ___________________________1,485 | L13: тыс. руб.
D14: Сметная трудоемкость _______________________________________________________________________________________________ | J14: _______________________________________________________________________________________________100,05 | L14: чел.час
D15: Составлен(а) в базовых ценах 2001г. в редакции 2009г.
A17: № пп | B17: Обоснование | C17: Наименование | D17: Ед. изм. | E17: Кол. | F17: Стоимость единицы, руб. | J17: Общая стоимость, руб. | N17: Т/з осн. раб.на ед. | O17: Т/з осн. раб. Всего | P17: Т/з мех. на ед. | Q17: Т/з мех. Всего
F18: Всего | G18: В том числе | J18: Всего | K18: В том числе
G19: Осн.З/п | H19: Эк.Маш | I19: З/пМех | K19: Осн.З/п | L19: Эк.Маш | M19: З/пМех
A20: 1 | B20: 2 | C20: 3 | D20: 4 | E20: 5 | F20: 6 | G20: 7 | H20: 8 | I20: 9 | J20: 10 | K20: 11 | L20: 12 | M20: 13 | N20: 14 | O20: 15 | P20: 16 | Q20: 17
A21: Раздел 1. Пусконаладочные работы по проекту 24792-13-ОВ
A22: Система В-1*
A23: 1 | B23: ТЕРп03-01-002-13 | C23: Вентилятор радиальный (центробежный), диаметральный или крышный до массой до 0,05т | D23: 1 устройство | E23: 1 | F23: 92.79 | G23: 92.79 | J23: 93 | K23: 93 | N23: 5 | O23: 5
A24: 2 | B24: ТЕРп03-01-011-05 | C24: Регулировочно-запорное устройство клапан обратный | D24: 1 устройство | E24: 1 | F24: 53.36 | G24: 53.36 | J24: 53 | K24: 53 | N24: 2.8 | O24: 2.8
A25: 3 | B25: ТЕРп03-01-001-01 | C25: Шахта вытяжная (дефлектор) | D25: 1 устройство | E25: 1 | F25: 25.83 | G25: 25.83 | J25: 26 | K25: 26 | N25: 1.4 | O25: 1.4
A26: 4 | B26: ТЕРп03-01-022-01 | C26: Сеть систем вентиляции и кондиционирования воздуха при количестве сечений до 5 | D26: 1 вентиляционная сеть | E26: 1 | F26: 190.58 | G26: 190.58 | J26: 191 | K26: 191 | N26: 10 | O26: 10
A27: Система В-2*
A28: 5 | B28: ТЕРп03-01-002-13 | C28: Вентилятор радиальный (центробежный), диаметральный или крышный до массой до 0,05т | D28: 1 устройство | E28: 1 | F28: 92.79 | G28: 92.79 | J28: 93 | K28: 93 | N28: 5 | O28: 5
A29: 6 | B29: ТЕРп03-01-001-01 | C29: Шахта вытяжная (дефлектор) | D29: 1 устройство | E29: 1 | F29: 25.83 | G29: 25.83 | J29: 26 | K29: 26 | N29: 1.4 | O29: 1.4
A30: 7 | B30: ТЕРп03-01-022-01 | C30: Сеть систем вентиляции и кондиционирования воздуха при количестве сечений до 5 | D30: 1 вентиляционная сеть | E30: 4 | F30: 190.58 | G30: 190.58 | J30: 762 | K30: 762 | N30: 10 | O30: 40
A31: Система ВЕ-1*
A32: 8 | B32: ТЕРп03-01-001-01 | C32: Шахта вытяжная (дефлектор) | D32: 1 устройство | E32: 1 | F32: 25.83 | G32: 25.83 | J32: 26 | K32: 26 | N32: 1.4 | O32: 1.4
A33: 9 | B33: ТЕРп03-01-022-01 | C33: Сеть систем вентиляции и кондиционирования воздуха при количестве сечений до 5 | D33: 1 вентиляционная сеть | E33: 2 | F33: 190.58 | G33: 190.58 | J33: 381 | K33: 381 | N33: 10 | O33: 20
A34: Итого прямые затраты по смете в ценах 2001г. | J34: 1651 | K34: 1651 | O34: 87
A35: Итого прямые затраты по смете с учетом коэффициентов к итогам | J35: 1485 | K35: 1485 | O35: 100.05
A36: В том числе, справочно:
A37: Районный к-т 4,3% (Поз. 1-9) | J37: 71 | K37: 71
A38: 3. ПНР на действующих предприятиях ОЗП=1,15; ТЗ=1,15 (Поз. 1-9) | J38: 258 | K38: 258 | O38: 13.05
A39: Пусконаладочные работы: (в холостую 75%) ПЗ=0,75 (ОЗП=0,75; ЭМ=0,75; ЗПМ=0,75; МАТ=0,75) (Поз. 1-9) | J39: -495 | K39: -495
A40: Накладные расходы | J40: 965
A41: В том числе, справочно:
A42: 65% ФОТ (от 1485) (Поз. 1-9) | J42: 965
A43: Сметная прибыль | J43: 594
...

Sheet 25263
A1: СОГЛАСОВАНО: | E1: ФГУП "Комбинат "Электрохимприбор" | M1: УТВЕРЖДАЮ:
G2: (наименование стройки) | M2: Зам. генерального директора
M3: Е.В.Гордеев
A4: _________________ | M4: _________________
A5: " _____ " ________________ 2014 г. | M5: "______ " __________2014 г.
G6: ЛОКАЛЬНЫЙ СМЕТНЫЙ РАСЧЕТ № 25263
G7: (локальная смета)
C9: на | D9: строительно-монтажные работы по реконструкции помещений 225, 225а (санпропускник)
E10: Площадка 3. Здание 106 (инв.№ 6101000).
E11: Раздел: Пусконаладочные работы.
H12: (наименование работ и затрат, наименование объекта)
D14: Основание: проект № 24788-13-ЭМО КПМ Ц6053.518
D15: Сметная стоимость прочих (ПНР "в холостую") ___________________ | J15: ___________________________0,783 | L15: тыс. руб.
D16: Средства на оплату труда _______________________________________________________________________________________________ | J16: ___________________________0,382 | L16: тыс. руб.
D17: Сметная трудоемкость _______________________________________________________________________________________________ | J17: _______________________________________________________________________________________________20,38 | L17: чел.час
D18: Составлен(а) в базовых ценах 2001г. в редакции 2009г.
A20: № пп | B20: Обоснование | C20: Наименование | D20: Ед. изм. | E20: Кол. | F20: Стоимость единицы, руб. | J20: Общая стоимость, руб. | N20: Т/з осн. раб.на ед. | O20: Т/з осн. раб. Всего | P20: Т/з мех. на ед. | Q20: Т/з мех. Всего
F21: Всего | G21: В том числе | J21: Всего | K21: В том числе
G22: Осн.З/п | H22: Эк.Маш | I22: З/пМех | K22: Осн.З/п | L22: Эк.Маш | M22: З/пМех
A23: 1 | B23: 2 | C23: 3 | D23: 4 | E23: 5 | F23: 6 | G23: 7 | H23: 8 | I23: 9 | J23: 10 | K23: 11 | L23: 12 | M23: 13 | N23: 14 | O23: 15 | P23: 16 | Q23: 17
A24: 1 | B24: ТЕРп01-11-028-01 | C24: Измерение сопротивления изоляции мегаомметром кабельных и других линий напряжением до 1 кВ, предназначенных для передачи электроэнергии к распределительным устройствам, щитам, шкафам, коммутационным аппаратам и электропотребителям | D24: 1 линия | E24: 43 | F24: 7.22 | G24: 7.22 | J24: 310 | K24: 310 | N24: 0.4 | O24: 17.2
A25: 2 | B25: ТЕРп01-11-011-01 | C25: Проверка наличия цепи между заземлителями и заземленными элементами | D25: 100 точек | E25: 0.31 | F25: 288.64 | G25: 288.64 | J25: 89 | K25: 89 | N25: 16 | O25: 4.96
A26: Итого прямые затраты по смете в ценах 2001г. | J26: 399 | K26: 399 | O26: 22.16
A27: Итого прямые затраты по смете с учетом коэффициентов к итогам | J27: 382 | K27: 382 | O27: 20.38
A28: В том числе, справочно:
A29: Районный к-т 4,3% (Поз. 1-2) | J29: 17 | K29: 17
A30: 3. ПНР на действующих предприятиях в зданиях при наличии в зоне производства работ загромождающих помещения предметов ОЗП=1,15; ТЗ=1,15 (Поз. 1-2) | J30: 62 | K30: 62 | O30: 3.324
A31: Пусконаладочные работы (в холостую 80%) ПЗ=0,8 (ОЗП=0,8; ЭМ=0,8; ЗПМ=0,8; МАТ=0,8; ТЗ=0,8; ТЗМ=0,8) (Поз. 1-2) | J31: -96 | K31: -96 | O31: -5.096
A32: Накладные расходы | J32: 248
A33: В том числе, справочно:
A34: 65% ФОТ (от 382) (Поз. 1-2) | J34: 248
A35: Сметная прибыль | J35: 153
A36: В том числе, справочно:
A37: 40% ФОТ (от 382) (Поз. 1-2) | J37: 153
A38: Итоги по смете:
A39: Пусконаладочные работы: 'вхолостую' - 80% | J39: 783 | O39: 20.38
A40: Итого | J40: 783 | O40: 20.38
A41: В том числе:
A42: ФОТ | J42: 382
A43: Накладные расходы | J43: 248
...

Sheet СМР
A1: Расчет начальной (максимальной) цены на
A2: выполнение строительно-монтажных работ по реконструкции помещений 225, 225а (санпропускник)
A4: Наименование глав ССР, объектный сметных расчетов, локальных сметных расчетов, видов прочих работ | B4: Сметная стоимость строительства в базисном уровне цен на 01.01.2000г. по ССР | F4: Остаток сметной стоимости в базисном уровне цен на 01.01.2014 | J4: Сметная стоимость строительства в базисном уровне цен на 01.01.2000г., выставленная на конкурс | N4: Текущая стоимость на момент определения начальной (максимальной) цены | O4: № обосновывающего расчета | P4: 2014 год
B5: Всего | C5: СМР | D5: Оборудование | E5: Прочие | F5: Всего | G5: СМР | H5: Оборудование | I5: Прочие | J5: Всего | K5: СМР | L5: Оборудование | M5: Прочие | P5: СМР | Q5: Оборудование | R5: Прочие
A6: 1 | B6: 2 | C6: 3 | D6: 4 | E6: 5 | F6: 6 | G6: 7 | H6: 8 | I6: 9 | J6: 10 | K6: 11 | L6: 12 | M6: 13 | N6: 14 | O6: 15 | P6: 16 | Q6: 17 | R6: 18
A7: Водопровод, канализация. | B7: =SUM(C7:E7) -> 18651 | C7: ='25178'!J79 -> 18651 | F7: =SUM(G7:I7) -> 18651 | G7: =C7 -> 18651 | H7: =D7 -> 0 | I7: =E7 -> 0 | J7: =SUM(K7:M7) -> 18651 | K7: =P7 -> 18651 | L7: =Q7 -> 0 | M7: =R7 -> 0 | N7: =SUM(P7:R7) -> 18651 | O7: 25178 | P7: =G7 -> 18651 | Q7: =H7 -> 0 | R7: =I7 -> 0
A8: Архитектурно-строительные решения | B8: =SUM(C8:E8) -> 207059 | C8: ='25179.'!J168 -> 207059 | F8: =SUM(G8:I8) -> 207059 | G8: =C8 -> 207059 | H8: =D8 -> 0 | I8: =E8 -> 0 | J8: =SUM(K8:M8) -> 207059 | K8: =P8 -> 207059 | L8: =Q8 -> 0 | M8: =R8 -> 0 | N8: =SUM(P8:R8) -> 207059 | O8: 25179 | P8: =G8 -> 207059 | Q8: =H8 -> 0 | R8: =I8 -> 0
A9: Электрооборудование. Электрическое освещение. | B9: =SUM(C9:E9) -> 29469 | C9: ='25180'!J77 -> 29469 | D9: 0 | F9: =SUM(G9:I9) -> 29469 | G9: =C9 -> 29469 | H9: =D9 -> 0 | I9: =E9 -> 0 | J9: =SUM(K9:M9) -> 29469 | K9: =P9 -> 29469 | L9: =Q9 -> 0 | M9: =R9 -> 0 | N9: =SUM(P9:R9) -> 29469 | O9: 25180 | P9: =G9 -> 29469 | Q9: =H9 -> 0 | R9: =I9 -> 0
A10: Вентиляция | B10: =SUM(C10:E10) -> 16648 | C10: ='25181.'!J116 -> 16648 | F10: =SUM(G10:I10) -> 16648 | G10: =C10 -> 16648 | H10: =D10 -> 0 | I10: =E10 -> 0 | J10: =SUM(K10:M10) -> 16648 | K10: =P10 -> 16648 | L10: =Q10 -> 0 | M10: =R10 -> 0 | N10: =SUM(P10:R10) -> 16648 | O10: 25181 | P10: =G10 -> 16648 | Q10: =H10 -> 0 | R10: =I10 -> 0
A11: Пусконаладочные работы | B11: =SUM(C11:E11) -> 3044 | E11: ='25262'!J53 -> 3044 | F11: =SUM(G11:I11) -> 3044 | G11: =C11 -> 0 | H11: =D11 -> 0 | I11: =E11 -> 3044 | J11: =SUM(K11:M11) -> 3044 | K11: =P11 -> 0 | L11: =Q11 -> 0 | M11: =R11 -> 3044 | N11: =SUM(P11:R11) -> 3044 | O11: 25262 | P11: =G11 -> 0 | Q11: =H11 -> 0 | R11: =I11 -> 3044
A12: Пусконаладочные работы | B12: =SUM(C12:E12) -> 783 | E12: ='25263'!J45 -> 783 | F12: =SUM(G12:I12) -> 783 | G12: =C12 -> 0 | H12: =D12 -> 0 | I12: =E12 -> 783 | J12: =SUM(K12:M12) -> 783 | K12: =P12 -> 0 | L12: =Q12 -> 0 | M12: =R12 -> 783 | N12: =SUM(P12:R12) -> 783 | O12: 25263 | P12: =G12 -> 0 | Q12: =H12 -> 0 | R12: =I12 -> 783
A13: Итого в ценах 2000 года: | B13: =SUM(B7:B12) -> 275654 | C13: =SUM(C7:C12) -> 271827 | D13: =SUM(D7:D12) -> 0 | E13: =SUM(E7:E12) -> 3827 | F13: =SUM(F7:F12) -> 275654 | G13: =SUM(G7:G12) -> 271827 | H13: =SUM(H7:H12) -> 0 | I13: =SUM(I7:I12) -> 3827 | ... M13: =SUM(M7:M12) -> 3827 | N13: =SUM(P13:R13) -> 275654 | P13: =SUM(P7:P12) -> 271827 | Q13: =SUM(Q7:Q12) -> 0 | R13: =SUM(R7:R12) -> 3827
A14: Итого в текущих ценах*: | N14: =SUM(P14:R14) -> 1665632 | P14: =ROUND(P13*5.98,0) -> 1625525 | Q14: =ROUND(Q13*4.21,0) -> 0 | R14: =ROUND(R13*10.48,0) -> 40107
A15: НДС 18% | N15: =SUM(P15:R15) -> 299813.76 | P15: =ROUND(P14*18%,2) -> 292594.5 | Q15: =ROUND(Q14*18%,2) -> 0 | R15: =ROUND(R14*18%,2) -> 7219.26
A16: Всего: | N16: =SUM(P16:R16) -> 1965445.8 | P16: =SUM(P14:P15) -> 1918119.5 | Q16: =SUM(Q14:Q15) -> 0 | R16: =SUM(R14:R15) -> 47326.26
P17: 60000000
A18: * В расчете использованы индексы: | Q18: =P17-P16 -> 58081880
A19: - 5,98 индекс изменения сметной стоимости СМР к ТЕР 2001 (приказ ФГУП "Комбинат "Электрохимприбор" от 18.09.2013 №1902-П).
A20: - 10,48 индекс изменения сметной стоимости прочих затрат к ТЕР 2001 (приказ ФГУП "Комбинат "Электрохимприбор" от 18.09.2013 №1902-П).
A22: Начальник отдела капитального строительства
A23: ФГУП "Комбинат "Электрохимприбор" | H23: В.В. Моляков
A25: Инженер по проектно-сметной работе | H25: Т.Ш. Ковязина
A27: Согласовано | H27: отд. 028

Sheet НМЦ договора
G1: Приложение №1
G2: к извещению на размещение заказа
G3: на выполнение комплекса работ
G4: по строительству объекта
A8: Определение начальной (максимальной) цены договора генерального подряда
A9: на выполнение строительно-монтажных работ по реконструкции помещений 225, 225а (санпропускник)
A10: на 2014 год
A12: Способ закупки: открытый запрос предложений
G14: ц.2000г./текущие цены, руб.
A15: Наименование услуг и работ (затрат) | C15: Сметная стоимость строительства в базисном уровне цен на 01.01.2000 г. | D15: Сметная стоимость строительства в текущем уровне цен, пресчитанная на момент проведения процедуры закупки | F15: Начальная (максимальная) цена | G15: в том числе по годам строительства
G18: 2014 г.
A22: 1 | C22: 2 | D22: 3 | F22: 4 | G22: 5
A23: СМР | C23: =СМР!K13 -> 271827 | D23: =F23 -> 1625525 | F23: =G23 -> 1625525 | G23: =СМР!P14 -> 1625525
A24: Оборудование | C24: =СМР!L13 -> 0 | D24: =F24 -> 0 | F24: =G24 -> 0 | G24: =СМР!Q14 -> 0
A25: Прочие затраты | C25: =СМР!M13 -> 3827 | D25: =F25 -> 40107 | F25: =G25 -> 40107 | G25: =СМР!R14 -> 40107
A26: Всего: | C26: =SUM(C23:C25) -> 275654 | D26: =F26 -> 1665632 | F26: =G26 -> 1665632 | G26: =SUM(G23:G25) -> 1665632
A27: НДС | D27: =F27 -> 299813.76 | F27: =G27 -> 299813.76 | G27: =СМР!P15+СМР!R15 -> 299813.76
A28: Итого с НДС | D28: =F28 -> 1965445.8 | F28: =G28 -> 1965445.8 | G28: =СМР!P16+СМР!R16 -> 1965445.8
A30: В расчете использованы индексы:
A32: - 5,98 индекс изменения сметной стоимости СМР к ТЕР 2001 (приказ ФГУП "Комбинат "Электрохимприбор" от 18.09.2013 №1902-П); - 10,48 индекс изменения сметной стоимости прочих затрат к ТЕР 2001 (приказ ФГУП "Комбинат "Электрохимприбор" от 18.09.2013 №1902-П).
A34: Начальник отдела капитального строительства
A35: ФГУП "Комбинат "Электрохимприбор" | G35: В.В. Моляков
A37: Инженер по проектно-сметной работе | G37: Т.Ш. Ковязина
A39: Согласовано | G39: отд. 028
