Workbook

Sheet Смета 12 гр. по ФЕР
A1: =Source!B1 -> Smeta.RU (495) 974-1589 | H1: ПРИЛОЖЕНИЕ 1 к ФОРМЕ 6
B11: СМЕТА
B12: =IF(Source!G20<>"Новая локальная смета", Source!G20, "")
B14: =IF(Source!G12<>"Новый объект", Source!G12, "") -> Монтаж комплекса систем пожарной безопасности согласно рабочей документации № 001/05-2018-ПС в здании общежития Димитровградского инженерно-технологического института - филиала НИЯУ МИФИ (ДИТИ НИЯУ МИФИ) по адресу: Ульяновская обл., г. Димитровград, ул. Куйбышева, д. 302
G17: базовая цена | I17: текущая цена
C18: Сметная стоимость | G18: =SUM(O29:O217)/1000 -> 202.50379 | I18: =(Source!F109/1000) -> 1581.8785 | K18: тыс. руб.
C19: Строительные работы | G19: =SUM(W29:W217)/1000 -> 0 | I19: =(Source!F96)/1000 -> 0 | K19: тыс. руб.
C20: Монтажные работы | G20: =SUM(X29:X217)/1000 -> 202.50379 | I20: =(Source!F97)/1000 -> 1340.575 | K20: тыс. руб.
C21: Оборудование | G21: =SUM(Y29:Y217)/1000 -> 0 | I21: =(Source!F88)/1000 -> 0 | K21: тыс. руб.
C22: Прочие работы | G22: =SUM(Z29:Z217)/1000 -> 0 | I22: =(Source!F98+Source!F99)/1000 -> 0 | K22: тыс. руб.
C23: Нормативная трудоемкость | G23: =I23 -> 2121.1714 | I23: =(Source!F101+Source!F102) -> 2121.1714 | K23: чел. -ч.
C24: Средства на оплату труда | G24: =SUM(R29:R217)/1000 -> 21.8246 | I24: =(Source!F94+ Source!F93)/1000 -> 144.47884 | K24: тыс. руб.
A26: Составлена в ценах I квартал 2018 года
A27: № п/п | B27: Шифр расценки и коды ресурсов | C27: Наименование работ и затрат | D27: Ед. изм. | E27: Кол-во единиц | F27: Цена на ед. изм. | G27: Попра-вочные коэфф. | H27: Стоимость в ценах 2001г. | I27: Пункт коэфф. пересчета | J27: Коэфф. пересчета | K27: Стоимость в текущих ценах | L27: ЗТР всего чел.-час
A28: 1 | B28: 2 | C28: 3 | D28: 4 | E28: 5 | F28: 6 | G28: 7 | H28: 8 | I28: 9 | J28: 10 | K28: 11 | L28: 12
A29: =Source!E24 -> 1 | B29: =Source!F24 -> м10-04-077-15 | C29: =Source!G24 -> Пульт служебной связи и контроля | D29: =Source!H24 -> ШТ | E29: =Source!I24 -> 1 | F29: =Source!AL24+Source!AM24+Source!AO24 -> 1170.69 | I29: =Source!BO24 | S29: =ROUND((Source!FX24/100)*((ROUND(Source!AF24*Source!I24, 2)+ROUND(Source!AE24*Source!I24, 2))), 2) -> 690.15 | T29: =Source!X24 -> 4568.78 | U29: =ROUND((Source!FY24/100)*((ROUND(Source!AF24*Source!I24, 2)+ROUND(Source!AE24*Source!I24, 2))), 2) -> 487.6 | V29: =Source!Y24 -> 3227.94
C30: Зарплата | F30: =Source!AO24 -> 712.84 | G30: =Source!DG24 | H30: =ROUND(Source!AF24*Source!I24, 2) -> 712.84 | J30: =IF(Source!BA24<> 0, Source!BA24, 1) -> 6.62 | K30: =Source!S24 -> 4719 | R30: =H30 -> 712.84
C31: Эксплуатация машин | F31: =Source!AM24 -> 333.86 | G31: =Source!DE24 | H31: =ROUND(Source!AD24*Source!I24, 2) -> 333.86 | J31: =IF(Source!BB24<> 0, Source!BB24, 1) -> 6.62 | K31: =Source!Q24 -> 2210.15
C32: в т.ч. зарплата машинистов | F32: =Source!AN24 -> 37.32 | G32: =Source!DF24 | H32: =ROUND(Source!AE24*Source!I24, 2) -> 37.32 | J32: =IF(Source!BS24<> 0, Source!BS24, 1) -> 6.62 | K32: =Source!R24 -> 247.06 | R32: =H32 -> 37.32
C33: Материальные ресурсы | F33: =Source!AL24 -> 123.99 | G33: =Source!DD24 | H33: =ROUND(Source!AC24*Source!I24, 2) -> 123.99 | J33: =IF(Source!BC24<> 0, Source!BC24, 1) -> 6.62 | K33: =Source!P24 -> 820.81
C34: НР от ФОТ | D34: % | E34: =Source!BZ24 -> 92 | H34: =SUM(S29:S37) -> 690.15 | J34: =Source!AT24 -> 92 | K34: =SUM(T29:T37) -> 4568.78
C35: СП от ФОТ | D35: % | E35: =Source!CA24 -> 65 | H35: =SUM(U29:U37) -> 487.6 | J35: =Source!AU24 -> 65 | K35: =SUM(V29:V37) -> 3227.94
C36: Затраты труда | D36: чел-ч | E36: =Source!AQ24 -> 74.1 | G36: =Source!DI24 | L36: =Source!U24 -> 74.1
A37: =Source!E25 -> 1,1 | B37: =Source!F25 -> 61.2.04.10-0004 | C37: =Source!G25 -> Пульт контроля и управления охранно-пожарный, марка "С2000- М" | D37: =Source!H25 -> шт. | E37: =Source!I25 -> 1 | F37: =Source!AL25+Source!AM25+Source!AO25 -> 627.51 | H37: =ROUND(Source!AC25*Source!I25, 2)+ROUND(Source!AD25*Source!I25, 2)+ROUND(Source!AF25*Source!I25, 2) -> 627.51 | J37: =IF(Source!BC25<> 0, Source!BC25, 1) -> 6.62 | K37: =Source!O25 -> 4154.12 | S37: =ROUND((Source!FX25/100)*((ROUND(Source!AF25*Source!I25, 2)+ROUND(Source!AE25*Source!I25, 2))), 2) -> 0 | T37: =Source!X25 -> 0 | U37: =ROUND((Source!FY25/100)*((ROUND(Source!AF25*Source!I25, 2)+ROUND(Source!AE25*Source!I25, 2))), 2) -> 0 | V37: =Source!Y25 -> 0 | W37: =IF(Source!BI25<=1,H37, 0) -> 0 | X37: =IF(Source!BI25=2,H37, 0) -> 627.51 | Y37: =IF(Source!BI25=3,H37, 0) -> 0 | Z37: =IF(Source!BI25=4,H37, 0) -> 0
G38: =H30+H31+H33+H34+H35+SUM(H37:H37) -> 2975.95 | J38: =K30+K31+K33+K34+K35+SUM(K37:K37) -> 19700.8 | L38: =Source!U24 -> 74.1 | O38: =G38 -> 2975.95 | P38: =J38 -> 19700.8 | Q38: =L38 -> 74.1 | W38: =IF(Source!BI24<=1,H30+H31+H33+H34+H35, 0) -> 0 | X38: =IF(Source!BI24=2,H30+H31+H33+H34+H35, 0) -> 2348.44 | Y38: =IF(Source!BI24=3,H30+H31+H33+H34+H35, 0) -> 0 | Z38: =IF(Source!BI24=4,H30+H31+H33+H34+H35, 0) -> 0
A39: =Source!E26 -> 2 | B39: =Source!F26 -> м10-04-066-01прим. | C39: =Source!G26 -> Блок коммутации телевизионных камерных кабелей на количество разъемов 3 (Блок защитный коммутационный) | D39: =Source!H26 -> ШТ | E39: =Source!I26 -> 1 | F39: =Source!AL26+Source!AM26+Source!AO26 -> 334.72 | I39: =Source!BO26 | S39: =ROUND((Source!FX26/100)*((ROUND(Source!AF26*Source!I26, 2)+ROUND(Source!AE26*Source!I26, 2))), 2) -> 152.35 | T39: =Source!X26 -> 1008.57 | U39: =ROUND((Source!FY26/100)*((ROUND(Source!AF26*Source!I26, 2)+ROUND(Source!AE26*Source!I26, 2))), 2) -> 107.64 | V39: =Source!Y26 -> 712.58
C40: Зарплата | F40: =Source!AO26 -> 165.6 | G40: =Source!DG26 | H40: =ROUND(Source!AF26*Source!I26, 2) -> 165.6 | J40: =IF(Source!BA26<> 0, Source!BA26, 1) -> 6.62 | K40: =Source!S26 -> 1096.27 | R40: =H40 -> 165.6
C41: Материальные ресурсы | F41: =Source!AL26 -> 169.12 | G41: =Source!DD26 | H41: =ROUND(Source!AC26*Source!I26, 2) -> 169.12 | J41: =IF(Source!BC26<> 0, Source!BC26, 1) -> 6.62 | K41: =Source!P26 -> 1119.57
C42: НР от ФОТ | D42: % | E42: =Source!BZ26 -> 92 | H42: =SUM(S39:S45) -> 152.35 | J42: =Source!AT26 -> 92 | K42: =SUM(T39:T45) -> 1008.57
C43: СП от ФОТ | D43: % | E43: =Source!CA26 -> 65 | H43: =SUM(U39:U45) -> 107.64 | J43: =Source!AU26 -> 65 | K43: =SUM(V39:V45) -> 712.58
C44: Затраты труда | D44: чел-ч | E44: =Source!AQ26 -> 16 | G44: =Source!DI26 | L44: =Source!U26 -> 16
A45: =Source!E27 -> 2,1 | B45: =Source!F27 -> 61.2.07.11-0181 | C45: =Source!G27 -> Блок защитный коммутационный (БЗК исп.02) прим. | D45: =Source!H27 -> 10 шт. | E45: =Source!I27 -> 0.1 | F45: =Source!AL27+Source!AM27+Source!AO27 -> 1329.1 | H45: =ROUND(Source!AC27*Source!I27, 2)+ROUND(Source!AD27*Source!I27, 2)+ROUND(Source!AF27*Source!I27, 2) -> 132.91 | J45: =IF(Source!BC27<> 0, Source!BC27, 1) -> 6.62 | K45: =Source!O27 -> 879.86 | S45: =ROUND((Source!FX27/100)*((ROUND(Source!AF27*Source!I27, 2)+ROUND(Source!AE27*Source!I27, 2))), 2) -> 0 | T45: =Source!X27 -> 0 | U45: =ROUND((Source!FY27/100)*((ROUND(Source!AF27*Source!I27, 2)+ROUND(Source!AE27*Source!I27, 2))), 2) -> 0 | V45: =Source!Y27 -> 0 | W45: =IF(Source!BI27<=1,H45, 0) -> 0 | X45: =IF(Source!BI27=2,H45, 0) -> 132.91 | Y45: =IF(Source!BI27=3,H45, 0) -> 0 | Z45: =IF(Source!BI27=4,H45, 0) -> 0
G46: =H40+H41+H42+H43+SUM(H45:H45) -> 727.62 | J46: =K40+K41+K42+K43+SUM(K45:K45) -> 4816.85 | L46: =Source!U26 -> 16 | O46: =G46 -> 727.62 | P46: =J46 -> 4816.85 | Q46: =L46 -> 16 | W46: =IF(Source!BI26<=1,H40+H41+H42+H43, 0) -> 0 | X46: =IF(Source!BI26=2,H40+H41+H42+H43, 0) -> 594.71 | Y46: =IF(Source!BI26=3,H40+H41+H42+H43, 0) -> 0 | Z46: =IF(Source!BI26=4,H40+H41+H42+H43, 0) -> 0
A47: =Source!E28 -> 3 | B47: =Source!F28 -> м10-08-001-02 | C47: =Source!G28 -> Приборы ПС приемно-контрольные, пусковые, концентратор блок базовый на 20 лучей | D47: =Source!H28 -> ШТ | E47: =Source!I28 -> 4 | F47: =Source!AL28+Source!AM28+Source!AO28 -> 130.23 | I47: =Source!BO28 | S47: =ROUND((Source!FX28/100)*((ROUND(Source!AF28*Source!I28, 2)+ROUND(Source!AE28*Source!I28, 2))), 2) -> 376.64 | T47: =Source!X28 -> 2493.36 | U47: =ROUND((Source!FY28/100)*((ROUND(Source!AF28*Source!I28, 2)+ROUND(Source!AE28*Source!I28, 2))), 2) -> 282.48 | V47: =Source!Y28 -> 1870.02
C48: Зарплата | F48: =Source!AO28 -> 117.7 | G48: =Source!DG28 | H48: =ROUND(Source!AF28*Source!I28, 2) -> 470.8 | J48: =IF(Source!BA28<> 0, Source!BA28, 1) -> 6.62 | K48: =Source!S28 -> 3116.7 | R48: =H48 -> 470.8
C49: Материальные ресурсы | F49: =Source!AL28 -> 12.53 | G49: =Source!DD28 | H49: =ROUND(Source!AC28*Source!I28, 2) -> 50.12 | J49: =IF(Source!BC28<> 0, Source!BC28, 1) -> 6.62 | K49: =Source!P28 -> 331.79
C50: НР от ФОТ | D50: % | E50: =Source!BZ28 -> 80 | H50: =SUM(S47:S53) -> 376.64 | J50: =Source!AT28 -> 80 | K50: =SUM(T47:T53) -> 2493.36
C51: СП от ФОТ | D51: % | E51: =Source!CA28 -> 60 | H51: =SUM(U47:U53) -> 282.48 | J51: =Source!AU28 -> 60 | K51: =SUM(V47:V53) -> 1870.02
C52: Затраты труда | D52: чел-ч | E52: =Source!AQ28 -> 11.7 | G52: =Source!DI28 | L52: =Source!U28 -> 46.8
A53: =Source!E29 -> 3,1 | B53: =Source!F29 -> 61.2.07.04-0002 | C53: =Source!G29 -> Контроллер двухпроводной линии связи, марка "С2000-КДЛ" | D53: =Source!H29 -> шт. | E53: =Source!I29 -> 4 | F53: =Source!AL29+Source!AM29+Source!AO29 -> 175.63 | H53: =ROUND(Source!AC29*Source!I29, 2)+ROUND(Source!AD29*Source!I29, 2)+ROUND(Source!AF29*Source!I29, 2) -> 702.52 | J53: =IF(Source!BC29<> 0, Source!BC29, 1) -> 6.62 | K53: =Source!O29 -> 4650.68 | S53: =ROUND((Source!FX29/100)*((ROUND(Source!AF29*Source!I29, 2)+ROUND(Source!AE29*Source!I29, 2))), 2) -> 0 | T53: =Source!X29 -> 0 | U53: =ROUND((Source!FY29/100)*((ROUND(Source!AF29*Source!I29, 2)+ROUND(Source!AE29*Source!I29, 2))), 2) -> 0 | V53: =Source!Y29 -> 0 | W53: =IF(Source!BI29<=1,H53, 0) -> 0 | X53: =IF(Source!BI29=2,H53, 0) -> 702.52 | Y53: =IF(Source!BI29=3,H53, 0) -> 0 | Z53: =IF(Source!BI29=4,H53, 0) -> 0
...

Sheet Source
A1: 0 | B1: Smeta.RU (495) 974-1589 | D1: _PS_ | F1: 0 | G1: 0 | H1: 0 | I1: Smeta.RU | K1: 0 | L1: 13277 | M1: 10
A12: 1 | B12: 169 | C12: 0 | D12: =ROW(A111) -> 111 | E12: 0 | F12: Новый объект | G12: Монтаж комплекса систем пожарной безопасности согласно рабочей документации № 001/05-2018-ПС в здании общежития Димитровградского инженерно-технологического института - филиала НИЯУ МИФИ (ДИТИ НИЯУ МИФИ) по адресу: Ульяновская обл., г. Димитровград, ул. Куйбышева, д. 302 | I12: 0 | K12: 0 | O12: 0 | P12: 0 | Q12: 0 | R12: 0 | V12: 0 | BH12: Сметные нормы списания | BI12: Коды ценников | BJ12: 1 | BK12: 1 | BL12: 0 | BM12: 0 | BN12: 1 | BO12: 0 | BP12: 2 | BQ12: 2 | BR12: 1 | BS12: 1 | BT12: 0 | BU12: 0 | BV12: 0 | BW12: 0 | BX12: 0 | BY12: ФЕР-2017 | BZ12: ТР для Версии 10: Центральные регионы (с учетом п-ма 2536-ИП/12/ГС от 22.03.2017 г | CA12: ФЕР-2017 | CB12: ФЕР-2017 | CC12: ФЕР-2017 | CD12: ФЕР-2017 | CE12: Поправки для ГСН 2017 от 31.03.2017 г | CF12: 0 | CG12: 0 | CH12: 524296 | CK12: 4 | EC12: 0
A15: 15 | B15: 1
A18: 52 | B18: =B111 -> 169 | C18: =C111 -> 1 | D18: =D111 -> 12 | E18: =E111 -> 0 | F18: =F111 -> Новый объект | G18: =G111 -> Монтаж комплекса систем пожарной безопасности согласно рабочей документации № 001/05-2018-ПС в здании общежития Димитровградского инженерно-технологического института - филиала НИЯУ МИФИ (ДИТИ НИЯУ МИФИ) по адресу: Ульяновская обл., г. Димитровград, ул. Куйбышева, д. 302 | O18: =O111 -> 1126858.6 | P18: =P111 -> 978692.91 | Q18: =Q111 -> 4162.84 | R18: =R111 -> 475.95 | S18: =S111 -> 144002.89 | T18: =T111 -> 0 | U18: =U111 -> 2114.3583 | V18: =V111 -> 6.8131 | ... GX18: =GX111 -> 0
A20: 3 | B20: 1 | D20: =ROW(A79) -> 79 | F20: Новая локальная смета | G20: Новая локальная смета | I20: 0 | K20: 0 | V20: 0 | BX20: 0 | CF20: 0 | CG20: 0
A22: 52 | B22: =B79 -> 1 | C22: =C79 -> 3 | D22: =D79 -> 20 | E22: =E79 -> 0 | F22: =F79 -> Новая локальная смета | G22: =G79 -> Новая локальная смета | O22: =O79 -> 1126858.6 | P22: =P79 -> 978692.91 | Q22: =Q79 -> 4162.84 | R22: =R79 -> 475.95 | S22: =S79 -> 144002.89 | T22: =T79 -> 0 | U22: =U79 -> 2114.3583 | V22: =V79 -> 6.8131 | ... GX22: =GX79 -> 0
A24: 17 | B24: 1 | C24: =ROW(SmtRes!A10) -> 10 | D24: =ROW(EtalonRes!A10) -> 10 | E24: 1 | F24: м10-04-077-15 | G24: Пульт служебной связи и контроля | H24: ШТ | I24: 1 | J24: 0 | O24: =ROUND(CP24,2) -> 7749.96 | P24: =ROUND(CQ24*I24,2) -> 820.81 | Q24: =ROUND(CR24*I24,2) -> 2210.15 | R24: =ROUND(CS24*I24,2) -> 247.06 | S24: =ROUND(CT24*I24,2) -> 4719 | T24: =ROUND(CU24*I24,2) -> 0 | U24: =CV24*I24 -> 74.1 | V24: =CW24*I24 -> 3.71 | W24: =ROUND(CX24*I24,2) -> 0 | X24: =ROUND(CY24,2) -> 4568.78 | Y24: =ROUND(CZ24,2) -> 3227.94 | AA24: 39507101 | AB24: =ROUND((AC24+AD24+AF24),2) -> 1170.69 | AC24: =ROUND((ES24),2) -> 123.99 | AD24: =ROUND((((ET24)-(EU24))+AE24),2) -> 333.86 | AE24: =ROUND((EU24),2) -> 37.32 | AF24: =ROUND((EV24),2) -> 712.84 | AG24: =ROUND((AP24),2) -> 0 | AH24: =(EW24) -> 74.1 | AI24: =(EX24) -> 3.71 | AJ24: =ROUND((AS24),2) -> 0 | AK24: 1170.69 | AL24: 123.99 | AM24: 333.86 | AN24: 37.32 | AO24: 712.84 | AP24: 0 | AQ24: 74.1 | AR24: 3.71 | AS24: 0 | AT24: 92 | AU24: 65 | AV24: 1 | AW24: 1 | AZ24: 6.62 | BA24: 6.62 | BB24: 6.62 | BC24: 6.62 | BH24: 0 | BI24: 2 | BJ24: ФЕРм-2001, м10-04-077-15, приказ Минстроя России №1039/пр от 30.12.2016г. | BM24: 110004 | BN24: 0 | BP24: 0 | BQ24: 3 | BR24: 0 | BS24: 6.62 | BT24: 1 | BU24: 1 | BV24: 1 | BW24: 1 | BX24: 1 | BZ24: 92 | CA24: 65 | CF24: 0 | CG24: 0 | CM24: 0 | CO24: 0 | CP24: =(P24+Q24+S24) -> 7749.96 | CQ24: =AC24*BC24 -> 820.8138 | CR24: =AD24*BB24 -> 2210.1532 | CS24: =AE24*BS24 -> 247.0584 | CT24: =AF24*BA24 -> 4719.0008 | CU24: =AG24 -> 0 | CV24: =AH24 -> 74.1 | CW24: =AI24 -> 3.71 | CX24: =AJ24 -> 0 | CY24: =(((S24+R24)*AT24)/100) -> 4568.7752 | CZ24: =(((S24+R24)*AU24)/100) -> 3227.939 | DN24: 0 | DO24: 0 | DP24: 1 | DQ24: 1 | DU24: 1013 | DV24: ШТ | DW24: ШТ | DX24: 1 | EE24: 39174390 | EF24: 3 | EG24: Монтажные работы | EH24: 0 | EJ24: 2 | EK24: 110004 | EL24: Связь: монтаж теле- радио оборудования ( отдел 4 и 5 ) - (при устройстве средств посадки самолетов : НР=95%, СП=55% - {АВИА}=1) | EM24: мФЕР-10 | EQ24: 0 | ER24: 1170.69 | ES24: 123.99 | ET24: 333.86 | EU24: 37.32 | EV24: 712.84 | EW24: 74.1 | EX24: 3.71 | EY24: 0 | FQ24: 0 | FR24: =ROUND(IF(AND(BH24=3,BI24=3),P24,0),2) -> 0 | FS24: 0 | FX24: 92 | FY24: 65 | GD24: 0 | GF24: 321368565 | GG24: 1 | GH24: 1 | GI24: 4 | GJ24: 0 | GK24: =ROUND(R24*(R12)/100,2) -> 0 | GL24: =ROUND(IF(AND(BH24=3,BI24=3,FS24<>0),P24,0),2) -> 0 | GM24: =ROUND(O24+X24+Y24+GK24,2)+GX24 -> 15546.68 | GN24: =IF(OR(BI24=0,BI24=1),ROUND(O24+X24+Y24+GK24,2),0) -> 0 | GO24: =IF(BI24=2,ROUND(O24+X24+Y24+GK24,2),0) -> 15546.68 | GP24: =IF(BI24=4,ROUND(O24+X24+Y24+GK24,2)+GX24,0) -> 0 | GR24: 0 | GS24: 3 | GT24: 0 | GV24: =ROUND(GT24,2) -> 0 | GW24: 1 | GX24: =ROUND(GV24*GW24*I24,2) -> 0 | HA24: 0 | HB24: 0 | IK24: 0
A25: 18 | B25: 1 | C25: 9 | E25: 1,1 | F25: 61.2.04.10-0004 | G25: Пульт контроля и управления охранно-пожарный, марка "С2000- М" | H25: шт. | I25: =I24*J25 -> 1 | J25: 1 | O25: =ROUND(CP25,2) -> 4154.12 | P25: =ROUND(CQ25*I25,2) -> 4154.12 | Q25: =ROUND(CR25*I25,2) -> 0 | R25: =ROUND(CS25*I25,2) -> 0 | S25: =ROUND(CT25*I25,2) -> 0 | T25: =ROUND(CU25*I25,2) -> 0 | U25: =CV25*I25 -> 0 | V25: =CW25*I25 -> 0 | W25: =ROUND(CX25*I25,2) -> 0 | X25: =ROUND(CY25,2) -> 0 | Y25: =ROUND(CZ25,2) -> 0 | AA25: 39507101 | AB25: =ROUND((AC25+AD25+AF25),2) -> 627.51 | AC25: =ROUND((ES25),2) -> 627.51 | AD25: =ROUND((((ET25)-(EU25))+AE25),2) -> 0 | AE25: =ROUND((EU25),2) -> 0 | AF25: =ROUND((EV25),2) -> 0 | AG25: =ROUND((AP25),2) -> 0 | AH25: =(EW25) -> 0 | AI25: =(EX25) -> 0 | AJ25: =ROUND((AS25),2) -> 0 | AK25: 627.51 | AL25: 627.51 | AM25: 0 | AN25: 0 | AO25: 0 | AP25: 0 | AQ25: 0 | AR25: 0 | AS25: 0 | AT25: 92 | AU25: 65 | AV25: 1 | AW25: 1 | AZ25: 6.62 | BA25: 1 | BB25: 1 | BC25: 6.62 | BH25: 3 | BI25: 2 | BJ25: ФССЦ-2001, 61.2.04.10-0004, приказ Минстроя России №1039/пр от 30.12.2016г. | BM25: 110004 | BN25: 0 | BP25: 0 | BQ25: 3 | BR25: 0 | BS25: 1 | BT25: 1 | BU25: 1 | BV25: 1 | BW25: 1 | BX25: 1 | BZ25: 92 | CA25: 65 | CF25: 0 | CG25: 0 | CM25: 0 | CO25: 0 | CP25: =(P25+Q25+S25) -> 4154.12 | CQ25: =AC25*BC25 -> 4154.1162 | CR25: =AD25*BB25 -> 0 | CS25: =AE25*BS25 -> 0 | CT25: =AF25*BA25 -> 0 | CU25: =AG25 -> 0 | CV25: =AH25 -> 0 | CW25: =AI25 -> 0 | CX25: =AJ25 -> 0 | CY25: =(((S25+R25)*AT25)/100) -> 0 | CZ25: =(((S25+R25)*AU25)/100) -> 0 | DN25: 0 | DO25: 0 | DP25: 1 | DQ25: 1 | DU25: 1010 | DV25: шт. | DW25: шт. | DX25: 1 | EE25: 39174390 | EF25: 3 | EG25: Монтажные работы | EH25: 0 | EJ25: 2 | EK25: 110004 | EL25: Связь: монтаж теле- радио оборудования ( отдел 4 и 5 ) - (при устройстве средств посадки самолетов : НР=95%, СП=55% - {АВИА}=1) | EM25: мФЕР-10 | EQ25: 0 | ER25: 627.51 | ES25: 627.51 | ET25: 0 | EU25: 0 | EV25: 0 | EW25: 0 | EX25: 0 | FQ25: 0 | FR25: =ROUND(IF(AND(BH25=3,BI25=3),P25,0),2) -> 0 | FS25: 0 | FX25: 92 | FY25: 65 | GD25: 0 | GF25: -688371732 | GG25: 1 | GH25: 1 | GI25: 4 | GJ25: 0 | GK25: =ROUND(R25*(R12)/100,2) -> 0 | GL25: =ROUND(IF(AND(BH25=3,BI25=3,FS25<>0),P25,0),2) -> 0 | GM25: =ROUND(O25+X25+Y25+GK25,2)+GX25 -> 4154.12 | GN25: =IF(OR(BI25=0,BI25=1),ROUND(O25+X25+Y25+GK25,2),0) -> 0 | GO25: =IF(BI25=2,ROUND(O25+X25+Y25+GK25,2),0) -> 4154.12 | GP25: =IF(BI25=4,ROUND(O25+X25+Y25+GK25,2)+GX25,0) -> 0 | GR25: 0 | GS25: 3 | GT25: 0 | GV25: =ROUND(GT25,2) -> 0 | GW25: 1 | GX25: =ROUND(GV25*GW25*I25,2) -> 0 | HA25: 0 | HB25: 0 | IK25: 0
A26: 17 | B26: 1 | C26: =ROW(SmtRes!A18) -> 18 | D26: =ROW(EtalonRes!A18) -> 18 | E26: 2 | F26: м10-04-066-01прим. | G26: Блок коммутации телевизионных камерных кабелей на количество разъемов 3 (Блок защитный коммутационный) | H26: ШТ | I26: 1 | J26: 0 | O26: =ROUND(CP26,2) -> 2215.84 | P26: =ROUND(CQ26*I26,2) -> 1119.57 | Q26: =ROUND(CR26*I26,2) -> 0 | R26: =ROUND(CS26*I26,2) -> 0 | S26: =ROUND(CT26*I26,2) -> 1096.27 | T26: =ROUND(CU26*I26,2) -> 0 | U26: =CV26*I26 -> 16 | V26: =CW26*I26 -> 0 | W26: =ROUND(CX26*I26,2) -> 0 | X26: =ROUND(CY26,2) -> 1008.57 | Y26: =ROUND(CZ26,2) -> 712.58 | AA26: 39507101 | AB26: =ROUND((AC26+AD26+AF26),2) -> 334.72 | AC26: =ROUND((ES26),2) -> 169.12 | AD26: =ROUND((((ET26)-(EU26))+AE26),2) -> 0 | AE26: =ROUND((EU26),2) -> 0 | AF26: =ROUND((EV26),2) -> 165.6 | AG26: =ROUND((AP26),2) -> 0 | AH26: =(EW26) -> 16 | AI26: =(EX26) -> 0 | AJ26: =ROUND((AS26),2) -> 0 | AK26: 334.72 | AL26: 169.12 | AM26: 0 | AN26: 0 | AO26: 165.6 | AP26: 0 | AQ26: 16 | AR26: 0 | AS26: 0 | AT26: 92 | AU26: 65 | AV26: 1 | AW26: 1 | AZ26: 6.62 | BA26: 6.62 | BB26: 6.62 | BC26: 6.62 | BH26: 0 | BI26: 2 | BJ26: ФЕРм-2001, м10-04-066-01, приказ Минстроя России №1039/пр от 30.12.2016г. | BM26: 110004 | BN26: 0 | BP26: 0 | BQ26: 3 | BR26: 0 | BS26: 6.62 | BT26: 1 | BU26: 1 | BV26: 1 | BW26: 1 | BX26: 1 | BZ26: 92 | CA26: 65 | CF26: 0 | CG26: 0 | CM26: 0 | CO26: 0 | CP26: =(P26+Q26+S26) -> 2215.84 | CQ26: =AC26*BC26 -> 1119.5744 | CR26: =AD26*BB26 -> 0 | CS26: =AE26*BS26 -> 0 | CT26: =AF26*BA26 -> 1096.272 | CU26: =AG26 -> 0 | CV26: =AH26 -> 16 | CW26: =AI26 -> 0 | CX26: =AJ26 -> 0 | CY26: =(((S26+R26)*AT26)/100) -> 1008.5684 | CZ26: =(((S26+R26)*AU26)/100) -> 712.5755 | DN26: 0 | DO26: 0 | DP26: 1 | DQ26: 1 | DU26: 1013 | DV26: ШТ | DW26: ШТ | DX26: 1 | EE26: 39174390 | EF26: 3 | EG26: Монтажные работы | EH26: 0 | EJ26: 2 | EK26: 110004 | EL26: Связь: монтаж теле- радио оборудования ( отдел 4 и 5 ) - (при устройстве средств посадки самолетов : НР=95%, СП=55% - {АВИА}=1) | EM26: мФЕР-10 | EQ26: 0 | ER26: 334.72 | ES26: 169.12 | ET26: 0 | EU26: 0 | EV26: 165.6 | EW26: 16 | EX26: 0 | EY26: 0 | FQ26: 0 | FR26: =ROUND(IF(AND(BH26=3,BI26=3),P26,0),2) -> 0 | FS26: 0 | FX26: 92 | FY26: 65 | GD26: 0 | GF26: 1367117332 | GG26: 1 | GH26: 1 | GI26: 4 | GJ26: 0 | GK26: =ROUND(R26*(R12)/100,2) -> 0 | GL26: =ROUND(IF(AND(BH26=3,BI26=3,FS26<>0),P26,0),2) -> 0 | GM26: =ROUND(O26+X26+Y26+GK26,2)+GX26 -> 3936.99 | GN26: =IF(OR(BI26=0,BI26=1),ROUND(O26+X26+Y26+GK26,2),0) -> 0 | GO26: =IF(BI26=2,ROUND(O26+X26+Y26+GK26,2),0) -> 3936.99 | GP26: =IF(BI26=4,ROUND(O26+X26+Y26+GK26,2)+GX26,0) -> 0 | GR26: 0 | GS26: 3 | GT26: 0 | GV26: =ROUND(GT26,2) -> 0 | GW26: 1 | GX26: =ROUND(GV26*GW26*I26,2) -> 0 | HA26: 0 | HB26: 0 | IK26: 0
A27: 18 | B27: 1 | C27: 17 | E27: 2,1 | F27: 61.2.07.11-0181 | G27: Блок защитный коммутационный (БЗК исп.02) прим. | H27: 10 шт. | I27: =I26*J27 -> 0.1 | J27: 0.1 | O27: =ROUND(CP27,2) -> 879.86 | P27: =ROUND(CQ27*I27,2) -> 879.86 | Q27: =ROUND(CR27*I27,2) -> 0 | R27: =ROUND(CS27*I27,2) -> 0 | S27: =ROUND(CT27*I27,2) -> 0 | T27: =ROUND(CU27*I27,2) -> 0 | U27: =CV27*I27 -> 0 | V27: =CW27*I27 -> 0 | W27: =ROUND(CX27*I27,2) -> 0 | X27: =ROUND(CY27,2) -> 0 | Y27: =ROUND(CZ27,2) -> 0 | AA27: 39507101 | AB27: =ROUND((AC27+AD27+AF27),2) -> 1329.1 | AC27: =ROUND((ES27),2) -> 1329.1 | AD27: =ROUND((((ET27)-(EU27))+AE27),2) -> 0 | AE27: =ROUND((EU27),2) -> 0 | AF27: =ROUND((EV27),2) -> 0 | AG27: =ROUND((AP27),2) -> 0 | AH27: =(EW27) -> 0 | AI27: =(EX27) -> 0 | AJ27: =ROUND((AS27),2) -> 0 | AK27: 1329.1 | AL27: 1329.1 | AM27: 0 | AN27: 0 | AO27: 0 | AP27: 0 | AQ27: 0 | AR27: 0 | AS27: 0 | AT27: 92 | AU27: 65 | AV27: 1 | AW27: 1 | AZ27: 6.62 | BA27: 1 | BB27: 1 | BC27: 6.62 | BH27: 3 | BI27: 2 | BJ27: ФССЦ-2001, 61.2.07.11-0181, приказ Минстроя России №1039/пр от 30.12.2016г. | BM27: 110004 | BN27: 0 | BP27: 0 | BQ27: 3 | BR27: 0 | BS27: 1 | BT27: 1 | BU27: 1 | BV27: 1 | BW27: 1 | BX27: 1 | BZ27: 92 | CA27: 65 | CF27: 0 | CG27: 0 | CM27: 0 | CO27: 0 | CP27: =(P27+Q27+S27) -> 879.86 | CQ27: =AC27*BC27 -> 8798.642 | CR27: =AD27*BB27 -> 0 | CS27: =AE27*BS27 -> 0 | CT27: =AF27*BA27 -> 0 | CU27: =AG27 -> 0 | CV27: =AH27 -> 0 | CW27: =AI27 -> 0 | CX27: =AJ27 -> 0 | CY27: =(((S27+R27)*AT27)/100) -> 0 | CZ27: =(((S27+R27)*AU27)/100) -> 0 | DN27: 0 | DO27: 0 | DP27: 1 | DQ27: 1 | DU27: 1010 | DV27: 10 шт. | DW27: 10 шт. | DX27: 10 | EE27: 39174390 | EF27: 3 | EG27: Монтажные работы | EH27: 0 | EJ27: 2 | EK27: 110004 | EL27: Связь: монтаж теле- радио оборудования ( отдел 4 и 5 ) - (при устройстве средств посадки самолетов : НР=95%, СП=55% - {АВИА}=1) | EM27: мФЕР-10 | EQ27: 0 | ER27: 1329.1 | ES27: 1329.1 | ET27: 0 | EU27: 0 | EV27: 0 | EW27: 0 | EX27: 0 | FQ27: 0 | FR27: =ROUND(IF(AND(BH27=3,BI27=3),P27,0),2) -> 0 | FS27: 0 | FX27: 92 | FY27: 65 | GD27: 0 | GF27: -1402303173 | GG27: 1 | GH27: 1 | GI27: 4 | GJ27: 0 | GK27: =ROUND(R27*(R12)/100,2) -> 0 | GL27: =ROUND(IF(AND(BH27=3,BI27=3,FS27<>0),P27,0),2) -> 0 | GM27: =ROUND(O27+X27+Y27+GK27,2)+GX27 -> 879.86 | GN27: =IF(OR(BI27=0,BI27=1),ROUND(O27+X27+Y27+GK27,2),0) -> 0 | GO27: =IF(BI27=2,ROUND(O27+X27+Y27+GK27,2),0) -> 879.86 | GP27: =IF(BI27=4,ROUND(O27+X27+Y27+GK27,2)+GX27,0) -> 0 | GR27: 0 | GS27: 3 | GT27: 0 | GV27: =ROUND(GT27,2) -> 0 | GW27: 1 | GX27: =ROUND(GV27*GW27*I27,2) -> 0 | HA27: 0 | HB27: 0 | IK27: 0
A28: 17 | B28: 1 | C28: =ROW(SmtRes!A24) -> 24 | D28: =ROW(EtalonRes!A23) -> 23 | E28: 3 | F28: м10-08-001-02 | G28: Приборы ПС приемно-контрольные, пусковые, концентратор блок базовый на 20 лучей | H28: ШТ | I28: 4 | J28: 0 | O28: =ROUND(CP28,2) -> 3448.49 | P28: =ROUND(CQ28*I28,2) -> 331.79 | Q28: =ROUND(CR28*I28,2) -> 0 | R28: =ROUND(CS28*I28,2) -> 0 | S28: =ROUND(CT28*I28,2) -> 3116.7 | T28: =ROUND(CU28*I28,2) -> 0 | U28: =CV28*I28 -> 46.8 | V28: =CW28*I28 -> 0 | W28: =ROUND(CX28*I28,2) -> 0 | X28: =ROUND(CY28,2) -> 2493.36 | Y28: =ROUND(CZ28,2) -> 1870.02 | AA28: 39507101 | AB28: =ROUND((AC28+AD28+AF28),2) -> 130.23 | AC28: =ROUND((ES28),2) -> 12.53 | AD28: =ROUND((((ET28)-(EU28))+AE28),2) -> 0 | AE28: =ROUND((EU28),2) -> 0 | AF28: =ROUND((EV28),2) -> 117.7 | AG28: =ROUND((AP28),2) -> 0 | AH28: =(EW28) -> 11.7 | AI28: =(EX28) -> 0 | AJ28: =ROUND((AS28),2) -> 0 | AK28: 130.23 | AL28: 12.53 | AM28: 0 | AN28: 0 | AO28: 117.7 | AP28: 0 | AQ28: 11.7 | AR28: 0 | AS28: 0 | AT28: 80 | AU28: 60 | AV28: 1 | AW28: 1 | AZ28: 6.62 | BA28: 6.62 | BB28: 6.62 | BC28: 6.62 | BH28: 0 | BI28: 2 | BJ28: ФЕРм-2001, м10-08-001-02, приказ Минстроя России №1039/пр от 30.12.2016г. | BM28: 110011 | BN28: 0 | BP28: 0 | BQ28: 3 | BR28: 0 | BS28: 6.62 | BT28: 1 | BU28: 1 | BV28: 1 | BW28: 1 | BX28: 1 | BZ28: 80 | CA28: 60 | CF28: 0 | CG28: 0 | CM28: 0 | CO28: 0 | CP28: =(P28+Q28+S28) -> 3448.49 | CQ28: =AC28*BC28 -> 82.9486 | CR28: =AD28*BB28 -> 0 | CS28: =AE28*BS28 -> 0 | CT28: =AF28*BA28 -> 779.174 | CU28: =AG28 -> 0 | CV28: =AH28 -> 11.7 | CW28: =AI28 -> 0 | CX28: =AJ28 -> 0 | CY28: =(((S28+R28)*AT28)/100) -> 2493.36 | CZ28: =(((S28+R28)*AU28)/100) -> 1870.02 | DN28: 0 | DO28: 0 | DP28: 1 | DQ28: 1 | DU28: 1013 | DV28: ШТ | DW28: ШТ | DX28: 1 | EE28: 39174433 | EF28: 3 | EG28: Монтажные работы | EH28: 0 | EJ28: 2 | EK28: 110011 | EL28: Связь: пожарно-охранная сигнализация и пром. телевиз. установки ( отделы 8 и 9 ) (при устройстве средств посадки самолетов : НР=95%, СП=55% - {АВИА}=1) | EM28: мФЕР-10 | EQ28: 0 | ER28: 130.23 | ES28: 12.53 | ET28: 0 | EU28: 0 | EV28: 117.7 | EW28: 11.7 | EX28: 0 | EY28: 0 | FQ28: 0 | FR28: =ROUND(IF(AND(BH28=3,BI28=3),P28,0),2) -> 0 | FS28: 0 | FX28: 80 | FY28: 60 | GD28: 0 | GF28: -749346172 | GG28: 1 | GH28: 1 | GI28: 4 | GJ28: 0 | GK28: =ROUND(R28*(R12)/100,2) -> 0 | GL28: =ROUND(IF(AND(BH28=3,BI28=3,FS28<>0),P28,0),2) -> 0 | GM28: =ROUND(O28+X28+Y28+GK28,2)+GX28 -> 7811.87 | GN28: =IF(OR(BI28=0,BI28=1),ROUND(O28+X28+Y28+GK28,2),0) -> 0 | GO28: =IF(BI28=2,ROUND(O28+X28+Y28+GK28,2),0) -> 7811.87 | GP28: =IF(BI28=4,ROUND(O28+X28+Y28+GK28,2)+GX28,0) -> 0 | GR28: 0 | GS28: 3 | GT28: 0 | GV28: =ROUND(GT28,2) -> 0 | GW28: 1 | GX28: =ROUND(GV28*GW28*I28,2) -> 0 | HA28: 0 | HB28: 0 | IK28: 0
A29: 18 | B29: 1 | C29: 23 | E29: 3,1 | F29: 61.2.07.04-0002 | G29: Контроллер двухпроводной линии связи, марка "С2000-КДЛ" | H29: шт. | I29: =I28*J29 -> 4 | J29: 1 | O29: =ROUND(CP29,2) -> 4650.68 | P29: =ROUND(CQ29*I29,2) -> 4650.68 | Q29: =ROUND(CR29*I29,2) -> 0 | R29: =ROUND(CS29*I29,2) -> 0 | S29: =ROUND(CT29*I29,2) -> 0 | T29: =ROUND(CU29*I29,2) -> 0 | U29: =CV29*I29 -> 0 | V29: =CW29*I29 -> 0 | W29: =ROUND(CX29*I29,2) -> 0 | X29: =ROUND(CY29,2) -> 0 | Y29: =ROUND(CZ29,2) -> 0 | AA29: 39507101 | AB29: =ROUND((AC29+AD29+AF29),2) -> 175.63 | AC29: =ROUND((ES29),2) -> 175.63 | AD29: =ROUND((((ET29)-(EU29))+AE29),2) -> 0 | AE29: =ROUND((EU29),2) -> 0 | AF29: =ROUND((EV29),2) -> 0 | AG29: =ROUND((AP29),2) -> 0 | AH29: =(EW29) -> 0 | AI29: =(EX29) -> 0 | AJ29: =ROUND((AS29),2) -> 0 | AK29: 175.63 | AL29: 175.63 | AM29: 0 | AN29: 0 | AO29: 0 | AP29: 0 | AQ29: 0 | AR29: 0 | AS29: 0 | AT29: 92 | AU29: 65 | AV29: 1 | AW29: 1 | AZ29: 6.62 | BA29: 1 | BB29: 1 | BC29: 6.62 | BH29: 3 | BI29: 2 | BJ29: ФССЦ-2001, 61.2.07.04-0002, приказ Минстроя России №1039/пр от 30.12.2016г. | BM29: 110004 | BN29: 0 | BP29: 0 | BQ29: 3 | BR29: 0 | BS29: 1 | BT29: 1 | BU29: 1 | BV29: 1 | BW29: 1 | BX29: 1 | BZ29: 92 | CA29: 65 | CF29: 0 | CG29: 0 | CM29: 0 | CO29: 0 | CP29: =(P29+Q29+S29) -> 4650.68 | CQ29: =AC29*BC29 -> 1162.6706 | CR29: =AD29*BB29 -> 0 | CS29: =AE29*BS29 -> 0 | CT29: =AF29*BA29 -> 0 | CU29: =AG29 -> 0 | CV29: =AH29 -> 0 | CW29: =AI29 -> 0 | CX29: =AJ29 -> 0 | CY29: =(((S29+R29)*AT29)/100) -> 0 | CZ29: =(((S29+R29)*AU29)/100) -> 0 | DN29: 0 | DO29: 0 | DP29: 1 | DQ29: 1 | DU29: 1010 | DV29: шт. | DW29: шт. | DX29: 1 | EE29: 39174390 | EF29: 3 | EG29: Монтажные работы | EH29: 0 | EJ29: 2 | EK29: 110004 | EL29: Связь: монтаж теле- радио оборудования ( отдел 4 и 5 ) - (при устройстве средств посадки самолетов : НР=95%, СП=55% - {АВИА}=1) | EM29: мФЕР-10 | EQ29: 0 | ER29: 175.63 | ES29: 175.63 | ET29: 0 | EU29: 0 | EV29: 0 | EW29: 0 | EX29: 0 | FQ29: 0 | FR29: =ROUND(IF(AND(BH29=3,BI29=3),P29,0),2) -> 0 | FS29: 0 | FX29: 92 | FY29: 65 | GD29: 0 | GF29: -2134391166 | GG29: 1 | GH29: 1 | GI29: 4 | GJ29: 0 | GK29: =ROUND(R29*(R12)/100,2) -> 0 | GL29: =ROUND(IF(AND(BH29=3,BI29=3,FS29<>0),P29,0),2) -> 0 | GM29: =ROUND(O29+X29+Y29+GK29,2)+GX29 -> 4650.68 | GN29: =IF(OR(BI29=0,BI29=1),ROUND(O29+X29+Y29+GK29,2),0) -> 0 | GO29: =IF(BI29=2,ROUND(O29+X29+Y29+GK29,2),0) -> 4650.68 | GP29: =IF(BI29=4,ROUND(O29+X29+Y29+GK29,2)+GX29,0) -> 0 | GR29: 0 | GS29: 3 | GT29: 0 | GV29: =ROUND(GT29,2) -> 0 | GW29: 1 | GX29: =ROUND(GV29*GW29*I29,2) -> 0 | HA29: 0 | HB29: 0 | IK29: 0
A30: 17 | B30: 1 | C30: =ROW(SmtRes!A30) -> 30 | D30: =ROW(EtalonRes!A27) -> 27 | E30: 4 | F30: м10-01-003-06 | G30: Блок релейный | H30: 10 ШТ | I30: =ROUND(2/10,9) -> 0.2 | J30: 0 | O30: =ROUND(CP30,2) -> 31.26 | P30: =ROUND(CQ30*I30,2) -> 0.45 | Q30: =ROUND(CR30*I30,2) -> 8.34 | R30: =ROUND(CS30*I30,2) -> 0.93 | S30: =ROUND(CT30*I30,2) -> 22.47 | T30: =ROUND(CU30*I30,2) -> 0 | U30: =CV30*I30 -> 0.328 | V30: =CW30*I30 -> 0.014 | W30: =ROUND(CX30*I30,2) -> 0 | X30: =ROUND(CY30,2) -> 18.72 | Y30: =ROUND(CZ30,2) -> 14.04 | AA30: 39507101 | AB30: =ROUND((AC30+AD30+AF30),2) -> 23.61 | AC30: =ROUND((ES30),2) -> 0.34 | AD30: =ROUND((((ET30)-(EU30))+AE30),2) -> 6.3 | AE30: =ROUND((EU30),2) -> 0.7 | AF30: =ROUND((EV30),2) -> 16.97 | AG30: =ROUND((AP30),2) -> 0 | AH30: =(EW30) -> 1.64 | AI30: =(EX30) -> 0.07 | AJ30: =ROUND((AS30),2) -> 0 | AK30: 23.61 | AL30: 0.34 | AM30: 6.3 | AN30: 0.7 | AO30: 16.97 | AP30: 0 | AQ30: 1.64 | AR30: 0.07 | AS30: 0 | AT30: 80 | AU30: 60 | AV30: 1 | AW30: 1 | AZ30: 6.62 | BA30: 6.62 | BB30: 6.62 | BC30: 6.62 | BH30: 0 | BI30: 2 | BJ30: ФЕРм-2001, м10-01-003-06, приказ Минстроя России №1039/пр от 30.12.2016г. | BM30: 110001 | BN30: 0 | BP30: 0 | BQ30: 3 | BR30: 0 | BS30: 6.62 | BT30: 1 | BU30: 1 | BV30: 1 | BW30: 1 | BX30: 1 | BZ30: 80 | CA30: 60 | CF30: 0 | CG30: 0 | CM30: 0 | CO30: 0 | CP30: =(P30+Q30+S30) -> 31.26 | CQ30: =AC30*BC30 -> 2.2508 | CR30: =AD30*BB30 -> 41.706 | CS30: =AE30*BS30 -> 4.634 | CT30: =AF30*BA30 -> 112.3414 | CU30: =AG30 -> 0 | CV30: =AH30 -> 1.64 | CW30: =AI30 -> 0.07 | CX30: =AJ30 -> 0 | CY30: =(((S30+R30)*AT30)/100) -> 18.72 | CZ30: =(((S30+R30)*AU30)/100) -> 14.04 | DN30: 0 | DO30: 0 | DP30: 1 | DQ30: 1 | DU30: 1013 | DV30: 10 ШТ | DW30: 10 ШТ | DX30: 1 | EE30: 39174389 | EF30: 3 | EG30: Монтажные работы | EH30: 0 | EJ30: 2 | EK30: 110001 | EL30: Связь: городская, местная, междугородняя проводная телефонная связь ( отделы 1, 2, 3 ) - ( при уст-ве средств посадки самолетов: {AВИА}=1 - НР=95%, СП=55% ) | EM30: мФЕР-10 | EQ30: 0 | ER30: 23.61 | ES30: 0.34 | ET30: 6.3 | EU30: 0.7 | EV30: 16.97 | EW30: 1.64 | EX30: 0.07 | EY30: 0 | FQ30: 0 | FR30: =ROUND(IF(AND(BH30=3,BI30=3),P30,0),2) -> 0 | FS30: 0 | FX30: 80 | FY30: 60 | GD30: 0 | GF30: 1685125645 | GG30: 1 | GH30: 1 | GI30: 4 | GJ30: 0 | GK30: =ROUND(R30*(R12)/100,2) -> 0 | GL30: =ROUND(IF(AND(BH30=3,BI30=3,FS30<>0),P30,0),2) -> 0 | GM30: =ROUND(O30+X30+Y30+GK30,2)+GX30 -> 64.02 | GN30: =IF(OR(BI30=0,BI30=1),ROUND(O30+X30+Y30+GK30,2),0) -> 0 | GO30: =IF(BI30=2,ROUND(O30+X30+Y30+GK30,2),0) -> 64.02 | GP30: =IF(BI30=4,ROUND(O30+X30+Y30+GK30,2)+GX30,0) -> 0 | GR30: 0 | GS30: 3 | GT30: 0 | GV30: =ROUND(GT30,2) -> 0 | GW30: 1 | GX30: =ROUND(GV30*GW30*I30,2) -> 0 | HA30: 0 | HB30: 0 | IK30: 0
A31: 18 | B31: 1 | C31: 28 | E31: 4,1 | F31: 61.2.07.02-0080 | G31: Блок сигнально-пусковой (релейный блок), марка "С2000-СП2" | H31: шт. | I31: =I30*J31 -> 1 | J31: 5 | O31: =ROUND(CP31,2) -> 645.25 | P31: =ROUND(CQ31*I31,2) -> 645.25 | Q31: =ROUND(CR31*I31,2) -> 0 | R31: =ROUND(CS31*I31,2) -> 0 | S31: =ROUND(CT31*I31,2) -> 0 | T31: =ROUND(CU31*I31,2) -> 0 | U31: =CV31*I31 -> 0 | V31: =CW31*I31 -> 0 | W31: =ROUND(CX31*I31,2) -> 0 | X31: =ROUND(CY31,2) -> 0 | Y31: =ROUND(CZ31,2) -> 0 | AA31: 39507101 | AB31: =ROUND((AC31+AD31+AF31),2) -> 97.47 | AC31: =ROUND((ES31),2) -> 97.47 | AD31: =ROUND((((ET31)-(EU31))+AE31),2) -> 0 | AE31: =ROUND((EU31),2) -> 0 | AF31: =ROUND((EV31),2) -> 0 | AG31: =ROUND((AP31),2) -> 0 | AH31: =(EW31) -> 0 | AI31: =(EX31) -> 0 | AJ31: =ROUND((AS31),2) -> 0 | AK31: 97.47 | AL31: 97.47 | AM31: 0 | AN31: 0 | AO31: 0 | AP31: 0 | AQ31: 0 | AR31: 0 | AS31: 0 | AT31: 80 | AU31: 60 | AV31: 1 | AW31: 1 | AZ31: 6.62 | BA31: 1 | BB31: 1 | BC31: 6.62 | BH31: 3 | BI31: 2 | BJ31: ФССЦ-2001, 61.2.07.02-0080, приказ Минстроя России №1039/пр от 30.12.2016г. | BM31: 110011 | BN31: 0 | BP31: 0 | BQ31: 3 | BR31: 0 | BS31: 1 | BT31: 1 | BU31: 1 | BV31: 1 | BW31: 1 | BX31: 1 | BZ31: 80 | CA31: 60 | CF31: 0 | CG31: 0 | CM31: 0 | CO31: 0 | CP31: =(P31+Q31+S31) -> 645.25 | CQ31: =AC31*BC31 -> 645.2514 | CR31: =AD31*BB31 -> 0 | CS31: =AE31*BS31 -> 0 | CT31: =AF31*BA31 -> 0 | CU31: =AG31 -> 0 | CV31: =AH31 -> 0 | CW31: =AI31 -> 0 | CX31: =AJ31 -> 0 | CY31: =(((S31+R31)*AT31)/100) -> 0 | CZ31: =(((S31+R31)*AU31)/100) -> 0 | DN31: 0 | DO31: 0 | DP31: 1 | DQ31: 1 | DU31: 1010 | DV31: шт. | DW31: шт. | DX31: 1 | EE31: 39174433 | EF31: 3 | EG31: Монтажные работы | EH31: 0 | EJ31: 2 | EK31: 110011 | EL31: Связь: пожарно-охранная сигнализация и пром. телевиз. установки ( отделы 8 и 9 ) (при устройстве средств посадки самолетов : НР=95%, СП=55% - {АВИА}=1) | EM31: мФЕР-10 | EQ31: 0 | ER31: 97.47 | ES31: 97.47 | ET31: 0 | EU31: 0 | EV31: 0 | EW31: 0 | EX31: 0 | FQ31: 0 | FR31: =ROUND(IF(AND(BH31=3,BI31=3),P31,0),2) -> 0 | FS31: 0 | FX31: 80 | FY31: 60 | GD31: 0 | GF31: -1678312250 | GG31: 1 | GH31: 1 | GI31: 4 | GJ31: 0 | GK31: =ROUND(R31*(R12)/100,2) -> 0 | GL31: =ROUND(IF(AND(BH31=3,BI31=3,FS31<>0),P31,0),2) -> 0 | GM31: =ROUND(O31+X31+Y31+GK31,2)+GX31 -> 645.25 | GN31: =IF(OR(BI31=0,BI31=1),ROUND(O31+X31+Y31+GK31,2),0) -> 0 | GO31: =IF(BI31=2,ROUND(O31+X31+Y31+GK31,2),0) -> 645.25 | GP31: =IF(BI31=4,ROUND(O31+X31+Y31+GK31,2)+GX31,0) -> 0 | GR31: 0 | GS31: 3 | GT31: 0 | GV31: =ROUND(GT31,2) -> 0 | GW31: 1 | GX31: =ROUND(GV31*GW31*I31,2) -> 0 | HA31: 0 | HB31: 0 | IK31: 0
A32: 18 | B32: 1 | C32: 29 | E32: 4,2 | F32: 61.2.07.02-0081 | G32: Блок сигнально-пусковой, марка "С2000-СП1" исп. 01 | H32: шт. | I32: =I30*J32 -> 1 | J32: 5 | O32: =ROUND(CP32,2) -> 1164.92 | P32: =ROUND(CQ32*I32,2) -> 1164.92 | Q32: =ROUND(CR32*I32,2) -> 0 | R32: =ROUND(CS32*I32,2) -> 0 | S32: =ROUND(CT32*I32,2) -> 0 | T32: =ROUND(CU32*I32,2) -> 0 | U32: =CV32*I32 -> 0 | V32: =CW32*I32 -> 0 | W32: =ROUND(CX32*I32,2) -> 0 | X32: =ROUND(CY32,2) -> 0 | Y32: =ROUND(CZ32,2) -> 0 | AA32: 39507101 | AB32: =ROUND((AC32+AD32+AF32),2) -> 175.97 | AC32: =ROUND((ES32),2) -> 175.97 | AD32: =ROUND((((ET32)-(EU32))+AE32),2) -> 0 | AE32: =ROUND((EU32),2) -> 0 | AF32: =ROUND((EV32),2) -> 0 | AG32: =ROUND((AP32),2) -> 0 | AH32: =(EW32) -> 0 | AI32: =(EX32) -> 0 | AJ32: =ROUND((AS32),2) -> 0 | AK32: 175.97 | AL32: 175.97 | AM32: 0 | AN32: 0 | AO32: 0 | AP32: 0 | AQ32: 0 | AR32: 0 | AS32: 0 | AT32: 80 | AU32: 60 | AV32: 1 | AW32: 1 | AZ32: 6.62 | BA32: 1 | BB32: 1 | BC32: 6.62 | BH32: 3 | BI32: 2 | BJ32: ФССЦ-2001, 61.2.07.02-0081, приказ Минстроя России №1039/пр от 30.12.2016г. | BM32: 110011 | BN32: 0 | BP32: 0 | BQ32: 3 | BR32: 0 | BS32: 1 | BT32: 1 | BU32: 1 | BV32: 1 | BW32: 1 | BX32: 1 | BZ32: 80 | CA32: 60 | CF32: 0 | CG32: 0 | CM32: 0 | CO32: 0 | CP32: =(P32+Q32+S32) -> 1164.92 | CQ32: =AC32*BC32 -> 1164.9214 | CR32: =AD32*BB32 -> 0 | CS32: =AE32*BS32 -> 0 | CT32: =AF32*BA32 -> 0 | CU32: =AG32 -> 0 | CV32: =AH32 -> 0 | CW32: =AI32 -> 0 | CX32: =AJ32 -> 0 | CY32: =(((S32+R32)*AT32)/100) -> 0 | CZ32: =(((S32+R32)*AU32)/100) -> 0 | DN32: 0 | DO32: 0 | DP32: 1 | DQ32: 1 | DU32: 1010 | DV32: шт. | DW32: шт. | DX32: 1 | EE32: 39174433 | EF32: 3 | EG32: Монтажные работы | EH32: 0 | EJ32: 2 | EK32: 110011 | EL32: Связь: пожарно-охранная сигнализация и пром. телевиз. установки ( отделы 8 и 9 ) (при устройстве средств посадки самолетов : НР=95%, СП=55% - {АВИА}=1) | EM32: мФЕР-10 | EQ32: 0 | ER32: 175.97 | ES32: 175.97 | ET32: 0 | EU32: 0 | EV32: 0 | EW32: 0 | EX32: 0 | FQ32: 0 | FR32: =ROUND(IF(AND(BH32=3,BI32=3),P32,0),2) -> 0 | FS32: 0 | FX32: 80 | FY32: 60 | GD32: 0 | GF32: -1989464412 | GG32: 1 | GH32: 1 | GI32: 4 | GJ32: 0 | GK32: =ROUND(R32*(R12)/100,2) -> 0 | GL32: =ROUND(IF(AND(BH32=3,BI32=3,FS32<>0),P32,0),2) -> 0 | GM32: =ROUND(O32+X32+Y32+GK32,2)+GX32 -> 1164.92 | GN32: =IF(OR(BI32=0,BI32=1),ROUND(O32+X32+Y32+GK32,2),0) -> 0 | GO32: =IF(BI32=2,ROUND(O32+X32+Y32+GK32,2),0) -> 1164.92 | GP32: =IF(BI32=4,ROUND(O32+X32+Y32+GK32,2)+GX32,0) -> 0 | GR32: 0 | GS32: 3 | GT32: 0 | GV32: =ROUND(GT32,2) -> 0 | GW32: 1 | GX32: =ROUND(GV32*GW32*I32,2) -> 0 | HA32: 0 | HB32: 0 | IK32: 0
A33: 17 | B33: 1 | C33: =ROW(SmtRes!A37) -> 37 | D33: =ROW(EtalonRes!A33) -> 33 | E33: 5 | F33: м10-08-003-03 | G33: Устройство ультразвуковое, блок питания и контроля | H33: ШТ | I33: 1 | J33: 0 | O33: =ROUND(CP33,2) -> 272.01 | P33: =ROUND(CQ33*I33,2) -> 28.66 | Q33: =ROUND(CR33*I33,2) -> 0 | R33: =ROUND(CS33*I33,2) -> 0 | S33: =ROUND(CT33*I33,2) -> 243.35 | T33: =ROUND(CU33*I33,2) -> 0 | U33: =CV33*I33 -> 3.6 | V33: =CW33*I33 -> 0 | W33: =ROUND(CX33*I33,2) -> 0 | X33: =ROUND(CY33,2) -> 194.68 | Y33: =ROUND(CZ33,2) -> 146.01 | AA33: 39507101 | AB33: =ROUND((AC33+AD33+AF33),2) -> 41.09 | AC33: =ROUND((ES33),2) -> 4.33 | AD33: =ROUND((((ET33)-(EU33))+AE33),2) -> 0 | AE33: =ROUND((EU33),2) -> 0 | AF33: =ROUND((EV33),2) -> 36.76 | AG33: =ROUND((AP33),2) -> 0 | AH33: =(EW33) -> 3.6 | AI33: =(EX33) -> 0 | AJ33: =ROUND((AS33),2) -> 0 | AK33: 41.09 | AL33: 4.33 | AM33: 0 | AN33: 0 | AO33: 36.76 | AP33: 0 | AQ33: 3.6 | AR33: 0 | AS33: 0 | AT33: 80 | AU33: 60 | AV33: 1 | AW33: 1 | AZ33: 6.62 | BA33: 6.62 | BB33: 6.62 | BC33: 6.62 | BH33: 0 | BI33: 2 | BJ33: ФЕРм-2001, м10-08-003-03, приказ Минстроя России №1039/пр от 30.12.2016г. | BM33: 110011 | BN33: 0 | BP33: 0 | BQ33: 3 | BR33: 0 | BS33: 6.62 | BT33: 1 | BU33: 1 | BV33: 1 | BW33: 1 | BX33: 1 | BZ33: 80 | CA33: 60 | CF33: 0 | CG33: 0 | CM33: 0 | CO33: 0 | CP33: =(P33+Q33+S33) -> 272.01 | CQ33: =AC33*BC33 -> 28.6646 | CR33: =AD33*BB33 -> 0 | CS33: =AE33*BS33 -> 0 | CT33: =AF33*BA33 -> 243.3512 | CU33: =AG33 -> 0 | CV33: =AH33 -> 3.6 | CW33: =AI33 -> 0 | CX33: =AJ33 -> 0 | CY33: =(((S33+R33)*AT33)/100) -> 194.68 | CZ33: =(((S33+R33)*AU33)/100) -> 146.01 | DN33: 0 | DO33: 0 | DP33: 1 | DQ33: 1 | DU33: 1013 | DV33: ШТ | DW33: ШТ | DX33: 1 | EE33: 39174433 | EF33: 3 | EG33: Монтажные работы | EH33: 0 | EJ33: 2 | EK33: 110011 | EL33: Связь: пожарно-охранная сигнализация и пром. телевиз. установки ( отделы 8 и 9 ) (при устройстве средств посадки самолетов : НР=95%, СП=55% - {АВИА}=1) | EM33: мФЕР-10 | EQ33: 0 | ER33: 41.09 | ES33: 4.33 | ET33: 0 | EU33: 0 | EV33: 36.76 | EW33: 3.6 | EX33: 0 | EY33: 0 | FQ33: 0 | FR33: =ROUND(IF(AND(BH33=3,BI33=3),P33,0),2) -> 0 | FS33: 0 | FX33: 80 | FY33: 60 | GD33: 0 | GF33: -1645192336 | GG33: 1 | GH33: 1 | GI33: 4 | GJ33: 0 | GK33: =ROUND(R33*(R12)/100,2) -> 0 | GL33: =ROUND(IF(AND(BH33=3,BI33=3,FS33<>0),P33,0),2) -> 0 | GM33: =ROUND(O33+X33+Y33+GK33,2)+GX33 -> 612.7 | GN33: =IF(OR(BI33=0,BI33=1),ROUND(O33+X33+Y33+GK33,2),0) -> 0 | GO33: =IF(BI33=2,ROUND(O33+X33+Y33+GK33,2),0) -> 612.7 | GP33: =IF(BI33=4,ROUND(O33+X33+Y33+GK33,2)+GX33,0) -> 0 | GR33: 0 | GS33: 3 | GT33: 0 | GV33: =ROUND(GT33,2) -> 0 | GW33: 1 | GX33: =ROUND(GV33*GW33*I33,2) -> 0 | HA33: 0 | HB33: 0 | IK33: 0
A34: 18 | B34: 1 | C34: 36 | E34: 5,1 | F34: 61.2.07.02-0035 | G34: Блок контроля и индикации, марка "С2000-БКИ" | H34: шт. | I34: =I33*J34 -> 1 | J34: 1 | O34: =ROUND(CP34,2) -> 2626.42 | P34: =ROUND(CQ34*I34,2) -> 2626.42 | Q34: =ROUND(CR34*I34,2) -> 0 | R34: =ROUND(CS34*I34,2) -> 0 | S34: =ROUND(CT34*I34,2) -> 0 | T34: =ROUND(CU34*I34,2) -> 0 | U34: =CV34*I34 -> 0 | V34: =CW34*I34 -> 0 | W34: =ROUND(CX34*I34,2) -> 0 | X34: =ROUND(CY34,2) -> 0 | Y34: =ROUND(CZ34,2) -> 0 | AA34: 39507101 | AB34: =ROUND((AC34+AD34+AF34),2) -> 396.74 | AC34: =ROUND((ES34),2) -> 396.74 | AD34: =ROUND((((ET34)-(EU34))+AE34),2) -> 0 | AE34: =ROUND((EU34),2) -> 0 | AF34: =ROUND((EV34),2) -> 0 | AG34: =ROUND((AP34),2) -> 0 | AH34: =(EW34) -> 0 | AI34: =(EX34) -> 0 | AJ34: =ROUND((AS34),2) -> 0 | AK34: 396.74 | AL34: 396.74 | AM34: 0 | AN34: 0 | AO34: 0 | AP34: 0 | AQ34: 0 | AR34: 0 | AS34: 0 | AT34: 80 | AU34: 60 | AV34: 1 | AW34: 1 | AZ34: 6.62 | BA34: 1 | BB34: 1 | BC34: 6.62 | BH34: 3 | BI34: 2 | BJ34: ФССЦ-2001, 61.2.07.02-0035, приказ Минстроя России №1039/пр от 30.12.2016г. | BM34: 110001 | BN34: 0 | BP34: 0 | BQ34: 3 | BR34: 0 | BS34: 1 | BT34: 1 | BU34: 1 | BV34: 1 | BW34: 1 | BX34: 1 | BZ34: 80 | CA34: 60 | CF34: 0 | CG34: 0 | CM34: 0 | CO34: 0 | CP34: =(P34+Q34+S34) -> 2626.42 | CQ34: =AC34*BC34 -> 2626.4188 | CR34: =AD34*BB34 -> 0 | CS34: =AE34*BS34 -> 0 | CT34: =AF34*BA34 -> 0 | CU34: =AG34 -> 0 | CV34: =AH34 -> 0 | CW34: =AI34 -> 0 | CX34: =AJ34 -> 0 | CY34: =(((S34+R34)*AT34)/100) -> 0 | CZ34: =(((S34+R34)*AU34)/100) -> 0 | DN34: 0 | DO34: 0 | DP34: 1 | DQ34: 1 | DU34: 1010 | DV34: шт. | DW34: шт. | DX34: 1 | EE34: 39174389 | EF34: 3 | EG34: Монтажные работы | EH34: 0 | EJ34: 2 | EK34: 110001 | EL34: Связь: городская, местная, междугородняя проводная телефонная связь ( отделы 1, 2, 3 ) - ( при уст-ве средств посадки самолетов: {AВИА}=1 - НР=95%, СП=55% ) | EM34: мФЕР-10 | EQ34: 0 | ER34: 396.74 | ES34: 396.74 | ET34: 0 | EU34: 0 | EV34: 0 | EW34: 0 | EX34: 0 | FQ34: 0 | FR34: =ROUND(IF(AND(BH34=3,BI34=3),P34,0),2) -> 0 | FS34: 0 | FX34: 80 | FY34: 60 | GD34: 0 | GF34: 2115845550 | GG34: 1 | GH34: 1 | GI34: 4 | GJ34: 0 | GK34: =ROUND(R34*(R12)/100,2) -> 0 | GL34: =ROUND(IF(AND(BH34=3,BI34=3,FS34<>0),P34,0),2) -> 0 | GM34: =ROUND(O34+X34+Y34+GK34,2)+GX34 -> 2626.42 | GN34: =IF(OR(BI34=0,BI34=1),ROUND(O34+X34+Y34+GK34,2),0) -> 0 | GO34: =IF(BI34=2,ROUND(O34+X34+Y34+GK34,2),0) -> 2626.42 | GP34: =IF(BI34=4,ROUND(O34+X34+Y34+GK34,2)+GX34,0) -> 0 | GR34: 0 | GS34: 3 | GT34: 0 | GV34: =ROUND(GT34,2) -> 0 | GW34: 1 | GX34: =ROUND(GV34*GW34*I34,2) -> 0 | HA34: 0 | HB34: 0 | IK34: 0
A35: 17 | B35: 1 | C35: =ROW(SmtRes!A45) -> 45 | D35: =ROW(EtalonRes!A39) -> 39 | E35: 6 | F35: м10-08-002-03 | G35: Извещатель ПС автоматический тепловой, дымовой, световой во взрывозащищенном исполнении | H35: ШТ | I35: 399 | J35: 0 | O35: =ROUND(CP35,2) -> 60830.98 | P35: =ROUND(CQ35*I35,2) -> 8373.17 | Q35: =ROUND(CR35*I35,2) -> 0 | R35: =ROUND(CS35*I35,2) -> 0 | S35: =ROUND(CT35*I35,2) -> 52457.81 | T35: =ROUND(CU35*I35,2) -> 0 | U35: =CV35*I35 -> 670.32 | V35: =CW35*I35 -> 0 | W35: =ROUND(CX35*I35,2) -> 0 | X35: =ROUND(CY35,2) -> 41966.25 | Y35: =ROUND(CZ35,2) -> 31474.69 | AA35: 39507101 | AB35: =ROUND((AC35+AD35+AF35),2) -> 23.03 | AC35: =ROUND((ES35),2) -> 3.17 | AD35: =ROUND((((ET35)-(EU35))+AE35),2) -> 0 | AE35: =ROUND((EU35),2) -> 0 | AF35: =ROUND((EV35),2) -> 19.86 | AG35: =ROUND((AP35),2) -> 0 | AH35: =(EW35) -> 1.68 | AI35: =(EX35) -> 0 | AJ35: =ROUND((AS35),2) -> 0 | AK35: 23.03 | AL35: 3.17 | AM35: 0 | AN35: 0 | AO35: 19.86 | AP35: 0 | AQ35: 1.68 | AR35: 0 | AS35: 0 | AT35: 80 | AU35: 60 | AV35: 1 | AW35: 1 | AZ35: 6.62 | BA35: 6.62 | BB35: 6.62 | BC35: 6.62 | BH35: 0 | BI35: 2 | BJ35: ФЕРм-2001, м10-08-002-03, приказ Минстроя России №1039/пр от 30.12.2016г. | BM35: 110011 | BN35: 0 | BP35: 0 | BQ35: 3 | BR35: 0 | BS35: 6.62 | BT35: 1 | BU35: 1 | BV35: 1 | BW35: 1 | BX35: 1 | BZ35: 80 | CA35: 60 | CF35: 0 | CG35: 0 | CM35: 0 | CO35: 0 | CP35: =(P35+Q35+S35) -> 60830.98 | CQ35: =AC35*BC35 -> 20.9854 | CR35: =AD35*BB35 -> 0 | CS35: =AE35*BS35 -> 0 | CT35: =AF35*BA35 -> 131.4732 | CU35: =AG35 -> 0 | CV35: =AH35 -> 1.68 | CW35: =AI35 -> 0 | CX35: =AJ35 -> 0 | CY35: =(((S35+R35)*AT35)/100) -> 41966.248 | CZ35: =(((S35+R35)*AU35)/100) -> 31474.686 | DN35: 0 | DO35: 0 | DP35: 1 | DQ35: 1 | DU35: 1013 | DV35: ШТ | DW35: ШТ | DX35: 1 | EE35: 39174433 | EF35: 3 | EG35: Монтажные работы | EH35: 0 | EJ35: 2 | EK35: 110011 | EL35: Связь: пожарно-охранная сигнализация и пром. телевиз. установки ( отделы 8 и 9 ) (при устройстве средств посадки самолетов : НР=95%, СП=55% - {АВИА}=1) | EM35: мФЕР-10 | EQ35: 0 | ER35: 23.03 | ES35: 3.17 | ET35: 0 | EU35: 0 | EV35: 19.86 | EW35: 1.68 | EX35: 0 | EY35: 0 | FQ35: 0 | FR35: =ROUND(IF(AND(BH35=3,BI35=3),P35,0),2) -> 0 | FS35: 0 | FX35: 80 | FY35: 60 | GD35: 0 | GF35: 723145742 | GG35: 1 | GH35: 1 | GI35: 4 | GJ35: 0 | GK35: =ROUND(R35*(R12)/100,2) -> 0 | GL35: =ROUND(IF(AND(BH35=3,BI35=3,FS35<>0),P35,0),2) -> 0 | GM35: =ROUND(O35+X35+Y35+GK35,2)+GX35 -> 134271.92 | GN35: =IF(OR(BI35=0,BI35=1),ROUND(O35+X35+Y35+GK35,2),0) -> 0 | GO35: =IF(BI35=2,ROUND(O35+X35+Y35+GK35,2),0) -> 134271.92 | GP35: =IF(BI35=4,ROUND(O35+X35+Y35+GK35,2)+GX35,0) -> 0 | GR35: 0 | GS35: 3 | GT35: 0 | GV35: =ROUND(GT35,2) -> 0 | GW35: 1 | GX35: =ROUND(GV35*GW35*I35,2) -> 0 | HA35: 0 | HB35: 0 | IK35: 0
A36: 18 | B36: 1 | C36: 43 | E36: 6,1 | F36: 61.2.02.01-0055 | G36: Извещатель пожарный дымовой ИП-212-7М1А оптико–электронный адресно-аналоговый (ДИП-34А-03) прим | H36: 10 шт. | I36: =I35*J36 -> 36.7 | J36: 0.09197995 | O36: =ROUND(CP36,2) -> 383704.54 | P36: =ROUND(CQ36*I36,2) -> 383704.54 | Q36: =ROUND(CR36*I36,2) -> 0 | R36: =ROUND(CS36*I36,2) -> 0 | S36: =ROUND(CT36*I36,2) -> 0 | T36: =ROUND(CU36*I36,2) -> 0 | U36: =CV36*I36 -> 0 | V36: =CW36*I36 -> 0 | W36: =ROUND(CX36*I36,2) -> 0 | X36: =ROUND(CY36,2) -> 0 | Y36: =ROUND(CZ36,2) -> 0 | AA36: 39507101 | AB36: =ROUND((AC36+AD36+AF36),2) -> 1579.33 | AC36: =ROUND((ES36),2) -> 1579.33 | AD36: =ROUND((((ET36)-(EU36))+AE36),2) -> 0 | AE36: =ROUND((EU36),2) -> 0 | AF36: =ROUND((EV36),2) -> 0 | AG36: =ROUND((AP36),2) -> 0 | AH36: =(EW36) -> 0 | AI36: =(EX36) -> 0 | AJ36: =ROUND((AS36),2) -> 0 | AK36: 1579.33 | AL36: 1579.33 | AM36: 0 | AN36: 0 | AO36: 0 | AP36: 0 | AQ36: 0 | AR36: 0 | AS36: 0 | AT36: 80 | AU36: 60 | AV36: 1 | AW36: 1 | AZ36: 6.62 | BA36: 1 | BB36: 1 | BC36: 6.62 | BH36: 3 | BI36: 2 | BJ36: ФССЦ-2001, 61.2.02.01-0055, приказ Минстроя России №1039/пр от 30.12.2016г. | BM36: 110011 | BN36: 0 | BP36: 0 | BQ36: 3 | BR36: 0 | BS36: 1 | BT36: 1 | BU36: 1 | BV36: 1 | BW36: 1 | BX36: 1 | BZ36: 80 | CA36: 60 | CF36: 0 | CG36: 0 | CM36: 0 | CO36: 0 | CP36: =(P36+Q36+S36) -> 383704.54 | CQ36: =AC36*BC36 -> 10455.165 | CR36: =AD36*BB36 -> 0 | CS36: =AE36*BS36 -> 0 | CT36: =AF36*BA36 -> 0 | CU36: =AG36 -> 0 | CV36: =AH36 -> 0 | CW36: =AI36 -> 0 | CX36: =AJ36 -> 0 | CY36: =(((S36+R36)*AT36)/100) -> 0 | CZ36: =(((S36+R36)*AU36)/100) -> 0 | DN36: 0 | DO36: 0 | DP36: 1 | DQ36: 1 | DU36: 1010 | DV36: 10 шт. | DW36: 10 шт. | DX36: 10 | EE36: 39174433 | EF36: 3 | EG36: Монтажные работы | EH36: 0 | EJ36: 2 | EK36: 110011 | EL36: Связь: пожарно-охранная сигнализация и пром. телевиз. установки ( отделы 8 и 9 ) (при устройстве средств посадки самолетов : НР=95%, СП=55% - {АВИА}=1) | EM36: мФЕР-10 | EQ36: 0 | ER36: 1579.33 | ES36: 1579.33 | ET36: 0 | EU36: 0 | EV36: 0 | EW36: 0 | EX36: 0 | FQ36: 0 | FR36: =ROUND(IF(AND(BH36=3,BI36=3),P36,0),2) -> 0 | FS36: 0 | FX36: 80 | FY36: 60 | GD36: 0 | GF36: -402903967 | GG36: 1 | GH36: 1 | GI36: 4 | GJ36: 0 | GK36: =ROUND(R36*(R12)/100,2) -> 0 | GL36: =ROUND(IF(AND(BH36=3,BI36=3,FS36<>0),P36,0),2) -> 0 | GM36: =ROUND(O36+X36+Y36+GK36,2)+GX36 -> 383704.54 | GN36: =IF(OR(BI36=0,BI36=1),ROUND(O36+X36+Y36+GK36,2),0) -> 0 | GO36: =IF(BI36=2,ROUND(O36+X36+Y36+GK36,2),0) -> 383704.54 | GP36: =IF(BI36=4,ROUND(O36+X36+Y36+GK36,2)+GX36,0) -> 0 | GR36: 0 | GS36: 3 | GT36: 0 | GV36: =ROUND(GT36,2) -> 0 | GW36: 1 | GX36: =ROUND(GV36*GW36*I36,2) -> 0 | HA36: 0 | HB36: 0 | IK36: 0
A37: 18 | B37: 1 | C37: 44 | E37: 6,2 | F37: 61.2.02.02-0051 | G37: Извещатель пожарный тепловой максимально- дифференциальный адресно-аналоговый, марка "С2000-ИП" | H37: шт. | I37: =I35*J37 -> 32 | J37: 0.080200501 | O37: =ROUND(CP37,2) -> 29094.11 | P37: =ROUND(CQ37*I37,2) -> 29094.11 | Q37: =ROUND(CR37*I37,2) -> 0 | R37: =ROUND(CS37*I37,2) -> 0 | S37: =ROUND(CT37*I37,2) -> 0 | T37: =ROUND(CU37*I37,2) -> 0 | U37: =CV37*I37 -> 0 | V37: =CW37*I37 -> 0 | W37: =ROUND(CX37*I37,2) -> 0 | X37: =ROUND(CY37,2) -> 0 | Y37: =ROUND(CZ37,2) -> 0 | AA37: 39507101 | AB37: =ROUND((AC37+AD37+AF37),2) -> 137.34 | AC37: =ROUND((ES37),2) -> 137.34 | AD37: =ROUND((((ET37)-(EU37))+AE37),2) -> 0 | AE37: =ROUND((EU37),2) -> 0 | AF37: =ROUND((EV37),2) -> 0 | AG37: =ROUND((AP37),2) -> 0 | AH37: =(EW37) -> 0 | AI37: =(EX37) -> 0 | AJ37: =ROUND((AS37),2) -> 0 | AK37: 137.34 | AL37: 137.34 | AM37: 0 | AN37: 0 | AO37: 0 | AP37: 0 | AQ37: 0 | AR37: 0 | AS37: 0 | AT37: 80 | AU37: 60 | AV37: 1 | AW37: 1 | AZ37: 6.62 | BA37: 1 | BB37: 1 | BC37: 6.62 | BH37: 3 | BI37: 2 | BJ37: ФССЦ-2001, 61.2.02.02-0051, приказ Минстроя России №1039/пр от 30.12.2016г. | BM37: 110011 | BN37: 0 | BP37: 0 | BQ37: 3 | BR37: 0 | BS37: 1 | BT37: 1 | BU37: 1 | BV37: 1 | BW37: 1 | BX37: 1 | BZ37: 80 | CA37: 60 | CF37: 0 | CG37: 0 | CM37: 0 | CO37: 0 | CP37: =(P37+Q37+S37) -> 29094.11 | CQ37: =AC37*BC37 -> 909.1908 | CR37: =AD37*BB37 -> 0 | CS37: =AE37*BS37 -> 0 | CT37: =AF37*BA37 -> 0 | CU37: =AG37 -> 0 | CV37: =AH37 -> 0 | CW37: =AI37 -> 0 | CX37: =AJ37 -> 0 | CY37: =(((S37+R37)*AT37)/100) -> 0 | CZ37: =(((S37+R37)*AU37)/100) -> 0 | DN37: 0 | DO37: 0 | DP37: 1 | DQ37: 1 | DU37: 1010 | DV37: шт. | DW37: шт. | DX37: 1 | EE37: 39174433 | EF37: 3 | EG37: Монтажные работы | EH37: 0 | EJ37: 2 | EK37: 110011 | EL37: Связь: пожарно-охранная сигнализация и пром. телевиз. установки ( отделы 8 и 9 ) (при устройстве средств посадки самолетов : НР=95%, СП=55% - {АВИА}=1) | EM37: мФЕР-10 | EQ37: 0 | ER37: 137.34 | ES37: 137.34 | ET37: 0 | EU37: 0 | EV37: 0 | EW37: 0 | EX37: 0 | FQ37: 0 | FR37: =ROUND(IF(AND(BH37=3,BI37=3),P37,0),2) -> 0 | FS37: 0 | FX37: 80 | FY37: 60 | GD37: 0 | GF37: 969383451 | GG37: 1 | GH37: 1 | GI37: 4 | GJ37: 0 | GK37: =ROUND(R37*(R12)/100,2) -> 0 | GL37: =ROUND(IF(AND(BH37=3,BI37=3,FS37<>0),P37,0),2) -> 0 | GM37: =ROUND(O37+X37+Y37+GK37,2)+GX37 -> 29094.11 | GN37: =IF(OR(BI37=0,BI37=1),ROUND(O37+X37+Y37+GK37,2),0) -> 0 | GO37: =IF(BI37=2,ROUND(O37+X37+Y37+GK37,2),0) -> 29094.11 | GP37: =IF(BI37=4,ROUND(O37+X37+Y37+GK37,2)+GX37,0) -> 0 | GR37: 0 | GS37: 3 | GT37: 0 | GV37: =ROUND(GT37,2) -> 0 | GW37: 1 | GX37: =ROUND(GV37*GW37*I37,2) -> 0 | HA37: 0 | HB37: 0 | IK37: 0
A38: 17 | B38: 1 | C38: =ROW(SmtRes!A51) -> 51 | D38: =ROW(EtalonRes!A44) -> 44 | E38: 7 | F38: м10-08-001-01 прим. | G38: Приборы ПС приемно-контрольные, пусковые, концентратор блок базовый на 10 лучей | H38: ШТ | I38: 18 | J38: 0 | O38: =ROUND(CP38,2) -> 9656.73 | P38: =ROUND(CQ38*I38,2) -> 1025.97 | Q38: =ROUND(CR38*I38,2) -> 0 | R38: =ROUND(CS38*I38,2) -> 0 | S38: =ROUND(CT38*I38,2) -> 8630.76 | T38: =ROUND(CU38*I38,2) -> 0 | U38: =CV38*I38 -> 129.6 | V38: =CW38*I38 -> 0 | W38: =ROUND(CX38*I38,2) -> 0 | X38: =ROUND(CY38,2) -> 6904.61 | Y38: =ROUND(CZ38,2) -> 5178.46 | AA38: 39507101 | AB38: =ROUND((AC38+AD38+AF38),2) -> 81.04 | AC38: =ROUND((ES38),2) -> 8.61 | AD38: =ROUND((((ET38)-(EU38))+AE38),2) -> 0 | AE38: =ROUND((EU38),2) -> 0 | AF38: =ROUND((EV38),2) -> 72.43 | AG38: =ROUND((AP38),2) -> 0 | AH38: =(EW38) -> 7.2 | AI38: =(EX38) -> 0 | AJ38: =ROUND((AS38),2) -> 0 | AK38: 81.04 | AL38: 8.61 | AM38: 0 | AN38: 0 | AO38: 72.43 | AP38: 0 | AQ38: 7.2 | AR38: 0 | AS38: 0 | AT38: 80 | AU38: 60 | AV38: 1 | AW38: 1 | AZ38: 6.62 | BA38: 6.62 | BB38: 6.62 | BC38: 6.62 | BH38: 0 | BI38: 2 | BJ38: ФЕРм-2001, м10-08-001-01, приказ Минстроя России №1039/пр от 30.12.2016г. | BM38: 110011 | BN38: 0 | BP38: 0 | BQ38: 3 | BR38: 0 | BS38: 6.62 | BT38: 1 | BU38: 1 | BV38: 1 | BW38: 1 | BX38: 1 | BZ38: 80 | CA38: 60 | CF38: 0 | CG38: 0 | CM38: 0 | CO38: 0 | CP38: =(P38+Q38+S38) -> 9656.73 | CQ38: =AC38*BC38 -> 56.9982 | CR38: =AD38*BB38 -> 0 | CS38: =AE38*BS38 -> 0 | CT38: =AF38*BA38 -> 479.4866 | CU38: =AG38 -> 0 | CV38: =AH38 -> 7.2 | CW38: =AI38 -> 0 | CX38: =AJ38 -> 0 | CY38: =(((S38+R38)*AT38)/100) -> 6904.608 | CZ38: =(((S38+R38)*AU38)/100) -> 5178.456 | DN38: 0 | DO38: 0 | DP38: 1 | DQ38: 1 | DU38: 1013 | DV38: ШТ | DW38: ШТ | DX38: 1 | EE38: 39174433 | EF38: 3 | EG38: Монтажные работы | EH38: 0 | EJ38: 2 | EK38: 110011 | EL38: Связь: пожарно-охранная сигнализация и пром. телевиз. установки ( отделы 8 и 9 ) (при устройстве средств посадки самолетов : НР=95%, СП=55% - {АВИА}=1) | EM38: мФЕР-10 | EQ38: 0 | ER38: 81.04 | ES38: 8.61 | ET38: 0 | EU38: 0 | EV38: 72.43 | EW38: 7.2 | EX38: 0 | EY38: 0 | FQ38: 0 | FR38: =ROUND(IF(AND(BH38=3,BI38=3),P38,0),2) -> 0 | FS38: 0 | FX38: 80 | FY38: 60 | GD38: 0 | GF38: -1258098485 | GG38: 1 | GH38: 1 | GI38: 4 | GJ38: 0 | GK38: =ROUND(R38*(R12)/100,2) -> 0 | GL38: =ROUND(IF(AND(BH38=3,BI38=3,FS38<>0),P38,0),2) -> 0 | GM38: =ROUND(O38+X38+Y38+GK38,2)+GX38 -> 21739.8 | GN38: =IF(OR(BI38=0,BI38=1),ROUND(O38+X38+Y38+GK38,2),0) -> 0 | GO38: =IF(BI38=2,ROUND(O38+X38+Y38+GK38,2),0) -> 21739.8 | GP38: =IF(BI38=4,ROUND(O38+X38+Y38+GK38,2)+GX38,0) -> 0 | GR38: 0 | GS38: 3 | GT38: 0 | GV38: =ROUND(GT38,2) -> 0 | GW38: 1 | GX38: =ROUND(GV38*GW38*I38,2) -> 0 | HA38: 0 | HB38: 0 | IK38: 0
A39: 18 | B39: 1 | C39: 50 | E39: 7,1 | F39: 61.2.07.02-0051 | G39: Блок разветвительно-изолирующий, марка "БРИЗ", размер 50x30x25 мм | H39: 10 шт. | I39: =I38*J39 -> 1.8 | J39: 0.1 | O39: =ROUND(CP39,2) -> 8200.59 | P39: =ROUND(CQ39*I39,2) -> 8200.59 | Q39: =ROUND(CR39*I39,2) -> 0 | R39: =ROUND(CS39*I39,2) -> 0 | S39: =ROUND(CT39*I39,2) -> 0 | T39: =ROUND(CU39*I39,2) -> 0 | U39: =CV39*I39 -> 0 | V39: =CW39*I39 -> 0 | W39: =ROUND(CX39*I39,2) -> 0 | X39: =ROUND(CY39,2) -> 0 | Y39: =ROUND(CZ39,2) -> 0 | AA39: 39507101 | AB39: =ROUND((AC39+AD39+AF39),2) -> 688.2 | AC39: =ROUND((ES39),2) -> 688.2 | AD39: =ROUND((((ET39)-(EU39))+AE39),2) -> 0 | AE39: =ROUND((EU39),2) -> 0 | AF39: =ROUND((EV39),2) -> 0 | AG39: =ROUND((AP39),2) -> 0 | AH39: =(EW39) -> 0 | AI39: =(EX39) -> 0 | AJ39: =ROUND((AS39),2) -> 0 | AK39: 688.2 | AL39: 688.2 | AM39: 0 | AN39: 0 | AO39: 0 | AP39: 0 | AQ39: 0 | AR39: 0 | AS39: 0 | AT39: 80 | AU39: 60 | AV39: 1 | AW39: 1 | AZ39: 6.62 | BA39: 1 | BB39: 1 | BC39: 6.62 | BH39: 3 | BI39: 2 | BJ39: ФССЦ-2001, 61.2.07.02-0051, приказ Минстроя России №1039/пр от 30.12.2016г. | BM39: 110011 | BN39: 0 | BP39: 0 | BQ39: 3 | BR39: 0 | BS39: 1 | BT39: 1 | BU39: 1 | BV39: 1 | BW39: 1 | BX39: 1 | BZ39: 80 | CA39: 60 | CF39: 0 | CG39: 0 | CM39: 0 | CO39: 0 | CP39: =(P39+Q39+S39) -> 8200.59 | CQ39: =AC39*BC39 -> 4555.884 | CR39: =AD39*BB39 -> 0 | CS39: =AE39*BS39 -> 0 | CT39: =AF39*BA39 -> 0 | CU39: =AG39 -> 0 | CV39: =AH39 -> 0 | CW39: =AI39 -> 0 | CX39: =AJ39 -> 0 | CY39: =(((S39+R39)*AT39)/100) -> 0 | CZ39: =(((S39+R39)*AU39)/100) -> 0 | DN39: 0 | DO39: 0 | DP39: 1 | DQ39: 1 | DU39: 1010 | DV39: 10 шт. | DW39: 10 шт. | DX39: 10 | EE39: 39174433 | EF39: 3 | EG39: Монтажные работы | EH39: 0 | EJ39: 2 | EK39: 110011 | EL39: Связь: пожарно-охранная сигнализация и пром. телевиз. установки ( отделы 8 и 9 ) (при устройстве средств посадки самолетов : НР=95%, СП=55% - {АВИА}=1) | EM39: мФЕР-10 | EQ39: 0 | ER39: 688.2 | ES39: 688.2 | ET39: 0 | EU39: 0 | EV39: 0 | EW39: 0 | EX39: 0 | FQ39: 0 | FR39: =ROUND(IF(AND(BH39=3,BI39=3),P39,0),2) -> 0 | FS39: 0 | FX39: 80 | FY39: 60 | GD39: 0 | GF39: 402703790 | GG39: 1 | GH39: 1 | GI39: 4 | GJ39: 0 | GK39: =ROUND(R39*(R12)/100,2) -> 0 | GL39: =ROUND(IF(AND(BH39=3,BI39=3,FS39<>0),P39,0),2) -> 0 | GM39: =ROUND(O39+X39+Y39+GK39,2)+GX39 -> 8200.59 | GN39: =IF(OR(BI39=0,BI39=1),ROUND(O39+X39+Y39+GK39,2),0) -> 0 | GO39: =IF(BI39=2,ROUND(O39+X39+Y39+GK39,2),0) -> 8200.59 | GP39: =IF(BI39=4,ROUND(O39+X39+Y39+GK39,2)+GX39,0) -> 0 | GR39: 0 | GS39: 3 | GT39: 0 | GV39: =ROUND(GT39,2) -> 0 | GW39: 1 | GX39: =ROUND(GV39*GW39*I39,2) -> 0 | HA39: 0 | HB39: 0 | IK39: 0
A40: 17 | B40: 1 | C40: =ROW(SmtRes!A54) -> 54 | D40: =ROW(EtalonRes!A46) -> 46 | E40: 8 | F40: м10-01-039-06 прим. | G40: Реле, ключ, кнопка и др. с подготовкой места установки | H40: ШТ | I40: 11 | J40: 0 | O40: =ROUND(CP40,2) -> 1267.07 | P40: =ROUND(CQ40*I40,2) -> 24.76 | Q40: =ROUND(CR40*I40,2) -> 0 | R40: =ROUND(CS40*I40,2) -> 0 | S40: =ROUND(CT40*I40,2) -> 1242.31 | T40: =ROUND(CU40*I40,2) -> 0 | U40: =CV40*I40 -> 22 | V40: =CW40*I40 -> 0 | W40: =ROUND(CX40*I40,2) -> 0 | X40: =ROUND(CY40,2) -> 993.85 | Y40: =ROUND(CZ40,2) -> 745.39 | AA40: 39507101 | AB40: =ROUND((AC40+AD40+AF40),2) -> 17.4 | AC40: =ROUND((ES40),2) -> 0.34 | AD40: =ROUND((((ET40)-(EU40))+AE40),2) -> 0 | AE40: =ROUND((EU40),2) -> 0 | AF40: =ROUND((EV40),2) -> 17.06 | AG40: =ROUND((AP40),2) -> 0 | AH40: =(EW40) -> 2 | AI40: =(EX40) -> 0 | AJ40: =ROUND((AS40),2) -> 0 | AK40: 17.4 | AL40: 0.34 | AM40: 0 | AN40: 0 | AO40: 17.06 | AP40: 0 | AQ40: 2 | AR40: 0 | AS40: 0 | AT40: 80 | AU40: 60 | AV40: 1 | AW40: 1 | AZ40: 6.62 | BA40: 6.62 | BB40: 6.62 | BC40: 6.62 | BH40: 0 | BI40: 2 | BJ40: ФЕРм-2001, м10-01-039-06, приказ Минстроя России №1039/пр от 30.12.2016г. | BM40: 110001 | BN40: 0 | BP40: 0 | BQ40: 3 | BR40: 0 | BS40: 6.62 | BT40: 1 | BU40: 1 | BV40: 1 | BW40: 1 | BX40: 1 | BZ40: 80 | CA40: 60 | CF40: 0 | CG40: 0 | CM40: 0 | CO40: 0 | CP40: =(P40+Q40+S40) -> 1267.07 | CQ40: =AC40*BC40 -> 2.2508 | CR40: =AD40*BB40 -> 0 | CS40: =AE40*BS40 -> 0 | CT40: =AF40*BA40 -> 112.9372 | CU40: =AG40 -> 0 | CV40: =AH40 -> 2 | CW40: =AI40 -> 0 | CX40: =AJ40 -> 0 | CY40: =(((S40+R40)*AT40)/100) -> 993.848 | CZ40: =(((S40+R40)*AU40)/100) -> 745.386 | DN40: 0 | DO40: 0 | DP40: 1 | DQ40: 1 | DU40: 1013 | DV40: ШТ | DW40: ШТ | DX40: 1 | EE40: 39174389 | EF40: 3 | EG40: Монтажные работы | EH40: 0 | EJ40: 2 | EK40: 110001 | EL40: Связь: городская, местная, междугородняя проводная телефонная связь ( отделы 1, 2, 3 ) - ( при уст-ве средств посадки самолетов: {AВИА}=1 - НР=95%, СП=55% ) | EM40: мФЕР-10 | EQ40: 0 | ER40: 17.4 | ES40: 0.34 | ET40: 0 | EU40: 0 | EV40: 17.06 | EW40: 2 | EX40: 0 | EY40: 0 | FQ40: 0 | FR40: =ROUND(IF(AND(BH40=3,BI40=3),P40,0),2) -> 0 | FS40: 0 | FX40: 80 | FY40: 60 | GD40: 0 | GF40: -86702790 | GG40: 1 | GH40: 1 | GI40: 4 | GJ40: 0 | GK40: =ROUND(R40*(R12)/100,2) -> 0 | GL40: =ROUND(IF(AND(BH40=3,BI40=3,FS40<>0),P40,0),2) -> 0 | GM40: =ROUND(O40+X40+Y40+GK40,2)+GX40 -> 3006.31 | GN40: =IF(OR(BI40=0,BI40=1),ROUND(O40+X40+Y40+GK40,2),0) -> 0 | GO40: =IF(BI40=2,ROUND(O40+X40+Y40+GK40,2),0) -> 3006.31 | GP40: =IF(BI40=4,ROUND(O40+X40+Y40+GK40,2)+GX40,0) -> 0 | GR40: 0 | GS40: 3 | GT40: 0 | GV40: =ROUND(GT40,2) -> 0 | GW40: 1 | GX40: =ROUND(GV40*GW40*I40,2) -> 0 | HA40: 0 | HB40: 0 | IK40: 0
