Workbook
Name Constr: '25033'!#REF!
Name Constr: '25074'!$A$1
Name Constr: '25079'!$A$7
Name Constr: '25081'!$A$7
Name Constr: '25082'!$A$7
Name Constr: '25083'!$A$7
Name Constr: '25085'!$A$7
Name FOT: '25033'!$D$13
Name FOT: '25074'!$D$16
Name FOT: '25079'!$D$13
Name FOT: '25081'!$D$17
Name FOT: '25082'!$D$17
Name FOT: '25083'!$D$14
Name FOT: '25085'!$D$17
Name Ind: '25033'!#REF!
Name Ind: '25074'!#REF!
Name Ind: '25079'!$H$9
Name Ind: '25081'!$H$9
Name Ind: '25082'!$H$9
Name Ind: '25083'!$H$9
Name Ind: '25085'!$H$9
Name Obj: '25033'!$E$7
Name Obj: '25074'!$D$7
Name Obj: '25079'!#REF!
Name Obj: '25081'!#REF!
Name Obj: '25082'!#REF!
Name Obj: '25083'!#REF!
Name Obj: '25085'!#REF!
Name Obosn: '25033'!$D$11
Name Obosn: '25074'!$D$11
Name Obosn: '25079'!$D$11
Name Obosn: '25081'!$D$13
Name Obosn: '25082'!$D$13
Name Obosn: '25083'!$D$12
Name Obosn: '25085'!$D$13
Name SmPr: '25033'!$D$12
Name SmPr: '25074'!$D$12
Name SmPr: '25079'!$D$12
Name SmPr: '25081'!$D$14
Name SmPr: '25082'!$D$14
Name SmPr: '25083'!$D$13
Name SmPr: '25085'!$D$14
Name аааааппппппрррппппппп: #REF!
Name аааааппппппрррппппппп: #REF!
Name аараооооооооооооо: #REF!
Name аараооооооооооооо: #REF!
Name автом: #REF!
Name автом: #REF!
Name алшрльоплварл: #REF!
Name алшрльоплварл: #REF!
Name аолвлддддддддддддддддввввввввв: #REF!
Name аолвлддддддддддддддддввввввввв: #REF!
Name апарв: #REF!
Name апарв: #REF!
Name апрлдджаоырыфрпопрлпрлпрлп: #REF!
Name апрлдджаоырыфрпопрлпрлпрлп: #REF!
Name арлггаджаш: #REF!
Name арлггаджаш: #REF!
Name ароррбллтблпроорапииас: #REF!
Name ароррбллтблпроорапииас: #REF!

Sheet 25033
A1: СОГЛАСОВАНО: | E1: ФГУП "Комбинат "Электрохимприбор" | M1: УТВЕРЖДАЮ:
G2: (наименование стройки) | M2: Зам. генерального директора
A3: _____________________________ | M3: Е.В.Гордеев
A4: " _____ " ________________ 2013г. | G4: ЛОКАЛЬНЫЙ СМЕТНЫЙ РАСЧЕТ № 25033
G5: (локальная смета) | M5: "______ " __________2013 г.
C7: на | D7: Реконструкцию помещений для отдела 031. Ул.Мамина-Сибиряка 3 (инв.№ 4900006)
E8: Раздел: Водопровод и канализация.
H9: (наименование работ и затрат, наименование объекта)
D11: Основание: Проект № 24692-13-ВК
D12: Сметная стоимость строительных работ _______________________________________________________________________________________________ | J12: ___________________________17,357 | L12: тыс. руб.
D13: Средства на оплату труда _______________________________________________________________________________________________ | J13: ___________________________2,251 | L13: тыс. руб.
D14: Сметная трудоемкость _______________________________________________________________________________________________ | J14: _______________________________________________________________________________________________162,78 | L14: чел.час
D15: Материалы ___________________________________________________________ | J15: =J89/1000 -> 10.387 | L15: тыс.руб.
D16: Составлен(а) в базовых ценах 2001г. в редакции 2009г.
A18: № пп | B18: Обоснование | C18: Наименование | D18: Ед. изм. | E18: Кол. | F18: Стоимость единицы, руб. | J18: Общая стоимость, руб. | N18: Т/з осн. раб.на ед. | O18: Т/з осн. раб. Всего | P18: Т/з мех. на ед. | Q18: Т/з мех. Всего
F19: Всего | G19: В том числе | J19: Всего | K19: В том числе
G20: Осн.З/п | H20: Эк.Маш | I20: З/пМех | K20: Осн.З/п | L20: Эк.Маш | M20: З/пМех
A21: 1 | B21: 2 | C21: 3 | D21: 4 | E21: 5 | F21: 6 | G21: 7 | H21: 8 | I21: 9 | J21: 10 | K21: 11 | L21: 12 | M21: 13 | N21: 14 | O21: 15 | P21: 16 | Q21: 17
A22: Раздел 1. Разборка.
A23: 1 | B23: ТЕРр65-2-2 | C23: Разборка трубопроводов из чугунных канализационных труб диаметром 100 мм | D23: 100 м | E23: 0.05 | F23: 1028.82 | G23: 1015.92 | H23: 12.9 | I23: 5 | J23: 51 | K23: 51 | N23: 85.3 | O23: 4.27 | P23: 0.32 | Q23: 0.02
A24: 2 | B24: ТЕРр65-2-1 | C24: Разборка трубопроводов из чугунных канализационных труб диаметром 50 мм | D24: 100 м | E24: 0.065 | F24: 825.86 | G24: 819.41 | H24: 6.45 | I24: 2.5 | J24: 54 | K24: 54 | N24: 68.8 | O24: 4.47 | P24: 0.16 | Q24: 0.01
A25: 3 | B25: ТЕРр65-4-2 | C25: Демонтаж унитазов и писсуаров | D25: 100 приборов | E25: 0.09 | F25: 778.41 | G25: 766.72 | H25: 11.69 | I25: 4.53 | J25: 70 | K25: 69 | L25: 1 | N25: 63.84 | O25: 5.75 | P25: 0.29 | Q25: 0.03
A26: 4 | B26: ТЕРр65-4-1 | C26: Демонтаж умывальников и раковин | D26: 100 приборов | E26: 0.03 | F26: 626.59 | G26: 616.11 | H26: 10.48 | I26: 4.06 | J26: 19 | K26: 19 | N26: 51.3 | O26: 1.54 | P26: 0.26 | Q26: 0.01
A27: 5 | B27: ТЕРр65-1-1 | C27: Разборка трубопроводов из водогазопроводных труб диаметром до 32 мм | D27: 100 м | E27: 0.245 | F27: 483.12 | G27: 405.87 | H27: 8.12 | I27: 1.56 | J27: 118 | K27: 99 | L27: 2 | N27: 34.66 | O27: 8.49 | P27: 0.1 | Q27: 0.02
A28: 6 | B28: ТЕРр65-3-13 | C28: Снятие задвижек диаметром до 100 мм | D28: 100 шт. | E28: 0.01 | F28: 1154.63 | G28: 1144.55 | H28: 10.08 | I28: 3.91 | J28: 12 | K28: 12 | N28: 95.3 | O28: 0.95 | P28: 0.25
A29: Раздел 2. Система В1.
A30: 7 | B30: ТЕР16-02-002-04 | C30: Прокладка трубопроводов водоснабжения из стальных водогазопроводных оцинкованных труб диаметром 32 мм | D30: 100 м | E30: 0.06 | F30: 7311.57 | G30: 502.3 | H30: 79.16 | I30: 2.73 | J30: 439 | K30: 30 | L30: 5 | N30: 37.07 | O30: 2.22 | P30: 0.15 | Q30: 0.01
A31: 8 | B31: ТЕР16-03-002-03 | C31: Прокладка трубопроводов водоснабжения из многослойных металл-полимерных труб диаметром 25 мм | D31: 100 м | E31: 0.055 | F31: 10428.34 | G31: 1417.28 | H31: 68.47 | I31: 1.27 | J31: 574 | K31: 78 | L31: 4 | N31: 103 | O31: 5.67 | P31: 0.07
A32: 9 | B32: ТЕР16-03-002-01 | C32: Прокладка трубопроводов водоснабжения из многослойных металл-полимерных труб диаметром 15 мм | D32: 100 м | E32: 0.155 | F32: 6136.29 | G32: 1541.12 | H32: 66.7 | I32: 1.27 | J32: 951 | K32: 239 | L32: 10 | N32: 112 | O32: 17.36 | P32: 0.07 | Q32: 0.01
A33: 10 | B33: ТСЦ-301-1224 | C33: Крепления для трубопроводов: кронштейны, планки, хомуты | D33: кг | E33: 5.4 | F33: 17.02 | J33: 92
A34: 11 | B34: ТЕР16-05-001-02 | C34: Установка вентилей, клапанов диаметром до 50 мм | D34: 1 шт. | E34: 17 | F34: 138.58 | G34: 18.79 | H34: 5.32 | J34: 2356 | K34: 319 | L34: 90 | N34: 1.47 | O34: 24.99
A35: 12 | B35: ТСЦ-302-1831 | C35: Кран шаровой муфтовый 11Б27П, диаметром 15 мм | D35: шт. | E35: 13 | F35: 25.14 | J35: 327
A36: 13 | B36: ТСЦ-302-1832 | C36: Кран шаровой муфтовый 11Б27П, диаметром 20 мм | D36: шт. | E36: 2 | F36: 39.32 | J36: 79
A37: 14 | B37: ФССЦ-302-1306 | C37: Вентили проходные муфтовые 15Б1БК для воды и пара давлением 1,6 МПа (16 кгс/см2), диаметром 32 мм КОЭФ. К ПОЗИЦИИ: Проведение расценок ФЕР к территориальному уровню (Письмо УРЦЦС Ц-297 от 12.04.2011) ОЗП=1,41; ЭМ=1,242; ЗПМ=1,41; МАТ=1,052 | D37: шт. | E37: 2 | F37: 102.63 | J37: 205
A38: 15 | B38: ТЕР16-07-003-03 | C38: Врезка в действующие внутренние сети трубопроводов отопления и водоснабжения диаметром 25 мм | D38: 1 врезка | E38: 4 | F38: 127.66 | G38: 62.31 | H38: 5.56 | J38: 511 | K38: 249 | L38: 22 | N38: 4.46 | O38: 17.84
A39: 16 | B39: ТЕР18-07-001-02 | C39: Установка манометров с трехходовым краном | D39: 1 компл. | E39: 1 | F39: 244.31 | G39: 3.07 | J39: 244 | K39: 3 | N39: 0.22 | O39: 0.22
A40: 17 | B40: ТЕР16-06-005-01 | C40: Установка счетчиков (водомеров) диаметром до 40 мм | D40: 1 счетчик (водомер) | E40: 1 | F40: 7.47 | G40: 5.43 | H40: 1.09 | J40: 7 | K40: 5 | L40: 1 | N40: 0.41 | O40: 0.41
A41: Уд | B41: 1. 301-3165 | C41: Счетчики (водомеры) крыльчатые диаметром 32 мм | D41: шт. | E41: 1 1 | F41: 1258.9 | J41: 1258.9
A42: 18 | B42: ТСЦ-301-3182 | C42: Счетчики (водомеры) крыльчатые диаметром 20 мм | D42: шт. | E42: 1 | F42: 214.47 | J42: 214
A43: 19 | B43: ТЕР18-06-007-02 | C43: Установка фильтров диаметром 32 мм | D43: 10 фильтров | E43: 0.1 | F43: 6207.34 | G43: 108.39 | H43: 62.45 | I43: 0.55 | J43: 621 | K43: 11 | L43: 6 | N43: 8.18 | O43: 0.82 | P43: 0.03
...

Sheet 25074
A1: СОГЛАСОВАНО: | E1: ФГУП "Комбинат "Электрохимприбор" | M1: УТВЕРЖДАЮ:
G2: (наименование стройки) | M2: Зам. генерального директора
A3: _____________________________ | M3: Е.В.Гордеев
A4: " _____ " ________________ 2013г. | G4: ЛОКАЛЬНЫЙ СМЕТНЫЙ РАСЧЕТ № 25074
G5: (локальная смета) | M5: "______ " __________2013 г.
C7: на | D7: Реконструкцию помещений для отдела 031. Город ул.Мамина-Сибиряка 3
D8: (правое крыло,первый этаж) (Инв.№ 4900006) Раздел: Кондиционирование.
G9: (наименование работ и затрат, наименование объекта)
D11: Основание: Проект № 24716-13-ОВ
D12: Сметная стоимость _______________________________________________________________________________________________ | J12: ___________________________165,563 | L12: тыс. руб.
D13: строительных работ _______________________________________________________________________________________________ | J13: _______________________________________________________________________________________________78,335 | L13: тыс. руб.
D14: монтажных работ _______________________________________________________________________________________________ | J14: _______________________________________________________________________________________________4,213 | L14: тыс. руб.
D15: оборудования _______________________________________________________________________________________________ | J15: _______________________________________________________________________________________________83,015 | L15: тыс. руб.
D16: Средства на оплату труда _______________________________________________________________________________________________ | J16: ___________________________17,479 | L16: тыс. руб.
D17: Сметная трудоемкость _______________________________________________________________________________________________ | J17: _______________________________________________________________________________________________1260,95 | L17: чел.час
D18: Материалы ___________________________________________________________ | J18: =K85/1000 -> 25.464 | L18: тыс.руб.
D19: Составлен(а) в базовых ценах 2001г. в редакции 2009г.
A21: № пп | B21: Обоснова-ние | C21: Наименование | D21: Ед. изм. | E21: Кол. | F21: Стоимость единицы, руб. | J21: Общая стоимость, руб. | O21: Т/з осн. раб.на ед. | P21: Т/з осн. раб. Всего | Q21: Общая масса обору-дования, т
F22: Всего | G22: В том числе | J22: Обору-дование | K22: Всего | L22: В том числе
G23: Осн.З/п | H23: Эк.Маш | I23: З/пМех | L23: Осн.З/п | M23: Эк.Маш | N23: З/пМех
A24: 1 | B24: 2 | C24: 3 | D24: 4 | E24: 5 | F24: 6 | G24: 7 | H24: 8 | I24: 9 | J24: 10 | K24: 11 | L24: 12 | M24: 13 | N24: 14 | O24: 15 | P24: 16 | Q24: 17
A25: Раздел 1. Кондиционирование.
A26: 1 | B26: ТЕР20-06-002-01 прим. | C26: Установка наружного блока сплит-системы Panaconik CS/CU-E7 JKDW | D26: 1 блок | E26: 8 | F26: 965.62 | G26: 565.61 | H26: 115.2 | I26: 4 | K26: 7725 | L26: 4525 | M26: 922 | N26: 32 | O26: 43.71 | P26: 349.68
A27: 2 | B27: ТЕР20-06-004-01 прим. | C27: Установка внутреннего блока сплит-системы Panaconik CS/CU-E7 JKDW | D27: 1 блок | E27: 8 | F27: 876.98 | G27: 172.22 | H27: 40.4 | I27: 2.18 | K27: 7016 | L27: 1378 | M27: 323 | N27: 17 | O27: 12.71 | P27: 101.68
A28: 3 | B28: Цена поставщика. | C28: Стоимость сплит-системы настенного типа Panaconik CS/CU-E7 JKDW | D28: комплект | E28: 8 | F28: 26983,00/1,18/4,19*1,012*1,01*1,03 | J28: 45965 | K28: 45965
A29: 4 | B29: ТЕРм12-01-105-01 | C29: Трубопровод из медных труб | D29: 100 м | E29: 0.32 | F29: 1654.94 | G29: 1196.47 | H29: 359.37 | I29: 25.11 | K29: 530 | L29: 383 | M29: 115 | N29: 8 | O29: 88.3 | P29: 28.26
A30: 5 | B30: ФССЦ-507-2958 | C30: Трубы медные КОЭФ. К ПОЗИЦИИ: Проведение расценок ФЕР к территориальному уровню (Письмо УРЦЦС Ц-297 от 12.04.2011) ОЗП=1,41; ЭМ=1,242; ЗПМ=1,41; МАТ=1,052 | D30: м | E30: 32 | F30: 25.53 | K30: 817
A31: 6 | B31: ТЕРм12-01-163-01 | C31: Прокладка трубки дренажной | D31: 10 м | E31: 3.2 | F31: 180.8 | G31: 147.7 | H31: 25.75 | I31: 0.18 | K31: 579 | L31: 473 | M31: 82 | N31: 1 | O31: 10.9 | P31: 34.88
A32: 7 | B32: ФССЦ-301-1348 прим. | C32: Трубки дренажные для систем кондиционирования КОЭФ. К ПОЗИЦИИ: Проведение расценок ФЕР к территориальному уровню (Письмо УРЦЦС Ц-297 от 12.04.2011) ОЗП=1,41; ЭМ=1,242; ЗПМ=1,41; МАТ=1,052 | D32: м | E32: 32 | F32: 7.5 | K32: 240
A33: 8 | B33: ТЕР26-01-017-01 | C33: Изоляция трубопроводов изделиями из вспененного полиэтилена («Термофлекс») трубками | D33: 10 м | E33: 3.2 | F33: 1189.41 | G33: 49.17 | H33: 28.25 | K33: 3806 | L33: 157 | M33: 90 | O33: 3.52 | P33: 11.26
A34: 9 | B34: ТЕР20-02-019-01 прим. | C34: Установка кронштейнов | D34: 100 кг изделия | E34: 0.24 | F34: 107.98 | G34: 77.9 | H34: 14.44 | K34: 26 | L34: 19 | M34: 3 | O34: 6.02 | P34: 1.44
A35: Уд | B35: 1. 101-1714 | C35: Болты с гайками и шайбами строительные | D35: т | E35: 0,0007 0,000168 | F35: 16800 | K35: 2.82
A36: Уд | B36: 2. 301-1193 | C36: Кронштейны и подставки под оборудование из сортовой стали | D36: кг | E36: 100 24 | F36: 10.36 | K36: 248.64
A37: 10 | B37: ФССЦ-111-0079 | C37: Узел крепления кронштейна окрашенный КОЭФ. К ПОЗИЦИИ: Проведение расценок ФЕР к территориальному уровню (Письмо УРЦЦС Ц-297 от 12.04.2011) ОЗП=1,41; ЭМ=1,242; ЗПМ=1,41; МАТ=1,052 | D37: шт. | E37: 8 | F37: 135.49 | K37: 1084
A38: 11 | B38: ТЕР12-01-010-01 прим. | C38: Устройство защитного козырька из листовой оцинкованной стали над внешним блоком | D38: 100 м2 | E38: 0.019 | F38: 15322.3 | G38: 1354.13 | H38: 58.83 | I38: 3.64 | K38: 291 | L38: 26 | M38: 1 | O38: 112.75 | P38: 2.14
A39: 12 | B39: ТСЦ-103-0057 | C39: Трубы стальные водогазопроводные диаметр условного прохода 90 мм, (Для гильзы) | D39: м | E39: 8 | F39: 112.99 | K39: 904
A40: 13 | B40: ТЕР46-03-009-08 | C40: Пробивка в кирпичных стенах отверстий круглых диаметром до 50 мм при толщине стен до 51 см | D40: 100 шт. | E40: 0.08 | F40: 5264.08 | G40: 1256.86 | H40: 4007.22 | I40: 443.92 | K40: 421 | L40: 101 | M40: 320 | N40: 36 | O40: 97.13 | P40: 7.77
A41: 14 | B41: ТЕРр69-4-1 | C41: Заделка отверстий в местах прохода трубопроводов в стенах и перегородках оштукатуренных | D41: 100 отверстий | E41: 0.08 | F41: 1343.1 | G41: 944.71 | H41: 2.02 | I41: 0.78 | K41: 107 | L41: 76 | O41: 78.66 | P41: 6.29
A42: 15 | B42: ТЕР20-06-002-01 прим. | C42: Установка наружного блока сплит-системы Panaconik CS/CU-E9 JKDW | D42: 1 блок | E42: 6 | F42: 965.62 | G42: 565.61 | H42: 115.2 | I42: 4 | K42: 5794 | L42: 3394 | M42: 691 | N42: 24 | O42: 43.71 | P42: 262.26
A43: 16 | B43: ТЕР20-06-004-01 прим. | C43: Установка внутреннего блока сплит-системы Panaconik CS/CU-E9 JKDW | D43: 1 блок | E43: 6 | F43: 876.98 | G43: 172.22 | H43: 40.4 | I43: 2.18 | K43: 5262 | L43: 1033 | M43: 242 | N43: 13 | O43: 12.71 | P43: 76.26
...

Sheet 25079
A1: СОГЛАСОВАНО: | E1: ФГУП "Комбинат "Электрохимприбор" | M1: УТВЕРЖДАЮ:
G2: (наименование стройки) | M2: Зам. генерального директора
A3: _____________________________ | M3: Е.В.Гордеев
A4: " _____ " ________________ 2013г. | G4: ЛОКАЛЬНЫЙ СМЕТНЫЙ РАСЧЕТ № 25079
G5: (локальная смета) | M5: "______ " __________2013 г.
C7: на | D7: Реконструкцию помещений для отдела 031. Город ул.Мамина-Сибиряка 3
D8: (правое крыло,первый этаж) (Инв.№ 4900006) Раздел: Отопление
G9: (наименование работ и затрат, наименование объекта)
D11: Основание: Проект № 24715-13-ОВ
D12: Сметная стоимость строительных работ _______________________________________________________________________________________________ | J12: ___________________________23,518 | L12: тыс. руб.
D13: Средства на оплату труда _______________________________________________________________________________________________ | J13: ___________________________1,392 | L13: тыс. руб.
D14: Сметная трудоемкость _______________________________________________________________________________________________ | J14: _______________________________________________________________________________________________107,45 | L14: чел.час
D15: Материалы ___________________________________________________________ | J15: =J69/1000 -> 19.305 | L15: тыс.руб.
D16: Составлен(а) в базовых ценах 2001г. в редакции 2009г.
A18: № пп | B18: Обоснование | C18: Наименование | D18: Ед. изм. | E18: Кол. | F18: Стоимость единицы, руб. | J18: Общая стоимость, руб. | N18: Т/з осн. раб.на ед. | O18: Т/з осн. раб. Всего | P18: Т/з мех. на ед. | Q18: Т/з мех. Всего
F19: Всего | G19: В том числе | J19: Всего | K19: В том числе
G20: Осн.З/п | H20: Эк.Маш | I20: З/пМех | K20: Осн.З/п | L20: Эк.Маш | M20: З/пМех
A21: 1 | B21: 2 | C21: 3 | D21: 4 | E21: 5 | F21: 6 | G21: 7 | H21: 8 | I21: 9 | J21: 10 | K21: 11 | L21: 12 | M21: 13 | N21: 14 | O21: 15 | P21: 16 | Q21: 17
A22: Раздел 1. Разборка.
A23: 1 | B23: ТЕРр65-19-1 | C23: Разборка радиаторов весом до 80 кг | D23: 100 шт. | E23: 0.27 | F23: 1310.17 | G23: 1219.9 | H23: 90.27 | I23: 34.99 | J23: 354 | K23: 330 | L23: 24 | M23: 9 | N23: 110 | O23: 29.7 | P23: 2.24 | Q23: 0.6
A24: 2 | B24: ТЕРр65-14-1 | C24: Разборка трубопроводов из водогазопроводных труб в зданиях и сооружениях на резьбе диаметром до 32 мм | D24: 100 м | E24: 0.03 | F24: 453.98 | G24: 453.98 | J24: 14 | K24: 14 | N24: 37.8 | O24: 1.13
A25: Раздел 2. Отопление.
A26: 3 | B26: ТЕР16-02-001-01 | C26: Прокладка трубопроводов отопления из стальных водогазопроводных неоцинкованных труб диаметром 15 мм | D26: 100 м | E26: 0.05 | F26: 3897.38 | G26: 446.74 | H26: 69.04 | I26: 2.73 | J26: 195 | K26: 22 | L26: 3 | N26: 32.97 | O26: 1.65 | P26: 0.15 | Q26: 0.01
A27: 4 | B27: ТЕР18-03-001-02 | C27: Установка радиаторов стальных | D27: 100 кВт | E27: 0.416 | F27: 2426.28 | G27: 828.53 | H27: 270.15 | I27: 20.22 | J27: 1009 | K27: 345 | L27: 112 | M27: 8 | N27: 65.6 | O27: 27.29 | P27: 1.28 | Q27: 0.53
A28: Уд | B28: 1. 301-0559 | C28: Радиаторы стальные панельные РСВ2-1, РСВ2-6 однорядные | D28: кВт | E28: 100 41,6 | F28: 179.38 | J28: 7462.21
A29: 5 | B29: Цена поставщика. | C29: Стоимость радиатора Термал 500 | D29: секция | E29: 249 | F29: 59,08 380,00/1,18/5,56*1,02 | J29: 14711
A30: 6 | B30: ТСЦ-101-2201 | C30: Дюбели распорные полиэтиленовые | D30: 10 шт. | E30: 0.4 | F30: 1.73 | J30: 1
A31: 7 | B31: ТЕР18-07-001-05 | C31: Установка кранов и вентиля | D31: 1 компл. | E31: 50 | F31: 2.68 | G31: 1.73 | J31: 134 | K31: 87 | N31: 0.12 | O31: 6
A32: Уд | B32: 1. 302-0474 | C32: Краны для спуска воздуха СТД 7073В, латунные | D32: компл. | E32: 1 50 | F32: 12.61 | J32: 630.5
A33: 8 | B33: Цена поставщика. | C33: Стоимость вентиля радиаторного ф15 | D33: шт | E33: 25 | F33: 21,21 136,43/1,18/5,56*1,02 | J33: 530
A34: 9 | B34: ТСЦ-302-1831 прим. | C34: Кран шаровой муфтовый 11Б27П, диаметром 15 мм | D34: шт. | E34: 25 | F34: 25.14 | J34: 629
A35: 10 | B35: ТСЦ-302-1245 прим. | C35: Гайка проходная, резьба наружная 3/4",внутренняя 1/2" | D35: шт. | E35: 50 | F35: 19.8 | J35: 990
A36: 11 | B36: Цена поставщика. | C36: Стоимость гайки глухой 3/4 | D36: шт | E36: 50 | F36: 29,6 190,40/1,18/5,56*1,02 | J36: 1480
A37: 12 | B37: ТСЦ-302-1228 | C37: Соединения на сгоне стальные: переходы, диаметром до 15 мм | D37: шт. | E37: 50 | F37: 3.38 | J37: 169
A38: 13 | B38: ТЕР16-07-005-01 | C38: Гидравлическое испытание трубопроводов систем отопления, водопровода и горячего водоснабжения диаметром до 50 мм | D38: 100 м | E38: 0.05 | F38: 104.4 | G38: 82.16 | H38: 15.29 | J38: 5 | K38: 4 | L38: 1 | N38: 5.01 | O38: 0.25
A39: 14 | B39: ТЕР13-03-002-04 | C39: Огрунтовка металлических поверхностей за один раз грунтовкой ГФ-021 | D39: 100 м2 | E39: 0.006 | F39: 417.46 | G39: 79.65 | H39: 10.15 | I39: 0.16 | J39: 3 | N39: 5.31 | O39: 0.03 | P39: 0.01
A40: 15 | B40: ТЕР15-04-030-04 | C40: Масляная окраска металлических труб диаметром менее 50 мм и т.п., количество окрасок 2 | D40: 100 м2 | E40: 0.006 | F40: 1384.09 | G40: 886.83 | H40: 3.68 | I40: 0.16 | J40: 8 | K40: 5 | N40: 71.06 | O40: 0.43 | P40: 0.01
A41: 16 | B41: ТЕР22-06-001-01 прим. | C41: Промывка с дезинфекцией трубопроводов | D41: 1 км | E41: 0.332 | F41: 739.96 | G41: 680.97 | J41: 246 | K41: 226 | N41: 56.7 | O41: 18.82
A42: Итого прямые затраты по смете в ценах 2001г. | J42: 20478 | K42: 1033 | L42: 140 | M42: 17 | O42: 85.3 | Q42: 1.14
A43: Итого прямые затраты по смете с учетом коэффициентов к итогам | J43: 20879 | K43: 1371 | L43: 203 | M43: 21 | O43: 107.45 | Q43: 1.44
...

Sheet 25081
A1: СОГЛАСОВАНО: | E1: ФГУП "Комбинат "Электрохимприбор" | M1: УТВЕРЖДАЮ:
G2: (наименование стройки) | M2: Зам. генерального директора
M3: Е.В.Гордеев
A4: _________________ | M4: _________________
A5: " _____ " ________________ 2013 г. | M5: "______ " __________2013 г.
G6: ЛОКАЛЬНЫЙ СМЕТНЫЙ РАСЧЕТ № 25081
G7: (локальная смета)
C9: на | D9: реконструкцию помещений для отдела 031. Город, ул.М-Сибиряка, 3. Инв.№ 4900006
D10: Раздел: Электрооборудование. Электроосвещение.
H11: (наименование работ и затрат, наименование объекта)
D13: Основание: проект № 24713-13-ЭМО
D14: Сметная стоимость _______________________________________________________________________________________________ | J14: ___________________________268,107 | L14: тыс. руб.
D15: строительных работ _______________________________________________________________________________________________ | J15: _______________________________________________________________________________________________3,498 | L15: тыс. руб.
D16: монтажных работ _______________________________________________________________________________________________ | J16: _______________________________________________________________________________________________264,609 | L16: тыс. руб.
D17: Средства на оплату труда _______________________________________________________________________________________________ | J17: ___________________________25,501 | L17: тыс. руб.
D18: Сметная трудоемкость _______________________________________________________________________________________________ | J18: _______________________________________________________________________________________________1510,97 | L18: чел.час
D19: Составлен(а) в базовых ценах 2001г. в редакции 2009г.
A21: № пп | B21: Обоснование | C21: Наименование | D21: Ед. изм. | E21: Кол. | F21: Стоимость единицы, руб. | J21: Общая стоимость, руб. | N21: Т/з осн. раб.на ед. | O21: Т/з осн. раб. Всего | P21: Т/з мех. на ед. | Q21: Т/з мех. Всего
F22: Всего | G22: В том числе | J22: Всего | K22: В том числе
G23: Осн.З/п | H23: Эк.Маш | I23: З/пМех | K23: Осн.З/п | L23: Эк.Маш | M23: З/пМех
A24: 1 | B24: 2 | C24: 3 | D24: 4 | E24: 5 | F24: 6 | G24: 7 | H24: 8 | I24: 9 | J24: 10 | K24: 11 | L24: 12 | M24: 13 | N24: 14 | O24: 15 | P24: 16 | Q24: 17
A25: Раздел 1. Демонтажные и строительные работы
A26: 1 | B26: ТЕРр67-4-5 | C26: Демонтаж светильников для люминесцентных ламп | D26: 100 шт. | E26: 0.8 | F26: 205.2 | G26: 201.98 | H26: 3.22 | I26: 1.25 | J26: 164 | K26: 162 | L26: 2 | M26: 1 | N26: 17.89 | O26: 14.31 | P26: 0.08 | Q26: 0.06
A27: 2 | B27: ТЕРр67-4-1 | C27: Демонтаж выключателей, розеток | D27: 100 шт. | E27: 0.68 | F27: 64.18 | G27: 64.18 | J27: 44 | K27: 44 | N27: 5.84 | O27: 3.97
A28: 3 | B28: ТЕРр67-3-1 | C28: Демонтаж кабеля | D28: 100 м | E28: 2.5 | F28: 106.34 | G28: 105.94 | H28: 0.4 | I28: 0.16 | J28: 266 | K28: 265 | L28: 1 | N28: 9.64 | O28: 24.1 | P28: 0.01 | Q28: 0.03
A29: 4 | B29: ТЕРм08-03-599-10 | C29: Демонтаж: щиток осветительный КОЭФ. К ПОЗИЦИИ: Демонтаж оборудования, которое не подлежит дальнейшему использованию (предназначено в лом) без разборки и резки ОЗП=0,3; ЭМ=0,3 к расх.; ЗПМ=0,3; МАТ=0 к расх.; ТЗ=0,3; ТЗМ=0,3 | D29: 1 шт. | E29: 1 | F29: 19.83 | G29: 17.48 | H29: 2.35 | I29: 0.11 | J29: 20 | K29: 18 | L29: 2 | N29: 1.25 | O29: 1.25 | P29: 0.01 | Q29: 0.01
A30: 5 | B30: ТЕРм08-03-572-07 | C30: Демонтаж: щит силовой КОЭФ. К ПОЗИЦИИ: Демонтаж оборудования, которое не подлежит дальнейшему использованию (предназначено в лом) без разборки и резки ОЗП=0,3; ЭМ=0,3 к расх.; ЗПМ=0,3; МАТ=0 к расх.; ТЗ=0,3; ТЗМ=0,3 | D30: 1 шт. | E30: 3 | F30: 58.28 | G30: 19.53 | H30: 38.75 | I30: 2.24 | J30: 175 | K30: 59 | L30: 116 | M30: 7 | N30: 1.4 | O30: 4.2 | P30: 0.12 | Q30: 0.36
A31: 6 | B31: ТЕРм08-03-526-02 | C31: Демонтаж: автомат в щите КОЭФ. К ПОЗИЦИИ: Демонтаж оборудования, которое не подлежит дальнейшему использованию (предназначено в лом) без разборки и резки ОЗП=0,3; ЭМ=0,3 к расх.; ЗПМ=0,3; МАТ=0 к расх.; ТЗ=0,3; ТЗМ=0,3 | D31: 1 шт. | E31: 1 | F31: 10.69 | G31: 9.33 | H31: 1.36 | I31: 0.05 | J31: 11 | K31: 10 | L31: 1 | N31: 0.7 | O31: 0.7
A32: 7 | B32: ТЕР46-02-007-01 | C32: Кладка отдельных участков кирпичных стен и заделка проемов в кирпичных стенах при объеме кладки в одном месте до 5 м3 (ниша) | D32: 1 м3 | E32: 0.6 | F32: 729.34 | G32: 168.39 | H32: 2.31 | J32: 438 | K32: 101 | L32: 1 | N32: 14.63 | O32: 8.78
A33: 8 | B33: ТЕР46-03-009-08 | C33: Пробивка в кирпичных стенах отверстий круглых диаметром до 50 мм при толщине стен до 51 см | D33: 100 шт. | E33: 0.11 | F33: 5264.08 | G33: 1256.86 | H33: 4007.22 | I33: 443.92 | J33: 579 | K33: 138 | L33: 441 | M33: 49 | N33: 97.13 | O33: 10.68 | P33: 28.42 | Q33: 3.13
A34: 9 | B34: ТЕР46-03-009-07 | C34: Пробивка в кирпичных стенах отверстий круглых диаметром до 50 мм при толщине стен до 38 см | D34: 100 шт. | E34: 0.2 | F34: 3944.42 | G34: 967.91 | H34: 2976.51 | I34: 329.74 | J34: 789 | K34: 194 | L34: 595 | M34: 66 | N34: 74.8 | O34: 14.96 | P34: 21.11 | Q34: 4.22
A35: 10 | B35: ТЕР46-03-009-06 | C35: Пробивка в кирпичных стенах отверстий круглых диаметром до 50 мм при толщине стен до 25 см | D35: 100 шт. | E35: 0.06 | F35: 2719.16 | G35: 657.74 | H35: 2061.42 | I35: 228.36 | J35: 163 | K35: 39 | L35: 124 | M35: 14 | N35: 50.83 | O35: 3.05 | P35: 14.62 | Q35: 0.88
A36: 11 | B36: ТЕР46-03-017-05 | C36: Заделка отверстий, гнезд и борозд в стенах и перегородках бетонных площадью до 0,1 м2 | D36: 1 м3 заделки | E36: 0.1 | F36: 2078.32 | G36: 857.51 | H36: 44.07 | J36: 208 | K36: 86 | L36: 4 | N36: 75.22 | O36: 7.52
A37: 12 | B37: ТЕРм08-02-374-01 | C37: Устройство ввода в здание в стальной трубе, провод сечением до 16 мм2 | D37: 1 шт. | E37: 13 | F37: 499.66 | G37: 47.48 | H37: 437.69 | I37: 50.96 | J37: 6496 | K37: 617 | L37: 5690 | M37: 662 | N37: 3.21 | O37: 41.73 | P37: 2.8 | Q37: 36.4
A38: 13 | B38: ТЕРм08-02-155-01 | C38: Герметизация проходов при вводе кабелей в помещения уплотнительной массой | D38: 1 проход кабеля | E38: 13 | F38: 22.58 | G38: 6.37 | J38: 294 | K38: 83 | N38: 0.47 | O38: 6.11
A39: Раздел 2. Освещение
A40: 14 | B40: Цена поставщика | C40: Светильник PRBLUX/R 418 /595/ HF 1019000210 | D40: шт. | E40: 77 | F40: 584,88 3050.50/1,18/4.42 | J40: 45036
A41: 15 | B41: Цена поставщика | C41: Светильник PRBLUX/S 418 HF 1045000160 | D41: шт. | E41: 11 | F41: 663,51 3460,62/1,18/4.42 | J41: 7299
A42: 16 | B42: ТЕРм08-03-594-17 | C42: Светильник в подвесных потолках, устанавливаемый на закладных деталях, количество ламп в светильнике до 4 | D42: 100 шт. | E42: 0.88 | F42: 4831.46 | G42: 2291.08 | H42: 2395.55 | I42: 918.65 | J42: 4252 | K42: 2016 | L42: 2108 | M42: 808 | N42: 164 | O42: 144.32 | P42: 58.55 | Q42: 51.52
A43: 17 | B43: Цена поставщика | C43: Светильник ЛБО54-18-112 Econom 1054118112 | D43: шт. | E43: 5 | F43: 136,11 893/1,18/5,56 | J43: 681
...

Sheet 25082
A1: СОГЛАСОВАНО: | E1: ФГУП "Комбинат "Электрохимприбор" | M1: УТВЕРЖДАЮ:
G2: (наименование стройки) | M2: Зам. генерального директора
M3: Е.В.Гордеев
A4: _________________ | M4: _________________
A5: " _____ " ________________ 2013 г. | M5: "______ " __________2013 г.
G6: ЛОКАЛЬНЫЙ СМЕТНЫЙ РАСЧЕТ № 25082
G7: (локальная смета)
C9: на | D9: реконструкцию помещений для отдела 031. Город, ул.М-Сибиряка, 3. Инв.№ 4900006
D10: Раздел: Автоматическая установка пожарной сигнализации и СОУЭ.
H11: (наименование работ и затрат, наименование объекта)
D13: Основание: проект № 24736-13-ПС
D14: Сметная стоимость _______________________________________________________________________________________________ | J14: ___________________________21,055 | L14: тыс. руб.
D15: монтажных работ _______________________________________________________________________________________________ | J15: _______________________________________________________________________________________________18,191 | L15: тыс. руб.
D16: прочих (ПНР "в холостую") _______________________________________________________________________________________________ | J16: _______________________________________________________________________________________________2,864 | L16: тыс. руб.
D17: Средства на оплату труда _______________________________________________________________________________________________ | J17: ___________________________6,647 | L17: тыс. руб.
D18: Сметная трудоемкость _______________________________________________________________________________________________ | J18: _______________________________________________________________________________________________439,78 | L18: чел.час
D19: Материалы ______________________________________ | K19: 0.22542 | L19: тыс.руб.
D20: Составлен(а) в базовых ценах 2001г. в редакции 2009г.
A22: № пп | B22: Обоснование | C22: Наименование | D22: Ед. изм. | E22: Кол. | F22: Стоимость единицы, руб. | J22: Общая стоимость, руб. | N22: Т/з осн. раб.на ед. | O22: Т/з осн. раб. Всего | P22: Т/з мех. на ед. | Q22: Т/з мех. Всего
F23: Всего | G23: В том числе | J23: Всего | K23: В том числе
G24: Осн.З/п | H24: Эк.Маш | I24: З/пМех | K24: Осн.З/п | L24: Эк.Маш | M24: З/пМех
A25: 1 | B25: 2 | C25: 3 | D25: 4 | E25: 5 | F25: 6 | G25: 7 | H25: 8 | I25: 9 | J25: 10 | K25: 11 | L25: 12 | M25: 13 | N25: 14 | O25: 15 | P25: 16 | Q25: 17
A26: Раздел 1. Монтажные работы
A27: 1 | B27: Цена поставщика | C27: Метка пожарная адресная МА-7ТС | D27: шт | E27: 1 | F27: 89,93 590/1,18/5,56 | J27: 90
A28: 2 | B28: ТЕРм10-08-003-05 прим. | C28: Монтаж: метка адресная "Юнитроник" "МА-7ТС" | D28: 1 шт. | E28: 1 | F28: 86.32 | G28: 78.05 | H28: 0.37 | J28: 86 | K28: 78 | N28: 5.76 | O28: 5.76
A29: 3 | B29: Цена поставщика | C29: Дымовой извещатель "ИП-212-92" | D29: шт | E29: 24 | F29: 90,69 595/1,18/5,56 | J29: 2177
A30: 4 | B30: ТЕРм10-08-003-01 | C30: Монтаж: извещатель пожарный дымовой оптико-электронный "ИП-212-92" | D30: 1 шт. | E30: 21 | F30: 118.78 | G30: 108.98 | H30: 0.37 | J30: 2494 | K30: 2289 | L30: 8 | N30: 7.92 | O30: 166.32
A31: 5 | B31: Цена поставщика | C31: Извещатель пожарный ручной "ИПР-3СУ" | D31: шт | E31: 4 | F31: 26,21 171,93/1,18/5,56 | J31: 105
A32: 6 | B32: ТЕРм10-04-066-05 | C32: Монтаж: извещатель пожарный ручной | D32: 1 шт. | E32: 3 | F32: 13.89 | G32: 12.78 | J32: 42 | K32: 38 | N32: 1 | O32: 3
A33: 7 | B33: Цена поставщика | C33: Оповещатель звуковой ПКИ-1 "КОЛИБРИ" | D33: шт | E33: 6 | F33: 26,34 172,80/1,18/5,56 | J33: 158
A34: 8 | B34: ТЕРм10-04-066-05 | C34: Монтаж: оповещатель звуковой | D34: 1 шт. | E34: 5 | F34: 13.89 | G34: 12.78 | J34: 69 | K34: 64 | N34: 1 | O34: 5
A35: 9 | B35: Цена поставщика | C35: Оповещатель световой "Блик-С12" | D35: шт | E35: 5 | F35: 33,4 219,12/1,18/5,56 | J35: 167
A36: 10 | B36: ТЕРм10-04-066-06 | C36: Монтаж: оповещатель световой | D36: 1 шт. | E36: 4 | F36: 98.76 | G36: 74.88 | J36: 395 | K36: 300 | N36: 6 | O36: 24
A37: 11 | B37: ТСЦ-509-0584 | C37: Резисторы | D37: шт. | E37: 20 | F37: 1.19 | J37: 24
A38: 12 | B38: ТЕРм11-03-001-01 | C38: Монтаж: резисторы, диоды | D38: 1 шт. | E38: 14 | F38: 8.41 | G38: 7.26 | J38: 118 | K38: 102 | N38: 0.52 | O38: 7.28
A39: 13 | B39: ТСЦ-503-0460 | C39: Разветвительная коробка УК-2 | D39: шт. | E39: 4 | F39: 2.85 | J39: 11
A40: 14 | B40: ТЕРм10-08-019-01 | C40: Монтаж: коробка ответвительная на стене | D40: 1 шт. | E40: 4 | F40: 7.32 | G40: 6.88 | J40: 29 | K40: 28 | N40: 0.5 | O40: 2
A41: 15 | B41: ФЕРм08-02-390-01 | C41: Монтаж: короба пластмассовые: шириной до 40 мм КОЭФ. К ПОЗИЦИИ: Приведение расценок ФЕР к территориальному уровню (Письмо УРЦЦС Ц-297 от 12.04.2011) ОЗП=1,41; ЭМ=1,242; ЗПМ=1,41; МАТ=1,052 | D41: 100 м | E41: 0.7 | F41: 311.4 | G41: 218.44 | H41: 38.75 | I41: 0.17 | J41: 218 | K41: 153 | L41: 27 | N41: 16.29 | O41: 11.4 | P41: 0.01 | Q41: 0.01
A42: 16 | B42: Цена поставщика | C42: Кабель-канал DKC 15/1x17 TMC IN-Liner L=2м,, 00303 | D42: м | E42: 50 | F42: 3,51 23/1,18/5,56 | J42: 176
A43: 17 | B43: Цена поставщика | C43: Кабель-канал DKC 50x20 TMС IN-Liner самоклеющийся L=2м, 00313 | D43: м | E43: 20 | F43: 10,61 69,61/1,18/5,56 | J43: 212
...

Sheet 25083
A1: СОГЛАСОВАНО: | E1: ФГУП "Комбинат "Электрохимприбор" | M1: УТВЕРЖДАЮ:
G2: (наименование стройки) | M2: Зам.генерального директора
A3: _________________ | N3: Е.В. Гордеев
A4: " _____ " ________________ 2013 г. | M4: __________________
G5: ЛОКАЛЬНЫЙ СМЕТНЫЙ РАСЧЕТ № 25083 | M5: "______ " __________2013 г.
G6: (локальная смета)
C8: на | D8: Реконструкцию помещений для отдела 031. Город, ул.Мамина-Сибиряка, 3 (Инв.№ 4900006)
D9: Раздел: архитектурно-строительный
D10: (наименование работ и затрат, наименование объекта)
D12: Основание: проект № 24672-13-АС
D13: Сметная стоимость строительных работ _______________________________________________________________________________________________ | J13: ___________________________378,177 | L13: тыс. руб.
D14: Средства на оплату труда _______________________________________________________________________________________________ | J14: ___________________________44,996 | L14: тыс. руб.
D15: Сметная трудоемкость _______________________________________________________________________________________________ | J15: _______________________________________________________________________________________________3431,25 | L15: чел.час
D16: Материалы _________________________________________________________ | K16: 253,684 тыс.руб.
D17: Составлен(а) в базовых ценах 2001г. в редакции 2009г.
A19: № пп | B19: Обоснование | C19: Наименование | D19: Ед. изм. | E19: Кол. | F19: Стоимость единицы, руб. | J19: Общая стоимость, руб. | N19: Т/з осн. раб.на ед. | O19: Т/з осн. раб. Всего | P19: Т/з мех. на ед. | Q19: Т/з мех. Всего
F20: Всего | G20: В том числе | J20: Всего | K20: В том числе
G21: Осн.З/п | H21: Эк.Маш | I21: З/пМех | K21: Осн.З/п | L21: Эк.Маш | M21: З/пМех
A22: 1 | B22: 2 | C22: 3 | D22: 4 | E22: 5 | F22: 6 | G22: 7 | H22: 8 | I22: 9 | J22: 10 | K22: 11 | L22: 12 | M22: 13 | N22: 14 | O22: 15 | P22: 16 | Q22: 17
A23: Раздел 1. Разборка конструкций
A24: 1 | B24: ТЕР46-04-012-03 | C24: Разборка деревянных заполнений проемов дверных | D24: 100 м2 | E24: 0.358 | F24: 1496.49 | G24: 1184.57 | H24: 311.92 | I24: 120.9 | J24: 536 | K24: 424 | L24: 112 | M24: 43 | N24: 103.91 | O24: 37.2 | P24: 7.74 | Q24: 2.77
A25: 2 | B25: ТЕР46-04-012-01 | C25: Разборка деревянных заполнений проемов оконных с подоконными досками | D25: 100 м2 | E25: 0.083 | F25: 2461.28 | G25: 2149.36 | H25: 311.92 | I25: 120.9 | J25: 204 | K25: 178 | L25: 26 | M25: 10 | N25: 188.54 | O25: 15.65 | P25: 7.74 | Q25: 0.64
A26: 3 | B26: ТЕРр58-3-1 | C26: Разборка мелких покрытий и обделок из листовой стали поясков, сандриков, желобов, отливов, свесов и т.п. | D26: 100 м | E26: 0.048 | F26: 100.24 | G26: 100.01 | H26: 0.23 | J26: 5 | K26: 5 | N26: 9.1 | O26: 0.44
A27: 4 | B27: ТЕР46-04-001-04 | C27: Разборка кирпичных стен, в т.ч. пробивка отверстий | D27: 1 м3 | E27: 4.025 | F27: 296.8 | G27: 102.84 | H27: 193.96 | I27: 17.96 | J27: 1195 | K27: 414 | L27: 781 | M27: 72 | N27: 8.24 | O27: 33.17 | P27: 1.15 | Q27: 4.63
A28: 5 | B28: ТЕРр63-7-5 | C28: Разборка облицовки стен из керамических глазурованных плиток | D28: 100 м2 | E28: 1.173 | F28: 1081.91 | G28: 823.99 | H28: 257.92 | I28: 27.68 | J28: 1269 | K28: 967 | L28: 302 | M28: 32 | N28: 74.3 | O28: 87.15 | P28: 1.99 | Q28: 2.33
A29: 6 | B29: ТЕР10-01-015-01 | C29: Разборка перегородок каркасно-филенчатых в санузлах КОЭФ. К ПОЗИЦИИ: Разборка ОЗП=0,8; ЭМ=0,8 к расх.; ЗПМ=0,8; МАТ=0 к расх.; ТЗ=0,8; ТЗМ=0,8 | D29: 100 м2 | E29: 0.043 | F29: 1216.66 | G29: 876.2 | H29: 340.46 | J29: 52 | K29: 38 | L29: 14 | N29: 71.12 | O29: 3.06
A30: 7 | B30: ТЕРр57-3-2 | C30: Разборка плинтусов цементных и из керамической плитки | D30: 100 м плинтуса | E30: 0.59 | F30: 156.94 | G30: 156.94 | J30: 93 | K30: 93 | N30: 14.28 | O30: 8.43
A31: 8 | B31: ТЕР46-04-011-02 | C31: Разборка в зданиях и сооружения покрытий полов из плиток мозаичных | D31: 100 м2 | E31: 0.253 | F31: 541.99 | G31: 464.41 | H31: 77.58 | I31: 7.19 | J31: 137 | K31: 117 | L31: 20 | M31: 2 | N31: 36.77 | O31: 9.3 | P31: 0.46 | Q31: 0.12
A32: 9 | B32: ТЕРр57-2-3 | C32: Разборка покрытий полов из керамических плиток | D32: 100 м2 | E32: 0.3 | F32: 897.17 | G32: 839.14 | H32: 58.03 | I32: 22.49 | J32: 269 | K32: 252 | L32: 17 | M32: 7 | N32: 69.87 | O32: 20.96 | P32: 1.44 | Q32: 0.43
A33: 10 | B33: ТЕРр57-2-4 | C33: Разборка цементно-песчаной стяжки | D33: 100 м2 | E33: 0.553 | F33: 4262.51 | G33: 1335.51 | H33: 2927 | I33: 288.33 | J33: 2357 | K33: 739 | L33: 1618 | M33: 159 | N33: 111.2 | O33: 61.49 | P33: 21 | Q33: 11.61
A34: 11 | B34: ТЕРр57-3-1 | C34: Разборка плинтусов деревянных и из пластмассовых материалов | D34: 100 м | E34: 3.69 | F34: 41.43 | G34: 41.43 | J34: 153 | K34: 153 | N34: 3.77 | O34: 13.91
A35: 12 | B35: ТЕРр57-2-1 | C35: Разборка покрытий полов из линолеума | D35: 100 м2 | E35: 3.448 | F35: 130.42 | G35: 125.18 | H35: 5.24 | I35: 2.03 | J35: 450 | K35: 432 | L35: 18 | M35: 7 | N35: 11.39 | O35: 39.27 | P35: 0.13 | Q35: 0.45
A36: 13 | B36: ТЕР09-03-049-01 | C36: Разборка перекрытия подпольного канала из рифленой стали КОЭФ. К ПОЗИЦИИ: Разборка ОЗП=0,7; ЭМ=0,7 к расх.; ЗПМ=0,7; МАТ=0 к расх.; ТЗ=0,7; ТЗМ=0,7 | D36: 100 м2 | E36: 0.011 | F36: 4382.26 | G36: 4275.1 | H36: 107.16 | I36: 7.01 | J36: 48 | K36: 47 | L36: 1 | N36: 330.38 | O36: 3.63 | P36: 0.39
A37: 14 | B37: ТЕР46-04-009-02 | C37: Разборка бетонных оснований под полы (подпольный канал) | D37: 1 м3 | E37: 0.057 | F37: 340.01 | G37: 99.68 | H37: 240.33 | I37: 29.03 | J37: 19 | K37: 6 | L37: 13 | M37: 2 | N37: 7.8 | O37: 0.44 | P37: 1.86 | Q37: 0.11
A38: 15 | B38: ТЕР46-06-007-01 | C38: Разборка стен из кирпича подземной части зданий | D38: 10 м3 | E38: 0.011 | F38: 442.16 | G38: 301.97 | H38: 140.19 | I38: 15.78 | J38: 5 | K38: 3 | L38: 2 | N38: 22.79 | O38: 0.25 | P38: 1.01 | Q38: 0.01
A39: 16 | B39: ТЕРр51-2-4 | C39: Разработка грунта при подводке, смене или усилении фундаментов, грунты 3-4 группы, без крепления | D39: 100 м3 | E39: 0.004 | F39: 5924.95 | G39: 5923.86 | H39: 1.09 | J39: 24 | K39: 24 | N39: 524.7 | O39: 2.1
A40: 17 | B40: ТЕР01-02-060-02 | C40: Погрузка вручную неуплотненного грунта из штабелей и отвалов в транспортные средства, группа грунтов 2 | D40: 100 м3 | E40: 0.004 | F40: 653.23 | G40: 653.23 | J40: 3 | K40: 3 | N40: 61.8 | O40: 0.25
A41: 18 | B41: ФССЦпг01-01-01-041 | C41: Погрузочные работы при автомобильных перевозках: Мусор строительный с погрузкой вручную КОЭФ. К ПОЗИЦИИ: п.1.1.9 ОП Прил.1. Поясной коэффициент: Свердловская область ПЗ=1,1 (ОЗП=1,1; ЭМ=1,1; ЗПМ=1,1; МАТ=1,1); Коэффициент техн.часть п.3 ПЗ=1,025 (ОЗП=1,025; ЭМ=1,025 к расх.; ЗПМ=1,025; МАТ=1,025 к расх.; ТЗ=1,025; ТЗМ=1,025) | D41: 1 т | E41: 20 | F41: 48.46 | G41: 48.46 | J41: 969 | K41: 969
A42: 19 | B42: СЦП3-3-40-1 | C42: Перевозка грузов (грунта и мусора) автомобилями-самосвалами (работающими вне карьеров): расстояние 40 км, класс груза I КОЭФ. К ПОЗИЦИИ: 17 При перевозке грузов к провозной плате (тарифам) применять поправочный коэффициент ПЗ=1,37 (ОЗП=1,37; ЭМ=1,37 к расх.; ЗПМ=1,37; МАТ=1,37 к расх.; ТЗ=1,37; ТЗМ=1,37) | D42: т | E42: 21 | F42: 52.85 | H42: 52.85 | J42: 1110 | L42: 1110
A43: Раздел 2. Общестроительные работы
...

Sheet 25085
A1: СОГЛАСОВАНО: | E1: ФГУП "Комбинат "Электрохимприбор" | M1: УТВЕРЖДАЮ:
G2: (наименование стройки) | M2: Зам. генерального директора
M3: Е.В.Гордеев
A4: _________________ | M4: _________________
A5: " _____ " ________________ 2013 г. | M5: "______ " __________2013 г.
G6: ЛОКАЛЬНЫЙ СМЕТНЫЙ РАСЧЕТ № 25085
G7: (локальная смета)
C9: на | D9: реконструкцию помещений для отдела 031. Город, ул.М-Сибиряка, 3. Инв.№ 4900006
D10: Раздел: Теплоснабжение
H11: (наименование работ и затрат, наименование объекта)
D13: Основание: проект № 24705-13-ТС
D14: Сметная стоимость _______________________________________________________________________________________________ | J14: ___________________________44,677 | L14: тыс. руб.
D15: строительных работ _______________________________________________________________________________________________ | J15: _______________________________________________________________________________________________39,285 | L15: тыс. руб.
D16: монтажных работ _______________________________________________________________________________________________ | J16: _______________________________________________________________________________________________5,392 | L16: тыс. руб.
D17: Средства на оплату труда _______________________________________________________________________________________________ | J17: ___________________________3,804 | L17: тыс. руб.
D18: Сметная трудоемкость _______________________________________________________________________________________________ | J18: _______________________________________________________________________________________________261,4 | L18: чел.час
D19: Составлен(а) в базовых ценах 2001г. в редакции 2009г.
A21: № пп | B21: Обоснование | C21: Наименование | D21: Ед. изм. | E21: Кол. | F21: Стоимость единицы, руб. | J21: Общая стоимость, руб. | N21: Т/з осн. раб.на ед. | O21: Т/з осн. раб. Всего | P21: Т/з мех. на ед. | Q21: Т/з мех. Всего
F22: Всего | G22: В том числе | J22: Всего | K22: В том числе
G23: Осн.З/п | H23: Эк.Маш | I23: З/пМех | K23: Осн.З/п | L23: Эк.Маш | M23: З/пМех
A24: 1 | B24: 2 | C24: 3 | D24: 4 | E24: 5 | F24: 6 | G24: 7 | H24: 8 | I24: 9 | J24: 10 | K24: 11 | L24: 12 | M24: 13 | N24: 14 | O24: 15 | P24: 16 | Q24: 17
A25: Раздел 1. Разборка конструкций
A26: 1 | B26: ТЕРм12-01-002-07 | C26: Демонтаж: трубопровод в помещениях, диаметр труб наружный 57 мм КОЭФ. К ПОЗИЦИИ: Демонтаж оборудования, которое не подлежит дальнейшему использованию (предназначено в лом) с разборкой и резкой на части ОЗП=0,5; ЭМ=0,5 к расх.; ЗПМ=0,5; МАТ=0 к расх.; ТЗ=0,5; ТЗМ=0,5 | D26: 100 м | E26: 0.11 | F26: 2296.51 | G26: 617.88 | H26: 1678.63 | I26: 130.52 | J26: 253 | K26: 68 | L26: 185 | M26: 14 | N26: 45.6 | O26: 5.02 | P26: 7.35 | Q26: 0.81
A27: 2 | B27: ТЕРм12-01-002-03 | C27: Демонтаж: трубопровод в помещениях, диаметр труб наружный 25 мм КОЭФ. К ПОЗИЦИИ: Демонтаж оборудования, которое не подлежит дальнейшему использованию (предназначено в лом) с разборкой и резкой на части ОЗП=0,5; ЭМ=0,5 к расх.; ЗПМ=0,5; МАТ=0 к расх.; ТЗ=0,5; ТЗМ=0,5 | D27: 100 м | E27: 0.03 | F27: 2099.41 | G27: 535.91 | H27: 1563.5 | I27: 120.57 | J27: 63 | K27: 16 | L27: 47 | M27: 4 | N27: 39.55 | O27: 1.19 | P27: 6.8 | Q27: 0.2
A28: 3 | B28: ТЕР18-06-002-02 | C28: Разборка грязевиков наружным диаметром патрубков до 57 мм КОЭФ. К ПОЗИЦИИ: Демонтаж (разборка) внутренних санитарно-технических устройств (водопровода, газопровода, канализации, водостоков, отопления, вентиляции) ОЗП=0,4; ЭМ=0,4 к расх.; ЗПМ=0,4; МАТ=0 к расх.; ТЗ=0,4; ТЗМ=0,4 | D28: 1 шт. | E28: 1 | F28: 18.82 | G28: 15.08 | H28: 3.74 | I28: 0.07 | J28: 19 | K28: 15 | L28: 4 | N28: 1.15 | O28: 1.15
A29: 4 | B29: ТЕР18-06-005-01 | C29: Разборка элеваторов номером 1 КОЭФ. К ПОЗИЦИИ: Демонтаж (разборка) внутренних санитарно-технических устройств (водопровода, газопровода, канализации, водостоков, отопления, вентиляции) ОЗП=0,4; ЭМ=0,4 к расх.; ЗПМ=0,4; МАТ=0 к расх.; ТЗ=0,4; ТЗМ=0,4 | D29: 10 шт. | E29: 0.1 | F29: 153.96 | G29: 118.78 | H29: 35.18 | I29: 0.29 | J29: 15 | K29: 12 | L29: 3 | N29: 8.63 | O29: 0.86 | P29: 0.02
A30: 5 | B30: ТЕРм12-12-001-07 | C30: Демонтаж: арматура фланцевая, диаметр условного прохода 50 мм КОЭФ. К ПОЗИЦИИ: Демонтаж оборудования, которое не подлежит дальнейшему использованию (предназначено в лом) с разборкой и резкой на части ОЗП=0,5; ЭМ=0,5 к расх.; ЗПМ=0,5; МАТ=0 к расх.; ТЗ=0,5; ТЗМ=0,5 | D30: 1 шт. | E30: 6 | F30: 53.57 | G30: 23.65 | H30: 29.92 | I30: 3.1 | J30: 321 | K30: 142 | L30: 179 | M30: 19 | N30: 1.75 | O30: 10.5 | P30: 0.17 | Q30: 1.02
A31: 6 | B31: ТЕРм12-12-001-04 | C31: Демонтаж: арматура фланцевая, диаметр условного прохода 25 мм КОЭФ. К ПОЗИЦИИ: Демонтаж оборудования, которое не подлежит дальнейшему использованию (предназначено в лом) с разборкой и резкой на части ОЗП=0,5; ЭМ=0,5 к расх.; ЗПМ=0,5; МАТ=0 к расх.; ТЗ=0,5; ТЗМ=0,5 | D31: 1 шт. | E31: 6 | F31: 20.33 | G31: 20.33 | J31: 122 | K31: 122 | N31: 1.5 | O31: 9
A32: 7 | B32: ТЕРм12-12-001-04 | C32: Демонтаж: регулятор температуры фланцевый, диаметр условного прохода 25 мм КОЭФ. К ПОЗИЦИИ: Демонтаж оборудования, которое не подлежит дальнейшему использованию (предназначено в лом) с разборкой и резкой на части ОЗП=0,5; ЭМ=0,5 к расх.; ЗПМ=0,5; МАТ=0 к расх.; ТЗ=0,5; ТЗМ=0,5 | D32: 1 шт. | E32: 1 | F32: 20.33 | G32: 20.33 | J32: 20 | K32: 20 | N32: 1.5 | O32: 1.5
A33: Раздел 2. Тепловой узел
A34: 8 | B34: ТЕРм12-12-001-07 | C34: Арматура фланцевая с ручным приводом или без привода водопроводная на условное давление до 4 МПа, диаметр условного прохода 50 мм | D34: 1 шт. | E34: 6 | F34: 112.92 | G34: 47.29 | H34: 59.84 | I34: 6.19 | J34: 678 | K34: 284 | L34: 359 | M34: 37 | N34: 3.49 | O34: 20.94 | P34: 0.34 | Q34: 2.04
A35: 9 | B35: Цена поставщика. | C35: Кран шаровой стальной фланцевый КШТ 60.002.050 DN 50мм | D35: шт. | E35: 6 | F35: 321,61 2110/1,18/5,56 | J35: 1930
A36: 10 | B36: ТЕРм12-12-001-05 | C36: Арматура фланцевая с ручным приводом или без привода водопроводная на условное давление до 4 МПа, диаметр условного прохода 32 мм | D36: 1 шт. | E36: 5 | F36: 46.63 | G36: 43.36 | J36: 233 | K36: 217 | N36: 3.2 | O36: 16
A37: 11 | B37: Цена поставщика. | C37: Кран шаровой стальной фланцевый КШТ 60.002.032 DN 32мм | D37: шт | E37: 3 | F37: 228,94 1502/1,18/5,56 | J37: 687
A38: 12 | B38: Цена поставщика. | C38: Кран шаровой стальной фланцевый КШТ 60.100.032 DN 32мм | D38: шт | E38: 2 | F38: 366,27 2403/1,18/5,56 | J38: 733
A39: 13 | B39: ТЕРм12-12-001-04 | C39: Арматура фланцевая с ручным приводом или без привода водопроводная на условное давление до 4 МПа, диаметр условного прохода 25 мм | D39: 1 шт. | E39: 1 | F39: 43.61 | G39: 40.65 | J39: 44 | K39: 41 | N39: 3 | O39: 3
A40: 14 | B40: Цена поставщика. | C40: Кран шаровой стальной фланцевый КШТ 60.100.025 DN 25мм | D40: шт | E40: 1 | F40: 329,38 2161/1,18/5,56 | J40: 329
A41: 15 | B41: ТЕРм12-12-001-02 | C41: Арматура фланцевая с ручным приводом или без привода водопроводная на условное давление до 4 МПа, диаметр условного прохода 15 мм | D41: 1 шт. | E41: 4 | F41: 43.37 | G41: 40.65 | J41: 173 | K41: 163 | N41: 3 | O41: 12
A42: 16 | B42: Цена поставщика. | C42: Кран шаровой стальной фланцевый КШТ 60.100.015 DN 15мм | D42: шт | E42: 4 | F42: 366,27 2403/1,18/5,56 | J42: 1465
A43: 17 | B43: ТЕРм12-12-001-07 прим. | C43: Монтаж фильтра фланцевого ФСФк-50 DN 50 мм | D43: 1 шт. | E43: 1 | F43: 112.92 | G43: 47.29 | H43: 59.84 | I43: 6.19 | J43: 113 | K43: 47 | L43: 60 | M43: 6 | N43: 3.49 | O43: 3.49 | P43: 0.34 | Q43: 0.34
...

Sheet НМЦ
A1: г. Лесной ФГУП "Комбинат "Электрохимприбор"
A3: Расчет начальной (максимальной) цены
A5: Выполнение работ по реконструкции здания расположенного по ул. Мамина-Сибиряка, 3
A8: Составлен в ценах по состоянию на 01.01.2000 г. с переводом в текущие | D8: руб.
A9: Наименование глав ССР, объектных сметных расчетов, локальных сметных расчетов, видов работ | B9: Сметная стоимость в базисных ценах на 01.01.2000 | C9: Текущая стоимость на момент определения начальной (максимальной) цены | D9: № обосновывающего расчета
A13: 1 | B13: 2 | C13: 3 | D13: 4
A14: Водопровод и канализация | B14: ='Сводка затрат'!H13 -> 17357 | C14: =ROUND('Сводка затрат'!D13*5.98,0)+ROUND('Сводка затрат'!E13*5.98,0)+ROUND('Сводка затрат'!F13*4.21,0)+ROUND('Сводка затрат'!G13*10.48,0) -> 103795 | D14: 25033
A15: Кондиционирование | B15: ='Сводка затрат'!H14 -> 165563 | C15: =ROUND('Сводка затрат'!D14*5.98,0)+ROUND('Сводка затрат'!E14*5.98,0)+ROUND('Сводка затрат'!F14*4.21,0)+ROUND('Сводка затрат'!G14*10.48,0) -> 843130 | D15: 25074
A16: Отопление | B16: ='Сводка затрат'!H15 -> 23518 | C16: =ROUND('Сводка затрат'!D15*5.98,0)+ROUND('Сводка затрат'!E15*5.98,0)+ROUND('Сводка затрат'!F15*4.21,0)+ROUND('Сводка затрат'!G15*10.48,0) -> 140638 | D16: 25079
A17: Электрооборудование. Электроосвещение | B17: ='Сводка затрат'!H16 -> 268107 | C17: =ROUND('Сводка затрат'!D16*5.98,0)+ROUND('Сводка затрат'!E16*5.98,0)+ROUND('Сводка затрат'!F16*4.21,0)+ROUND('Сводка затрат'!G16*10.48,0) -> 1603280 | D17: 25081
A18: Автоматическая установка пожарной сигнализации и СОУЭ | B18: ='Сводка затрат'!H17 -> 21055 | C18: =ROUND('Сводка затрат'!D17*5.98,0)+ROUND('Сводка затрат'!E17*5.98,0)+ROUND('Сводка затрат'!F17*4.21,0)+ROUND('Сводка затрат'!G17*10.48,0) -> 120839 | D18: 25082
A19: Архитектурно-строительные | B19: ='Сводка затрат'!H18 -> 378177 | C19: =ROUND('Сводка затрат'!D18*5.98,0)+ROUND('Сводка затрат'!E18*5.98,0)+ROUND('Сводка затрат'!F18*4.21,0)+ROUND('Сводка затрат'!G18*10.48,0) -> 2261498 | D19: 25083
A20: Теплоснабжение | B20: ='Сводка затрат'!H19 -> 44677 | C20: =ROUND('Сводка затрат'!D19*5.98,0)+ROUND('Сводка затрат'!E19*5.98,0)+ROUND('Сводка затрат'!F19*4.21,0)+ROUND('Сводка затрат'!G19*10.48,0) -> 267168 | D20: 25085
A21: Итого | B21: =SUM(B14:B20) -> 918454 | C21: =SUM(C14:C20) -> 5340348
A23: НДС 18% | C23: =ROUND(C21*18%,2) -> 961262.64
A25: Всего | C25: =SUM(C21:C24) -> 6301610.6
A28: Начальник отдела
A29: капитального строительства | C29: В.В. Моляков
A31: Инженер по проектно-сметной работе | C31: Т.Ш. Ковязина
A34: Согласовано | C34: отдел 028

Sheet Сводка затрат
A1: Приложение №__ к договору от "__"______2013 №_______
A3: г. Лесной. ФГУП "Комбинат "Электрохимприбор"
A5: Сводка затрат
A7: Выполнение работ по реконструкции здания расположенного по ул. Мамина-Сибиряка, 3
A9: Составлен в ценах по состоянию на 01.01.2000 г.
A10: № п/п | B10: Номера сметных расчетов и смет | C10: Наименование работ и затрат | D10: Сметная стоимость | H10: Общая сметная стоимость, руб.
D11: строительных работ | E11: монтажных работ | F11: оборудования, мебели, инвентаря | G11: прочих затрат
A12: 1 | B12: 2 | C12: 3 | D12: 4 | E12: 5 | F12: 6 | G12: 7 | H12: 8
A13: 1 | B13: 25033 | C13: Водопровод и канализация | D13: ='25033'!J94 -> 17357 | E13: 0 | F13: 0 | G13: 0 | H13: =SUM(D13:G13) -> 17357 | J13: =ROUND(D13*5.98,0) -> 103795 | K13: =ROUND(E13*5.98,0) -> 0 | L13: =ROUND(F13*4.21,0) -> 0 | M13: =SUM(J13:L13) -> 103795
A14: 2 | B14: 25074 | C14: Кондиционирование | D14: ='25074'!K80 -> 78335 | E14: ='25074'!K81 -> 4213 | F14: ='25074'!K82 -> 83015 | G14: 0 | H14: =SUM(D14:G14) -> 165563 | J14: =ROUND(D14*5.98,0) -> 468443 | K14: =ROUND(E14*5.98,0) -> 25194 | L14: =ROUND(F14*4.21,0) -> 349493 | M14: =SUM(J14:L14) -> 843130
A15: 3 | B15: 25079 | C15: Отопление | D15: ='25079'!J74 -> 23518 | E15: 0 | F15: 0 | G15: 0 | H15: =SUM(D15:G15) -> 23518 | J15: =ROUND(D15*5.98,0) -> 140638 | K15: =ROUND(E15*5.98,0) -> 0 | L15: =ROUND(F15*4.21,0) -> 0 | M15: =SUM(J15:L15) -> 140638
A16: 4 | B16: 25081 | C16: Электрооборудование. Электроосвещение | D16: ='25081'!J176 -> 3498 | E16: ='25081'!J177 -> 264609 | F16: 0 | G16: 0 | H16: =SUM(D16:G16) -> 268107 | J16: =ROUND(D16*5.98,0) -> 20918 | K16: =ROUND(E16*5.98,0) -> 1582362 | L16: =ROUND(F16*4.21,0) -> 0 | M16: =SUM(J16:L16) -> 1603280
A17: 5 | B17: 25082 | C17: Автоматическая установка пожарной сигнализации и СОУЭ | D17: 0 | E17: ='25082'!J77 -> 18191 | F17: ='25082'!J78 -> 2864 | G17: 0 | H17: =SUM(D17:G17) -> 21055 | J17: =ROUND(D17*5.98,0) -> 0 | K17: =ROUND(E17*5.98,0) -> 108782 | L17: =ROUND(F17*4.21,0) -> 12057 | M17: =SUM(J17:L17) -> 120839
A18: 6 | B18: 25083 | C18: Архитектурно-строительные | D18: ='25083'!J223 -> 378177 | E18: 0 | F18: 0 | G18: 0 | H18: =SUM(D18:G18) -> 378177 | J18: =ROUND(D18*5.98,0) -> 2261498 | K18: =ROUND(E18*5.98,0) -> 0 | L18: =ROUND(F18*4.21,0) -> 0 | M18: =SUM(J18:L18) -> 2261498
A19: 7 | B19: 25085 | C19: Теплоснабжение | D19: ='25085'!J120 -> 39285 | E19: ='25085'!J121 -> 5392 | F19: 0 | G19: 0 | H19: =SUM(D19:G19) -> 44677 | J19: =ROUND(D19*5.98,0) -> 234924 | K19: =ROUND(E19*5.98,0) -> 32244 | L19: =ROUND(F19*4.21,0) -> 0 | M19: =SUM(J19:L19) -> 267168
C20: Итого в базисных ценах 2000 г. | D20: =SUM(D13:D19) -> 540170 | E20: =SUM(E13:E19) -> 292405 | F20: =SUM(F13:F19) -> 85879 | G20: =SUM(G13:G19) -> 0 | H20: =SUM(D20:G20) -> 918454 | J20: =SUM(J13:J19) -> 3230216 | K20: =SUM(K13:K19) -> 1748582 | L20: =SUM(L13:L19) -> 361550 | M20: =SUM(M13:M19) -> 5340348
C21: Всего в ценах 2014 (Ксмр=5,98, Коб.=4,21) | D21: =ROUND(D20*5.98,0)-1 -> 3230216 | E21: =ROUND(E20*5.98,0) -> 1748582 | F21: =ROUND(F20*4.21,0)-1 -> 361550 | G21: =ROUND(G20*10.48,0) -> 0 | H21: =SUM(D21:G21) -> 5340348
C22: НДС 18% | D22: =ROUND(D21*18%,2) -> 581438.88 | E22: =ROUND(E21*18%,2) -> 314744.76 | F22: =ROUND(F21*18%,2) -> 65079 | G22: =ROUND(G21*18%,2) -> 0 | H22: =SUM(D22:G22) -> 961262.64
C23: Всего в ценах 2014 с НДС | D23: =SUM(D21:D22) -> 3811654.9 | E23: =SUM(E21:E22) -> 2063326.8 | F23: =SUM(F21:F22) -> 426629 | G23: =SUM(G21:G22) -> 0 | H23: =SUM(D23:G23) -> 6301610.6
C27: ЗАКАЗЧИК: | G27: ПОДРЯДЧИК:
C28: Генеральный директор
C29: ФГУП "Комбинат "Электрохимприбор"
C31: __________________ А.В. Новиков
