Workbook

Sheet Смета 12 гр. по ФЕР
A1: =Source!B1 -> Smeta.RU (495) 974-1589 | H1: ПРИЛОЖЕНИЕ 1 к ФОРМЕ 7
B9: СМЕТА
B11: Капитальный ремонт оконных проемов с заменой деревянных оконных блоков на оконные блоки из ПВХ в помещениях №501-№532 5-го этажа, № 401-№ 432 4-го этажа в здании общежития Димитровградского инженерно-технологического института - филиала НИЯУ МИФИ (ДИТИ НИЯУ МИФИ) по адресу: Ульяновская область, г. Димитровград, ул. Куйбышева, д. 292 | AD11: =IF(Source!G12<>"Новый объект", Source!G12, "") -> Капитальный ремонт окооных проемов общежития ДИТИ НИЯУ МИФИ_цена поставщика
G14: базовая цена | I14: текущая цена
C15: Сметная стоимость | G15: =SUM(O1:O88)/1000 -> 148.5257 | I15: =(Source!P119/1000) -> 1151.7413 | K15: тыс. руб.
C16: Строительные работы | G16: =SUM(W1:W88)/1000 -> 148.5257 | I16: =(Source!P106)/1000 -> 976.05194 | K16: тыс. руб.
C17: Нормативная трудоемкость | G17: =I17 -> 882.85722 | I17: =(Source!P111+Source!P112) -> 882.85722 | K17: чел. -ч.
C18: Средства на оплату труда | G18: =SUM(R1:R88)/1000 -> 7.69804 | I18: =((Source!P104 + Source!P103)/1000) -> 50.57613 | K18: тыс. руб.
A20: Составлена в ценах IV квартал 2017 года
A21: № п/п | B21: Шифр расценки и коды ресурсов | C21: Наименование работ и затрат | D21: Ед. изм. | E21: Кол-во единиц | F21: Цена на ед. изм. | G21: Попра-вочные коэфф. | H21: Стоимость в ценах 2001г. | I21: Пункт коэфф. пересчета | J21: Коэфф. пересчета | K21: Стоимость в текущих ценах | L21: ЗТР всего чел.-час
A22: 1 | B22: 2 | C22: 3 | D22: 4 | E22: 5 | F22: 6 | G22: 7 | H22: 8 | I22: 9 | J22: 10 | K22: 11 | L22: 12
A24: =CONCATENATE("Локальная смета: ",IF(Source!G20<>"Новая локальная смета", Source!G20, "")) -> Локальная смета:
A25: =Source!E25 -> 1 | B25: =Source!F25 -> 46-04-012-01 | C25: =Source!G25 -> Разборка деревянных заполнений проемов оконных с подоконными досками | D25: =Source!H25 -> 100 м2 | E25: =Source!I25 -> 1.6128 | F25: =Source!AL25+Source!AM25+Source!AO25 -> 1767.24 | I25: =Source!BO25 | S25: =ROUND((Source!FX25/100)*((ROUND(Source!AF25*Source!I25, 2)+ROUND(Source!AE25*Source!I25, 2))), 2) -> 2602.22 | T25: =Source!X25 -> 17096.62 | U25: =ROUND((Source!FY25/100)*((ROUND(Source!AF25*Source!I25, 2)+ROUND(Source!AE25*Source!I25, 2))), 2) -> 1563.96 | V25: =Source!Y25 -> 10361.59
C26: ="Объем: "&Source!I25&"=161,28/"&"100" -> Объем: 1,6128=161,28/100
C27: Зарплата | F27: =Source!AO25 -> 1525.29 | G27: =Source!DG25 | H27: =ROUND(Source!AF25*Source!I25, 2) -> 2459.99 | J27: =IF(Source!BA25<> 0, Source!BA25, 1) -> 6.57 | K27: =Source!S25 -> 16162.12 | R27: =H27 -> 2459.99
C28: Эксплуатация машин | F28: =Source!AM25 -> 241.95 | G28: =Source!DE25 | H28: =ROUND(Source!AD25*Source!I25, 2) -> 390.22 | J28: =IF(Source!BB25<> 0, Source!BB25, 1) -> 6.57 | K28: =Source!Q25 -> 2563.73
C29: в т.ч. зарплата машинистов | F29: =Source!AN25 -> 104.49 | G29: =Source!DF25 | H29: =ROUND(Source!AE25*Source!I25, 2) -> 168.52 | J29: =IF(Source!BS25<> 0, Source!BS25, 1) -> 6.57 | K29: =Source!R25 -> 1107.19 | R29: =H29 -> 168.52
C30: НР от ФОТ | D30: % | E30: =Source!BZ25 -> 110 | F30: =CONCATENATE(" )", Source!DL25, Source!FT25, "=", Source!FX25) -> )*0,9=99 | H30: =SUM(S25:S32) -> 2602.22 | J30: =Source!AT25 -> 99 | K30: =SUM(T25:T32) -> 17096.62
C31: СП от ФОТ | D31: % | E31: =Source!CA25 -> 70 | F31: =CONCATENATE(" )", Source!DM25, Source!FU25, "=", Source!FY25) -> )*0,85=59,5 | H31: =SUM(U25:U32) -> 1563.96 | J31: =Source!AU25 -> 60 | K31: =SUM(V25:V32) -> 10361.59
C32: Затраты труда | D32: чел-ч | E32: =Source!AQ25 -> 188.54 | G32: =Source!DI25 | L32: =Source!U25 -> 304.07731
G33: =H27+H28+H30+H31 -> 7016.39 | J33: =K27+K28+K30+K31 -> 46184.06 | L33: =Source!U25 -> 304.07731 | O33: =G33 -> 7016.39 | P33: =J33 -> 46184.06 | Q33: =L33 -> 304.07731 | W33: =IF(Source!BI25<=1,H27+H28+H30+H31, 0) -> 7016.39 | X33: =IF(Source!BI25=2,H27+H28+H30+H31, 0) -> 0 | Y33: =IF(Source!BI25=3,H27+H28+H30+H31, 0) -> 0 | Z33: =IF(Source!BI25=4,H27+H28+H30+H31, 0) -> 0
A34: =Source!E27 -> 2 | B34: =Source!F27 -> 10-01-034-08 | C34: =Source!G27 -> Установка в жилых и общественных зданиях оконных блоков из ПВХ профилей поворотных (откидных, поворотно-откидных) с площадью проема более 2 м2 трехстворчатых, в том числе при наличии створок глухого остекления | D34: =Source!H27 -> 100 м2 | E34: =Source!I27 -> 1.6128 | F34: =Source!AL27+Source!AM27+Source!AO27 -> 10107.89 | I34: =Source!BO27 | S34: =ROUND((Source!FX27/100)*((ROUND(Source!AF27*Source!I27, 2)+ROUND(Source!AE27*Source!I27, 2))), 2) -> 2319.09 | T34: =Source!X27 -> 15207.72 | U34: =ROUND((Source!FY27/100)*((ROUND(Source!AF27*Source!I27, 2)+ROUND(Source!AE27*Source!I27, 2))), 2) -> 1169.37 | V34: =Source!Y27 -> 7747.33
C35: ="Объем: "&Source!I27&"=161,28/"&"100" -> Объем: 1,6128=161,28/100
C36: Зарплата | F36: =Source!AO27 -> 1303.66 | G36: =Source!DG27 | H36: =ROUND(Source!AF27*Source!I27, 2) -> 2102.54 | J36: =IF(Source!BA27<> 0, Source!BA27, 1) -> 6.57 | K36: =Source!S27 -> 13813.71 | R36: =H36 -> 2102.54
C37: Эксплуатация машин | F37: =Source!AM27 -> 255.21 | G37: =Source!DE27 | H37: =ROUND(Source!AD27*Source!I27, 2) -> 411.6 | J37: =IF(Source!BB27<> 0, Source!BB27, 1) -> 6.57 | K37: =Source!Q27 -> 2704.23
C38: в т.ч. зарплата машинистов | F38: =Source!AN27 -> 50.32 | G38: =Source!DF27 | H38: =ROUND(Source!AE27*Source!I27, 2) -> 81.16 | J38: =IF(Source!BS27<> 0, Source!BS27, 1) -> 6.57 | K38: =Source!R27 -> 533.2 | R38: =H38 -> 81.16
C39: Материальные ресурсы | F39: =Source!AL27 -> 8549.02 | G39: =Source!DD27 | H39: =ROUND(Source!AC27*Source!I27, 2) -> 13787.86 | J39: =IF(Source!BC27<> 0, Source!BC27, 1) -> 6.57 | K39: =Source!P27 -> 90586.24
C40: НР от ФОТ | D40: % | E40: =Source!BZ27 -> 118 | F40: =CONCATENATE(" )", Source!DL27, Source!FT27, "=", Source!FX27) -> )*0,9=106,2 | H40: =SUM(S34:S43) -> 2319.09 | J40: =Source!AT27 -> 106 | K40: =SUM(T34:T43) -> 15207.72
C41: СП от ФОТ | D41: % | E41: =Source!CA27 -> 63 | F41: =CONCATENATE(" )", Source!DM27, Source!FU27, "=", Source!FY27) -> )*0,85=53,55 | H41: =SUM(U34:U43) -> 1169.37 | J41: =Source!AU27 -> 54 | K41: =SUM(V34:V43) -> 7747.33
C42: Затраты труда | D42: чел-ч | E42: =Source!AQ27 -> 149.16 | G42: =Source!DI27 | L42: =Source!U27 -> 240.56525
A43: =Source!E29 -> 2,1 | B43: =Source!F29 -> Цена поставщика | C43: Блок оконный пластиковый Базисная стоимость: 446,07 = [3 458,17 / 1,18 / 6,57] | D43: =Source!H29 -> м2 | E43: =Source!I29 -> 161.28 | F43: =Source!AL29+Source!AM29+Source!AO29 -> 446.07 | H43: =ROUND(Source!AC29*Source!I29, 2)+ROUND(Source!AD29*Source!I29, 2)+ROUND(Source!AF29*Source!I29, 2) -> 71942.17 | J43: =IF(Source!BC29<> 0, Source!BC29, 1) -> 6.57 | K43: =Source!O29 -> 472660.05 | S43: =ROUND((Source!FX29/100)*((ROUND(Source!AF29*Source!I29, 2)+ROUND(Source!AE29*Source!I29, 2))), 2) -> 0 | T43: =Source!X29 -> 0 | U43: =ROUND((Source!FY29/100)*((ROUND(Source!AF29*Source!I29, 2)+ROUND(Source!AE29*Source!I29, 2))), 2) -> 0 | V43: =Source!Y29 -> 0 | W43: =IF(Source!BI29<=1,H43, 0) -> 71942.17 | X43: =IF(Source!BI29=2,H43, 0) -> 0 | Y43: =IF(Source!BI29=3,H43, 0) -> 0 | Z43: =IF(Source!BI29=4,H43, 0) -> 0
G44: =H36+H37+H39+H40+H41+SUM(H43:H43) -> 91732.63 | J44: =K36+K37+K39+K40+K41+SUM(K43:K43) -> 602719.28 | L44: =Source!U27 -> 240.56525 | O44: =G44 -> 91732.63 | P44: =J44 -> 602719.28 | Q44: =L44 -> 240.56525 | W44: =IF(Source!BI27<=1,H36+H37+H39+H40+H41, 0) -> 19790.46 | X44: =IF(Source!BI27=2,H36+H37+H39+H40+H41, 0) -> 0 | Y44: =IF(Source!BI27=3,H36+H37+H39+H40+H41, 0) -> 0 | Z44: =IF(Source!BI27=4,H36+H37+H39+H40+H41, 0) -> 0
A45: =Source!E31 -> 3 | B45: =Source!F31 -> 10-01-035-03 | C45: =Source!G31 -> Установка подоконных досок из ПВХ в каменных стенах толщиной свыше 0,51 м | D45: =Source!H31 -> 100 м | E45: =Source!I31 -> 1.12 | F45: =Source!AL31+Source!AM31+Source!AO31 -> 6481.17 | I45: =Source!BO31 | S45: =ROUND((Source!FX31/100)*((ROUND(Source!AF31*Source!I31, 2)+ROUND(Source!AE31*Source!I31, 2))), 2) -> 222.18 | T45: =Source!X31 -> 1457.02 | U45: =ROUND((Source!FY31/100)*((ROUND(Source!AF31*Source!I31, 2)+ROUND(Source!AE31*Source!I31, 2))), 2) -> 112.03 | V45: =Source!Y31 -> 742.26
C46: ="Объем: "&Source!I31&"=112/"&"100" -> Объем: 1,12=112/100
C47: Зарплата | F47: =Source!AO31 -> 182.37 | G47: =Source!DG31 | H47: =ROUND(Source!AF31*Source!I31, 2) -> 204.25 | J47: =IF(Source!BA31<> 0, Source!BA31, 1) -> 6.57 | K47: =Source!S31 -> 1341.95 | R47: =H47 -> 204.25
C48: Эксплуатация машин | F48: =Source!AM31 -> 21.9 | G48: =Source!DE31 | H48: =ROUND(Source!AD31*Source!I31, 2) -> 24.53 | J48: =IF(Source!BB31<> 0, Source!BB31, 1) -> 6.57 | K48: =Source!Q31 -> 161.15
C49: в т.ч. зарплата машинистов | F49: =Source!AN31 -> 4.43 | G49: =Source!DF31 | H49: =ROUND(Source!AE31*Source!I31, 2) -> 4.96 | J49: =IF(Source!BS31<> 0, Source!BS31, 1) -> 6.57 | K49: =Source!R31 -> 32.6 | R49: =H49 -> 4.96
C50: Материальные ресурсы | F50: =Source!AL31 -> 6276.9 | G50: =Source!DD31 | H50: =ROUND(Source!AC31*Source!I31, 2) -> 7030.13 | J50: =IF(Source!BC31<> 0, Source!BC31, 1) -> 6.57 | K50: =Source!P31 -> 46187.94
C51: НР от ФОТ | D51: % | E51: =Source!BZ31 -> 118 | F51: =CONCATENATE(" )", Source!DL31, Source!FT31, "=", Source!FX31) -> )*0,9=106,2 | H51: =SUM(S45:S54) -> 222.18 | J51: =Source!AT31 -> 106 | K51: =SUM(T45:T54) -> 1457.02
C52: СП от ФОТ | D52: % | E52: =Source!CA31 -> 63 | F52: =CONCATENATE(" )", Source!DM31, Source!FU31, "=", Source!FY31) -> )*0,85=53,55 | H52: =SUM(U45:U54) -> 112.03 | J52: =Source!AU31 -> 54 | K52: =SUM(V45:V54) -> 742.26
...

Sheet Акт КС-2 c НР и СП
A1: =Source!B1 -> Smeta.RU (495) 974-1589
E2: Унифицированная форма № КС-2
E3: Утверждена постановлением Госкомстата России
E4: от 11.11.99. № 100
G6: Код
F7: Форма по ОКУД | G7: 0322005
G8: =IF(Source!AT15 <> "", Source!AT15, "")
A9: Инвестор | C9: =IF(Source!BA15 <> "", Source!BA15, IF(Source!AU15 <> "", Source!AU15, "")) | F9: по ОКПО
C10: организация, адрес, телефон, факс | G10: =IF(Source!AK15 <> "", Source!AK15, "")
A11: Заказчик | C11: =IF(Source!AX12<> "", Source!AX12, IF(Source!AJ12 <> "", Source!AJ12, "")) | F11: по ОКПО
C12: организация, адрес, телефон, факс | G12: =IF(Source!AO15 <> "", Source!AO15, "")
A13: Подрядчик | C13: =IF(Source!AY12<> "", Source!AY12, IF(Source!AN12 <> "", Source!AN12, "")) | F13: по ОКПО
C14: организация, адрес, телефон, факс | G14: =IF(Source!CO15 <> "", Source!CO15, "")
A15: Стройка | C15: Капитальный ремонт окооных проемов общежития ДИТИ НИЯУ МИФИ_цена поставщика | AE15: Капитальный ремонт окооных проемов общежития ДИТИ НИЯУ МИФИ_цена поставщика
C16: наименование, адрес | G16: =IF(Source!CP15 <> "", Source!CP15, "")
A17: Объект | C17: =IF(Source!G12<>"Новый объект", Source!G12, "") -> Капитальный ремонт окооных проемов общежития ДИТИ НИЯУ МИФИ_цена поставщика | AE17: =IF(Source!G12<>"Новый объект", Source!G12, "") -> Капитальный ремонт окооных проемов общежития ДИТИ НИЯУ МИФИ_цена поставщика
C18: наименование
D19: Вид деятельности по ОКДП | G19: =IF(Source!CQ15 <> "", Source!CQ15, "")
D20: Договор подряда | F20: номер | G20: =IF(Source!CR15 <> "", Source!CR15, "")
F21: дата | G21: =IF(Source!CS15 <> 0, Source!CS15, "")
F22: Вид операции | G22: =IF(Source!CT15 <> "", Source!CT15, "")
D24: Номер документа | E24: Дата составления | F24: Отчетный период
F25: с | G25: по
D26: =IF(Source!CN15 <> "", Source!CN15, "") | E26: 43133.489
A28: AKT
A29: О ПРИЕМКЕ ВЫПОЛНЕННЫХ РАБОТ
A31: Сметная (договорная) стоимость в соответствии с договором подряда (субподряда) | F31: =(Source!P119/1000) -> 1151.7413 | H31: тыс.руб
A33: Номер | C33: Наименование работ | D33: Номер единичной расценки | E33: Единица измерения | F33: Выполнено работ
A34: по порядку | B34: поз. по смете | F34: Количество | G34: цена за единицу, руб | H34: стоимость, руб
A35: 1 | B35: 2 | C35: 3 | D35: 4 | E35: 5 | F35: 6 | G35: 7 | H35: 8
A37: =CONCATENATE("Локальная смета: ",IF(Source!G20<>"Новая локальная смета", Source!G20, "")) -> Локальная смета:
A38: 1 | B38: =Source!E25 -> 1 | C38: =Source!G25 -> Разборка деревянных заполнений проемов оконных с подоконными досками | D38: =Source!F25 -> 46-04-012-01 | E38: =Source!H25 -> 100 м2 | F38: =Source!I25 -> 1.6128 | G38: =Source!AB25 -> 1767.24 | H38: =Source!O25 -> 18725.85 | T38: =Source!O25+Source!X25+Source!Y25 -> 46184.06 | U38: =Source!P25 -> 0 | V38: =Source!S25 -> 16162.12 | W38: =Source!Q25 -> 2563.73 | X38: =Source!R25 -> 1107.19 | Y38: =Source!U25 -> 304.07731 | Z38: =Source!V25 -> 12.483072 | AA38: =Source!X25 -> 17096.62 | AB38: =Source!Y25 -> 10361.59
C39: ="Объем: "&Source!I25&"=161,28/"&"100" -> Объем: 1,6128=161,28/100
C40: Коэфф. к ОЗП | D40: =Source!BA25 -> 6.57
C41: Коэфф. к эксплуатации машин | D41: =Source!BB25 -> 6.57
C42: Коэфф. к материалам | D42: =Source!BC25 -> 6.57
C43: Коэфф. к ЗПМ | D43: =Source!BS25 -> 6.57
C44: % НР | F44: =Source!BZ25 -> 110 | G44: =(Source!AF25+Source!AE25)*Source!FX25/100 -> 1613.4822 | H44: =Source!X25 -> 17096.62
C45: % НР с поправкой | G45: =CONCATENATE(Source!DL25,Source!FT25, "=", Source!FX25, "%") -> *0,9=99% | H45: =CONCATENATE(Source!AT25) -> 99
C46: % СП | F46: =Source!CA25 -> 70 | G46: =(Source!AF25+Source!AE25)*Source!FY25/100 -> 969.7191 | H46: =Source!Y25 -> 10361.59
...

Sheet Source
A1: 0 | B1: Smeta.RU (495) 974-1589 | D1: _PS_ | F1: 0 | G1: 0 | H1: 0 | I1: Smeta.RU | J1: НИЯУ МИФИ Доп. раб. место MCCS-0027251 | K1: 0 | L1: 27251 | M1: 10
A12: 1 | B12: 150 | C12: 0 | D12: =ROW(A89) -> 89 | E12: 0 | F12: Новый объект | G12: Капитальный ремонт окооных проемов общежития ДИТИ НИЯУ МИФИ_цена поставщика | I12: 0 | K12: 0 | O12: 0 | P12: 0 | Q12: 0 | R12: 0 | S12: 0 | V12: 0 | BH12: Сметные нормы списания | BI12: Коды ценников | BJ12: 1 | BK12: 1 | BL12: 0 | BM12: 0 | BN12: 1 | BO12: 0 | BP12: 6 | BQ12: 2 | BR12: 1 | BS12: 1 | BT12: 0 | BU12: 0 | BV12: 0 | BW12: 0 | BX12: 0 | BY12: ФЕР-2017 | BZ12: ТР для Версии 10: Центральные регионы (с учетом п-ма 2536-ИП/12/ГС от 22.03.2017 г | CA12: ФЕР-2017 | CB12: ФЕР-2017 | CC12: ФЕР-2017 | CD12: ФЕР-2017 | CE12: Поправки для ГСН 2017 от 31.03.2017 г | CF12: 0 | CG12: 0 | CH12: 524296 | CK12: 0 | EC12: 0
A15: 15 | B15: 1
A18: 52 | B18: =B89 -> 150 | C18: =C89 -> 1 | D18: =D89 -> 12 | E18: =E89 -> 0 | F18: =F89 -> Новый объект | G18: =G89 -> Капитальный ремонт окооных проемов общежития ДИТИ НИЯУ МИФИ_цена поставщика | O18: =O89 -> 508165.03 | P18: =P89 -> 499848.97 | Q18: =Q89 -> 884.6 | R18: =R89 -> 266.58 | S18: =S89 -> 7431.46 | T18: =T89 -> 0 | U18: =U89 -> 862.14202 | V18: =V89 -> 20.7152 | ... GX18: =GX89 -> 0
A20: 3 | B20: 1 | D20: =ROW(A57) -> 57 | F20: Новая локальная смета | G20: Новая локальная смета | I20: 0 | K20: 0 | V20: 0 | BX20: 0 | CF20: 0 | CG20: 0
A22: 52 | B22: =B57 -> 1 | C22: =C57 -> 3 | D22: =D57 -> 20 | E22: =E57 -> 0 | F22: =F57 -> Новая локальная смета | G22: =G57 -> Новая локальная смета | O22: =O57 -> 508165.03 | P22: =P57 -> 499848.97 | Q22: =Q57 -> 884.6 | R22: =R57 -> 266.58 | S22: =S57 -> 7431.46 | T22: =T57 -> 0 | U22: =U57 -> 862.14202 | V22: =V57 -> 20.7152 | ... GX22: =GX57 -> 0
A24: 17 | B24: 1 | C24: =ROW(SmtRes!A3) -> 3 | D24: =ROW(EtalonRes!A3) -> 3 | E24: 1 | F24: 46-04-012-01 | G24: Разборка деревянных заполнений проемов оконных с подоконными досками | H24: 100 м2 | I24: =ROUND(161.28/100,9) -> 1.6128 | J24: 0 | O24: =ROUND(CP24,2) -> 2850.21 | P24: =ROUND(CQ24*I24,2) -> 0 | Q24: =ROUND(CR24*I24,2) -> 390.22 | R24: =ROUND(CS24*I24,2) -> 168.52 | S24: =ROUND(CT24*I24,2) -> 2459.99 | T24: =ROUND(CU24*I24,2) -> 0 | U24: =CV24*I24 -> 304.07731 | V24: =CW24*I24 -> 12.483072 | W24: =ROUND(CX24*I24,2) -> 0 | X24: =ROUND(CY24,2) -> 2207.95 | Y24: =ROUND(CZ24,2) -> 1261.68 | AA24: 16496956 | AB24: =ROUND((AC24+AD24+AF24),6) -> 1767.24 | AC24: =ROUND((ES24),6) -> 0 | AD24: =ROUND((((ET24)-(EU24))+AE24),6) -> 241.95 | AE24: =ROUND((EU24),6) -> 104.49 | AF24: =ROUND((EV24),6) -> 1525.29 | AG24: =ROUND((AP24),6) -> 0 | AH24: =(EW24) -> 188.54 | AI24: =(EX24) -> 7.74 | AJ24: =ROUND((AS24),6) -> 0 | AK24: 1767.24 | AL24: 0 | AM24: 241.95 | AN24: 104.49 | AO24: 1525.29 | AP24: 0 | AQ24: 188.54 | AR24: 7.74 | AS24: 0 | AT24: 84 | AU24: 48 | AV24: 1 | AW24: 1 | AZ24: 1 | BA24: 1 | BB24: 1 | BC24: 1 | BH24: 0 | BI24: 1 | BJ24: ФЕР-2001, 46-04-012-01, приказ Минстроя России №1039/пр от 30.12.2016г. | BM24: 46001 | BN24: 0 | BP24: 0 | BQ24: 2 | BR24: 0 | BS24: 1 | BT24: 1 | BU24: 1 | BV24: 1 | BW24: 1 | BX24: 1 | BZ24: 110 | CA24: 70 | CF24: 0 | CG24: 0 | CM24: 0 | CO24: 0 | CP24: =(P24+Q24+S24) -> 2850.21 | CQ24: =AC24*BC24 -> 0 | CR24: =AD24*BB24 -> 241.95 | CS24: =AE24*BS24 -> 104.49 | CT24: =AF24*BA24 -> 1525.29 | CU24: =AG24 -> 0 | CV24: =AH24 -> 188.54 | CW24: =AI24 -> 7.74 | CX24: =AJ24 -> 0 | CY24: =(((S24+R24)*AT24)/100) -> 2207.9484 | CZ24: =(((S24+R24)*AU24)/100) -> 1261.6848 | DN24: 0 | DO24: 0 | DP24: 1 | DQ24: 1 | DU24: 1005 | DV24: 100 м2 | DW24: 100 м2 | DX24: 100 | EE24: 15139168 | EF24: 2 | EG24: Общестроительные работы | EH24: 0 | EJ24: 1 | EK24: 46001 | EL24: Реконструкция зданий и сооружений | EM24: ФЕР-46 | EQ24: 0 | ER24: 1767.24 | ES24: 0 | ET24: 241.95 | EU24: 104.49 | EV24: 1525.29 | EW24: 188.54 | EX24: 7.74 | EY24: 0 | FQ24: 0 | FR24: =ROUND(IF(AND(BH24=3,BI24=3),P24,0),2) -> 0 | FS24: 0 | FT24: *0,9 | FU24: *0,85 | FV24: *0,85 | FW24: *0,8 | FX24: 99 | FY24: 59.5 | GD24: 0 | GF24: 1630687704 | GG24: 2 | GH24: 1 | GI24: -2 | GJ24: 0 | GK24: =ROUND(R24*(R12)/100,2) -> 0 | GL24: =ROUND(IF(AND(BH24=3,BI24=3,FS24<>0),P24,0),2) -> 0 | GM24: =ROUND(O24+X24+Y24+GK24,2)+GX24 -> 6319.84 | GN24: =IF(OR(BI24=0,BI24=1),ROUND(O24+X24+Y24+GK24,2),0) -> 6319.84 | GO24: =IF(BI24=2,ROUND(O24+X24+Y24+GK24,2),0) -> 0 | GP24: =IF(BI24=4,ROUND(O24+X24+Y24+GK24,2)+GX24,0) -> 0 | GR24: 0 | GS24: 3 | GT24: 0 | GV24: =ROUND(GT24,6) -> 0 | GW24: 1 | GX24: =ROUND(GV24*GW24*I24,2) -> 0 | HA24: 0 | HB24: 0 | IK24: 0
A25: 17 | B25: 1 | C25: =ROW(SmtRes!A6) -> 6 | D25: =ROW(EtalonRes!A6) -> 6 | E25: 1 | F25: 46-04-012-01 | G25: Разборка деревянных заполнений проемов оконных с подоконными досками | H25: 100 м2 | I25: =ROUND(161.28/100,9) -> 1.6128 | J25: 0 | O25: =ROUND(CP25,2) -> 18725.85 | P25: =ROUND(CQ25*I25,2) -> 0 | Q25: =ROUND(CR25*I25,2) -> 2563.73 | R25: =ROUND(CS25*I25,2) -> 1107.19 | S25: =ROUND(CT25*I25,2) -> 16162.12 | T25: =ROUND(CU25*I25,2) -> 0 | U25: =CV25*I25 -> 304.07731 | V25: =CW25*I25 -> 12.483072 | W25: =ROUND(CX25*I25,2) -> 0 | X25: =ROUND(CY25,2) -> 17096.62 | Y25: =ROUND(CZ25,2) -> 10361.59 | AA25: 16497268 | AB25: =ROUND((AC25+AD25+AF25),6) -> 1767.24 | AC25: =ROUND((ES25),6) -> 0 | AD25: =ROUND((((ET25)-(EU25))+AE25),6) -> 241.95 | AE25: =ROUND((EU25),6) -> 104.49 | AF25: =ROUND((EV25),6) -> 1525.29 | AG25: =ROUND((AP25),6) -> 0 | AH25: =(EW25) -> 188.54 | AI25: =(EX25) -> 7.74 | AJ25: =ROUND((AS25),6) -> 0 | AK25: 1767.24 | AL25: 0 | AM25: 241.95 | AN25: 104.49 | AO25: 1525.29 | AP25: 0 | AQ25: 188.54 | AR25: 7.74 | AS25: 0 | AT25: 99 | AU25: 60 | AV25: 1 | AW25: 1 | AZ25: 6.57 | BA25: 6.57 | BB25: 6.57 | BC25: 6.57 | BH25: 0 | BI25: 1 | BJ25: ФЕР-2001, 46-04-012-01, приказ Минстроя России №1039/пр от 30.12.2016г. | BM25: 46001 | BN25: 0 | BP25: 0 | BQ25: 2 | BR25: 0 | BS25: 6.57 | BT25: 1 | BU25: 1 | BV25: 1 | BW25: 1 | BX25: 1 | BZ25: 110 | CA25: 70 | CF25: 0 | CG25: 0 | CM25: 0 | CO25: 0 | CP25: =(P25+Q25+S25) -> 18725.85 | CQ25: =AC25*BC25 -> 0 | CR25: =AD25*BB25 -> 1589.6115 | CS25: =AE25*BS25 -> 686.4993 | CT25: =AF25*BA25 -> 10021.155 | CU25: =AG25 -> 0 | CV25: =AH25 -> 188.54 | CW25: =AI25 -> 7.74 | CX25: =AJ25 -> 0 | CY25: =(((S25+R25)*AT25)/100) -> 17096.617 | CZ25: =(((S25+R25)*AU25)/100) -> 10361.586 | DN25: 0 | DO25: 0 | DP25: 1 | DQ25: 1 | DU25: 1005 | DV25: 100 м2 | DW25: 100 м2 | DX25: 100 | EE25: 15139168 | EF25: 2 | EG25: Общестроительные работы | EH25: 0 | EJ25: 1 | EK25: 46001 | EL25: Реконструкция зданий и сооружений | EM25: ФЕР-46 | EQ25: 0 | ER25: 1767.24 | ES25: 0 | ET25: 241.95 | EU25: 104.49 | EV25: 1525.29 | EW25: 188.54 | EX25: 7.74 | EY25: 0 | FQ25: 0 | FR25: =ROUND(IF(AND(BH25=3,BI25=3),P25,0),2) -> 0 | FS25: 0 | FT25: *0,9 | FU25: *0,85 | FX25: 99 | FY25: 59.5 | GD25: 0 | GF25: 1630687704 | GG25: 1 | GH25: 1 | GI25: 4 | GJ25: 0 | GK25: =ROUND(R25*(S12)/100,2) -> 0 | GL25: =ROUND(IF(AND(BH25=3,BI25=3,FS25<>0),P25,0),2) -> 0 | GM25: =ROUND(O25+X25+Y25+GK25,2)+GX25 -> 46184.06 | GN25: =IF(OR(BI25=0,BI25=1),ROUND(O25+X25+Y25+GK25,2),0) -> 46184.06 | GO25: =IF(BI25=2,ROUND(O25+X25+Y25+GK25,2),0) -> 0 | GP25: =IF(BI25=4,ROUND(O25+X25+Y25+GK25,2)+GX25,0) -> 0 | GR25: 0 | GS25: 0 | GT25: 0 | GV25: =ROUND(GT25,6) -> 0 | GW25: 1 | GX25: =ROUND(GV25*GW25*I25,2) -> 0 | HA25: 0 | HB25: 0 | IK25: 0
A26: 17 | B26: 1 | C26: =ROW(SmtRes!A17) -> 17 | D26: =ROW(EtalonRes!A17) -> 17 | E26: 2 | F26: 10-01-034-08 | G26: Установка в жилых и общественных зданиях оконных блоков из ПВХ профилей поворотных (откидных, поворотно-откидных) с площадью проема более 2 м2 трехстворчатых, в том числе при наличии створок глухого остекления | H26: 100 м2 | I26: =ROUND(161.28/100,9) -> 1.6128 | J26: 0 | O26: =ROUND(CP26,2) -> 16302 | P26: =ROUND(CQ26*I26,2) -> 13787.86 | Q26: =ROUND(CR26*I26,2) -> 411.6 | R26: =ROUND(CS26*I26,2) -> 81.16 | S26: =ROUND(CT26*I26,2) -> 2102.54 | T26: =ROUND(CU26*I26,2) -> 0 | U26: =CV26*I26 -> 240.56525 | V26: =CW26*I26 -> 6.822144 | W26: =ROUND(CX26*I26,2) -> 0 | X26: =ROUND(CY26,2) -> 1965.33 | Y26: =ROUND(CZ26,2) -> 938.99 | AA26: 16496956 | AB26: =ROUND((AC26+AD26+AF26),6) -> 10107.89 | AC26: =ROUND((ES26),6) -> 8549.02 | AD26: =ROUND((((ET26)-(EU26))+AE26),6) -> 255.21 | AE26: =ROUND((EU26),6) -> 50.32 | AF26: =ROUND((EV26),6) -> 1303.66 | AG26: =ROUND((AP26),6) -> 0 | AH26: =(EW26) -> 149.16 | AI26: =(EX26) -> 4.23 | AJ26: =ROUND((AS26),6) -> 0 | AK26: 10107.89 | AL26: 8549.02 | AM26: 255.21 | AN26: 50.32 | AO26: 1303.66 | AP26: 0 | AQ26: 149.16 | AR26: 4.23 | AS26: 0 | AT26: 90 | AU26: 43 | AV26: 1 | AW26: 1 | AZ26: 1 | BA26: 1 | BB26: 1 | BC26: 1 | BH26: 0 | BI26: 1 | BJ26: ФЕР-2001, 10-01-034-08, приказ Минстроя России №1039/пр от 30.12.2016г. | BM26: 10001 | BN26: 0 | BP26: 0 | BQ26: 2 | BR26: 0 | BS26: 1 | BT26: 1 | BU26: 1 | BV26: 1 | BW26: 1 | BX26: 1 | BZ26: 118 | CA26: 63 | CF26: 0 | CG26: 0 | CM26: 0 | CO26: 0 | CP26: =(P26+Q26+S26) -> 16302 | CQ26: =AC26*BC26 -> 8549.02 | CR26: =AD26*BB26 -> 255.21 | CS26: =AE26*BS26 -> 50.32 | CT26: =AF26*BA26 -> 1303.66 | CU26: =AG26 -> 0 | CV26: =AH26 -> 149.16 | CW26: =AI26 -> 4.23 | CX26: =AJ26 -> 0 | CY26: =(((S26+R26)*AT26)/100) -> 1965.33 | CZ26: =(((S26+R26)*AU26)/100) -> 938.991 | DN26: 0 | DO26: 0 | DP26: 1 | DQ26: 1 | DU26: 1005 | DV26: 100 м2 | DW26: 100 м2 | DX26: 100 | EE26: 15139100 | EF26: 2 | EG26: Общестроительные работы | EH26: 0 | EJ26: 1 | EK26: 10001 | EL26: Деревянные конструкции | EM26: ФЕР-10 | EQ26: 0 | ER26: 10107.89 | ES26: 8549.02 | ET26: 255.21 | EU26: 50.32 | EV26: 1303.66 | EW26: 149.16 | EX26: 4.23 | EY26: 0 | FQ26: 0 | FR26: =ROUND(IF(AND(BH26=3,BI26=3),P26,0),2) -> 0 | FS26: 0 | FT26: *0,9 | FU26: *0,85 | FV26: *0,85 | FW26: *0,8 | FX26: 106.2 | FY26: 53.55 | GD26: 0 | GF26: -330529066 | GG26: 2 | GH26: 1 | GI26: -2 | GJ26: 0 | GK26: =ROUND(R26*(R12)/100,2) -> 0 | GL26: =ROUND(IF(AND(BH26=3,BI26=3,FS26<>0),P26,0),2) -> 0 | GM26: =ROUND(O26+X26+Y26+GK26,2)+GX26 -> 19206.32 | GN26: =IF(OR(BI26=0,BI26=1),ROUND(O26+X26+Y26+GK26,2),0) -> 19206.32 | GO26: =IF(BI26=2,ROUND(O26+X26+Y26+GK26,2),0) -> 0 | GP26: =IF(BI26=4,ROUND(O26+X26+Y26+GK26,2)+GX26,0) -> 0 | GR26: 0 | GS26: 3 | GT26: 0 | GV26: =ROUND(GT26,6) -> 0 | GW26: 1 | GX26: =ROUND(GV26*GW26*I26,2) -> 0 | HA26: 0 | HB26: 0 | IK26: 0
A27: 17 | B27: 1 | C27: =ROW(SmtRes!A28) -> 28 | D27: =ROW(EtalonRes!A28) -> 28 | E27: 2 | F27: 10-01-034-08 | G27: Установка в жилых и общественных зданиях оконных блоков из ПВХ профилей поворотных (откидных, поворотно-откидных) с площадью проема более 2 м2 трехстворчатых, в том числе при наличии створок глухого остекления | H27: 100 м2 | I27: =ROUND(161.28/100,9) -> 1.6128 | J27: 0 | O27: =ROUND(CP27,2) -> 107104.18 | P27: =ROUND(CQ27*I27,2) -> 90586.24 | Q27: =ROUND(CR27*I27,2) -> 2704.23 | R27: =ROUND(CS27*I27,2) -> 533.2 | S27: =ROUND(CT27*I27,2) -> 13813.71 | T27: =ROUND(CU27*I27,2) -> 0 | U27: =CV27*I27 -> 240.56525 | V27: =CW27*I27 -> 6.822144 | W27: =ROUND(CX27*I27,2) -> 0 | X27: =ROUND(CY27,2) -> 15207.72 | Y27: =ROUND(CZ27,2) -> 7747.33 | AA27: 16497268 | AB27: =ROUND((AC27+AD27+AF27),6) -> 10107.89 | AC27: =ROUND((ES27),6) -> 8549.02 | AD27: =ROUND((((ET27)-(EU27))+AE27),6) -> 255.21 | AE27: =ROUND((EU27),6) -> 50.32 | AF27: =ROUND((EV27),6) -> 1303.66 | AG27: =ROUND((AP27),6) -> 0 | AH27: =(EW27) -> 149.16 | AI27: =(EX27) -> 4.23 | AJ27: =ROUND((AS27),6) -> 0 | AK27: 10107.89 | AL27: 8549.02 | AM27: 255.21 | AN27: 50.32 | AO27: 1303.66 | AP27: 0 | AQ27: 149.16 | AR27: 4.23 | AS27: 0 | AT27: 106 | AU27: 54 | AV27: 1 | AW27: 1 | AZ27: 6.57 | BA27: 6.57 | BB27: 6.57 | BC27: 6.57 | BH27: 0 | BI27: 1 | BJ27: ФЕР-2001, 10-01-034-08, приказ Минстроя России №1039/пр от 30.12.2016г. | BM27: 10001 | BN27: 0 | BP27: 0 | BQ27: 2 | BR27: 0 | BS27: 6.57 | BT27: 1 | BU27: 1 | BV27: 1 | BW27: 1 | BX27: 1 | BZ27: 118 | CA27: 63 | CF27: 0 | CG27: 0 | CM27: 0 | CO27: 0 | CP27: =(P27+Q27+S27) -> 107104.18 | CQ27: =AC27*BC27 -> 56167.061 | CR27: =AD27*BB27 -> 1676.7297 | CS27: =AE27*BS27 -> 330.6024 | CT27: =AF27*BA27 -> 8565.0462 | CU27: =AG27 -> 0 | CV27: =AH27 -> 149.16 | CW27: =AI27 -> 4.23 | CX27: =AJ27 -> 0 | CY27: =(((S27+R27)*AT27)/100) -> 15207.725 | CZ27: =(((S27+R27)*AU27)/100) -> 7747.3314 | DN27: 0 | DO27: 0 | DP27: 1 | DQ27: 1 | DU27: 1005 | DV27: 100 м2 | DW27: 100 м2 | DX27: 100 | EE27: 15139100 | EF27: 2 | EG27: Общестроительные работы | EH27: 0 | EJ27: 1 | EK27: 10001 | EL27: Деревянные конструкции | EM27: ФЕР-10 | EQ27: 0 | ER27: 10107.89 | ES27: 8549.02 | ET27: 255.21 | EU27: 50.32 | EV27: 1303.66 | EW27: 149.16 | EX27: 4.23 | EY27: 0 | FQ27: 0 | FR27: =ROUND(IF(AND(BH27=3,BI27=3),P27,0),2) -> 0 | FS27: 0 | FT27: *0,9 | FU27: *0,85 | FX27: 106.2 | FY27: 53.55 | GD27: 0 | GF27: -330529066 | GG27: 1 | GH27: 1 | GI27: 4 | GJ27: 0 | GK27: =ROUND(R27*(S12)/100,2) -> 0 | GL27: =ROUND(IF(AND(BH27=3,BI27=3,FS27<>0),P27,0),2) -> 0 | GM27: =ROUND(O27+X27+Y27+GK27,2)+GX27 -> 130059.23 | GN27: =IF(OR(BI27=0,BI27=1),ROUND(O27+X27+Y27+GK27,2),0) -> 130059.23 | GO27: =IF(BI27=2,ROUND(O27+X27+Y27+GK27,2),0) -> 0 | GP27: =IF(BI27=4,ROUND(O27+X27+Y27+GK27,2)+GX27,0) -> 0 | GR27: 0 | GS27: 0 | GT27: 0 | GV27: =ROUND(GT27,6) -> 0 | GW27: 1 | GX27: =ROUND(GV27*GW27*I27,2) -> 0 | HA27: 0 | HB27: 0 | IK27: 0
A28: 18 | B28: 1 | C28: 17 | E28: 2,1 | F28: Цена поставщика | G28: Блок оконный пластиковый | H28: м2 | I28: =I26*J28 -> 161.28 | J28: 100 | O28: =ROUND(CP28,2) -> 472655.23 | P28: =ROUND(CQ28*I28,2) -> 472655.23 | Q28: =ROUND(CR28*I28,2) -> 0 | R28: =ROUND(CS28*I28,2) -> 0 | S28: =ROUND(CT28*I28,2) -> 0 | T28: =ROUND(CU28*I28,2) -> 0 | U28: =CV28*I28 -> 0 | V28: =CW28*I28 -> 0 | W28: =ROUND(CX28*I28,2) -> 0 | X28: =ROUND(CY28,2) -> 0 | Y28: =ROUND(CZ28,2) -> 0 | AA28: 16496956 | AB28: =ROUND((AC28+AD28+AF28),6) -> 2930.65 | AC28: =ROUND((ES28),6) -> 2930.65 | AD28: =ROUND((((ET28)-(EU28))+AE28),6) -> 0 | AE28: =ROUND((EU28),6) -> 0 | AF28: =ROUND((EV28),6) -> 0 | AG28: =ROUND((AP28),6) -> 0 | AH28: =(EW28) -> 0 | AI28: =(EX28) -> 0 | AJ28: =ROUND((AS28),6) -> 0 | AK28: 2930.65 | AL28: 2930.65 | AM28: 0 | AN28: 0 | AO28: 0 | AP28: 0 | AQ28: 0 | AR28: 0 | AS28: 0 | AT28: 90 | AU28: 43 | AV28: 1 | AW28: 1 | AZ28: 1 | BA28: 1 | BB28: 1 | BC28: 1 | BH28: 3 | BI28: 1 | BM28: 10001 | BN28: 0 | BP28: 0 | BQ28: 2 | BR28: 0 | BS28: 1 | BT28: 1 | BU28: 1 | BV28: 1 | BW28: 1 | BX28: 1 | BZ28: 118 | CA28: 63 | CF28: 0 | CG28: 0 | CM28: 0 | CO28: 0 | CP28: =(P28+Q28+S28) -> 472655.23 | CQ28: =AC28*BC28 -> 2930.65 | CR28: =AD28*BB28 -> 0 | CS28: =AE28*BS28 -> 0 | CT28: =AF28*BA28 -> 0 | CU28: =AG28 -> 0 | CV28: =AH28 -> 0 | CW28: =AI28 -> 0 | CX28: =AJ28 -> 0 | CY28: =(((S28+R28)*AT28)/100) -> 0 | CZ28: =(((S28+R28)*AU28)/100) -> 0 | DN28: 0 | DO28: 0 | DP28: 1 | DQ28: 1 | DU28: 1005 | DV28: м2 | DW28: м2 | DX28: 1 | EE28: 15139100 | EF28: 2 | EG28: Общестроительные работы | EH28: 0 | EJ28: 1 | EK28: 10001 | EL28: Деревянные конструкции | EM28: ФЕР-10 | EQ28: 0 | ER28: 446.07 | ES28: 2930.65 | ET28: 0 | EU28: 0 | EV28: 0 | EW28: 0 | EX28: 0 | EZ28: 5 | FC28: 1 | FD28: 18 | FF28: 3458.17 | FQ28: 0 | FR28: =ROUND(IF(AND(BH28=3,BI28=3),P28,0),2) -> 0 | FS28: 0 | FT28: *0,9 | FU28: *0,85 | FV28: *0,85 | FW28: *0,8 | FX28: 106.2 | FY28: 53.55 | GA28: [3 458,17 / 1,18] | GD28: 0 | GF28: -1032967554 | GG28: 2 | GH28: 3 | GI28: -2 | GJ28: 0 | GK28: =ROUND(R28*(R12)/100,2) -> 0 | GL28: =ROUND(IF(AND(BH28=3,BI28=3,FS28<>0),P28,0),2) -> 0 | GM28: =ROUND(O28+X28+Y28+GK28,2)+GX28 -> 472655.23 | GN28: =IF(OR(BI28=0,BI28=1),ROUND(O28+X28+Y28+GK28,2),0) -> 472655.23 | GO28: =IF(BI28=2,ROUND(O28+X28+Y28+GK28,2),0) -> 0 | GP28: =IF(BI28=4,ROUND(O28+X28+Y28+GK28,2)+GX28,0) -> 0 | GR28: 1 | GS28: 1 | GT28: 0 | GV28: =ROUND(GT28,6) -> 0 | GW28: 1 | GX28: =ROUND(GV28*GW28*I28,2) -> 0 | HA28: 0 | HB28: 0 | IK28: 0
A29: 18 | B29: 1 | C29: 28 | E29: 2,1 | F29: Цена поставщика | G29: Блок оконный пластиковый | H29: м2 | I29: =I27*J29 -> 161.28 | J29: 100 | O29: =ROUND(CP29,2) -> 472660.05 | P29: =ROUND(CQ29*I29,2) -> 472660.05 | Q29: =ROUND(CR29*I29,2) -> 0 | R29: =ROUND(CS29*I29,2) -> 0 | S29: =ROUND(CT29*I29,2) -> 0 | T29: =ROUND(CU29*I29,2) -> 0 | U29: =CV29*I29 -> 0 | V29: =CW29*I29 -> 0 | W29: =ROUND(CX29*I29,2) -> 0 | X29: =ROUND(CY29,2) -> 0 | Y29: =ROUND(CZ29,2) -> 0 | AA29: 16497268 | AB29: =ROUND((AC29+AD29+AF29),6) -> 446.07 | AC29: =ROUND((ES29),6) -> 446.07 | AD29: =ROUND((((ET29)-(EU29))+AE29),6) -> 0 | AE29: =ROUND((EU29),6) -> 0 | AF29: =ROUND((EV29),6) -> 0 | AG29: =ROUND((AP29),6) -> 0 | AH29: =(EW29) -> 0 | AI29: =(EX29) -> 0 | AJ29: =ROUND((AS29),6) -> 0 | AK29: 446.07 | AL29: 446.07 | AM29: 0 | AN29: 0 | AO29: 0 | AP29: 0 | AQ29: 0 | AR29: 0 | AS29: 0 | AT29: 106 | AU29: 54 | AV29: 1 | AW29: 1 | AZ29: 6.57 | BA29: 1 | BB29: 1 | BC29: 6.57 | BH29: 3 | BI29: 1 | BM29: 10001 | BN29: 0 | BP29: 0 | BQ29: 2 | BR29: 0 | BS29: 1 | BT29: 1 | BU29: 1 | BV29: 1 | BW29: 1 | BX29: 1 | BZ29: 118 | CA29: 63 | CF29: 0 | CG29: 0 | CM29: 0 | CO29: 0 | CP29: =(P29+Q29+S29) -> 472660.05 | CQ29: =AC29*BC29 -> 2930.6799 | CR29: =AD29*BB29 -> 0 | CS29: =AE29*BS29 -> 0 | CT29: =AF29*BA29 -> 0 | CU29: =AG29 -> 0 | CV29: =AH29 -> 0 | CW29: =AI29 -> 0 | CX29: =AJ29 -> 0 | CY29: =(((S29+R29)*AT29)/100) -> 0 | CZ29: =(((S29+R29)*AU29)/100) -> 0 | DN29: 0 | DO29: 0 | DP29: 1 | DQ29: 1 | DU29: 1005 | DV29: м2 | DW29: м2 | DX29: 1 | EE29: 15139100 | EF29: 2 | EG29: Общестроительные работы | EH29: 0 | EJ29: 1 | EK29: 10001 | EL29: Деревянные конструкции | EM29: ФЕР-10 | EQ29: 0 | ER29: 446.07 | ES29: 446.07 | ET29: 0 | EU29: 0 | EV29: 0 | EW29: 0 | EX29: 0 | EZ29: 5 | FC29: 1 | FD29: 18 | FF29: 3458.17 | FQ29: 0 | FR29: =ROUND(IF(AND(BH29=3,BI29=3),P29,0),2) -> 0 | FS29: 0 | FT29: *0,9 | FU29: *0,85 | FX29: 106.2 | FY29: 53.55 | GA29: [3 458,17 / 1,18 / 6,57] | GD29: 0 | GF29: -1032967554 | GG29: 1 | GH29: 3 | GI29: 4 | GJ29: 0 | GK29: =ROUND(R29*(S12)/100,2) -> 0 | GL29: =ROUND(IF(AND(BH29=3,BI29=3,FS29<>0),P29,0),2) -> 0 | GM29: =ROUND(O29+X29+Y29+GK29,2)+GX29 -> 472660.05 | GN29: =IF(OR(BI29=0,BI29=1),ROUND(O29+X29+Y29+GK29,2),0) -> 472660.05 | GO29: =IF(BI29=2,ROUND(O29+X29+Y29+GK29,2),0) -> 0 | GP29: =IF(BI29=4,ROUND(O29+X29+Y29+GK29,2)+GX29,0) -> 0 | GR29: 1 | GS29: 1 | GT29: 0 | GV29: =ROUND(GT29,6) -> 0 | GW29: 1 | GX29: =ROUND(GV29*GW29*I29,2) -> 0 | HA29: 0 | HB29: 0 | IK29: 0
A30: 17 | B30: 1 | C30: =ROW(SmtRes!A35) -> 35 | D30: =ROW(EtalonRes!A35) -> 35 | E30: 3 | F30: 10-01-035-03 | G30: Установка подоконных досок из ПВХ в каменных стенах толщиной свыше 0,51 м | H30: 100 м | I30: =ROUND(112/100,9) -> 1.12 | J30: 0 | O30: =ROUND(CP30,2) -> 7258.91 | P30: =ROUND(CQ30*I30,2) -> 7030.13 | Q30: =ROUND(CR30*I30,2) -> 24.53 | R30: =ROUND(CS30*I30,2) -> 4.96 | S30: =ROUND(CT30*I30,2) -> 204.25 | T30: =ROUND(CU30*I30,2) -> 0 | U30: =CV30*I30 -> 23.9456 | V30: =CW30*I30 -> 0.4144 | W30: =ROUND(CX30*I30,2) -> 0 | X30: =ROUND(CY30,2) -> 188.29 | Y30: =ROUND(CZ30,2) -> 89.96 | AA30: 16496956 | AB30: =ROUND((AC30+AD30+AF30),6) -> 6481.17 | AC30: =ROUND((ES30),6) -> 6276.9 | AD30: =ROUND((((ET30)-(EU30))+AE30),6) -> 21.9 | AE30: =ROUND((EU30),6) -> 4.43 | AF30: =ROUND((EV30),6) -> 182.37 | AG30: =ROUND((AP30),6) -> 0 | AH30: =(EW30) -> 21.38 | AI30: =(EX30) -> 0.37 | AJ30: =ROUND((AS30),6) -> 0 | AK30: 6481.17 | AL30: 6276.9 | AM30: 21.9 | AN30: 4.43 | AO30: 182.37 | AP30: 0 | AQ30: 21.38 | AR30: 0.37 | AS30: 0 | AT30: 90 | AU30: 43 | AV30: 1 | AW30: 1 | AZ30: 1 | BA30: 1 | BB30: 1 | BC30: 1 | BH30: 0 | BI30: 1 | BJ30: ФЕР-2001, 10-01-035-03, приказ Минстроя России №1039/пр от 30.12.2016г. | BM30: 10001 | BN30: 0 | BP30: 0 | BQ30: 2 | BR30: 0 | BS30: 1 | BT30: 1 | BU30: 1 | BV30: 1 | BW30: 1 | BX30: 1 | BZ30: 118 | CA30: 63 | CF30: 0 | CG30: 0 | CM30: 0 | CO30: 0 | CP30: =(P30+Q30+S30) -> 7258.91 | CQ30: =AC30*BC30 -> 6276.9 | CR30: =AD30*BB30 -> 21.9 | CS30: =AE30*BS30 -> 4.43 | CT30: =AF30*BA30 -> 182.37 | CU30: =AG30 -> 0 | CV30: =AH30 -> 21.38 | CW30: =AI30 -> 0.37 | CX30: =AJ30 -> 0 | CY30: =(((S30+R30)*AT30)/100) -> 188.289 | CZ30: =(((S30+R30)*AU30)/100) -> 89.9603 | DN30: 0 | DO30: 0 | DP30: 1 | DQ30: 1 | DU30: 1003 | DV30: 100 м | DW30: 100 м | DX30: 100 | EE30: 15139100 | EF30: 2 | EG30: Общестроительные работы | EH30: 0 | EJ30: 1 | EK30: 10001 | EL30: Деревянные конструкции | EM30: ФЕР-10 | EQ30: 0 | ER30: 6481.17 | ES30: 6276.9 | ET30: 21.9 | EU30: 4.43 | EV30: 182.37 | EW30: 21.38 | EX30: 0.37 | EY30: 0 | FQ30: 0 | FR30: =ROUND(IF(AND(BH30=3,BI30=3),P30,0),2) -> 0 | FS30: 0 | FT30: *0,9 | FU30: *0,85 | FV30: *0,85 | FW30: *0,8 | FX30: 106.2 | FY30: 53.55 | GD30: 0 | GF30: -1968498593 | GG30: 2 | GH30: 1 | GI30: -2 | GJ30: 0 | GK30: =ROUND(R30*(R12)/100,2) -> 0 | GL30: =ROUND(IF(AND(BH30=3,BI30=3,FS30<>0),P30,0),2) -> 0 | GM30: =ROUND(O30+X30+Y30+GK30,2)+GX30 -> 7537.16 | GN30: =IF(OR(BI30=0,BI30=1),ROUND(O30+X30+Y30+GK30,2),0) -> 7537.16 | GO30: =IF(BI30=2,ROUND(O30+X30+Y30+GK30,2),0) -> 0 | GP30: =IF(BI30=4,ROUND(O30+X30+Y30+GK30,2)+GX30,0) -> 0 | GR30: 0 | GS30: 3 | GT30: 0 | GV30: =ROUND(GT30,6) -> 0 | GW30: 1 | GX30: =ROUND(GV30*GW30*I30,2) -> 0 | HA30: 0 | HB30: 0 | IK30: 0
A31: 17 | B31: 1 | C31: =ROW(SmtRes!A42) -> 42 | D31: =ROW(EtalonRes!A42) -> 42 | E31: 3 | F31: 10-01-035-03 | G31: Установка подоконных досок из ПВХ в каменных стенах толщиной свыше 0,51 м | H31: 100 м | I31: =ROUND(112/100,9) -> 1.12 | J31: 0 | O31: =ROUND(CP31,2) -> 47691.04 | P31: =ROUND(CQ31*I31,2) -> 46187.94 | Q31: =ROUND(CR31*I31,2) -> 161.15 | R31: =ROUND(CS31*I31,2) -> 32.6 | S31: =ROUND(CT31*I31,2) -> 1341.95 | T31: =ROUND(CU31*I31,2) -> 0 | U31: =CV31*I31 -> 23.9456 | V31: =CW31*I31 -> 0.4144 | W31: =ROUND(CX31*I31,2) -> 0 | X31: =ROUND(CY31,2) -> 1457.02 | Y31: =ROUND(CZ31,2) -> 742.26 | AA31: 16497268 | AB31: =ROUND((AC31+AD31+AF31),6) -> 6481.17 | AC31: =ROUND((ES31),6) -> 6276.9 | AD31: =ROUND((((ET31)-(EU31))+AE31),6) -> 21.9 | AE31: =ROUND((EU31),6) -> 4.43 | AF31: =ROUND((EV31),6) -> 182.37 | AG31: =ROUND((AP31),6) -> 0 | AH31: =(EW31) -> 21.38 | AI31: =(EX31) -> 0.37 | AJ31: =ROUND((AS31),6) -> 0 | AK31: 6481.17 | AL31: 6276.9 | AM31: 21.9 | AN31: 4.43 | AO31: 182.37 | AP31: 0 | AQ31: 21.38 | AR31: 0.37 | AS31: 0 | AT31: 106 | AU31: 54 | AV31: 1 | AW31: 1 | AZ31: 6.57 | BA31: 6.57 | BB31: 6.57 | BC31: 6.57 | BH31: 0 | BI31: 1 | BJ31: ФЕР-2001, 10-01-035-03, приказ Минстроя России №1039/пр от 30.12.2016г. | BM31: 10001 | BN31: 0 | BP31: 0 | BQ31: 2 | BR31: 0 | BS31: 6.57 | BT31: 1 | BU31: 1 | BV31: 1 | BW31: 1 | BX31: 1 | BZ31: 118 | CA31: 63 | CF31: 0 | CG31: 0 | CM31: 0 | CO31: 0 | CP31: =(P31+Q31+S31) -> 47691.04 | CQ31: =AC31*BC31 -> 41239.233 | CR31: =AD31*BB31 -> 143.883 | CS31: =AE31*BS31 -> 29.1051 | CT31: =AF31*BA31 -> 1198.1709 | CU31: =AG31 -> 0 | CV31: =AH31 -> 21.38 | CW31: =AI31 -> 0.37 | CX31: =AJ31 -> 0 | CY31: =(((S31+R31)*AT31)/100) -> 1457.023 | CZ31: =(((S31+R31)*AU31)/100) -> 742.257 | DN31: 0 | DO31: 0 | DP31: 1 | DQ31: 1 | DU31: 1003 | DV31: 100 м | DW31: 100 м | DX31: 100 | EE31: 15139100 | EF31: 2 | EG31: Общестроительные работы | EH31: 0 | EJ31: 1 | EK31: 10001 | EL31: Деревянные конструкции | EM31: ФЕР-10 | EQ31: 0 | ER31: 6481.17 | ES31: 6276.9 | ET31: 21.9 | EU31: 4.43 | EV31: 182.37 | EW31: 21.38 | EX31: 0.37 | EY31: 0 | FQ31: 0 | FR31: =ROUND(IF(AND(BH31=3,BI31=3),P31,0),2) -> 0 | FS31: 0 | FT31: *0,9 | FU31: *0,85 | FX31: 106.2 | FY31: 53.55 | GD31: 0 | GF31: -1968498593 | GG31: 1 | GH31: 1 | GI31: 4 | GJ31: 0 | GK31: =ROUND(R31*(S12)/100,2) -> 0 | GL31: =ROUND(IF(AND(BH31=3,BI31=3,FS31<>0),P31,0),2) -> 0 | GM31: =ROUND(O31+X31+Y31+GK31,2)+GX31 -> 49890.32 | GN31: =IF(OR(BI31=0,BI31=1),ROUND(O31+X31+Y31+GK31,2),0) -> 49890.32 | GO31: =IF(BI31=2,ROUND(O31+X31+Y31+GK31,2),0) -> 0 | GP31: =IF(BI31=4,ROUND(O31+X31+Y31+GK31,2)+GX31,0) -> 0 | GR31: 0 | GS31: 0 | GT31: 0 | GV31: =ROUND(GT31,6) -> 0 | GW31: 1 | GX31: =ROUND(GV31*GW31*I31,2) -> 0 | HA31: 0 | HB31: 0 | IK31: 0
A32: 18 | B32: 1 | C32: 35 | E32: 3,1 | F32: Цена поставщика | G32: Доски подоконные ПВХ | H32: м | I32: =I30*J32 -> 112 | J32: 100 | O32: =ROUND(CP32,2) -> 0 | P32: =ROUND(CQ32*I32,2) -> 0 | Q32: =ROUND(CR32*I32,2) -> 0 | R32: =ROUND(CS32*I32,2) -> 0 | S32: =ROUND(CT32*I32,2) -> 0 | T32: =ROUND(CU32*I32,2) -> 0 | U32: =CV32*I32 -> 0 | V32: =CW32*I32 -> 0 | W32: =ROUND(CX32*I32,2) -> 0 | X32: =ROUND(CY32,2) -> 0 | Y32: =ROUND(CZ32,2) -> 0 | AA32: 16496956 | AB32: =ROUND((AC32+AD32+AF32),6) -> 0 | AC32: =ROUND((ES32),6) -> 0 | AD32: =ROUND((((ET32)-(EU32))+AE32),6) -> 0 | AE32: =ROUND((EU32),6) -> 0 | AF32: =ROUND((EV32),6) -> 0 | AG32: =ROUND((AP32),6) -> 0 | AH32: =(EW32) -> 0 | AI32: =(EX32) -> 0 | AJ32: =ROUND((AS32),6) -> 0 | AK32: 0 | AL32: 0 | AM32: 0 | AN32: 0 | AO32: 0 | AP32: 0 | AQ32: 0 | AR32: 0 | AS32: 0 | AT32: 90 | AU32: 43 | AV32: 1 | AW32: 1 | AZ32: 1 | BA32: 1 | BB32: 1 | BC32: 1 | BH32: 3 | BI32: 1 | BM32: 10001 | BN32: 0 | BP32: 0 | BQ32: 2 | BR32: 0 | BS32: 1 | BT32: 1 | BU32: 1 | BV32: 1 | BW32: 1 | BX32: 1 | BZ32: 118 | CA32: 63 | CF32: 0 | CG32: 0 | CM32: 0 | CO32: 0 | CP32: =(P32+Q32+S32) -> 0 | CQ32: =AC32*BC32 -> 0 | CR32: =AD32*BB32 -> 0 | CS32: =AE32*BS32 -> 0 | CT32: =AF32*BA32 -> 0 | CU32: =AG32 -> 0 | CV32: =AH32 -> 0 | CW32: =AI32 -> 0 | CX32: =AJ32 -> 0 | CY32: =(((S32+R32)*AT32)/100) -> 0 | CZ32: =(((S32+R32)*AU32)/100) -> 0 | DN32: 0 | DO32: 0 | DP32: 1 | DQ32: 1 | DU32: 1003 | DV32: м | DW32: м | DX32: 1 | EE32: 15139100 | EF32: 2 | EG32: Общестроительные работы | EH32: 0 | EJ32: 1 | EK32: 10001 | EL32: Деревянные конструкции | EM32: ФЕР-10 | EQ32: 0 | ER32: 0 | ES32: 0 | ET32: 0 | EU32: 0 | EV32: 0 | EW32: 0 | EX32: 0 | FQ32: 0 | FR32: =ROUND(IF(AND(BH32=3,BI32=3),P32,0),2) -> 0 | FS32: 0 | FT32: *0,9 | FU32: *0,85 | FV32: *0,85 | FW32: *0,8 | FX32: 106.2 | FY32: 53.55 | GD32: 0 | GF32: -237550630 | GG32: 2 | GH32: 0 | GI32: -2 | GJ32: 0 | GK32: =ROUND(R32*(R12)/100,2) -> 0 | GL32: =ROUND(IF(AND(BH32=3,BI32=3,FS32<>0),P32,0),2) -> 0 | GM32: =ROUND(O32+X32+Y32+GK32,2)+GX32 -> 0 | GN32: =IF(OR(BI32=0,BI32=1),ROUND(O32+X32+Y32+GK32,2),0) -> 0 | GO32: =IF(BI32=2,ROUND(O32+X32+Y32+GK32,2),0) -> 0 | GP32: =IF(BI32=4,ROUND(O32+X32+Y32+GK32,2)+GX32,0) -> 0 | GR32: 0 | GS32: 3 | GT32: 0 | GV32: =ROUND(GT32,6) -> 0 | GW32: 1 | GX32: =ROUND(GV32*GW32*I32,2) -> 0 | HA32: 0 | HB32: 0 | IK32: 0
A33: 18 | B33: 1 | C33: 42 | E33: 3,1 | F33: Цена поставщика | G33: Доски подоконные ПВХ | H33: м | I33: =I31*J33 -> 112 | J33: 100 | O33: =ROUND(CP33,2) -> 170722.24 | P33: =ROUND(CQ33*I33,2) -> 170722.24 | Q33: =ROUND(CR33*I33,2) -> 0 | R33: =ROUND(CS33*I33,2) -> 0 | S33: =ROUND(CT33*I33,2) -> 0 | T33: =ROUND(CU33*I33,2) -> 0 | U33: =CV33*I33 -> 0 | V33: =CW33*I33 -> 0 | W33: =ROUND(CX33*I33,2) -> 0 | X33: =ROUND(CY33,2) -> 0 | Y33: =ROUND(CZ33,2) -> 0 | AA33: 16497268 | AB33: =ROUND((AC33+AD33+AF33),6) -> 232.01 | AC33: =ROUND((ES33),6) -> 232.01 | AD33: =ROUND((((ET33)-(EU33))+AE33),6) -> 0 | AE33: =ROUND((EU33),6) -> 0 | AF33: =ROUND((EV33),6) -> 0 | AG33: =ROUND((AP33),6) -> 0 | AH33: =(EW33) -> 0 | AI33: =(EX33) -> 0 | AJ33: =ROUND((AS33),6) -> 0 | AK33: 232.01 | AL33: 232.01 | AM33: 0 | AN33: 0 | AO33: 0 | AP33: 0 | AQ33: 0 | AR33: 0 | AS33: 0 | AT33: 106 | AU33: 54 | AV33: 1 | AW33: 1 | AZ33: 6.57 | BA33: 1 | BB33: 1 | BC33: 6.57 | BH33: 3 | BI33: 1 | BM33: 10001 | BN33: 0 | BP33: 0 | BQ33: 2 | BR33: 0 | BS33: 1 | BT33: 1 | BU33: 1 | BV33: 1 | BW33: 1 | BX33: 1 | BZ33: 118 | CA33: 63 | CF33: 0 | CG33: 0 | CM33: 0 | CO33: 0 | CP33: =(P33+Q33+S33) -> 170722.24 | CQ33: =AC33*BC33 -> 1524.3057 | CR33: =AD33*BB33 -> 0 | CS33: =AE33*BS33 -> 0 | CT33: =AF33*BA33 -> 0 | CU33: =AG33 -> 0 | CV33: =AH33 -> 0 | CW33: =AI33 -> 0 | CX33: =AJ33 -> 0 | CY33: =(((S33+R33)*AT33)/100) -> 0 | CZ33: =(((S33+R33)*AU33)/100) -> 0 | DN33: 0 | DO33: 0 | DP33: 1 | DQ33: 1 | DU33: 1003 | DV33: м | DW33: м | DX33: 1 | EE33: 15139100 | EF33: 2 | EG33: Общестроительные работы | EH33: 0 | EJ33: 1 | EK33: 10001 | EL33: Деревянные конструкции | EM33: ФЕР-10 | EQ33: 0 | ER33: 232.01 | ES33: 232.01 | ET33: 0 | EU33: 0 | EV33: 0 | EW33: 0 | EX33: 0 | EZ33: 5 | FC33: 1 | FD33: 18 | FF33: 1798.67 | FQ33: 0 | FR33: =ROUND(IF(AND(BH33=3,BI33=3),P33,0),2) -> 0 | FS33: 0 | FT33: *0,9 | FU33: *0,85 | FX33: 106.2 | FY33: 53.55 | GA33: [1 798,67 / 1,18 / 6,57] | GD33: 0 | GF33: -237550630 | GG33: 1 | GH33: 3 | GI33: 4 | GJ33: 0 | GK33: =ROUND(R33*(S12)/100,2) -> 0 | GL33: =ROUND(IF(AND(BH33=3,BI33=3,FS33<>0),P33,0),2) -> 0 | GM33: =ROUND(O33+X33+Y33+GK33,2)+GX33 -> 170722.24 | GN33: =IF(OR(BI33=0,BI33=1),ROUND(O33+X33+Y33+GK33,2),0) -> 170722.24 | GO33: =IF(BI33=2,ROUND(O33+X33+Y33+GK33,2),0) -> 0 | GP33: =IF(BI33=4,ROUND(O33+X33+Y33+GK33,2)+GX33,0) -> 0 | GR33: 1 | GS33: 1 | GT33: 0 | GV33: =ROUND(GT33,6) -> 0 | GW33: 1 | GX33: =ROUND(GV33*GW33*I33,2) -> 0 | HA33: 0 | HB33: 0 | IK33: 0
A34: 17 | B34: 1 | C34: =ROW(SmtRes!A49) -> 49 | D34: =ROW(EtalonRes!A50) -> 50 | E34: 4 | F34: 58-20-1 | G34: Смена обделок из листовой стали (поясков, сандриков, отливов, карнизов) шириной до 0,4 м | H34: 100 м | I34: =ROUND(112/100,9) -> 1.12 | J34: 0 | O34: =ROUND(CP34,2) -> 508.95 | P34: =ROUND(CQ34*I34,2) -> 107.58 | Q34: =ROUND(CR34*I34,2) -> 5.75 | R34: =ROUND(CS34*I34,2) -> 1.72 | S34: =ROUND(CT34*I34,2) -> 395.62 | T34: =ROUND(CU34*I34,2) -> 0 | U34: =CV34*I34 -> 46.3792 | V34: =CW34*I34 -> 0.1344 | W34: =ROUND(CX34*I34,2) -> 0 | X34: =ROUND(CY34,2) -> 282.11 | Y34: =ROUND(CZ34,2) -> 206.62 | AA34: 16496956 | AB34: =ROUND((AC34+AD34+AF34),6) -> 454.41 | AC34: =ROUND((ES34),6) -> 96.05 | AD34: =ROUND((((ET34)-(EU34))+AE34),6) -> 5.13 | AE34: =ROUND((EU34),6) -> 1.54 | AF34: =ROUND((EV34),6) -> 353.23 | AG34: =ROUND((AP34),6) -> 0 | AH34: =(EW34) -> 41.41 | AI34: =(EX34) -> 0.12 | AJ34: =ROUND((AS34),6) -> 0 | AK34: 454.41 | AL34: 96.05 | AM34: 5.13 | AN34: 1.54 | AO34: 353.23 | AP34: 0 | AQ34: 41.41 | AR34: 0.12 | AS34: 0 | AT34: 71 | AU34: 52 | AV34: 1 | AW34: 1 | AZ34: 1 | BA34: 1 | BB34: 1 | BC34: 1 | BH34: 0 | BI34: 1 | BJ34: ФЕР-2001, 58-20-1, приказ Минстроя России №1039/пр от 30.12.2016г. | BM34: 58001 | BN34: 0 | BP34: 0 | BQ34: 6 | BR34: 0 | BS34: 1 | BT34: 1 | BU34: 1 | BV34: 1 | BW34: 1 | BX34: 1 | BZ34: 83 | CA34: 65 | CF34: 0 | CG34: 0 | CM34: 0 | CO34: 0 | CP34: =(P34+Q34+S34) -> 508.95 | CQ34: =AC34*BC34 -> 96.05 | CR34: =AD34*BB34 -> 5.13 | CS34: =AE34*BS34 -> 1.54 | CT34: =AF34*BA34 -> 353.23 | CU34: =AG34 -> 0 | CV34: =AH34 -> 41.41 | CW34: =AI34 -> 0.12 | CX34: =AJ34 -> 0 | CY34: =(((S34+R34)*AT34)/100) -> 282.1114 | CZ34: =(((S34+R34)*AU34)/100) -> 206.6168 | DN34: 0 | DO34: 0 | DP34: 1 | DQ34: 1 | DU34: 1003 | DV34: 100 м | DW34: 100 м | DX34: 100 | EE34: 15139180 | EF34: 6 | EG34: Ремонтно-строительные работы | EH34: 0 | EJ34: 1 | EK34: 58001 | EL34: Крыши, кровля | EM34: рФЕР-58 | EQ34: 0 | ER34: 454.41 | ES34: 96.05 | ET34: 5.13 | EU34: 1.54 | EV34: 353.23 | EW34: 41.41 | EX34: 0.12 | EY34: 0 | FQ34: 0 | FR34: =ROUND(IF(AND(BH34=3,BI34=3),P34,0),2) -> 0 | FS34: 0 | FV34: *0,85 | FW34: *0,8 | FX34: 83 | FY34: 65 | GD34: 0 | GF34: -58071427 | GG34: 2 | GH34: 1 | GI34: -2 | GJ34: 0 | GK34: =ROUND(R34*(R12)/100,2) -> 0 | GL34: =ROUND(IF(AND(BH34=3,BI34=3,FS34<>0),P34,0),2) -> 0 | GM34: =ROUND(O34+X34+Y34+GK34,2)+GX34 -> 997.68 | GN34: =IF(OR(BI34=0,BI34=1),ROUND(O34+X34+Y34+GK34,2),0) -> 997.68 | GO34: =IF(BI34=2,ROUND(O34+X34+Y34+GK34,2),0) -> 0 | GP34: =IF(BI34=4,ROUND(O34+X34+Y34+GK34,2)+GX34,0) -> 0 | GR34: 0 | GS34: 3 | GT34: 0 | GV34: =ROUND(GT34,6) -> 0 | GW34: 1 | GX34: =ROUND(GV34*GW34*I34,2) -> 0 | HA34: 0 | HB34: 0 | IK34: 0
A35: 17 | B35: 1 | C35: =ROW(SmtRes!A56) -> 56 | D35: =ROW(EtalonRes!A58) -> 58 | E35: 4 | F35: 58-20-1 | G35: Смена обделок из листовой стали (поясков, сандриков, отливов, карнизов) шириной до 0,4 м | H35: 100 м | I35: =ROUND(112/100,9) -> 1.12 | J35: 0 | O35: =ROUND(CP35,2) -> 3343.73 | P35: =ROUND(CQ35*I35,2) -> 706.77 | Q35: =ROUND(CR35*I35,2) -> 37.75 | R35: =ROUND(CS35*I35,2) -> 11.33 | S35: =ROUND(CT35*I35,2) -> 2599.21 | T35: =ROUND(CU35*I35,2) -> 0 | U35: =CV35*I35 -> 46.3792 | V35: =CW35*I35 -> 0.1344 | W35: =ROUND(CX35*I35,2) -> 0 | X35: =ROUND(CY35,2) -> 2166.75 | Y35: =ROUND(CZ35,2) -> 1696.85 | AA35: 16497268 | AB35: =ROUND((AC35+AD35+AF35),6) -> 454.41 | AC35: =ROUND((ES35),6) -> 96.05 | AD35: =ROUND((((ET35)-(EU35))+AE35),6) -> 5.13 | AE35: =ROUND((EU35),6) -> 1.54 | AF35: =ROUND((EV35),6) -> 353.23 | AG35: =ROUND((AP35),6) -> 0 | AH35: =(EW35) -> 41.41 | AI35: =(EX35) -> 0.12 | AJ35: =ROUND((AS35),6) -> 0 | AK35: 454.41 | AL35: 96.05 | AM35: 5.13 | AN35: 1.54 | AO35: 353.23 | AP35: 0 | AQ35: 41.41 | AR35: 0.12 | AS35: 0 | AT35: 83 | AU35: 65 | AV35: 1 | AW35: 1 | AZ35: 6.57 | BA35: 6.57 | BB35: 6.57 | BC35: 6.57 | BH35: 0 | BI35: 1 | BJ35: ФЕР-2001, 58-20-1, приказ Минстроя России №1039/пр от 30.12.2016г. | BM35: 58001 | BN35: 0 | BP35: 0 | BQ35: 6 | BR35: 0 | BS35: 6.57 | BT35: 1 | BU35: 1 | BV35: 1 | BW35: 1 | BX35: 1 | BZ35: 83 | CA35: 65 | CF35: 0 | CG35: 0 | CM35: 0 | CO35: 0 | CP35: =(P35+Q35+S35) -> 3343.73 | CQ35: =AC35*BC35 -> 631.0485 | CR35: =AD35*BB35 -> 33.7041 | CS35: =AE35*BS35 -> 10.1178 | CT35: =AF35*BA35 -> 2320.7211 | CU35: =AG35 -> 0 | CV35: =AH35 -> 41.41 | CW35: =AI35 -> 0.12 | CX35: =AJ35 -> 0 | CY35: =(((S35+R35)*AT35)/100) -> 2166.7482 | CZ35: =(((S35+R35)*AU35)/100) -> 1696.851 | DN35: 0 | DO35: 0 | DP35: 1 | DQ35: 1 | DU35: 1003 | DV35: 100 м | DW35: 100 м | DX35: 100 | EE35: 15139180 | EF35: 6 | EG35: Ремонтно-строительные работы | EH35: 0 | EJ35: 1 | EK35: 58001 | EL35: Крыши, кровля | EM35: рФЕР-58 | EQ35: 0 | ER35: 454.41 | ES35: 96.05 | ET35: 5.13 | EU35: 1.54 | EV35: 353.23 | EW35: 41.41 | EX35: 0.12 | EY35: 0 | FQ35: 0 | FR35: =ROUND(IF(AND(BH35=3,BI35=3),P35,0),2) -> 0 | FS35: 0 | FX35: 83 | FY35: 65 | GD35: 0 | GF35: -58071427 | GG35: 1 | GH35: 1 | GI35: 4 | GJ35: 0 | GK35: =ROUND(R35*(S12)/100,2) -> 0 | GL35: =ROUND(IF(AND(BH35=3,BI35=3,FS35<>0),P35,0),2) -> 0 | GM35: =ROUND(O35+X35+Y35+GK35,2)+GX35 -> 7207.33 | GN35: =IF(OR(BI35=0,BI35=1),ROUND(O35+X35+Y35+GK35,2),0) -> 7207.33 | GO35: =IF(BI35=2,ROUND(O35+X35+Y35+GK35,2),0) -> 0 | GP35: =IF(BI35=4,ROUND(O35+X35+Y35+GK35,2)+GX35,0) -> 0 | GR35: 0 | GS35: 0 | GT35: 0 | GV35: =ROUND(GT35,6) -> 0 | GW35: 1 | GX35: =ROUND(GV35*GW35*I35,2) -> 0 | HA35: 0 | HB35: 0 | IK35: 0
A36: 18 | B36: 1 | C36: 49 | E36: 4,1 | F36: Цена поставщика | G36: Водоотлив оконный шириной планки 250 мм из оцинкованной стали с полимерным покрытием | H36: м | I36: =I34*J36 -> 112 | J36: 100 | O36: =ROUND(CP36,2) -> 0 | P36: =ROUND(CQ36*I36,2) -> 0 | Q36: =ROUND(CR36*I36,2) -> 0 | R36: =ROUND(CS36*I36,2) -> 0 | S36: =ROUND(CT36*I36,2) -> 0 | T36: =ROUND(CU36*I36,2) -> 0 | U36: =CV36*I36 -> 0 | V36: =CW36*I36 -> 0 | W36: =ROUND(CX36*I36,2) -> 0 | X36: =ROUND(CY36,2) -> 0 | Y36: =ROUND(CZ36,2) -> 0 | AA36: 16496956 | AB36: =ROUND((AC36+AD36+AF36),6) -> 0 | AC36: =ROUND((ES36),6) -> 0 | AD36: =ROUND((((ET36)-(EU36))+AE36),6) -> 0 | AE36: =ROUND((EU36),6) -> 0 | AF36: =ROUND((EV36),6) -> 0 | AG36: =ROUND((AP36),6) -> 0 | AH36: =(EW36) -> 0 | AI36: =(EX36) -> 0 | AJ36: =ROUND((AS36),6) -> 0 | AK36: 0 | AL36: 0 | AM36: 0 | AN36: 0 | AO36: 0 | AP36: 0 | AQ36: 0 | AR36: 0 | AS36: 0 | AT36: 71 | AU36: 52 | AV36: 1 | AW36: 1 | AZ36: 1 | BA36: 1 | BB36: 1 | BC36: 1 | BH36: 3 | BI36: 1 | BM36: 58001 | BN36: 0 | BP36: 0 | BQ36: 6 | BR36: 0 | BS36: 1 | BT36: 1 | BU36: 1 | BV36: 1 | BW36: 1 | BX36: 1 | BZ36: 83 | CA36: 65 | CF36: 0 | CG36: 0 | CM36: 0 | CO36: 0 | CP36: =(P36+Q36+S36) -> 0 | CQ36: =AC36*BC36 -> 0 | CR36: =AD36*BB36 -> 0 | CS36: =AE36*BS36 -> 0 | CT36: =AF36*BA36 -> 0 | CU36: =AG36 -> 0 | CV36: =AH36 -> 0 | CW36: =AI36 -> 0 | CX36: =AJ36 -> 0 | CY36: =(((S36+R36)*AT36)/100) -> 0 | CZ36: =(((S36+R36)*AU36)/100) -> 0 | DN36: 0 | DO36: 0 | DP36: 1 | DQ36: 1 | DU36: 1003 | DV36: м | DW36: м | DX36: 1 | EE36: 15139180 | EF36: 6 | EG36: Ремонтно-строительные работы | EH36: 0 | EJ36: 1 | EK36: 58001 | EL36: Крыши, кровля | EM36: рФЕР-58 | EQ36: 0 | ER36: 0 | ES36: 0 | ET36: 0 | EU36: 0 | EV36: 0 | EW36: 0 | EX36: 0 | FQ36: 0 | FR36: =ROUND(IF(AND(BH36=3,BI36=3),P36,0),2) -> 0 | FS36: 0 | FV36: *0,85 | FW36: *0,8 | FX36: 83 | FY36: 65 | GD36: 0 | GF36: -1929252935 | GG36: 2 | GH36: 0 | GI36: -2 | GJ36: 0 | GK36: =ROUND(R36*(R12)/100,2) -> 0 | GL36: =ROUND(IF(AND(BH36=3,BI36=3,FS36<>0),P36,0),2) -> 0 | GM36: =ROUND(O36+X36+Y36+GK36,2)+GX36 -> 0 | GN36: =IF(OR(BI36=0,BI36=1),ROUND(O36+X36+Y36+GK36,2),0) -> 0 | GO36: =IF(BI36=2,ROUND(O36+X36+Y36+GK36,2),0) -> 0 | GP36: =IF(BI36=4,ROUND(O36+X36+Y36+GK36,2)+GX36,0) -> 0 | GR36: 0 | GS36: 3 | GT36: 0 | GV36: =ROUND(GT36,6) -> 0 | GW36: 1 | GX36: =ROUND(GV36*GW36*I36,2) -> 0 | HA36: 0 | HB36: 0 | IK36: 0
A37: 18 | B37: 1 | C37: 56 | E37: 4,1 | F37: Цена поставщика | G37: Водоотлив оконный шириной планки 250 мм из оцинкованной стали с полимерным покрытием | H37: м | I37: =I35*J37 -> 112 | J37: 100 | O37: =ROUND(CP37,2) -> 21074.46 | P37: =ROUND(CQ37*I37,2) -> 21074.46 | Q37: =ROUND(CR37*I37,2) -> 0 | R37: =ROUND(CS37*I37,2) -> 0 | S37: =ROUND(CT37*I37,2) -> 0 | T37: =ROUND(CU37*I37,2) -> 0 | U37: =CV37*I37 -> 0 | V37: =CW37*I37 -> 0 | W37: =ROUND(CX37*I37,2) -> 0 | X37: =ROUND(CY37,2) -> 0 | Y37: =ROUND(CZ37,2) -> 0 | AA37: 16497268 | AB37: =ROUND((AC37+AD37+AF37),6) -> 28.64 | AC37: =ROUND((ES37),6) -> 28.64 | AD37: =ROUND((((ET37)-(EU37))+AE37),6) -> 0 | AE37: =ROUND((EU37),6) -> 0 | AF37: =ROUND((EV37),6) -> 0 | AG37: =ROUND((AP37),6) -> 0 | AH37: =(EW37) -> 0 | AI37: =(EX37) -> 0 | AJ37: =ROUND((AS37),6) -> 0 | AK37: 28.64 | AL37: 28.64 | AM37: 0 | AN37: 0 | AO37: 0 | AP37: 0 | AQ37: 0 | AR37: 0 | AS37: 0 | AT37: 83 | AU37: 65 | AV37: 1 | AW37: 1 | AZ37: 6.57 | BA37: 1 | BB37: 1 | BC37: 6.57 | BH37: 3 | BI37: 1 | BM37: 58001 | BN37: 0 | BP37: 0 | BQ37: 6 | BR37: 0 | BS37: 1 | BT37: 1 | BU37: 1 | BV37: 1 | BW37: 1 | BX37: 1 | BZ37: 83 | CA37: 65 | CF37: 0 | CG37: 0 | CM37: 0 | CO37: 0 | CP37: =(P37+Q37+S37) -> 21074.46 | CQ37: =AC37*BC37 -> 188.1648 | CR37: =AD37*BB37 -> 0 | CS37: =AE37*BS37 -> 0 | CT37: =AF37*BA37 -> 0 | CU37: =AG37 -> 0 | CV37: =AH37 -> 0 | CW37: =AI37 -> 0 | CX37: =AJ37 -> 0 | CY37: =(((S37+R37)*AT37)/100) -> 0 | CZ37: =(((S37+R37)*AU37)/100) -> 0 | DN37: 0 | DO37: 0 | DP37: 1 | DQ37: 1 | DU37: 1003 | DV37: м | DW37: м | DX37: 1 | EE37: 15139180 | EF37: 6 | EG37: Ремонтно-строительные работы | EH37: 0 | EJ37: 1 | EK37: 58001 | EL37: Крыши, кровля | EM37: рФЕР-58 | EQ37: 0 | ER37: 28.64 | ES37: 28.64 | ET37: 0 | EU37: 0 | EV37: 0 | EW37: 0 | EX37: 0 | EZ37: 5 | FC37: 1 | FD37: 18 | FF37: 222 | FQ37: 0 | FR37: =ROUND(IF(AND(BH37=3,BI37=3),P37,0),2) -> 0 | FS37: 0 | FX37: 83 | FY37: 65 | GA37: [222 / 1,18 / 6,57] | GD37: 0 | GF37: -1929252935 | GG37: 1 | GH37: 3 | GI37: 4 | GJ37: 0 | GK37: =ROUND(R37*(S12)/100,2) -> 0 | GL37: =ROUND(IF(AND(BH37=3,BI37=3,FS37<>0),P37,0),2) -> 0 | GM37: =ROUND(O37+X37+Y37+GK37,2)+GX37 -> 21074.46 | GN37: =IF(OR(BI37=0,BI37=1),ROUND(O37+X37+Y37+GK37,2),0) -> 21074.46 | GO37: =IF(BI37=2,ROUND(O37+X37+Y37+GK37,2),0) -> 0 | GP37: =IF(BI37=4,ROUND(O37+X37+Y37+GK37,2)+GX37,0) -> 0 | GR37: 1 | GS37: 1 | GT37: 0 | GV37: =ROUND(GT37,6) -> 0 | GW37: 1 | GX37: =ROUND(GV37*GW37*I37,2) -> 0 | HA37: 0 | HB37: 0 | IK37: 0
A38: 17 | B38: 1 | C38: =ROW(SmtRes!A67) -> 67 | D38: =ROW(EtalonRes!A66) -> 66 | E38: 5 | F38: 15-01-050-04 | G38: Облицовка оконных и дверных откосов декоративным бумажно-слоистым пластиком или листами из синтетических материалов на клее | H38: 100 м2 | I38: =ROUND(148.48/100,9) -> 1.4848 | J38: 0 | O38: =ROUND(CP38,2) -> 2322.09 | P38: =ROUND(CQ38*I38,2) -> 0.53 | Q38: =ROUND(CR38*I38,2) -> 52.5 | R38: =ROUND(CS38*I38,2) -> 10.22 | S38: =ROUND(CT38*I38,2) -> 2269.06 | T38: =ROUND(CU38*I38,2) -> 0 | U38: =CV38*I38 -> 247.17466 | V38: =CW38*I38 -> 0.861184 | W38: =ROUND(CX38*I38,2) -> 0 | X38: =ROUND(CY38,2) -> 1823.42 | Y38: =ROUND(CZ38,2) -> 843.33 | AA38: 16496956 | AB38: =ROUND((AC38+AD38+AF38),6) -> 1563.91 | AC38: =ROUND((ES38),6) -> 0.36 | AD38: =ROUND((((ET38)-(EU38))+AE38),6) -> 35.36 | AE38: =ROUND((EU38),6) -> 6.88 | AF38: =ROUND((EV38),6) -> 1528.19 | AG38: =ROUND((AP38),6) -> 0 | AH38: =(EW38) -> 166.47 | AI38: =(EX38) -> 0.58 | AJ38: =ROUND((AS38),6) -> 0 | AK38: 1563.91 | AL38: 0.36 | AM38: 35.36 | AN38: 6.88 | AO38: 1528.19 | AP38: 0 | AQ38: 166.47 | AR38: 0.58 | AS38: 0 | AT38: 80 | AU38: 37 | AV38: 1 | AW38: 1 | AZ38: 1 | BA38: 1 | BB38: 1 | BC38: 1 | BH38: 0 | BI38: 1 | BJ38: ФЕР-2001, 15-01-050-04, приказ Минстроя России №1039/пр от 30.12.2016г. | BM38: 15001 | BN38: 0 | BP38: 0 | BQ38: 2 | BR38: 0 | BS38: 1 | BT38: 1 | BU38: 1 | BV38: 1 | BW38: 1 | BX38: 1 | BZ38: 105 | CA38: 55 | CF38: 0 | CG38: 0 | CM38: 0 | CO38: 0 | CP38: =(P38+Q38+S38) -> 2322.09 | CQ38: =AC38*BC38 -> 0.36 | CR38: =AD38*BB38 -> 35.36 | CS38: =AE38*BS38 -> 6.88 | CT38: =AF38*BA38 -> 1528.19 | CU38: =AG38 -> 0 | CV38: =AH38 -> 166.47 | CW38: =AI38 -> 0.58 | CX38: =AJ38 -> 0 | CY38: =(((S38+R38)*AT38)/100) -> 1823.424 | CZ38: =(((S38+R38)*AU38)/100) -> 843.3336 | DN38: 0 | DO38: 0 | DP38: 1 | DQ38: 1 | DU38: 1005 | DV38: 100 м2 | DW38: 100 м2 | DX38: 100 | EE38: 15139126 | EF38: 2 | EG38: Общестроительные работы | EH38: 0 | EJ38: 1 | EK38: 15001 | EL38: Отделочные работы | EM38: ФЕР-15 | EQ38: 0 | ER38: 1563.91 | ES38: 0.36 | ET38: 35.36 | EU38: 6.88 | EV38: 1528.19 | EW38: 166.47 | EX38: 0.58 | EY38: 0 | FQ38: 0 | FR38: =ROUND(IF(AND(BH38=3,BI38=3),P38,0),2) -> 0 | FS38: 0 | FT38: *0,9 | FU38: *0,85 | FV38: *0,85 | FW38: *0,8 | FX38: 94.5 | FY38: 46.75 | GD38: 0 | GF38: 251333065 | GG38: 2 | GH38: 1 | GI38: -2 | GJ38: 0 | GK38: =ROUND(R38*(R12)/100,2) -> 0 | GL38: =ROUND(IF(AND(BH38=3,BI38=3,FS38<>0),P38,0),2) -> 0 | GM38: =ROUND(O38+X38+Y38+GK38,2)+GX38 -> 4988.84 | GN38: =IF(OR(BI38=0,BI38=1),ROUND(O38+X38+Y38+GK38,2),0) -> 4988.84 | GO38: =IF(BI38=2,ROUND(O38+X38+Y38+GK38,2),0) -> 0 | GP38: =IF(BI38=4,ROUND(O38+X38+Y38+GK38,2)+GX38,0) -> 0 | GR38: 0 | GS38: 3 | GT38: 0 | GV38: =ROUND(GT38,6) -> 0 | GW38: 1 | GX38: =ROUND(GV38*GW38*I38,2) -> 0 | HA38: 0 | HB38: 0 | IK38: 0
A39: 17 | B39: 1 | C39: =ROW(SmtRes!A78) -> 78 | D39: =ROW(EtalonRes!A74) -> 74 | E39: 5 | F39: 15-01-050-04 | G39: Облицовка оконных и дверных откосов декоративным бумажно-слоистым пластиком или листами из синтетических материалов на клее | H39: 100 м2 | I39: =ROUND(148.48/100,9) -> 1.4848 | J39: 0 | O39: =ROUND(CP39,2) -> 15256.15 | P39: =ROUND(CQ39*I39,2) -> 3.51 | Q39: =ROUND(CR39*I39,2) -> 344.94 | R39: =ROUND(CS39*I39,2) -> 67.12 | S39: =ROUND(CT39*I39,2) -> 14907.7 | T39: =ROUND(CU39*I39,2) -> 0 | U39: =CV39*I39 -> 247.17466 | V39: =CW39*I39 -> 0.861184 | W39: =ROUND(CX39*I39,2) -> 0 | X39: =ROUND(CY39,2) -> 14226.08 | Y39: =ROUND(CZ39,2) -> 7038.17 | AA39: 16497268 | AB39: =ROUND((AC39+AD39+AF39),6) -> 1563.91 | AC39: =ROUND((ES39),6) -> 0.36 | AD39: =ROUND((((ET39)-(EU39))+AE39),6) -> 35.36 | AE39: =ROUND((EU39),6) -> 6.88 | AF39: =ROUND((EV39),6) -> 1528.19 | AG39: =ROUND((AP39),6) -> 0 | AH39: =(EW39) -> 166.47 | AI39: =(EX39) -> 0.58 | AJ39: =ROUND((AS39),6) -> 0 | AK39: 1563.91 | AL39: 0.36 | AM39: 35.36 | AN39: 6.88 | AO39: 1528.19 | AP39: 0 | AQ39: 166.47 | AR39: 0.58 | AS39: 0 | AT39: 95 | AU39: 47 | AV39: 1 | AW39: 1 | AZ39: 6.57 | BA39: 6.57 | BB39: 6.57 | BC39: 6.57 | BH39: 0 | BI39: 1 | BJ39: ФЕР-2001, 15-01-050-04, приказ Минстроя России №1039/пр от 30.12.2016г. | BM39: 15001 | BN39: 0 | BP39: 0 | BQ39: 2 | BR39: 0 | BS39: 6.57 | BT39: 1 | BU39: 1 | BV39: 1 | BW39: 1 | BX39: 1 | BZ39: 105 | CA39: 55 | CF39: 0 | CG39: 0 | CM39: 0 | CO39: 0 | CP39: =(P39+Q39+S39) -> 15256.15 | CQ39: =AC39*BC39 -> 2.3652 | CR39: =AD39*BB39 -> 232.3152 | CS39: =AE39*BS39 -> 45.2016 | CT39: =AF39*BA39 -> 10040.208 | CU39: =AG39 -> 0 | CV39: =AH39 -> 166.47 | CW39: =AI39 -> 0.58 | CX39: =AJ39 -> 0 | CY39: =(((S39+R39)*AT39)/100) -> 14226.079 | CZ39: =(((S39+R39)*AU39)/100) -> 7038.1654 | DN39: 0 | DO39: 0 | DP39: 1 | DQ39: 1 | DU39: 1005 | DV39: 100 м2 | DW39: 100 м2 | DX39: 100 | EE39: 15139126 | EF39: 2 | EG39: Общестроительные работы | EH39: 0 | EJ39: 1 | EK39: 15001 | EL39: Отделочные работы | EM39: ФЕР-15 | EQ39: 0 | ER39: 1563.91 | ES39: 0.36 | ET39: 35.36 | EU39: 6.88 | EV39: 1528.19 | EW39: 166.47 | EX39: 0.58 | EY39: 0 | FQ39: 0 | FR39: =ROUND(IF(AND(BH39=3,BI39=3),P39,0),2) -> 0 | FS39: 0 | FT39: *0,9 | FU39: *0,85 | FX39: 94.5 | FY39: 46.75 | GD39: 0 | GF39: 251333065 | GG39: 1 | GH39: 1 | GI39: 4 | GJ39: 0 | GK39: =ROUND(R39*(S12)/100,2) -> 0 | GL39: =ROUND(IF(AND(BH39=3,BI39=3,FS39<>0),P39,0),2) -> 0 | GM39: =ROUND(O39+X39+Y39+GK39,2)+GX39 -> 36520.4 | GN39: =IF(OR(BI39=0,BI39=1),ROUND(O39+X39+Y39+GK39,2),0) -> 36520.4 | GO39: =IF(BI39=2,ROUND(O39+X39+Y39+GK39,2),0) -> 0 | GP39: =IF(BI39=4,ROUND(O39+X39+Y39+GK39,2)+GX39,0) -> 0 | GR39: 0 | GS39: 0 | GT39: 0 | GV39: =ROUND(GT39,6) -> 0 | GW39: 1 | GX39: =ROUND(GV39*GW39*I39,2) -> 0 | HA39: 0 | HB39: 0 | IK39: 0
