Workbook

Sheet Смета 12 гр. по ФЕР
H3: Приложение 1 к Форме 6 к документации о проведении открытого аукциона в электронной форме
B11: СМЕТА
B12: =IF(Source!G20<>"Новая локальная смета", Source!G20, "")
B14: на создание системы автоматического газового пожаротушения центра обработки данных НИЯУ МИФИ | AD14: =IF(Source!G12<>"Новый объект", Source!G12, "") -> Создание автоматической системы пожаротушения по адресу : г. Москва, Каширское шоссе, д.31,стр.16
G17: базовая цена | I17: текущая цена
C18: Сметная стоимость | G18: =SUM(O29:O786)/1000 -> 467.38456 | I18: =(Source!P572/1000) -> 3797.0324 | K18: тыс. руб.
C19: Строительные работы | G19: =SUM(W29:W786)/1000 -> 24.43419 | I19: =(Source!P559)/1000 -> 165.41936 | K19: тыс. руб.
C20: Монтажные работы | G20: =SUM(X29:X786)/1000 -> 442.95037 | I20: =(Source!P560)/1000 -> 2998.7743 | K20: тыс. руб.
C21: Оборудование | G21: =SUM(Y29:Y786)/1000 -> 0 | I21: =(Source!P551)/1000 -> 0 | K21: тыс. руб.
C22: Прочие работы | G22: =SUM(Z29:Z786)/1000 -> 0 | I22: =(Source!P561+Source!P562)/1000 -> 0 | K22: тыс. руб.
C23: Нормативная трудоемкость | G23: =I23 -> 2794.9557 | I23: =(Source!P564+Source!P565) -> 2794.9557 | K23: чел. -ч.
C24: Средства на оплату труда | G24: =SUM(R29:R786)/1000 -> 30.14654 | I24: =((Source!P557 + Source!P556)/1000) -> 204.09211 | K24: тыс. руб.
A26: Составлена в ценах IV квартал 2018 года
A27: № п/п | B27: Шифр расценки и коды ресурсов | C27: Наименование работ и затрат | D27: Ед. изм. | E27: Кол-во единиц | F27: Цена на ед. изм. | G27: Попра-вочные коэфф. | H27: Стоимость в ценах 2001г. | I27: Пункт коэфф. пересчета | J27: Коэфф. пересчета | K27: Стоимость в текущих ценах | L27: ЗТР всего чел.-час
A28: 1 | B28: 2 | C28: 3 | D28: 4 | E28: 5 | F28: 6 | G28: 7 | H28: 8 | I28: 9 | J28: 10 | K28: 11 | L28: 12
A29: =CONCATENATE("Раздел: ",IF(Source!G24<>"Новый раздел", Source!G24, "")) -> Раздел: Раздел 1 Строительно-монтажные работы. Серверная
A30: =Source!E29 -> 1 | B30: =Source!F29 -> м10-08-001-10 | C30: =Source!G29 -> Приборы приемно-контрольные объектовые на 1 луч | D30: =Source!H29 -> ШТ | E30: =Source!I29 -> 1 | F30: =Source!AL29+Source!AM29+Source!AO29 -> 36.71 | I30: =Source!BO29 | S30: =ROUND((Source!FX29/100)*((ROUND(Source!AF29*Source!I29, 2)+ROUND(Source!AE29*Source!I29, 2))), 2) -> 35.36 | T30: =Source!X29 -> 239.38 | U30: =ROUND((Source!FY29/100)*((ROUND(Source!AF29*Source!I29, 2)+ROUND(Source!AE29*Source!I29, 2))), 2) -> 26.52 | V30: =Source!Y29 -> 179.54
C31: Зарплата | F31: =Source!AO29 -> 32.74 | G31: =Source!DG29 -> )*1,35 | H31: =ROUND(Source!AF29*Source!I29, 2) -> 44.2 | J31: =IF(Source!BA29<> 0, Source!BA29, 1) -> 6.77 | K31: =Source!S29 -> 299.23 | R31: =H31 -> 44.2
C32: Материальные ресурсы | F32: =Source!AL29 -> 3.97 | G32: =Source!DD29 | H32: =ROUND(Source!AC29*Source!I29, 2) -> 3.97 | J32: =IF(Source!BC29<> 0, Source!BC29, 1) -> 6.77 | K32: =Source!P29 -> 26.88
C33: НР от ФОТ | D33: % | E33: =Source!BZ29 -> 80 | H33: =SUM(S30:S36) -> 35.36 | J33: =Source!AT29 -> 80 | K33: =SUM(T30:T36) -> 239.38
C34: СП от ФОТ | D34: % | E34: =Source!CA29 -> 60 | H34: =SUM(U30:U36) -> 26.52 | J34: =Source!AU29 -> 60 | K34: =SUM(V30:V36) -> 179.54
C35: Затраты труда | D35: чел-ч | E35: =Source!AQ29 -> 3.3 | G35: =Source!DI29 -> )*1,35 | L35: =Source!U29 -> 4.455
A36: =Source!E31 -> 1,1 | B36: =Source!F31 -> 61.2.06.01-0007 | C36: =Source!G31 -> Прибор приемно-контрольный и управления автоматическими средствами пожаротушения и оповещателями, марка "С2000- АСПТ" | D36: =Source!H31 -> шт. | E36: =Source!I31 -> 1 | F36: =Source!AL31+Source!AM31+Source!AO31 -> 622.48 | H36: =ROUND(Source!AC31*Source!I31, 2)+ROUND(Source!AD31*Source!I31, 2)+ROUND(Source!AF31*Source!I31, 2) -> 622.48 | J36: =IF(Source!BC31<> 0, Source!BC31, 1) -> 6.77 | K36: =Source!O31 -> 4214.19 | S36: =ROUND((Source!FX31/100)*((ROUND(Source!AF31*Source!I31, 2)+ROUND(Source!AE31*Source!I31, 2))), 2) -> 0 | T36: =Source!X31 -> 0 | U36: =ROUND((Source!FY31/100)*((ROUND(Source!AF31*Source!I31, 2)+ROUND(Source!AE31*Source!I31, 2))), 2) -> 0 | V36: =Source!Y31 -> 0 | W36: =IF(Source!BI31<=1,H36, 0) -> 0 | X36: =IF(Source!BI31=2,H36, 0) -> 622.48 | Y36: =IF(Source!BI31=3,H36, 0) -> 0 | Z36: =IF(Source!BI31=4,H36, 0) -> 0
G37: =H31+H32+H33+H34+SUM(H36:H36) -> 732.53 | J37: =K31+K32+K33+K34+SUM(K36:K36) -> 4959.22 | L37: =Source!U29 -> 4.455 | O37: =G37 -> 732.53 | P37: =J37 -> 4959.22 | Q37: =L37 -> 4.455 | W37: =IF(Source!BI29<=1,H31+H32+H33+H34, 0) -> 0 | X37: =IF(Source!BI29=2,H31+H32+H33+H34, 0) -> 110.05 | Y37: =IF(Source!BI29=3,H31+H32+H33+H34, 0) -> 0 | Z37: =IF(Source!BI29=4,H31+H32+H33+H34, 0) -> 0
A38: =Source!E33 -> 2 | B38: =Source!F33 -> м10-04-077-15 | C38: =Source!G33 -> Пульт служебной связи и контроля | D38: =Source!H33 -> ШТ | E38: =Source!I33 -> 1 | F38: =Source!AL33+Source!AM33+Source!AO33 -> 1170.69 | I38: =Source!BO33 | S38: =ROUND((Source!FX33/100)*((ROUND(Source!AF33*Source!I33, 2)+ROUND(Source!AE33*Source!I33, 2))), 2) -> 931.69 | T38: =Source!X33 -> 6307.6 | U38: =ROUND((Source!FY33/100)*((ROUND(Source!AF33*Source!I33, 2)+ROUND(Source!AE33*Source!I33, 2))), 2) -> 658.26 | V38: =Source!Y33 -> 4456.46
C39: Зарплата | F39: =Source!AO33 -> 712.84 | G39: =Source!DG33 -> )*1,35 | H39: =ROUND(Source!AF33*Source!I33, 2) -> 962.33 | J39: =IF(Source!BA33<> 0, Source!BA33, 1) -> 6.77 | K39: =Source!S33 -> 6515 | R39: =H39 -> 962.33
C40: Эксплуатация машин | F40: =Source!AM33 -> 333.86 | G40: =Source!DE33 -> )*1,35 | H40: =ROUND(Source!AD33*Source!I33, 2) -> 450.71 | J40: =IF(Source!BB33<> 0, Source!BB33, 1) -> 6.77 | K40: =Source!Q33 -> 3051.31
C41: в т.ч. зарплата машинистов | F41: =Source!AN33 -> 37.32 | G41: =Source!DF33 -> )*1,35 | H41: =ROUND(Source!AE33*Source!I33, 2) -> 50.38 | J41: =IF(Source!BS33<> 0, Source!BS33, 1) -> 6.77 | K41: =Source!R33 -> 341.09 | R41: =H41 -> 50.38
C42: Материальные ресурсы | F42: =Source!AL33 -> 123.99 | G42: =Source!DD33 | H42: =ROUND(Source!AC33*Source!I33, 2) -> 123.99 | J42: =IF(Source!BC33<> 0, Source!BC33, 1) -> 6.77 | K42: =Source!P33 -> 839.41
C43: НР от ФОТ | D43: % | E43: =Source!BZ33 -> 92 | H43: =SUM(S38:S46) -> 931.69 | J43: =Source!AT33 -> 92 | K43: =SUM(T38:T46) -> 6307.6
C44: СП от ФОТ | D44: % | E44: =Source!CA33 -> 65 | H44: =SUM(U38:U46) -> 658.26 | J44: =Source!AU33 -> 65 | K44: =SUM(V38:V46) -> 4456.46
C45: Затраты труда | D45: чел-ч | E45: =Source!AQ33 -> 74.1 | G45: =Source!DI33 -> )*1,35 | L45: =Source!U33 -> 100.035
A46: =Source!E35 -> 2,1 | B46: =Source!F35 -> 61.2.04.10-0004 | C46: =Source!G35 -> Пульт контроля и управления охранно-пожарный, марка "С2000- М" | D46: =Source!H35 -> шт. | E46: =Source!I35 -> 1 | F46: =Source!AL35+Source!AM35+Source!AO35 -> 627.51 | H46: =ROUND(Source!AC35*Source!I35, 2)+ROUND(Source!AD35*Source!I35, 2)+ROUND(Source!AF35*Source!I35, 2) -> 627.51 | J46: =IF(Source!BC35<> 0, Source!BC35, 1) -> 6.77 | K46: =Source!O35 -> 4248.24 | S46: =ROUND((Source!FX35/100)*((ROUND(Source!AF35*Source!I35, 2)+ROUND(Source!AE35*Source!I35, 2))), 2) -> 0 | T46: =Source!X35 -> 0 | U46: =ROUND((Source!FY35/100)*((ROUND(Source!AF35*Source!I35, 2)+ROUND(Source!AE35*Source!I35, 2))), 2) -> 0 | V46: =Source!Y35 -> 0 | W46: =IF(Source!BI35<=1,H46, 0) -> 0 | X46: =IF(Source!BI35=2,H46, 0) -> 627.51 | Y46: =IF(Source!BI35=3,H46, 0) -> 0 | Z46: =IF(Source!BI35=4,H46, 0) -> 0
G47: =H39+H40+H42+H43+H44+SUM(H46:H46) -> 3754.49 | J47: =K39+K40+K42+K43+K44+SUM(K46:K46) -> 25418.02 | L47: =Source!U33 -> 100.035 | O47: =G47 -> 3754.49 | P47: =J47 -> 25418.02 | Q47: =L47 -> 100.035 | W47: =IF(Source!BI33<=1,H39+H40+H42+H43+H44, 0) -> 0 | X47: =IF(Source!BI33=2,H39+H40+H42+H43+H44, 0) -> 3126.98 | Y47: =IF(Source!BI33=3,H39+H40+H42+H43+H44, 0) -> 0 | Z47: =IF(Source!BI33=4,H39+H40+H42+H43+H44, 0) -> 0
A48: =Source!E37 -> 3 | B48: =Source!F37 -> м10-01-003-06 | C48: =Source!G37 -> Блок релейный | D48: =Source!H37 -> 10 ШТ | E48: =Source!I37 -> 0.1 | F48: =Source!AL37+Source!AM37+Source!AO37 -> 23.61 | I48: =Source!BO37 | S48: =ROUND((Source!FX37/100)*((ROUND(Source!AF37*Source!I37, 2)+ROUND(Source!AE37*Source!I37, 2))), 2) -> 1.9 | T48: =Source!X37 -> 12.92 | U48: =ROUND((Source!FY37/100)*((ROUND(Source!AF37*Source!I37, 2)+ROUND(Source!AE37*Source!I37, 2))), 2) -> 1.43 | V48: =Source!Y37 -> 9.69
C49: ="Объем: "&Source!I37&"=1/"&"10" -> Объем: 0,1=1/10
C50: Зарплата | F50: =Source!AO37 -> 16.97 | G50: =Source!DG37 -> )*1,35 | H50: =ROUND(Source!AF37*Source!I37, 2) -> 2.29 | J50: =IF(Source!BA37<> 0, Source!BA37, 1) -> 6.77 | K50: =Source!S37 -> 15.51 | R50: =H50 -> 2.29
C51: Эксплуатация машин | F51: =Source!AM37 -> 6.3 | G51: =Source!DE37 -> )*1,35 | H51: =ROUND(Source!AD37*Source!I37, 2) -> 0.85 | J51: =IF(Source!BB37<> 0, Source!BB37, 1) -> 6.77 | K51: =Source!Q37 -> 5.76
C52: в т.ч. зарплата машинистов | F52: =Source!AN37 -> 0.7 | G52: =Source!DF37 -> )*1,35 | H52: =ROUND(Source!AE37*Source!I37, 2) -> 0.09 | J52: =IF(Source!BS37<> 0, Source!BS37, 1) -> 6.77 | K52: =Source!R37 -> 0.64 | R52: =H52 -> 0.09
C53: Материальные ресурсы | F53: =Source!AL37 -> 0.34 | G53: =Source!DD37 | H53: =ROUND(Source!AC37*Source!I37, 2) -> 0.03 | J53: =IF(Source!BC37<> 0, Source!BC37, 1) -> 6.77 | K53: =Source!P37 -> 0.23
...

Sheet Source
A1: 0 | B1: Smeta.RU (495) 974-1589 | D1: _PS_ | F1: 0 | G1: 0 | H1: 0 | I1: Smeta.RU | K1: 0 | L1: 13277 | M1: 10 | N1: 10 | O1: 1 | P1: 0 | Q1: 10
A12: 1 | B12: 635 | C12: 0 | D12: =ROW(A574) -> 574 | E12: 0 | F12: Новый объект | G12: Создание автоматической системы пожаротушения по адресу : г. Москва, Каширское шоссе, д.31,стр.16 | I12: 0 | K12: 0 | O12: 0 | P12: 0 | Q12: 0 | R12: 0 | S12: 0 | V12: 0 | BH12: Сметные нормы списания | BI12: Коды ценников | BJ12: 1 | BK12: 1 | BL12: 0 | BM12: 0 | BN12: 1 | BO12: 0 | BP12: 6 | BQ12: 2 | BR12: 1 | BS12: 1 | BT12: 0 | BU12: 0 | BV12: 0 | BW12: 0 | BX12: 0 | BY12: ФЕР-2017 | BZ12: ТР для Версии 10: Центральные регионы (с учетом п-ма 2536-ИП/12/ГС от 22.03.2017 г | CA12: ФЕР-2017 | CB12: ФЕР-2017 | CC12: ФЕР-2017 | CD12: ФЕР-2017 | CE12: Поправки для ГСН 2017 от 31.03.2017 г | CF12: 0 | CG12: 0 | CH12: 17301512 | CK12: 4 | EC12: 0
A15: 15 | B15: 1
A18: 52 | B18: =B574 -> 635 | C18: =C574 -> 1 | D18: =D574 -> 12 | E18: =E574 -> 0 | F18: =F574 -> Новый объект | G18: =G574 -> Создание автоматической системы пожаротушения по адресу : г. Москва, Каширское шоссе, д.31,стр.16 | O18: =O574 -> 1250180 | P18: =P574 -> 1204255.3 | Q18: =Q574 -> 17534 | R18: =R574 -> 1755.84 | S18: =S574 -> 28390.7 | T18: =T574 -> 0 | U18: =U574 -> 2642.0628 | V18: =V574 -> 152.89281 | ... GX18: =GX574 -> 0
A20: 3 | B20: 1 | D20: =ROW(A542) -> 542 | F20: Новая локальная смета | G20: Новая локальная смета | I20: 0 | K20: 0 | V20: 0 | BX20: 0 | CF20: 0 | CG20: 0
A22: 52 | B22: =B542 -> 1 | C22: =C542 -> 3 | D22: =D542 -> 20 | E22: =E542 -> 0 | F22: =F542 -> Новая локальная смета | G22: =G542 -> Новая локальная смета | O22: =O542 -> 1250180 | P22: =P542 -> 1204255.3 | Q22: =Q542 -> 17534 | R22: =R542 -> 1755.84 | S22: =S542 -> 28390.7 | T22: =T542 -> 0 | U22: =U542 -> 2642.0628 | V22: =V542 -> 152.89281 | ... GX22: =GX542 -> 0
A24: 4 | B24: 1 | D24: =ROW(A219) -> 219 | F24: Новый раздел | G24: Раздел 1 Строительно-монтажные работы. Серверная | I24: 0 | K24: 0 | V24: 0 | BX24: 0 | CJ24: 0
A26: 52 | B26: =B219 -> 1 | C26: =C219 -> 4 | D26: =D219 -> 24 | E26: =E219 -> 0 | F26: =F219 -> Новый раздел | G26: =G219 -> Раздел 1 Строительно-монтажные работы. Серверная | O26: =O219 -> 846043.86 | P26: =P219 -> 819143.87 | Q26: =Q219 -> 9935.56 | R26: =R219 -> 950.88 | S26: =S219 -> 16964.43 | T26: =T219 -> 0 | U26: =U219 -> 1615.5291 | V26: =V219 -> 84.376575 | ... GX26: =GX219 -> 0
A28: 17 | B28: 1 | C28: =ROW(SmtRes!A7) -> 7 | D28: =ROW(EtalonRes!A6) -> 6 | E28: 1 | F28: м10-08-001-10 | G28: Приборы приемно-контрольные объектовые на 1 луч | H28: ШТ | I28: 1 | J28: 0 | O28: =ROUND(CP28,2) -> 48.17 | P28: =ROUND(CQ28*I28,2) -> 3.97 | Q28: =ROUND(CR28*I28,2) -> 0 | R28: =ROUND(CS28*I28,2) -> 0 | S28: =ROUND(CT28*I28,2) -> 44.2 | T28: =ROUND(CU28*I28,2) -> 0 | U28: =CV28*I28 -> 4.455 | V28: =CW28*I28 -> 0 | W28: =ROUND(CX28*I28,2) -> 0 | X28: =ROUND(CY28,2) -> 35.36 | Y28: =ROUND(CZ28,2) -> 26.52 | AA28: 39650536 | AB28: =ROUND((AC28+AD28+AF28),6) -> 48.169 | AC28: =ROUND((ES28),6) -> 3.97 | AD28: =ROUND(((((ET28*1.35))-((EU28*1.35)))+AE28),6) -> 0 | AE28: =ROUND(((EU28*1.35)),6) -> 0 | AF28: =ROUND(((EV28*1.35)),6) -> 44.199 | AG28: =ROUND((AP28),6) -> 0 | AH28: =((EW28*1.35)) -> 4.455 | AI28: =((EX28*1.35)) -> 0 | AJ28: =(AS28) -> 0 | AK28: 36.71 | AL28: 3.97 | AM28: 0 | AN28: 0 | AO28: 32.74 | AP28: 0 | AQ28: 3.3 | AR28: 0 | AS28: 0 | AT28: 80 | AU28: 60 | AV28: 1 | AW28: 1 | AZ28: 1 | BA28: 1 | BB28: 1 | BC28: 1 | BH28: 0 | BI28: 2 | BJ28: ФЕРм-2001, м10-08-001-10, приказ Минстроя России №1039/пр от 30.12.2016г. | BM28: 110011 | BN28: 0 | BP28: 0 | BQ28: 3 | BR28: 0 | BS28: 1 | BT28: 1 | BU28: 1 | BV28: 1 | BW28: 1 | BX28: 1 | BZ28: 80 | CA28: 60 | CE28: 0 | CF28: 0 | CG28: 0 | CM28: 0 | CN28: Поправка: Прил.2, Табл.2, п. 1.2 Наименование: Производство работ осуществляется в помещениях эксплуатируемого объекта капитального строительства без остановки рабочего процесса предприятия, при этом: в зоне производства работ имеется один из перечисленных ниже факторов: движение транспорта по внутрицеховым путям; действующее технологическое или лабораторное оборудование, мебель и иные загромождающие помещения предметы | CO28: 0 | CP28: =(P28+Q28+S28) -> 48.17 | CQ28: =AC28*BC28 -> 3.97 | CR28: =AD28*BB28 -> 0 | CS28: =AE28*BS28 -> 0 | CT28: =AF28*BA28 -> 44.199 | CU28: =AG28 -> 0 | CV28: =AH28 -> 4.455 | CW28: =AI28 -> 0 | CX28: =AJ28 -> 0 | CY28: =(((S28+R28)*AT28)/100) -> 35.36 | CZ28: =(((S28+R28)*AU28)/100) -> 26.52 | DE28: )*1,35 | DF28: )*1,35 | DG28: )*1,35 | DI28: )*1,35 | DJ28: )*1,35 | DN28: 0 | DO28: 0 | DP28: 1 | DQ28: 1 | DU28: 1013 | DV28: ШТ | DW28: ШТ | DX28: 1 | EE28: 39174433 | EF28: 3 | EG28: Монтажные работы | EH28: 0 | EJ28: 2 | EK28: 110011 | EL28: Связь: пожарно-охранная сигнализация и пром. телевиз. установки ( отделы 8 и 9 ) (при устройстве средств посадки самолетов : НР=95%, СП=55% - {АВИА}=1) | EM28: мФЕР-10 | EO28: Поправка: Прил.2, Табл.2, п. 1.2 | EQ28: 0 | ER28: 36.71 | ES28: 3.97 | ET28: 0 | EU28: 0 | EV28: 32.74 | EW28: 3.3 | EX28: 0 | EY28: 0 | FQ28: 0 | FR28: =ROUND(IF(AND(BH28=3,BI28=3),P28,0),2) -> 0 | FS28: 0 | FX28: 80 | FY28: 60 | GD28: 1 | GF28: 119056495 | GG28: 2 | GH28: 1 | GI28: -2 | GJ28: 0 | GK28: 0 | GL28: =ROUND(IF(AND(BH28=3,BI28=3,FS28<>0),P28,0),2) -> 0 | GM28: =ROUND(O28+X28+Y28,2)+GX28 -> 110.05 | GN28: =IF(OR(BI28=0,BI28=1),ROUND(O28+X28+Y28,2),0) -> 0 | GO28: =IF(BI28=2,ROUND(O28+X28+Y28,2),0) -> 110.05 | GP28: =IF(BI28=4,ROUND(O28+X28+Y28,2)+GX28,0) -> 0 | GR28: 0 | GS28: 3 | GT28: 0 | GV28: =ROUND((GT28),6) -> 0 | GW28: 1 | GX28: =ROUND(HC28*I28,2) -> 0 | HA28: 0 | HB28: 0 | HC28: =GV28*GW28 -> 0 | IK28: 0
A29: 17 | B29: 1 | C29: =ROW(SmtRes!A14) -> 14 | D29: =ROW(EtalonRes!A12) -> 12 | E29: 1 | F29: м10-08-001-10 | G29: Приборы приемно-контрольные объектовые на 1 луч | H29: ШТ | I29: 1 | J29: 0 | O29: =ROUND(CP29,2) -> 326.11 | P29: =ROUND(CQ29*I29,2) -> 26.88 | Q29: =ROUND(CR29*I29,2) -> 0 | R29: =ROUND(CS29*I29,2) -> 0 | S29: =ROUND(CT29*I29,2) -> 299.23 | T29: =ROUND(CU29*I29,2) -> 0 | U29: =CV29*I29 -> 4.455 | V29: =CW29*I29 -> 0 | W29: =ROUND(CX29*I29,2) -> 0 | X29: =ROUND(CY29,2) -> 239.38 | Y29: =ROUND(CZ29,2) -> 179.54 | AA29: 39650538 | AB29: =ROUND((AC29+AD29+AF29),6) -> 48.169 | AC29: =ROUND((ES29),6) -> 3.97 | AD29: =ROUND(((((ET29*1.35))-((EU29*1.35)))+AE29),6) -> 0 | AE29: =ROUND(((EU29*1.35)),6) -> 0 | AF29: =ROUND(((EV29*1.35)),6) -> 44.199 | AG29: =ROUND((AP29),6) -> 0 | AH29: =((EW29*1.35)) -> 4.455 | AI29: =((EX29*1.35)) -> 0 | AJ29: =(AS29) -> 0 | AK29: 36.71 | AL29: 3.97 | AM29: 0 | AN29: 0 | AO29: 32.74 | AP29: 0 | AQ29: 3.3 | AR29: 0 | AS29: 0 | AT29: 80 | AU29: 60 | AV29: 1 | AW29: 1 | AZ29: 6.77 | BA29: 6.77 | BB29: 6.77 | BC29: 6.77 | BH29: 0 | BI29: 2 | BJ29: ФЕРм-2001, м10-08-001-10, приказ Минстроя России №1039/пр от 30.12.2016г. | BM29: 110011 | BN29: 0 | BP29: 0 | BQ29: 3 | BR29: 0 | BS29: 6.77 | BT29: 1 | BU29: 1 | BV29: 1 | BW29: 1 | BX29: 1 | BZ29: 80 | CA29: 60 | CE29: 0 | CF29: 0 | CG29: 0 | CM29: 0 | CN29: Поправка: Прил.2, Табл.2, п. 1.2 Наименование: Производство работ осуществляется в помещениях эксплуатируемого объекта капитального строительства без остановки рабочего процесса предприятия, при этом: в зоне производства работ имеется один из перечисленных ниже факторов: движение транспорта по внутрицеховым путям; действующее технологическое или лабораторное оборудование, мебель и иные загромождающие помещения предметы | CO29: 0 | CP29: =(P29+Q29+S29) -> 326.11 | CQ29: =AC29*BC29 -> 26.8769 | CR29: =AD29*BB29 -> 0 | CS29: =AE29*BS29 -> 0 | CT29: =AF29*BA29 -> 299.22723 | CU29: =AG29 -> 0 | CV29: =AH29 -> 4.455 | CW29: =AI29 -> 0 | CX29: =AJ29 -> 0 | CY29: =(((S29+R29)*AT29)/100) -> 239.384 | CZ29: =(((S29+R29)*AU29)/100) -> 179.538 | DE29: )*1,35 | DF29: )*1,35 | DG29: )*1,35 | DI29: )*1,35 | DJ29: )*1,35 | DN29: 0 | DO29: 0 | DP29: 1 | DQ29: 1 | DU29: 1013 | DV29: ШТ | DW29: ШТ | DX29: 1 | EE29: 39174433 | EF29: 3 | EG29: Монтажные работы | EH29: 0 | EJ29: 2 | EK29: 110011 | EL29: Связь: пожарно-охранная сигнализация и пром. телевиз. установки ( отделы 8 и 9 ) (при устройстве средств посадки самолетов : НР=95%, СП=55% - {АВИА}=1) | EM29: мФЕР-10 | EO29: Поправка: Прил.2, Табл.2, п. 1.2 | EQ29: 0 | ER29: 36.71 | ES29: 3.97 | ET29: 0 | EU29: 0 | EV29: 32.74 | EW29: 3.3 | EX29: 0 | EY29: 0 | FQ29: 0 | FR29: =ROUND(IF(AND(BH29=3,BI29=3),P29,0),2) -> 0 | FS29: 0 | FX29: 80 | FY29: 60 | GD29: 1 | GF29: 119056495 | GG29: 1 | GH29: 1 | GI29: 4 | GJ29: 0 | GK29: 0 | GL29: =ROUND(IF(AND(BH29=3,BI29=3,FS29<>0),P29,0),2) -> 0 | GM29: =ROUND(O29+X29+Y29,2)+GX29 -> 745.03 | GN29: =IF(OR(BI29=0,BI29=1),ROUND(O29+X29+Y29,2),0) -> 0 | GO29: =IF(BI29=2,ROUND(O29+X29+Y29,2),0) -> 745.03 | GP29: =IF(BI29=4,ROUND(O29+X29+Y29,2)+GX29,0) -> 0 | GR29: 0 | GS29: 3 | GT29: 0 | GV29: =ROUND((GT29),6) -> 0 | GW29: 1 | GX29: =ROUND(HC29*I29,2) -> 0 | HA29: 0 | HB29: 0 | HC29: =GV29*GW29 -> 0 | IK29: 0
A30: 18 | B30: 1 | C30: 6 | E30: 1,1 | F30: 61.2.06.01-0007 | G30: Прибор приемно-контрольный и управления автоматическими средствами пожаротушения и оповещателями, марка "С2000- АСПТ" | H30: шт. | I30: =I28*J30 -> 1 | J30: 1 | O30: =ROUND(CP30,2) -> 622.48 | P30: =ROUND(CQ30*I30,2) -> 622.48 | Q30: =ROUND(CR30*I30,2) -> 0 | R30: =ROUND(CS30*I30,2) -> 0 | S30: =ROUND(CT30*I30,2) -> 0 | T30: =ROUND(CU30*I30,2) -> 0 | U30: =CV30*I30 -> 0 | V30: =CW30*I30 -> 0 | W30: =ROUND(CX30*I30,2) -> 0 | X30: =ROUND(CY30,2) -> 0 | Y30: =ROUND(CZ30,2) -> 0 | AA30: 39650536 | AB30: =ROUND((AC30+AD30+AF30),6) -> 622.48 | AC30: =ROUND((ES30),6) -> 622.48 | AD30: =ROUND((((ET30)-(EU30))+AE30),6) -> 0 | AE30: =ROUND((EU30),6) -> 0 | AF30: =ROUND((EV30),6) -> 0 | AG30: =ROUND((AP30),6) -> 0 | AH30: =(EW30) -> 0 | AI30: =(EX30) -> 0 | AJ30: =(AS30) -> 0 | AK30: 622.48 | AL30: 622.48 | AM30: 0 | AN30: 0 | AO30: 0 | AP30: 0 | AQ30: 0 | AR30: 0 | AS30: 0 | AT30: 80 | AU30: 60 | AV30: 1 | AW30: 1 | AZ30: 1 | BA30: 1 | BB30: 1 | BC30: 1 | BH30: 3 | BI30: 2 | BJ30: ФССЦ-2001, 61.2.06.01-0007, приказ Минстроя России №1039/пр от 30.12.2016г. | BM30: 110011 | BN30: 0 | BP30: 0 | BQ30: 3 | BR30: 0 | BS30: 1 | BT30: 1 | BU30: 1 | BV30: 1 | BW30: 1 | BX30: 1 | BZ30: 80 | CA30: 60 | CE30: 0 | CF30: 0 | CG30: 0 | CM30: 0 | CO30: 0 | CP30: =(P30+Q30+S30) -> 622.48 | CQ30: =AC30*BC30 -> 622.48 | CR30: =AD30*BB30 -> 0 | CS30: =AE30*BS30 -> 0 | CT30: =AF30*BA30 -> 0 | CU30: =AG30 -> 0 | CV30: =AH30 -> 0 | CW30: =AI30 -> 0 | CX30: =AJ30 -> 0 | CY30: =(((S30+R30)*AT30)/100) -> 0 | CZ30: =(((S30+R30)*AU30)/100) -> 0 | DN30: 0 | DO30: 0 | DP30: 1 | DQ30: 1 | DU30: 1010 | DV30: шт. | DW30: шт. | DX30: 1 | EE30: 39174433 | EF30: 3 | EG30: Монтажные работы | EH30: 0 | EJ30: 2 | EK30: 110011 | EL30: Связь: пожарно-охранная сигнализация и пром. телевиз. установки ( отделы 8 и 9 ) (при устройстве средств посадки самолетов : НР=95%, СП=55% - {АВИА}=1) | EM30: мФЕР-10 | EQ30: 0 | ER30: 622.48 | ES30: 622.48 | ET30: 0 | EU30: 0 | EV30: 0 | EW30: 0 | EX30: 0 | FQ30: 0 | FR30: =ROUND(IF(AND(BH30=3,BI30=3),P30,0),2) -> 0 | FS30: 0 | FX30: 80 | FY30: 60 | GD30: 1 | GF30: 378709477 | GG30: 1 | GH30: 1 | GI30: -2 | GJ30: 0 | GK30: 0 | GL30: =ROUND(IF(AND(BH30=3,BI30=3,FS30<>0),P30,0),2) -> 0 | GM30: =ROUND(O30+X30+Y30,2)+GX30 -> 622.48 | GN30: =IF(OR(BI30=0,BI30=1),ROUND(O30+X30+Y30,2),0) -> 0 | GO30: =IF(BI30=2,ROUND(O30+X30+Y30,2),0) -> 622.48 | GP30: =IF(BI30=4,ROUND(O30+X30+Y30,2)+GX30,0) -> 0 | GR30: 0 | GS30: 3 | GT30: 0 | GV30: =ROUND((GT30),6) -> 0 | GW30: 1 | GX30: =ROUND(HC30*I30,2) -> 0 | HA30: 0 | HB30: 0 | HC30: =GV30*GW30 -> 0 | IK30: 0
A31: 18 | B31: 1 | C31: 13 | E31: 1,1 | F31: 61.2.06.01-0007 | G31: Прибор приемно-контрольный и управления автоматическими средствами пожаротушения и оповещателями, марка "С2000- АСПТ" | H31: шт. | I31: =I29*J31 -> 1 | J31: 1 | O31: =ROUND(CP31,2) -> 4214.19 | P31: =ROUND(CQ31*I31,2) -> 4214.19 | Q31: =ROUND(CR31*I31,2) -> 0 | R31: =ROUND(CS31*I31,2) -> 0 | S31: =ROUND(CT31*I31,2) -> 0 | T31: =ROUND(CU31*I31,2) -> 0 | U31: =CV31*I31 -> 0 | V31: =CW31*I31 -> 0 | W31: =ROUND(CX31*I31,2) -> 0 | X31: =ROUND(CY31,2) -> 0 | Y31: =ROUND(CZ31,2) -> 0 | AA31: 39650538 | AB31: =ROUND((AC31+AD31+AF31),6) -> 622.48 | AC31: =ROUND((ES31),6) -> 622.48 | AD31: =ROUND((((ET31)-(EU31))+AE31),6) -> 0 | AE31: =ROUND((EU31),6) -> 0 | AF31: =ROUND((EV31),6) -> 0 | AG31: =ROUND((AP31),6) -> 0 | AH31: =(EW31) -> 0 | AI31: =(EX31) -> 0 | AJ31: =(AS31) -> 0 | AK31: 622.48 | AL31: 622.48 | AM31: 0 | AN31: 0 | AO31: 0 | AP31: 0 | AQ31: 0 | AR31: 0 | AS31: 0 | AT31: 80 | AU31: 60 | AV31: 1 | AW31: 1 | AZ31: 6.77 | BA31: 1 | BB31: 1 | BC31: 6.77 | BH31: 3 | BI31: 2 | BJ31: ФССЦ-2001, 61.2.06.01-0007, приказ Минстроя России №1039/пр от 30.12.2016г. | BM31: 110011 | BN31: 0 | BP31: 0 | BQ31: 3 | BR31: 0 | BS31: 1 | BT31: 1 | BU31: 1 | BV31: 1 | BW31: 1 | BX31: 1 | BZ31: 80 | CA31: 60 | CE31: 0 | CF31: 0 | CG31: 0 | CM31: 0 | CO31: 0 | CP31: =(P31+Q31+S31) -> 4214.19 | CQ31: =AC31*BC31 -> 4214.1896 | CR31: =AD31*BB31 -> 0 | CS31: =AE31*BS31 -> 0 | CT31: =AF31*BA31 -> 0 | CU31: =AG31 -> 0 | CV31: =AH31 -> 0 | CW31: =AI31 -> 0 | CX31: =AJ31 -> 0 | CY31: =(((S31+R31)*AT31)/100) -> 0 | CZ31: =(((S31+R31)*AU31)/100) -> 0 | DN31: 0 | DO31: 0 | DP31: 1 | DQ31: 1 | DU31: 1010 | DV31: шт. | DW31: шт. | DX31: 1 | EE31: 39174433 | EF31: 3 | EG31: Монтажные работы | EH31: 0 | EJ31: 2 | EK31: 110011 | EL31: Связь: пожарно-охранная сигнализация и пром. телевиз. установки ( отделы 8 и 9 ) (при устройстве средств посадки самолетов : НР=95%, СП=55% - {АВИА}=1) | EM31: мФЕР-10 | EQ31: 0 | ER31: 622.48 | ES31: 622.48 | ET31: 0 | EU31: 0 | EV31: 0 | EW31: 0 | EX31: 0 | FQ31: 0 | FR31: =ROUND(IF(AND(BH31=3,BI31=3),P31,0),2) -> 0 | FS31: 0 | FX31: 80 | FY31: 60 | GD31: 1 | GF31: 378709477 | GG31: 1 | GH31: 1 | GI31: 4 | GJ31: 0 | GK31: 0 | GL31: =ROUND(IF(AND(BH31=3,BI31=3,FS31<>0),P31,0),2) -> 0 | GM31: =ROUND(O31+X31+Y31,2)+GX31 -> 4214.19 | GN31: =IF(OR(BI31=0,BI31=1),ROUND(O31+X31+Y31,2),0) -> 0 | GO31: =IF(BI31=2,ROUND(O31+X31+Y31,2),0) -> 4214.19 | GP31: =IF(BI31=4,ROUND(O31+X31+Y31,2)+GX31,0) -> 0 | GR31: 0 | GS31: 3 | GT31: 0 | GV31: =ROUND((GT31),6) -> 0 | GW31: 1 | GX31: =ROUND(HC31*I31,2) -> 0 | HA31: 0 | HB31: 0 | HC31: =GV31*GW31 -> 0 | IK31: 0
A32: 17 | B32: 1 | C32: =ROW(SmtRes!A24) -> 24 | D32: =ROW(EtalonRes!A22) -> 22 | E32: 2 | F32: м10-04-077-15 | G32: Пульт служебной связи и контроля | H32: ШТ | I32: 1 | J32: 0 | O32: =ROUND(CP32,2) -> 1537.03 | P32: =ROUND(CQ32*I32,2) -> 123.99 | Q32: =ROUND(CR32*I32,2) -> 450.71 | R32: =ROUND(CS32*I32,2) -> 50.38 | S32: =ROUND(CT32*I32,2) -> 962.33 | T32: =ROUND(CU32*I32,2) -> 0 | U32: =CV32*I32 -> 100.035 | V32: =CW32*I32 -> 5.0085 | W32: =ROUND(CX32*I32,2) -> 0 | X32: =ROUND(CY32,2) -> 931.69 | Y32: =ROUND(CZ32,2) -> 658.26 | AA32: 39650536 | AB32: =ROUND((AC32+AD32+AF32),6) -> 1537.035 | AC32: =ROUND((ES32),6) -> 123.99 | AD32: =ROUND(((((ET32*1.35))-((EU32*1.35)))+AE32),6) -> 450.711 | AE32: =ROUND(((EU32*1.35)),6) -> 50.382 | AF32: =ROUND(((EV32*1.35)),6) -> 962.334 | AG32: =ROUND((AP32),6) -> 0 | AH32: =((EW32*1.35)) -> 100.035 | AI32: =((EX32*1.35)) -> 5.0085 | AJ32: =(AS32) -> 0 | AK32: 1170.69 | AL32: 123.99 | AM32: 333.86 | AN32: 37.32 | AO32: 712.84 | AP32: 0 | AQ32: 74.1 | AR32: 3.71 | AS32: 0 | AT32: 92 | AU32: 65 | AV32: 1 | AW32: 1 | AZ32: 1 | BA32: 1 | BB32: 1 | BC32: 1 | BH32: 0 | BI32: 2 | BJ32: ФЕРм-2001, м10-04-077-15, приказ Минстроя России №1039/пр от 30.12.2016г. | BM32: 110004 | BN32: 0 | BP32: 0 | BQ32: 3 | BR32: 0 | BS32: 1 | BT32: 1 | BU32: 1 | BV32: 1 | BW32: 1 | BX32: 1 | BZ32: 92 | CA32: 65 | CE32: 0 | CF32: 0 | CG32: 0 | CM32: 0 | CN32: Поправка: Прил.2, Табл.2, п. 1.2 Наименование: Производство работ осуществляется в помещениях эксплуатируемого объекта капитального строительства без остановки рабочего процесса предприятия, при этом: в зоне производства работ имеется один из перечисленных ниже факторов: движение транспорта по внутрицеховым путям; действующее технологическое или лабораторное оборудование, мебель и иные загромождающие помещения предметы | CO32: 0 | CP32: =(P32+Q32+S32) -> 1537.03 | CQ32: =AC32*BC32 -> 123.99 | CR32: =AD32*BB32 -> 450.711 | CS32: =AE32*BS32 -> 50.382 | CT32: =AF32*BA32 -> 962.334 | CU32: =AG32 -> 0 | CV32: =AH32 -> 100.035 | CW32: =AI32 -> 5.0085 | CX32: =AJ32 -> 0 | CY32: =(((S32+R32)*AT32)/100) -> 931.6932 | CZ32: =(((S32+R32)*AU32)/100) -> 658.2615 | DE32: )*1,35 | DF32: )*1,35 | DG32: )*1,35 | DI32: )*1,35 | DJ32: )*1,35 | DN32: 0 | DO32: 0 | DP32: 1 | DQ32: 1 | DU32: 1013 | DV32: ШТ | DW32: ШТ | DX32: 1 | EE32: 39174390 | EF32: 3 | EG32: Монтажные работы | EH32: 0 | EJ32: 2 | EK32: 110004 | EL32: Связь: монтаж теле- радио оборудования ( отдел 4 и 5 ) - (при устройстве средств посадки самолетов : НР=95%, СП=55% - {АВИА}=1) | EM32: мФЕР-10 | EO32: Поправка: Прил.2, Табл.2, п. 1.2 | EQ32: 0 | ER32: 1170.69 | ES32: 123.99 | ET32: 333.86 | EU32: 37.32 | EV32: 712.84 | EW32: 74.1 | EX32: 3.71 | EY32: 0 | FQ32: 0 | FR32: =ROUND(IF(AND(BH32=3,BI32=3),P32,0),2) -> 0 | FS32: 0 | FX32: 92 | FY32: 65 | GD32: 1 | GF32: 321368565 | GG32: 2 | GH32: 1 | GI32: -2 | GJ32: 0 | GK32: 0 | GL32: =ROUND(IF(AND(BH32=3,BI32=3,FS32<>0),P32,0),2) -> 0 | GM32: =ROUND(O32+X32+Y32,2)+GX32 -> 3126.98 | GN32: =IF(OR(BI32=0,BI32=1),ROUND(O32+X32+Y32,2),0) -> 0 | GO32: =IF(BI32=2,ROUND(O32+X32+Y32,2),0) -> 3126.98 | GP32: =IF(BI32=4,ROUND(O32+X32+Y32,2)+GX32,0) -> 0 | GR32: 0 | GS32: 3 | GT32: 0 | GV32: =ROUND((GT32),6) -> 0 | GW32: 1 | GX32: =ROUND(HC32*I32,2) -> 0 | HA32: 0 | HB32: 0 | HC32: =GV32*GW32 -> 0 | IK32: 0
A33: 17 | B33: 1 | C33: =ROW(SmtRes!A34) -> 34 | D33: =ROW(EtalonRes!A32) -> 32 | E33: 2 | F33: м10-04-077-15 | G33: Пульт служебной связи и контроля | H33: ШТ | I33: 1 | J33: 0 | O33: =ROUND(CP33,2) -> 10405.72 | P33: =ROUND(CQ33*I33,2) -> 839.41 | Q33: =ROUND(CR33*I33,2) -> 3051.31 | R33: =ROUND(CS33*I33,2) -> 341.09 | S33: =ROUND(CT33*I33,2) -> 6515 | T33: =ROUND(CU33*I33,2) -> 0 | U33: =CV33*I33 -> 100.035 | V33: =CW33*I33 -> 5.0085 | W33: =ROUND(CX33*I33,2) -> 0 | X33: =ROUND(CY33,2) -> 6307.6 | Y33: =ROUND(CZ33,2) -> 4456.46 | AA33: 39650538 | AB33: =ROUND((AC33+AD33+AF33),6) -> 1537.035 | AC33: =ROUND((ES33),6) -> 123.99 | AD33: =ROUND(((((ET33*1.35))-((EU33*1.35)))+AE33),6) -> 450.711 | AE33: =ROUND(((EU33*1.35)),6) -> 50.382 | AF33: =ROUND(((EV33*1.35)),6) -> 962.334 | AG33: =ROUND((AP33),6) -> 0 | AH33: =((EW33*1.35)) -> 100.035 | AI33: =((EX33*1.35)) -> 5.0085 | AJ33: =(AS33) -> 0 | AK33: 1170.69 | AL33: 123.99 | AM33: 333.86 | AN33: 37.32 | AO33: 712.84 | AP33: 0 | AQ33: 74.1 | AR33: 3.71 | AS33: 0 | AT33: 92 | AU33: 65 | AV33: 1 | AW33: 1 | AZ33: 6.77 | BA33: 6.77 | BB33: 6.77 | BC33: 6.77 | BH33: 0 | BI33: 2 | BJ33: ФЕРм-2001, м10-04-077-15, приказ Минстроя России №1039/пр от 30.12.2016г. | BM33: 110004 | BN33: 0 | BP33: 0 | BQ33: 3 | BR33: 0 | BS33: 6.77 | BT33: 1 | BU33: 1 | BV33: 1 | BW33: 1 | BX33: 1 | BZ33: 92 | CA33: 65 | CE33: 0 | CF33: 0 | CG33: 0 | CM33: 0 | CN33: Поправка: Прил.2, Табл.2, п. 1.2 Наименование: Производство работ осуществляется в помещениях эксплуатируемого объекта капитального строительства без остановки рабочего процесса предприятия, при этом: в зоне производства работ имеется один из перечисленных ниже факторов: движение транспорта по внутрицеховым путям; действующее технологическое или лабораторное оборудование, мебель и иные загромождающие помещения предметы | CO33: 0 | CP33: =(P33+Q33+S33) -> 10405.72 | CQ33: =AC33*BC33 -> 839.4123 | CR33: =AD33*BB33 -> 3051.3135 | CS33: =AE33*BS33 -> 341.08614 | CT33: =AF33*BA33 -> 6515.0012 | CU33: =AG33 -> 0 | CV33: =AH33 -> 100.035 | CW33: =AI33 -> 5.0085 | CX33: =AJ33 -> 0 | CY33: =(((S33+R33)*AT33)/100) -> 6307.6028 | CZ33: =(((S33+R33)*AU33)/100) -> 4456.4585 | DE33: )*1,35 | DF33: )*1,35 | DG33: )*1,35 | DI33: )*1,35 | DJ33: )*1,35 | DN33: 0 | DO33: 0 | DP33: 1 | DQ33: 1 | DU33: 1013 | DV33: ШТ | DW33: ШТ | DX33: 1 | EE33: 39174390 | EF33: 3 | EG33: Монтажные работы | EH33: 0 | EJ33: 2 | EK33: 110004 | EL33: Связь: монтаж теле- радио оборудования ( отдел 4 и 5 ) - (при устройстве средств посадки самолетов : НР=95%, СП=55% - {АВИА}=1) | EM33: мФЕР-10 | EO33: Поправка: Прил.2, Табл.2, п. 1.2 | EQ33: 0 | ER33: 1170.69 | ES33: 123.99 | ET33: 333.86 | EU33: 37.32 | EV33: 712.84 | EW33: 74.1 | EX33: 3.71 | EY33: 0 | FQ33: 0 | FR33: =ROUND(IF(AND(BH33=3,BI33=3),P33,0),2) -> 0 | FS33: 0 | FX33: 92 | FY33: 65 | GD33: 1 | GF33: 321368565 | GG33: 1 | GH33: 1 | GI33: 4 | GJ33: 0 | GK33: 0 | GL33: =ROUND(IF(AND(BH33=3,BI33=3,FS33<>0),P33,0),2) -> 0 | GM33: =ROUND(O33+X33+Y33,2)+GX33 -> 21169.78 | GN33: =IF(OR(BI33=0,BI33=1),ROUND(O33+X33+Y33,2),0) -> 0 | GO33: =IF(BI33=2,ROUND(O33+X33+Y33,2),0) -> 21169.78 | GP33: =IF(BI33=4,ROUND(O33+X33+Y33,2)+GX33,0) -> 0 | GR33: 0 | GS33: 3 | GT33: 0 | GV33: =ROUND((GT33),6) -> 0 | GW33: 1 | GX33: =ROUND(HC33*I33,2) -> 0 | HA33: 0 | HB33: 0 | HC33: =GV33*GW33 -> 0 | IK33: 0
A34: 18 | B34: 1 | C34: 23 | E34: 2,1 | F34: 61.2.04.10-0004 | G34: Пульт контроля и управления охранно-пожарный, марка "С2000- М" | H34: шт. | I34: =I32*J34 -> 1 | J34: 1 | O34: =ROUND(CP34,2) -> 627.51 | P34: =ROUND(CQ34*I34,2) -> 627.51 | Q34: =ROUND(CR34*I34,2) -> 0 | R34: =ROUND(CS34*I34,2) -> 0 | S34: =ROUND(CT34*I34,2) -> 0 | T34: =ROUND(CU34*I34,2) -> 0 | U34: =CV34*I34 -> 0 | V34: =CW34*I34 -> 0 | W34: =ROUND(CX34*I34,2) -> 0 | X34: =ROUND(CY34,2) -> 0 | Y34: =ROUND(CZ34,2) -> 0 | AA34: 39650536 | AB34: =ROUND((AC34+AD34+AF34),6) -> 627.51 | AC34: =ROUND((ES34),6) -> 627.51 | AD34: =ROUND((((ET34)-(EU34))+AE34),6) -> 0 | AE34: =ROUND((EU34),6) -> 0 | AF34: =ROUND((EV34),6) -> 0 | AG34: =ROUND((AP34),6) -> 0 | AH34: =(EW34) -> 0 | AI34: =(EX34) -> 0 | AJ34: =(AS34) -> 0 | AK34: 627.51 | AL34: 627.51 | AM34: 0 | AN34: 0 | AO34: 0 | AP34: 0 | AQ34: 0 | AR34: 0 | AS34: 0 | AT34: 80 | AU34: 60 | AV34: 1 | AW34: 1 | AZ34: 1 | BA34: 1 | BB34: 1 | BC34: 1 | BH34: 3 | BI34: 2 | BJ34: ФССЦ-2001, 61.2.04.10-0004, приказ Минстроя России №1039/пр от 30.12.2016г. | BM34: 110001 | BN34: 0 | BP34: 0 | BQ34: 3 | BR34: 0 | BS34: 1 | BT34: 1 | BU34: 1 | BV34: 1 | BW34: 1 | BX34: 1 | BZ34: 80 | CA34: 60 | CE34: 0 | CF34: 0 | CG34: 0 | CM34: 0 | CO34: 0 | CP34: =(P34+Q34+S34) -> 627.51 | CQ34: =AC34*BC34 -> 627.51 | CR34: =AD34*BB34 -> 0 | CS34: =AE34*BS34 -> 0 | CT34: =AF34*BA34 -> 0 | CU34: =AG34 -> 0 | CV34: =AH34 -> 0 | CW34: =AI34 -> 0 | CX34: =AJ34 -> 0 | CY34: =(((S34+R34)*AT34)/100) -> 0 | CZ34: =(((S34+R34)*AU34)/100) -> 0 | DN34: 0 | DO34: 0 | DP34: 1 | DQ34: 1 | DU34: 1010 | DV34: шт. | DW34: шт. | DX34: 1 | EE34: 39174389 | EF34: 3 | EG34: Монтажные работы | EH34: 0 | EJ34: 2 | EK34: 110001 | EL34: Связь: городская, местная, междугородняя проводная телефонная связь ( отделы 1, 2, 3 ) - ( при уст-ве средств посадки самолетов: {AВИА}=1 - НР=95%, СП=55% ) | EM34: мФЕР-10 | EQ34: 0 | ER34: 627.51 | ES34: 627.51 | ET34: 0 | EU34: 0 | EV34: 0 | EW34: 0 | EX34: 0 | FQ34: 0 | FR34: =ROUND(IF(AND(BH34=3,BI34=3),P34,0),2) -> 0 | FS34: 0 | FX34: 80 | FY34: 60 | GD34: 1 | GF34: -688371732 | GG34: 1 | GH34: 1 | GI34: -2 | GJ34: 0 | GK34: 0 | GL34: =ROUND(IF(AND(BH34=3,BI34=3,FS34<>0),P34,0),2) -> 0 | GM34: =ROUND(O34+X34+Y34,2)+GX34 -> 627.51 | GN34: =IF(OR(BI34=0,BI34=1),ROUND(O34+X34+Y34,2),0) -> 0 | GO34: =IF(BI34=2,ROUND(O34+X34+Y34,2),0) -> 627.51 | GP34: =IF(BI34=4,ROUND(O34+X34+Y34,2)+GX34,0) -> 0 | GR34: 0 | GS34: 3 | GT34: 0 | GV34: =ROUND((GT34),6) -> 0 | GW34: 1 | GX34: =ROUND(HC34*I34,2) -> 0 | HA34: 0 | HB34: 0 | HC34: =GV34*GW34 -> 0 | IK34: 0
A35: 18 | B35: 1 | C35: 33 | E35: 2,1 | F35: 61.2.04.10-0004 | G35: Пульт контроля и управления охранно-пожарный, марка "С2000- М" | H35: шт. | I35: =I33*J35 -> 1 | J35: 1 | O35: =ROUND(CP35,2) -> 4248.24 | P35: =ROUND(CQ35*I35,2) -> 4248.24 | Q35: =ROUND(CR35*I35,2) -> 0 | R35: =ROUND(CS35*I35,2) -> 0 | S35: =ROUND(CT35*I35,2) -> 0 | T35: =ROUND(CU35*I35,2) -> 0 | U35: =CV35*I35 -> 0 | V35: =CW35*I35 -> 0 | W35: =ROUND(CX35*I35,2) -> 0 | X35: =ROUND(CY35,2) -> 0 | Y35: =ROUND(CZ35,2) -> 0 | AA35: 39650538 | AB35: =ROUND((AC35+AD35+AF35),6) -> 627.51 | AC35: =ROUND((ES35),6) -> 627.51 | AD35: =ROUND((((ET35)-(EU35))+AE35),6) -> 0 | AE35: =ROUND((EU35),6) -> 0 | AF35: =ROUND((EV35),6) -> 0 | AG35: =ROUND((AP35),6) -> 0 | AH35: =(EW35) -> 0 | AI35: =(EX35) -> 0 | AJ35: =(AS35) -> 0 | AK35: 627.51 | AL35: 627.51 | AM35: 0 | AN35: 0 | AO35: 0 | AP35: 0 | AQ35: 0 | AR35: 0 | AS35: 0 | AT35: 80 | AU35: 60 | AV35: 1 | AW35: 1 | AZ35: 6.77 | BA35: 1 | BB35: 1 | BC35: 6.77 | BH35: 3 | BI35: 2 | BJ35: ФССЦ-2001, 61.2.04.10-0004, приказ Минстроя России №1039/пр от 30.12.2016г. | BM35: 110001 | BN35: 0 | BP35: 0 | BQ35: 3 | BR35: 0 | BS35: 1 | BT35: 1 | BU35: 1 | BV35: 1 | BW35: 1 | BX35: 1 | BZ35: 80 | CA35: 60 | CE35: 0 | CF35: 0 | CG35: 0 | CM35: 0 | CO35: 0 | CP35: =(P35+Q35+S35) -> 4248.24 | CQ35: =AC35*BC35 -> 4248.2427 | CR35: =AD35*BB35 -> 0 | CS35: =AE35*BS35 -> 0 | CT35: =AF35*BA35 -> 0 | CU35: =AG35 -> 0 | CV35: =AH35 -> 0 | CW35: =AI35 -> 0 | CX35: =AJ35 -> 0 | CY35: =(((S35+R35)*AT35)/100) -> 0 | CZ35: =(((S35+R35)*AU35)/100) -> 0 | DN35: 0 | DO35: 0 | DP35: 1 | DQ35: 1 | DU35: 1010 | DV35: шт. | DW35: шт. | DX35: 1 | EE35: 39174389 | EF35: 3 | EG35: Монтажные работы | EH35: 0 | EJ35: 2 | EK35: 110001 | EL35: Связь: городская, местная, междугородняя проводная телефонная связь ( отделы 1, 2, 3 ) - ( при уст-ве средств посадки самолетов: {AВИА}=1 - НР=95%, СП=55% ) | EM35: мФЕР-10 | EQ35: 0 | ER35: 627.51 | ES35: 627.51 | ET35: 0 | EU35: 0 | EV35: 0 | EW35: 0 | EX35: 0 | FQ35: 0 | FR35: =ROUND(IF(AND(BH35=3,BI35=3),P35,0),2) -> 0 | FS35: 0 | FX35: 80 | FY35: 60 | GD35: 1 | GF35: -688371732 | GG35: 1 | GH35: 1 | GI35: 4 | GJ35: 0 | GK35: 0 | GL35: =ROUND(IF(AND(BH35=3,BI35=3,FS35<>0),P35,0),2) -> 0 | GM35: =ROUND(O35+X35+Y35,2)+GX35 -> 4248.24 | GN35: =IF(OR(BI35=0,BI35=1),ROUND(O35+X35+Y35,2),0) -> 0 | GO35: =IF(BI35=2,ROUND(O35+X35+Y35,2),0) -> 4248.24 | GP35: =IF(BI35=4,ROUND(O35+X35+Y35,2)+GX35,0) -> 0 | GR35: 0 | GS35: 0 | GT35: 0 | GV35: =ROUND((GT35),6) -> 0 | GW35: 1 | GX35: =ROUND(HC35*I35,2) -> 0 | HA35: 0 | HB35: 0 | HC35: =GV35*GW35 -> 0 | IK35: 0
A36: 17 | B36: 1 | C36: =ROW(SmtRes!A39) -> 39 | D36: =ROW(EtalonRes!A36) -> 36 | E36: 3 | F36: м10-01-003-06 | G36: Блок релейный | H36: 10 ШТ | I36: =ROUND(1/10,9) -> 0.1 | J36: 0 | O36: =ROUND(CP36,2) -> 3.17 | P36: =ROUND(CQ36*I36,2) -> 0.03 | Q36: =ROUND(CR36*I36,2) -> 0.85 | R36: =ROUND(CS36*I36,2) -> 0.09 | S36: =ROUND(CT36*I36,2) -> 2.29 | T36: =ROUND(CU36*I36,2) -> 0 | U36: =CV36*I36 -> 0.2214 | V36: =CW36*I36 -> 0.00945 | W36: =ROUND(CX36*I36,2) -> 0 | X36: =ROUND(CY36,2) -> 1.9 | Y36: =ROUND(CZ36,2) -> 1.43 | AA36: 39650536 | AB36: =ROUND((AC36+AD36+AF36),6) -> 31.7545 | AC36: =ROUND((ES36),6) -> 0.34 | AD36: =ROUND(((((ET36*1.35))-((EU36*1.35)))+AE36),6) -> 8.505 | AE36: =ROUND(((EU36*1.35)),6) -> 0.945 | AF36: =ROUND(((EV36*1.35)),6) -> 22.9095 | AG36: =ROUND((AP36),6) -> 0 | AH36: =((EW36*1.35)) -> 2.214 | AI36: =((EX36*1.35)) -> 0.0945 | AJ36: =(AS36) -> 0 | AK36: 23.61 | AL36: 0.34 | AM36: 6.3 | AN36: 0.7 | AO36: 16.97 | AP36: 0 | AQ36: 1.64 | AR36: 0.07 | AS36: 0 | AT36: 80 | AU36: 60 | AV36: 1 | AW36: 1 | AZ36: 1 | BA36: 1 | BB36: 1 | BC36: 1 | BH36: 0 | BI36: 2 | BJ36: ФЕРм-2001, м10-01-003-06, приказ Минстроя России №1039/пр от 30.12.2016г. | BM36: 110001 | BN36: 0 | BP36: 0 | BQ36: 3 | BR36: 0 | BS36: 1 | BT36: 1 | BU36: 1 | BV36: 1 | BW36: 1 | BX36: 1 | BZ36: 80 | CA36: 60 | CE36: 0 | CF36: 0 | CG36: 0 | CM36: 0 | CN36: Поправка: Прил.2, Табл.3, п. 6 Наименование: Производство ремонтно-строительных работ осуществляется внутри работающих трансформаторных и распределительных подстанций, в электропомещениях (щитовые, пультовые, подстанции, реакторные, РУ и пункты, кабельные шахты, тоннели и каналы, кабельные полуэтажи) с действующим электрооборудованием или кабельными линиями под напряжением | CO36: 0 | CP36: =(P36+Q36+S36) -> 3.17 | CQ36: =AC36*BC36 -> 0.34 | CR36: =AD36*BB36 -> 8.505 | CS36: =AE36*BS36 -> 0.945 | CT36: =AF36*BA36 -> 22.9095 | CU36: =AG36 -> 0 | CV36: =AH36 -> 2.214 | CW36: =AI36 -> 0.0945 | CX36: =AJ36 -> 0 | CY36: =(((S36+R36)*AT36)/100) -> 1.904 | CZ36: =(((S36+R36)*AU36)/100) -> 1.428 | DE36: )*1,35 | DF36: )*1,35 | DG36: )*1,35 | DI36: )*1,35 | DJ36: )*1,35 | DN36: 0 | DO36: 0 | DP36: 1 | DQ36: 1 | DU36: 1013 | DV36: 10 ШТ | DW36: 10 ШТ | DX36: 1 | EE36: 39174389 | EF36: 3 | EG36: Монтажные работы | EH36: 0 | EJ36: 2 | EK36: 110001 | EL36: Связь: городская, местная, междугородняя проводная телефонная связь ( отделы 1, 2, 3 ) - ( при уст-ве средств посадки самолетов: {AВИА}=1 - НР=95%, СП=55% ) | EM36: мФЕР-10 | EO36: Поправка: Прил.2, Табл.3, п. 6 | EQ36: 0 | ER36: 23.61 | ES36: 0.34 | ET36: 6.3 | EU36: 0.7 | EV36: 16.97 | EW36: 1.64 | EX36: 0.07 | EY36: 0 | FQ36: 0 | FR36: =ROUND(IF(AND(BH36=3,BI36=3),P36,0),2) -> 0 | FS36: 0 | FX36: 80 | FY36: 60 | GD36: 1 | GF36: 1685125645 | GG36: 2 | GH36: 1 | GI36: -2 | GJ36: 0 | GK36: 0 | GL36: =ROUND(IF(AND(BH36=3,BI36=3,FS36<>0),P36,0),2) -> 0 | GM36: =ROUND(O36+X36+Y36,2)+GX36 -> 6.5 | GN36: =IF(OR(BI36=0,BI36=1),ROUND(O36+X36+Y36,2),0) -> 0 | GO36: =IF(BI36=2,ROUND(O36+X36+Y36,2),0) -> 6.5 | GP36: =IF(BI36=4,ROUND(O36+X36+Y36,2)+GX36,0) -> 0 | GR36: 0 | GS36: 3 | GT36: 0 | GV36: =ROUND((GT36),6) -> 0 | GW36: 1 | GX36: =ROUND(HC36*I36,2) -> 0 | HA36: 0 | HB36: 0 | HC36: =GV36*GW36 -> 0 | IK36: 0
A37: 17 | B37: 1 | C37: =ROW(SmtRes!A44) -> 44 | D37: =ROW(EtalonRes!A40) -> 40 | E37: 3 | F37: м10-01-003-06 | G37: Блок релейный | H37: 10 ШТ | I37: =ROUND(1/10,9) -> 0.1 | J37: 0 | O37: =ROUND(CP37,2) -> 21.5 | P37: =ROUND(CQ37*I37,2) -> 0.23 | Q37: =ROUND(CR37*I37,2) -> 5.76 | R37: =ROUND(CS37*I37,2) -> 0.64 | S37: =ROUND(CT37*I37,2) -> 15.51 | T37: =ROUND(CU37*I37,2) -> 0 | U37: =CV37*I37 -> 0.2214 | V37: =CW37*I37 -> 0.00945 | W37: =ROUND(CX37*I37,2) -> 0 | X37: =ROUND(CY37,2) -> 12.92 | Y37: =ROUND(CZ37,2) -> 9.69 | AA37: 39650538 | AB37: =ROUND((AC37+AD37+AF37),6) -> 31.7545 | AC37: =ROUND((ES37),6) -> 0.34 | AD37: =ROUND(((((ET37*1.35))-((EU37*1.35)))+AE37),6) -> 8.505 | AE37: =ROUND(((EU37*1.35)),6) -> 0.945 | AF37: =ROUND(((EV37*1.35)),6) -> 22.9095 | AG37: =ROUND((AP37),6) -> 0 | AH37: =((EW37*1.35)) -> 2.214 | AI37: =((EX37*1.35)) -> 0.0945 | AJ37: =(AS37) -> 0 | AK37: 23.61 | AL37: 0.34 | AM37: 6.3 | AN37: 0.7 | AO37: 16.97 | AP37: 0 | AQ37: 1.64 | AR37: 0.07 | AS37: 0 | AT37: 80 | AU37: 60 | AV37: 1 | AW37: 1 | AZ37: 6.77 | BA37: 6.77 | BB37: 6.77 | BC37: 6.77 | BH37: 0 | BI37: 2 | BJ37: ФЕРм-2001, м10-01-003-06, приказ Минстроя России №1039/пр от 30.12.2016г. | BM37: 110001 | BN37: 0 | BP37: 0 | BQ37: 3 | BR37: 0 | BS37: 6.77 | BT37: 1 | BU37: 1 | BV37: 1 | BW37: 1 | BX37: 1 | BZ37: 80 | CA37: 60 | CE37: 0 | CF37: 0 | CG37: 0 | CM37: 0 | CN37: Поправка: Прил.2, Табл.3, п. 6 Наименование: Производство ремонтно-строительных работ осуществляется внутри работающих трансформаторных и распределительных подстанций, в электропомещениях (щитовые, пультовые, подстанции, реакторные, РУ и пункты, кабельные шахты, тоннели и каналы, кабельные полуэтажи) с действующим электрооборудованием или кабельными линиями под напряжением | CO37: 0 | CP37: =(P37+Q37+S37) -> 21.5 | CQ37: =AC37*BC37 -> 2.3018 | CR37: =AD37*BB37 -> 57.57885 | CS37: =AE37*BS37 -> 6.39765 | CT37: =AF37*BA37 -> 155.09732 | CU37: =AG37 -> 0 | CV37: =AH37 -> 2.214 | CW37: =AI37 -> 0.0945 | CX37: =AJ37 -> 0 | CY37: =(((S37+R37)*AT37)/100) -> 12.92 | CZ37: =(((S37+R37)*AU37)/100) -> 9.69 | DE37: )*1,35 | DF37: )*1,35 | DG37: )*1,35 | DI37: )*1,35 | DJ37: )*1,35 | DN37: 0 | DO37: 0 | DP37: 1 | DQ37: 1 | DU37: 1013 | DV37: 10 ШТ | DW37: 10 ШТ | DX37: 1 | EE37: 39174389 | EF37: 3 | EG37: Монтажные работы | EH37: 0 | EJ37: 2 | EK37: 110001 | EL37: Связь: городская, местная, междугородняя проводная телефонная связь ( отделы 1, 2, 3 ) - ( при уст-ве средств посадки самолетов: {AВИА}=1 - НР=95%, СП=55% ) | EM37: мФЕР-10 | EO37: Поправка: Прил.2, Табл.3, п. 6 | EQ37: 0 | ER37: 23.61 | ES37: 0.34 | ET37: 6.3 | EU37: 0.7 | EV37: 16.97 | EW37: 1.64 | EX37: 0.07 | EY37: 0 | FQ37: 0 | FR37: =ROUND(IF(AND(BH37=3,BI37=3),P37,0),2) -> 0 | FS37: 0 | FX37: 80 | FY37: 60 | GD37: 1 | GF37: 1685125645 | GG37: 1 | GH37: 1 | GI37: 4 | GJ37: 0 | GK37: 0 | GL37: =ROUND(IF(AND(BH37=3,BI37=3,FS37<>0),P37,0),2) -> 0 | GM37: =ROUND(O37+X37+Y37,2)+GX37 -> 44.11 | GN37: =IF(OR(BI37=0,BI37=1),ROUND(O37+X37+Y37,2),0) -> 0 | GO37: =IF(BI37=2,ROUND(O37+X37+Y37,2),0) -> 44.11 | GP37: =IF(BI37=4,ROUND(O37+X37+Y37,2)+GX37,0) -> 0 | GR37: 0 | GS37: 3 | GT37: 0 | GV37: =ROUND((GT37),6) -> 0 | GW37: 1 | GX37: =ROUND(HC37*I37,2) -> 0 | HA37: 0 | HB37: 0 | HC37: =GV37*GW37 -> 0 | IK37: 0
A38: 18 | B38: 1 | C38: 38 | E38: 3,1 | F38: 61.2.07.02-0079 | G38: Блок сигнально-пусковой (релейный блок), марка "С2000-СП1" | H38: шт. | I38: =I36*J38 -> 1 | J38: 10 | O38: =ROUND(CP38,2) -> 153.02 | P38: =ROUND(CQ38*I38,2) -> 153.02 | Q38: =ROUND(CR38*I38,2) -> 0 | R38: =ROUND(CS38*I38,2) -> 0 | S38: =ROUND(CT38*I38,2) -> 0 | T38: =ROUND(CU38*I38,2) -> 0 | U38: =CV38*I38 -> 0 | V38: =CW38*I38 -> 0 | W38: =ROUND(CX38*I38,2) -> 0 | X38: =ROUND(CY38,2) -> 0 | Y38: =ROUND(CZ38,2) -> 0 | AA38: 39650536 | AB38: =ROUND((AC38+AD38+AF38),6) -> 153.02 | AC38: =ROUND((ES38),6) -> 153.02 | AD38: =ROUND((((ET38)-(EU38))+AE38),6) -> 0 | AE38: =ROUND((EU38),6) -> 0 | AF38: =ROUND((EV38),6) -> 0 | AG38: =ROUND((AP38),6) -> 0 | AH38: =(EW38) -> 0 | AI38: =(EX38) -> 0 | AJ38: =(AS38) -> 0 | AK38: 153.02 | AL38: 153.02 | AM38: 0 | AN38: 0 | AO38: 0 | AP38: 0 | AQ38: 0 | AR38: 0 | AS38: 0 | AT38: 80 | AU38: 60 | AV38: 1 | AW38: 1 | AZ38: 1 | BA38: 1 | BB38: 1 | BC38: 1 | BH38: 3 | BI38: 2 | BJ38: ФССЦ-2001, 61.2.07.02-0079, приказ Минстроя России №1039/пр от 30.12.2016г. | BM38: 110011 | BN38: 0 | BP38: 0 | BQ38: 3 | BR38: 0 | BS38: 1 | BT38: 1 | BU38: 1 | BV38: 1 | BW38: 1 | BX38: 1 | BZ38: 80 | CA38: 60 | CE38: 0 | CF38: 0 | CG38: 0 | CM38: 0 | CO38: 0 | CP38: =(P38+Q38+S38) -> 153.02 | CQ38: =AC38*BC38 -> 153.02 | CR38: =AD38*BB38 -> 0 | CS38: =AE38*BS38 -> 0 | CT38: =AF38*BA38 -> 0 | CU38: =AG38 -> 0 | CV38: =AH38 -> 0 | CW38: =AI38 -> 0 | CX38: =AJ38 -> 0 | CY38: =(((S38+R38)*AT38)/100) -> 0 | CZ38: =(((S38+R38)*AU38)/100) -> 0 | DN38: 0 | DO38: 0 | DP38: 1 | DQ38: 1 | DU38: 1010 | DV38: шт. | DW38: шт. | DX38: 1 | EE38: 39174433 | EF38: 3 | EG38: Монтажные работы | EH38: 0 | EJ38: 2 | EK38: 110011 | EL38: Связь: пожарно-охранная сигнализация и пром. телевиз. установки ( отделы 8 и 9 ) (при устройстве средств посадки самолетов : НР=95%, СП=55% - {АВИА}=1) | EM38: мФЕР-10 | EQ38: 0 | ER38: 153.02 | ES38: 153.02 | ET38: 0 | EU38: 0 | EV38: 0 | EW38: 0 | EX38: 0 | FQ38: 0 | FR38: =ROUND(IF(AND(BH38=3,BI38=3),P38,0),2) -> 0 | FS38: 0 | FX38: 80 | FY38: 60 | GD38: 1 | GF38: 1736319385 | GG38: 1 | GH38: 1 | GI38: -2 | GJ38: 0 | GK38: 0 | GL38: =ROUND(IF(AND(BH38=3,BI38=3,FS38<>0),P38,0),2) -> 0 | GM38: =ROUND(O38+X38+Y38,2)+GX38 -> 153.02 | GN38: =IF(OR(BI38=0,BI38=1),ROUND(O38+X38+Y38,2),0) -> 0 | GO38: =IF(BI38=2,ROUND(O38+X38+Y38,2),0) -> 153.02 | GP38: =IF(BI38=4,ROUND(O38+X38+Y38,2)+GX38,0) -> 0 | GR38: 0 | GS38: 3 | GT38: 0 | GV38: =ROUND((GT38),6) -> 0 | GW38: 1 | GX38: =ROUND(HC38*I38,2) -> 0 | HA38: 0 | HB38: 0 | HC38: =GV38*GW38 -> 0 | IK38: 0
A39: 18 | B39: 1 | C39: 43 | E39: 3,1 | F39: 61.2.07.02-0079 | G39: Блок сигнально-пусковой (релейный блок), марка "С2000-СП1" | H39: шт. | I39: =I37*J39 -> 1 | J39: 10 | O39: =ROUND(CP39,2) -> 1035.95 | P39: =ROUND(CQ39*I39,2) -> 1035.95 | Q39: =ROUND(CR39*I39,2) -> 0 | R39: =ROUND(CS39*I39,2) -> 0 | S39: =ROUND(CT39*I39,2) -> 0 | T39: =ROUND(CU39*I39,2) -> 0 | U39: =CV39*I39 -> 0 | V39: =CW39*I39 -> 0 | W39: =ROUND(CX39*I39,2) -> 0 | X39: =ROUND(CY39,2) -> 0 | Y39: =ROUND(CZ39,2) -> 0 | AA39: 39650538 | AB39: =ROUND((AC39+AD39+AF39),6) -> 153.02 | AC39: =ROUND((ES39),6) -> 153.02 | AD39: =ROUND((((ET39)-(EU39))+AE39),6) -> 0 | AE39: =ROUND((EU39),6) -> 0 | AF39: =ROUND((EV39),6) -> 0 | AG39: =ROUND((AP39),6) -> 0 | AH39: =(EW39) -> 0 | AI39: =(EX39) -> 0 | AJ39: =(AS39) -> 0 | AK39: 153.02 | AL39: 153.02 | AM39: 0 | AN39: 0 | AO39: 0 | AP39: 0 | AQ39: 0 | AR39: 0 | AS39: 0 | AT39: 80 | AU39: 60 | AV39: 1 | AW39: 1 | AZ39: 6.77 | BA39: 1 | BB39: 1 | BC39: 6.77 | BH39: 3 | BI39: 2 | BJ39: ФССЦ-2001, 61.2.07.02-0079, приказ Минстроя России №1039/пр от 30.12.2016г. | BM39: 110011 | BN39: 0 | BP39: 0 | BQ39: 3 | BR39: 0 | BS39: 1 | BT39: 1 | BU39: 1 | BV39: 1 | BW39: 1 | BX39: 1 | BZ39: 80 | CA39: 60 | CE39: 0 | CF39: 0 | CG39: 0 | CM39: 0 | CO39: 0 | CP39: =(P39+Q39+S39) -> 1035.95 | CQ39: =AC39*BC39 -> 1035.9454 | CR39: =AD39*BB39 -> 0 | CS39: =AE39*BS39 -> 0 | CT39: =AF39*BA39 -> 0 | CU39: =AG39 -> 0 | CV39: =AH39 -> 0 | CW39: =AI39 -> 0 | CX39: =AJ39 -> 0 | CY39: =(((S39+R39)*AT39)/100) -> 0 | CZ39: =(((S39+R39)*AU39)/100) -> 0 | DN39: 0 | DO39: 0 | DP39: 1 | DQ39: 1 | DU39: 1010 | DV39: шт. | DW39: шт. | DX39: 1 | EE39: 39174433 | EF39: 3 | EG39: Монтажные работы | EH39: 0 | EJ39: 2 | EK39: 110011 | EL39: Связь: пожарно-охранная сигнализация и пром. телевиз. установки ( отделы 8 и 9 ) (при устройстве средств посадки самолетов : НР=95%, СП=55% - {АВИА}=1) | EM39: мФЕР-10 | EQ39: 0 | ER39: 153.02 | ES39: 153.02 | ET39: 0 | EU39: 0 | EV39: 0 | EW39: 0 | EX39: 0 | FQ39: 0 | FR39: =ROUND(IF(AND(BH39=3,BI39=3),P39,0),2) -> 0 | FS39: 0 | FX39: 80 | FY39: 60 | GD39: 1 | GF39: 1736319385 | GG39: 1 | GH39: 1 | GI39: 4 | GJ39: 0 | GK39: 0 | GL39: =ROUND(IF(AND(BH39=3,BI39=3,FS39<>0),P39,0),2) -> 0 | GM39: =ROUND(O39+X39+Y39,2)+GX39 -> 1035.95 | GN39: =IF(OR(BI39=0,BI39=1),ROUND(O39+X39+Y39,2),0) -> 0 | GO39: =IF(BI39=2,ROUND(O39+X39+Y39,2),0) -> 1035.95 | GP39: =IF(BI39=4,ROUND(O39+X39+Y39,2)+GX39,0) -> 0 | GR39: 0 | GS39: 0 | GT39: 0 | GV39: =ROUND((GT39),6) -> 0 | GW39: 1 | GX39: =ROUND(HC39*I39,2) -> 0 | HA39: 0 | HB39: 0 | HC39: =GV39*GW39 -> 0 | IK39: 0
A40: 17 | B40: 1 | C40: =ROW(SmtRes!A51) -> 51 | D40: =ROW(EtalonRes!A46) -> 46 | E40: 4 | F40: м10-08-001-12 | G40: Устройства промежуточные на количество лучей 5 | H40: ШТ | I40: 2 | J40: 0 | O40: =ROUND(CP40,2) -> 75.25 | P40: =ROUND(CQ40*I40,2) -> 8.18 | Q40: =ROUND(CR40*I40,2) -> 0 | R40: =ROUND(CS40*I40,2) -> 0 | S40: =ROUND(CT40*I40,2) -> 67.07 | T40: =ROUND(CU40*I40,2) -> 0 | U40: =CV40*I40 -> 6.48 | V40: =CW40*I40 -> 0 | W40: =ROUND(CX40*I40,2) -> 0 | X40: =ROUND(CY40,2) -> 53.66 | Y40: =ROUND(CZ40,2) -> 40.24 | AA40: 39650536 | AB40: =ROUND((AC40+AD40+AF40),6) -> 37.624 | AC40: =ROUND((ES40),6) -> 4.09 | AD40: =ROUND(((((ET40*1.35))-((EU40*1.35)))+AE40),6) -> 0 | AE40: =ROUND(((EU40*1.35)),6) -> 0 | AF40: =ROUND(((EV40*1.35)),6) -> 33.534 | AG40: =ROUND((AP40),6) -> 0 | AH40: =((EW40*1.35)) -> 3.24 | AI40: =((EX40*1.35)) -> 0 | AJ40: =(AS40) -> 0 | AK40: 28.93 | AL40: 4.09 | AM40: 0 | AN40: 0 | AO40: 24.84 | AP40: 0 | AQ40: 2.4 | AR40: 0 | AS40: 0 | AT40: 80 | AU40: 60 | AV40: 1 | AW40: 1 | AZ40: 1 | BA40: 1 | BB40: 1 | BC40: 1 | BH40: 0 | BI40: 2 | BJ40: ФЕРм-2001, м10-08-001-12, приказ Минстроя России №1039/пр от 30.12.2016г. | BM40: 110011 | BN40: 0 | BP40: 0 | BQ40: 3 | BR40: 0 | BS40: 1 | BT40: 1 | BU40: 1 | BV40: 1 | BW40: 1 | BX40: 1 | BZ40: 80 | CA40: 60 | CE40: 0 | CF40: 0 | CG40: 0 | CM40: 0 | CN40: Поправка: Прил.2, Табл.3, п. 6 Наименование: Производство ремонтно-строительных работ осуществляется внутри работающих трансформаторных и распределительных подстанций, в электропомещениях (щитовые, пультовые, подстанции, реакторные, РУ и пункты, кабельные шахты, тоннели и каналы, кабельные полуэтажи) с действующим электрооборудованием или кабельными линиями под напряжением | CO40: 0 | CP40: =(P40+Q40+S40) -> 75.25 | CQ40: =AC40*BC40 -> 4.09 | CR40: =AD40*BB40 -> 0 | CS40: =AE40*BS40 -> 0 | CT40: =AF40*BA40 -> 33.534 | CU40: =AG40 -> 0 | CV40: =AH40 -> 3.24 | CW40: =AI40 -> 0 | CX40: =AJ40 -> 0 | CY40: =(((S40+R40)*AT40)/100) -> 53.656 | CZ40: =(((S40+R40)*AU40)/100) -> 40.242 | DE40: )*1,35 | DF40: )*1,35 | DG40: )*1,35 | DI40: )*1,35 | DJ40: )*1,35 | DN40: 0 | DO40: 0 | DP40: 1 | DQ40: 1 | DU40: 1013 | DV40: ШТ | DW40: ШТ | DX40: 1 | EE40: 39174433 | EF40: 3 | EG40: Монтажные работы | EH40: 0 | EJ40: 2 | EK40: 110011 | EL40: Связь: пожарно-охранная сигнализация и пром. телевиз. установки ( отделы 8 и 9 ) (при устройстве средств посадки самолетов : НР=95%, СП=55% - {АВИА}=1) | EM40: мФЕР-10 | EO40: Поправка: Прил.2, Табл.3, п. 6 | EQ40: 131072 | ER40: 28.93 | ES40: 4.09 | ET40: 0 | EU40: 0 | EV40: 24.84 | EW40: 2.4 | EX40: 0 | EY40: 0 | FQ40: 0 | FR40: =ROUND(IF(AND(BH40=3,BI40=3),P40,0),2) -> 0 | FS40: 0 | FX40: 80 | FY40: 60 | GD40: 1 | GF40: 177670689 | GG40: 1 | GH40: 1 | GI40: -2 | GJ40: 0 | GK40: 0 | GL40: =ROUND(IF(AND(BH40=3,BI40=3,FS40<>0),P40,0),2) -> 0 | GM40: =ROUND(O40+X40+Y40,2)+GX40 -> 169.15 | GN40: =IF(OR(BI40=0,BI40=1),ROUND(O40+X40+Y40,2),0) -> 0 | GO40: =IF(BI40=2,ROUND(O40+X40+Y40,2),0) -> 169.15 | GP40: =IF(BI40=4,ROUND(O40+X40+Y40,2)+GX40,0) -> 0 | GR40: 0 | GS40: 3 | GT40: 0 | GV40: =ROUND((GT40),6) -> 0 | GW40: 1 | GX40: =ROUND(HC40*I40,2) -> 0 | HA40: 0 | HB40: 0 | HC40: =GV40*GW40 -> 0 | IK40: 0
A41: 17 | B41: 1 | C41: =ROW(SmtRes!A58) -> 58 | D41: =ROW(EtalonRes!A52) -> 52 | E41: 4 | F41: м10-08-001-12 | G41: Устройства промежуточные на количество лучей 5 | H41: ШТ | I41: 2 | J41: 0 | O41: =ROUND(CP41,2) -> 509.43 | P41: =ROUND(CQ41*I41,2) -> 55.38 | Q41: =ROUND(CR41*I41,2) -> 0 | R41: =ROUND(CS41*I41,2) -> 0 | S41: =ROUND(CT41*I41,2) -> 454.05 | T41: =ROUND(CU41*I41,2) -> 0 | U41: =CV41*I41 -> 6.48 | V41: =CW41*I41 -> 0 | W41: =ROUND(CX41*I41,2) -> 0 | X41: =ROUND(CY41,2) -> 363.24 | Y41: =ROUND(CZ41,2) -> 272.43 | AA41: 39650538 | AB41: =ROUND((AC41+AD41+AF41),6) -> 37.624 | AC41: =ROUND((ES41),6) -> 4.09 | AD41: =ROUND(((((ET41*1.35))-((EU41*1.35)))+AE41),6) -> 0 | AE41: =ROUND(((EU41*1.35)),6) -> 0 | AF41: =ROUND(((EV41*1.35)),6) -> 33.534 | AG41: =ROUND((AP41),6) -> 0 | AH41: =((EW41*1.35)) -> 3.24 | AI41: =((EX41*1.35)) -> 0 | AJ41: =(AS41) -> 0 | AK41: 28.93 | AL41: 4.09 | AM41: 0 | AN41: 0 | AO41: 24.84 | AP41: 0 | AQ41: 2.4 | AR41: 0 | AS41: 0 | AT41: 80 | AU41: 60 | AV41: 1 | AW41: 1 | AZ41: 6.77 | BA41: 6.77 | BB41: 6.77 | BC41: 6.77 | BH41: 0 | BI41: 2 | BJ41: ФЕРм-2001, м10-08-001-12, приказ Минстроя России №1039/пр от 30.12.2016г. | BM41: 110011 | BN41: 0 | BP41: 0 | BQ41: 3 | BR41: 0 | BS41: 6.77 | BT41: 1 | BU41: 1 | BV41: 1 | BW41: 1 | BX41: 1 | BZ41: 80 | CA41: 60 | CE41: 0 | CF41: 0 | CG41: 0 | CM41: 0 | CN41: Поправка: Прил.2, Табл.3, п. 6 Наименование: Производство ремонтно-строительных работ осуществляется внутри работающих трансформаторных и распределительных подстанций, в электропомещениях (щитовые, пультовые, подстанции, реакторные, РУ и пункты, кабельные шахты, тоннели и каналы, кабельные полуэтажи) с действующим электрооборудованием или кабельными линиями под напряжением | CO41: 0 | CP41: =(P41+Q41+S41) -> 509.43 | CQ41: =AC41*BC41 -> 27.6893 | CR41: =AD41*BB41 -> 0 | CS41: =AE41*BS41 -> 0 | CT41: =AF41*BA41 -> 227.02518 | CU41: =AG41 -> 0 | CV41: =AH41 -> 3.24 | CW41: =AI41 -> 0 | CX41: =AJ41 -> 0 | CY41: =(((S41+R41)*AT41)/100) -> 363.24 | CZ41: =(((S41+R41)*AU41)/100) -> 272.43 | DE41: )*1,35 | DF41: )*1,35 | DG41: )*1,35 | DI41: )*1,35 | DJ41: )*1,35 | DN41: 0 | DO41: 0 | DP41: 1 | DQ41: 1 | DU41: 1013 | DV41: ШТ | DW41: ШТ | DX41: 1 | EE41: 39174433 | EF41: 3 | EG41: Монтажные работы | EH41: 0 | EJ41: 2 | EK41: 110011 | EL41: Связь: пожарно-охранная сигнализация и пром. телевиз. установки ( отделы 8 и 9 ) (при устройстве средств посадки самолетов : НР=95%, СП=55% - {АВИА}=1) | EM41: мФЕР-10 | EO41: Поправка: Прил.2, Табл.3, п. 6 | EQ41: 131072 | ER41: 28.93 | ES41: 4.09 | ET41: 0 | EU41: 0 | EV41: 24.84 | EW41: 2.4 | EX41: 0 | EY41: 0 | FQ41: 0 | FR41: =ROUND(IF(AND(BH41=3,BI41=3),P41,0),2) -> 0 | FS41: 0 | FX41: 80 | FY41: 60 | GD41: 1 | GF41: 177670689 | GG41: 1 | GH41: 1 | GI41: 4 | GJ41: 0 | GK41: 0 | GL41: =ROUND(IF(AND(BH41=3,BI41=3,FS41<>0),P41,0),2) -> 0 | GM41: =ROUND(O41+X41+Y41,2)+GX41 -> 1145.1 | GN41: =IF(OR(BI41=0,BI41=1),ROUND(O41+X41+Y41,2),0) -> 0 | GO41: =IF(BI41=2,ROUND(O41+X41+Y41,2),0) -> 1145.1 | GP41: =IF(BI41=4,ROUND(O41+X41+Y41,2)+GX41,0) -> 0 | GR41: 0 | GS41: 0 | GT41: 0 | GV41: =ROUND((GT41),6) -> 0 | GW41: 1 | GX41: =ROUND(HC41*I41,2) -> 0 | HA41: 0 | HB41: 0 | HC41: =GV41*GW41 -> 0 | IK41: 0
A42: 18 | B42: 1 | C42: 50 | E42: 4,1 | F42: 61.2.07.02-0028 | G42: Блок индикации и управления пожаротушением, марка "С2000- ПТ" | H42: шт. | I42: =I40*J42 -> 2 | J42: 1 | O42: =ROUND(CP42,2) -> 1384.08 | P42: =ROUND(CQ42*I42,2) -> 1384.08 | Q42: =ROUND(CR42*I42,2) -> 0 | R42: =ROUND(CS42*I42,2) -> 0 | S42: =ROUND(CT42*I42,2) -> 0 | T42: =ROUND(CU42*I42,2) -> 0 | U42: =CV42*I42 -> 0 | V42: =CW42*I42 -> 0 | W42: =ROUND(CX42*I42,2) -> 0 | X42: =ROUND(CY42,2) -> 0 | Y42: =ROUND(CZ42,2) -> 0 | AA42: 39650536 | AB42: =ROUND((AC42+AD42+AF42),6) -> 692.04 | AC42: =ROUND((ES42),6) -> 692.04 | AD42: =ROUND((((ET42)-(EU42))+AE42),6) -> 0 | AE42: =ROUND((EU42),6) -> 0 | AF42: =ROUND((EV42),6) -> 0 | AG42: =ROUND((AP42),6) -> 0 | AH42: =(EW42) -> 0 | AI42: =(EX42) -> 0 | AJ42: =(AS42) -> 0 | AK42: 692.04 | AL42: 692.04 | AM42: 0 | AN42: 0 | AO42: 0 | AP42: 0 | AQ42: 0 | AR42: 0 | AS42: 0 | AT42: 80 | AU42: 60 | AV42: 1 | AW42: 1 | AZ42: 1 | BA42: 1 | BB42: 1 | BC42: 1 | BH42: 3 | BI42: 2 | BJ42: ФССЦ-2001, 61.2.07.02-0028, приказ Минстроя России №1039/пр от 30.12.2016г. | BM42: 110001 | BN42: 0 | BP42: 0 | BQ42: 3 | BR42: 0 | BS42: 1 | BT42: 1 | BU42: 1 | BV42: 1 | BW42: 1 | BX42: 1 | BZ42: 80 | CA42: 60 | CE42: 0 | CF42: 0 | CG42: 0 | CM42: 0 | CO42: 0 | CP42: =(P42+Q42+S42) -> 1384.08 | CQ42: =AC42*BC42 -> 692.04 | CR42: =AD42*BB42 -> 0 | CS42: =AE42*BS42 -> 0 | CT42: =AF42*BA42 -> 0 | CU42: =AG42 -> 0 | CV42: =AH42 -> 0 | CW42: =AI42 -> 0 | CX42: =AJ42 -> 0 | CY42: =(((S42+R42)*AT42)/100) -> 0 | CZ42: =(((S42+R42)*AU42)/100) -> 0 | DN42: 0 | DO42: 0 | DP42: 1 | DQ42: 1 | DU42: 1010 | DV42: шт. | DW42: шт. | DX42: 1 | EE42: 39174389 | EF42: 3 | EG42: Монтажные работы | EH42: 0 | EJ42: 2 | EK42: 110001 | EL42: Связь: городская, местная, междугородняя проводная телефонная связь ( отделы 1, 2, 3 ) - ( при уст-ве средств посадки самолетов: {AВИА}=1 - НР=95%, СП=55% ) | EM42: мФЕР-10 | EQ42: 0 | ER42: 692.04 | ES42: 692.04 | ET42: 0 | EU42: 0 | EV42: 0 | EW42: 0 | EX42: 0 | FQ42: 0 | FR42: =ROUND(IF(AND(BH42=3,BI42=3),P42,0),2) -> 0 | FS42: 0 | FX42: 80 | FY42: 60 | GD42: 1 | GF42: -768053661 | GG42: 1 | GH42: 1 | GI42: -2 | GJ42: 0 | GK42: 0 | GL42: =ROUND(IF(AND(BH42=3,BI42=3,FS42<>0),P42,0),2) -> 0 | GM42: =ROUND(O42+X42+Y42,2)+GX42 -> 1384.08 | GN42: =IF(OR(BI42=0,BI42=1),ROUND(O42+X42+Y42,2),0) -> 0 | GO42: =IF(BI42=2,ROUND(O42+X42+Y42,2),0) -> 1384.08 | GP42: =IF(BI42=4,ROUND(O42+X42+Y42,2)+GX42,0) -> 0 | GR42: 0 | GS42: 3 | GT42: 0 | GV42: =ROUND((GT42),6) -> 0 | GW42: 1 | GX42: =ROUND(HC42*I42,2) -> 0 | HA42: 0 | HB42: 0 | HC42: =GV42*GW42 -> 0 | IK42: 0
A43: 18 | B43: 1 | C43: 57 | E43: 4,1 | F43: 61.2.07.02-0028 | G43: Блок индикации и управления пожаротушением, марка "С2000- ПТ" | H43: шт. | I43: =I41*J43 -> 2 | J43: 1 | O43: =ROUND(CP43,2) -> 9370.22 | P43: =ROUND(CQ43*I43,2) -> 9370.22 | Q43: =ROUND(CR43*I43,2) -> 0 | R43: =ROUND(CS43*I43,2) -> 0 | S43: =ROUND(CT43*I43,2) -> 0 | T43: =ROUND(CU43*I43,2) -> 0 | U43: =CV43*I43 -> 0 | V43: =CW43*I43 -> 0 | W43: =ROUND(CX43*I43,2) -> 0 | X43: =ROUND(CY43,2) -> 0 | Y43: =ROUND(CZ43,2) -> 0 | AA43: 39650538 | AB43: =ROUND((AC43+AD43+AF43),6) -> 692.04 | AC43: =ROUND((ES43),6) -> 692.04 | AD43: =ROUND((((ET43)-(EU43))+AE43),6) -> 0 | AE43: =ROUND((EU43),6) -> 0 | AF43: =ROUND((EV43),6) -> 0 | AG43: =ROUND((AP43),6) -> 0 | AH43: =(EW43) -> 0 | AI43: =(EX43) -> 0 | AJ43: =(AS43) -> 0 | AK43: 692.04 | AL43: 692.04 | AM43: 0 | AN43: 0 | AO43: 0 | AP43: 0 | AQ43: 0 | AR43: 0 | AS43: 0 | AT43: 80 | AU43: 60 | AV43: 1 | AW43: 1 | AZ43: 6.77 | BA43: 1 | BB43: 1 | BC43: 6.77 | BH43: 3 | BI43: 2 | BJ43: ФССЦ-2001, 61.2.07.02-0028, приказ Минстроя России №1039/пр от 30.12.2016г. | BM43: 110001 | BN43: 0 | BP43: 0 | BQ43: 3 | BR43: 0 | BS43: 1 | BT43: 1 | BU43: 1 | BV43: 1 | BW43: 1 | BX43: 1 | BZ43: 80 | CA43: 60 | CE43: 0 | CF43: 0 | CG43: 0 | CM43: 0 | CO43: 0 | CP43: =(P43+Q43+S43) -> 9370.22 | CQ43: =AC43*BC43 -> 4685.1108 | CR43: =AD43*BB43 -> 0 | CS43: =AE43*BS43 -> 0 | CT43: =AF43*BA43 -> 0 | CU43: =AG43 -> 0 | CV43: =AH43 -> 0 | CW43: =AI43 -> 0 | CX43: =AJ43 -> 0 | CY43: =(((S43+R43)*AT43)/100) -> 0 | CZ43: =(((S43+R43)*AU43)/100) -> 0 | DN43: 0 | DO43: 0 | DP43: 1 | DQ43: 1 | DU43: 1010 | DV43: шт. | DW43: шт. | DX43: 1 | EE43: 39174389 | EF43: 3 | EG43: Монтажные работы | EH43: 0 | EJ43: 2 | EK43: 110001 | EL43: Связь: городская, местная, междугородняя проводная телефонная связь ( отделы 1, 2, 3 ) - ( при уст-ве средств посадки самолетов: {AВИА}=1 - НР=95%, СП=55% ) | EM43: мФЕР-10 | EQ43: 0 | ER43: 692.04 | ES43: 692.04 | ET43: 0 | EU43: 0 | EV43: 0 | EW43: 0 | EX43: 0 | FQ43: 0 | FR43: =ROUND(IF(AND(BH43=3,BI43=3),P43,0),2) -> 0 | FS43: 0 | FX43: 80 | FY43: 60 | GD43: 1 | GF43: -768053661 | GG43: 1 | GH43: 1 | GI43: 4 | GJ43: 0 | GK43: 0 | GL43: =ROUND(IF(AND(BH43=3,BI43=3,FS43<>0),P43,0),2) -> 0 | GM43: =ROUND(O43+X43+Y43,2)+GX43 -> 9370.22 | GN43: =IF(OR(BI43=0,BI43=1),ROUND(O43+X43+Y43,2),0) -> 0 | GO43: =IF(BI43=2,ROUND(O43+X43+Y43,2),0) -> 9370.22 | GP43: =IF(BI43=4,ROUND(O43+X43+Y43,2)+GX43,0) -> 0 | GR43: 0 | GS43: 0 | GT43: 0 | GV43: =ROUND((GT43),6) -> 0 | GW43: 1 | GX43: =ROUND(HC43*I43,2) -> 0 | HA43: 0 | HB43: 0 | HC43: =GV43*GW43 -> 0 | IK43: 0
