Workbook

Sheet Смета 12 гр. по ФЕР
A1: =Source!B1 -> Smeta.RU (495) 974-1589 | I1: Приложение 1 к форме 6
B4: СМЕТА
B5: =IF(Source!G20<>"Новая локальная смета", Source!G20, "")
B7: =IF(Source!G12<>"Новый объект", Source!G12, "") -> на изготовление и монтаж сборборно-разборных конструкций детектора ТРЕК НИЯУ МИФИ по адресу:г.Москва,Каширское шоссе,д.31,стр.37А | AD7: =IF(Source!G12<>"Новый объект", Source!G12, "") -> на изготовление и монтаж сборборно-разборных конструкций детектора ТРЕК НИЯУ МИФИ по адресу:г.Москва,Каширское шоссе,д.31,стр.37А
G10: базовая цена | I10: текущая цена
C11: Сметная стоимость | G11: =SUM(O22:O1373)/1000 -> 1539.9157 | I11: =(Source!F830/1000) -> 11920.178 | K11: тыс. руб.
C12: Строительные работы | G12: =SUM(W22:W1373)/1000 -> 1527.7967 | I12: =(Source!F817)/1000 -> 10022.346 | K12: тыс. руб.
C13: Монтажные работы | G13: =SUM(X22:X1373)/1000 -> 12.11895 | I13: =(Source!F818)/1000 -> 79.50027 | K13: тыс. руб.
C14: Оборудование | G14: =SUM(Y22:Y1373)/1000 -> 0 | I14: =(Source!F809)/1000 -> 0 | K14: тыс. руб.
C15: Прочие работы | G15: =SUM(Z22:Z1373)/1000 -> 0 | I15: =(Source!F819+Source!F820)/1000 -> 0 | K15: тыс. руб.
C16: Нормативная трудоемкость | G16: =I16 -> 7831.6194 | I16: =(Source!F822+Source!F823) -> 7831.6194 | K16: чел. -ч.
C17: Средства на оплату труда | G17: =SUM(R22:R1373)/1000 -> 73.42984 | I17: =(Source!F815+ Source!F814)/1000 -> 481.69946 | K17: тыс. руб.
A19: Составлена в ценах II квартал 2018 года
A20: № п/п | B20: Шифр расценки и коды ресурсов | C20: Наименование работ и затрат | D20: Ед. изм. | E20: Кол-во единиц | F20: Цена на ед. изм. | G20: Попра-вочные коэфф. | H20: Стоимость в ценах 2001г. | I20: Пункт коэфф. пересчета | J20: Коэфф. пересчета | K20: Стоимость в текущих ценах | L20: ЗТР всего чел.-час
A21: 1 | B21: 2 | C21: 3 | D21: 4 | E21: 5 | F21: 6 | G21: 7 | H21: 8 | I21: 9 | J21: 10 | K21: 11 | L21: 12
A22: =CONCATENATE("Раздел: ",IF(Source!G24<>"Новый раздел", Source!G24, "")) -> Раздел: 1 Конструктивные решения ниже отметки 0,00
A23: =Source!E28 -> 1 | B23: =Source!F28 -> 01-02-056-02 | C23: =Source!G28 -> Разработка грунта вручную в траншеях шириной более 2 м и котлованах площадью сечения до 5 м2 с креплениями, глубина траншей и котлованов до 2 м, группа грунтов 2 | D23: =Source!H28 -> 100 м3 | E23: =Source!I28 -> 1.2611 | F23: =Source!AL28+Source!AM28+Source!AO28 -> 1952.54 | I23: =Source!BO28 | S23: =ROUND((Source!FX28/100)*((ROUND(Source!AF28*Source!I28, 2)+ROUND(Source!AE28*Source!I28, 2))), 2) -> 2265.36 | T23: =Source!X28 -> 14860.76 | U23: =ROUND((Source!FY28/100)*((ROUND(Source!AF28*Source!I28, 2)+ROUND(Source!AE28*Source!I28, 2))), 2) -> 1274.27 | V23: =Source!Y28 -> 8359.18
C24: ="Объем: "&Source!I28&"=126,11/"&"100" -> Объем: 1,2611=126,11/100
C25: Зарплата | F25: =Source!AO28 -> 1952.54 | G25: =Source!DG28 -> )*1,15 | H25: =ROUND(Source!AF28*Source!I28, 2) -> 2831.7 | J25: =IF(Source!BA28<> 0, Source!BA28, 1) -> 6.56 | K25: =Source!S28 -> 18575.95 | R25: =H25 -> 2831.7
C26: НР от ФОТ | D26: % | E26: =Source!BZ28 -> 80 | H26: =SUM(S23:S28) -> 2265.36 | J26: =Source!AT28 -> 80 | K26: =SUM(T23:T28) -> 14860.76
C27: СП от ФОТ | D27: % | E27: =Source!CA28 -> 45 | H27: =SUM(U23:U28) -> 1274.27 | J27: =Source!AU28 -> 45 | K27: =SUM(V23:V28) -> 8359.18
C28: Затраты труда | D28: чел-ч | E28: =Source!AQ28 -> 233 | G28: =Source!DI28 -> )*1,15 | L28: =Source!U28 -> 337.91174
G29: =H25+H26+H27 -> 6371.33 | J29: =K25+K26+K27 -> 41795.89 | L29: =Source!U28 -> 337.91174 | O29: =G29 -> 6371.33 | P29: =J29 -> 41795.89 | Q29: =L29 -> 337.91174 | W29: =IF(Source!BI28<=1,H25+H26+H27, 0) -> 6371.33 | X29: =IF(Source!BI28=2,H25+H26+H27, 0) -> 0 | Y29: =IF(Source!BI28=3,H25+H26+H27, 0) -> 0 | Z29: =IF(Source!BI28=4,H25+H26+H27, 0) -> 0
A30: =Source!E29 -> 2 | B30: =Source!F29 -> 04-01-041-02 | C30: =Source!G29 -> Шнековое бурение скважин станками типа СО-2 глубиной бурения до 12 м в грунтах группы 2 | D30: =Source!H29 -> 100 м | E30: =Source!I29 -> 2.1658 | F30: =Source!AL29+Source!AM29+Source!AO29 -> 2795.67 | I30: =Source!BO29 | S30: =ROUND((Source!FX29/100)*((ROUND(Source!AF29*Source!I29, 2)+ROUND(Source!AE29*Source!I29, 2))), 2) -> 1193.56 | T30: =Source!X29 -> 7829.77 | U30: =ROUND((Source!FY29/100)*((ROUND(Source!AF29*Source!I29, 2)+ROUND(Source!AE29*Source!I29, 2))), 2) -> 543.5 | V30: =Source!Y29 -> 3565.34
C31: ="Объем: "&Source!I29&"=216,58/"&"100" -> Объем: 2,1658=216,58/100
C32: Зарплата | F32: =Source!AO29 -> 243.48 | G32: =Source!DG29 -> )*1,15 | H32: =ROUND(Source!AF29*Source!I29, 2) -> 606.42 | J32: =IF(Source!BA29<> 0, Source!BA29, 1) -> 6.56 | K32: =Source!S29 -> 3978.14 | R32: =H32 -> 606.42
C33: Эксплуатация машин | F33: =Source!AM29 -> 2552.19 | G33: =Source!DE29 -> )*1,25 | H33: =ROUND(Source!AD29*Source!I29, 2) -> 6909.42 | J33: =IF(Source!BB29<> 0, Source!BB29, 1) -> 6.56 | K33: =Source!Q29 -> 45325.81
C34: в т.ч. зарплата машинистов | F34: =Source!AN29 -> 169.64 | G34: =Source!DF29 -> )*1,25 | H34: =ROUND(Source!AE29*Source!I29, 2) -> 459.26 | J34: =IF(Source!BS29<> 0, Source!BS29, 1) -> 6.56 | K34: =Source!R29 -> 3012.73 | R34: =H34 -> 459.26
C35: НР от ФОТ | D35: % | E35: =Source!BZ29 -> 112 | H35: =SUM(S30:S40) -> 1193.56 | J35: =Source!AT29 -> 112 | K35: =SUM(T30:T40) -> 7829.77
C36: СП от ФОТ | D36: % | E36: =Source!CA29 -> 51 | H36: =SUM(U30:U40) -> 543.5 | J36: =Source!AU29 -> 51 | K36: =SUM(V30:V40) -> 3565.34
C37: Затраты труда | D37: чел-ч | E37: =Source!AQ29 -> 25.31 | G37: =Source!DI29 -> )*1,15 | L37: =Source!U29 -> 63.038858
A38: =Source!E30 -> 2,1 | B38: =Source!F30 -> 01.4.01.03 | C38: =Source!G30 -> Долота шнековые | D38: =Source!H30 -> шт. | E38: =Source!I30 -> 0.103958 | F38: =Source!AL30+Source!AM30+Source!AO30 -> 0 | H38: =ROUND(Source!AC30*Source!I30, 2)+ROUND(Source!AD30*Source!I30, 2)+ROUND(Source!AF30*Source!I30, 2) -> 0 | J38: =IF(Source!BC30<> 0, Source!BC30, 1) -> 6.56 | K38: =Source!O30 -> 0 | S38: =ROUND((Source!FX30/100)*((ROUND(Source!AF30*Source!I30, 2)+ROUND(Source!AE30*Source!I30, 2))), 2) -> 0 | T38: =Source!X30 -> 0 | U38: =ROUND((Source!FY30/100)*((ROUND(Source!AF30*Source!I30, 2)+ROUND(Source!AE30*Source!I30, 2))), 2) -> 0 | V38: =Source!Y30 -> 0 | W38: =IF(Source!BI30<=1,H38, 0) -> 0 | X38: =IF(Source!BI30=2,H38, 0) -> 0 | Y38: =IF(Source!BI30=3,H38, 0) -> 0 | Z38: =IF(Source!BI30=4,H38, 0) -> 0
A39: =Source!E31 -> 2,2 | B39: =Source!F31 -> 01.4.01.03-0153 | C39: =Source!G31 -> Долота шнековые диаметром 250 мм | D39: =Source!H31 -> шт. | E39: =Source!I31 -> 1 | F39: =Source!AL31+Source!AM31+Source!AO31 -> 699.6 | H39: =ROUND(Source!AC31*Source!I31, 2)+ROUND(Source!AD31*Source!I31, 2)+ROUND(Source!AF31*Source!I31, 2) -> 699.6 | J39: =IF(Source!BC31<> 0, Source!BC31, 1) -> 6.56 | K39: =Source!O31 -> 4589.38 | S39: =ROUND((Source!FX31/100)*((ROUND(Source!AF31*Source!I31, 2)+ROUND(Source!AE31*Source!I31, 2))), 2) -> 0 | T39: =Source!X31 -> 0 | U39: =ROUND((Source!FY31/100)*((ROUND(Source!AF31*Source!I31, 2)+ROUND(Source!AE31*Source!I31, 2))), 2) -> 0 | V39: =Source!Y31 -> 0 | W39: =IF(Source!BI31<=1,H39, 0) -> 699.6 | X39: =IF(Source!BI31=2,H39, 0) -> 0 | Y39: =IF(Source!BI31=3,H39, 0) -> 0 | Z39: =IF(Source!BI31=4,H39, 0) -> 0
A40: =Source!E32 -> 2,3 | B40: =Source!F32 -> 01.4.01.10-0016 | C40: =Source!G32 -> Шнек диаметром 135 мм | D40: =Source!H32 -> шт. | E40: =Source!I32 -> 17 | F40: =Source!AL32+Source!AM32+Source!AO32 -> 597 | H40: =ROUND(Source!AC32*Source!I32, 2)+ROUND(Source!AD32*Source!I32, 2)+ROUND(Source!AF32*Source!I32, 2) -> 10149 | J40: =IF(Source!BC32<> 0, Source!BC32, 1) -> 6.56 | K40: =Source!O32 -> 66577.44 | S40: =ROUND((Source!FX32/100)*((ROUND(Source!AF32*Source!I32, 2)+ROUND(Source!AE32*Source!I32, 2))), 2) -> 0 | T40: =Source!X32 -> 0 | U40: =ROUND((Source!FY32/100)*((ROUND(Source!AF32*Source!I32, 2)+ROUND(Source!AE32*Source!I32, 2))), 2) -> 0 | V40: =Source!Y32 -> 0 | W40: =IF(Source!BI32<=1,H40, 0) -> 10149 | X40: =IF(Source!BI32=2,H40, 0) -> 0 | Y40: =IF(Source!BI32=3,H40, 0) -> 0 | Z40: =IF(Source!BI32=4,H40, 0) -> 0
G41: =H32+H33+H35+H36+SUM(H38:H40) -> 20101.5 | J41: =K32+K33+K35+K36+SUM(K38:K40) -> 131865.88 | L41: =Source!U29 -> 63.038858 | O41: =G41 -> 20101.5 | P41: =J41 -> 131865.88 | Q41: =L41 -> 63.038858 | W41: =IF(Source!BI29<=1,H32+H33+H35+H36, 0) -> 9252.9 | X41: =IF(Source!BI29=2,H32+H33+H35+H36, 0) -> 0 | Y41: =IF(Source!BI29=3,H32+H33+H35+H36, 0) -> 0 | Z41: =IF(Source!BI29=4,H32+H33+H35+H36, 0) -> 0
A42: =Source!E33 -> 3 | B42: =Source!F33 -> 04-02-010-02 | C42: =Source!G33 -> Крепление скважины глубиной до 50 м при шнековом бурении трубами с муфтовым соединением, группа грунтов по устойчивости 2 | D42: =Source!H33 -> 10 м | E42: =Source!I33 -> 21.658 | F42: =Source!AL33+Source!AM33+Source!AO33 -> 297.56 | I42: =Source!BO33 | S42: =ROUND((Source!FX33/100)*((ROUND(Source!AF33*Source!I33, 2)+ROUND(Source!AE33*Source!I33, 2))), 2) -> 1926 | T42: =Source!X33 -> 12634.57 | U42: =ROUND((Source!FY33/100)*((ROUND(Source!AF33*Source!I33, 2)+ROUND(Source!AE33*Source!I33, 2))), 2) -> 877.02 | V42: =Source!Y33 -> 5753.24
C43: ="Объем: "&Source!I33&"=216,58/"&"10" -> Объем: 21,658=216,58/10
C44: Зарплата | F44: =Source!AO33 -> 25.01 | G44: =Source!DG33 -> )*1,15 | H44: =ROUND(Source!AF33*Source!I33, 2) -> 622.88 | J44: =IF(Source!BA33<> 0, Source!BA33, 1) -> 6.56 | K44: =Source!S33 -> 4086.12 | R44: =H44 -> 622.88
C45: Эксплуатация машин | F45: =Source!AM33 -> 267.89 | G45: =Source!DE33 -> )*1,25 | H45: =ROUND(Source!AD33*Source!I33, 2) -> 7252.61 | J45: =IF(Source!BB33<> 0, Source!BB33, 1) -> 6.56 | K45: =Source!Q33 -> 47577.15
C46: в т.ч. зарплата машинистов | F46: =Source!AN33 -> 40.51 | G46: =Source!DF33 -> )*1,25 | H46: =ROUND(Source!AE33*Source!I33, 2) -> 1096.76 | J46: =IF(Source!BS33<> 0, Source!BS33, 1) -> 6.56 | K46: =Source!R33 -> 7194.75 | R46: =H46 -> 1096.76
...

Sheet Source
A1: 0 | B1: Smeta.RU (495) 974-1589 | D1: _PS_ | F1: 0 | G1: 0 | H1: 0 | I1: Smeta.RU | K1: 0 | L1: 13277 | M1: 10
A12: 1 | B12: 890 | C12: 0 | D12: =ROW(A832) -> 832 | E12: 0 | F12: Новый объект | G12: на изготовление и монтаж сборборно-разборных конструкций детектора ТРЕК НИЯУ МИФИ по адресу:г.Москва,Каширское шоссе,д.31,стр.37А | I12: 0 | K12: 0 | O12: 0 | P12: 0 | Q12: 0 | R12: 0 | V12: 0 | BH12: Сметные нормы списания | BI12: Коды ценников | BJ12: 1 | BK12: 1 | BL12: 0 | BM12: 0 | BN12: 1 | BO12: 0 | BP12: 2 | BQ12: 2 | BR12: 1 | BS12: 1 | BT12: 0 | BU12: 0 | BV12: 0 | BW12: 0 | BX12: 0 | BY12: ФЕР-2017 | BZ12: ТР для Версии 10: Центральные регионы (с учетом п-ма 2536-ИП/12/ГС от 22.03.2017 г | CA12: ФЕР-2017 | CB12: ФЕР-2017 | CC12: ФЕР-2017 | CD12: ФЕР-2017 | CE12: Поправки для ГСН 2017 от 31.03.2017 г | CF12: 0 | CG12: 0 | CH12: 524296 | CK12: 4 | EC12: 0
A15: 15 | B15: 1
A18: 52 | B18: =B832 -> 890 | C18: =C832 -> 1 | D18: =D832 -> 12 | E18: =E832 -> 0 | F18: =F832 -> Новый объект | G18: =G832 -> на изготовление и монтаж сборборно-разборных конструкций детектора ТРЕК НИЯУ МИФИ по адресу:г.Москва,Каширское шоссе,д.31,стр.37А | O18: =O832 -> 9240427.7 | P18: =P832 -> 8296017.6 | Q18: =Q832 -> 524106.72 | R18: =R832 -> 61396.07 | S18: =S832 -> 420303.39 | T18: =T832 -> 0 | U18: =U832 -> 7128.1538 | V18: =V832 -> 703.46568 | ... GX18: =GX832 -> 0
A20: 3 | B20: 1 | D20: =ROW(A800) -> 800 | F20: Новая локальная смета | G20: Новая локальная смета | I20: 0 | K20: 0 | V20: 0 | BX20: 0 | CF20: 0 | CG20: 0
A22: 52 | B22: =B800 -> 1 | C22: =C800 -> 3 | D22: =D800 -> 20 | E22: =E800 -> 0 | F22: =F800 -> Новая локальная смета | G22: =G800 -> Новая локальная смета | O22: =O800 -> 9240427.7 | P22: =P800 -> 8296017.6 | Q22: =Q800 -> 524106.72 | R22: =R800 -> 61396.07 | S22: =S800 -> 420303.39 | T22: =T800 -> 0 | U22: =U800 -> 7128.1538 | V22: =V800 -> 703.46568 | ... GX22: =GX800 -> 0
A24: 4 | B24: 1 | D24: =ROW(A150) -> 150 | F24: Новый раздел | G24: 1 Конструктивные решения ниже отметки 0,00 | I24: 0 | K24: -1 | V24: 0 | BX24: 0 | CJ24: 0
A26: 52 | B26: =B150 -> 1 | C26: =C150 -> 4 | D26: =D150 -> 24 | E26: =E150 -> 0 | F26: =F150 -> Новый раздел | G26: =G150 -> 1 Конструктивные решения ниже отметки 0,00 | O26: =O150 -> 2323028.4 | P26: =P150 -> 1925011.6 | Q26: =Q150 -> 264156.19 | R26: =R150 -> 32665.35 | S26: =S150 -> 133860.53 | T26: =T150 -> 0 | U26: =U150 -> 2302.8385 | V26: =V150 -> 378.61293 | ... GX26: =GX150 -> 0
A28: 17 | B28: 1 | C28: =ROW(SmtRes!A1) -> 1 | D28: =ROW(EtalonRes!A1) -> 1 | E28: 1 | F28: 01-02-056-02 | G28: Разработка грунта вручную в траншеях шириной более 2 м и котлованах площадью сечения до 5 м2 с креплениями, глубина траншей и котлованов до 2 м, группа грунтов 2 | H28: 100 м3 | I28: =ROUND(126.11/100,9) -> 1.2611 | J28: 0 | O28: =ROUND(CP28,2) -> 18575.95 | P28: =ROUND(CQ28*I28,2) -> 0 | Q28: =ROUND(CR28*I28,2) -> 0 | R28: =ROUND(CS28*I28,2) -> 0 | S28: =ROUND(CT28*I28,2) -> 18575.95 | T28: =ROUND(CU28*I28,2) -> 0 | U28: =CV28*I28 -> 337.91174 | V28: =CW28*I28 -> 0 | W28: =ROUND(CX28*I28,2) -> 0 | X28: =ROUND(CY28,2) -> 14860.76 | Y28: =ROUND(CZ28,2) -> 8359.18 | AA28: 39570879 | AB28: =ROUND((AC28+AD28+AF28),2) -> 2245.42 | AC28: =ROUND((ES28),2) -> 0 | AD28: =ROUND(((((ET28*1.25))-((EU28*1.25)))+AE28),2) -> 0 | AE28: =ROUND(((EU28*1.25)),2) -> 0 | AF28: =ROUND(((EV28*1.15)),2) -> 2245.42 | AG28: =ROUND((AP28),2) -> 0 | AH28: =((EW28*1.15)) -> 267.95 | AI28: =((EX28*1.25)) -> 0 | AJ28: =ROUND((AS28),2) -> 0 | AK28: 1952.54 | AL28: 0 | AM28: 0 | AN28: 0 | AO28: 1952.54 | AP28: 0 | AQ28: 233 | AR28: 0 | AS28: 0 | AT28: 80 | AU28: 45 | AV28: 1 | AW28: 1 | AZ28: 6.56 | BA28: 6.56 | BB28: 6.56 | BC28: 6.56 | BH28: 0 | BI28: 1 | BJ28: ФЕР-2001, 01-02-056-02, приказ Минстроя России №1039/пр от 30.12.2016г. | BM28: 1003 | BN28: 0 | BP28: 0 | BQ28: 2 | BR28: 0 | BS28: 6.56 | BT28: 1 | BU28: 1 | BV28: 1 | BW28: 1 | BX28: 1 | BZ28: 80 | CA28: 45 | CF28: 0 | CG28: 0 | CM28: 0 | CN28: Поправка: МДС 81-35.2004, п.4.7 Наименование: Работы, выполняемые при реконструкции зданий и сооружений работы, аналогичные технологическим процессам в новом строительстве (в том числе возведение новых конструктивных элементов) стоимость которых определена по соответствующим сборникам ФЕР, кроме сборника № 46 «Работы при реконструкции зданий и сооружений» | CO28: 0 | CP28: =(P28+Q28+S28) -> 18575.95 | CQ28: =AC28*BC28 -> 0 | CR28: =AD28*BB28 -> 0 | CS28: =AE28*BS28 -> 0 | CT28: =AF28*BA28 -> 14729.955 | CU28: =AG28 -> 0 | CV28: =AH28 -> 267.95 | CW28: =AI28 -> 0 | CX28: =AJ28 -> 0 | CY28: =(((S28+R28)*AT28)/100) -> 14860.76 | CZ28: =(((S28+R28)*AU28)/100) -> 8359.1775 | DE28: )*1,25 | DF28: )*1,25 | DG28: )*1,15 | DI28: )*1,15 | DJ28: )*1,25 | DN28: 0 | DO28: 0 | DP28: 1 | DQ28: 1 | DU28: 1007 | DV28: 100 м3 | DW28: 100 м3 | DX28: 100 | EE28: 39174479 | EF28: 2 | EG28: Общестроительные работы | EH28: 0 | EJ28: 1 | EK28: 1003 | EL28: Земляные работы, выполняемые ручным способом | EM28: ФЕР-01 | EO28: Поправка: МДС 81-35.2004, п.4.7 | EQ28: 0 | ER28: 1952.54 | ES28: 0 | ET28: 0 | EU28: 0 | EV28: 1952.54 | EW28: 233 | EX28: 0 | EY28: 0 | FQ28: 0 | FR28: =ROUND(IF(AND(BH28=3,BI28=3),P28,0),2) -> 0 | FS28: 0 | FX28: 80 | FY28: 45 | GD28: 0 | GF28: 583111073 | GG28: 1 | GH28: 1 | GI28: 4 | GJ28: 0 | GK28: =ROUND(R28*(R12)/100,2) -> 0 | GL28: =ROUND(IF(AND(BH28=3,BI28=3,FS28<>0),P28,0),2) -> 0 | GM28: =ROUND(O28+X28+Y28+GK28,2)+GX28 -> 41795.89 | GN28: =IF(OR(BI28=0,BI28=1),ROUND(O28+X28+Y28+GK28,2),0) -> 41795.89 | GO28: =IF(BI28=2,ROUND(O28+X28+Y28+GK28,2),0) -> 0 | GP28: =IF(BI28=4,ROUND(O28+X28+Y28+GK28,2)+GX28,0) -> 0 | GR28: 0 | GS28: 3 | GT28: 0 | GV28: =ROUND(GT28,2) -> 0 | GW28: 1 | GX28: =ROUND(GV28*GW28*I28,2) -> 0 | HA28: 0 | HB28: 0 | IK28: 0
A29: 17 | B29: 1 | C29: =ROW(SmtRes!A10) -> 10 | D29: =ROW(EtalonRes!A9) -> 9 | E29: 2 | F29: 04-01-041-02 | G29: Шнековое бурение скважин станками типа СО-2 глубиной бурения до 12 м в грунтах группы 2 | H29: 100 м | I29: =ROUND(216.58/100,9) -> 2.1658 | J29: 0 | O29: =ROUND(CP29,2) -> 49303.95 | P29: =ROUND(CQ29*I29,2) -> 0 | Q29: =ROUND(CR29*I29,2) -> 45325.81 | R29: =ROUND(CS29*I29,2) -> 3012.73 | S29: =ROUND(CT29*I29,2) -> 3978.14 | T29: =ROUND(CU29*I29,2) -> 0 | U29: =CV29*I29 -> 63.038858 | V29: =CW29*I29 -> 34.246713 | W29: =ROUND(CX29*I29,2) -> 0 | X29: =ROUND(CY29,2) -> 7829.77 | Y29: =ROUND(CZ29,2) -> 3565.34 | AA29: 39570879 | AB29: =ROUND((AC29+AD29+AF29),2) -> 3470.24 | AC29: =ROUND((ES29),2) -> 0 | AD29: =ROUND(((((ET29*1.25))-((EU29*1.25)))+AE29),2) -> 3190.24 | AE29: =ROUND(((EU29*1.25)),2) -> 212.05 | AF29: =ROUND(((EV29*1.15)),2) -> 280 | AG29: =ROUND((AP29),2) -> 0 | AH29: =((EW29*1.15)) -> 29.1065 | AI29: =((EX29*1.25)) -> 15.8125 | AJ29: =ROUND((AS29),2) -> 0 | AK29: 2795.67 | AL29: 0 | AM29: 2552.19 | AN29: 169.64 | AO29: 243.48 | AP29: 0 | AQ29: 25.31 | AR29: 12.65 | AS29: 0 | AT29: 112 | AU29: 51 | AV29: 1 | AW29: 1 | AZ29: 6.56 | BA29: 6.56 | BB29: 6.56 | BC29: 6.56 | BH29: 0 | BI29: 1 | BJ29: ФЕР-2001, 04-01-041-02, приказ Минстроя России №1039/пр от 30.12.2016г. | BM29: 4001 | BN29: 0 | BP29: 0 | BQ29: 2 | BR29: 0 | BS29: 6.56 | BT29: 1 | BU29: 1 | BV29: 1 | BW29: 1 | BX29: 1 | BZ29: 112 | CA29: 51 | CF29: 0 | CG29: 0 | CM29: 0 | CN29: Поправка: МДС 81-35.2004, п.4.7 Наименование: Работы, выполняемые при реконструкции зданий и сооружений работы, аналогичные технологическим процессам в новом строительстве (в том числе возведение новых конструктивных элементов) стоимость которых определена по соответствующим сборникам ФЕР, кроме сборника № 46 «Работы при реконструкции зданий и сооружений» | CO29: 0 | CP29: =(P29+Q29+S29) -> 49303.95 | CQ29: =AC29*BC29 -> 0 | CR29: =AD29*BB29 -> 20927.974 | CS29: =AE29*BS29 -> 1391.048 | CT29: =AF29*BA29 -> 1836.8 | CU29: =AG29 -> 0 | CV29: =AH29 -> 29.1065 | CW29: =AI29 -> 15.8125 | CX29: =AJ29 -> 0 | CY29: =(((S29+R29)*AT29)/100) -> 7829.7744 | CZ29: =(((S29+R29)*AU29)/100) -> 3565.3437 | DE29: )*1,25 | DF29: )*1,25 | DG29: )*1,15 | DI29: )*1,15 | DJ29: )*1,25 | DN29: 0 | DO29: 0 | DP29: 1 | DQ29: 1 | DU29: 1003 | DV29: 100 м | DW29: 100 м | DX29: 100 | EE29: 39174486 | EF29: 2 | EG29: Общестроительные работы | EH29: 0 | EJ29: 1 | EK29: 4001 | EL29: Скважины | EM29: ФЕР-04 | EO29: Поправка: МДС 81-35.2004, п.4.7 | EQ29: 0 | ER29: 2795.67 | ES29: 0 | ET29: 2552.19 | EU29: 169.64 | EV29: 243.48 | EW29: 25.31 | EX29: 12.65 | EY29: 0 | FQ29: 0 | FR29: =ROUND(IF(AND(BH29=3,BI29=3),P29,0),2) -> 0 | FS29: 0 | FX29: 112 | FY29: 51 | GD29: 0 | GF29: -1302234925 | GG29: 1 | GH29: 1 | GI29: 4 | GJ29: 0 | GK29: =ROUND(R29*(R12)/100,2) -> 0 | GL29: =ROUND(IF(AND(BH29=3,BI29=3,FS29<>0),P29,0),2) -> 0 | GM29: =ROUND(O29+X29+Y29+GK29,2)+GX29 -> 60699.06 | GN29: =IF(OR(BI29=0,BI29=1),ROUND(O29+X29+Y29+GK29,2),0) -> 60699.06 | GO29: =IF(BI29=2,ROUND(O29+X29+Y29+GK29,2),0) -> 0 | GP29: =IF(BI29=4,ROUND(O29+X29+Y29+GK29,2)+GX29,0) -> 0 | GR29: 0 | GS29: 3 | GT29: 0 | GV29: =ROUND(GT29,2) -> 0 | GW29: 1 | GX29: =ROUND(GV29*GW29*I29,2) -> 0 | HA29: 0 | HB29: 0 | IK29: 0
A30: 18 | B30: 1 | C30: 8 | E30: 2,1 | F30: 01.4.01.03 | G30: Долота шнековые | H30: шт. | I30: =I29*J30 -> 0.103958 | J30: 0.047999815 | O30: =ROUND(CP30,2) -> 0 | P30: =ROUND(CQ30*I30,2) -> 0 | Q30: =ROUND(CR30*I30,2) -> 0 | R30: =ROUND(CS30*I30,2) -> 0 | S30: =ROUND(CT30*I30,2) -> 0 | T30: =ROUND(CU30*I30,2) -> 0 | U30: =CV30*I30 -> 0 | V30: =CW30*I30 -> 0 | W30: =ROUND(CX30*I30,2) -> 0 | X30: =ROUND(CY30,2) -> 0 | Y30: =ROUND(CZ30,2) -> 0 | AA30: 39570879 | AB30: =ROUND((AC30+AD30+AF30),2) -> 0 | AC30: =ROUND((ES30),2) -> 0 | AD30: =ROUND((((ET30)-(EU30))+AE30),2) -> 0 | AE30: =ROUND((EU30),2) -> 0 | AF30: =ROUND((EV30),2) -> 0 | AG30: =ROUND((AP30),2) -> 0 | AH30: =(EW30) -> 0 | AI30: =(EX30) -> 0 | AJ30: =ROUND((AS30),2) -> 0 | AK30: 0 | AL30: 0 | AM30: 0 | AN30: 0 | AO30: 0 | AP30: 0 | AQ30: 0 | AR30: 0 | AS30: 0 | AT30: 112 | AU30: 51 | AV30: 1 | AW30: 1 | AZ30: 6.56 | BA30: 1 | BB30: 1 | BC30: 6.56 | BH30: 3 | BI30: 1 | BM30: 4001 | BN30: 0 | BP30: 0 | BQ30: 2 | BR30: 0 | BS30: 1 | BT30: 1 | BU30: 1 | BV30: 1 | BW30: 1 | BX30: 1 | BZ30: 112 | CA30: 51 | CF30: 0 | CG30: 0 | CM30: 0 | CO30: 0 | CP30: =(P30+Q30+S30) -> 0 | CQ30: =AC30*BC30 -> 0 | CR30: =AD30*BB30 -> 0 | CS30: =AE30*BS30 -> 0 | CT30: =AF30*BA30 -> 0 | CU30: =AG30 -> 0 | CV30: =AH30 -> 0 | CW30: =AI30 -> 0 | CX30: =AJ30 -> 0 | CY30: =(((S30+R30)*AT30)/100) -> 0 | CZ30: =(((S30+R30)*AU30)/100) -> 0 | DN30: 0 | DO30: 0 | DP30: 1 | DQ30: 1 | DU30: 1010 | DV30: шт. | DW30: шт. | DX30: 1 | EE30: 39174486 | EF30: 2 | EG30: Общестроительные работы | EH30: 0 | EJ30: 1 | EK30: 4001 | EL30: Скважины | EM30: ФЕР-04 | EQ30: 0 | ER30: 0 | ES30: 0 | ET30: 0 | EU30: 0 | EV30: 0 | EW30: 0 | EX30: 0 | FQ30: 0 | FR30: =ROUND(IF(AND(BH30=3,BI30=3),P30,0),2) -> 0 | FS30: 0 | FX30: 112 | FY30: 51 | GD30: 0 | GF30: 349964797 | GG30: 1 | GH30: 1 | GI30: 4 | GJ30: 0 | GK30: =ROUND(R30*(R12)/100,2) -> 0 | GL30: =ROUND(IF(AND(BH30=3,BI30=3,FS30<>0),P30,0),2) -> 0 | GM30: =ROUND(O30+X30+Y30+GK30,2)+GX30 -> 0 | GN30: =IF(OR(BI30=0,BI30=1),ROUND(O30+X30+Y30+GK30,2),0) -> 0 | GO30: =IF(BI30=2,ROUND(O30+X30+Y30+GK30,2),0) -> 0 | GP30: =IF(BI30=4,ROUND(O30+X30+Y30+GK30,2)+GX30,0) -> 0 | GR30: 0 | GS30: 3 | GT30: 0 | GV30: =ROUND(GT30,2) -> 0 | GW30: 1 | GX30: =ROUND(GV30*GW30*I30,2) -> 0 | HA30: 0 | HB30: 0 | IK30: 0
A31: 18 | B31: 1 | C31: 9 | E31: 2,2 | F31: 01.4.01.03-0153 | G31: Долота шнековые диаметром 250 мм | H31: шт. | I31: =I29*J31 -> 1 | J31: 0.46172315 | O31: =ROUND(CP31,2) -> 4589.38 | P31: =ROUND(CQ31*I31,2) -> 4589.38 | Q31: =ROUND(CR31*I31,2) -> 0 | R31: =ROUND(CS31*I31,2) -> 0 | S31: =ROUND(CT31*I31,2) -> 0 | T31: =ROUND(CU31*I31,2) -> 0 | U31: =CV31*I31 -> 0 | V31: =CW31*I31 -> 0 | W31: =ROUND(CX31*I31,2) -> 0 | X31: =ROUND(CY31,2) -> 0 | Y31: =ROUND(CZ31,2) -> 0 | AA31: 39570879 | AB31: =ROUND((AC31+AD31+AF31),2) -> 699.6 | AC31: =ROUND((ES31),2) -> 699.6 | AD31: =ROUND((((ET31)-(EU31))+AE31),2) -> 0 | AE31: =ROUND((EU31),2) -> 0 | AF31: =ROUND((EV31),2) -> 0 | AG31: =ROUND((AP31),2) -> 0 | AH31: =(EW31) -> 0 | AI31: =(EX31) -> 0 | AJ31: =ROUND((AS31),2) -> 0 | AK31: 699.6 | AL31: 699.6 | AM31: 0 | AN31: 0 | AO31: 0 | AP31: 0 | AQ31: 0 | AR31: 0 | AS31: 0 | AT31: 112 | AU31: 51 | AV31: 1 | AW31: 1 | AZ31: 6.56 | BA31: 1 | BB31: 1 | BC31: 6.56 | BH31: 3 | BI31: 1 | BJ31: ФССЦ-2001, 01.4.01.03-0153, приказ Минстроя России №1039/пр от 30.12.2016г. | BM31: 4001 | BN31: 0 | BP31: 0 | BQ31: 2 | BR31: 0 | BS31: 1 | BT31: 1 | BU31: 1 | BV31: 1 | BW31: 1 | BX31: 1 | BZ31: 112 | CA31: 51 | CF31: 0 | CG31: 0 | CM31: 0 | CO31: 0 | CP31: =(P31+Q31+S31) -> 4589.38 | CQ31: =AC31*BC31 -> 4589.376 | CR31: =AD31*BB31 -> 0 | CS31: =AE31*BS31 -> 0 | CT31: =AF31*BA31 -> 0 | CU31: =AG31 -> 0 | CV31: =AH31 -> 0 | CW31: =AI31 -> 0 | CX31: =AJ31 -> 0 | CY31: =(((S31+R31)*AT31)/100) -> 0 | CZ31: =(((S31+R31)*AU31)/100) -> 0 | DN31: 0 | DO31: 0 | DP31: 1 | DQ31: 1 | DU31: 1010 | DV31: шт. | DW31: шт. | DX31: 1 | EE31: 39174486 | EF31: 2 | EG31: Общестроительные работы | EH31: 0 | EJ31: 1 | EK31: 4001 | EL31: Скважины | EM31: ФЕР-04 | EQ31: 0 | ER31: 699.6 | ES31: 699.6 | ET31: 0 | EU31: 0 | EV31: 0 | EW31: 0 | EX31: 0 | FQ31: 0 | FR31: =ROUND(IF(AND(BH31=3,BI31=3),P31,0),2) -> 0 | FS31: 0 | FX31: 112 | FY31: 51 | GD31: 0 | GF31: 1378243415 | GG31: 1 | GH31: 1 | GI31: 4 | GJ31: 0 | GK31: =ROUND(R31*(R12)/100,2) -> 0 | GL31: =ROUND(IF(AND(BH31=3,BI31=3,FS31<>0),P31,0),2) -> 0 | GM31: =ROUND(O31+X31+Y31+GK31,2)+GX31 -> 4589.38 | GN31: =IF(OR(BI31=0,BI31=1),ROUND(O31+X31+Y31+GK31,2),0) -> 4589.38 | GO31: =IF(BI31=2,ROUND(O31+X31+Y31+GK31,2),0) -> 0 | GP31: =IF(BI31=4,ROUND(O31+X31+Y31+GK31,2)+GX31,0) -> 0 | GR31: 0 | GS31: 3 | GT31: 0 | GV31: =ROUND(GT31,2) -> 0 | GW31: 1 | GX31: =ROUND(GV31*GW31*I31,2) -> 0 | HA31: 0 | HB31: 0 | IK31: 0
A32: 18 | B32: 1 | C32: 10 | E32: 2,3 | F32: 01.4.01.10-0016 | G32: Шнек диаметром 135 мм | H32: шт. | I32: =I29*J32 -> 17 | J32: 7.8492936 | O32: =ROUND(CP32,2) -> 66577.44 | P32: =ROUND(CQ32*I32,2) -> 66577.44 | Q32: =ROUND(CR32*I32,2) -> 0 | R32: =ROUND(CS32*I32,2) -> 0 | S32: =ROUND(CT32*I32,2) -> 0 | T32: =ROUND(CU32*I32,2) -> 0 | U32: =CV32*I32 -> 0 | V32: =CW32*I32 -> 0 | W32: =ROUND(CX32*I32,2) -> 0 | X32: =ROUND(CY32,2) -> 0 | Y32: =ROUND(CZ32,2) -> 0 | AA32: 39570879 | AB32: =ROUND((AC32+AD32+AF32),2) -> 597 | AC32: =ROUND((ES32),2) -> 597 | AD32: =ROUND((((ET32)-(EU32))+AE32),2) -> 0 | AE32: =ROUND((EU32),2) -> 0 | AF32: =ROUND((EV32),2) -> 0 | AG32: =ROUND((AP32),2) -> 0 | AH32: =(EW32) -> 0 | AI32: =(EX32) -> 0 | AJ32: =ROUND((AS32),2) -> 0 | AK32: 597 | AL32: 597 | AM32: 0 | AN32: 0 | AO32: 0 | AP32: 0 | AQ32: 0 | AR32: 0 | AS32: 0 | AT32: 112 | AU32: 51 | AV32: 1 | AW32: 1 | AZ32: 6.56 | BA32: 1 | BB32: 1 | BC32: 6.56 | BH32: 3 | BI32: 1 | BJ32: ФССЦ-2001, 01.4.01.10-0016, приказ Минстроя России №1039/пр от 30.12.2016г. | BM32: 4001 | BN32: 0 | BP32: 0 | BQ32: 2 | BR32: 0 | BS32: 1 | BT32: 1 | BU32: 1 | BV32: 1 | BW32: 1 | BX32: 1 | BZ32: 112 | CA32: 51 | CF32: 0 | CG32: 0 | CM32: 0 | CO32: 0 | CP32: =(P32+Q32+S32) -> 66577.44 | CQ32: =AC32*BC32 -> 3916.32 | CR32: =AD32*BB32 -> 0 | CS32: =AE32*BS32 -> 0 | CT32: =AF32*BA32 -> 0 | CU32: =AG32 -> 0 | CV32: =AH32 -> 0 | CW32: =AI32 -> 0 | CX32: =AJ32 -> 0 | CY32: =(((S32+R32)*AT32)/100) -> 0 | CZ32: =(((S32+R32)*AU32)/100) -> 0 | DN32: 0 | DO32: 0 | DP32: 1 | DQ32: 1 | DU32: 1010 | DV32: шт. | DW32: шт. | DX32: 1 | EE32: 39174486 | EF32: 2 | EG32: Общестроительные работы | EH32: 0 | EJ32: 1 | EK32: 4001 | EL32: Скважины | EM32: ФЕР-04 | EQ32: 0 | ER32: 597 | ES32: 597 | ET32: 0 | EU32: 0 | EV32: 0 | EW32: 0 | EX32: 0 | FQ32: 0 | FR32: =ROUND(IF(AND(BH32=3,BI32=3),P32,0),2) -> 0 | FS32: 0 | FX32: 112 | FY32: 51 | GD32: 0 | GF32: -641029936 | GG32: 1 | GH32: 1 | GI32: 4 | GJ32: 0 | GK32: =ROUND(R32*(R12)/100,2) -> 0 | GL32: =ROUND(IF(AND(BH32=3,BI32=3,FS32<>0),P32,0),2) -> 0 | GM32: =ROUND(O32+X32+Y32+GK32,2)+GX32 -> 66577.44 | GN32: =IF(OR(BI32=0,BI32=1),ROUND(O32+X32+Y32+GK32,2),0) -> 66577.44 | GO32: =IF(BI32=2,ROUND(O32+X32+Y32+GK32,2),0) -> 0 | GP32: =IF(BI32=4,ROUND(O32+X32+Y32+GK32,2)+GX32,0) -> 0 | GR32: 0 | GS32: 3 | GT32: 0 | GV32: =ROUND(GT32,2) -> 0 | GW32: 1 | GX32: =ROUND(GV32*GW32*I32,2) -> 0 | HA32: 0 | HB32: 0 | IK32: 0
A33: 17 | B33: 1 | C33: =ROW(SmtRes!A19) -> 19 | D33: =ROW(EtalonRes!A20) -> 20 | E33: 3 | F33: 04-02-010-02 | G33: Крепление скважины глубиной до 50 м при шнековом бурении трубами с муфтовым соединением, группа грунтов по устойчивости 2 | H33: 10 м | I33: =ROUND(216.58/10,9) -> 21.658 | J33: 0 | O33: =ROUND(CP33,2) -> 52325.35 | P33: =ROUND(CQ33*I33,2) -> 662.08 | Q33: =ROUND(CR33*I33,2) -> 47577.15 | R33: =ROUND(CS33*I33,2) -> 7194.75 | S33: =ROUND(CT33*I33,2) -> 4086.12 | T33: =ROUND(CU33*I33,2) -> 0 | U33: =CV33*I33 -> 64.75742 | V33: =CW33*I33 -> 82.029675 | W33: =ROUND(CX33*I33,2) -> 0 | X33: =ROUND(CY33,2) -> 12634.57 | Y33: =ROUND(CZ33,2) -> 5753.24 | AA33: 39570879 | AB33: =ROUND((AC33+AD33+AF33),2) -> 368.29 | AC33: =ROUND((ES33),2) -> 4.66 | AD33: =ROUND(((((ET33*1.25))-((EU33*1.25)))+AE33),2) -> 334.87 | AE33: =ROUND(((EU33*1.25)),2) -> 50.64 | AF33: =ROUND(((EV33*1.15)),2) -> 28.76 | AG33: =ROUND((AP33),2) -> 0 | AH33: =((EW33*1.15)) -> 2.99 | AI33: =((EX33*1.25)) -> 3.7875 | AJ33: =ROUND((AS33),2) -> 0 | AK33: 297.56 | AL33: 4.66 | AM33: 267.89 | AN33: 40.51 | AO33: 25.01 | AP33: 0 | AQ33: 2.6 | AR33: 3.03 | AS33: 0 | AT33: 112 | AU33: 51 | AV33: 1 | AW33: 1 | AZ33: 6.56 | BA33: 6.56 | BB33: 6.56 | BC33: 6.56 | BH33: 0 | BI33: 1 | BJ33: ФЕР-2001, 04-02-010-02, приказ Минстроя России №1039/пр от 30.12.2016г. | BM33: 4001 | BN33: 0 | BP33: 0 | BQ33: 2 | BR33: 0 | BS33: 6.56 | BT33: 1 | BU33: 1 | BV33: 1 | BW33: 1 | BX33: 1 | BZ33: 112 | CA33: 51 | CF33: 0 | CG33: 0 | CM33: 0 | CN33: Поправка: МДС 81-35.2004, п.4.7 Наименование: Работы, выполняемые при реконструкции зданий и сооружений работы, аналогичные технологическим процессам в новом строительстве (в том числе возведение новых конструктивных элементов) стоимость которых определена по соответствующим сборникам ФЕР, кроме сборника № 46 «Работы при реконструкции зданий и сооружений» | CO33: 0 | CP33: =(P33+Q33+S33) -> 52325.35 | CQ33: =AC33*BC33 -> 30.5696 | CR33: =AD33*BB33 -> 2196.7472 | CS33: =AE33*BS33 -> 332.1984 | CT33: =AF33*BA33 -> 188.6656 | CU33: =AG33 -> 0 | CV33: =AH33 -> 2.99 | CW33: =AI33 -> 3.7875 | CX33: =AJ33 -> 0 | CY33: =(((S33+R33)*AT33)/100) -> 12634.574 | CZ33: =(((S33+R33)*AU33)/100) -> 5753.2437 | DE33: )*1,25 | DF33: )*1,25 | DG33: )*1,15 | DI33: )*1,15 | DJ33: )*1,25 | DN33: 0 | DO33: 0 | DP33: 1 | DQ33: 1 | DU33: 1003 | DV33: 10 м | DW33: 10 м | DX33: 10 | EE33: 39174486 | EF33: 2 | EG33: Общестроительные работы | EH33: 0 | EJ33: 1 | EK33: 4001 | EL33: Скважины | EM33: ФЕР-04 | EO33: Поправка: МДС 81-35.2004, п.4.7 | EQ33: 0 | ER33: 297.56 | ES33: 4.66 | ET33: 267.89 | EU33: 40.51 | EV33: 25.01 | EW33: 2.6 | EX33: 3.03 | EY33: 0 | FQ33: 0 | FR33: =ROUND(IF(AND(BH33=3,BI33=3),P33,0),2) -> 0 | FS33: 0 | FX33: 112 | FY33: 51 | GD33: 0 | GF33: 110621490 | GG33: 1 | GH33: 1 | GI33: 4 | GJ33: 0 | GK33: =ROUND(R33*(R12)/100,2) -> 0 | GL33: =ROUND(IF(AND(BH33=3,BI33=3,FS33<>0),P33,0),2) -> 0 | GM33: =ROUND(O33+X33+Y33+GK33,2)+GX33 -> 70713.16 | GN33: =IF(OR(BI33=0,BI33=1),ROUND(O33+X33+Y33+GK33,2),0) -> 70713.16 | GO33: =IF(BI33=2,ROUND(O33+X33+Y33+GK33,2),0) -> 0 | GP33: =IF(BI33=4,ROUND(O33+X33+Y33+GK33,2)+GX33,0) -> 0 | GR33: 0 | GS33: 3 | GT33: 0 | GV33: =ROUND(GT33,2) -> 0 | GW33: 1 | GX33: =ROUND(GV33*GW33*I33,2) -> 0 | HA33: 0 | HB33: 0 | IK33: 0
A34: 18 | B34: 1 | C34: 19 | E34: 3,1 | F34: 23.3.01.04-0047 | G34: Трубы бесшовные обсадные из стали группы Д и Б с короткой треугольной резьбой, наружным диаметром 273 мм, толщина стенки 8,9 мм | H34: м | I34: =I33*J34 -> 43.316 | J34: 2 | O34: =ROUND(CP34,2) -> 173506.64 | P34: =ROUND(CQ34*I34,2) -> 173506.64 | Q34: =ROUND(CR34*I34,2) -> 0 | R34: =ROUND(CS34*I34,2) -> 0 | S34: =ROUND(CT34*I34,2) -> 0 | T34: =ROUND(CU34*I34,2) -> 0 | U34: =CV34*I34 -> 0 | V34: =CW34*I34 -> 0 | W34: =ROUND(CX34*I34,2) -> 0 | X34: =ROUND(CY34,2) -> 0 | Y34: =ROUND(CZ34,2) -> 0 | AA34: 39570879 | AB34: =ROUND((AC34+AD34+AF34),2) -> 610.61 | AC34: =ROUND((ES34),2) -> 610.61 | AD34: =ROUND((((ET34)-(EU34))+AE34),2) -> 0 | AE34: =ROUND((EU34),2) -> 0 | AF34: =ROUND((EV34),2) -> 0 | AG34: =ROUND((AP34),2) -> 0 | AH34: =(EW34) -> 0 | AI34: =(EX34) -> 0 | AJ34: =ROUND((AS34),2) -> 0 | AK34: 610.61 | AL34: 610.61 | AM34: 0 | AN34: 0 | AO34: 0 | AP34: 0 | AQ34: 0 | AR34: 0 | AS34: 0 | AT34: 112 | AU34: 51 | AV34: 1 | AW34: 1 | AZ34: 6.56 | BA34: 1 | BB34: 1 | BC34: 6.56 | BH34: 3 | BI34: 1 | BJ34: ФССЦ-2001, 23.3.01.04-0047, приказ Минстроя России №1039/пр от 30.12.2016г. | BM34: 4001 | BN34: 0 | BP34: 0 | BQ34: 2 | BR34: 0 | BS34: 1 | BT34: 1 | BU34: 1 | BV34: 1 | BW34: 1 | BX34: 1 | BZ34: 112 | CA34: 51 | CF34: 0 | CG34: 0 | CM34: 0 | CO34: 0 | CP34: =(P34+Q34+S34) -> 173506.64 | CQ34: =AC34*BC34 -> 4005.6016 | CR34: =AD34*BB34 -> 0 | CS34: =AE34*BS34 -> 0 | CT34: =AF34*BA34 -> 0 | CU34: =AG34 -> 0 | CV34: =AH34 -> 0 | CW34: =AI34 -> 0 | CX34: =AJ34 -> 0 | CY34: =(((S34+R34)*AT34)/100) -> 0 | CZ34: =(((S34+R34)*AU34)/100) -> 0 | DN34: 0 | DO34: 0 | DP34: 1 | DQ34: 1 | DU34: 1003 | DV34: м | DW34: м | DX34: 1 | EE34: 39174486 | EF34: 2 | EG34: Общестроительные работы | EH34: 0 | EJ34: 1 | EK34: 4001 | EL34: Скважины | EM34: ФЕР-04 | EQ34: 0 | ER34: 610.61 | ES34: 610.61 | ET34: 0 | EU34: 0 | EV34: 0 | EW34: 0 | EX34: 0 | FQ34: 0 | FR34: =ROUND(IF(AND(BH34=3,BI34=3),P34,0),2) -> 0 | FS34: 0 | FX34: 112 | FY34: 51 | GD34: 0 | GF34: 1345311707 | GG34: 1 | GH34: 1 | GI34: 4 | GJ34: 0 | GK34: =ROUND(R34*(R12)/100,2) -> 0 | GL34: =ROUND(IF(AND(BH34=3,BI34=3,FS34<>0),P34,0),2) -> 0 | GM34: =ROUND(O34+X34+Y34+GK34,2)+GX34 -> 173506.64 | GN34: =IF(OR(BI34=0,BI34=1),ROUND(O34+X34+Y34+GK34,2),0) -> 173506.64 | GO34: =IF(BI34=2,ROUND(O34+X34+Y34+GK34,2),0) -> 0 | GP34: =IF(BI34=4,ROUND(O34+X34+Y34+GK34,2)+GX34,0) -> 0 | GR34: 0 | GS34: 3 | GT34: 0 | GV34: =ROUND(GT34,2) -> 0 | GW34: 1 | GX34: =ROUND(GV34*GW34*I34,2) -> 0 | HA34: 0 | HB34: 0 | IK34: 0
A35: 17 | B35: 1 | C35: =ROW(SmtRes!A27) -> 27 | D35: =ROW(EtalonRes!A27) -> 27 | E35: 4 | F35: 05-01-061-01 | G35: Установка в скважину арматурного каркаса | H35: ШТ | I35: 34 | J35: 0 | O35: =ROUND(CP35,2) -> 118998.54 | P35: =ROUND(CQ35*I35,2) -> 2761.24 | Q35: =ROUND(CR35*I35,2) -> 107677.02 | R35: =ROUND(CS35*I35,2) -> 13779.41 | S35: =ROUND(CT35*I35,2) -> 8560.28 | T35: =ROUND(CU35*I35,2) -> 0 | U35: =CV35*I35 -> 138.805 | V35: =CW35*I35 -> 157.675 | W35: =ROUND(CX35*I35,2) -> 0 | X35: =ROUND(CY35,2) -> 29041.6 | Y35: =ROUND(CZ35,2) -> 17871.75 | AA35: 39570879 | AB35: =ROUND((AC35+AD35+AF35),2) -> 533.53 | AC35: =ROUND((ES35),2) -> 12.38 | AD35: =ROUND(((((ET35*1.25))-((EU35*1.25)))+AE35),2) -> 482.77 | AE35: =ROUND(((EU35*1.25)),2) -> 61.78 | AF35: =ROUND(((EV35*1.15)),2) -> 38.38 | AG35: =ROUND((AP35),2) -> 0 | AH35: =((EW35*1.15)) -> 4.0825 | AI35: =((EX35*1.25)) -> 4.6375 | AJ35: =ROUND((AS35),2) -> 0 | AK35: 431.96 | AL35: 12.38 | AM35: 386.21 | AN35: 49.42 | AO35: 33.37 | AP35: 0 | AQ35: 3.55 | AR35: 3.71 | AS35: 0 | AT35: 130 | AU35: 80 | AV35: 1 | AW35: 1 | AZ35: 6.56 | BA35: 6.56 | BB35: 6.56 | BC35: 6.56 | BH35: 0 | BI35: 1 | BJ35: ФЕР-2001, 05-01-061-01, приказ Минстроя России №1039/пр от 30.12.2016г. | BM35: 5001 | BN35: 0 | BP35: 0 | BQ35: 2 | BR35: 0 | BS35: 6.56 | BT35: 1 | BU35: 1 | BV35: 1 | BW35: 1 | BX35: 1 | BZ35: 130 | CA35: 80 | CF35: 0 | CG35: 0 | CM35: 0 | CN35: Поправка: МДС 81-35.2004, п.4.7 Наименование: Работы, выполняемые при реконструкции зданий и сооружений работы, аналогичные технологическим процессам в новом строительстве (в том числе возведение новых конструктивных элементов) стоимость которых определена по соответствующим сборникам ФЕР, кроме сборника № 46 «Работы при реконструкции зданий и сооружений» | CO35: 0 | CP35: =(P35+Q35+S35) -> 118998.54 | CQ35: =AC35*BC35 -> 81.2128 | CR35: =AD35*BB35 -> 3166.9712 | CS35: =AE35*BS35 -> 405.2768 | CT35: =AF35*BA35 -> 251.7728 | CU35: =AG35 -> 0 | CV35: =AH35 -> 4.0825 | CW35: =AI35 -> 4.6375 | CX35: =AJ35 -> 0 | CY35: =(((S35+R35)*AT35)/100) -> 29041.597 | CZ35: =(((S35+R35)*AU35)/100) -> 17871.752 | DE35: )*1,25 | DF35: )*1,25 | DG35: )*1,15 | DI35: )*1,15 | DJ35: )*1,25 | DN35: 0 | DO35: 0 | DP35: 1 | DQ35: 1 | DU35: 1013 | DV35: ШТ | DW35: ШТ | DX35: 1 | EE35: 39174487 | EF35: 2 | EG35: Общестроительные работы | EH35: 0 | EJ35: 1 | EK35: 5001 | EL35: Свайные работы | EM35: ФЕР-05 | EO35: Поправка: МДС 81-35.2004, п.4.7 | EQ35: 0 | ER35: 431.96 | ES35: 12.38 | ET35: 386.21 | EU35: 49.42 | EV35: 33.37 | EW35: 3.55 | EX35: 3.71 | EY35: 0 | FQ35: 0 | FR35: =ROUND(IF(AND(BH35=3,BI35=3),P35,0),2) -> 0 | FS35: 0 | FX35: 130 | FY35: 80 | GD35: 0 | GF35: -1396990206 | GG35: 1 | GH35: 1 | GI35: 4 | GJ35: 0 | GK35: =ROUND(R35*(R12)/100,2) -> 0 | GL35: =ROUND(IF(AND(BH35=3,BI35=3,FS35<>0),P35,0),2) -> 0 | GM35: =ROUND(O35+X35+Y35+GK35,2)+GX35 -> 165911.89 | GN35: =IF(OR(BI35=0,BI35=1),ROUND(O35+X35+Y35+GK35,2),0) -> 165911.89 | GO35: =IF(BI35=2,ROUND(O35+X35+Y35+GK35,2),0) -> 0 | GP35: =IF(BI35=4,ROUND(O35+X35+Y35+GK35,2)+GX35,0) -> 0 | GR35: 0 | GS35: 3 | GT35: 0 | GV35: =ROUND(GT35,2) -> 0 | GW35: 1 | GX35: =ROUND(GV35*GW35*I35,2) -> 0 | HA35: 0 | HB35: 0 | IK35: 0
A36: 18 | B36: 1 | C36: 27 | E36: 4,1 | F36: 08.4.03.03-0032 | G36: Горячекатаная арматурная сталь периодического профиля класса А-III, диаметром 12 мм | H36: т | I36: =I35*J36 -> 1.64254 | J36: 0.04831 | O36: =ROUND(CP36,2) -> 86170.65 | P36: =ROUND(CQ36*I36,2) -> 86170.65 | Q36: =ROUND(CR36*I36,2) -> 0 | R36: =ROUND(CS36*I36,2) -> 0 | S36: =ROUND(CT36*I36,2) -> 0 | T36: =ROUND(CU36*I36,2) -> 0 | U36: =CV36*I36 -> 0 | V36: =CW36*I36 -> 0 | W36: =ROUND(CX36*I36,2) -> 0 | X36: =ROUND(CY36,2) -> 0 | Y36: =ROUND(CZ36,2) -> 0 | AA36: 39570879 | AB36: =ROUND((AC36+AD36+AF36),2) -> 7997.23 | AC36: =ROUND((ES36),2) -> 7997.23 | AD36: =ROUND((((ET36)-(EU36))+AE36),2) -> 0 | AE36: =ROUND((EU36),2) -> 0 | AF36: =ROUND((EV36),2) -> 0 | AG36: =ROUND((AP36),2) -> 0 | AH36: =(EW36) -> 0 | AI36: =(EX36) -> 0 | AJ36: =ROUND((AS36),2) -> 0 | AK36: 7997.23 | AL36: 7997.23 | AM36: 0 | AN36: 0 | AO36: 0 | AP36: 0 | AQ36: 0 | AR36: 0 | AS36: 0 | AT36: 130 | AU36: 80 | AV36: 1 | AW36: 1 | AZ36: 6.56 | BA36: 1 | BB36: 1 | BC36: 6.56 | BH36: 3 | BI36: 1 | BJ36: ФССЦ-2001, 08.4.03.03-0032, приказ Минстроя России №1039/пр от 30.12.2016г. | BM36: 5001 | BN36: 0 | BP36: 0 | BQ36: 2 | BR36: 0 | BS36: 1 | BT36: 1 | BU36: 1 | BV36: 1 | BW36: 1 | BX36: 1 | BZ36: 130 | CA36: 80 | CF36: 0 | CG36: 0 | CM36: 0 | CO36: 0 | CP36: =(P36+Q36+S36) -> 86170.65 | CQ36: =AC36*BC36 -> 52461.829 | CR36: =AD36*BB36 -> 0 | CS36: =AE36*BS36 -> 0 | CT36: =AF36*BA36 -> 0 | CU36: =AG36 -> 0 | CV36: =AH36 -> 0 | CW36: =AI36 -> 0 | CX36: =AJ36 -> 0 | CY36: =(((S36+R36)*AT36)/100) -> 0 | CZ36: =(((S36+R36)*AU36)/100) -> 0 | DN36: 0 | DO36: 0 | DP36: 1 | DQ36: 1 | DU36: 1009 | DV36: т | DW36: т | DX36: 1000 | EE36: 39174487 | EF36: 2 | EG36: Общестроительные работы | EH36: 0 | EJ36: 1 | EK36: 5001 | EL36: Свайные работы | EM36: ФЕР-05 | EQ36: 0 | ER36: 7997.23 | ES36: 7997.23 | ET36: 0 | EU36: 0 | EV36: 0 | EW36: 0 | EX36: 0 | FQ36: 0 | FR36: =ROUND(IF(AND(BH36=3,BI36=3),P36,0),2) -> 0 | FS36: 0 | FX36: 130 | FY36: 80 | GD36: 0 | GF36: -1715848456 | GG36: 1 | GH36: 1 | GI36: 4 | GJ36: 0 | GK36: =ROUND(R36*(R12)/100,2) -> 0 | GL36: =ROUND(IF(AND(BH36=3,BI36=3,FS36<>0),P36,0),2) -> 0 | GM36: =ROUND(O36+X36+Y36+GK36,2)+GX36 -> 86170.65 | GN36: =IF(OR(BI36=0,BI36=1),ROUND(O36+X36+Y36+GK36,2),0) -> 86170.65 | GO36: =IF(BI36=2,ROUND(O36+X36+Y36+GK36,2),0) -> 0 | GP36: =IF(BI36=4,ROUND(O36+X36+Y36+GK36,2)+GX36,0) -> 0 | GR36: 0 | GS36: 3 | GT36: 0 | GV36: =ROUND(GT36,2) -> 0 | GW36: 1 | GX36: =ROUND(GV36*GW36*I36,2) -> 0 | HA36: 0 | HB36: 0 | IK36: 0
A37: 18 | B37: 1 | C37: 26 | E37: 4,2 | F37: 08.4.02.03-0001 | G37: Каркасы арматурные класса А-I диаметром 8 мм | H37: т | I37: =I35*J37 -> 0.14484 | J37: 0.00426 | O37: =ROUND(CP37,2) -> 6960.3 | P37: =ROUND(CQ37*I37,2) -> 6960.3 | Q37: =ROUND(CR37*I37,2) -> 0 | R37: =ROUND(CS37*I37,2) -> 0 | S37: =ROUND(CT37*I37,2) -> 0 | T37: =ROUND(CU37*I37,2) -> 0 | U37: =CV37*I37 -> 0 | V37: =CW37*I37 -> 0 | W37: =ROUND(CX37*I37,2) -> 0 | X37: =ROUND(CY37,2) -> 0 | Y37: =ROUND(CZ37,2) -> 0 | AA37: 39570879 | AB37: =ROUND((AC37+AD37+AF37),2) -> 7325.47 | AC37: =ROUND((ES37),2) -> 7325.47 | AD37: =ROUND((((ET37)-(EU37))+AE37),2) -> 0 | AE37: =ROUND((EU37),2) -> 0 | AF37: =ROUND((EV37),2) -> 0 | AG37: =ROUND((AP37),2) -> 0 | AH37: =(EW37) -> 0 | AI37: =(EX37) -> 0 | AJ37: =ROUND((AS37),2) -> 0 | AK37: 7325.47 | AL37: 7325.47 | AM37: 0 | AN37: 0 | AO37: 0 | AP37: 0 | AQ37: 0 | AR37: 0 | AS37: 0 | AT37: 130 | AU37: 80 | AV37: 1 | AW37: 1 | AZ37: 6.56 | BA37: 1 | BB37: 1 | BC37: 6.56 | BH37: 3 | BI37: 1 | BJ37: ФССЦ-2001, 08.4.02.03-0001, приказ Минстроя России №1039/пр от 30.12.2016г. | BM37: 5001 | BN37: 0 | BP37: 0 | BQ37: 2 | BR37: 0 | BS37: 1 | BT37: 1 | BU37: 1 | BV37: 1 | BW37: 1 | BX37: 1 | BZ37: 130 | CA37: 80 | CF37: 0 | CG37: 0 | CM37: 0 | CO37: 0 | CP37: =(P37+Q37+S37) -> 6960.3 | CQ37: =AC37*BC37 -> 48055.083 | CR37: =AD37*BB37 -> 0 | CS37: =AE37*BS37 -> 0 | CT37: =AF37*BA37 -> 0 | CU37: =AG37 -> 0 | CV37: =AH37 -> 0 | CW37: =AI37 -> 0 | CX37: =AJ37 -> 0 | CY37: =(((S37+R37)*AT37)/100) -> 0 | CZ37: =(((S37+R37)*AU37)/100) -> 0 | DN37: 0 | DO37: 0 | DP37: 1 | DQ37: 1 | DU37: 1009 | DV37: т | DW37: т | DX37: 1000 | EE37: 39174487 | EF37: 2 | EG37: Общестроительные работы | EH37: 0 | EJ37: 1 | EK37: 5001 | EL37: Свайные работы | EM37: ФЕР-05 | EQ37: 0 | ER37: 7325.47 | ES37: 7325.47 | ET37: 0 | EU37: 0 | EV37: 0 | EW37: 0 | EX37: 0 | FQ37: 0 | FR37: =ROUND(IF(AND(BH37=3,BI37=3),P37,0),2) -> 0 | FS37: 0 | FX37: 130 | FY37: 80 | GD37: 0 | GF37: -1519238323 | GG37: 1 | GH37: 1 | GI37: 4 | GJ37: 0 | GK37: =ROUND(R37*(R12)/100,2) -> 0 | GL37: =ROUND(IF(AND(BH37=3,BI37=3,FS37<>0),P37,0),2) -> 0 | GM37: =ROUND(O37+X37+Y37+GK37,2)+GX37 -> 6960.3 | GN37: =IF(OR(BI37=0,BI37=1),ROUND(O37+X37+Y37+GK37,2),0) -> 6960.3 | GO37: =IF(BI37=2,ROUND(O37+X37+Y37+GK37,2),0) -> 0 | GP37: =IF(BI37=4,ROUND(O37+X37+Y37+GK37,2)+GX37,0) -> 0 | GR37: 0 | GS37: 3 | GT37: 0 | GV37: =ROUND(GT37,2) -> 0 | GW37: 1 | GX37: =ROUND(GV37*GW37*I37,2) -> 0 | HA37: 0 | HB37: 0 | IK37: 0
A38: 17 | B38: 1 | C38: =ROW(SmtRes!A35) -> 35 | D38: =ROW(EtalonRes!A34) -> 34 | E38: 5 | F38: 05-01-009-01 | G38: Заполнение бетоном полых свай и свай-оболочек диаметром до 80 см | H38: м3 | I38: 10.88 | J38: 0 | O38: =ROUND(CP38,2) -> 69319.41 | P38: =ROUND(CQ38*I38,2) -> 51157.88 | Q38: =ROUND(CR38*I38,2) -> 14639.28 | R38: =ROUND(CS38*I38,2) -> 2033.41 | S38: =ROUND(CT38*I38,2) -> 3522.25 | T38: =ROUND(CU38*I38,2) -> 0 | U38: =CV38*I38 -> 60.6016 | V38: =CW38*I38 -> 22.9568 | W38: =ROUND(CX38*I38,2) -> 0 | X38: =ROUND(CY38,2) -> 7222.36 | Y38: =ROUND(CZ38,2) -> 4444.53 | AA38: 39570879 | AB38: =ROUND((AC38+AD38+AF38),2) -> 971.23 | AC38: =ROUND((ES38),2) -> 716.77 | AD38: =ROUND((((ET38)-(EU38))+AE38),2) -> 205.11 | AE38: =ROUND((EU38),2) -> 28.49 | AF38: =ROUND((EV38),2) -> 49.35 | AG38: =ROUND((AP38),2) -> 0 | AH38: =(EW38) -> 5.57 | AI38: =(EX38) -> 2.11 | AJ38: =ROUND((AS38),2) -> 0 | AK38: 971.23 | AL38: 716.77 | AM38: 205.11 | AN38: 28.49 | AO38: 49.35 | AP38: 0 | AQ38: 5.57 | AR38: 2.11 | AS38: 0 | AT38: 130 | AU38: 80 | AV38: 1 | AW38: 1 | AZ38: 6.56 | BA38: 6.56 | BB38: 6.56 | BC38: 6.56 | BH38: 0 | BI38: 1 | BJ38: ФЕР-2001, 05-01-009-01, приказ Минстроя России №1039/пр от 30.12.2016г. | BM38: 5001 | BN38: 0 | BP38: 0 | BQ38: 2 | BR38: 0 | BS38: 6.56 | BT38: 1 | BU38: 1 | BV38: 1 | BW38: 1 | BX38: 1 | BZ38: 130 | CA38: 80 | CF38: 0 | CG38: 0 | CM38: 0 | CO38: 0 | CP38: =(P38+Q38+S38) -> 69319.41 | CQ38: =AC38*BC38 -> 4702.0112 | CR38: =AD38*BB38 -> 1345.5216 | CS38: =AE38*BS38 -> 186.8944 | CT38: =AF38*BA38 -> 323.736 | CU38: =AG38 -> 0 | CV38: =AH38 -> 5.57 | CW38: =AI38 -> 2.11 | CX38: =AJ38 -> 0 | CY38: =(((S38+R38)*AT38)/100) -> 7222.358 | CZ38: =(((S38+R38)*AU38)/100) -> 4444.528 | DN38: 0 | DO38: 0 | DP38: 1 | DQ38: 1 | DU38: 1007 | DV38: м3 | DW38: м3 | DX38: 1 | EE38: 39174487 | EF38: 2 | EG38: Общестроительные работы | EH38: 0 | EJ38: 1 | EK38: 5001 | EL38: Свайные работы | EM38: ФЕР-05 | EQ38: 0 | ER38: 971.23 | ES38: 716.77 | ET38: 205.11 | EU38: 28.49 | EV38: 49.35 | EW38: 5.57 | EX38: 2.11 | EY38: 0 | FQ38: 0 | FR38: =ROUND(IF(AND(BH38=3,BI38=3),P38,0),2) -> 0 | FS38: 0 | FX38: 130 | FY38: 80 | GD38: 0 | GF38: -1457857121 | GG38: 1 | GH38: 1 | GI38: 4 | GJ38: 0 | GK38: =ROUND(R38*(R12)/100,2) -> 0 | GL38: =ROUND(IF(AND(BH38=3,BI38=3,FS38<>0),P38,0),2) -> 0 | GM38: =ROUND(O38+X38+Y38+GK38,2)+GX38 -> 80986.3 | GN38: =IF(OR(BI38=0,BI38=1),ROUND(O38+X38+Y38+GK38,2),0) -> 80986.3 | GO38: =IF(BI38=2,ROUND(O38+X38+Y38+GK38,2),0) -> 0 | GP38: =IF(BI38=4,ROUND(O38+X38+Y38+GK38,2)+GX38,0) -> 0 | GR38: 0 | GS38: 3 | GT38: 0 | GV38: =ROUND(GT38,2) -> 0 | GW38: 1 | GX38: =ROUND(GV38*GW38*I38,2) -> 0 | HA38: 0 | HB38: 0 | IK38: 0
A39: 18 | B39: 1 | C39: 33 | E39: 5,1 | F39: 04.1.02.05-0006 | G39: Бетон тяжелый, класс В15 (М200) | H39: м3 | I39: =I38*J39 -> -11.0976 | J39: -1.02 | O39: =ROUND(CP39,2) -> -43153.08 | P39: =ROUND(CQ39*I39,2) -> -43153.08 | Q39: =ROUND(CR39*I39,2) -> 0 | R39: =ROUND(CS39*I39,2) -> 0 | S39: =ROUND(CT39*I39,2) -> 0 | T39: =ROUND(CU39*I39,2) -> 0 | U39: =CV39*I39 -> 0 | V39: =CW39*I39 -> 0 | W39: =ROUND(CX39*I39,2) -> 0 | X39: =ROUND(CY39,2) -> 0 | Y39: =ROUND(CZ39,2) -> 0 | AA39: 39570879 | AB39: =ROUND((AC39+AD39+AF39),2) -> 592.76 | AC39: =ROUND((ES39),2) -> 592.76 | AD39: =ROUND((((ET39)-(EU39))+AE39),2) -> 0 | AE39: =ROUND((EU39),2) -> 0 | AF39: =ROUND((EV39),2) -> 0 | AG39: =ROUND((AP39),2) -> 0 | AH39: =(EW39) -> 0 | AI39: =(EX39) -> 0 | AJ39: =ROUND((AS39),2) -> 0 | AK39: 592.76 | AL39: 592.76 | AM39: 0 | AN39: 0 | AO39: 0 | AP39: 0 | AQ39: 0 | AR39: 0 | AS39: 0 | AT39: 130 | AU39: 80 | AV39: 1 | AW39: 1 | AZ39: 6.56 | BA39: 1 | BB39: 1 | BC39: 6.56 | BH39: 3 | BI39: 1 | BJ39: ФССЦ-2001, 04.1.02.05-0006, приказ Минстроя России №1039/пр от 30.12.2016г. | BM39: 5001 | BN39: 0 | BP39: 0 | BQ39: 2 | BR39: 1 | BS39: 1 | BT39: 1 | BU39: 1 | BV39: 1 | BW39: 1 | BX39: 1 | BZ39: 130 | CA39: 80 | CF39: 0 | CG39: 0 | CM39: 0 | CO39: 0 | CP39: =(P39+Q39+S39) -> -43153.08 | CQ39: =AC39*BC39 -> 3888.5056 | CR39: =AD39*BB39 -> 0 | CS39: =AE39*BS39 -> 0 | CT39: =AF39*BA39 -> 0 | CU39: =AG39 -> 0 | CV39: =AH39 -> 0 | CW39: =AI39 -> 0 | CX39: =AJ39 -> 0 | CY39: =(((S39+R39)*AT39)/100) -> 0 | CZ39: =(((S39+R39)*AU39)/100) -> 0 | DN39: 0 | DO39: 0 | DP39: 1 | DQ39: 1 | DU39: 1007 | DV39: м3 | DW39: м3 | DX39: 1 | EE39: 39174487 | EF39: 2 | EG39: Общестроительные работы | EH39: 0 | EJ39: 1 | EK39: 5001 | EL39: Свайные работы | EM39: ФЕР-05 | EQ39: 32768 | ER39: 592.76 | ES39: 592.76 | ET39: 0 | EU39: 0 | EV39: 0 | EW39: 0 | EX39: 0 | FQ39: 0 | FR39: =ROUND(IF(AND(BH39=3,BI39=3),P39,0),2) -> 0 | FS39: 0 | FX39: 130 | FY39: 80 | GD39: 0 | GF39: 184330150 | GG39: 1 | GH39: 1 | GI39: 4 | GJ39: 0 | GK39: =ROUND(R39*(R12)/100,2) -> 0 | GL39: =ROUND(IF(AND(BH39=3,BI39=3,FS39<>0),P39,0),2) -> 0 | GM39: =ROUND(O39+X39+Y39+GK39,2)+GX39 -> -43153.08 | GN39: =IF(OR(BI39=0,BI39=1),ROUND(O39+X39+Y39+GK39,2),0) -> -43153.08 | GO39: =IF(BI39=2,ROUND(O39+X39+Y39+GK39,2),0) -> 0 | GP39: =IF(BI39=4,ROUND(O39+X39+Y39+GK39,2)+GX39,0) -> 0 | GR39: 0 | GS39: 3 | GT39: 0 | GV39: =ROUND(GT39,2) -> 0 | GW39: 1 | GX39: =ROUND(GV39*GW39*I39,2) -> 0 | HA39: 0 | HB39: 0 | IK39: 0
A40: 18 | B40: 1 | C40: 34 | E40: 5,2 | F40: 04.3.02.04-0154 | G40: Смеси бетонные, БСГ, тяжелого бетона на гранитном щебне, фракция 5-20 мм, класс В25 (М350), П3, F150, W6 | H40: м3 | I40: =I38*J40 -> 11.0976 | J40: 1.02 | O40: =ROUND(CP40,2) -> 54253.66 | P40: =ROUND(CQ40*I40,2) -> 54253.66 | Q40: =ROUND(CR40*I40,2) -> 0 | R40: =ROUND(CS40*I40,2) -> 0 | S40: =ROUND(CT40*I40,2) -> 0 | T40: =ROUND(CU40*I40,2) -> 0 | U40: =CV40*I40 -> 0 | V40: =CW40*I40 -> 0 | W40: =ROUND(CX40*I40,2) -> 0 | X40: =ROUND(CY40,2) -> 0 | Y40: =ROUND(CZ40,2) -> 0 | AA40: 39570879 | AB40: =ROUND((AC40+AD40+AF40),2) -> 745.24 | AC40: =ROUND((ES40),2) -> 745.24 | AD40: =ROUND((((ET40)-(EU40))+AE40),2) -> 0 | AE40: =ROUND((EU40),2) -> 0 | AF40: =ROUND((EV40),2) -> 0 | AG40: =ROUND((AP40),2) -> 0 | AH40: =(EW40) -> 0 | AI40: =(EX40) -> 0 | AJ40: =ROUND((AS40),2) -> 0 | AK40: 745.24 | AL40: 745.24 | AM40: 0 | AN40: 0 | AO40: 0 | AP40: 0 | AQ40: 0 | AR40: 0 | AS40: 0 | AT40: 130 | AU40: 80 | AV40: 1 | AW40: 1 | AZ40: 6.56 | BA40: 1 | BB40: 1 | BC40: 6.56 | BH40: 3 | BI40: 1 | BJ40: ФССЦ-2001, 04.3.02.04-0154, приказ Минстроя России №1039/пр от 30.12.2016г. | BM40: 5001 | BN40: 0 | BP40: 0 | BQ40: 2 | BR40: 0 | BS40: 1 | BT40: 1 | BU40: 1 | BV40: 1 | BW40: 1 | BX40: 1 | BZ40: 130 | CA40: 80 | CF40: 0 | CG40: 0 | CM40: 0 | CO40: 0 | CP40: =(P40+Q40+S40) -> 54253.66 | CQ40: =AC40*BC40 -> 4888.7744 | CR40: =AD40*BB40 -> 0 | CS40: =AE40*BS40 -> 0 | CT40: =AF40*BA40 -> 0 | CU40: =AG40 -> 0 | CV40: =AH40 -> 0 | CW40: =AI40 -> 0 | CX40: =AJ40 -> 0 | CY40: =(((S40+R40)*AT40)/100) -> 0 | CZ40: =(((S40+R40)*AU40)/100) -> 0 | DN40: 0 | DO40: 0 | DP40: 1 | DQ40: 1 | DU40: 1007 | DV40: м3 | DW40: м3 | DX40: 1 | EE40: 39174487 | EF40: 2 | EG40: Общестроительные работы | EH40: 0 | EJ40: 1 | EK40: 5001 | EL40: Свайные работы | EM40: ФЕР-05 | EQ40: 0 | ER40: 745.24 | ES40: 745.24 | ET40: 0 | EU40: 0 | EV40: 0 | EW40: 0 | EX40: 0 | FQ40: 0 | FR40: =ROUND(IF(AND(BH40=3,BI40=3),P40,0),2) -> 0 | FS40: 0 | FX40: 130 | FY40: 80 | GD40: 0 | GF40: -1144518642 | GG40: 1 | GH40: 1 | GI40: 4 | GJ40: 0 | GK40: =ROUND(R40*(R12)/100,2) -> 0 | GL40: =ROUND(IF(AND(BH40=3,BI40=3,FS40<>0),P40,0),2) -> 0 | GM40: =ROUND(O40+X40+Y40+GK40,2)+GX40 -> 54253.66 | GN40: =IF(OR(BI40=0,BI40=1),ROUND(O40+X40+Y40+GK40,2),0) -> 54253.66 | GO40: =IF(BI40=2,ROUND(O40+X40+Y40+GK40,2),0) -> 0 | GP40: =IF(BI40=4,ROUND(O40+X40+Y40+GK40,2)+GX40,0) -> 0 | GR40: 0 | GS40: 3 | GT40: 0 | GV40: =ROUND(GT40,2) -> 0 | GW40: 1 | GX40: =ROUND(GV40*GW40*I40,2) -> 0 | HA40: 0 | HB40: 0 | IK40: 0
A41: 17 | B41: 1 | C41: =ROW(SmtRes!A44) -> 44 | D41: =ROW(EtalonRes!A44) -> 44 | E41: 6 | F41: 04-02-011-01 | G41: Свободный спуск или подъем обсадных труб (надфильтровых труб) в трубах большего диаметра при шнековом бурении с соединением муфтовым | H41: 10 м | I41: =ROUND(216.58/10,9) -> 21.658 | J41: 0 | O41: =ROUND(CP41,2) -> 6630.71 | P41: =ROUND(CQ41*I41,2) -> 910.71 | Q41: =ROUND(CR41*I41,2) -> 4161.42 | R41: =ROUND(CS41*I41,2) -> 527.1 | S41: =ROUND(CT41*I41,2) -> 1558.58 | T41: =ROUND(CU41*I41,2) -> 0 | U41: =CV41*I41 -> 24.69012 | V41: =CW41*I41 -> 6.06424 | W41: =ROUND(CX41*I41,2) -> 0 | X41: =ROUND(CY41,2) -> 2335.96 | Y41: =ROUND(CZ41,2) -> 1063.7 | AA41: 39570879 | AB41: =ROUND((AC41+AD41+AF41),2) -> 46.67 | AC41: =ROUND((ES41),2) -> 6.41 | AD41: =ROUND((((ET41)-(EU41))+AE41),2) -> 29.29 | AE41: =ROUND((EU41),2) -> 3.71 | AF41: =ROUND((EV41),2) -> 10.97 | AG41: =ROUND((AP41),2) -> 0 | AH41: =(EW41) -> 1.14 | AI41: =(EX41) -> 0.28 | AJ41: =ROUND((AS41),2) -> 0 | AK41: 46.67 | AL41: 6.41 | AM41: 29.29 | AN41: 3.71 | AO41: 10.97 | AP41: 0 | AQ41: 1.14 | AR41: 0.28 | AS41: 0 | AT41: 112 | AU41: 51 | AV41: 1 | AW41: 1 | AZ41: 6.56 | BA41: 6.56 | BB41: 6.56 | BC41: 6.56 | BH41: 0 | BI41: 1 | BJ41: ФЕР-2001, 04-02-011-01, приказ Минстроя России №1039/пр от 30.12.2016г. | BM41: 4001 | BN41: 0 | BP41: 0 | BQ41: 2 | BR41: 0 | BS41: 6.56 | BT41: 1 | BU41: 1 | BV41: 1 | BW41: 1 | BX41: 1 | BZ41: 112 | CA41: 51 | CF41: 0 | CG41: 0 | CM41: 0 | CO41: 0 | CP41: =(P41+Q41+S41) -> 6630.71 | CQ41: =AC41*BC41 -> 42.0496 | CR41: =AD41*BB41 -> 192.1424 | CS41: =AE41*BS41 -> 24.3376 | CT41: =AF41*BA41 -> 71.9632 | CU41: =AG41 -> 0 | CV41: =AH41 -> 1.14 | CW41: =AI41 -> 0.28 | CX41: =AJ41 -> 0 | CY41: =(((S41+R41)*AT41)/100) -> 2335.9616 | CZ41: =(((S41+R41)*AU41)/100) -> 1063.6968 | DN41: 0 | DO41: 0 | DP41: 1 | DQ41: 1 | DU41: 1003 | DV41: 10 м | DW41: 10 м | DX41: 10 | EE41: 39174486 | EF41: 2 | EG41: Общестроительные работы | EH41: 0 | EJ41: 1 | EK41: 4001 | EL41: Скважины | EM41: ФЕР-04 | EQ41: 0 | ER41: 46.67 | ES41: 6.41 | ET41: 29.29 | EU41: 3.71 | EV41: 10.97 | EW41: 1.14 | EX41: 0.28 | EY41: 0 | FQ41: 0 | FR41: =ROUND(IF(AND(BH41=3,BI41=3),P41,0),2) -> 0 | FS41: 0 | FX41: 112 | FY41: 51 | GD41: 0 | GF41: 498628776 | GG41: 1 | GH41: 1 | GI41: 4 | GJ41: 0 | GK41: =ROUND(R41*(R12)/100,2) -> 0 | GL41: =ROUND(IF(AND(BH41=3,BI41=3,FS41<>0),P41,0),2) -> 0 | GM41: =ROUND(O41+X41+Y41+GK41,2)+GX41 -> 10030.37 | GN41: =IF(OR(BI41=0,BI41=1),ROUND(O41+X41+Y41+GK41,2),0) -> 10030.37 | GO41: =IF(BI41=2,ROUND(O41+X41+Y41+GK41,2),0) -> 0 | GP41: =IF(BI41=4,ROUND(O41+X41+Y41+GK41,2)+GX41,0) -> 0 | GR41: 0 | GS41: 3 | GT41: 0 | GV41: =ROUND(GT41,2) -> 0 | GW41: 1 | GX41: =ROUND(GV41*GW41*I41,2) -> 0 | HA41: 0 | HB41: 0 | IK41: 0
A42: 18 | B42: 1 | C42: 44 | E42: 6,1 | F42: 23.3.01.04-0047 | G42: Трубы бесшовные обсадные из стали группы Д и Б с короткой треугольной резьбой, наружным диаметром 273 мм, толщина стенки 8,9 мм | H42: м | I42: =I41*J42 -> 21.658 | J42: 1 | O42: =ROUND(CP42,2) -> 86753.32 | P42: =ROUND(CQ42*I42,2) -> 86753.32 | Q42: =ROUND(CR42*I42,2) -> 0 | R42: =ROUND(CS42*I42,2) -> 0 | S42: =ROUND(CT42*I42,2) -> 0 | T42: =ROUND(CU42*I42,2) -> 0 | U42: =CV42*I42 -> 0 | V42: =CW42*I42 -> 0 | W42: =ROUND(CX42*I42,2) -> 0 | X42: =ROUND(CY42,2) -> 0 | Y42: =ROUND(CZ42,2) -> 0 | AA42: 39570879 | AB42: =ROUND((AC42+AD42+AF42),2) -> 610.61 | AC42: =ROUND((ES42),2) -> 610.61 | AD42: =ROUND((((ET42)-(EU42))+AE42),2) -> 0 | AE42: =ROUND((EU42),2) -> 0 | AF42: =ROUND((EV42),2) -> 0 | AG42: =ROUND((AP42),2) -> 0 | AH42: =(EW42) -> 0 | AI42: =(EX42) -> 0 | AJ42: =ROUND((AS42),2) -> 0 | AK42: 610.61 | AL42: 610.61 | AM42: 0 | AN42: 0 | AO42: 0 | AP42: 0 | AQ42: 0 | AR42: 0 | AS42: 0 | AT42: 112 | AU42: 51 | AV42: 1 | AW42: 1 | AZ42: 6.56 | BA42: 1 | BB42: 1 | BC42: 6.56 | BH42: 3 | BI42: 1 | BJ42: ФССЦ-2001, 23.3.01.04-0047, приказ Минстроя России №1039/пр от 30.12.2016г. | BM42: 4001 | BN42: 0 | BP42: 0 | BQ42: 2 | BR42: 0 | BS42: 1 | BT42: 1 | BU42: 1 | BV42: 1 | BW42: 1 | BX42: 1 | BZ42: 112 | CA42: 51 | CF42: 0 | CG42: 0 | CM42: 0 | CO42: 0 | CP42: =(P42+Q42+S42) -> 86753.32 | CQ42: =AC42*BC42 -> 4005.6016 | CR42: =AD42*BB42 -> 0 | CS42: =AE42*BS42 -> 0 | CT42: =AF42*BA42 -> 0 | CU42: =AG42 -> 0 | CV42: =AH42 -> 0 | CW42: =AI42 -> 0 | CX42: =AJ42 -> 0 | CY42: =(((S42+R42)*AT42)/100) -> 0 | CZ42: =(((S42+R42)*AU42)/100) -> 0 | DN42: 0 | DO42: 0 | DP42: 1 | DQ42: 1 | DU42: 1003 | DV42: м | DW42: м | DX42: 1 | EE42: 39174486 | EF42: 2 | EG42: Общестроительные работы | EH42: 0 | EJ42: 1 | EK42: 4001 | EL42: Скважины | EM42: ФЕР-04 | EQ42: 0 | ER42: 610.61 | ES42: 610.61 | ET42: 0 | EU42: 0 | EV42: 0 | EW42: 0 | EX42: 0 | FQ42: 0 | FR42: =ROUND(IF(AND(BH42=3,BI42=3),P42,0),2) -> 0 | FS42: 0 | FX42: 112 | FY42: 51 | GD42: 0 | GF42: 1345311707 | GG42: 1 | GH42: 1 | GI42: 4 | GJ42: 0 | GK42: =ROUND(R42*(R12)/100,2) -> 0 | GL42: =ROUND(IF(AND(BH42=3,BI42=3,FS42<>0),P42,0),2) -> 0 | GM42: =ROUND(O42+X42+Y42+GK42,2)+GX42 -> 86753.32 | GN42: =IF(OR(BI42=0,BI42=1),ROUND(O42+X42+Y42+GK42,2),0) -> 86753.32 | GO42: =IF(BI42=2,ROUND(O42+X42+Y42+GK42,2),0) -> 0 | GP42: =IF(BI42=4,ROUND(O42+X42+Y42+GK42,2)+GX42,0) -> 0 | GR42: 0 | GS42: 3 | GT42: 0 | GV42: =ROUND(GT42,2) -> 0 | GW42: 1 | GX42: =ROUND(GV42*GW42*I42,2) -> 0 | HA42: 0 | HB42: 0 | IK42: 0
A43: 17 | B43: 1 | C43: =ROW(SmtRes!A53) -> 53 | D43: =ROW(EtalonRes!A52) -> 52 | E43: 7 | F43: 06-01-001-01 | G43: Устройство бетонной подготовки | H43: 100 м3 | I43: =ROUND(1.95/100,9) -> 0.0195 | J43: 0 | O43: =ROUND(CP43,2) -> 498.53 | P43: =ROUND(CQ43*I43,2) -> 115.83 | Q43: =ROUND(CR43*I43,2) -> 203.1 | R43: =ROUND(CS43*I43,2) -> 31.28 | S43: =ROUND(CT43*I43,2) -> 179.6 | T43: =ROUND(CU43*I43,2) -> 0 | U43: =CV43*I43 -> 3.51 | V43: =CW43*I43 -> 0.353535 | W43: =ROUND(CX43*I43,2) -> 0 | X43: =ROUND(CY43,2) -> 221.42 | Y43: =ROUND(CZ43,2) -> 137.07 | AA43: 39570879 | AB43: =ROUND((AC43+AD43+AF43),2) -> 3897.23 | AC43: =ROUND((ES43),2) -> 905.49 | AD43: =ROUND((((ET43)-(EU43))+AE43),2) -> 1587.74 | AE43: =ROUND((EU43),2) -> 244.51 | AF43: =ROUND((EV43),2) -> 1404 | AG43: =ROUND((AP43),2) -> 0 | AH43: =(EW43) -> 180 | AI43: =(EX43) -> 18.13 | AJ43: =ROUND((AS43),2) -> 0 | AK43: 3897.23 | AL43: 905.49 | AM43: 1587.74 | AN43: 244.51 | AO43: 1404 | AP43: 0 | AQ43: 180 | AR43: 18.13 | AS43: 0 | AT43: 105 | AU43: 65 | AV43: 1 | AW43: 1 | AZ43: 6.56 | BA43: 6.56 | BB43: 6.56 | BC43: 6.56 | BH43: 0 | BI43: 1 | BJ43: ФЕР-2001, 06-01-001-01, приказ Минстроя России №1039/пр от 30.12.2016г. | BM43: 6001 | BN43: 0 | BP43: 0 | BQ43: 2 | BR43: 0 | BS43: 6.56 | BT43: 1 | BU43: 1 | BV43: 1 | BW43: 1 | BX43: 1 | BZ43: 105 | CA43: 65 | CF43: 0 | CG43: 0 | CM43: 0 | CO43: 0 | CP43: =(P43+Q43+S43) -> 498.53 | CQ43: =AC43*BC43 -> 5940.0144 | CR43: =AD43*BB43 -> 10415.574 | CS43: =AE43*BS43 -> 1603.9856 | CT43: =AF43*BA43 -> 9210.24 | CU43: =AG43 -> 0 | CV43: =AH43 -> 180 | CW43: =AI43 -> 18.13 | CX43: =AJ43 -> 0 | CY43: =(((S43+R43)*AT43)/100) -> 221.424 | CZ43: =(((S43+R43)*AU43)/100) -> 137.072 | DN43: 0 | DO43: 0 | DP43: 1 | DQ43: 1 | DU43: 1007 | DV43: 100 м3 | DW43: 100 м3 | DX43: 100 | EE43: 39174490 | EF43: 2 | EG43: Общестроительные работы | EH43: 0 | EJ43: 1 | EK43: 6001 | EL43: Монолитные бетонные и железобетонные конструкции в промышленном строительстве | EM43: ФЕР-06 | EQ43: 0 | ER43: 3897.23 | ES43: 905.49 | ET43: 1587.74 | EU43: 244.51 | EV43: 1404 | EW43: 180 | EX43: 18.13 | EY43: 0 | FQ43: 0 | FR43: =ROUND(IF(AND(BH43=3,BI43=3),P43,0),2) -> 0 | FS43: 0 | FX43: 105 | FY43: 65 | GD43: 0 | GF43: 1120797142 | GG43: 1 | GH43: 1 | GI43: 4 | GJ43: 0 | GK43: =ROUND(R43*(R12)/100,2) -> 0 | GL43: =ROUND(IF(AND(BH43=3,BI43=3,FS43<>0),P43,0),2) -> 0 | GM43: =ROUND(O43+X43+Y43+GK43,2)+GX43 -> 857.02 | GN43: =IF(OR(BI43=0,BI43=1),ROUND(O43+X43+Y43+GK43,2),0) -> 857.02 | GO43: =IF(BI43=2,ROUND(O43+X43+Y43+GK43,2),0) -> 0 | GP43: =IF(BI43=4,ROUND(O43+X43+Y43+GK43,2)+GX43,0) -> 0 | GR43: 0 | GS43: 3 | GT43: 0 | GV43: =ROUND(GT43,2) -> 0 | GW43: 1 | GX43: =ROUND(GV43*GW43*I43,2) -> 0 | HA43: 0 | HB43: 0 | IK43: 0
A44: 18 | B44: 1 | C44: 52 | E44: 7,1 | F44: 04.1.02.06 | G44: Бетон | H44: м3 | I44: =I43*J44 -> 1.989 | J44: 102 | O44: =ROUND(CP44,2) -> 0 | P44: =ROUND(CQ44*I44,2) -> 0 | Q44: =ROUND(CR44*I44,2) -> 0 | R44: =ROUND(CS44*I44,2) -> 0 | S44: =ROUND(CT44*I44,2) -> 0 | T44: =ROUND(CU44*I44,2) -> 0 | U44: =CV44*I44 -> 0 | V44: =CW44*I44 -> 0 | W44: =ROUND(CX44*I44,2) -> 0 | X44: =ROUND(CY44,2) -> 0 | Y44: =ROUND(CZ44,2) -> 0 | AA44: 39570879 | AB44: =ROUND((AC44+AD44+AF44),2) -> 0 | AC44: =ROUND((ES44),2) -> 0 | AD44: =ROUND((((ET44)-(EU44))+AE44),2) -> 0 | AE44: =ROUND((EU44),2) -> 0 | AF44: =ROUND((EV44),2) -> 0 | AG44: =ROUND((AP44),2) -> 0 | AH44: =(EW44) -> 0 | AI44: =(EX44) -> 0 | AJ44: =ROUND((AS44),2) -> 0 | AK44: 0 | AL44: 0 | AM44: 0 | AN44: 0 | AO44: 0 | AP44: 0 | AQ44: 0 | AR44: 0 | AS44: 0 | AT44: 105 | AU44: 65 | AV44: 1 | AW44: 1 | AZ44: 6.56 | BA44: 1 | BB44: 1 | BC44: 6.56 | BH44: 3 | BI44: 1 | BM44: 6001 | BN44: 0 | BP44: 0 | BQ44: 2 | BR44: 0 | BS44: 1 | BT44: 1 | BU44: 1 | BV44: 1 | BW44: 1 | BX44: 1 | BZ44: 105 | CA44: 65 | CF44: 0 | CG44: 0 | CM44: 0 | CO44: 0 | CP44: =(P44+Q44+S44) -> 0 | CQ44: =AC44*BC44 -> 0 | CR44: =AD44*BB44 -> 0 | CS44: =AE44*BS44 -> 0 | CT44: =AF44*BA44 -> 0 | CU44: =AG44 -> 0 | CV44: =AH44 -> 0 | CW44: =AI44 -> 0 | CX44: =AJ44 -> 0 | CY44: =(((S44+R44)*AT44)/100) -> 0 | CZ44: =(((S44+R44)*AU44)/100) -> 0 | DN44: 0 | DO44: 0 | DP44: 1 | DQ44: 1 | DU44: 1007 | DV44: м3 | DW44: м3 | DX44: 1 | EE44: 39174490 | EF44: 2 | EG44: Общестроительные работы | EH44: 0 | EJ44: 1 | EK44: 6001 | EL44: Монолитные бетонные и железобетонные конструкции в промышленном строительстве | EM44: ФЕР-06 | EQ44: 0 | ER44: 0 | ES44: 0 | ET44: 0 | EU44: 0 | EV44: 0 | EW44: 0 | EX44: 0 | FQ44: 0 | FR44: =ROUND(IF(AND(BH44=3,BI44=3),P44,0),2) -> 0 | FS44: 0 | FX44: 105 | FY44: 65 | GD44: 0 | GF44: -1646172050 | GG44: 1 | GH44: 1 | GI44: 4 | GJ44: 0 | GK44: =ROUND(R44*(R12)/100,2) -> 0 | GL44: =ROUND(IF(AND(BH44=3,BI44=3,FS44<>0),P44,0),2) -> 0 | GM44: =ROUND(O44+X44+Y44+GK44,2)+GX44 -> 0 | GN44: =IF(OR(BI44=0,BI44=1),ROUND(O44+X44+Y44+GK44,2),0) -> 0 | GO44: =IF(BI44=2,ROUND(O44+X44+Y44+GK44,2),0) -> 0 | GP44: =IF(BI44=4,ROUND(O44+X44+Y44+GK44,2)+GX44,0) -> 0 | GR44: 0 | GS44: 3 | GT44: 0 | GV44: =ROUND(GT44,2) -> 0 | GW44: 1 | GX44: =ROUND(GV44*GW44*I44,2) -> 0 | HA44: 0 | HB44: 0 | IK44: 0
