Workbook

Sheet Лист1
A4: Наименование объекта: ФГУП "ПО "МАЯК".
A6: Л О К А Л Ь Н А Я С М Е Т А № 133С/2012
A7: Капитальный ремонт системы управления вентагрегатами В7, В8
A10: Основание: | C10: Ведомость объемов работ № 07/205 от 06.07.2012 г.
A11: Составлена в ценах | C11: 2001г. (редакция 2009г.) с переходом в текущие цены на 3кв.2012г. С НДС | G11: Текущая стоимость: | J11: 2886513.6 | K11: руб.
H12: в т.ч. НДС 18%: | J12: 440 315,64 руб.
I13: Сметная стоимость : | J13: 480 447 руб.
I14: Нормативная трудоемкость: | J14: 555 чел.-ч.
A15: № п/п | B15: Шифр и номер позиции норматива | C15: Наименование работ и затрат, единица измерения | D15: Количество | E15: Стоимость ед., руб. | G15: Общая стоимость, руб. | J15: Затраты труда, чел.-ч
E16: Всего | F16: Экспл. машин | G16: Всего | H16: Основная зарплата | I16: Экспл. машин | J16: основных рабочих
J17: машинистов
E18: Основная зарплата | F18: в т.ч. зарплата | I18: в т.ч. зарплата | J18: на единицу | K18: всего
A20: 1 | B20: 2 | C20: 3 | D20: 4 | E20: 5 | F20: 6 | G20: 7 | H20: 8 | I20: 9 | J20: 10 | K20: 11
C22: Начисления:
C23: 1. К=1,13 (ОЗП*1,13; ЗПМ*1,13)-коэфициент для ЗАТО
C24: 2.МДС 81-37.2004 прил. № 3 п. 2.23 на сб.ТЕРм (ОЗП*1,7; ЭММ*1,7; ЗПМ*1,7; ТЗ*1,7; ТЗМ*1,7)
C25: 3.МДС 81-40.2006 табл. № 2 п.13 на сб.ТЕРп (ОЗП*1,55; ЭММ*1,55; ЗПМ*1,55; ТЗ*1,55; ТЗМ*1,55)
C28: Раздел 1 | D28: =Source!G26 -> МОНТАЖНЫЕ РАБОТЫ
A30: =Source!E30 -> 1 | B30: =Source!F30 -> м08-01-102-1 | C30: =Source!G30 -> Шкаф управления и регулирования | D30: =Source!I30 -> 2 | E30: =IF(Source!AB30=0,"-",ROUND(Source!AB30,2)) -> 829.43 | F30: =IF(Source!AD30=0,"-",ROUND(Source!AD30,2)) -> 342.17 | G30: =IF(Source!O30=0,"-",ROUND(Source!O30,0)) -> 1658 | H30: =IF(Source!S30=0,"-",ROUND(Source!S30,0)) -> 682 | I30: =IF(Source!Q30=0,"-",ROUND(Source!Q30,0)) -> 684 | J30: =IF(Source!AH30=0,"-",ROUND(Source!AH30,2)) -> 24.82 | K30: =IF(Source!U30=0,"-",ROUND(Source!U30,2)) -> 49.64
B31: К=ЭММ*1,7, ЗПМ*1,7, ОЗП*1,7, ТЗ*1,7, ТЗМ*1,7 | C31: =Source!H30 -> шкаф | E31: =IF(Source!AF30=0,"-",ROUND(Source!AF30,2)) -> 341.05 | F31: =IF(Source!AE30=0,"-",ROUND(Source!AE30,2)) -> 25.09 | I31: =IF(Source!R30=0,"-",ROUND(Source!R30,0)) -> 50 | J31: =IF(Source!AI30=0,"-",ROUND(Source!AI30,2)) -> 1.36 | K31: =IF(Source!V30=0,"-",ROUND(Source!V30,2)) -> 2.72
A32: =Source!E31 -> 2 | B32: =Source!F31 -> м08-03-573-4 | C32: =Source!G31 -> Шкаф (пульт) управления навесной | D32: =Source!I31 -> 2 | E32: =IF(Source!AB31=0,"-",ROUND(Source!AB31,2)) -> 125.82 | F32: =IF(Source!AD31=0,"-",ROUND(Source!AD31,2)) -> 64.88 | G32: =IF(Source!O31=0,"-",ROUND(Source!O31,0)) -> 252 | H32: =IF(Source!S31=0,"-",ROUND(Source!S31,0)) -> 114 | I32: =IF(Source!Q31=0,"-",ROUND(Source!Q31,0)) -> 130 | J32: =IF(Source!AH31=0,"-",ROUND(Source!AH31,2)) -> 4.03 | K32: =IF(Source!U31=0,"-",ROUND(Source!U31,2)) -> 8.06
B33: К=ЭММ*1,7, ЗПМ*1,7, ОЗП*1,7, ТЗ*1,7, ТЗМ*1,7 | C33: =Source!H31 -> шт. | E33: =IF(Source!AF31=0,"-",ROUND(Source!AF31,2)) -> 57.09 | F33: =IF(Source!AE31=0,"-",ROUND(Source!AE31,2)) -> 7.34 | I33: =IF(Source!R31=0,"-",ROUND(Source!R31,0)) -> 15 | J33: =IF(Source!AI31=0,"-",ROUND(Source!AI31,2)) -> 0.49 | K33: =IF(Source!V31=0,"-",ROUND(Source!V31,2)) -> 0.99
A34: =Source!E32 -> 3 | B34: =Source!F32 -> м11-02-001-1 | C34: =Source!G32 -> Прибор, устанавливаемый на резьбовых соединениях, масса до 1,5 кг | D34: =Source!I32 -> 2 | E34: =IF(Source!AB32=0,"-",ROUND(Source!AB32,2)) -> 26.13 | F34: =IF(Source!AD32=0,"-",ROUND(Source!AD32,2)) -> - | G34: =IF(Source!O32=0,"-",ROUND(Source!O32,0)) -> 53 | H34: =IF(Source!S32=0,"-",ROUND(Source!S32,0)) -> 50 | I34: =IF(Source!Q32=0,"-",ROUND(Source!Q32,0)) -> - | J34: =IF(Source!AH32=0,"-",ROUND(Source!AH32,2)) -> 1.75 | K34: =IF(Source!U32=0,"-",ROUND(Source!U32,2)) -> 3.5
B35: К=ЭММ*1,7, ЗПМ*1,7, ОЗП*1,7, ТЗ*1,7, ТЗМ*1,7 | C35: =Source!H32 -> шт. | E35: =IF(Source!AF32=0,"-",ROUND(Source!AF32,2)) -> 24.82 | F35: =IF(Source!AE32=0,"-",ROUND(Source!AE32,2)) -> - | I35: =IF(Source!R32=0,"-",ROUND(Source!R32,0)) -> - | J35: =IF(Source!AI32=0,"-",ROUND(Source!AI32,2)) -> - | K35: =IF(Source!V32=0,"-",ROUND(Source!V32,2)) -> -
A36: =Source!E33 -> 4 | B36: =Source!F33 -> м08-02-171-1 | C36: =Source!G33 -> Лоток стальной для крепления соединительных муфт на установленных полках | D36: =Source!I33 -> 2.15 | E36: =IF(Source!AB33=0,"-",ROUND(Source!AB33,2)) -> 866.73 | F36: =IF(Source!AD33=0,"-",ROUND(Source!AD33,2)) -> 290.84 | G36: =IF(Source!O33=0,"-",ROUND(Source!O33,0)) -> 1863 | H36: =IF(Source!S33=0,"-",ROUND(Source!S33,0)) -> 1225 | I36: =IF(Source!Q33=0,"-",ROUND(Source!Q33,0)) -> 625 | J36: =IF(Source!AH33=0,"-",ROUND(Source!AH33,2)) -> 41.48 | K36: =IF(Source!U33=0,"-",ROUND(Source!U33,2)) -> 89.18
B37: К=ЭММ*1,7, ЗПМ*1,7, ОЗП*1,7, ТЗ*1,7, ТЗМ*1,7 | C37: =Source!H33 -> 100 шт. | E37: =IF(Source!AF33=0,"-",ROUND(Source!AF33,2)) -> 569.96 | F37: =IF(Source!AE33=0,"-",ROUND(Source!AE33,2)) -> 21.32 | I37: =IF(Source!R33=0,"-",ROUND(Source!R33,0)) -> 46 | J37: =IF(Source!AI33=0,"-",ROUND(Source!AI33,2)) -> 1.16 | K37: =IF(Source!V33=0,"-",ROUND(Source!V33,2)) -> 2.49
A38: =Source!E34 -> 5 | B38: =Source!F34 -> м08-02-147-1 | C38: =Source!G34 -> Кабель до 35 кВ по установленным конструкциям и лоткам с креплением на поворотах и в конце трассы, масса 1 м кабеля: до 1 кг | D38: =Source!I34 -> 4 | E38: =IF(Source!AB34=0,"-",ROUND(Source!AB34,2)) -> 1205.65 | F38: =IF(Source!AD34=0,"-",ROUND(Source!AD34,2)) -> 748.91 | G38: =IF(Source!O34=0,"-",ROUND(Source!O34,0)) -> 4823 | H38: =IF(Source!S34=0,"-",ROUND(Source!S34,0)) -> 1084 | I38: =IF(Source!Q34=0,"-",ROUND(Source!Q34,0)) -> 2996 | J38: =IF(Source!AH34=0,"-",ROUND(Source!AH34,2)) -> 19.72 | K38: =IF(Source!U34=0,"-",ROUND(Source!U34,2)) -> 78.88
B39: К=ЭММ*1,7, ЗПМ*1,7, ОЗП*1,7, ТЗ*1,7, ТЗМ*1,7 | C39: =Source!H34 -> 100 М КАБЕЛЯ | E39: =IF(Source!AF34=0,"-",ROUND(Source!AF34,2)) -> 270.98 | F39: =IF(Source!AE34=0,"-",ROUND(Source!AE34,2)) -> 80.62 | I39: =IF(Source!R34=0,"-",ROUND(Source!R34,0)) -> 322 | J39: =IF(Source!AI34=0,"-",ROUND(Source!AI34,2)) -> 5.03 | K39: =IF(Source!V34=0,"-",ROUND(Source!V34,2)) -> 20.13
A40: =Source!E35 -> 6 | B40: =Source!F35 -> м08-02-141-3 | C40: =Source!G35 -> Кабель до 35 кВ в готовых траншеях без покрытий, масса 1 м: до 3 кг (ВВГ 4*70) | D40: =Source!I35 -> 0.5 | E40: =IF(Source!AB35=0,"-",ROUND(Source!AB35,2)) -> 1699.01 | F40: =IF(Source!AD35=0,"-",ROUND(Source!AD35,2)) -> 1272.17 | G40: =IF(Source!O35=0,"-",ROUND(Source!O35,0)) -> 850 | H40: =IF(Source!S35=0,"-",ROUND(Source!S35,0)) -> 166 | I40: =IF(Source!Q35=0,"-",ROUND(Source!Q35,0)) -> 636 | J40: =IF(Source!AH35=0,"-",ROUND(Source!AH35,2)) -> 24.14 | K40: =IF(Source!U35=0,"-",ROUND(Source!U35,2)) -> 12.07
B41: К=ЭММ*1,7, ЗПМ*1,7, ОЗП*1,7, ТЗ*1,7, ТЗМ*1,7 | C41: =Source!H35 -> 100 М КАБЕЛЯ | E41: =IF(Source!AF35=0,"-",ROUND(Source!AF35,2)) -> 331.7 | F41: =IF(Source!AE35=0,"-",ROUND(Source!AE35,2)) -> 123.46 | I41: =IF(Source!R35=0,"-",ROUND(Source!R35,0)) -> 62 | J41: =IF(Source!AI35=0,"-",ROUND(Source!AI35,2)) -> 7.46 | K41: =IF(Source!V35=0,"-",ROUND(Source!V35,2)) -> 3.73
A42: =Source!E36 -> 7 | B42: =Source!F36 -> м08-03-574-4 | C42: =Source!G36 -> Разводка по устройствам и подключение жил кабелей или проводов сечением: до 70 мм2 | D42: =Source!I36 -> 0.04 | E42: =IF(Source!AB36=0,"-",ROUND(Source!AB36,2)) -> 4100.73 | F42: =IF(Source!AD36=0,"-",ROUND(Source!AD36,2)) -> 48.41 | G42: =IF(Source!O36=0,"-",ROUND(Source!O36,0)) -> 164 | H42: =IF(Source!S36=0,"-",ROUND(Source!S36,0)) -> 45 | I42: =IF(Source!Q36=0,"-",ROUND(Source!Q36,0)) -> 2 | J42: =IF(Source!AH36=0,"-",ROUND(Source!AH36,2)) -> 79.22 | K42: =IF(Source!U36=0,"-",ROUND(Source!U36,2)) -> 3.17
B43: К=ЭММ*1,7, ЗПМ*1,7, ОЗП*1,7, ТЗ*1,7, ТЗМ*1,7 | C43: =Source!H36 -> 100 жил | E43: =IF(Source!AF36=0,"-",ROUND(Source!AF36,2)) -> 1122.56 | F43: =IF(Source!AE36=0,"-",ROUND(Source!AE36,2)) -> 0.94 | I43: =IF(Source!R36=0,"-",ROUND(Source!R36,0)) -> - | J43: =IF(Source!AI36=0,"-",ROUND(Source!AI36,2)) -> 0.05 | K43: =IF(Source!V36=0,"-",ROUND(Source!V36,2)) -> 0
A44: =Source!E37 -> 8 | B44: =Source!F37 -> м08-02-158-4 | C44: =Source!G37 -> Разделка концевая сухая для контрольного кабеля сечением одной жилы: до 2,5 мм2, количество жил до 4 (КВВГнг-LS) | D44: =Source!I37 -> 1 | E44: =IF(Source!AB37=0,"-",ROUND(Source!AB37,2)) -> 53.77 | F44: =IF(Source!AD37=0,"-",ROUND(Source!AD37,2)) -> 4.27 | G44: =IF(Source!O37=0,"-",ROUND(Source!O37,0)) -> 53 | H44: =IF(Source!S37=0,"-",ROUND(Source!S37,0)) -> 6 | I44: =IF(Source!Q37=0,"-",ROUND(Source!Q37,0)) -> 4 | J44: =IF(Source!AH37=0,"-",ROUND(Source!AH37,2)) -> 0.44 | K44: =IF(Source!U37=0,"-",ROUND(Source!U37,2)) -> 0.44
B45: К=ЭММ*1,7, ЗПМ*1,7, ОЗП*1,7, ТЗ*1,7, ТЗМ*1,7 | C45: =Source!H37 -> шт. | E45: =IF(Source!AF37=0,"-",ROUND(Source!AF37,2)) -> 6.07 | F45: =IF(Source!AE37=0,"-",ROUND(Source!AE37,2)) -> 0.31 | I45: =IF(Source!R37=0,"-",ROUND(Source!R37,0)) -> - | J45: =IF(Source!AI37=0,"-",ROUND(Source!AI37,2)) -> 0.02 | K45: =IF(Source!V37=0,"-",ROUND(Source!V37,2)) -> 0.02
A46: =Source!E38 -> 9 | B46: =Source!F38 -> м08-02-158-15 | C46: =Source!G38 -> Разделка концевая сухая для 3-4-жильного кабеля с пластмассовой и резиновой изоляцией напряжением: до 1 кВ, сечение одной жилы до 120 мм2 (ВВГ 4*70) | D46: =Source!I38 -> 1 | E46: =IF(Source!AB38=0,"-",ROUND(Source!AB38,2)) -> 43.5 | F46: =IF(Source!AD38=0,"-",ROUND(Source!AD38,2)) -> 4.27 | G46: =IF(Source!O38=0,"-",ROUND(Source!O38,0)) -> 43 | H46: =IF(Source!S38=0,"-",ROUND(Source!S38,0)) -> 32 | I46: =IF(Source!Q38=0,"-",ROUND(Source!Q38,0)) -> 4 | J46: =IF(Source!AH38=0,"-",ROUND(Source!AH38,2)) -> 2.33 | K46: =IF(Source!U38=0,"-",ROUND(Source!U38,2)) -> 2.33
B47: К=ЭММ*1,7, ЗПМ*1,7, ОЗП*1,7, ТЗ*1,7, ТЗМ*1,7 | C47: =Source!H38 -> шт. | E47: =IF(Source!AF38=0,"-",ROUND(Source!AF38,2)) -> 32 | F47: =IF(Source!AE38=0,"-",ROUND(Source!AE38,2)) -> 0.31 | I47: =IF(Source!R38=0,"-",ROUND(Source!R38,0)) -> - | J47: =IF(Source!AI38=0,"-",ROUND(Source!AI38,2)) -> 0.02 | K47: =IF(Source!V38=0,"-",ROUND(Source!V38,2)) -> 0.02
A48: =Source!E39 -> 10 | B48: =Source!F39 -> м08-02-158-14 | C48: =Source!G39 -> Разделка концевая сухая для 3-4-жильного кабеля с пластмассовой и резиновой изоляцией напряжением: до 1 кВ, сечение одной жилы до 35 мм2 (ВВГнг-LS) | D48: =Source!I39 -> 1 | E48: =IF(Source!AB39=0,"-",ROUND(Source!AB39,2)) -> 38.31 | F48: =IF(Source!AD39=0,"-",ROUND(Source!AD39,2)) -> 4.27 | G48: =IF(Source!O39=0,"-",ROUND(Source!O39,0)) -> 38 | H48: =IF(Source!S39=0,"-",ROUND(Source!S39,0)) -> 27 | I48: =IF(Source!Q39=0,"-",ROUND(Source!Q39,0)) -> 4 | J48: =IF(Source!AH39=0,"-",ROUND(Source!AH39,2)) -> 1.96 | K48: =IF(Source!U39=0,"-",ROUND(Source!U39,2)) -> 1.96
B49: К=ЭММ*1,7, ЗПМ*1,7, ОЗП*1,7, ТЗ*1,7, ТЗМ*1,7 | C49: =Source!H39 -> шт. | E49: =IF(Source!AF39=0,"-",ROUND(Source!AF39,2)) -> 26.86 | F49: =IF(Source!AE39=0,"-",ROUND(Source!AE39,2)) -> 0.31 | I49: =IF(Source!R39=0,"-",ROUND(Source!R39,0)) -> - | J49: =IF(Source!AI39=0,"-",ROUND(Source!AI39,2)) -> 0.02 | K49: =IF(Source!V39=0,"-",ROUND(Source!V39,2)) -> 0.02
A50: =Source!E40 -> 11 | B50: =Source!F40 -> м11-04-020-1 | C50: =Source!G40 -> Разъемы штепсельные с разделкой и включением экранированного кабеля, сечение жилы до 1 мм2, количество подключаемых жил до 14 шт. (ControllerLink, DeviceNet) | D50: =Source!I40 -> 2 | E50: =IF(Source!AB40=0,"-",ROUND(Source!AB40,2)) -> 54 | F50: =IF(Source!AD40=0,"-",ROUND(Source!AD40,2)) -> - | G50: =IF(Source!O40=0,"-",ROUND(Source!O40,0)) -> 108 | H50: =IF(Source!S40=0,"-",ROUND(Source!S40,0)) -> 94 | I50: =IF(Source!Q40=0,"-",ROUND(Source!Q40,0)) -> - | J50: =IF(Source!AH40=0,"-",ROUND(Source!AH40,2)) -> 3.5 | K50: =IF(Source!U40=0,"-",ROUND(Source!U40,2)) -> 7
B51: К=ЭММ*1,7, ЗПМ*1,7, ОЗП*1,7, ТЗ*1,7, ТЗМ*1,7 | C51: =Source!H40 -> шт. | E51: =IF(Source!AF40=0,"-",ROUND(Source!AF40,2)) -> 47.05 | F51: =IF(Source!AE40=0,"-",ROUND(Source!AE40,2)) -> - | I51: =IF(Source!R40=0,"-",ROUND(Source!R40,0)) -> - | J51: =IF(Source!AI40=0,"-",ROUND(Source!AI40,2)) -> - | K51: =IF(Source!V40=0,"-",ROUND(Source!V40,2)) -> -
...

Sheet Source
A1: 0 | B1: Smeta.ru (495) 974-1589 | D1: _PS_ | F1: 0 | G1: 0 | H1: 0 | I1: Smeta.ru | J1: ФГУП ПО МАЯК Доп. раб. место FStS-0035983 | K1: 1 | L1: 35983
A12: 1 | B12: 1 | C12: 0 | D12: =ROW(A127) -> 127 | E12: 0 | F12: Новый объект | G12: Здание 884 | I12: 0 | P12: 0 | Q12: 0 | V12: -3 | X12: 0 | Y12: 2 | Z12: 1 | AA12: 1 | AC12: 0 | AD12: 2 | AE12: 0 | AF12: 0 | AG12: 0 | AH12: 40 | AI12: 0 | AJ12: 0 | AK12: 0 | AN12: 0 | BA12: 0 | BB12: 0 | BC12: 0 | BD12: 13294078 | BE12: Сметные нормы списания | BF12: Коды ценников | BG12: 13176242 | BH12: 0 | BI12: 1 | BK12: 1 | BL12: 0 | BM12: 0 | BN12: 1 | BO12: 0 | BP12: 2 | BR12: 0 | BT12: 0 | BU12: 1 | BV12: 1 | BW12: 0 | BX12: 0 | BY12: 1 | BZ12: 0 | CA12: 12071153 | CB12: 12071146 | CC12: 12071144 | CD12: 12071142 | CE12: 0 | CF12: 0 | CJ12: 0 | CK12: 12074132 | CL12: Челябинск обл. (редакция 2009 г) | CM12: Версия 7.0.0.7_ЗАТО_стр_и_рек_жил_общ_зд_от 28.10.2011: для ФЕР, с п.3757-КК/08, п.6056-ИП/08,п.10753-ВТ/08 и п.15127-ИП/08 (Стр-во и рек-ия жилых / общ. зд.): Центральные регионы: Текущие цены | CN12: Челябинская область (редакция 2009 г) | CO12: Челябинская область (редакция 2009 г) | CP12: Челябинская область (редакция 2009 г) | CQ12: Челябинская область (редакция 2009 г) | CS12: 0 | CT12: 0 | CU12: 0 | CV12: 0 | CW12: 0 | CX12: 0 | CY12: 8
A15: 15 | B15: 1
A18: 52 | B18: =B127 -> 1 | C18: =C127 -> 1 | D18: =D127 -> 12 | E18: =E127 -> 0 | F18: =F127 -> Новый объект | G18: =G127 -> Здание 884 | H18: =H127 -> 0 | I18: =I127 -> 0 | ... AQ18: =AQ127 -> 0
G19: 0
A20: 3 | B20: 1 | D20: =ROW(A111) -> 111 | F20: Новая локальная смета | G20: Капитальный ремонт системы управления вентагрегатами В7, В8 инв. № 1400216, 1400217 | X20: 0 | AJ20: 0 | AK20: 0 | AL20: 0 | BE20: {FF896092-1524-4317-A1B0-D7C4A87D8206} | BF20: 0 | BG20: 0 | BM20: 0
A22: 52 | B22: =B111 -> 1 | C22: =C111 -> 3 | D22: =D111 -> 20 | E22: =E111 -> 0 | F22: =F111 -> Новая локальная смета | G22: =G111 -> Капитальный ремонт системы управления вентагрегатами В7, В8 инв. № 1400216, 1400217 | H22: =H111 -> 0 | I22: =I111 -> 0 | ... AQ22: =AQ111 -> 0
A24: 19 | B24: 1 | G24: ЗАТО = 1,13 | AA24: 1 | DX24: 0
G25: 0
A26: 4 | B26: 1 | D26: =ROW(A43) -> 43 | F26: Новый раздел | G26: МОНТАЖНЫЕ РАБОТЫ | X26: 0 | AL26: 0 | BE26: {E3518917-B42B-4139-BE3B-779EABB0A843} | BF26: 0 | BG26: 0 | BM26: 0 | BO26: 0
A28: 52 | B28: =B43 -> 1 | C28: =C43 -> 4 | D28: =D43 -> 26 | E28: =E43 -> 0 | F28: =F43 -> Новый раздел | G28: =G43 -> МОНТАЖНЫЕ РАБОТЫ | H28: =H43 -> 0 | I28: =I43 -> 0 | ... AQ28: =AQ43 -> 0
A30: 17 | B30: 1 | C30: =ROW(SmtRes!A13) -> 13 | D30: =ROW(EtalonRes!A13) -> 13 | E30: 1 | F30: м08-01-102-1 | G30: Шкаф управления и регулирования | H30: шкаф | I30: 2 | J30: 0 | O30: =ROUND(CP30,0) -> 1658 | P30: =ROUND(CQ30*I30,0) -> 292 | Q30: =ROUND(CR30*I30,0) -> 684 | R30: =ROUND(CS30*I30,0) -> 50 | S30: =ROUND(CT30*I30,0) -> 682 | T30: =ROUND(CU30*I30,0) -> 0 | U30: =CV30*I30 -> 49.64 | V30: =CW30*I30 -> 2.72 | W30: =ROUND(CX30*I30,0) -> 0 | X30: =ROUND(CY30,0) -> 695 | Y30: =ROUND(CZ30,0) -> 476 | AA30: 0 | AB30: =ROUND((AC30+AD30+AF30),2) -> 829.43 | AC30: =ROUND((ES30),2) -> 146.21 | AD30: =ROUND((((ET30*1.7))+((((EU30*1.7))*1.13)-((EU30*1.7)))),2) -> 342.17 | AE30: =ROUND((((EU30*1.7))*1.13),2) -> 25.09 | AF30: =ROUND((((EV30*1.7))*1.13),2) -> 341.05 | AG30: =ROUND((AP30),2) -> 0 | AH30: =((EW30*1.7)) -> 24.82 | AI30: =((EX30*1.7)) -> 1.36 | AJ30: =ROUND((AS30),2) -> 0 | AK30: 523.33 | AL30: 146.21 | AM30: 199.58 | AN30: 13.06 | AO30: 177.54 | AP30: 0 | AQ30: 14.6 | AR30: 0.8 | AS30: 0 | AT30: 95 | AU30: 65 | AV30: 1 | AW30: 1 | AX30: 1 | AY30: 1 | AZ30: 1 | BA30: 1 | BB30: 1 | BC30: 1 | BH30: 0 | BI30: 2 | BJ30: Челябинская область (2009),ч08,поз.01-102-1 | BM30: 108001 | BN30: 0 | BO30: м08-01-102-1 | BP30: 1 | BQ30: 3 | BR30: 0 | BS30: 1 | BT30: 1 | BU30: 1 | BV30: 1 | BW30: 1 | BX30: 1 | BZ30: 95 | CA30: 65 | CF30: 0 | CG30: 0 | CM30: 0 | CO30: 0 | CP30: =(P30+Q30+S30) -> 1658 | CQ30: =(AC30)*BC30 -> 146.21 | CR30: =(AD30)*BB30 -> 342.17 | CS30: =(AE30)*BS30 -> 25.09 | CT30: =(AF30)*BA30 -> 341.05 | CU30: =(AG30)*BT30 -> 0 | CV30: =(AH30)*BU30 -> 24.82 | CW30: =(AI30)*BV30 -> 1.36 | CX30: =(AJ30)*BW30 -> 0 | CY30: =((S30+R30)*(ROUND((FX30*IF(1,(IF(0,0.94,1)*IF(0,1,1)),1)),IF(1,0,2))/100)) -> 695.4 | CZ30: =((S30+R30)*(ROUND((FY30*IF(1,1,1)),IF(1,0,2))/100)) -> 475.8 | DE30: *1,7 | DF30: *1,7 | DG30: *1,7 | DI30: *1,7 | DJ30: *1,7 | DN30: 0 | DO30: 0 | DP30: 1 | DQ30: 1 | DR30: 1 | DS30: 1 | DT30: 1 | DU30: 1013 | DV30: шкаф | DW30: шкаф | DX30: 1 | EE30: 13177819 | EF30: 3 | EG30: Монтажные работы | EH30: 0 | EJ30: 2 | EK30: 108001 | EL30: Электромонтажные работы: ( на АЭС НР = 110% ) - (работы по упр. авиа.- движением: СП=55% ( {АВИА}=1; обычные работы : СП=65 - {AВИА}=0), при работе на АЭС СП= 68% ) | EM30: ФЕРм-08 | EQ30: 0 | ER30: 523.33 | ES30: 146.21 | ET30: 199.58 | EU30: 13.06 | EV30: 177.54 | EW30: 14.6 | EX30: 0.8 | EY30: 0 | EZ30: 0 | FQ30: 0 | FR30: =ROUND(IF(AND(AA30=0,BI30=3),P30,0),0) -> 0 | FS30: 0 | FX30: 95 | FY30: 65 | GA30: 0 | GB30: 0 | GC30: 0 | GD30: 0 | GE30: 0 | GF30: 0 | GG30: 0 | GH30: 0 | GI30: 0 | GJ30: 0 | GK30: 0
A31: 17 | B31: 1 | C31: =ROW(SmtRes!A24) -> 24 | D31: =ROW(EtalonRes!A24) -> 24 | E31: 2 | F31: м08-03-573-4 | G31: Шкаф (пульт) управления навесной | H31: шт. | I31: 2 | J31: 0 | O31: =ROUND(CP31,0) -> 252 | P31: =ROUND(CQ31*I31,0) -> 8 | Q31: =ROUND(CR31*I31,0) -> 130 | R31: =ROUND(CS31*I31,0) -> 15 | S31: =ROUND(CT31*I31,0) -> 114 | T31: =ROUND(CU31*I31,0) -> 0 | U31: =CV31*I31 -> 8.058 | V31: =CW31*I31 -> 0.986 | W31: =ROUND(CX31*I31,0) -> 0 | X31: =ROUND(CY31,0) -> 123 | Y31: =ROUND(CZ31,0) -> 84 | AA31: 0 | AB31: =ROUND((AC31+AD31+AF31),2) -> 125.82 | AC31: =ROUND((ES31),2) -> 3.85 | AD31: =ROUND((((ET31*1.7))+((((EU31*1.7))*1.13)-((EU31*1.7)))),2) -> 64.88 | AE31: =ROUND((((EU31*1.7))*1.13),2) -> 7.34 | AF31: =ROUND((((EV31*1.7))*1.13),2) -> 57.09 | AG31: =ROUND((AP31),2) -> 0 | AH31: =((EW31*1.7)) -> 4.029 | AI31: =((EX31*1.7)) -> 0.493 | AJ31: =ROUND((AS31),2) -> 0 | AK31: 71.24 | AL31: 3.85 | AM31: 37.67 | AN31: 3.82 | AO31: 29.72 | AP31: 0 | AQ31: 2.37 | AR31: 0.29 | AS31: 0 | AT31: 95 | AU31: 65 | AV31: 1 | AW31: 1 | AX31: 1 | AY31: 1 | AZ31: 1 | BA31: 1 | BB31: 1 | BC31: 1 | BH31: 0 | BI31: 2 | BJ31: Челябинская область (2009),ч08,поз.03-573-4 | BM31: 108001 | BN31: 0 | BO31: м08-03-573-4 | BP31: 1 | BQ31: 3 | BR31: 0 | BS31: 1 | BT31: 1 | BU31: 1 | BV31: 1 | BW31: 1 | BX31: 1 | BZ31: 95 | CA31: 65 | CF31: 0 | CG31: 0 | CM31: 0 | CO31: 0 | CP31: =(P31+Q31+S31) -> 252 | CQ31: =(AC31)*BC31 -> 3.85 | CR31: =(AD31)*BB31 -> 64.88 | CS31: =(AE31)*BS31 -> 7.34 | CT31: =(AF31)*BA31 -> 57.09 | CU31: =(AG31)*BT31 -> 0 | CV31: =(AH31)*BU31 -> 4.029 | CW31: =(AI31)*BV31 -> 0.493 | CX31: =(AJ31)*BW31 -> 0 | CY31: =((S31+R31)*(ROUND((FX31*IF(1,(IF(0,0.94,1)*IF(0,1,1)),1)),IF(1,0,2))/100)) -> 122.55 | CZ31: =((S31+R31)*(ROUND((FY31*IF(1,1,1)),IF(1,0,2))/100)) -> 83.85 | DE31: *1,7 | DF31: *1,7 | DG31: *1,7 | DI31: *1,7 | DJ31: *1,7 | DN31: 0 | DO31: 0 | DP31: 1 | DQ31: 1 | DR31: 1 | DS31: 1 | DT31: 1 | DU31: 1010 | DV31: шт. | DW31: шт. | DX31: 1 | EE31: 13177819 | EF31: 3 | EG31: Монтажные работы | EH31: 0 | EJ31: 2 | EK31: 108001 | EL31: Электромонтажные работы: ( на АЭС НР = 110% ) - (работы по упр. авиа.- движением: СП=55% ( {АВИА}=1; обычные работы : СП=65 - {AВИА}=0), при работе на АЭС СП= 68% ) | EM31: ФЕРм-08 | EQ31: 0 | ER31: 71.24 | ES31: 3.85 | ET31: 37.67 | EU31: 3.82 | EV31: 29.72 | EW31: 2.37 | EX31: 0.29 | EY31: 0 | EZ31: 0 | FQ31: 0 | FR31: =ROUND(IF(AND(AA31=0,BI31=3),P31,0),0) -> 0 | FS31: 0 | FX31: 95 | FY31: 65 | GA31: 0 | GB31: 0 | GC31: 0 | GD31: 0 | GE31: 0 | GF31: 0 | GG31: 0 | GH31: 0 | GI31: 0 | GJ31: 0 | GK31: 0
A32: 17 | B32: 1 | C32: =ROW(SmtRes!A27) -> 27 | D32: =ROW(EtalonRes!A27) -> 27 | E32: 3 | F32: м11-02-001-1 | G32: Прибор, устанавливаемый на резьбовых соединениях, масса до 1,5 кг | H32: шт. | I32: 2 | J32: 0 | O32: =ROUND(CP32,0) -> 53 | P32: =ROUND(CQ32*I32,0) -> 3 | Q32: =ROUND(CR32*I32,0) -> 0 | R32: =ROUND(CS32*I32,0) -> 0 | S32: =ROUND(CT32*I32,0) -> 50 | T32: =ROUND(CU32*I32,0) -> 0 | U32: =CV32*I32 -> 3.502 | V32: =CW32*I32 -> 0 | W32: =ROUND(CX32*I32,0) -> 0 | X32: =ROUND(CY32,0) -> 40 | Y32: =ROUND(CZ32,0) -> 30 | AA32: 0 | AB32: =ROUND((AC32+AD32+AF32),2) -> 26.13 | AC32: =ROUND((ES32),2) -> 1.31 | AD32: =ROUND((((ET32*1.7))+((((EU32*1.7))*1.13)-((EU32*1.7)))),2) -> 0 | AE32: =ROUND((((EU32*1.7))*1.13),2) -> 0 | AF32: =ROUND((((EV32*1.7))*1.13),2) -> 24.82 | AG32: =ROUND((AP32),2) -> 0 | AH32: =((EW32*1.7)) -> 1.751 | AI32: =((EX32*1.7)) -> 0 | AJ32: =ROUND((AS32),2) -> 0 | AK32: 14.23 | AL32: 1.31 | AM32: 0 | AN32: 0 | AO32: 12.92 | AP32: 0 | AQ32: 1.03 | AR32: 0 | AS32: 0 | AT32: 80 | AU32: 60 | AV32: 1 | AW32: 1 | AX32: 1 | AY32: 1 | AZ32: 1 | BA32: 1 | BB32: 1 | BC32: 1 | BH32: 0 | BI32: 2 | BJ32: Челябинская область (2009),ч11,поз.02-001-1 | BM32: 111001 | BN32: 0 | BO32: м11-02-001-1 | BP32: 1 | BQ32: 3 | BR32: 0 | BS32: 1 | BT32: 1 | BU32: 1 | BV32: 1 | BW32: 1 | BX32: 1 | BZ32: 80 | CA32: 60 | CF32: 0 | CG32: 0 | CM32: 0 | CO32: 0 | CP32: =(P32+Q32+S32) -> 53 | CQ32: =(AC32)*BC32 -> 1.31 | CR32: =(AD32)*BB32 -> 0 | CS32: =(AE32)*BS32 -> 0 | CT32: =(AF32)*BA32 -> 24.82 | CU32: =(AG32)*BT32 -> 0 | CV32: =(AH32)*BU32 -> 1.751 | CW32: =(AI32)*BV32 -> 0 | CX32: =(AJ32)*BW32 -> 0 | CY32: =((S32+R32)*(ROUND((FX32*IF(1,(IF(0,0.94,1)*IF(0,1,1)),1)),IF(1,0,2))/100)) -> 40 | CZ32: =((S32+R32)*(ROUND((FY32*IF(1,1,1)),IF(1,0,2))/100)) -> 30 | DE32: *1,7 | DF32: *1,7 | DG32: *1,7 | DI32: *1,7 | DJ32: *1,7 | DN32: 0 | DO32: 0 | DP32: 1 | DQ32: 1 | DR32: 1 | DS32: 1 | DT32: 1 | DU32: 1010 | DV32: шт. | DW32: шт. | DX32: 1 | EE32: 13177825 | EF32: 3 | EG32: Монтажные работы | EH32: 0 | EJ32: 2 | EK32: 111001 | EL32: Автоматика ( кроме микропроцессорной техники ) - (при устройстве средств посадки самолетов : НР=95%, СП=55% - {АВИА}=1) | EM32: ФЕРм-11 | EQ32: 0 | ER32: 14.23 | ES32: 1.31 | ET32: 0 | EU32: 0 | EV32: 12.92 | EW32: 1.03 | EX32: 0 | EY32: 0 | EZ32: 0 | FQ32: 0 | FR32: =ROUND(IF(AND(AA32=0,BI32=3),P32,0),0) -> 0 | FS32: 0 | FX32: 80 | FY32: 60 | GA32: 0 | GB32: 0 | GC32: 0 | GD32: 0 | GE32: 0 | GF32: 0 | GG32: 0 | GH32: 0 | GI32: 0 | GJ32: 0 | GK32: 0
A33: 17 | B33: 1 | C33: =ROW(SmtRes!A32) -> 32 | D33: =ROW(EtalonRes!A32) -> 32 | E33: 4 | F33: м08-02-171-1 | G33: Лоток стальной для крепления соединительных муфт на установленных полках | H33: 100 шт. | I33: 2.15 | J33: 0 | O33: =ROUND(CP33,0) -> 1863 | P33: =ROUND(CQ33*I33,0) -> 13 | Q33: =ROUND(CR33*I33,0) -> 625 | R33: =ROUND(CS33*I33,0) -> 46 | S33: =ROUND(CT33*I33,0) -> 1225 | T33: =ROUND(CU33*I33,0) -> 0 | U33: =CV33*I33 -> 89.182 | V33: =CW33*I33 -> 2.4854 | W33: =ROUND(CX33*I33,0) -> 0 | X33: =ROUND(CY33,0) -> 1207 | Y33: =ROUND(CZ33,0) -> 826 | AA33: 0 | AB33: =ROUND((AC33+AD33+AF33),2) -> 866.73 | AC33: =ROUND((ES33),2) -> 5.93 | AD33: =ROUND((((ET33*1.7))+((((EU33*1.7))*1.13)-((EU33*1.7)))),2) -> 290.84 | AE33: =ROUND((((EU33*1.7))*1.13),2) -> 21.32 | AF33: =ROUND((((EV33*1.7))*1.13),2) -> 569.96 | AG33: =ROUND((AP33),2) -> 0 | AH33: =((EW33*1.7)) -> 41.48 | AI33: =((EX33*1.7)) -> 1.156 | AJ33: =ROUND((AS33),2) -> 0 | AK33: 472.27 | AL33: 5.93 | AM33: 169.64 | AN33: 11.1 | AO33: 296.7 | AP33: 0 | AQ33: 24.4 | AR33: 0.68 | AS33: 0 | AT33: 95 | AU33: 65 | AV33: 1 | AW33: 1 | AX33: 1 | AY33: 1 | AZ33: 1 | BA33: 1 | BB33: 1 | BC33: 1 | BH33: 0 | BI33: 2 | BJ33: Челябинская область (2009),ч08,поз.02-171-1 | BM33: 108001 | BN33: 0 | BO33: м08-02-171-1 | BP33: 1 | BQ33: 3 | BR33: 0 | BS33: 1 | BT33: 1 | BU33: 1 | BV33: 1 | BW33: 1 | BX33: 1 | BZ33: 95 | CA33: 65 | CF33: 0 | CG33: 0 | CM33: 0 | CO33: 0 | CP33: =(P33+Q33+S33) -> 1863 | CQ33: =(AC33)*BC33 -> 5.93 | CR33: =(AD33)*BB33 -> 290.84 | CS33: =(AE33)*BS33 -> 21.32 | CT33: =(AF33)*BA33 -> 569.96 | CU33: =(AG33)*BT33 -> 0 | CV33: =(AH33)*BU33 -> 41.48 | CW33: =(AI33)*BV33 -> 1.156 | CX33: =(AJ33)*BW33 -> 0 | CY33: =((S33+R33)*(ROUND((FX33*IF(1,(IF(0,0.94,1)*IF(0,1,1)),1)),IF(1,0,2))/100)) -> 1207.45 | CZ33: =((S33+R33)*(ROUND((FY33*IF(1,1,1)),IF(1,0,2))/100)) -> 826.15 | DE33: *1,7 | DF33: *1,7 | DG33: *1,7 | DI33: *1,7 | DJ33: *1,7 | DN33: 0 | DO33: 0 | DP33: 1 | DQ33: 1 | DR33: 1 | DS33: 1 | DT33: 1 | DU33: 1010 | DV33: 100 шт. | DW33: 100 шт. | DX33: 100 | EE33: 13177819 | EF33: 3 | EG33: Монтажные работы | EH33: 0 | EJ33: 2 | EK33: 108001 | EL33: Электромонтажные работы: ( на АЭС НР = 110% ) - (работы по упр. авиа.- движением: СП=55% ( {АВИА}=1; обычные работы : СП=65 - {AВИА}=0), при работе на АЭС СП= 68% ) | EM33: ФЕРм-08 | EQ33: 0 | ER33: 472.27 | ES33: 5.93 | ET33: 169.64 | EU33: 11.1 | EV33: 296.7 | EW33: 24.4 | EX33: 0.68 | EY33: 0 | EZ33: 0 | FQ33: 0 | FR33: =ROUND(IF(AND(AA33=0,BI33=3),P33,0),0) -> 0 | FS33: 0 | FX33: 95 | FY33: 65 | GA33: 0 | GB33: 0 | GC33: 0 | GD33: 0 | GE33: 0 | GF33: 0 | GG33: 0 | GH33: 0 | GI33: 0 | GJ33: 0 | GK33: 0
A34: 17 | B34: 1 | C34: =ROW(SmtRes!A48) -> 48 | D34: =ROW(EtalonRes!A48) -> 48 | E34: 5 | F34: м08-02-147-1 | G34: Кабель до 35 кВ по установленным конструкциям и лоткам с креплением на поворотах и в конце трассы, масса 1 м кабеля: до 1 кг | H34: 100 М КАБЕЛЯ | I34: 4 | J34: 0 | O34: =ROUND(CP34,0) -> 4823 | P34: =ROUND(CQ34*I34,0) -> 743 | Q34: =ROUND(CR34*I34,0) -> 2996 | R34: =ROUND(CS34*I34,0) -> 322 | S34: =ROUND(CT34*I34,0) -> 1084 | T34: =ROUND(CU34*I34,0) -> 0 | U34: =CV34*I34 -> 78.88 | V34: =CW34*I34 -> 20.128 | W34: =ROUND(CX34*I34,0) -> 0 | X34: =ROUND(CY34,0) -> 1336 | Y34: =ROUND(CZ34,0) -> 914 | AA34: 0 | AB34: =ROUND((AC34+AD34+AF34),2) -> 1205.65 | AC34: =ROUND((ES34),2) -> 185.76 | AD34: =ROUND((((ET34*1.7))+((((EU34*1.7))*1.13)-((EU34*1.7)))),2) -> 748.91 | AE34: =ROUND((((EU34*1.7))*1.13),2) -> 80.62 | AF34: =ROUND((((EV34*1.7))*1.13),2) -> 270.98 | AG34: =ROUND((AP34),2) -> 0 | AH34: =((EW34*1.7)) -> 19.72 | AI34: =((EX34*1.7)) -> 5.032 | AJ34: =ROUND((AS34),2) -> 0 | AK34: 761.9 | AL34: 185.76 | AM34: 435.08 | AN34: 41.97 | AO34: 141.06 | AP34: 0 | AQ34: 11.6 | AR34: 2.96 | AS34: 0 | AT34: 95 | AU34: 65 | AV34: 1 | AW34: 1 | AX34: 1 | AY34: 1 | AZ34: 1 | BA34: 1 | BB34: 1 | BC34: 1 | BH34: 0 | BI34: 2 | BJ34: Челябинская область (2009),ч08,поз.02-147-1 | BM34: 108001 | BN34: 0 | BO34: м08-02-147-1 | BP34: 1 | BQ34: 3 | BR34: 0 | BS34: 1 | BT34: 1 | BU34: 1 | BV34: 1 | BW34: 1 | BX34: 1 | BZ34: 95 | CA34: 65 | CF34: 0 | CG34: 0 | CM34: 0 | CO34: 0 | CP34: =(P34+Q34+S34) -> 4823 | CQ34: =(AC34)*BC34 -> 185.76 | CR34: =(AD34)*BB34 -> 748.91 | CS34: =(AE34)*BS34 -> 80.62 | CT34: =(AF34)*BA34 -> 270.98 | CU34: =(AG34)*BT34 -> 0 | CV34: =(AH34)*BU34 -> 19.72 | CW34: =(AI34)*BV34 -> 5.032 | CX34: =(AJ34)*BW34 -> 0 | CY34: =((S34+R34)*(ROUND((FX34*IF(1,(IF(0,0.94,1)*IF(0,1,1)),1)),IF(1,0,2))/100)) -> 1335.7 | CZ34: =((S34+R34)*(ROUND((FY34*IF(1,1,1)),IF(1,0,2))/100)) -> 913.9 | DE34: *1,7 | DF34: *1,7 | DG34: *1,7 | DI34: *1,7 | DJ34: *1,7 | DN34: 0 | DO34: 0 | DP34: 1 | DQ34: 1 | DR34: 1 | DS34: 1 | DT34: 1 | DU34: 1013 | DV34: 100 М КАБЕЛЯ | DW34: 100 М КАБЕЛЯ | DX34: 1 | EE34: 13177819 | EF34: 3 | EG34: Монтажные работы | EH34: 0 | EJ34: 2 | EK34: 108001 | EL34: Электромонтажные работы: ( на АЭС НР = 110% ) - (работы по упр. авиа.- движением: СП=55% ( {АВИА}=1; обычные работы : СП=65 - {AВИА}=0), при работе на АЭС СП= 68% ) | EM34: ФЕРм-08 | EQ34: 0 | ER34: 761.9 | ES34: 185.76 | ET34: 435.08 | EU34: 41.97 | EV34: 141.06 | EW34: 11.6 | EX34: 2.96 | EY34: 0 | EZ34: 0 | FQ34: 0 | FR34: =ROUND(IF(AND(AA34=0,BI34=3),P34,0),0) -> 0 | FS34: 0 | FX34: 95 | FY34: 65 | GA34: 0 | GB34: 0 | GC34: 0 | GD34: 0 | GE34: 0 | GF34: 0 | GG34: 0 | GH34: 0 | GI34: 0 | GJ34: 0 | GK34: 0
A35: 17 | B35: 1 | C35: =ROW(SmtRes!A64) -> 64 | D35: =ROW(EtalonRes!A64) -> 64 | E35: 6 | F35: м08-02-141-3 | G35: Кабель до 35 кВ в готовых траншеях без покрытий, масса 1 м: до 3 кг (ВВГ 4*70) | H35: 100 М КАБЕЛЯ | I35: 0.5 | J35: 0 | O35: =ROUND(CP35,0) -> 850 | P35: =ROUND(CQ35*I35,0) -> 48 | Q35: =ROUND(CR35*I35,0) -> 636 | R35: =ROUND(CS35*I35,0) -> 62 | S35: =ROUND(CT35*I35,0) -> 166 | T35: =ROUND(CU35*I35,0) -> 0 | U35: =CV35*I35 -> 12.07 | V35: =CW35*I35 -> 3.7315 | W35: =ROUND(CX35*I35,0) -> 0 | X35: =ROUND(CY35,0) -> 217 | Y35: =ROUND(CZ35,0) -> 148 | AA35: 0 | AB35: =ROUND((AC35+AD35+AF35),2) -> 1699.01 | AC35: =ROUND((ES35),2) -> 95.14 | AD35: =ROUND((((ET35*1.7))+((((EU35*1.7))*1.13)-((EU35*1.7)))),2) -> 1272.17 | AE35: =ROUND((((EU35*1.7))*1.13),2) -> 123.46 | AF35: =ROUND((((EV35*1.7))*1.13),2) -> 331.7 | AG35: =ROUND((AP35),2) -> 0 | AH35: =((EW35*1.7)) -> 24.14 | AI35: =((EX35*1.7)) -> 7.463 | AJ35: =ROUND((AS35),2) -> 0 | AK35: 1007.79 | AL35: 95.14 | AM35: 739.98 | AN35: 64.27 | AO35: 172.67 | AP35: 0 | AQ35: 14.2 | AR35: 4.39 | AS35: 0 | AT35: 95 | AU35: 65 | AV35: 1 | AW35: 1 | AX35: 1 | AY35: 1 | AZ35: 1 | BA35: 1 | BB35: 1 | BC35: 1 | BH35: 0 | BI35: 2 | BJ35: Челябинская область (2009),ч08,поз.02-141-3 | BM35: 108001 | BN35: 0 | BO35: м08-02-141-3 | BP35: 1 | BQ35: 3 | BR35: 0 | BS35: 1 | BT35: 1 | BU35: 1 | BV35: 1 | BW35: 1 | BX35: 1 | BZ35: 95 | CA35: 65 | CF35: 0 | CG35: 0 | CM35: 0 | CO35: 0 | CP35: =(P35+Q35+S35) -> 850 | CQ35: =(AC35)*BC35 -> 95.14 | CR35: =(AD35)*BB35 -> 1272.17 | CS35: =(AE35)*BS35 -> 123.46 | CT35: =(AF35)*BA35 -> 331.7 | CU35: =(AG35)*BT35 -> 0 | CV35: =(AH35)*BU35 -> 24.14 | CW35: =(AI35)*BV35 -> 7.463 | CX35: =(AJ35)*BW35 -> 0 | CY35: =((S35+R35)*(ROUND((FX35*IF(1,(IF(0,0.94,1)*IF(0,1,1)),1)),IF(1,0,2))/100)) -> 216.6 | CZ35: =((S35+R35)*(ROUND((FY35*IF(1,1,1)),IF(1,0,2))/100)) -> 148.2 | DE35: *1,7 | DF35: *1,7 | DG35: *1,7 | DI35: *1,7 | DJ35: *1,7 | DN35: 0 | DO35: 0 | DP35: 1 | DQ35: 1 | DR35: 1 | DS35: 1 | DT35: 1 | DU35: 1013 | DV35: 100 М КАБЕЛЯ | DW35: 100 М КАБЕЛЯ | DX35: 1 | EE35: 13177819 | EF35: 3 | EG35: Монтажные работы | EH35: 0 | EJ35: 2 | EK35: 108001 | EL35: Электромонтажные работы: ( на АЭС НР = 110% ) - (работы по упр. авиа.- движением: СП=55% ( {АВИА}=1; обычные работы : СП=65 - {AВИА}=0), при работе на АЭС СП= 68% ) | EM35: ФЕРм-08 | EQ35: 0 | ER35: 1007.79 | ES35: 95.14 | ET35: 739.98 | EU35: 64.27 | EV35: 172.67 | EW35: 14.2 | EX35: 4.39 | EY35: 0 | EZ35: 0 | FQ35: 0 | FR35: =ROUND(IF(AND(AA35=0,BI35=3),P35,0),0) -> 0 | FS35: 0 | FX35: 95 | FY35: 65 | GA35: 0 | GB35: 0 | GC35: 0 | GD35: 0 | GE35: 0 | GF35: 0 | GG35: 0 | GH35: 0 | GI35: 0 | GJ35: 0 | GK35: 0
A36: 17 | B36: 1 | C36: =ROW(SmtRes!A80) -> 80 | D36: =ROW(EtalonRes!A80) -> 80 | E36: 7 | F36: м08-03-574-4 | G36: Разводка по устройствам и подключение жил кабелей или проводов сечением: до 70 мм2 | H36: 100 жил | I36: 0.04 | J36: 0 | O36: =ROUND(CP36,0) -> 164 | P36: =ROUND(CQ36*I36,0) -> 117 | Q36: =ROUND(CR36*I36,0) -> 2 | R36: =ROUND(CS36*I36,0) -> 0 | S36: =ROUND(CT36*I36,0) -> 45 | T36: =ROUND(CU36*I36,0) -> 0 | U36: =CV36*I36 -> 3.1688 | V36: =CW36*I36 -> 0.00204 | W36: =ROUND(CX36*I36,0) -> 0 | X36: =ROUND(CY36,0) -> 43 | Y36: =ROUND(CZ36,0) -> 29 | AA36: 0 | AB36: =ROUND((AC36+AD36+AF36),2) -> 4100.73 | AC36: =ROUND((ES36),2) -> 2929.76 | AD36: =ROUND((((ET36*1.7))+((((EU36*1.7))*1.13)-((EU36*1.7)))),2) -> 48.41 | AE36: =ROUND((((EU36*1.7))*1.13),2) -> 0.94 | AF36: =ROUND((((EV36*1.7))*1.13),2) -> 1122.56 | AG36: =ROUND((AP36),2) -> 0 | AH36: =((EW36*1.7)) -> 79.22 | AI36: =((EX36*1.7)) -> 0.051 | AJ36: =ROUND((AS36),2) -> 0 | AK36: 3542.53 | AL36: 2929.76 | AM36: 28.41 | AN36: 0.49 | AO36: 584.36 | AP36: 0 | AQ36: 46.6 | AR36: 0.03 | AS36: 0 | AT36: 95 | AU36: 65 | AV36: 1 | AW36: 1 | AX36: 1 | AY36: 1 | AZ36: 1 | BA36: 1 | BB36: 1 | BC36: 1 | BH36: 0 | BI36: 2 | BJ36: Челябинская область (2009),ч08,поз.03-574-4 | BM36: 108001 | BN36: 0 | BO36: м08-03-574-4 | BP36: 1 | BQ36: 3 | BR36: 0 | BS36: 1 | BT36: 1 | BU36: 1 | BV36: 1 | BW36: 1 | BX36: 1 | BZ36: 95 | CA36: 65 | CF36: 0 | CG36: 0 | CM36: 0 | CO36: 0 | CP36: =(P36+Q36+S36) -> 164 | CQ36: =(AC36)*BC36 -> 2929.76 | CR36: =(AD36)*BB36 -> 48.41 | CS36: =(AE36)*BS36 -> 0.94 | CT36: =(AF36)*BA36 -> 1122.56 | CU36: =(AG36)*BT36 -> 0 | CV36: =(AH36)*BU36 -> 79.22 | CW36: =(AI36)*BV36 -> 0.051 | CX36: =(AJ36)*BW36 -> 0 | CY36: =((S36+R36)*(ROUND((FX36*IF(1,(IF(0,0.94,1)*IF(0,1,1)),1)),IF(1,0,2))/100)) -> 42.75 | CZ36: =((S36+R36)*(ROUND((FY36*IF(1,1,1)),IF(1,0,2))/100)) -> 29.25 | DE36: *1,7 | DF36: *1,7 | DG36: *1,7 | DI36: *1,7 | DJ36: *1,7 | DN36: 0 | DO36: 0 | DP36: 1 | DQ36: 1 | DR36: 1 | DS36: 1 | DT36: 1 | DU36: 1013 | DV36: 100 жил | DW36: 100 жил | DX36: 1 | EE36: 13177819 | EF36: 3 | EG36: Монтажные работы | EH36: 0 | EJ36: 2 | EK36: 108001 | EL36: Электромонтажные работы: ( на АЭС НР = 110% ) - (работы по упр. авиа.- движением: СП=55% ( {АВИА}=1; обычные работы : СП=65 - {AВИА}=0), при работе на АЭС СП= 68% ) | EM36: ФЕРм-08 | EQ36: 0 | ER36: 3542.53 | ES36: 2929.76 | ET36: 28.41 | EU36: 0.49 | EV36: 584.36 | EW36: 46.6 | EX36: 0.03 | EY36: 0 | EZ36: 0 | FQ36: 0 | FR36: =ROUND(IF(AND(AA36=0,BI36=3),P36,0),0) -> 0 | FS36: 0 | FX36: 95 | FY36: 65 | GA36: 0 | GB36: 0 | GC36: 0 | GD36: 0 | GE36: 0 | GF36: 0 | GG36: 0 | GH36: 0 | GI36: 0 | GJ36: 0 | GK36: 0
A37: 17 | B37: 1 | C37: =ROW(SmtRes!A93) -> 93 | D37: =ROW(EtalonRes!A93) -> 93 | E37: 8 | F37: м08-02-158-4 | G37: Разделка концевая сухая для контрольного кабеля сечением одной жилы: до 2,5 мм2, количество жил до 4 (КВВГнг-LS) | H37: шт. | I37: 1 | J37: 0 | O37: =ROUND(CP37,0) -> 53 | P37: =ROUND(CQ37*I37,0) -> 43 | Q37: =ROUND(CR37*I37,0) -> 4 | R37: =ROUND(CS37*I37,0) -> 0 | S37: =ROUND(CT37*I37,0) -> 6 | T37: =ROUND(CU37*I37,0) -> 0 | U37: =CV37*I37 -> 0.442 | V37: =CW37*I37 -> 0.017 | W37: =ROUND(CX37*I37,0) -> 0 | X37: =ROUND(CY37,0) -> 6 | Y37: =ROUND(CZ37,0) -> 4 | AA37: 0 | AB37: =ROUND((AC37+AD37+AF37),2) -> 53.77 | AC37: =ROUND((ES37),2) -> 43.43 | AD37: =ROUND((((ET37*1.7))+((((EU37*1.7))*1.13)-((EU37*1.7)))),2) -> 4.27 | AE37: =ROUND((((EU37*1.7))*1.13),2) -> 0.31 | AF37: =ROUND((((EV37*1.7))*1.13),2) -> 6.07 | AG37: =ROUND((AP37),2) -> 0 | AH37: =((EW37*1.7)) -> 0.442 | AI37: =((EX37*1.7)) -> 0.017 | AJ37: =ROUND((AS37),2) -> 0 | AK37: 49.08 | AL37: 43.43 | AM37: 2.49 | AN37: 0.16 | AO37: 3.16 | AP37: 0 | AQ37: 0.26 | AR37: 0.01 | AS37: 0 | AT37: 95 | AU37: 65 | AV37: 1 | AW37: 1 | AX37: 1 | AY37: 1 | AZ37: 1 | BA37: 1 | BB37: 1 | BC37: 1 | BH37: 0 | BI37: 2 | BJ37: Челябинская область (2009),ч08,поз.02-158-4 | BM37: 108001 | BN37: 0 | BO37: м08-02-158-4 | BP37: 1 | BQ37: 3 | BR37: 0 | BS37: 1 | BT37: 1 | BU37: 1 | BV37: 1 | BW37: 1 | BX37: 1 | BZ37: 95 | CA37: 65 | CF37: 0 | CG37: 0 | CM37: 0 | CO37: 0 | CP37: =(P37+Q37+S37) -> 53 | CQ37: =(AC37)*BC37 -> 43.43 | CR37: =(AD37)*BB37 -> 4.27 | CS37: =(AE37)*BS37 -> 0.31 | CT37: =(AF37)*BA37 -> 6.07 | CU37: =(AG37)*BT37 -> 0 | CV37: =(AH37)*BU37 -> 0.442 | CW37: =(AI37)*BV37 -> 0.017 | CX37: =(AJ37)*BW37 -> 0 | CY37: =((S37+R37)*(ROUND((FX37*IF(1,(IF(0,0.94,1)*IF(0,1,1)),1)),IF(1,0,2))/100)) -> 5.7 | CZ37: =((S37+R37)*(ROUND((FY37*IF(1,1,1)),IF(1,0,2))/100)) -> 3.9 | DE37: *1,7 | DF37: *1,7 | DG37: *1,7 | DI37: *1,7 | DJ37: *1,7 | DN37: 0 | DO37: 0 | DP37: 1 | DQ37: 1 | DR37: 1 | DS37: 1 | DT37: 1 | DU37: 1010 | DV37: шт. | DW37: шт. | DX37: 1 | EE37: 13177819 | EF37: 3 | EG37: Монтажные работы | EH37: 0 | EJ37: 2 | EK37: 108001 | EL37: Электромонтажные работы: ( на АЭС НР = 110% ) - (работы по упр. авиа.- движением: СП=55% ( {АВИА}=1; обычные работы : СП=65 - {AВИА}=0), при работе на АЭС СП= 68% ) | EM37: ФЕРм-08 | EQ37: 0 | ER37: 49.08 | ES37: 43.43 | ET37: 2.49 | EU37: 0.16 | EV37: 3.16 | EW37: 0.26 | EX37: 0.01 | EY37: 0 | EZ37: 0 | FQ37: 0 | FR37: =ROUND(IF(AND(AA37=0,BI37=3),P37,0),0) -> 0 | FS37: 0 | FX37: 95 | FY37: 65 | GA37: 0 | GB37: 0 | GC37: 0 | GD37: 0 | GE37: 0 | GF37: 0 | GG37: 0 | GH37: 0 | GI37: 0 | GJ37: 0 | GK37: 0
A38: 17 | B38: 1 | C38: =ROW(SmtRes!A104) -> 104 | D38: =ROW(EtalonRes!A104) -> 104 | E38: 9 | F38: м08-02-158-15 | G38: Разделка концевая сухая для 3-4-жильного кабеля с пластмассовой и резиновой изоляцией напряжением: до 1 кВ, сечение одной жилы до 120 мм2 (ВВГ 4*70) | H38: шт. | I38: 1 | J38: 0 | O38: =ROUND(CP38,0) -> 43 | P38: =ROUND(CQ38*I38,0) -> 7 | Q38: =ROUND(CR38*I38,0) -> 4 | R38: =ROUND(CS38*I38,0) -> 0 | S38: =ROUND(CT38*I38,0) -> 32 | T38: =ROUND(CU38*I38,0) -> 0 | U38: =CV38*I38 -> 2.329 | V38: =CW38*I38 -> 0.017 | W38: =ROUND(CX38*I38,0) -> 0 | X38: =ROUND(CY38,0) -> 30 | Y38: =ROUND(CZ38,0) -> 21 | AA38: 0 | AB38: =ROUND((AC38+AD38+AF38),2) -> 43.5 | AC38: =ROUND((ES38),2) -> 7.23 | AD38: =ROUND((((ET38*1.7))+((((EU38*1.7))*1.13)-((EU38*1.7)))),2) -> 4.27 | AE38: =ROUND((((EU38*1.7))*1.13),2) -> 0.31 | AF38: =ROUND((((EV38*1.7))*1.13),2) -> 32 | AG38: =ROUND((AP38),2) -> 0 | AH38: =((EW38*1.7)) -> 2.329 | AI38: =((EX38*1.7)) -> 0.017 | AJ38: =ROUND((AS38),2) -> 0 | AK38: 26.38 | AL38: 7.23 | AM38: 2.49 | AN38: 0.16 | AO38: 16.66 | AP38: 0 | AQ38: 1.37 | AR38: 0.01 | AS38: 0 | AT38: 95 | AU38: 65 | AV38: 1 | AW38: 1 | AX38: 1 | AY38: 1 | AZ38: 1 | BA38: 1 | BB38: 1 | BC38: 1 | BH38: 0 | BI38: 2 | BJ38: Челябинская область (2009),ч08,поз.02-158-15 | BM38: 108001 | BN38: 0 | BO38: м08-02-158-15 | BP38: 1 | BQ38: 3 | BR38: 0 | BS38: 1 | BT38: 1 | BU38: 1 | BV38: 1 | BW38: 1 | BX38: 1 | BZ38: 95 | CA38: 65 | CF38: 0 | CG38: 0 | CM38: 0 | CO38: 0 | CP38: =(P38+Q38+S38) -> 43 | CQ38: =(AC38)*BC38 -> 7.23 | CR38: =(AD38)*BB38 -> 4.27 | CS38: =(AE38)*BS38 -> 0.31 | CT38: =(AF38)*BA38 -> 32 | CU38: =(AG38)*BT38 -> 0 | CV38: =(AH38)*BU38 -> 2.329 | CW38: =(AI38)*BV38 -> 0.017 | CX38: =(AJ38)*BW38 -> 0 | CY38: =((S38+R38)*(ROUND((FX38*IF(1,(IF(0,0.94,1)*IF(0,1,1)),1)),IF(1,0,2))/100)) -> 30.4 | CZ38: =((S38+R38)*(ROUND((FY38*IF(1,1,1)),IF(1,0,2))/100)) -> 20.8 | DE38: *1,7 | DF38: *1,7 | DG38: *1,7 | DI38: *1,7 | DJ38: *1,7 | DN38: 0 | DO38: 0 | DP38: 1 | DQ38: 1 | DR38: 1 | DS38: 1 | DT38: 1 | DU38: 1010 | DV38: шт. | DW38: шт. | DX38: 1 | EE38: 13177819 | EF38: 3 | EG38: Монтажные работы | EH38: 0 | EJ38: 2 | EK38: 108001 | EL38: Электромонтажные работы: ( на АЭС НР = 110% ) - (работы по упр. авиа.- движением: СП=55% ( {АВИА}=1; обычные работы : СП=65 - {AВИА}=0), при работе на АЭС СП= 68% ) | EM38: ФЕРм-08 | EQ38: 0 | ER38: 26.38 | ES38: 7.23 | ET38: 2.49 | EU38: 0.16 | EV38: 16.66 | EW38: 1.37 | EX38: 0.01 | EY38: 0 | EZ38: 0 | FQ38: 0 | FR38: =ROUND(IF(AND(AA38=0,BI38=3),P38,0),0) -> 0 | FS38: 0 | FX38: 95 | FY38: 65 | GA38: 0 | GB38: 0 | GC38: 0 | GD38: 0 | GE38: 0 | GF38: 0 | GG38: 0 | GH38: 0 | GI38: 0 | GJ38: 0 | GK38: 0
A39: 17 | B39: 1 | C39: =ROW(SmtRes!A115) -> 115 | D39: =ROW(EtalonRes!A115) -> 115 | E39: 10 | F39: м08-02-158-14 | G39: Разделка концевая сухая для 3-4-жильного кабеля с пластмассовой и резиновой изоляцией напряжением: до 1 кВ, сечение одной жилы до 35 мм2 (ВВГнг-LS) | H39: шт. | I39: 1 | J39: 0 | O39: =ROUND(CP39,0) -> 38 | P39: =ROUND(CQ39*I39,0) -> 7 | Q39: =ROUND(CR39*I39,0) -> 4 | R39: =ROUND(CS39*I39,0) -> 0 | S39: =ROUND(CT39*I39,0) -> 27 | T39: =ROUND(CU39*I39,0) -> 0 | U39: =CV39*I39 -> 1.955 | V39: =CW39*I39 -> 0.017 | W39: =ROUND(CX39*I39,0) -> 0 | X39: =ROUND(CY39,0) -> 26 | Y39: =ROUND(CZ39,0) -> 18 | AA39: 0 | AB39: =ROUND((AC39+AD39+AF39),2) -> 38.31 | AC39: =ROUND((ES39),2) -> 7.18 | AD39: =ROUND((((ET39*1.7))+((((EU39*1.7))*1.13)-((EU39*1.7)))),2) -> 4.27 | AE39: =ROUND((((EU39*1.7))*1.13),2) -> 0.31 | AF39: =ROUND((((EV39*1.7))*1.13),2) -> 26.86 | AG39: =ROUND((AP39),2) -> 0 | AH39: =((EW39*1.7)) -> 1.955 | AI39: =((EX39*1.7)) -> 0.017 | AJ39: =ROUND((AS39),2) -> 0 | AK39: 23.65 | AL39: 7.18 | AM39: 2.49 | AN39: 0.16 | AO39: 13.98 | AP39: 0 | AQ39: 1.15 | AR39: 0.01 | AS39: 0 | AT39: 95 | AU39: 65 | AV39: 1 | AW39: 1 | AX39: 1 | AY39: 1 | AZ39: 1 | BA39: 1 | BB39: 1 | BC39: 1 | BH39: 0 | BI39: 2 | BJ39: Челябинская область (2009),ч08,поз.02-158-14 | BM39: 108001 | BN39: 0 | BO39: м08-02-158-14 | BP39: 1 | BQ39: 3 | BR39: 0 | BS39: 1 | BT39: 1 | BU39: 1 | BV39: 1 | BW39: 1 | BX39: 1 | BZ39: 95 | CA39: 65 | CF39: 0 | CG39: 0 | CM39: 0 | CO39: 0 | CP39: =(P39+Q39+S39) -> 38 | CQ39: =(AC39)*BC39 -> 7.18 | CR39: =(AD39)*BB39 -> 4.27 | CS39: =(AE39)*BS39 -> 0.31 | CT39: =(AF39)*BA39 -> 26.86 | CU39: =(AG39)*BT39 -> 0 | CV39: =(AH39)*BU39 -> 1.955 | CW39: =(AI39)*BV39 -> 0.017 | CX39: =(AJ39)*BW39 -> 0 | CY39: =((S39+R39)*(ROUND((FX39*IF(1,(IF(0,0.94,1)*IF(0,1,1)),1)),IF(1,0,2))/100)) -> 25.65 | CZ39: =((S39+R39)*(ROUND((FY39*IF(1,1,1)),IF(1,0,2))/100)) -> 17.55 | DE39: *1,7 | DF39: *1,7 | DG39: *1,7 | DI39: *1,7 | DJ39: *1,7 | DN39: 0 | DO39: 0 | DP39: 1 | DQ39: 1 | DR39: 1 | DS39: 1 | DT39: 1 | DU39: 1010 | DV39: шт. | DW39: шт. | DX39: 1 | EE39: 13177819 | EF39: 3 | EG39: Монтажные работы | EH39: 0 | EJ39: 2 | EK39: 108001 | EL39: Электромонтажные работы: ( на АЭС НР = 110% ) - (работы по упр. авиа.- движением: СП=55% ( {АВИА}=1; обычные работы : СП=65 - {AВИА}=0), при работе на АЭС СП= 68% ) | EM39: ФЕРм-08 | EQ39: 0 | ER39: 23.65 | ES39: 7.18 | ET39: 2.49 | EU39: 0.16 | EV39: 13.98 | EW39: 1.15 | EX39: 0.01 | EY39: 0 | EZ39: 0 | FQ39: 0 | FR39: =ROUND(IF(AND(AA39=0,BI39=3),P39,0),0) -> 0 | FS39: 0 | FX39: 95 | FY39: 65 | GA39: 0 | GB39: 0 | GC39: 0 | GD39: 0 | GE39: 0 | GF39: 0 | GG39: 0 | GH39: 0 | GI39: 0 | GJ39: 0 | GK39: 0
A40: 17 | B40: 1 | C40: =ROW(SmtRes!A129) -> 129 | D40: =ROW(EtalonRes!A129) -> 129 | E40: 11 | F40: м11-04-020-1 | G40: Разъемы штепсельные с разделкой и включением экранированного кабеля, сечение жилы до 1 мм2, количество подключаемых жил до 14 шт. (ControllerLink, DeviceNet) | H40: шт. | I40: 2 | J40: 0 | O40: =ROUND(CP40,0) -> 108 | P40: =ROUND(CQ40*I40,0) -> 14 | Q40: =ROUND(CR40*I40,0) -> 0 | R40: =ROUND(CS40*I40,0) -> 0 | S40: =ROUND(CT40*I40,0) -> 94 | T40: =ROUND(CU40*I40,0) -> 0 | U40: =CV40*I40 -> 7.004 | V40: =CW40*I40 -> 0 | W40: =ROUND(CX40*I40,0) -> 0 | X40: =ROUND(CY40,0) -> 86 | Y40: =ROUND(CZ40,0) -> 61 | AA40: 0 | AB40: =ROUND((AC40+AD40+AF40),2) -> 54 | AC40: =ROUND((ES40),2) -> 6.95 | AD40: =ROUND((((ET40*1.7))+((((EU40*1.7))*1.13)-((EU40*1.7)))),2) -> 0 | AE40: =ROUND((((EU40*1.7))*1.13),2) -> 0 | AF40: =ROUND((((EV40*1.7))*1.13),2) -> 47.05 | AG40: =ROUND((AP40),2) -> 0 | AH40: =((EW40*1.7)) -> 3.502 | AI40: =((EX40*1.7)) -> 0 | AJ40: =ROUND((AS40),2) -> 0 | AK40: 31.44 | AL40: 6.95 | AM40: 0 | AN40: 0 | AO40: 24.49 | AP40: 0 | AQ40: 2.06 | AR40: 0 | AS40: 0 | AT40: 92 | AU40: 65 | AV40: 1 | AW40: 1 | AX40: 1 | AY40: 1 | AZ40: 1 | BA40: 1 | BB40: 1 | BC40: 1 | BH40: 0 | BI40: 2 | BJ40: Челябинская область (2009),ч11,поз.04-020-1 | BM40: 111002 | BN40: 0 | BO40: м11-04-020-1 | BP40: 1 | BQ40: 3 | BR40: 0 | BS40: 1 | BT40: 1 | BU40: 1 | BV40: 1 | BW40: 1 | BX40: 1 | BZ40: 92 | CA40: 65 | CF40: 0 | CG40: 0 | CM40: 0 | CO40: 0 | CP40: =(P40+Q40+S40) -> 108 | CQ40: =(AC40)*BC40 -> 6.95 | CR40: =(AD40)*BB40 -> 0 | CS40: =(AE40)*BS40 -> 0 | CT40: =(AF40)*BA40 -> 47.05 | CU40: =(AG40)*BT40 -> 0 | CV40: =(AH40)*BU40 -> 3.502 | CW40: =(AI40)*BV40 -> 0 | CX40: =(AJ40)*BW40 -> 0 | CY40: =((S40+R40)*(ROUND((FX40*IF(1,(IF(0,0.94,1)*IF(0,1,1)),1)),IF(1,0,2))/100)) -> 86.48 | CZ40: =((S40+R40)*(ROUND((FY40*IF(1,1,1)),IF(1,0,2))/100)) -> 61.1 | DE40: *1,7 | DF40: *1,7 | DG40: *1,7 | DI40: *1,7 | DJ40: *1,7 | DN40: 0 | DO40: 0 | DP40: 1 | DQ40: 1 | DR40: 1 | DS40: 1 | DT40: 1 | DU40: 1010 | DV40: шт. | DW40: шт. | DX40: 1 | EE40: 13177826 | EF40: 3 | EG40: Монтажные работы | EH40: 0 | EJ40: 2 | EK40: 111002 | EL40: Автоматика : устройство микропроцессороной техники - (при устройстве средств посадки самолетов ( отдел 04): НР=95%, СП=55% - {АВИА}=1) | EM40: ФЕРм-11 | EQ40: 0 | ER40: 31.44 | ES40: 6.95 | ET40: 0 | EU40: 0 | EV40: 24.49 | EW40: 2.06 | EX40: 0 | EY40: 0 | EZ40: 0 | FQ40: 0 | FR40: =ROUND(IF(AND(AA40=0,BI40=3),P40,0),0) -> 0 | FS40: 0 | FX40: 92 | FY40: 65 | GA40: 0 | GB40: 0 | GC40: 0 | GD40: 0 | GE40: 0 | GF40: 0 | GG40: 0 | GH40: 0 | GI40: 0 | GJ40: 0 | GK40: 0
A41: 17 | B41: 1 | C41: =ROW(SmtRes!A131) -> 131 | D41: =ROW(EtalonRes!A131) -> 131 | E41: 12 | F41: м08-02-144-1 | G41: Присоединение к зажимам жил проводов или кабелей сечением: до 2,5 мм2 | H41: 100 шт. | I41: 0.24 | J41: 0 | O41: =ROUND(CP41,0) -> 68 | P41: =ROUND(CQ41*I41,0) -> 1 | Q41: =ROUND(CR41*I41,0) -> 0 | R41: =ROUND(CS41*I41,0) -> 0 | S41: =ROUND(CT41*I41,0) -> 67 | T41: =ROUND(CU41*I41,0) -> 0 | U41: =CV41*I41 -> 4.896 | V41: =CW41*I41 -> 0 | W41: =ROUND(CX41*I41,0) -> 0 | X41: =ROUND(CY41,0) -> 64 | Y41: =ROUND(CZ41,0) -> 44 | AA41: 0 | AB41: =ROUND((AC41+AD41+AF41),2) -> 283.23 | AC41: =ROUND((ES41),2) -> 2.92 | AD41: =ROUND((((ET41*1.7))+((((EU41*1.7))*1.13)-((EU41*1.7)))),2) -> 0 | AE41: =ROUND((((EU41*1.7))*1.13),2) -> 0 | AF41: =ROUND((((EV41*1.7))*1.13),2) -> 280.31 | AG41: =ROUND((AP41),2) -> 0 | AH41: =((EW41*1.7)) -> 20.4 | AI41: =((EX41*1.7)) -> 0 | AJ41: =ROUND((AS41),2) -> 0 | AK41: 148.84 | AL41: 2.92 | AM41: 0 | AN41: 0 | AO41: 145.92 | AP41: 0 | AQ41: 12 | AR41: 0 | AS41: 0 | AT41: 95 | AU41: 65 | AV41: 1 | AW41: 1 | AX41: 1 | AY41: 1 | AZ41: 1 | BA41: 1 | BB41: 1 | BC41: 1 | BH41: 0 | BI41: 2 | BJ41: Челябинская область (2009),ч08,поз.02-144-1 | BM41: 108001 | BN41: 0 | BO41: м08-02-144-1 | BP41: 1 | BQ41: 3 | BR41: 0 | BS41: 1 | BT41: 1 | BU41: 1 | BV41: 1 | BW41: 1 | BX41: 1 | BZ41: 95 | CA41: 65 | CF41: 0 | CG41: 0 | CM41: 0 | CO41: 0 | CP41: =(P41+Q41+S41) -> 68 | CQ41: =(AC41)*BC41 -> 2.92 | CR41: =(AD41)*BB41 -> 0 | CS41: =(AE41)*BS41 -> 0 | CT41: =(AF41)*BA41 -> 280.31 | CU41: =(AG41)*BT41 -> 0 | CV41: =(AH41)*BU41 -> 20.4 | CW41: =(AI41)*BV41 -> 0 | CX41: =(AJ41)*BW41 -> 0 | CY41: =((S41+R41)*(ROUND((FX41*IF(1,(IF(0,0.94,1)*IF(0,1,1)),1)),IF(1,0,2))/100)) -> 63.65 | CZ41: =((S41+R41)*(ROUND((FY41*IF(1,1,1)),IF(1,0,2))/100)) -> 43.55 | DE41: *1,7 | DF41: *1,7 | DG41: *1,7 | DI41: *1,7 | DJ41: *1,7 | DN41: 0 | DO41: 0 | DP41: 1 | DQ41: 1 | DR41: 1 | DS41: 1 | DT41: 1 | DU41: 1010 | DV41: 100 шт. | DW41: 100 шт. | DX41: 100 | EE41: 13177819 | EF41: 3 | EG41: Монтажные работы | EH41: 0 | EJ41: 2 | EK41: 108001 | EL41: Электромонтажные работы: ( на АЭС НР = 110% ) - (работы по упр. авиа.- движением: СП=55% ( {АВИА}=1; обычные работы : СП=65 - {AВИА}=0), при работе на АЭС СП= 68% ) | EM41: ФЕРм-08 | EQ41: 0 | ER41: 148.84 | ES41: 2.92 | ET41: 0 | EU41: 0 | EV41: 145.92 | EW41: 12 | EX41: 0 | EY41: 0 | EZ41: 0 | FQ41: 0 | FR41: =ROUND(IF(AND(AA41=0,BI41=3),P41,0),0) -> 0 | FS41: 0 | FX41: 95 | FY41: 65 | GA41: 0 | GB41: 0 | GC41: 0 | GD41: 0 | GE41: 0 | GF41: 0 | GG41: 0 | GH41: 0 | GI41: 0 | GJ41: 0 | GK41: 0
A43: 51 | B43: =B26 -> 1 | C43: =A26 -> 4 | D43: =ROW(A26) -> 26 | F43: =IF(F26<>"",F26,"") -> Новый раздел | G43: =IF(G26<>"",G26,"") -> МОНТАЖНЫЕ РАБОТЫ | O43: =ROUND(AB43,0) -> 9973 | P43: =ROUND(AC43,0) -> 1296 | Q43: =ROUND(AD43,0) -> 5085 | R43: =ROUND(AE43,0) -> 495 | S43: =ROUND(AF43,0) -> 3592 | T43: =ROUND(AG43,0) -> 0 | U43: =ROUND(AH43,0) -> 261 | V43: =ROUND(AI43,0) -> 30 | ... Y43: =ROUND(AL43,0) -> 2655 | AB43: =ROUND(SUMIF(AA30:AA41,"=0",O30:O41),0) -> 9973 | AC43: =ROUND(SUMIF(AA30:AA41,"=0",P30:P41),0) -> 1296 | AD43: =ROUND(SUMIF(AA30:AA41,"=0",Q30:Q41),0) -> 5085 | AE43: =ROUND(SUMIF(AA30:AA41,"=0",R30:R41),0) -> 495 | AF43: =ROUND(SUMIF(AA30:AA41,"=0",S30:S41),0) -> 3592 | AG43: =ROUND(SUMIF(AA30:AA41,"=0",T30:T41),0) -> 0 | AH43: =ROUND(SUMIF(AA30:AA41,"=0",U30:U41),0) -> 261 | AI43: =ROUND(SUMIF(AA30:AA41,"=0",V30:V41),0) -> 30 | AJ43: =ROUND(SUMIF(AA30:AA41,"=0",W30:W41),0) -> 0 | AK43: =ROUND(SUMIF(AA30:AA41,"=0",X30:X41),0) -> 3873 | AL43: =ROUND(SUMIF(AA30:AA41,"=0",Y30:Y41),0) -> 2655 | AN43: =ROUND(AO43,0) -> 0 | AO43: =ROUND(SUMIF(AA30:AA41,"=0",FQ30:FQ41),0) -> 0 | AP43: =ROUND(AQ43,0) -> 0 | AQ43: =ROUND(SUM(FR30:FR41),0) -> 0
A45: 50 | B45: 0 | C45: 0 | D45: 1 | E45: 201 | F45: =Source!O43 -> 9973 | G45: ПЗ | H45: Прямые затраты | K45: 201 | L45: 1 | M45: 3
A46: 50 | B46: 0 | C46: 0 | D46: 1 | E46: 202 | F46: =Source!P43 -> 1296 | G46: СтМат | H46: Стоимость материальных ресурсов | K46: 202 | L46: 2 | M46: 3
A47: 50 | B47: 0 | C47: 0 | D47: 1 | E47: 222 | F47: =Source!AN43 -> 0 | G47: СтМатЗак | H47: Стоимость материалов заказчика | K47: 222 | L47: 3 | M47: 3
A48: 50 | B48: 0 | C48: 0 | D48: 1 | E48: 216 | F48: =Source!AP43 -> 0 | G48: Оборуд | H48: Стоимость оборудования | K48: 216 | L48: 4 | M48: 3
A49: 50 | B49: 0 | C49: 0 | D49: 1 | E49: 203 | F49: =Source!Q43 -> 5085 | G49: ЭММ | H49: Эксплуатация машин | K49: 203 | L49: 5 | M49: 3
A50: 50 | B50: 0 | C50: 0 | D50: 1 | E50: 204 | F50: =Source!R43 -> 495 | G50: ЗПМ | H50: ЗП машинистов | K50: 204 | L50: 6 | M50: 3
A51: 50 | B51: 0 | C51: 0 | D51: 1 | E51: 205 | F51: =Source!S43 -> 3592 | G51: ОЗП | H51: Основная ЗП рабочих | K51: 205 | L51: 7 | M51: 3
A52: 50 | B52: 0 | C52: 0 | D52: 1 | E52: 206 | F52: =Source!T43 -> 0 | G52: ВозврМат | H52: Возврат материалов | K52: 206 | L52: 8 | M52: 3
A53: 50 | B53: 0 | C53: 0 | D53: 1 | E53: 207 | F53: =Source!U43 -> 261 | G53: ТрудСтр | H53: Трудозатраты строителей | K53: 207 | L53: 9 | M53: 3
A54: 50 | B54: 0 | C54: 0 | D54: 1 | E54: 208 | F54: =Source!V43 -> 30 | G54: ТрудМаш | H54: Трудозатраты машинистов | K54: 208 | L54: 10 | M54: 3
A55: 50 | B55: 0 | C55: 0 | D55: 1 | E55: 209 | F55: =Source!W43 -> 0 | G55: ТранспМат | H55: Транспорт материалов | K55: 209 | L55: 11 | M55: 3
A56: 50 | B56: 0 | C56: 0 | D56: 1 | E56: 210 | F56: =Source!X43 -> 3873 | G56: НР | H56: Накладные расходы | K56: 210 | L56: 12 | M56: 3
A57: 50 | B57: 0 | C57: 0 | D57: 1 | E57: 211 | F57: =Source!Y43 -> 2655 | G57: СмПриб | H57: Сметная прибыль | K57: 211 | L57: 13 | M57: 3
G58: 0
A59: 4 | B59: 1 | D59: =ROW(A73) -> 73 | F59: Новый раздел | G59: МАТЕРИАЛЫ НЕ УЧТЕННЫЕ ЦЕННИКОМ | X59: 0 | AL59: 0 | BE59: {C3C5B1D2-6DF6-4660-8529-BDD2D2D5269D} | BF59: 0 | BG59: 0 | BM59: 0 | BO59: 0
A61: 52 | B61: =B73 -> 1 | C61: =C73 -> 4 | D61: =D73 -> 59 | E61: =E73 -> 0 | F61: =F73 -> Новый раздел | G61: =G73 -> МАТЕРИАЛЫ НЕ УЧТЕННЫЕ ЦЕННИКОМ | H61: =H73 -> 0 | I61: =I73 -> 0 | ... AQ61: =AQ73 -> 0
...

Sheet SmtRes
A1: =ROW(Source!A30) -> 30 | B1: 13297532 | C1: 13297528 | D1: 12388959 | E1: 1 | F1: 1 | G1: 1 | H1: 1 | I1: 1-2040-74 | K1: Рабочий монтажник среднего разряда 4 | L1: 1369 | N1: 1013 | O1: чел.-ч | P1: чел.-ч | Q1: 1 | Y1: 24.82 | AA1: 0 | AB1: 0 | AC1: 0 | AD1: 12.16 | AN1: 0 | AO1: 1 | AP1: 1 | AQ1: 0 | AR1: 0 | AT1: 14.6 | AU1: *1,7 | AV1: 1 | AW1: 2 | AX1: 13297532 | AY1: 1 | AZ1: 0 | BA1: 1 | BB1: 0 | BC1: 0 | BD1: 0 | BE1: 0 | BF1: 0 | BG1: 0 | BH1: 0 | BI1: 0 | BJ1: 0 | BK1: 0 | BL1: 0 | BM1: 0 | BN1: 0 | BO1: 0 | BP1: 0 | BQ1: 0 | BR1: 0 | BS1: 0 | BT1: 0 | BU1: 0 | BV1: 0 | BW1: 0 | CB1: 0
A2: =ROW(Source!A30) -> 30 | B2: 13297533 | C2: 13297528 | D2: 121548 | E2: 1 | F2: 1 | G2: 1 | H2: 1 | I2: 2 | K2: Затраты труда машинистов | L2: 608254 | N2: 1013 | O2: чел.час | P2: чел.час | Q2: 1 | Y2: 1.36 | AA2: 0 | AB2: 0 | AC2: 0 | AD2: 0 | AN2: 0 | AO2: 1 | AP2: 1 | AQ2: 0 | AR2: 0 | AT2: 0.8 | AU2: *1,7 | AV2: 2 | AW2: 2 | AX2: 13297533 | AY2: 1 | AZ2: 0 | BA2: 2 | BB2: 0 | BC2: 0 | BD2: 0 | BE2: 0 | BF2: 0 | BG2: 0 | BH2: 0 | BI2: 0 | BJ2: 0 | BK2: 0 | BL2: 0 | BM2: 0 | BN2: 0 | BO2: 0 | BP2: 0 | BQ2: 0 | BR2: 0 | BS2: 0 | BT2: 0 | BU2: 0 | BV2: 0 | BW2: 0 | CB2: 0
A3: =ROW(Source!A30) -> 30 | B3: 13297534 | C3: 13297528 | D3: 12074364 | E3: 1 | F3: 1 | G3: 1 | H3: 2 | I3: 021102 | J3: ЦЭМ Челябинская область (2009) разд.02,поз.1102 | K3: Краны на автомобильном ходу при работе на монтаже технологического оборудования 10 т | L3: 1368 | N3: 1011 | O3: маш.-ч | P3: маш.-ч | Q3: 1 | Y3: 1.36 | AA3: 0 | AB3: 134.07 | AC3: 0 | AD3: 0 | AN3: 0 | AO3: 1 | AP3: 1 | AQ3: 0 | AR3: 0 | AT3: 0.8 | AU3: *1,7 | AV3: 0 | AW3: 2 | AX3: 13297534 | AY3: 1 | AZ3: 0 | BA3: 3 | BB3: 0 | BC3: 0 | BD3: 0 | BE3: 0 | BF3: 0 | BG3: 0 | BH3: 0 | BI3: 0 | BJ3: 0 | BK3: 0 | BL3: 0 | BM3: 0 | BN3: 0 | BO3: 0 | BP3: 0 | BQ3: 0 | BR3: 0 | BS3: 0 | BT3: 0 | BU3: 0 | BV3: 0 | BW3: 0 | CB3: 0
A4: =ROW(Source!A30) -> 30 | B4: 13297535 | C4: 13297528 | D4: 12077046 | E4: 1 | F4: 1 | G4: 1 | H4: 2 | I4: 400002 | J4: ЦЭМ Челябинская область (2009) разд.40,поз.0002 | K4: Автомобили бортовые, грузоподъемность до 8 т | L4: 1368 | N4: 1011 | O4: маш.-ч | P4: маш.-ч | Q4: 1 | Y4: 1.36 | AA4: 0 | AB4: 115.4 | AC4: 0 | AD4: 0 | AN4: 0 | AO4: 1 | AP4: 1 | AQ4: 0 | AR4: 0 | AT4: 0.8 | AU4: *1,7 | AV4: 0 | AW4: 2 | AX4: 13297535 | AY4: 1 | AZ4: 0 | BA4: 4 | BB4: 0 | BC4: 0 | BD4: 0 | BE4: 0 | BF4: 0 | BG4: 0 | BH4: 0 | BI4: 0 | BJ4: 0 | BK4: 0 | BL4: 0 | BM4: 0 | BN4: 0 | BO4: 0 | BP4: 0 | BQ4: 0 | BR4: 0 | BS4: 0 | BT4: 0 | BU4: 0 | BV4: 0 | BW4: 0 | CB4: 0
A5: =ROW(Source!A30) -> 30 | B5: 13297536 | C5: 13297528 | D5: 12079664 | E5: 1 | F5: 1 | G5: 1 | H5: 3 | I5: 101-1977 | J5: ССЦ Челябинская область (2009) ч.1,разд.01,поз.1977 | K5: Болты с гайками и шайбами строительные | L5: 1346 | N5: 1009 | O5: кг | P5: кг | Q5: 1 | Y5: 0.77 | AA5: 17.3 | AB5: 0 | AC5: 0 | AD5: 0 | AN5: 0 | AO5: 1 | AP5: 0 | AQ5: 0 | AR5: 0 | AT5: 0.77 | AV5: 0 | AW5: 2 | AX5: 13297536 | AY5: 1 | AZ5: 0 | BA5: 5 | BB5: 0 | BC5: 0 | BD5: 0 | BE5: 0 | BF5: 0 | BG5: 0 | BH5: 0 | BI5: 0 | BJ5: 0 | BK5: 0 | BL5: 0 | BM5: 0 | BN5: 0 | BO5: 0 | BP5: 0 | BQ5: 0 | BR5: 0 | BS5: 0 | BT5: 0 | BU5: 0 | BV5: 0 | BW5: 0 | CB5: 0
A6: =ROW(Source!A30) -> 30 | B6: 13297537 | C6: 13297528 | D6: 12080124 | E6: 1 | F6: 1 | G6: 1 | H6: 3 | I6: 101-2478 | J6: ССЦ Челябинская область (2009) ч.1,разд.01,поз.2478 | K6: Лента К226 | L6: 1308 | N6: 1003 | O6: 100 м | P6: 100 м | Q6: 100 | Y6: 0.0048 | AA6: 214 | AB6: 0 | AC6: 0 | AD6: 0 | AN6: 0 | AO6: 1 | AP6: 0 | AQ6: 0 | AR6: 0 | AT6: 0.0048 | AV6: 0 | AW6: 2 | AX6: 13297537 | AY6: 1 | AZ6: 0 | BA6: 6 | BB6: 0 | BC6: 0 | BD6: 0 | BE6: 0 | BF6: 0 | BG6: 0 | BH6: 0 | BI6: 0 | BJ6: 0 | BK6: 0 | BL6: 0 | BM6: 0 | BN6: 0 | BO6: 0 | BP6: 0 | BQ6: 0 | BR6: 0 | BS6: 0 | BT6: 0 | BU6: 0 | BV6: 0 | BW6: 0 | CB6: 0
A7: =ROW(Source!A30) -> 30 | B7: 13297538 | C7: 13297528 | D7: 12086052 | E7: 1 | F7: 1 | G7: 1 | H7: 3 | I7: 111-0086 | J7: ССЦ Челябинская область (2009) ч.1,разд.11,поз.0086 | K7: Бирки маркировочные | L7: 1355 | N7: 1010 | O7: 100 шт. | P7: 100 шт. | Q7: 100 | Y7: 0.02 | AA7: 143.07 | AB7: 0 | AC7: 0 | AD7: 0 | AN7: 0 | AO7: 1 | AP7: 0 | AQ7: 0 | AR7: 0 | AT7: 0.02 | AV7: 0 | AW7: 2 | AX7: 13297538 | AY7: 1 | AZ7: 0 | BA7: 7 | BB7: 0 | BC7: 0 | BD7: 0 | BE7: 0 | BF7: 0 | BG7: 0 | BH7: 0 | BI7: 0 | BJ7: 0 | BK7: 0 | BL7: 0 | BM7: 0 | BN7: 0 | BO7: 0 | BP7: 0 | BQ7: 0 | BR7: 0 | BS7: 0 | BT7: 0 | BU7: 0 | BV7: 0 | BW7: 0 | CB7: 0
A8: =ROW(Source!A30) -> 30 | B8: 13297539 | C8: 13297528 | D8: 12111176 | E8: 1 | F8: 1 | G8: 1 | H8: 3 | I8: 507-0700 | J8: ССЦ Челябинская область (2009) ч.5,разд.07,поз.0700 | K8: Трубка поливинилхлоридная ХВТ | L8: 1346 | N8: 1009 | O8: кг | P8: кг | Q8: 1 | Y8: 0.016 | AA8: 35.7 | AB8: 0 | AC8: 0 | AD8: 0 | AN8: 0 | AO8: 1 | AP8: 0 | AQ8: 0 | AR8: 0 | AT8: 0.016 | AV8: 0 | AW8: 2 | AX8: 13297539 | AY8: 1 | AZ8: 0 | BA8: 8 | BB8: 0 | BC8: 0 | BD8: 0 | BE8: 0 | BF8: 0 | BG8: 0 | BH8: 0 | BI8: 0 | BJ8: 0 | BK8: 0 | BL8: 0 | BM8: 0 | BN8: 0 | BO8: 0 | BP8: 0 | BQ8: 0 | BR8: 0 | BS8: 0 | BT8: 0 | BU8: 0 | BV8: 0 | BW8: 0 | CB8: 0
A9: =ROW(Source!A30) -> 30 | B9: 13297540 | C9: 13297528 | D9: 12114196 | E9: 1 | F9: 1 | G9: 1 | H9: 3 | I9: 509-0041 | J9: ССЦ Челябинская область (2009) ч.5,разд.09,поз.0041 | K9: Наконечники кабельные медные для электротехнических установок | L9: 1354 | N9: 1010 | O9: шт. | P9: шт. | Q9: 1 | Y9: 2.04 | AA9: 40.06 | AB9: 0 | AC9: 0 | AD9: 0 | AN9: 0 | AO9: 1 | AP9: 0 | AQ9: 0 | AR9: 0 | AT9: 2.04 | AV9: 0 | AW9: 2 | AX9: 13297540 | AY9: 1 | AZ9: 0 | BA9: 9 | BB9: 0 | BC9: 0 | BD9: 0 | BE9: 0 | BF9: 0 | BG9: 0 | BH9: 0 | BI9: 0 | BJ9: 0 | BK9: 0 | BL9: 0 | BM9: 0 | BN9: 0 | BO9: 0 | BP9: 0 | BQ9: 0 | BR9: 0 | BS9: 0 | BT9: 0 | BU9: 0 | BV9: 0 | BW9: 0 | CB9: 0
A10: =ROW(Source!A30) -> 30 | B10: 13297541 | C10: 13297528 | D10: 12114225 | E10: 1 | F10: 1 | G10: 1 | H10: 3 | I10: 509-0070 | J10: ССЦ Челябинская область (2009) ч.5,разд.09,поз.0070 | K10: Кнопки монтажные | L10: 1356 | N10: 1010 | O10: 1000 шт. | P10: 1000 шт. | Q10: 1000 | Y10: 0.0041 | AA10: 17.8 | AB10: 0 | AC10: 0 | AD10: 0 | AN10: 0 | AO10: 1 | AP10: 0 | AQ10: 0 | AR10: 0 | AT10: 0.0041 | AV10: 0 | AW10: 2 | AX10: 13297541 | AY10: 1 | AZ10: 0 | BA10: 10 | BB10: 0 | BC10: 0 | BD10: 0 | BE10: 0 | BF10: 0 | BG10: 0 | BH10: 0 | BI10: 0 | BJ10: 0 | BK10: 0 | BL10: 0 | BM10: 0 | BN10: 0 | BO10: 0 | BP10: 0 | BQ10: 0 | BR10: 0 | BS10: 0 | BT10: 0 | BU10: 0 | BV10: 0 | BW10: 0 | CB10: 0
A11: =ROW(Source!A30) -> 30 | B11: 13297542 | C11: 13297528 | D11: 12114245 | E11: 1 | F11: 1 | G11: 1 | H11: 3 | I11: 509-0090 | J11: ССЦ Челябинская область (2009) ч.5,разд.09,поз.0090 | K11: Перемычки гибкие, тип ПГС-50 | L11: 1354 | N11: 1010 | O11: шт. | P11: шт. | Q11: 1 | Y11: 1 | AA11: 11.2 | AB11: 0 | AC11: 0 | AD11: 0 | AN11: 0 | AO11: 1 | AP11: 0 | AQ11: 0 | AR11: 0 | AT11: 1 | AV11: 0 | AW11: 2 | AX11: 13297542 | AY11: 1 | AZ11: 0 | BA11: 11 | BB11: 0 | BC11: 0 | BD11: 0 | BE11: 0 | BF11: 0 | BG11: 0 | BH11: 0 | BI11: 0 | BJ11: 0 | BK11: 0 | BL11: 0 | BM11: 0 | BN11: 0 | BO11: 0 | BP11: 0 | BQ11: 0 | BR11: 0 | BS11: 0 | BT11: 0 | BU11: 0 | BV11: 0 | BW11: 0 | CB11: 0
A12: =ROW(Source!A30) -> 30 | B12: 13297543 | C12: 13297528 | D12: 12114311 | E12: 1 | F12: 1 | G12: 1 | H12: 3 | I12: 509-0156 | J12: ССЦ Челябинская область (2009) ч.5,разд.09,поз.0156 | K12: Оконцеватели маркировочные | L12: 1355 | N12: 1010 | O12: 100 шт. | P12: 100 шт. | Q12: 100 | Y12: 0.612 | AA12: 52.1 | AB12: 0 | AC12: 0 | AD12: 0 | AN12: 0 | AO12: 1 | AP12: 0 | AQ12: 0 | AR12: 0 | AT12: 0.612 | AV12: 0 | AW12: 2 | AX12: 13297543 | AY12: 1 | AZ12: 0 | BA12: 12 | BB12: 0 | BC12: 0 | BD12: 0 | BE12: 0 | BF12: 0 | BG12: 0 | BH12: 0 | BI12: 0 | BJ12: 0 | BK12: 0 | BL12: 0 | BM12: 0 | BN12: 0 | BO12: 0 | BP12: 0 | BQ12: 0 | BR12: 0 | BS12: 0 | BT12: 0 | BU12: 0 | BV12: 0 | BW12: 0 | CB12: 0
A13: =ROW(Source!A30) -> 30 | B13: 13297544 | C13: 13297528 | D13: 12117044 | E13: 1 | F13: 1 | G13: 1 | H13: 3 | I13: 999-9950 | J13: ССЦ Челябинская область (2009) ч.9,разд.99,поз.9950 | K13: Вспомогательные материалы (2% от ОЗП) | L13: 1344 | N13: 1008 | O13: руб. | P13: руб. | Q13: 1 | Y13: 3.55 | AA13: 1 | AB13: 0 | AC13: 0 | AD13: 0 | AN13: 0 | AO13: 1 | AP13: 0 | AQ13: 0 | AR13: 0 | AT13: 3.55 | AV13: 0 | AW13: 2 | AX13: 13297544 | AY13: 1 | AZ13: 0 | BA13: 13 | BB13: 0 | BC13: 0 | BD13: 0 | BE13: 0 | BF13: 0 | BG13: 0 | BH13: 0 | BI13: 0 | BJ13: 0 | BK13: 0 | BL13: 0 | BM13: 0 | BN13: 0 | BO13: 0 | BP13: 0 | BQ13: 0 | BR13: 0 | BS13: 0 | BT13: 0 | BU13: 0 | BV13: 0 | BW13: 0 | CB13: 0
A14: =ROW(Source!A31) -> 31 | B14: 13297545 | C14: 13297529 | D14: 12389761 | E14: 1 | F14: 1 | G14: 1 | H14: 1 | I14: 1-2042-74 | K14: Рабочий монтажник среднего разряда 4,2 | L14: 1369 | N14: 1013 | O14: чел.-ч | P14: чел.-ч | Q14: 1 | Y14: 4.029 | AA14: 0 | AB14: 0 | AC14: 0 | AD14: 12.54 | AN14: 0 | AO14: 1 | AP14: 1 | AQ14: 0 | AR14: 0 | AT14: 2.37 | AU14: *1,7 | AV14: 1 | AW14: 2 | AX14: 13297545 | AY14: 1 | AZ14: 0 | BA14: 14 | BB14: 0 | BC14: 0 | BD14: 0 | BE14: 0 | BF14: 0 | BG14: 0 | BH14: 0 | BI14: 0 | BJ14: 0 | BK14: 0 | BL14: 0 | BM14: 0 | BN14: 0 | BO14: 0 | BP14: 0 | BQ14: 0 | BR14: 0 | BS14: 0 | BT14: 0 | BU14: 0 | BV14: 0 | BW14: 0 | CB14: 0
A15: =ROW(Source!A31) -> 31 | B15: 13297546 | C15: 13297529 | D15: 121548 | E15: 1 | F15: 1 | G15: 1 | H15: 1 | I15: 2 | K15: Затраты труда машинистов | L15: 608254 | N15: 1013 | O15: чел.час | P15: чел.час | Q15: 1 | Y15: 0.493 | AA15: 0 | AB15: 0 | AC15: 0 | AD15: 0 | AN15: 0 | AO15: 1 | AP15: 1 | AQ15: 0 | AR15: 0 | AT15: 0.29 | AU15: *1,7 | AV15: 2 | AW15: 2 | AX15: 13297546 | AY15: 1 | AZ15: 0 | BA15: 15 | BB15: 0 | BC15: 0 | BD15: 0 | BE15: 0 | BF15: 0 | BG15: 0 | BH15: 0 | BI15: 0 | BJ15: 0 | BK15: 0 | BL15: 0 | BM15: 0 | BN15: 0 | BO15: 0 | BP15: 0 | BQ15: 0 | BR15: 0 | BS15: 0 | BT15: 0 | BU15: 0 | BV15: 0 | BW15: 0 | CB15: 0
