Workbook

Sheet Смета 12 гр. по ФЕР
A1: =Source!B1 -> Smeta.RU (495) 974-1589
H3: Приложение № 1 к Приложению № 4
H4: к извещению о проведении
H5: запроса котировок в электронной форме
B10: СМЕТА
B12: =IF(Source!G20<>"Новая локальная смета", Source!G20, "")
B14: =IF(Source!G12<>"Новый объект", Source!G12, "") -> Капитальный ремонт помещения женского санузла 2-го этажа здания учебного корпуса Озерского технологического института-филиала НИЯУ МИФИ (ОТИ НИЯУ МИФИ) по адресу: г. Озерск, Челябинская область, проспект Победы, д. 48 | AD14: =IF(Source!G12<>"Новый объект", Source!G12, "") -> Капитальный ремонт помещения женского санузла 2-го этажа здания учебного корпуса Озерского технологического института-филиала НИЯУ МИФИ (ОТИ НИЯУ МИФИ) по адресу: г. Озерск, Челябинская область, проспект Победы, д. 48
G17: базовая цена | I17: текущая цена
C18: Сметная стоимость | G18: =SUM(O27:O423)/1000 -> 66.88419 | I18: =(Source!P205/1000) -> 482.39099 | K18: тыс. руб.
C19: Строительные работы | G19: =SUM(W27:W423)/1000 -> 65.92478 | I19: =(Source!P192)/1000 -> 402.94384 | K19: тыс. руб.
C20: Монтажные работы | G20: =SUM(X27:X423)/1000 -> 0.95941 | I20: =(Source!P193)/1000 -> 5.86208 | K20: тыс. руб.
C21: Нормативная трудоемкость | G21: =I21 -> 613.73127 | I21: =(Source!P197+Source!P198) -> 613.73127 | K21: чел. -ч.
C22: Средства на оплату труда | G22: =SUM(R27:R423)/1000 -> 5.44533 | I22: =((Source!P190 + Source!P189)/1000) -> 33.27063 | K22: тыс. руб.
A24: Составлена в ценах II квартал 2018 года
A25: № п/п | B25: Шифр расценки и коды ресурсов | C25: Наименование работ и затрат | D25: Ед. изм. | E25: Кол-во единиц | F25: Цена на ед. изм. | G25: Попра-вочные коэфф. | H25: Стоимость в ценах 2001г. | I25: Пункт коэфф. пересчета | J25: Коэфф. пересчета | K25: Стоимость в текущих ценах | L25: ЗТР всего чел.-час
A26: 1 | B26: 2 | C26: 3 | D26: 4 | E26: 5 | F26: 6 | G26: 7 | H26: 8 | I26: 9 | J26: 10 | K26: 11 | L26: 12
A27: =Source!E25 -> 1 | B27: =Source!F25 -> 46-04-012-01 | C27: =Source!G25 -> Разборка деревянных заполнений проемов оконных с подоконными досками | D27: =Source!H25 -> 100 м2 | E27: =Source!I25 -> 0.0324 | F27: =Source!AL25+Source!AM25+Source!AO25 -> 1767.24 | I27: =Source!BO25 | S27: =ROUND((Source!FX25/100)*((ROUND(Source!AF25*Source!I25, 2)+ROUND(Source!AE25*Source!I25, 2))), 2) -> 52.28 | T27: =Source!X25 -> 319.41 | U27: =ROUND((Source!FY25/100)*((ROUND(Source!AF25*Source!I25, 2)+ROUND(Source!AE25*Source!I25, 2))), 2) -> 31.42 | V27: =Source!Y25 -> 193.58
C28: ="Объем: "&Source!I25&"=3,24/"&"100" -> Объем: 0,0324=3,24/100
C29: Зарплата | F29: =Source!AO25 -> 1525.29 | G29: =Source!DG25 | H29: =ROUND(Source!AF25*Source!I25, 2) -> 49.42 | J29: =IF(Source!BA25<> 0, Source!BA25, 1) -> 6.11 | K29: =Source!S25 -> 301.95 | R29: =H29 -> 49.42
C30: Эксплуатация машин | F30: =Source!AM25 -> 241.95 | G30: =Source!DE25 | H30: =ROUND(Source!AD25*Source!I25, 2) -> 7.84 | J30: =IF(Source!BB25<> 0, Source!BB25, 1) -> 6.11 | K30: =Source!Q25 -> 47.9
C31: в т.ч. зарплата машинистов | F31: =Source!AN25 -> 104.49 | G31: =Source!DF25 | H31: =ROUND(Source!AE25*Source!I25, 2) -> 3.39 | J31: =IF(Source!BS25<> 0, Source!BS25, 1) -> 6.11 | K31: =Source!R25 -> 20.69 | R31: =H31 -> 3.39
C32: НР от ФОТ | D32: % | E32: =Source!BZ25 -> 110 | F32: =CONCATENATE(" )", Source!DL25, Source!FT25, "=", Source!FX25) -> )*0,9=99 | H32: =SUM(S27:S34) -> 52.28 | J32: =Source!AT25 -> 99 | K32: =SUM(T27:T34) -> 319.41
C33: СП от ФОТ | D33: % | E33: =Source!CA25 -> 70 | F33: =CONCATENATE(" )", Source!DM25, Source!FU25, "=", Source!FY25) -> )*0,85=59,5 | H33: =SUM(U27:U34) -> 31.42 | J33: =Source!AU25 -> 60 | K33: =SUM(V27:V34) -> 193.58
C34: Затраты труда | D34: чел-ч | E34: =Source!AQ25 -> 188.54 | G34: =Source!DI25 | L34: =Source!U25 -> 6.108696
G35: =H29+H30+H32+H33 -> 140.96 | J35: =K29+K30+K32+K33 -> 862.84 | L35: =Source!U25 -> 6.108696 | O35: =G35 -> 140.96 | P35: =J35 -> 862.84 | Q35: =L35 -> 6.108696 | W35: =IF(Source!BI25<=1,H29+H30+H32+H33, 0) -> 140.96 | X35: =IF(Source!BI25=2,H29+H30+H32+H33, 0) -> 0 | Y35: =IF(Source!BI25=3,H29+H30+H32+H33, 0) -> 0 | Z35: =IF(Source!BI25=4,H29+H30+H32+H33, 0) -> 0
A36: =Source!E27 -> 2 | B36: =Source!F27 -> 10-01-034-06 | C36: =Source!G27 -> Установка в жилых и общественных зданиях оконных блоков из ПВХ профилей поворотных (откидных, поворотно-откидных) с площадью проема более 2 м2 двухстворчатых | D36: =Source!H27 -> 100 м2 | E36: =Source!I27 -> 0.0324 | F36: =Source!AL27+Source!AM27+Source!AO27 -> 9827.15 | I36: =Source!BO27 | S36: =ROUND((Source!FX27/100)*((ROUND(Source!AF27*Source!I27, 2)+ROUND(Source!AE27*Source!I27, 2))), 2) -> 52.56 | T36: =Source!X27 -> 320.53 | U36: =ROUND((Source!FY27/100)*((ROUND(Source!AF27*Source!I27, 2)+ROUND(Source!AE27*Source!I27, 2))), 2) -> 26.5 | V36: =Source!Y27 -> 163.29
C37: ="Объем: "&Source!I27&"=3,24/"&"100" -> Объем: 0,0324=3,24/100
C38: Зарплата | F38: =Source!AO27 -> 1273.59 | G38: =Source!DG27 -> )*1,15 | H38: =ROUND(Source!AF27*Source!I27, 2) -> 47.45 | J38: =IF(Source!BA27<> 0, Source!BA27, 1) -> 6.11 | K38: =Source!S27 -> 289.94 | R38: =H38 -> 47.45
C39: Эксплуатация машин | F39: =Source!AM27 -> 255.21 | G39: =Source!DE27 -> )*1,25 | H39: =ROUND(Source!AD27*Source!I27, 2) -> 10.34 | J39: =IF(Source!BB27<> 0, Source!BB27, 1) -> 6.11 | K39: =Source!Q27 -> 63.15
C40: в т.ч. зарплата машинистов | F40: =Source!AN27 -> 50.32 | G40: =Source!DF27 -> )*1,25 | H40: =ROUND(Source!AE27*Source!I27, 2) -> 2.04 | J40: =IF(Source!BS27<> 0, Source!BS27, 1) -> 6.11 | K40: =Source!R27 -> 12.45 | R40: =H40 -> 2.04
C41: Материальные ресурсы | F41: =Source!AL27 -> 8298.35 | G41: =Source!DD27 | H41: =ROUND(Source!AC27*Source!I27, 2) -> 268.87 | J41: =IF(Source!BC27<> 0, Source!BC27, 1) -> 6.11 | K41: =Source!P27 -> 1642.77
C42: НР от ФОТ | D42: % | E42: =Source!BZ27 -> 118 | F42: =CONCATENATE(" )", Source!DL27, Source!FT27, "=", Source!FX27) -> )*0,9=106,2 | H42: =SUM(S36:S45) -> 52.56 | J42: =Source!AT27 -> 106 | K42: =SUM(T36:T45) -> 320.53
C43: СП от ФОТ | D43: % | E43: =Source!CA27 -> 63 | F43: =CONCATENATE(" )", Source!DM27, Source!FU27, "=", Source!FY27) -> )*0,85=53,55 | H43: =SUM(U36:U45) -> 26.5 | J43: =Source!AU27 -> 54 | K43: =SUM(V36:V45) -> 163.29
C44: Затраты труда | D44: чел-ч | E44: =Source!AQ27 -> 145.72 | G44: =Source!DI27 -> )*1,15 | L44: =Source!U27 -> 5.4295272
A45: =Source!E29 -> 2,1 | B45: =Source!F29 -> 11.3.02.01-0019 | C45: =Source!G29 -> Блок оконный пластиковый двустворчатый, с глухой и поворотно-откидной створкой, двухкамерным стеклопакетом (42 мм), площадью до 3,5 м2 | D45: =Source!H29 -> м2 | E45: =Source!I29 -> 3.24 | F45: =Source!AL29+Source!AM29+Source!AO29 -> 2554.73 | H45: =ROUND(Source!AC29*Source!I29, 2)+ROUND(Source!AD29*Source!I29, 2)+ROUND(Source!AF29*Source!I29, 2) -> 8277.33 | J45: =IF(Source!BC29<> 0, Source!BC29, 1) -> 6.11 | K45: =Source!O29 -> 50574.46 | S45: =ROUND((Source!FX29/100)*((ROUND(Source!AF29*Source!I29, 2)+ROUND(Source!AE29*Source!I29, 2))), 2) -> 0 | T45: =Source!X29 -> 0 | U45: =ROUND((Source!FY29/100)*((ROUND(Source!AF29*Source!I29, 2)+ROUND(Source!AE29*Source!I29, 2))), 2) -> 0 | V45: =Source!Y29 -> 0 | W45: =IF(Source!BI29<=1,H45, 0) -> 8277.33 | X45: =IF(Source!BI29=2,H45, 0) -> 0 | Y45: =IF(Source!BI29=3,H45, 0) -> 0 | Z45: =IF(Source!BI29=4,H45, 0) -> 0
G46: =H38+H39+H41+H42+H43+SUM(H45:H45) -> 8683.05 | J46: =K38+K39+K41+K42+K43+SUM(K45:K45) -> 53054.14 | L46: =Source!U27 -> 5.4295272 | O46: =G46 -> 8683.05 | P46: =J46 -> 53054.14 | Q46: =L46 -> 5.4295272 | W46: =IF(Source!BI27<=1,H38+H39+H41+H42+H43, 0) -> 405.72 | X46: =IF(Source!BI27=2,H38+H39+H41+H42+H43, 0) -> 0 | Y46: =IF(Source!BI27=3,H38+H39+H41+H42+H43, 0) -> 0 | Z46: =IF(Source!BI27=4,H38+H39+H41+H42+H43, 0) -> 0
A47: =Source!E31 -> 3 | B47: =Source!F31 -> 10-01-035-03 | C47: =Source!G31 -> Установка подоконных досок из ПВХ в каменных стенах толщиной свыше 0,51 м | D47: =Source!H31 -> 100 м | E47: =Source!I31 -> 0.016 | F47: =Source!AL31+Source!AM31+Source!AO31 -> 6481.17 | I47: =Source!BO31 | S47: =ROUND((Source!FX31/100)*((ROUND(Source!AF31*Source!I31, 2)+ROUND(Source!AE31*Source!I31, 2))), 2) -> 3.66 | T47: =Source!X31 -> 22.3 | U47: =ROUND((Source!FY31/100)*((ROUND(Source!AF31*Source!I31, 2)+ROUND(Source!AE31*Source!I31, 2))), 2) -> 1.85 | V47: =Source!Y31 -> 11.36
C48: ="Объем: "&Source!I31&"=1,6/"&"100" -> Объем: 0,016=1,6/100
C49: Зарплата | F49: =Source!AO31 -> 182.37 | G49: =Source!DG31 -> )*1,15 | H49: =ROUND(Source!AF31*Source!I31, 2) -> 3.36 | J49: =IF(Source!BA31<> 0, Source!BA31, 1) -> 6.11 | K49: =Source!S31 -> 20.5 | R49: =H49 -> 3.36
C50: Эксплуатация машин | F50: =Source!AM31 -> 21.9 | G50: =Source!DE31 -> )*1,25 | H50: =ROUND(Source!AD31*Source!I31, 2) -> 0.44 | J50: =IF(Source!BB31<> 0, Source!BB31, 1) -> 6.11 | K50: =Source!Q31 -> 2.68
...

Sheet Акт КС-2 c НР и СП
A1: =Source!B1 -> Smeta.RU (495) 974-1589
E2: Унифицированная форма № КС-2
E3: Утверждена постановлением Госкомстата России
E4: от 11.11.99. № 100
G6: Код
F7: Форма по ОКУД | G7: 0322005
G8: =IF(Source!AT15 <> "", Source!AT15, "")
A9: Инвестор | C9: =IF(Source!BA15 <> "", Source!BA15, IF(Source!AU15 <> "", Source!AU15, "")) | F9: по ОКПО
C10: организация, адрес, телефон, факс | G10: =IF(Source!AK15 <> "", Source!AK15, "")
A11: Заказчик | C11: =IF(Source!AX12<> "", Source!AX12, IF(Source!AJ12 <> "", Source!AJ12, "")) | F11: по ОКПО
C12: организация, адрес, телефон, факс | G12: =IF(Source!AO15 <> "", Source!AO15, "")
A13: Подрядчик | C13: =IF(Source!AY12<> "", Source!AY12, IF(Source!AN12 <> "", Source!AN12, "")) | F13: по ОКПО
C14: организация, адрес, телефон, факс | G14: =IF(Source!CO15 <> "", Source!CO15, "")
A15: Стройка | C15: Капитальный ремонт помещений №70/74 2-го этажа женского санузла здания учебного корпуса Озерского технологического института-филиала НИЯУ МИФИ (ОТИ НИЯУ МИФИ) по адресу: г. Озерск, Челябинская область, проспект Победы, д. 48_(Копия) | AE15: Капитальный ремонт помещений №70/74 2-го этажа женского санузла здания учебного корпуса Озерского технологического института-филиала НИЯУ МИФИ (ОТИ НИЯУ МИФИ) по адресу: г. Озерск, Челябинская область, проспект Победы, д. 48_(Копия)
C16: наименование, адрес | G16: =IF(Source!CP15 <> "", Source!CP15, "")
A17: Объект | C17: =IF(Source!G12<>"Новый объект", Source!G12, "") -> Капитальный ремонт помещения женского санузла 2-го этажа здания учебного корпуса Озерского технологического института-филиала НИЯУ МИФИ (ОТИ НИЯУ МИФИ) по адресу: г. Озерск, Челябинская область, проспект Победы, д. 48 | AE17: =IF(Source!G12<>"Новый объект", Source!G12, "") -> Капитальный ремонт помещения женского санузла 2-го этажа здания учебного корпуса Озерского технологического института-филиала НИЯУ МИФИ (ОТИ НИЯУ МИФИ) по адресу: г. Озерск, Челябинская область, проспект Победы, д. 48
C18: наименование
D19: Вид деятельности по ОКДП | G19: =IF(Source!CQ15 <> "", Source!CQ15, "")
D20: Договор подряда | F20: номер | G20: =IF(Source!CR15 <> "", Source!CR15, "")
F21: дата | G21: =IF(Source!CS15 <> 0, Source!CS15, "")
F22: Вид операции | G22: =IF(Source!CT15 <> "", Source!CT15, "")
D24: Номер документа | E24: Дата составления | F24: Отчетный период
F25: с | G25: по
D26: =IF(Source!CN15 <> "", Source!CN15, "") | E26: 43362.649
A28: AKT
A29: О ПРИЕМКЕ ВЫПОЛНЕННЫХ РАБОТ
A31: Сметная (договорная) стоимость в соответствии с договором подряда (субподряда) | F31: =(Source!P237/1000) -> 482.39099 | H31: тыс.руб
A33: Номер | C33: Наименование работ | D33: Номер единичной расценки | E33: Единица измерения | F33: Выполнено работ
A34: по порядку | B34: поз. по смете | F34: Количество | G34: цена за единицу, руб | H34: стоимость, руб
A35: 1 | B35: 2 | C35: 3 | D35: 4 | E35: 5 | F35: 6 | G35: 7 | H35: 8
A37: =CONCATENATE("Локальная смета: ",IF(Source!G20<>"Новая локальная смета", Source!G20, "")) -> Локальная смета:
A38: 1 | B38: =Source!E25 -> 1 | C38: =Source!G25 -> Разборка деревянных заполнений проемов оконных с подоконными досками | D38: =Source!F25 -> 46-04-012-01 | E38: =Source!H25 -> 100 м2 | F38: =Source!I25 -> 0.0324 | G38: =Source!AB25 -> 1767.24 | H38: =Source!O25 -> 349.85 | T38: =Source!O25+Source!X25+Source!Y25 -> 862.84 | U38: =Source!P25 -> 0 | V38: =Source!S25 -> 301.95 | W38: =Source!Q25 -> 47.9 | X38: =Source!R25 -> 20.69 | Y38: =Source!U25 -> 6.108696 | Z38: =Source!V25 -> 0.250776 | AA38: =Source!X25 -> 319.41 | AB38: =Source!Y25 -> 193.58
C39: ="Объем: "&Source!I25&"=3,24/"&"100" -> Объем: 0,0324=3,24/100
C40: Коэфф. к ОЗП | D40: =Source!BA25 -> 6.11
C41: Коэфф. к эксплуатации машин | D41: =Source!BB25 -> 6.11
C42: Коэфф. к материалам | D42: =Source!BC25 -> 6.11
C43: Коэфф. к ЗПМ | D43: =Source!BS25 -> 6.11
C44: % НР | F44: =Source!BZ25 -> 110 | G44: =(Source!AF25+Source!AE25)*Source!FX25/100 -> 1613.4822 | H44: =Source!X25 -> 319.41
C45: % НР с поправкой | G45: =CONCATENATE(Source!DL25,Source!FT25, "=", Source!FX25, "%") -> *0,9=99% | H45: =CONCATENATE(Source!AT25) -> 99
C46: % СП | F46: =Source!CA25 -> 70 | G46: =(Source!AF25+Source!AE25)*Source!FY25/100 -> 969.7191 | H46: =Source!Y25 -> 193.58
...

Sheet Макет форма-3
A1: =Source!B1 -> Smeta.RU (495) 974-1589 | H1: Унифицированная форма № КС-3
H2: Утверждена постановлением Госкомстата России
H3: от 11.11.99. № 100
K4: Коды
I5: Форма по ОКУД | K5: 322001
A6: Инвестор | J6: по ОКПО
C7: организация, адрес, телефон, факс
A8: Заказчик (генподрядчик) | J8: по ОКПО
C9: организация, адрес, телефон, факс
A10: Подрядчик (субподрядчик) | J10: по ОКПО
C11: организация, адрес, телефон, факс
A12: Стройка | J12: по ОКПО
C13: наименование, адрес | H13: Вид деятельности по ОКДП
E14: Договор подряда (контракт) | I14: номер
I15: дата
I16: Вид операции
C19: Номер документа | E19: Дата составления | I19: Отчетный период
I20: с | K20: по
A24: СПРАВКА
A25: СТОИМОСТИ ВЫПОЛНЕННЫХ РАБОТ И ЗАТРАТ
A28: № п/п | B28: Наименование пусковых комплексов, объектов, видов работ, оборудования, затрат | F28: Код | G28: Стоимость выполненных работ и затрат
G29: с начала проведения работ | I29: с начала года по отчетный период включительно | K29: в том числе за отчетный месяц
A33: 1 | B33: 2 | F33: 3 | G33: 4 | I33: 5 | K33: 6
B34: Всего работ и затрат, включаемых в стоимость
B35: В том числе:
A36: Итого
A37: Сумма НДС
A38: Всего с учетом НДС
A42: Заказчик (генподрядчик)
C43: должность | G43: подпись | J43: расшифровка подпись
A45: МП
A49: Подрядчик (субподрядчик)
C50: должность | G50: подпись | J50: расшифровка подпись
A52: МП

Sheet Source
A1: 0 | B1: Smeta.RU (495) 974-1589 | D1: _PS_ | F1: 0 | G1: 0 | H1: 0 | I1: Smeta.RU | J1: НИЯУ МИФИ Доп. раб. место MCCS-0027251 | K1: 0 | L1: 27251 | M1: 10 | N1: 10 | O1: 1 | P1: 0 | Q1: 8
A12: 1 | B12: 268 | C12: 0 | D12: =ROW(A207) -> 207 | E12: 0 | F12: Новый объект_(Копия) | G12: Капитальный ремонт помещения женского санузла 2-го этажа здания учебного корпуса Озерского технологического института-филиала НИЯУ МИФИ (ОТИ НИЯУ МИФИ) по адресу: г. Озерск, Челябинская область, проспект Победы, д. 48 | I12: 0 | K12: 0 | O12: 0 | P12: 0 | Q12: 0 | R12: 0 | S12: 0 | V12: 0 | BH12: Сметные нормы списания | BI12: Коды ценников | BJ12: 1 | BK12: 1 | BL12: 0 | BM12: 0 | BN12: 1 | BO12: 0 | BP12: 2 | BQ12: 2 | BR12: 1 | BS12: 1 | BT12: 0 | BU12: 0 | BV12: 0 | BW12: 0 | BX12: 0 | BY12: ФЕР-2017 | BZ12: ТР для Версии 10: Центральные регионы (с учетом п-ма 2536-ИП/12/ГС от 22.03.2017 г | CA12: ФЕР-2017 | CB12: ФЕР-2017 | CC12: ФЕР-2017 | CD12: ФЕР-2017 | CE12: Поправки для ГСН 2017 от 31.03.2017 г | CF12: 0 | CG12: 0 | CH12: 524288 | CK12: 4 | EC12: 0
A15: 15 | B15: 1
A18: 52 | B18: =B207 -> 268 | C18: =C207 -> 1 | D18: =D207 -> 12 | E18: =E207 -> 0 | F18: =F207 -> Новый объект_(Копия) | G18: =G207 -> Капитальный ремонт помещения женского санузла 2-го этажа здания учебного корпуса Озерского технологического института-филиала НИЯУ МИФИ (ОТИ НИЯУ МИФИ) по адресу: г. Озерск, Челябинская область, проспект Победы, д. 48 | O18: =O207 -> 58075.45 | P18: =P207 -> 52215.54 | Q18: =Q207 -> 519.42 | R18: =R207 -> 104.84 | S18: =S207 -> 5340.49 | T18: =T207 -> 0 | U18: =U207 -> 604.95367 | V18: =V207 -> 8.777601 | ... GX18: =GX207 -> 0
A20: 3 | B20: 1 | D20: =ROW(A175) -> 175 | F20: Новая локальная смета | G20: Новая локальная смета | I20: 0 | K20: 0 | V20: 0 | BX20: 0 | CF20: 0 | CG20: 0
A22: 52 | B22: =B175 -> 1 | C22: =C175 -> 3 | D22: =D175 -> 20 | E22: =E175 -> 0 | F22: =F175 -> Новая локальная смета | G22: =G175 -> Новая локальная смета | O22: =O175 -> 58075.45 | P22: =P175 -> 52215.54 | Q22: =Q175 -> 519.42 | R22: =R175 -> 104.84 | S22: =S175 -> 5340.49 | T22: =T175 -> 0 | U22: =U175 -> 604.95367 | V22: =V175 -> 8.777601 | ... GX22: =GX175 -> 0
A24: 17 | B24: 1 | C24: =ROW(SmtRes!A3) -> 3 | D24: =ROW(EtalonRes!A3) -> 3 | E24: 1 | F24: 46-04-012-01 | G24: Разборка деревянных заполнений проемов оконных с подоконными досками | H24: 100 м2 | I24: =ROUND(3.24/100,9) -> 0.0324 | J24: 0 | O24: =ROUND(CP24,2) -> 57.26 | P24: =ROUND(CQ24*I24,2) -> 0 | Q24: =ROUND(CR24*I24,2) -> 7.84 | R24: =ROUND(CS24*I24,2) -> 3.39 | S24: =ROUND(CT24*I24,2) -> 49.42 | T24: =ROUND(CU24*I24,2) -> 0 | U24: =CV24*I24 -> 6.108696 | V24: =CW24*I24 -> 0.250776 | W24: =ROUND(CX24*I24,2) -> 0 | X24: =ROUND(CY24,2) -> 52.28 | Y24: =ROUND(CZ24,2) -> 31.69 | AA24: 16784195 | AB24: =ROUND((AC24+AD24+AF24),2) -> 1767.24 | AC24: =ROUND((ES24),2) -> 0 | AD24: =ROUND((((ET24)-(EU24))+AE24),2) -> 241.95 | AE24: =ROUND((EU24),2) -> 104.49 | AF24: =ROUND((EV24),2) -> 1525.29 | AG24: =ROUND((AP24),2) -> 0 | AH24: =(EW24) -> 188.54 | AI24: =(EX24) -> 7.74 | AJ24: =(AS24) -> 0 | AK24: 1767.24 | AL24: 0 | AM24: 241.95 | AN24: 104.49 | AO24: 1525.29 | AP24: 0 | AQ24: 188.54 | AR24: 7.74 | AS24: 0 | AT24: 99 | AU24: 60 | AV24: 1 | AW24: 1 | AZ24: 1 | BA24: 1 | BB24: 1 | BC24: 1 | BH24: 0 | BI24: 1 | BJ24: ФЕР-2001, 46-04-012-01, приказ Минстроя России №1039/пр от 30.12.2016г. | BM24: 46001 | BN24: 0 | BP24: 0 | BQ24: 2 | BR24: 0 | BS24: 1 | BT24: 1 | BU24: 1 | BV24: 1 | BW24: 1 | BX24: 1 | BZ24: 110 | CA24: 70 | CE24: 0 | CF24: 0 | CG24: 0 | CM24: 0 | CO24: 0 | CP24: =(P24+Q24+S24) -> 57.26 | CQ24: =AC24*BC24 -> 0 | CR24: =AD24*BB24 -> 241.95 | CS24: =AE24*BS24 -> 104.49 | CT24: =AF24*BA24 -> 1525.29 | CU24: =AG24 -> 0 | CV24: =AH24 -> 188.54 | CW24: =AI24 -> 7.74 | CX24: =AJ24 -> 0 | CY24: =(((S24+R24)*AT24)/100) -> 52.2819 | CZ24: =(((S24+R24)*AU24)/100) -> 31.686 | DN24: 0 | DO24: 0 | DP24: 1 | DQ24: 1 | DU24: 1005 | DV24: 100 м2 | DW24: 100 м2 | DX24: 100 | EE24: 16510555 | EF24: 2 | EG24: Общестроительные работы | EH24: 0 | EJ24: 1 | EK24: 46001 | EL24: Реконструкция зданий и сооружений | EM24: ФЕР-46 | EQ24: 131072 | ER24: 1767.24 | ES24: 0 | ET24: 241.95 | EU24: 104.49 | EV24: 1525.29 | EW24: 188.54 | EX24: 7.74 | EY24: 0 | FQ24: 0 | FR24: =ROUND(IF(AND(BH24=3,BI24=3),P24,0),2) -> 0 | FS24: 0 | FT24: *0,9 | FU24: *0,85 | FX24: 99 | FY24: 59.5 | GD24: 0 | GF24: 1630687704 | GG24: 2 | GH24: 1 | GI24: -2 | GJ24: 0 | GK24: =ROUND(R24*(R12)/100,2) -> 0 | GL24: =ROUND(IF(AND(BH24=3,BI24=3,FS24<>0),P24,0),2) -> 0 | GM24: =ROUND(O24+X24+Y24+GK24,2)+GX24 -> 141.23 | GN24: =IF(OR(BI24=0,BI24=1),ROUND(O24+X24+Y24+GK24,2),0) -> 141.23 | GO24: =IF(BI24=2,ROUND(O24+X24+Y24+GK24,2),0) -> 0 | GP24: =IF(BI24=4,ROUND(O24+X24+Y24+GK24,2)+GX24,0) -> 0 | GR24: 0 | GS24: 3 | GT24: 0 | GV24: =ROUND((GT24),2) -> 0 | GW24: 1 | GX24: =ROUND(HC24*I24,2) -> 0 | HA24: 0 | HB24: 0 | HC24: =GV24*GW24 -> 0 | IK24: 0
A25: 17 | B25: 1 | C25: =ROW(SmtRes!A6) -> 6 | D25: =ROW(EtalonRes!A6) -> 6 | E25: 1 | F25: 46-04-012-01 | G25: Разборка деревянных заполнений проемов оконных с подоконными досками | H25: 100 м2 | I25: =ROUND(3.24/100,9) -> 0.0324 | J25: 0 | O25: =ROUND(CP25,2) -> 349.85 | P25: =ROUND(CQ25*I25,2) -> 0 | Q25: =ROUND(CR25*I25,2) -> 47.9 | R25: =ROUND(CS25*I25,2) -> 20.69 | S25: =ROUND(CT25*I25,2) -> 301.95 | T25: =ROUND(CU25*I25,2) -> 0 | U25: =CV25*I25 -> 6.108696 | V25: =CW25*I25 -> 0.250776 | W25: =ROUND(CX25*I25,2) -> 0 | X25: =ROUND(CY25,2) -> 319.41 | Y25: =ROUND(CZ25,2) -> 193.58 | AA25: 16784196 | AB25: =ROUND((AC25+AD25+AF25),2) -> 1767.24 | AC25: =ROUND((ES25),2) -> 0 | AD25: =ROUND((((ET25)-(EU25))+AE25),2) -> 241.95 | AE25: =ROUND((EU25),2) -> 104.49 | AF25: =ROUND((EV25),2) -> 1525.29 | AG25: =ROUND((AP25),2) -> 0 | AH25: =(EW25) -> 188.54 | AI25: =(EX25) -> 7.74 | AJ25: =(AS25) -> 0 | AK25: 1767.24 | AL25: 0 | AM25: 241.95 | AN25: 104.49 | AO25: 1525.29 | AP25: 0 | AQ25: 188.54 | AR25: 7.74 | AS25: 0 | AT25: 99 | AU25: 60 | AV25: 1 | AW25: 1 | AZ25: 6.11 | BA25: 6.11 | BB25: 6.11 | BC25: 6.11 | BH25: 0 | BI25: 1 | BJ25: ФЕР-2001, 46-04-012-01, приказ Минстроя России №1039/пр от 30.12.2016г. | BM25: 46001 | BN25: 0 | BP25: 0 | BQ25: 2 | BR25: 0 | BS25: 6.11 | BT25: 1 | BU25: 1 | BV25: 1 | BW25: 1 | BX25: 1 | BZ25: 110 | CA25: 70 | CE25: 0 | CF25: 0 | CG25: 0 | CM25: 0 | CO25: 0 | CP25: =(P25+Q25+S25) -> 349.85 | CQ25: =AC25*BC25 -> 0 | CR25: =AD25*BB25 -> 1478.3145 | CS25: =AE25*BS25 -> 638.4339 | CT25: =AF25*BA25 -> 9319.5219 | CU25: =AG25 -> 0 | CV25: =AH25 -> 188.54 | CW25: =AI25 -> 7.74 | CX25: =AJ25 -> 0 | CY25: =(((S25+R25)*AT25)/100) -> 319.4136 | CZ25: =(((S25+R25)*AU25)/100) -> 193.584 | DN25: 0 | DO25: 0 | DP25: 1 | DQ25: 1 | DU25: 1005 | DV25: 100 м2 | DW25: 100 м2 | DX25: 100 | EE25: 16510555 | EF25: 2 | EG25: Общестроительные работы | EH25: 0 | EJ25: 1 | EK25: 46001 | EL25: Реконструкция зданий и сооружений | EM25: ФЕР-46 | EQ25: 131072 | ER25: 1767.24 | ES25: 0 | ET25: 241.95 | EU25: 104.49 | EV25: 1525.29 | EW25: 188.54 | EX25: 7.74 | EY25: 0 | FQ25: 0 | FR25: =ROUND(IF(AND(BH25=3,BI25=3),P25,0),2) -> 0 | FS25: 0 | FT25: *0,9 | FU25: *0,85 | FX25: 99 | FY25: 59.5 | GD25: 0 | GF25: 1630687704 | GG25: 1 | GH25: 1 | GI25: 4 | GJ25: 0 | GK25: =ROUND(R25*(S12)/100,2) -> 0 | GL25: =ROUND(IF(AND(BH25=3,BI25=3,FS25<>0),P25,0),2) -> 0 | GM25: =ROUND(O25+X25+Y25+GK25,2)+GX25 -> 862.84 | GN25: =IF(OR(BI25=0,BI25=1),ROUND(O25+X25+Y25+GK25,2),0) -> 862.84 | GO25: =IF(BI25=2,ROUND(O25+X25+Y25+GK25,2),0) -> 0 | GP25: =IF(BI25=4,ROUND(O25+X25+Y25+GK25,2)+GX25,0) -> 0 | GR25: 0 | GS25: 3 | GT25: 0 | GV25: =ROUND((GT25),2) -> 0 | GW25: 1 | GX25: =ROUND(HC25*I25,2) -> 0 | HA25: 0 | HB25: 0 | HC25: =GV25*GW25 -> 0 | IK25: 0
A26: 17 | B26: 1 | C26: =ROW(SmtRes!A17) -> 17 | D26: =ROW(EtalonRes!A17) -> 17 | E26: 2 | F26: 10-01-034-06 | G26: Установка в жилых и общественных зданиях оконных блоков из ПВХ профилей поворотных (откидных, поворотно-откидных) с площадью проема более 2 м2 двухстворчатых | H26: 100 м2 | I26: =ROUND(3.24/100,9) -> 0.0324 | J26: 0 | O26: =ROUND(CP26,2) -> 326.66 | P26: =ROUND(CQ26*I26,2) -> 268.87 | Q26: =ROUND(CR26*I26,2) -> 10.34 | R26: =ROUND(CS26*I26,2) -> 2.04 | S26: =ROUND(CT26*I26,2) -> 47.45 | T26: =ROUND(CU26*I26,2) -> 0 | U26: =CV26*I26 -> 5.4295272 | V26: =CW26*I26 -> 0.171315 | W26: =ROUND(CX26*I26,2) -> 0 | X26: =ROUND(CY26,2) -> 52.46 | Y26: =ROUND(CZ26,2) -> 26.72 | AA26: 16784195 | AB26: =ROUND((AC26+AD26+AF26),2) -> 10081.99 | AC26: =ROUND((ES26),2) -> 8298.35 | AD26: =ROUND(((((ET26*1.25))-((EU26*1.25)))+AE26),2) -> 319.01 | AE26: =ROUND(((EU26*1.25)),2) -> 62.9 | AF26: =ROUND(((EV26*1.15)),2) -> 1464.63 | AG26: =ROUND((AP26),2) -> 0 | AH26: =((EW26*1.15)) -> 167.578 | AI26: =((EX26*1.25)) -> 5.2875 | AJ26: =(AS26) -> 0 | AK26: 9827.15 | AL26: 8298.35 | AM26: 255.21 | AN26: 50.32 | AO26: 1273.59 | AP26: 0 | AQ26: 145.72 | AR26: 4.23 | AS26: 0 | AT26: 106 | AU26: 54 | AV26: 1 | AW26: 1 | AZ26: 1 | BA26: 1 | BB26: 1 | BC26: 1 | BH26: 0 | BI26: 1 | BJ26: ФЕР-2001, 10-01-034-06, приказ Минстроя России №1039/пр от 30.12.2016г. | BM26: 10001 | BN26: 0 | BP26: 0 | BQ26: 2 | BR26: 0 | BS26: 1 | BT26: 1 | BU26: 1 | BV26: 1 | BW26: 1 | BX26: 1 | BZ26: 118 | CA26: 63 | CE26: 0 | CF26: 0 | CG26: 0 | CM26: 0 | CN26: Поправка: МДС 81-35.2004, п.4.7 Наименование: Работы, выполняемые при реконструкции зданий и сооружений работы, аналогичные технологическим процессам в новом строительстве (в том числе возведение новых конструктивных элементов) стоимость которых определена по соответствующим сборникам ФЕР, кроме сборника № 46 «Работы при реконструкции зданий и сооружений» | CO26: 0 | CP26: =(P26+Q26+S26) -> 326.66 | CQ26: =AC26*BC26 -> 8298.35 | CR26: =AD26*BB26 -> 319.01 | CS26: =AE26*BS26 -> 62.9 | CT26: =AF26*BA26 -> 1464.63 | CU26: =AG26 -> 0 | CV26: =AH26 -> 167.578 | CW26: =AI26 -> 5.2875 | CX26: =AJ26 -> 0 | CY26: =(((S26+R26)*AT26)/100) -> 52.4594 | CZ26: =(((S26+R26)*AU26)/100) -> 26.7246 | DE26: )*1,25 | DF26: )*1,25 | DG26: )*1,15 | DI26: )*1,15 | DJ26: )*1,25 | DN26: 0 | DO26: 0 | DP26: 1 | DQ26: 1 | DU26: 1005 | DV26: 100 м2 | DW26: 100 м2 | DX26: 100 | EE26: 16510487 | EF26: 2 | EG26: Общестроительные работы | EH26: 0 | EJ26: 1 | EK26: 10001 | EL26: Деревянные конструкции | EM26: ФЕР-10 | EO26: Поправка: МДС 81-35.2004, п.4.7 | EQ26: 131072 | ER26: 9827.15 | ES26: 8298.35 | ET26: 255.21 | EU26: 50.32 | EV26: 1273.59 | EW26: 145.72 | EX26: 4.23 | EY26: 0 | FQ26: 0 | FR26: =ROUND(IF(AND(BH26=3,BI26=3),P26,0),2) -> 0 | FS26: 0 | FT26: *0,9 | FU26: *0,85 | FX26: 106.2 | FY26: 53.55 | GD26: 0 | GF26: 1452579699 | GG26: 2 | GH26: 1 | GI26: -2 | GJ26: 0 | GK26: =ROUND(R26*(R12)/100,2) -> 0 | GL26: =ROUND(IF(AND(BH26=3,BI26=3,FS26<>0),P26,0),2) -> 0 | GM26: =ROUND(O26+X26+Y26+GK26,2)+GX26 -> 405.84 | GN26: =IF(OR(BI26=0,BI26=1),ROUND(O26+X26+Y26+GK26,2),0) -> 405.84 | GO26: =IF(BI26=2,ROUND(O26+X26+Y26+GK26,2),0) -> 0 | GP26: =IF(BI26=4,ROUND(O26+X26+Y26+GK26,2)+GX26,0) -> 0 | GR26: 0 | GS26: 3 | GT26: 0 | GV26: =ROUND((GT26),2) -> 0 | GW26: 1 | GX26: =ROUND(HC26*I26,2) -> 0 | HA26: 0 | HB26: 0 | HC26: =GV26*GW26 -> 0 | IK26: 0
A27: 17 | B27: 1 | C27: =ROW(SmtRes!A28) -> 28 | D27: =ROW(EtalonRes!A28) -> 28 | E27: 2 | F27: 10-01-034-06 | G27: Установка в жилых и общественных зданиях оконных блоков из ПВХ профилей поворотных (откидных, поворотно-откидных) с площадью проема более 2 м2 двухстворчатых | H27: 100 м2 | I27: =ROUND(3.24/100,9) -> 0.0324 | J27: 0 | O27: =ROUND(CP27,2) -> 1995.86 | P27: =ROUND(CQ27*I27,2) -> 1642.77 | Q27: =ROUND(CR27*I27,2) -> 63.15 | R27: =ROUND(CS27*I27,2) -> 12.45 | S27: =ROUND(CT27*I27,2) -> 289.94 | T27: =ROUND(CU27*I27,2) -> 0 | U27: =CV27*I27 -> 5.4295272 | V27: =CW27*I27 -> 0.171315 | W27: =ROUND(CX27*I27,2) -> 0 | X27: =ROUND(CY27,2) -> 320.53 | Y27: =ROUND(CZ27,2) -> 163.29 | AA27: 16784196 | AB27: =ROUND((AC27+AD27+AF27),2) -> 10081.99 | AC27: =ROUND((ES27),2) -> 8298.35 | AD27: =ROUND(((((ET27*1.25))-((EU27*1.25)))+AE27),2) -> 319.01 | AE27: =ROUND(((EU27*1.25)),2) -> 62.9 | AF27: =ROUND(((EV27*1.15)),2) -> 1464.63 | AG27: =ROUND((AP27),2) -> 0 | AH27: =((EW27*1.15)) -> 167.578 | AI27: =((EX27*1.25)) -> 5.2875 | AJ27: =(AS27) -> 0 | AK27: 9827.15 | AL27: 8298.35 | AM27: 255.21 | AN27: 50.32 | AO27: 1273.59 | AP27: 0 | AQ27: 145.72 | AR27: 4.23 | AS27: 0 | AT27: 106 | AU27: 54 | AV27: 1 | AW27: 1 | AZ27: 6.11 | BA27: 6.11 | BB27: 6.11 | BC27: 6.11 | BH27: 0 | BI27: 1 | BJ27: ФЕР-2001, 10-01-034-06, приказ Минстроя России №1039/пр от 30.12.2016г. | BM27: 10001 | BN27: 0 | BP27: 0 | BQ27: 2 | BR27: 0 | BS27: 6.11 | BT27: 1 | BU27: 1 | BV27: 1 | BW27: 1 | BX27: 1 | BZ27: 118 | CA27: 63 | CE27: 0 | CF27: 0 | CG27: 0 | CM27: 0 | CN27: Поправка: МДС 81-35.2004, п.4.7 Наименование: Работы, выполняемые при реконструкции зданий и сооружений работы, аналогичные технологическим процессам в новом строительстве (в том числе возведение новых конструктивных элементов) стоимость которых определена по соответствующим сборникам ФЕР, кроме сборника № 46 «Работы при реконструкции зданий и сооружений» | CO27: 0 | CP27: =(P27+Q27+S27) -> 1995.86 | CQ27: =AC27*BC27 -> 50702.919 | CR27: =AD27*BB27 -> 1949.1511 | CS27: =AE27*BS27 -> 384.319 | CT27: =AF27*BA27 -> 8948.8893 | CU27: =AG27 -> 0 | CV27: =AH27 -> 167.578 | CW27: =AI27 -> 5.2875 | CX27: =AJ27 -> 0 | CY27: =(((S27+R27)*AT27)/100) -> 320.5334 | CZ27: =(((S27+R27)*AU27)/100) -> 163.2906 | DE27: )*1,25 | DF27: )*1,25 | DG27: )*1,15 | DI27: )*1,15 | DJ27: )*1,25 | DN27: 0 | DO27: 0 | DP27: 1 | DQ27: 1 | DU27: 1005 | DV27: 100 м2 | DW27: 100 м2 | DX27: 100 | EE27: 16510487 | EF27: 2 | EG27: Общестроительные работы | EH27: 0 | EJ27: 1 | EK27: 10001 | EL27: Деревянные конструкции | EM27: ФЕР-10 | EO27: Поправка: МДС 81-35.2004, п.4.7 | EQ27: 131072 | ER27: 9827.15 | ES27: 8298.35 | ET27: 255.21 | EU27: 50.32 | EV27: 1273.59 | EW27: 145.72 | EX27: 4.23 | EY27: 0 | FQ27: 0 | FR27: =ROUND(IF(AND(BH27=3,BI27=3),P27,0),2) -> 0 | FS27: 0 | FT27: *0,9 | FU27: *0,85 | FX27: 106.2 | FY27: 53.55 | GD27: 0 | GF27: 1452579699 | GG27: 1 | GH27: 1 | GI27: 4 | GJ27: 0 | GK27: =ROUND(R27*(S12)/100,2) -> 0 | GL27: =ROUND(IF(AND(BH27=3,BI27=3,FS27<>0),P27,0),2) -> 0 | GM27: =ROUND(O27+X27+Y27+GK27,2)+GX27 -> 2479.68 | GN27: =IF(OR(BI27=0,BI27=1),ROUND(O27+X27+Y27+GK27,2),0) -> 2479.68 | GO27: =IF(BI27=2,ROUND(O27+X27+Y27+GK27,2),0) -> 0 | GP27: =IF(BI27=4,ROUND(O27+X27+Y27+GK27,2)+GX27,0) -> 0 | GR27: 0 | GS27: 3 | GT27: 0 | GV27: =ROUND((GT27),2) -> 0 | GW27: 1 | GX27: =ROUND(HC27*I27,2) -> 0 | HA27: 0 | HB27: 0 | HC27: =GV27*GW27 -> 0 | IK27: 0
A28: 18 | B28: 1 | C28: 15 | E28: 2,1 | F28: 11.3.02.01-0019 | G28: Блок оконный пластиковый двустворчатый, с глухой и поворотно-откидной створкой, двухкамерным стеклопакетом (42 мм), площадью до 3,5 м2 | H28: м2 | I28: =I26*J28 -> 3.24 | J28: 100 | O28: =ROUND(CP28,2) -> 8277.33 | P28: =ROUND(CQ28*I28,2) -> 8277.33 | Q28: =ROUND(CR28*I28,2) -> 0 | R28: =ROUND(CS28*I28,2) -> 0 | S28: =ROUND(CT28*I28,2) -> 0 | T28: =ROUND(CU28*I28,2) -> 0 | U28: =CV28*I28 -> 0 | V28: =CW28*I28 -> 0 | W28: =ROUND(CX28*I28,2) -> 0 | X28: =ROUND(CY28,2) -> 0 | Y28: =ROUND(CZ28,2) -> 0 | AA28: 16784195 | AB28: =ROUND((AC28+AD28+AF28),2) -> 2554.73 | AC28: =ROUND((ES28),2) -> 2554.73 | AD28: =ROUND((((ET28)-(EU28))+AE28),2) -> 0 | AE28: =ROUND((EU28),2) -> 0 | AF28: =ROUND((EV28),2) -> 0 | AG28: =ROUND((AP28),2) -> 0 | AH28: =(EW28) -> 0 | AI28: =(EX28) -> 0 | AJ28: =(AS28) -> 0 | AK28: 2554.73 | AL28: 2554.73 | AM28: 0 | AN28: 0 | AO28: 0 | AP28: 0 | AQ28: 0 | AR28: 0 | AS28: 0 | AT28: 106 | AU28: 54 | AV28: 1 | AW28: 1 | AZ28: 1 | BA28: 1 | BB28: 1 | BC28: 1 | BH28: 3 | BI28: 1 | BJ28: ФССЦ-2001, 11.3.02.01-0019, приказ Минстроя России №1039/пр от 30.12.2016г. | BM28: 10001 | BN28: 0 | BP28: 0 | BQ28: 2 | BR28: 0 | BS28: 1 | BT28: 1 | BU28: 1 | BV28: 1 | BW28: 1 | BX28: 1 | BZ28: 118 | CA28: 63 | CE28: 0 | CF28: 0 | CG28: 0 | CM28: 0 | CO28: 0 | CP28: =(P28+Q28+S28) -> 8277.33 | CQ28: =AC28*BC28 -> 2554.73 | CR28: =AD28*BB28 -> 0 | CS28: =AE28*BS28 -> 0 | CT28: =AF28*BA28 -> 0 | CU28: =AG28 -> 0 | CV28: =AH28 -> 0 | CW28: =AI28 -> 0 | CX28: =AJ28 -> 0 | CY28: =(((S28+R28)*AT28)/100) -> 0 | CZ28: =(((S28+R28)*AU28)/100) -> 0 | DN28: 0 | DO28: 0 | DP28: 1 | DQ28: 1 | DU28: 1005 | DV28: м2 | DW28: м2 | DX28: 1 | EE28: 16510487 | EF28: 2 | EG28: Общестроительные работы | EH28: 0 | EJ28: 1 | EK28: 10001 | EL28: Деревянные конструкции | EM28: ФЕР-10 | EQ28: 0 | ER28: 2554.73 | ES28: 2554.73 | ET28: 0 | EU28: 0 | EV28: 0 | EW28: 0 | EX28: 0 | FQ28: 0 | FR28: =ROUND(IF(AND(BH28=3,BI28=3),P28,0),2) -> 0 | FS28: 0 | FT28: *0,9 | FU28: *0,85 | FX28: 106.2 | FY28: 53.55 | GD28: 0 | GF28: -1297984833 | GG28: 2 | GH28: 1 | GI28: -2 | GJ28: 0 | GK28: =ROUND(R28*(R12)/100,2) -> 0 | GL28: =ROUND(IF(AND(BH28=3,BI28=3,FS28<>0),P28,0),2) -> 0 | GM28: =ROUND(O28+X28+Y28+GK28,2)+GX28 -> 8277.33 | GN28: =IF(OR(BI28=0,BI28=1),ROUND(O28+X28+Y28+GK28,2),0) -> 8277.33 | GO28: =IF(BI28=2,ROUND(O28+X28+Y28+GK28,2),0) -> 0 | GP28: =IF(BI28=4,ROUND(O28+X28+Y28+GK28,2)+GX28,0) -> 0 | GR28: 0 | GS28: 3 | GT28: 0 | GV28: =ROUND((GT28),2) -> 0 | GW28: 1 | GX28: =ROUND(HC28*I28,2) -> 0 | HA28: 0 | HB28: 0 | HC28: =GV28*GW28 -> 0 | IK28: 0
A29: 18 | B29: 1 | C29: 26 | E29: 2,1 | F29: 11.3.02.01-0019 | G29: Блок оконный пластиковый двустворчатый, с глухой и поворотно-откидной створкой, двухкамерным стеклопакетом (42 мм), площадью до 3,5 м2 | H29: м2 | I29: =I27*J29 -> 3.24 | J29: 100 | O29: =ROUND(CP29,2) -> 50574.46 | P29: =ROUND(CQ29*I29,2) -> 50574.46 | Q29: =ROUND(CR29*I29,2) -> 0 | R29: =ROUND(CS29*I29,2) -> 0 | S29: =ROUND(CT29*I29,2) -> 0 | T29: =ROUND(CU29*I29,2) -> 0 | U29: =CV29*I29 -> 0 | V29: =CW29*I29 -> 0 | W29: =ROUND(CX29*I29,2) -> 0 | X29: =ROUND(CY29,2) -> 0 | Y29: =ROUND(CZ29,2) -> 0 | AA29: 16784196 | AB29: =ROUND((AC29+AD29+AF29),2) -> 2554.73 | AC29: =ROUND((ES29),2) -> 2554.73 | AD29: =ROUND((((ET29)-(EU29))+AE29),2) -> 0 | AE29: =ROUND((EU29),2) -> 0 | AF29: =ROUND((EV29),2) -> 0 | AG29: =ROUND((AP29),2) -> 0 | AH29: =(EW29) -> 0 | AI29: =(EX29) -> 0 | AJ29: =(AS29) -> 0 | AK29: 2554.73 | AL29: 2554.73 | AM29: 0 | AN29: 0 | AO29: 0 | AP29: 0 | AQ29: 0 | AR29: 0 | AS29: 0 | AT29: 106 | AU29: 54 | AV29: 1 | AW29: 1 | AZ29: 6.11 | BA29: 1 | BB29: 1 | BC29: 6.11 | BH29: 3 | BI29: 1 | BJ29: ФССЦ-2001, 11.3.02.01-0019, приказ Минстроя России №1039/пр от 30.12.2016г. | BM29: 10001 | BN29: 0 | BP29: 0 | BQ29: 2 | BR29: 0 | BS29: 1 | BT29: 1 | BU29: 1 | BV29: 1 | BW29: 1 | BX29: 1 | BZ29: 118 | CA29: 63 | CE29: 0 | CF29: 0 | CG29: 0 | CM29: 0 | CO29: 0 | CP29: =(P29+Q29+S29) -> 50574.46 | CQ29: =AC29*BC29 -> 15609.4 | CR29: =AD29*BB29 -> 0 | CS29: =AE29*BS29 -> 0 | CT29: =AF29*BA29 -> 0 | CU29: =AG29 -> 0 | CV29: =AH29 -> 0 | CW29: =AI29 -> 0 | CX29: =AJ29 -> 0 | CY29: =(((S29+R29)*AT29)/100) -> 0 | CZ29: =(((S29+R29)*AU29)/100) -> 0 | DN29: 0 | DO29: 0 | DP29: 1 | DQ29: 1 | DU29: 1005 | DV29: м2 | DW29: м2 | DX29: 1 | EE29: 16510487 | EF29: 2 | EG29: Общестроительные работы | EH29: 0 | EJ29: 1 | EK29: 10001 | EL29: Деревянные конструкции | EM29: ФЕР-10 | EQ29: 0 | ER29: 2554.73 | ES29: 2554.73 | ET29: 0 | EU29: 0 | EV29: 0 | EW29: 0 | EX29: 0 | FQ29: 0 | FR29: =ROUND(IF(AND(BH29=3,BI29=3),P29,0),2) -> 0 | FS29: 0 | FT29: *0,9 | FU29: *0,85 | FX29: 106.2 | FY29: 53.55 | GD29: 0 | GF29: -1297984833 | GG29: 1 | GH29: 1 | GI29: 4 | GJ29: 0 | GK29: =ROUND(R29*(S12)/100,2) -> 0 | GL29: =ROUND(IF(AND(BH29=3,BI29=3,FS29<>0),P29,0),2) -> 0 | GM29: =ROUND(O29+X29+Y29+GK29,2)+GX29 -> 50574.46 | GN29: =IF(OR(BI29=0,BI29=1),ROUND(O29+X29+Y29+GK29,2),0) -> 50574.46 | GO29: =IF(BI29=2,ROUND(O29+X29+Y29+GK29,2),0) -> 0 | GP29: =IF(BI29=4,ROUND(O29+X29+Y29+GK29,2)+GX29,0) -> 0 | GR29: 0 | GS29: 3 | GT29: 0 | GV29: =ROUND((GT29),2) -> 0 | GW29: 1 | GX29: =ROUND(HC29*I29,2) -> 0 | HA29: 0 | HB29: 0 | HC29: =GV29*GW29 -> 0 | IK29: 0
A30: 17 | B30: 1 | C30: =ROW(SmtRes!A35) -> 35 | D30: =ROW(EtalonRes!A35) -> 35 | E30: 3 | F30: 10-01-035-03 | G30: Установка подоконных досок из ПВХ в каменных стенах толщиной свыше 0,51 м | H30: 100 м | I30: =ROUND(1.6/100,9) -> 0.016 | J30: 0 | O30: =ROUND(CP30,2) -> 104.23 | P30: =ROUND(CQ30*I30,2) -> 100.43 | Q30: =ROUND(CR30*I30,2) -> 0.44 | R30: =ROUND(CS30*I30,2) -> 0.09 | S30: =ROUND(CT30*I30,2) -> 3.36 | T30: =ROUND(CU30*I30,2) -> 0 | U30: =CV30*I30 -> 0.393392 | V30: =CW30*I30 -> 0.0074 | W30: =ROUND(CX30*I30,2) -> 0 | X30: =ROUND(CY30,2) -> 3.66 | Y30: =ROUND(CZ30,2) -> 1.86 | AA30: 16784195 | AB30: =ROUND((AC30+AD30+AF30),2) -> 6514.01 | AC30: =ROUND((ES30),2) -> 6276.9 | AD30: =ROUND(((((ET30*1.25))-((EU30*1.25)))+AE30),2) -> 27.38 | AE30: =ROUND(((EU30*1.25)),2) -> 5.54 | AF30: =ROUND(((EV30*1.15)),2) -> 209.73 | AG30: =ROUND((AP30),2) -> 0 | AH30: =((EW30*1.15)) -> 24.587 | AI30: =((EX30*1.25)) -> 0.4625 | AJ30: =(AS30) -> 0 | AK30: 6481.17 | AL30: 6276.9 | AM30: 21.9 | AN30: 4.43 | AO30: 182.37 | AP30: 0 | AQ30: 21.38 | AR30: 0.37 | AS30: 0 | AT30: 106 | AU30: 54 | AV30: 1 | AW30: 1 | AZ30: 1 | BA30: 1 | BB30: 1 | BC30: 1 | BH30: 0 | BI30: 1 | BJ30: ФЕР-2001, 10-01-035-03, приказ Минстроя России №1039/пр от 30.12.2016г. | BM30: 10001 | BN30: 0 | BP30: 0 | BQ30: 2 | BR30: 0 | BS30: 1 | BT30: 1 | BU30: 1 | BV30: 1 | BW30: 1 | BX30: 1 | BZ30: 118 | CA30: 63 | CE30: 0 | CF30: 0 | CG30: 0 | CM30: 0 | CN30: Поправка: МДС 81-35.2004, п.4.7 Наименование: Работы, выполняемые при реконструкции зданий и сооружений работы, аналогичные технологическим процессам в новом строительстве (в том числе возведение новых конструктивных элементов) стоимость которых определена по соответствующим сборникам ФЕР, кроме сборника № 46 «Работы при реконструкции зданий и сооружений» | CO30: 0 | CP30: =(P30+Q30+S30) -> 104.23 | CQ30: =AC30*BC30 -> 6276.9 | CR30: =AD30*BB30 -> 27.38 | CS30: =AE30*BS30 -> 5.54 | CT30: =AF30*BA30 -> 209.73 | CU30: =AG30 -> 0 | CV30: =AH30 -> 24.587 | CW30: =AI30 -> 0.4625 | CX30: =AJ30 -> 0 | CY30: =(((S30+R30)*AT30)/100) -> 3.657 | CZ30: =(((S30+R30)*AU30)/100) -> 1.863 | DE30: )*1,25 | DF30: )*1,25 | DG30: )*1,15 | DI30: )*1,15 | DJ30: )*1,25 | DN30: 0 | DO30: 0 | DP30: 1 | DQ30: 1 | DU30: 1003 | DV30: 100 м | DW30: 100 м | DX30: 100 | EE30: 16510487 | EF30: 2 | EG30: Общестроительные работы | EH30: 0 | EJ30: 1 | EK30: 10001 | EL30: Деревянные конструкции | EM30: ФЕР-10 | EO30: Поправка: МДС 81-35.2004, п.4.7 | EQ30: 131072 | ER30: 6481.17 | ES30: 6276.9 | ET30: 21.9 | EU30: 4.43 | EV30: 182.37 | EW30: 21.38 | EX30: 0.37 | EY30: 0 | FQ30: 0 | FR30: =ROUND(IF(AND(BH30=3,BI30=3),P30,0),2) -> 0 | FS30: 0 | FT30: *0,9 | FU30: *0,85 | FX30: 106.2 | FY30: 53.55 | GD30: 0 | GF30: -1968498593 | GG30: 2 | GH30: 1 | GI30: -2 | GJ30: 0 | GK30: =ROUND(R30*(R12)/100,2) -> 0 | GL30: =ROUND(IF(AND(BH30=3,BI30=3,FS30<>0),P30,0),2) -> 0 | GM30: =ROUND(O30+X30+Y30+GK30,2)+GX30 -> 109.75 | GN30: =IF(OR(BI30=0,BI30=1),ROUND(O30+X30+Y30+GK30,2),0) -> 109.75 | GO30: =IF(BI30=2,ROUND(O30+X30+Y30+GK30,2),0) -> 0 | GP30: =IF(BI30=4,ROUND(O30+X30+Y30+GK30,2)+GX30,0) -> 0 | GR30: 0 | GS30: 3 | GT30: 0 | GV30: =ROUND((GT30),2) -> 0 | GW30: 1 | GX30: =ROUND(HC30*I30,2) -> 0 | HA30: 0 | HB30: 0 | HC30: =GV30*GW30 -> 0 | IK30: 0
A31: 17 | B31: 1 | C31: =ROW(SmtRes!A42) -> 42 | D31: =ROW(EtalonRes!A42) -> 42 | E31: 3 | F31: 10-01-035-03 | G31: Установка подоконных досок из ПВХ в каменных стенах толщиной свыше 0,51 м | H31: 100 м | I31: =ROUND(1.6/100,9) -> 0.016 | J31: 0 | O31: =ROUND(CP31,2) -> 636.81 | P31: =ROUND(CQ31*I31,2) -> 613.63 | Q31: =ROUND(CR31*I31,2) -> 2.68 | R31: =ROUND(CS31*I31,2) -> 0.54 | S31: =ROUND(CT31*I31,2) -> 20.5 | T31: =ROUND(CU31*I31,2) -> 0 | U31: =CV31*I31 -> 0.393392 | V31: =CW31*I31 -> 0.0074 | W31: =ROUND(CX31*I31,2) -> 0 | X31: =ROUND(CY31,2) -> 22.3 | Y31: =ROUND(CZ31,2) -> 11.36 | AA31: 16784196 | AB31: =ROUND((AC31+AD31+AF31),2) -> 6514.01 | AC31: =ROUND((ES31),2) -> 6276.9 | AD31: =ROUND(((((ET31*1.25))-((EU31*1.25)))+AE31),2) -> 27.38 | AE31: =ROUND(((EU31*1.25)),2) -> 5.54 | AF31: =ROUND(((EV31*1.15)),2) -> 209.73 | AG31: =ROUND((AP31),2) -> 0 | AH31: =((EW31*1.15)) -> 24.587 | AI31: =((EX31*1.25)) -> 0.4625 | AJ31: =(AS31) -> 0 | AK31: 6481.17 | AL31: 6276.9 | AM31: 21.9 | AN31: 4.43 | AO31: 182.37 | AP31: 0 | AQ31: 21.38 | AR31: 0.37 | AS31: 0 | AT31: 106 | AU31: 54 | AV31: 1 | AW31: 1 | AZ31: 6.11 | BA31: 6.11 | BB31: 6.11 | BC31: 6.11 | BH31: 0 | BI31: 1 | BJ31: ФЕР-2001, 10-01-035-03, приказ Минстроя России №1039/пр от 30.12.2016г. | BM31: 10001 | BN31: 0 | BP31: 0 | BQ31: 2 | BR31: 0 | BS31: 6.11 | BT31: 1 | BU31: 1 | BV31: 1 | BW31: 1 | BX31: 1 | BZ31: 118 | CA31: 63 | CE31: 0 | CF31: 0 | CG31: 0 | CM31: 0 | CN31: Поправка: МДС 81-35.2004, п.4.7 Наименование: Работы, выполняемые при реконструкции зданий и сооружений работы, аналогичные технологическим процессам в новом строительстве (в том числе возведение новых конструктивных элементов) стоимость которых определена по соответствующим сборникам ФЕР, кроме сборника № 46 «Работы при реконструкции зданий и сооружений» | CO31: 0 | CP31: =(P31+Q31+S31) -> 636.81 | CQ31: =AC31*BC31 -> 38351.859 | CR31: =AD31*BB31 -> 167.2918 | CS31: =AE31*BS31 -> 33.8494 | CT31: =AF31*BA31 -> 1281.4503 | CU31: =AG31 -> 0 | CV31: =AH31 -> 24.587 | CW31: =AI31 -> 0.4625 | CX31: =AJ31 -> 0 | CY31: =(((S31+R31)*AT31)/100) -> 22.3024 | CZ31: =(((S31+R31)*AU31)/100) -> 11.3616 | DE31: )*1,25 | DF31: )*1,25 | DG31: )*1,15 | DI31: )*1,15 | DJ31: )*1,25 | DN31: 0 | DO31: 0 | DP31: 1 | DQ31: 1 | DU31: 1003 | DV31: 100 м | DW31: 100 м | DX31: 100 | EE31: 16510487 | EF31: 2 | EG31: Общестроительные работы | EH31: 0 | EJ31: 1 | EK31: 10001 | EL31: Деревянные конструкции | EM31: ФЕР-10 | EO31: Поправка: МДС 81-35.2004, п.4.7 | EQ31: 131072 | ER31: 6481.17 | ES31: 6276.9 | ET31: 21.9 | EU31: 4.43 | EV31: 182.37 | EW31: 21.38 | EX31: 0.37 | EY31: 0 | FQ31: 0 | FR31: =ROUND(IF(AND(BH31=3,BI31=3),P31,0),2) -> 0 | FS31: 0 | FT31: *0,9 | FU31: *0,85 | FX31: 106.2 | FY31: 53.55 | GD31: 0 | GF31: -1968498593 | GG31: 1 | GH31: 1 | GI31: 4 | GJ31: 0 | GK31: =ROUND(R31*(S12)/100,2) -> 0 | GL31: =ROUND(IF(AND(BH31=3,BI31=3,FS31<>0),P31,0),2) -> 0 | GM31: =ROUND(O31+X31+Y31+GK31,2)+GX31 -> 670.47 | GN31: =IF(OR(BI31=0,BI31=1),ROUND(O31+X31+Y31+GK31,2),0) -> 670.47 | GO31: =IF(BI31=2,ROUND(O31+X31+Y31+GK31,2),0) -> 0 | GP31: =IF(BI31=4,ROUND(O31+X31+Y31+GK31,2)+GX31,0) -> 0 | GR31: 0 | GS31: 3 | GT31: 0 | GV31: =ROUND((GT31),2) -> 0 | GW31: 1 | GX31: =ROUND(HC31*I31,2) -> 0 | HA31: 0 | HB31: 0 | HC31: =GV31*GW31 -> 0 | IK31: 0
A32: 18 | B32: 1 | C32: 33 | E32: 3,1 | F32: 11.3.03.01-0004 | G32: Доски подоконные ПВХ, шириной 250 мм | H32: м | I32: =I30*J32 -> 1.6 | J32: 100 | O32: =ROUND(CP32,2) -> 51.87 | P32: =ROUND(CQ32*I32,2) -> 51.87 | Q32: =ROUND(CR32*I32,2) -> 0 | R32: =ROUND(CS32*I32,2) -> 0 | S32: =ROUND(CT32*I32,2) -> 0 | T32: =ROUND(CU32*I32,2) -> 0 | U32: =CV32*I32 -> 0 | V32: =CW32*I32 -> 0 | W32: =ROUND(CX32*I32,2) -> 0 | X32: =ROUND(CY32,2) -> 0 | Y32: =ROUND(CZ32,2) -> 0 | AA32: 16784195 | AB32: =ROUND((AC32+AD32+AF32),2) -> 32.42 | AC32: =ROUND((ES32),2) -> 32.42 | AD32: =ROUND((((ET32)-(EU32))+AE32),2) -> 0 | AE32: =ROUND((EU32),2) -> 0 | AF32: =ROUND((EV32),2) -> 0 | AG32: =ROUND((AP32),2) -> 0 | AH32: =(EW32) -> 0 | AI32: =(EX32) -> 0 | AJ32: =(AS32) -> 0 | AK32: 32.42 | AL32: 32.42 | AM32: 0 | AN32: 0 | AO32: 0 | AP32: 0 | AQ32: 0 | AR32: 0 | AS32: 0 | AT32: 106 | AU32: 54 | AV32: 1 | AW32: 1 | AZ32: 1 | BA32: 1 | BB32: 1 | BC32: 1 | BH32: 3 | BI32: 1 | BJ32: ФССЦ-2001, 11.3.03.01-0004, приказ Минстроя России №1039/пр от 30.12.2016г. | BM32: 10001 | BN32: 0 | BP32: 0 | BQ32: 2 | BR32: 0 | BS32: 1 | BT32: 1 | BU32: 1 | BV32: 1 | BW32: 1 | BX32: 1 | BZ32: 118 | CA32: 63 | CE32: 0 | CF32: 0 | CG32: 0 | CM32: 0 | CO32: 0 | CP32: =(P32+Q32+S32) -> 51.87 | CQ32: =AC32*BC32 -> 32.42 | CR32: =AD32*BB32 -> 0 | CS32: =AE32*BS32 -> 0 | CT32: =AF32*BA32 -> 0 | CU32: =AG32 -> 0 | CV32: =AH32 -> 0 | CW32: =AI32 -> 0 | CX32: =AJ32 -> 0 | CY32: =(((S32+R32)*AT32)/100) -> 0 | CZ32: =(((S32+R32)*AU32)/100) -> 0 | DN32: 0 | DO32: 0 | DP32: 1 | DQ32: 1 | DU32: 1003 | DV32: м | DW32: м | DX32: 1 | EE32: 16510487 | EF32: 2 | EG32: Общестроительные работы | EH32: 0 | EJ32: 1 | EK32: 10001 | EL32: Деревянные конструкции | EM32: ФЕР-10 | EQ32: 0 | ER32: 32.42 | ES32: 32.42 | ET32: 0 | EU32: 0 | EV32: 0 | EW32: 0 | EX32: 0 | FQ32: 0 | FR32: =ROUND(IF(AND(BH32=3,BI32=3),P32,0),2) -> 0 | FS32: 0 | FT32: *0,9 | FU32: *0,85 | FX32: 106.2 | FY32: 53.55 | GD32: 0 | GF32: -504550248 | GG32: 2 | GH32: 1 | GI32: -2 | GJ32: 0 | GK32: =ROUND(R32*(R12)/100,2) -> 0 | GL32: =ROUND(IF(AND(BH32=3,BI32=3,FS32<>0),P32,0),2) -> 0 | GM32: =ROUND(O32+X32+Y32+GK32,2)+GX32 -> 51.87 | GN32: =IF(OR(BI32=0,BI32=1),ROUND(O32+X32+Y32+GK32,2),0) -> 51.87 | GO32: =IF(BI32=2,ROUND(O32+X32+Y32+GK32,2),0) -> 0 | GP32: =IF(BI32=4,ROUND(O32+X32+Y32+GK32,2)+GX32,0) -> 0 | GR32: 0 | GS32: 3 | GT32: 0 | GV32: =ROUND((GT32),2) -> 0 | GW32: 1 | GX32: =ROUND(HC32*I32,2) -> 0 | HA32: 0 | HB32: 0 | HC32: =GV32*GW32 -> 0 | IK32: 0
A33: 18 | B33: 1 | C33: 40 | E33: 3,1 | F33: 11.3.03.01-0004 | G33: Доски подоконные ПВХ, шириной 250 мм | H33: м | I33: =I31*J33 -> 1.6 | J33: 100 | O33: =ROUND(CP33,2) -> 316.94 | P33: =ROUND(CQ33*I33,2) -> 316.94 | Q33: =ROUND(CR33*I33,2) -> 0 | R33: =ROUND(CS33*I33,2) -> 0 | S33: =ROUND(CT33*I33,2) -> 0 | T33: =ROUND(CU33*I33,2) -> 0 | U33: =CV33*I33 -> 0 | V33: =CW33*I33 -> 0 | W33: =ROUND(CX33*I33,2) -> 0 | X33: =ROUND(CY33,2) -> 0 | Y33: =ROUND(CZ33,2) -> 0 | AA33: 16784196 | AB33: =ROUND((AC33+AD33+AF33),2) -> 32.42 | AC33: =ROUND((ES33),2) -> 32.42 | AD33: =ROUND((((ET33)-(EU33))+AE33),2) -> 0 | AE33: =ROUND((EU33),2) -> 0 | AF33: =ROUND((EV33),2) -> 0 | AG33: =ROUND((AP33),2) -> 0 | AH33: =(EW33) -> 0 | AI33: =(EX33) -> 0 | AJ33: =(AS33) -> 0 | AK33: 32.42 | AL33: 32.42 | AM33: 0 | AN33: 0 | AO33: 0 | AP33: 0 | AQ33: 0 | AR33: 0 | AS33: 0 | AT33: 106 | AU33: 54 | AV33: 1 | AW33: 1 | AZ33: 6.11 | BA33: 1 | BB33: 1 | BC33: 6.11 | BH33: 3 | BI33: 1 | BJ33: ФССЦ-2001, 11.3.03.01-0004, приказ Минстроя России №1039/пр от 30.12.2016г. | BM33: 10001 | BN33: 0 | BP33: 0 | BQ33: 2 | BR33: 0 | BS33: 1 | BT33: 1 | BU33: 1 | BV33: 1 | BW33: 1 | BX33: 1 | BZ33: 118 | CA33: 63 | CE33: 0 | CF33: 0 | CG33: 0 | CM33: 0 | CO33: 0 | CP33: =(P33+Q33+S33) -> 316.94 | CQ33: =AC33*BC33 -> 198.0862 | CR33: =AD33*BB33 -> 0 | CS33: =AE33*BS33 -> 0 | CT33: =AF33*BA33 -> 0 | CU33: =AG33 -> 0 | CV33: =AH33 -> 0 | CW33: =AI33 -> 0 | CX33: =AJ33 -> 0 | CY33: =(((S33+R33)*AT33)/100) -> 0 | CZ33: =(((S33+R33)*AU33)/100) -> 0 | DN33: 0 | DO33: 0 | DP33: 1 | DQ33: 1 | DU33: 1003 | DV33: м | DW33: м | DX33: 1 | EE33: 16510487 | EF33: 2 | EG33: Общестроительные работы | EH33: 0 | EJ33: 1 | EK33: 10001 | EL33: Деревянные конструкции | EM33: ФЕР-10 | EQ33: 0 | ER33: 32.42 | ES33: 32.42 | ET33: 0 | EU33: 0 | EV33: 0 | EW33: 0 | EX33: 0 | FQ33: 0 | FR33: =ROUND(IF(AND(BH33=3,BI33=3),P33,0),2) -> 0 | FS33: 0 | FT33: *0,9 | FU33: *0,85 | FX33: 106.2 | FY33: 53.55 | GD33: 0 | GF33: -504550248 | GG33: 1 | GH33: 1 | GI33: 4 | GJ33: 0 | GK33: =ROUND(R33*(S12)/100,2) -> 0 | GL33: =ROUND(IF(AND(BH33=3,BI33=3,FS33<>0),P33,0),2) -> 0 | GM33: =ROUND(O33+X33+Y33+GK33,2)+GX33 -> 316.94 | GN33: =IF(OR(BI33=0,BI33=1),ROUND(O33+X33+Y33+GK33,2),0) -> 316.94 | GO33: =IF(BI33=2,ROUND(O33+X33+Y33+GK33,2),0) -> 0 | GP33: =IF(BI33=4,ROUND(O33+X33+Y33+GK33,2)+GX33,0) -> 0 | GR33: 0 | GS33: 3 | GT33: 0 | GV33: =ROUND((GT33),2) -> 0 | GW33: 1 | GX33: =ROUND(HC33*I33,2) -> 0 | HA33: 0 | HB33: 0 | HC33: =GV33*GW33 -> 0 | IK33: 0
A34: 17 | B34: 1 | C34: =ROW(SmtRes!A50) -> 50 | D34: =ROW(EtalonRes!A50) -> 50 | E34: 4 | F34: 15-01-050-04 | G34: Облицовка оконных и дверных откосов декоративным бумажно-слоистым пластиком или листами из синтетических материалов на клее | H34: 100 м2 | I34: =ROUND(1.23/100,9) -> 0.0123 | J34: 0 | O34: =ROUND(CP34,2) -> 22.16 | P34: =ROUND(CQ34*I34,2) -> 0 | Q34: =ROUND(CR34*I34,2) -> 0.54 | R34: =ROUND(CS34*I34,2) -> 0.11 | S34: =ROUND(CT34*I34,2) -> 21.62 | T34: =ROUND(CU34*I34,2) -> 0 | U34: =CV34*I34 -> 2.3547182 | V34: =CW34*I34 -> 0.0089175 | W34: =ROUND(CX34*I34,2) -> 0 | X34: =ROUND(CY34,2) -> 20.64 | Y34: =ROUND(CZ34,2) -> 10.21 | AA34: 16784195 | AB34: =ROUND((AC34+AD34+AF34),2) -> 1801.98 | AC34: =ROUND((ES34),2) -> 0.36 | AD34: =ROUND(((((ET34*1.25))-((EU34*1.25)))+AE34),2) -> 44.2 | AE34: =ROUND(((EU34*1.25)),2) -> 8.6 | AF34: =ROUND(((EV34*1.15)),2) -> 1757.42 | AG34: =ROUND((AP34),2) -> 0 | AH34: =((EW34*1.15)) -> 191.4405 | AI34: =((EX34*1.25)) -> 0.725 | AJ34: =(AS34) -> 0 | AK34: 1563.91 | AL34: 0.36 | AM34: 35.36 | AN34: 6.88 | AO34: 1528.19 | AP34: 0 | AQ34: 166.47 | AR34: 0.58 | AS34: 0 | AT34: 95 | AU34: 47 | AV34: 1 | AW34: 1 | AZ34: 1 | BA34: 1 | BB34: 1 | BC34: 1 | BH34: 0 | BI34: 1 | BJ34: ФЕР-2001, 15-01-050-04, приказ Минстроя России №1039/пр от 30.12.2016г. | BM34: 15001 | BN34: 0 | BP34: 0 | BQ34: 2 | BR34: 0 | BS34: 1 | BT34: 1 | BU34: 1 | BV34: 1 | BW34: 1 | BX34: 1 | BZ34: 105 | CA34: 55 | CE34: 0 | CF34: 0 | CG34: 0 | CM34: 0 | CN34: Поправка: МДС 81-35.2004, п.4.7 Наименование: Работы, выполняемые при реконструкции зданий и сооружений работы, аналогичные технологическим процессам в новом строительстве (в том числе возведение новых конструктивных элементов) стоимость которых определена по соответствующим сборникам ФЕР, кроме сборника № 46 «Работы при реконструкции зданий и сооружений» | CO34: 0 | CP34: =(P34+Q34+S34) -> 22.16 | CQ34: =AC34*BC34 -> 0.36 | CR34: =AD34*BB34 -> 44.2 | CS34: =AE34*BS34 -> 8.6 | CT34: =AF34*BA34 -> 1757.42 | CU34: =AG34 -> 0 | CV34: =AH34 -> 191.4405 | CW34: =AI34 -> 0.725 | CX34: =AJ34 -> 0 | CY34: =(((S34+R34)*AT34)/100) -> 20.6435 | CZ34: =(((S34+R34)*AU34)/100) -> 10.2131 | DE34: )*1,25 | DF34: )*1,25 | DG34: )*1,15 | DI34: )*1,15 | DJ34: )*1,25 | DN34: 0 | DO34: 0 | DP34: 1 | DQ34: 1 | DU34: 1005 | DV34: 100 м2 | DW34: 100 м2 | DX34: 100 | EE34: 16510513 | EF34: 2 | EG34: Общестроительные работы | EH34: 0 | EJ34: 1 | EK34: 15001 | EL34: Отделочные работы | EM34: ФЕР-15 | EO34: Поправка: МДС 81-35.2004, п.4.7 | EQ34: 131072 | ER34: 1563.91 | ES34: 0.36 | ET34: 35.36 | EU34: 6.88 | EV34: 1528.19 | EW34: 166.47 | EX34: 0.58 | EY34: 0 | FQ34: 0 | FR34: =ROUND(IF(AND(BH34=3,BI34=3),P34,0),2) -> 0 | FS34: 0 | FT34: *0,9 | FU34: *0,85 | FX34: 94.5 | FY34: 46.75 | GD34: 0 | GF34: 251333065 | GG34: 2 | GH34: 1 | GI34: -2 | GJ34: 0 | GK34: =ROUND(R34*(R12)/100,2) -> 0 | GL34: =ROUND(IF(AND(BH34=3,BI34=3,FS34<>0),P34,0),2) -> 0 | GM34: =ROUND(O34+X34+Y34+GK34,2)+GX34 -> 53.01 | GN34: =IF(OR(BI34=0,BI34=1),ROUND(O34+X34+Y34+GK34,2),0) -> 53.01 | GO34: =IF(BI34=2,ROUND(O34+X34+Y34+GK34,2),0) -> 0 | GP34: =IF(BI34=4,ROUND(O34+X34+Y34+GK34,2)+GX34,0) -> 0 | GR34: 0 | GS34: 3 | GT34: 0 | GV34: =ROUND((GT34),2) -> 0 | GW34: 1 | GX34: =ROUND(HC34*I34,2) -> 0 | HA34: 0 | HB34: 0 | HC34: =GV34*GW34 -> 0 | IK34: 0
A35: 17 | B35: 1 | C35: =ROW(SmtRes!A58) -> 58 | D35: =ROW(EtalonRes!A58) -> 58 | E35: 4 | F35: 15-01-050-04 | G35: Облицовка оконных и дверных откосов декоративным бумажно-слоистым пластиком или листами из синтетических материалов на клее | H35: 100 м2 | I35: =ROUND(1.23/100,9) -> 0.0123 | J35: 0 | O35: =ROUND(CP35,2) -> 135.43 | P35: =ROUND(CQ35*I35,2) -> 0.03 | Q35: =ROUND(CR35*I35,2) -> 3.32 | R35: =ROUND(CS35*I35,2) -> 0.65 | S35: =ROUND(CT35*I35,2) -> 132.08 | T35: =ROUND(CU35*I35,2) -> 0 | U35: =CV35*I35 -> 2.3547182 | V35: =CW35*I35 -> 0.0089175 | W35: =ROUND(CX35*I35,2) -> 0 | X35: =ROUND(CY35,2) -> 126.09 | Y35: =ROUND(CZ35,2) -> 62.38 | AA35: 16784196 | AB35: =ROUND((AC35+AD35+AF35),2) -> 1801.98 | AC35: =ROUND((ES35),2) -> 0.36 | AD35: =ROUND(((((ET35*1.25))-((EU35*1.25)))+AE35),2) -> 44.2 | AE35: =ROUND(((EU35*1.25)),2) -> 8.6 | AF35: =ROUND(((EV35*1.15)),2) -> 1757.42 | AG35: =ROUND((AP35),2) -> 0 | AH35: =((EW35*1.15)) -> 191.4405 | AI35: =((EX35*1.25)) -> 0.725 | AJ35: =(AS35) -> 0 | AK35: 1563.91 | AL35: 0.36 | AM35: 35.36 | AN35: 6.88 | AO35: 1528.19 | AP35: 0 | AQ35: 166.47 | AR35: 0.58 | AS35: 0 | AT35: 95 | AU35: 47 | AV35: 1 | AW35: 1 | AZ35: 6.11 | BA35: 6.11 | BB35: 6.11 | BC35: 6.11 | BH35: 0 | BI35: 1 | BJ35: ФЕР-2001, 15-01-050-04, приказ Минстроя России №1039/пр от 30.12.2016г. | BM35: 15001 | BN35: 0 | BP35: 0 | BQ35: 2 | BR35: 0 | BS35: 6.11 | BT35: 1 | BU35: 1 | BV35: 1 | BW35: 1 | BX35: 1 | BZ35: 105 | CA35: 55 | CE35: 0 | CF35: 0 | CG35: 0 | CM35: 0 | CN35: Поправка: МДС 81-35.2004, п.4.7 Наименование: Работы, выполняемые при реконструкции зданий и сооружений работы, аналогичные технологическим процессам в новом строительстве (в том числе возведение новых конструктивных элементов) стоимость которых определена по соответствующим сборникам ФЕР, кроме сборника № 46 «Работы при реконструкции зданий и сооружений» | CO35: 0 | CP35: =(P35+Q35+S35) -> 135.43 | CQ35: =AC35*BC35 -> 2.1996 | CR35: =AD35*BB35 -> 270.062 | CS35: =AE35*BS35 -> 52.546 | CT35: =AF35*BA35 -> 10737.836 | CU35: =AG35 -> 0 | CV35: =AH35 -> 191.4405 | CW35: =AI35 -> 0.725 | CX35: =AJ35 -> 0 | CY35: =(((S35+R35)*AT35)/100) -> 126.0935 | CZ35: =(((S35+R35)*AU35)/100) -> 62.3831 | DE35: )*1,25 | DF35: )*1,25 | DG35: )*1,15 | DI35: )*1,15 | DJ35: )*1,25 | DN35: 0 | DO35: 0 | DP35: 1 | DQ35: 1 | DU35: 1005 | DV35: 100 м2 | DW35: 100 м2 | DX35: 100 | EE35: 16510513 | EF35: 2 | EG35: Общестроительные работы | EH35: 0 | EJ35: 1 | EK35: 15001 | EL35: Отделочные работы | EM35: ФЕР-15 | EO35: Поправка: МДС 81-35.2004, п.4.7 | EQ35: 131072 | ER35: 1563.91 | ES35: 0.36 | ET35: 35.36 | EU35: 6.88 | EV35: 1528.19 | EW35: 166.47 | EX35: 0.58 | EY35: 0 | FQ35: 0 | FR35: =ROUND(IF(AND(BH35=3,BI35=3),P35,0),2) -> 0 | FS35: 0 | FT35: *0,9 | FU35: *0,85 | FX35: 94.5 | FY35: 46.75 | GD35: 0 | GF35: 251333065 | GG35: 1 | GH35: 1 | GI35: 4 | GJ35: 0 | GK35: =ROUND(R35*(S12)/100,2) -> 0 | GL35: =ROUND(IF(AND(BH35=3,BI35=3,FS35<>0),P35,0),2) -> 0 | GM35: =ROUND(O35+X35+Y35+GK35,2)+GX35 -> 323.9 | GN35: =IF(OR(BI35=0,BI35=1),ROUND(O35+X35+Y35+GK35,2),0) -> 323.9 | GO35: =IF(BI35=2,ROUND(O35+X35+Y35+GK35,2),0) -> 0 | GP35: =IF(BI35=4,ROUND(O35+X35+Y35+GK35,2)+GX35,0) -> 0 | GR35: 0 | GS35: 3 | GT35: 0 | GV35: =ROUND((GT35),2) -> 0 | GW35: 1 | GX35: =ROUND(HC35*I35,2) -> 0 | HA35: 0 | HB35: 0 | HC35: =GV35*GW35 -> 0 | IK35: 0
A36: 18 | B36: 1 | C36: 48 | E36: 4,1 | F36: 11.3.03.05-0011 | G36: Сэндвич-панели для откосов (наружные слои – листы из поливинилхлорида, внутреннее наполнение – вспененный пенополистирол) белые, ширина 1,5 м, длина 3,0 м, толщина 10 мм | H36: м2 | I36: =I34*J36 -> 1.2915 | J36: 105 | O36: =ROUND(CP36,2) -> 76.41 | P36: =ROUND(CQ36*I36,2) -> 76.41 | Q36: =ROUND(CR36*I36,2) -> 0 | R36: =ROUND(CS36*I36,2) -> 0 | S36: =ROUND(CT36*I36,2) -> 0 | T36: =ROUND(CU36*I36,2) -> 0 | U36: =CV36*I36 -> 0 | V36: =CW36*I36 -> 0 | W36: =ROUND(CX36*I36,2) -> 0 | X36: =ROUND(CY36,2) -> 0 | Y36: =ROUND(CZ36,2) -> 0 | AA36: 16784195 | AB36: =ROUND((AC36+AD36+AF36),2) -> 59.16 | AC36: =ROUND((ES36),2) -> 59.16 | AD36: =ROUND((((ET36)-(EU36))+AE36),2) -> 0 | AE36: =ROUND((EU36),2) -> 0 | AF36: =ROUND((EV36),2) -> 0 | AG36: =ROUND((AP36),2) -> 0 | AH36: =(EW36) -> 0 | AI36: =(EX36) -> 0 | AJ36: =(AS36) -> 0 | AK36: 59.16 | AL36: 59.16 | AM36: 0 | AN36: 0 | AO36: 0 | AP36: 0 | AQ36: 0 | AR36: 0 | AS36: 0 | AT36: 95 | AU36: 47 | AV36: 1 | AW36: 1 | AZ36: 1 | BA36: 1 | BB36: 1 | BC36: 1 | BH36: 3 | BI36: 1 | BJ36: ФССЦ-2001, 11.3.03.05-0011, приказ Минстроя России №1039/пр от 30.12.2016г. | BM36: 15001 | BN36: 0 | BP36: 0 | BQ36: 2 | BR36: 0 | BS36: 1 | BT36: 1 | BU36: 1 | BV36: 1 | BW36: 1 | BX36: 1 | BZ36: 105 | CA36: 55 | CE36: 0 | CF36: 0 | CG36: 0 | CM36: 0 | CO36: 0 | CP36: =(P36+Q36+S36) -> 76.41 | CQ36: =AC36*BC36 -> 59.16 | CR36: =AD36*BB36 -> 0 | CS36: =AE36*BS36 -> 0 | CT36: =AF36*BA36 -> 0 | CU36: =AG36 -> 0 | CV36: =AH36 -> 0 | CW36: =AI36 -> 0 | CX36: =AJ36 -> 0 | CY36: =(((S36+R36)*AT36)/100) -> 0 | CZ36: =(((S36+R36)*AU36)/100) -> 0 | DN36: 0 | DO36: 0 | DP36: 1 | DQ36: 1 | DU36: 1005 | DV36: м2 | DW36: м2 | DX36: 1 | EE36: 16510513 | EF36: 2 | EG36: Общестроительные работы | EH36: 0 | EJ36: 1 | EK36: 15001 | EL36: Отделочные работы | EM36: ФЕР-15 | EQ36: 0 | ER36: 59.16 | ES36: 59.16 | ET36: 0 | EU36: 0 | EV36: 0 | EW36: 0 | EX36: 0 | FQ36: 0 | FR36: =ROUND(IF(AND(BH36=3,BI36=3),P36,0),2) -> 0 | FS36: 0 | FT36: *0,9 | FU36: *0,85 | FX36: 94.5 | FY36: 46.75 | GD36: 0 | GF36: -724546537 | GG36: 2 | GH36: 1 | GI36: -2 | GJ36: 0 | GK36: =ROUND(R36*(R12)/100,2) -> 0 | GL36: =ROUND(IF(AND(BH36=3,BI36=3,FS36<>0),P36,0),2) -> 0 | GM36: =ROUND(O36+X36+Y36+GK36,2)+GX36 -> 76.41 | GN36: =IF(OR(BI36=0,BI36=1),ROUND(O36+X36+Y36+GK36,2),0) -> 76.41 | GO36: =IF(BI36=2,ROUND(O36+X36+Y36+GK36,2),0) -> 0 | GP36: =IF(BI36=4,ROUND(O36+X36+Y36+GK36,2)+GX36,0) -> 0 | GR36: 0 | GS36: 3 | GT36: 0 | GV36: =ROUND((GT36),2) -> 0 | GW36: 1 | GX36: =ROUND(HC36*I36,2) -> 0 | HA36: 0 | HB36: 0 | HC36: =GV36*GW36 -> 0 | IK36: 0
A37: 18 | B37: 1 | C37: 56 | E37: 4,1 | F37: 11.3.03.05-0011 | G37: Сэндвич-панели для откосов (наружные слои – листы из поливинилхлорида, внутреннее наполнение – вспененный пенополистирол) белые, ширина 1,5 м, длина 3,0 м, толщина 10 мм | H37: м2 | I37: =I35*J37 -> 1.2915 | J37: 105 | O37: =ROUND(CP37,2) -> 466.84 | P37: =ROUND(CQ37*I37,2) -> 466.84 | Q37: =ROUND(CR37*I37,2) -> 0 | R37: =ROUND(CS37*I37,2) -> 0 | S37: =ROUND(CT37*I37,2) -> 0 | T37: =ROUND(CU37*I37,2) -> 0 | U37: =CV37*I37 -> 0 | V37: =CW37*I37 -> 0 | W37: =ROUND(CX37*I37,2) -> 0 | X37: =ROUND(CY37,2) -> 0 | Y37: =ROUND(CZ37,2) -> 0 | AA37: 16784196 | AB37: =ROUND((AC37+AD37+AF37),2) -> 59.16 | AC37: =ROUND((ES37),2) -> 59.16 | AD37: =ROUND((((ET37)-(EU37))+AE37),2) -> 0 | AE37: =ROUND((EU37),2) -> 0 | AF37: =ROUND((EV37),2) -> 0 | AG37: =ROUND((AP37),2) -> 0 | AH37: =(EW37) -> 0 | AI37: =(EX37) -> 0 | AJ37: =(AS37) -> 0 | AK37: 59.16 | AL37: 59.16 | AM37: 0 | AN37: 0 | AO37: 0 | AP37: 0 | AQ37: 0 | AR37: 0 | AS37: 0 | AT37: 95 | AU37: 47 | AV37: 1 | AW37: 1 | AZ37: 6.11 | BA37: 1 | BB37: 1 | BC37: 6.11 | BH37: 3 | BI37: 1 | BJ37: ФССЦ-2001, 11.3.03.05-0011, приказ Минстроя России №1039/пр от 30.12.2016г. | BM37: 15001 | BN37: 0 | BP37: 0 | BQ37: 2 | BR37: 0 | BS37: 1 | BT37: 1 | BU37: 1 | BV37: 1 | BW37: 1 | BX37: 1 | BZ37: 105 | CA37: 55 | CE37: 0 | CF37: 0 | CG37: 0 | CM37: 0 | CO37: 0 | CP37: =(P37+Q37+S37) -> 466.84 | CQ37: =AC37*BC37 -> 361.4676 | CR37: =AD37*BB37 -> 0 | CS37: =AE37*BS37 -> 0 | CT37: =AF37*BA37 -> 0 | CU37: =AG37 -> 0 | CV37: =AH37 -> 0 | CW37: =AI37 -> 0 | CX37: =AJ37 -> 0 | CY37: =(((S37+R37)*AT37)/100) -> 0 | CZ37: =(((S37+R37)*AU37)/100) -> 0 | DN37: 0 | DO37: 0 | DP37: 1 | DQ37: 1 | DU37: 1005 | DV37: м2 | DW37: м2 | DX37: 1 | EE37: 16510513 | EF37: 2 | EG37: Общестроительные работы | EH37: 0 | EJ37: 1 | EK37: 15001 | EL37: Отделочные работы | EM37: ФЕР-15 | EQ37: 0 | ER37: 59.16 | ES37: 59.16 | ET37: 0 | EU37: 0 | EV37: 0 | EW37: 0 | EX37: 0 | FQ37: 0 | FR37: =ROUND(IF(AND(BH37=3,BI37=3),P37,0),2) -> 0 | FS37: 0 | FT37: *0,9 | FU37: *0,85 | FX37: 94.5 | FY37: 46.75 | GD37: 0 | GF37: -724546537 | GG37: 1 | GH37: 1 | GI37: 4 | GJ37: 0 | GK37: =ROUND(R37*(S12)/100,2) -> 0 | GL37: =ROUND(IF(AND(BH37=3,BI37=3,FS37<>0),P37,0),2) -> 0 | GM37: =ROUND(O37+X37+Y37+GK37,2)+GX37 -> 466.84 | GN37: =IF(OR(BI37=0,BI37=1),ROUND(O37+X37+Y37+GK37,2),0) -> 466.84 | GO37: =IF(BI37=2,ROUND(O37+X37+Y37+GK37,2),0) -> 0 | GP37: =IF(BI37=4,ROUND(O37+X37+Y37+GK37,2)+GX37,0) -> 0 | GR37: 0 | GS37: 3 | GT37: 0 | GV37: =ROUND((GT37),2) -> 0 | GW37: 1 | GX37: =ROUND(HC37*I37,2) -> 0 | HA37: 0 | HB37: 0 | HC37: =GV37*GW37 -> 0 | IK37: 0
