Workbook
Name аааааппппппрррппппппп: #REF!
Name аараооооооооооооо: #REF!
Name автом: #REF!
Name алшрльоплварл: #REF!
Name аолвлддддддддддддддддввввввввв: #REF!
Name апарв: #REF!
Name апрлдджаоырыфрпопрлпрлпрлп: #REF!
Name арлггаджаш: #REF!
Name ароррбллтблпроорапииас: #REF!
Name арррррблллпдрлдддддддддд: #REF!
Name варпаааааааааа: #REF!
Name ввпьььььлднд: #REF!
Name вед: #REF!
Name вертикальная: #REF!
Name вертикплан: #REF!
Name волен: #REF!
Name вп: #REF!
Name впырпфдыпл: #REF!
Name впьглорьтитттттттттт: #REF!
Name всввввввввввввввввввввввввв: #REF!
Name выб: #REF!
Name выпуск: #REF!
Name выьлепвввввпмп: #REF!
Name еваопродолжэрщэрзшщщх: #REF!
Name измен: #REF!
Name итого: #REF!
Name итого_сантех: #REF!
Name итого_стр: #REF!
Name итого_строит: #REF!
Name итого_технол: #REF!
Name итого_электр: #REF!
Name квота: #REF!
Name кккккккккк: #REF!
Name корек: #REF!
Name корект: #REF!
Name корректир: #REF!
Name лен: #REF!
Name лот: #REF!
Name мамиааааааааааааааааааааааааааааа: #REF!
Name ммпоослччччччччччрччапппппппппр: #REF!
Name мрол: #REF!
Name оз: #REF!
Name озелен: #REF!
Name озеленение: #REF!
Name озеленение2: #REF!
Name ОСР: #REF!
Name ОСР110: #REF!
Name ОСР111: #REF!
Name план: #REF!
Name планировка: #REF!
Name плдщхэж.юрббдлююбо: #REF!
Name площадки: #REF!
Name пос: #REF!
Name прав: #REF!
Name прлппппппппппппппрррррррр: #REF!
Name провбп: #REF!
Name проект: #REF!
Name пропппп: #REF!
Name рпоолллллбрюююююююююююю: #REF!
Name сааповвыыыыыеееееггггггггг: #REF!

Sheet 25333
A1: СОГЛАСОВАНО: | E1: ФГУП "Комбинат "Электрохимприбор" | M1: УТВЕРЖДАЮ:
G2: (наименование стройки) | M2: Зам.генерального директора
A3: _________________ | N3: Е.В. Гордеев
A4: " _____ " _________ 2014 г. | M4: __________________
G5: ЛОКАЛЬНЫЙ СМЕТНЫЙ РАСЧЕТ № 25333 | M5: "______ " __________2014г.
G6: (локальная смета)
C8: на | D8: строительно-монтажные работы по реконструкции комнат мастеров участков № 2, 5, 31 МОП-112.
E9: Площадка 1. Здание 101 (инв.№ 5300260). Раздел: архитектурно-строительный
D10: (наименование работ и затрат, наименование объекта)
D12: Основание: проект № 24883-14-АС Изм 43-14 | N12: Справочно, в тыс.руб. :
D13: Сметная стоимость строительных работ _______________________________________________________________________________________________ | J13: ___________________________149,020 | L13: тыс. руб. | N13: с К=5,98 | P13: =ROUND(149.02*5.98,3) -> 891.14
D14: Средства на оплату труда _______________________________________________________________________________________________ | J14: ___________________________22,656 | L14: тыс. руб. | N14: с К=5,98 | P14: =ROUND(22.656*5.98,3) -> 135.483
D15: Сметная трудоемкость _______________________________________________________________________________________________ | J15: _______________________________________________________________________________________________1154,12 | L15: чел.час
D16: Материалы _________________________________________________________ | K16: =J89/1000 -> 91.403 | N16: с К=5,98 | P16: =ROUND(91.403*5.98,3) -> 546.59
D17: Составлен(а) в базовых ценах 2001г. в редакции 2009г.
A19: № пп | B19: Обоснование | C19: Наименование | D19: Ед. изм. | E19: Кол. | F19: Стоимость единицы, руб. | J19: Общая стоимость, руб. | N19: Т/з осн. раб.на ед. | O19: Т/з осн. раб. Всего | P19: Т/з мех. на ед. | Q19: Т/з мех. Всего
F20: Всего | G20: В том числе | J20: Всего | K20: В том числе
G21: Осн.З/п | H21: Эк.Маш | I21: З/пМех | K21: Осн.З/п | L21: Эк.Маш | M21: З/пМех
A22: 1 | B22: 2 | C22: 3 | D22: 4 | E22: 5 | F22: 6 | G22: 7 | H22: 8 | I22: 9 | J22: 10 | K22: 11 | L22: 12 | M22: 13 | N22: 14 | O22: 15 | P22: 16 | Q22: 17
A23: Раздел 1. Разборка конструкций
A24: 1 | B24: ТЕР46-04-012-03 | C24: Разборка деревянных заполнений проемов дверных | D24: 100 м2 | E24: 0.08 | F24: 1496.49 | G24: 1184.57 | H24: 311.92 | I24: 120.9 | J24: 120 | K24: 95 | L24: 25 | M24: 10 | N24: 103.91 | O24: 8.31 | P24: 7.74 | Q24: 0.62
A25: 2 | B25: ТЕР46-04-001-05 | C25: Разборка мелкоблочных стен | D25: 1 м3 | E25: 17.7 | F25: 207.62 | G25: 77.75 | H25: 129.87 | I25: 12.03 | J25: 3675 | K25: 1376 | L25: 2299 | M25: 213 | N25: 6.64 | O25: 117.53 | P25: 0.77 | Q25: 13.63
A26: 3 | B26: ФССЦпг01-01-01-041 | C26: Погрузочные работы при автомобильных перевозках: Мусор строительный с погрузкой вручную КОЭФ. К ПОЗИЦИИ: п.1.1.9 ОП Прил.1. Поясной коэффициент: Свердловская область ПЗ=1,1 (ОЗП=1,1; ЭМ=1,1; ЗПМ=1,1; МАТ=1,1) | D26: 1 т груза | E26: 42.5 | F26: 47.28 | G26: 47.28 | J26: 2009 | K26: 2009
A27: 4 | B27: ФССЦпг03-21-01-040 | C27: Перевозка грузов (мусора) автомобилями-самосвалами грузоподъемностью 10 т, работающих вне карьера, на расстояние: до 40 км I класс груза КОЭФ. К ПОЗИЦИИ: 15 Поясные коэффициенты к сметным ценам на перевозку грузов автомобильным транспортом: Свердловская область ПЗ=1,1 (ОЗП=1,1; ЭМ=1,1; ЗПМ=1,1; МАТ=1,1) | D27: 1 т груза | E27: 42.5 | F27: 25.55 | H27: 25.55 | J27: 1086 | L27: 1086
A28: Итого по разделу 1 Разборка конструкций | J28: 10230 | O28: 125.84 | Q28: 14.25
A29: Раздел 2. Стены, перегородки
A30: 5 | B30: ТЕРр69-2-1 | C30: Сверление отверстий в кирпичных стенах электроперфоратором диаметром до 20 мм, толщина стен 0,5 кирпича (под ерши) | D30: 100 отверстий | E30: 0.5 | F30: 83.02 | G30: 65.93 | H30: 17.09 | J30: 42 | K30: 33 | L30: 9 | N30: 5.49 | O30: 2.75
A31: 6 | B31: ТЕР07-01-044-01 прим. | C31: Установка ершей в готовые гнезда с заделкой для крепления пристраиваемых конструкций ограждения к существующей стене | D31: т | E31: 0.006 | F31: 3906.63 | G31: 2444.6 | H31: 572.31 | J31: 23 | K31: 15 | L31: 3 | N31: 170 | O31: 1.02
A32: 7 | B32: ТСЦ-204-0002 | C32: Горячекатаная арматурная сталь гладкая класса А-I, диаметром 8 мм | D32: т | E32: 0.006 | F32: 4637.68 | J32: 28
A33: 8 | B33: ТЕР08-02-002-03 | C33: Кладка перегородок из кирпича армированных толщиной в 1/2 кирпича при высоте этажа до 4 м | D33: 100 м2 | E33: 1.47 | F33: 10332.14 | G33: 2043.74 | H33: 1064 | I33: 74.8 | J33: 15188 | K33: 3004 | L33: 1564 | M33: 110 | N33: 170.17 | O33: 250.15 | P33: 4.11 | Q33: 6.04
A34: 9 | B34: ТЕР06-01-015-09 | C34: Установка закладных деталей весом более 20 кг | D34: 1 т | E34: 0.411 | F34: 7463.03 | G34: 278.6 | H34: 42.05 | I34: 2.73 | J34: 3067 | K34: 115 | L34: 17 | M34: 1 | N34: 21.8 | O34: 8.96 | P34: 0.15 | Q34: 0.06
A35: 10 | B35: ТЕР46-03-001-17 | C35: На каждые 10 мм изменения глубины сверления добавляется или исключается к расценке 46-03-001-01 КОЭФ. К ПОЗИЦИИ: ПЗ=7 (ОЗП=7; ЭМ=7 к расх.; ЗПМ=7; МАТ=7 к расх.; ТЗ=7; ТЗМ=7) | D35: 100 отверстий | E35: 0.04 | F35: 816.41 | G35: 17.99 | H35: 236.6 | I35: 77.77 | J35: 33 | K35: 1 | L35: 9 | M35: 3 | N35: 1.33 | O35: 0.05 | P35: 5.74 | Q35: 0.23
A36: 11 | B36: ТЕР46-03-001-01 | C36: Сверление в железобетонных конструкциях вертикальных отверстий глубиной 200 мм диаметром 20 мм | D36: 100 отверстий | E36: 0.04 | F36: 2712.24 | G36: 234.42 | H36: 872.51 | I36: 222.22 | J36: 108 | K36: 9 | L36: 35 | M36: 9 | N36: 17.3 | O36: 0.69 | P36: 16.4 | Q36: 0.66
A37: 12 | B37: ТЕР07-01-044-01 прим. | C37: Установка ершей в готовые гнезда с заделкой для крепления пристраиваемых конструкций ограждения к полам | D37: 1 т | E37: 0.002 | F37: 8440.59 | G37: 2444.6 | H37: 572.31 | J37: 17 | K37: 5 | L37: 1 | N37: 170 | O37: 0.34
A38: 13 | B38: ТСЦ-204-0006 прим. | C38: Горячекатаная арматурная сталь гладкая класса А-I, диаметром 15 мм | D38: т | E38: 0.002 | F38: 4178.36 | J38: 8
A39: 14 | B39: Цена поставщика 2013г. | C39: Установка перегородок из алюминиевых профилей | D39: м2 | E39: 24.72 | F39: 91.45 | G39: 91,45 600/5,56/1,18 | J39: 2261 | K39: 2261
A40: 15 | B40: Цена поставщика 2013г. | C40: Офисные перегородки из алюминиевых профилей: двойное стекло 5 мм + гипсовинил (нижняя часть) | D40: м2 | E40: 24.72 | F40: 877,94 (6260-500)/5,56/1,18 | J40: 21703
A41: 16 | B41: Цена поставщика 2013г. | C41: Установка дверного блока в перегородку из алюминиевых профилей | D41: шт. | E41: 4 | F41: 228.63 | G41: 228,63 1500/5,56/1,18 | J41: 915 | K41: 915
A42: 17 | B42: Цена поставщика 2013г. | C42: Дверные блоки в алюминиевой раме с двойным остеклением | D42: м2 | E42: 8.28 | F42: 1863,3 (21820-500)/1,744/5,56/1,18 | J42: 15428
A43: Работы на Изм. 43-14
...

Sheet 25406
A1: СОГЛАСОВАНО: | E1: ФГУП "Комбинат "Электрохимприбор" | M1: УТВЕРЖДАЮ:
G2: (наименование стройки) | M2: Зам. генерального директора
M3: Е.В.Гордеев
A4: _________________ | M4: _________________
A5: " _____ " ________________ 2014 г. | M5: "______ " __________2014 г.
G6: ЛОКАЛЬНЫЙ СМЕТНЫЙ РАСЧЕТ № 25406
G7: (локальная смета)
C9: на | D9: строительно-монтажные работы по реконструкции комнат мастеров производственных участков № 2, 5, 31
E10: в здании № 101 МОП 112. Инв. № 5300260
D11: Раздел: Силовое электрооборудование. Электрическое освещение.
H12: (наименование работ и затрат, наименование объекта)
D14: Основание: проект № 24907-14-ЭМ | N14: Справочно, в тыс.руб. :
D15: Сметная стоимость _______________________________________________________________________________________________ | J15: ___________________________47,435 | L15: тыс. руб. | N15: ВСЕГО: | P15: =P16+P17+P18 -> 303.4973
D16: строительных работ _______________________________________________________________________________________________ | J16: _______________________________________________________________________________________________0,720 | L16: тыс. руб. | N16: с К=5,98 | P16: =0.72*5.98 -> 4.3056
D17: монтажных работ _______________________________________________________________________________________________ | J17: _______________________________________________________________________________________________42,307 | L17: тыс. руб. | N17: с К=5,98 | P17: =5.98*42.307 -> 252.99586
D18: прочих (ПНР "в холостую") _______________________________________________________________________________________________ | J18: _______________________________________________________________________________________________4,408 | L18: тыс. руб. | N18: с К=10,48 | P18: =10.48*4.408 -> 46.19584
D19: Средства на оплату труда _______________________________________________________________________________________________ | J19: ___________________________6,676 | L19: тыс. руб.
D20: Сметная трудоемкость _______________________________________________________________________________________________ | J20: _______________________________________________________________________________________________402,79 | L20: чел.час
D21: Материалы ______________________________________ | K21: =J125/1000 -> 4.005 | L21: тыс.руб. | N21: с К=5,98 | P21: =K21*5.98 -> 23.9499
D22: Составлен(а) в базовых ценах 2001г. в редакции 2009г.
A24: № пп | B24: Обоснование | C24: Наименование | D24: Ед. изм. | E24: Кол. | F24: Стоимость единицы, руб. | J24: Общая стоимость, руб. | N24: Т/з осн. раб.на ед. | O24: Т/з осн. раб. Всего | P24: Т/з мех. на ед. | Q24: Т/з мех. Всего
F25: Всего | G25: В том числе | J25: Всего | K25: В том числе
G26: Осн.З/п | H26: Эк.Маш | I26: З/пМех | K26: Осн.З/п | L26: Эк.Маш | M26: З/пМех
A27: 1 | B27: 2 | C27: 3 | D27: 4 | E27: 5 | F27: 6 | G27: 7 | H27: 8 | I27: 9 | J27: 10 | K27: 11 | L27: 12 | M27: 13 | N27: 14 | O27: 15 | P27: 16 | Q27: 17
A28: Раздел 1. Демонтажные работы
A29: 1 | B29: ТЕРр67-4-5 | C29: Демонтаж светильников для люминесцентных ламп | D29: 100 шт. | E29: 0.15 | F29: 205.2 | G29: 201.98 | H29: 3.22 | I29: 1.25 | J29: 31 | K29: 31 | N29: 17.89 | O29: 2.68 | P29: 0.08 | Q29: 0.01
A30: 2 | B30: ТЕРр67-4-1 | C30: Демонтаж выключателей, розеток | D30: 100 шт. | E30: 0.09 | F30: 64.18 | G30: 64.18 | J30: 6 | K30: 6 | N30: 5.84 | O30: 0.53
A31: 3 | B31: ТЕРр67-3-1 | C31: Демонтаж кабеля | D31: 100 м | E31: 3 | F31: 106.34 | G31: 105.94 | H31: 0.4 | I31: 0.16 | J31: 319 | K31: 318 | L31: 1 | N31: 9.64 | O31: 28.92 | P31: 0.01 | Q31: 0.03
A32: 4 | B32: ТЕРр67-2-5 | C32: Демонтаж стальных труб, проложенных на скобах диаметром до 25 мм | D32: 100 м труб | E32: 0.6 | F32: 205.34 | G32: 193.83 | H32: 4.66 | I32: 1.09 | J32: 123 | K32: 116 | L32: 3 | M32: 1 | N32: 16.84 | O32: 10.1 | P32: 0.07 | Q32: 0.04
A33: Итого по разделу 1 Демонтажные работы | J33: 1237 | O33: 42.23 | Q33: 0.08
A34: Раздел 2. Монтажные работы
A35: 5 | B35: Цена поставщика | C35: Коробка КМ41237 распаячная для о/п d75х40мм IP44 (RAL7035, 4 гермоввода) UKO11-075-040-000-K41-44 | D35: шт. | E35: 18 | F35: 5,62 39,66/1.18/5,98 | J35: 101
A36: 6 | B36: Цена поставщика | C36: Зажим винтовой ЗВИ-5 н/г 1,5-4мм2 12пар ИЭК UZV4-005-04 | D36: шт | E36: 60 | F36: 3,37 23,80/1,18/5,98 | J36: 202
A37: 7 | B37: Цена поставщика | C37: ВС20-1-0-ББ Выключатель одноклавишный для открытой установки Серия "БРИКС" EVB10-K01-10-DC | D37: шт. | E37: 4 | F37: 11,9 84/1,18/5,98 | J37: 48
A38: 8 | B38: ТЕРм08-03-591-01 | C38: Выключатель одноклавишный неутопленного типа при открытой проводке | D38: 100 шт. | E38: 0.04 | F38: 758.17 | G38: 551.82 | H38: 27.07 | I38: 0.55 | J38: 30 | K38: 22 | L38: 1 | N38: 39.5 | O38: 1.58 | P38: 0.03
A39: 9 | B39: Цена поставщика | C39: Светильник для люминесцентных ламп ЛПО06 2х36-031 1075236031 | D39: шт | E39: 21 | F39: 426,14 3007/1,18/5,98 | J39: 8949
A40: 10 | B40: ТЕРм08-03-594-02 | C40: Светильник отдельно устанавливаемый на штырях с количеством ламп в светильнике 2 КОЭФ. К ПОЗИЦИИ: 1.8.3.ОП При производстве работ на высоте свыше расстояний, указанных в вводных указаниях к разделам сборника: при высоте свыше 2 до 8 м ОЗП=1,05; ТЗ=1,05 | D40: 100 шт. | E40: 0.21 | F40: 6936.16 | G40: 1701.55 | H40: 2228.22 | I40: 710.91 | J40: 1457 | K40: 357 | L40: 468 | M40: 149 | N40: 121.8 | O40: 25.58 | P40: 45.08 | Q40: 9.47
A41: 11 | B41: ИЭК 12.02.2014г | C41: Профиль перфорированный L=2м CLP1Z-050-20 | D41: шт | E41: 21 | F41: 76,38 539/1,18/5,98 | J41: 1604
A42: 12 | B42: Цена поставщика | C42: Лампы люминесцентные OSRAM L36W/840-1 | D42: шт | E42: 42 | F42: 33,87 239/1,18/5,98 | J42: 1423
A43: 13 | B43: ТЕРм08-02-472-07 прим. | C43: Профиль перфорированный для крепления светильников КОЭФ. К ПОЗИЦИИ: 1.8.3.ОП При производстве работ на высоте свыше расстояний, указанных в вводных указаниях к разделам сборника: при высоте свыше 2 до 8 м ОЗП=1,05; ТЗ=1,05 | D43: 100 м | E43: 0.42 | F43: 892.34 | G43: 296.34 | H43: 103.2 | I43: 4.55 | J43: 375 | K43: 124 | L43: 43 | M43: 2 | N43: 22.37 | O43: 9.4 | P43: 0.25 | Q43: 0.11
...

Sheet 25409
A1: СОГЛАСОВАНО: | E1: ФГУП "Комбинат "Электрохимприбор" | M1: УТВЕРЖДАЮ:
G2: (наименование стройки) | M2: Зам. генерального директора
A3: _____________________________ | M3: Е.В.Гордеев
A4: " _____ " ________________ 2014г. | G4: ЛОКАЛЬНЫЙ СМЕТНЫЙ РАСЧЕТ № 25409
G5: (локальная смета) | M5: "______ " __________2014 г.
C7: на | D7: строительно-монтажные работы по реконструкции комнат мастеров участка № 2,5, 31 МОП-112
E8: Площадка 1 Здание 101 (инв.№ 5300260) Раздел: Вентиляция
H9: (наименование работ и затрат, наименование объекта)
D11: Основание: Проект № 24916-14-ОВ | N11: Справочно, в тыс.руб. :
D12: Сметная стоимость _______________________________________________________________________________________________ | J12: ___________________________40,519 | L12: тыс. руб. | N12: Итого: | P12: =ROUND(P13+P14+P15,3) -> 246.983
D13: строительных работ _______________________________________________________________________________________________ | J13: _______________________________________________________________________________________________39,402 | L13: тыс. руб. | N13: с К=5,98 | P13: =ROUND(39.402*5.98,3) -> 235.624
D14: монтажных работ _______________________________________________________________________________________________ | J14: _______________________________________________________________________________________________0,077 | L14: тыс. руб. | N14: с К=5,98 | P14: =ROUND(0.077*5.98,3) -> 0.46
D15: прочих _______________________________________________________________________________________________ | J15: _______________________________________________________________________________________________1,040 | L15: тыс. руб. | N15: с К=10,48 | P15: =ROUND(1.04*10.48,3) -> 10.899
D16: Средства на оплату труда _______________________________________________________________________________________________ | J16: ___________________________4,075 | L16: тыс. руб.
D17: Сметная трудоемкость _______________________________________________________________________________________________ | J17: _______________________________________________________________________________________________306,06 | L17: чел.час
D18: Материалы ___________________________________________________________ | J18: =J104/1000 -> 28.333 | L18: тыс.руб. | N18: с К=5,98 | P18: =ROUND(28.333*5.98,3) -> 169.431
D19: Составлен(а) в базовых ценах 2001г. в редакции 2009г.
A22: № пп | B22: Обоснование | C22: Наименование | D22: Ед. изм. | E22: Кол. | F22: Стоимость единицы, руб. | J22: Общая стоимость, руб. | N22: Т/з осн. раб.на ед. | O22: Т/з осн. раб. Всего | P22: Т/з мех. на ед. | Q22: Т/з мех. Всего
F23: Всего | G23: В том числе | J23: Всего | K23: В том числе
G24: Осн.З/п | H24: Эк.Маш | I24: З/пМех | K24: Осн.З/п | L24: Эк.Маш | M24: З/пМех
A25: 1 | B25: 2 | C25: 3 | D25: 4 | E25: 5 | F25: 6 | G25: 7 | H25: 8 | I25: 9 | J25: 10 | K25: 11 | L25: 12 | M25: 13 | N25: 14 | O25: 15 | P25: 16 | Q25: 17
A26: Раздел 1. Система П-4
A27: 1 | B27: ТЕР20-02-005-06 | C27: Установка заслонок воздушных с ручным приводом периметром до 1000 мм | D27: 1 шт. | E27: 1 | F27: 34.47 | G27: 15.41 | H27: 1.84 | J27: 34 | K27: 15 | L27: 2 | N27: 1.22 | O27: 1.22
A28: 2 | B28: Цена поставщика. | C28: Заслонки РК-302-05 с ручным управлением 300х200 (Цена:1262,00:1,18:5,98*1,02) | D28: шт. | E28: 1 | F28: 182,42 1262,00/1,18/5,98*1,02 | J28: 182
A29: 3 | B29: ТЕР20-02-015-02 | C29: Установка шумоглушителей вентиляционных трубчатых типа ГТП 1-2 сечением 300х200 мм | D29: 1 шт. | E29: 1 | F29: 30.03 | G29: 19.22 | H29: 2.21 | J29: 30 | K29: 19 | L29: 2 | N29: 1.54 | O29: 1.54
A30: 4 | B30: ТСЦ-301-0245 | C30: Глушители шума прямоугольного сечения на бандажном соединении марка ГТП 1-2, сечение обечайки 300х200 мм, масса наполнителя 2,74 кг | D30: шт. | E30: 1 | F30: 1100.74 | J30: 1101
A31: 5 | B31: ТЕР20-02-002-01 | C31: Установка решеток жалюзийных площадью в свету до 0,5 м2 | D31: 1 решетка | E31: 6 | F31: 24.67 | G31: 18.44 | H31: 2.94 | J31: 148 | K31: 111 | L31: 18 | N31: 1.46 | O31: 8.76
A32: 6 | B32: Цена поставщика. | C32: Решетка вентиляционная АДН 250х150 (Цена:509,00:1,18:5,98*1,02) | D32: шт | E32: 6 | F32: 73,58 509,00/1,18/5,98*1,02 | J32: 441
A33: 7 | B33: ТСЦ-301-1746 прим. | C33: Лючок с заглушкой | D33: шт. | E33: 2 | F33: 6.5 | J33: 13
A34: 8 | B34: ТЕР20-01-001-03 | C34: Прокладка воздуховодов из листовой, оцинкованной стали и алюминия класса Н (нормальные) толщиной 0,5 мм, периметром 800, 1000 мм | D34: 100 м2 | E34: 0.08 | F34: 2601.53 | G34: 1893.46 | H34: 136.2 | I34: 7.46 | J34: 208 | K34: 151 | L34: 11 | M34: 1 | N34: 153.69 | O34: 12.3 | P34: 0.41 | Q34: 0.03
A35: 9 | B35: ТСЦ-301-1773 | C35: Воздуховоды из листовой стали толщиной 0,5 мм, периметром до 1000 мм | D35: м2 | E35: 8 | F35: 221.7 | J35: 1774
A36: 10 | B36: ТЕР20-01-001-10 | C36: Прокладка воздуховодов из листовой стали класса Н (нормальные) толщиной 0,7 мм, периметром до 1600 мм | D36: 100 м2 | E36: 0.52 | F36: 2260.48 | G36: 1638.31 | H36: 127.29 | I36: 6.92 | J36: 1175 | K36: 852 | L36: 66 | M36: 4 | N36: 132.98 | O36: 69.15 | P36: 0.38 | Q36: 0.2
A37: 11 | B37: ТСЦ-301-1779 | C37: Воздуховоды из листовой стали толщиной 0,7 мм, периметром до 1600 мм | D37: м2 | E37: 52 | F37: 199.53 | J37: 10376
A38: 12 | B38: ТСЦ-301-0475 | C38: Крепления для воздуховодов подвески СТД6208, СТД6209, СТД6210 | D38: т | E38: 0.03 | F38: 8739.36 | J38: 262
A39: 13 | B39: ТЕР13-03-002-04 | C39: Огрунтовка металлических поверхностей за один раз грунтовкой ГФ-021 | D39: 100 м2 | E39: 0.61 | F39: 417.46 | G39: 79.65 | H39: 10.15 | I39: 0.16 | J39: 255 | K39: 49 | L39: 6 | N39: 5.31 | O39: 3.24 | P39: 0.01 | Q39: 0.01
A40: 14 | B40: ТЕР15-04-030-01 | C40: Масляная окраска металлических поверхностей (воздуховодов изнутри), количество окрасок 1 | D40: 100 м2 | E40: 0.61 | F40: 574.75 | G40: 120.81 | H40: 3.68 | I40: 0.16 | J40: 351 | K40: 74 | L40: 2 | N40: 9.68 | O40: 5.9 | P40: 0.01 | Q40: 0.01
A41: 15 | B41: ТЕР15-04-030-02 | C41: Масляная окраска металлических поверхностей (воздуховодов снаружи), количество окрасок 2 | D41: 100 м2 | E41: 0.61 | F41: 709.24 | G41: 152.38 | H41: 3.68 | I41: 0.16 | J41: 433 | K41: 93 | L41: 2 | N41: 12.21 | O41: 7.45 | P41: 0.01 | Q41: 0.01
A42: Итого по разделу 1 Система П-4 | J42: 21702 | O42: 157.62 | Q42: 0.41
A43: Раздел 2. Система В-1*
A44: 16 | B44: ТЕР20-03-001-02 | C44: Установка вентиляторов радиальных массой до 0,12 т | D44: 1 вентилятор | E44: 1 | F44: 138.43 | G44: 108.09 | H44: 15.2 | I44: 0.55 | J44: 138 | K44: 108 | L44: 15 | M44: 1 | N44: 9 | O44: 9 | P44: 0.03 | Q44: 0.03
...

Sheet СМР
A1: Расчет начальной (максимальной) цены на
A2: реконструкцию комнат мастеров производственных участков №2, 5, 31 в здании №101 МОП 112. Инв. № 5300260
A4: Наименование глав ССР, объектный сметных расчетов, локальных сметных расчетов, видов прочих работ | B4: Сметная стоимость строительства в базисном уровне цен на 01.01.2000г. по ССР | F4: Остаток сметной стоимости в базисном уровне цен на 01.01.2014 | J4: Сметная стоимость строительства в базисном уровне цен на 01.01.2000г., выставленная на конкурс | N4: Текущая стоимость на момент определения начальной (максимальной) цены | O4: № обосновывающего расчета | P4: 2015 год
B5: Всего | C5: СМР | D5: Оборудование | E5: Прочие | F5: Всего | G5: СМР | H5: Оборудование | I5: Прочие | J5: Всего | K5: СМР | L5: Оборудование | M5: Прочие | P5: СМР | Q5: Оборудование | R5: Прочие
A6: 1 | B6: 2 | C6: 3 | D6: 4 | E6: 5 | F6: 6 | G6: 7 | H6: 8 | I6: 9 | J6: 10 | K6: 11 | L6: 12 | M6: 13 | N6: 14 | O6: 15 | P6: 16 | Q6: 17 | R6: 18
A7: Раздел: архитектурно-строительный. Строительно-монтажные работы по реконструкции комнат мастеров участков № 2, 5, 31 МОП-112. Площадка 1. Здание 101 (инв.№ 5300260). | B7: =SUM(C7:E7) -> 149020 | C7: ='25333'!J87 -> 149020 | D7: 0 | E7: ='25333'!J43 -> 0 | F7: =SUM(G7:I7) -> 149020 | G7: =C7 -> 149020 | H7: =D7 -> 0 | I7: =E7 -> 0 | J7: =SUM(K7:M7) -> 149020 | K7: =P7 -> 149020 | L7: =Q7 -> 0 | M7: =R7 -> 0 | O7: 25333 | P7: =G7 -> 149020 | Q7: =H7 -> 0 | R7: =I7 -> 0
A8: Раздел: Силовое электрооборудование. Электрическое освещение. Строительно-монтажные работы по реконструкции комнат мастеров производственных участков № 2, 5, 31. в здании № 101 МОП 112. Инв. № 5300260 | B8: =SUM(C8:E8) -> 47435 | C8: ='25406'!J119+'25406'!J120 -> 43027 | D8: 0 | E8: ='25406'!J121 -> 4408 | F8: =SUM(G8:I8) -> 47435 | G8: =C8 -> 43027 | H8: =D8 -> 0 | I8: =E8 -> 4408 | J8: =SUM(K8:M8) -> 47435 | K8: =P8 -> 43027 | L8: =Q8 -> 0 | M8: =R8 -> 4408 | O8: 25406 | P8: =G8 -> 43027 | Q8: =H8 -> 0 | R8: =I8 -> 4408
A9: Раздел: Вентиляция. Строительно-монтажные работы по реконструкции комнат мастеров участка № 2,5, 31 МОП-112. Площадка 1 Здание 101 (инв.№ 5300260) | B9: =SUM(C9:E9) -> 40519 | C9: ='25409'!J99+'25409'!J100 -> 39479 | D9: 0 | E9: ='25409'!J101 -> 1040 | F9: =SUM(G9:I9) -> 40519 | G9: =C9 -> 39479 | H9: =D9 -> 0 | I9: =E9 -> 1040 | J9: =SUM(K9:M9) -> 40519 | K9: =P9 -> 39479 | L9: =Q9 -> 0 | M9: =R9 -> 1040 | O9: 25409 | P9: =G9 -> 39479 | Q9: =H9 -> 0 | R9: =I9 -> 1040
A10: Итого в ценах 2000 года: | B10: =SUM(B7:B9) -> 236974 | C10: =SUM(C7:C9) -> 231526 | D10: =SUM(D7:D9) -> 0 | E10: =SUM(E7:E9) -> 5448 | F10: =SUM(F7:F9) -> 236974 | G10: =SUM(G7:G9) -> 231526 | H10: =SUM(H7:H9) -> 0 | I10: =SUM(I7:I9) -> 5448 | ... M10: =SUM(M7:M9) -> 5448 | N10: =SUM(P10:R10) -> 236974 | P10: =SUM(P7:P9) -> 231526 | Q10: =SUM(Q7:Q9) -> 0 | R10: =SUM(R7:R9) -> 5448
A11: Итого в текущих ценах*: | N11: =SUM(P11:R11) -> 1376493 | P11: =ROUND(P10*5.71,0) -> 1322013 | Q11: =ROUND(Q10*4.21,0) -> 0 | R11: =ROUND(R10*10,0) -> 54480
A12: Итого с индексом инфляции**: | N12: =SUM(P12:R12) -> 1446694 | P12: =ROUND(P11*1.051,0) -> 1389436 | R12: =ROUND(R11*1.051,0) -> 57258
A13: НДС 18% | N13: =SUM(P13:R13) -> 260404.92 | P13: =ROUND(P12*18%,2) -> 250098.48 | Q13: =ROUND(Q11*18%,2) -> 0 | R13: =ROUND(R12*18%,2) -> 10306.44
A14: Всего: | N14: =SUM(P14:R14) -> 1707098.9 | P14: =SUM(P12:P13) -> 1639534.5 | Q14: =SUM(Q11:Q13) -> 0 | R14: =SUM(R12:R13) -> 67564.44
P15: 60000000
A16: * В расчете использованы индексы: | Q16: =P15-P14 -> 58360466
A17: - 5,71 индекс изменения сметной стоимости СМР к ТЕР 2001 (письмо Минстроя России от 13.11.2014 года № 25374-ЮР, приложение1, прочие объекты)
A18: - 10,00 индекс изменения сметной стоимости прочих затрат к ТЕР 2001 (письмо Минстроя России от 13.11.2014 года № 25374-ЮР, приложение1, пусконаладочные работы)
A19: **В расчете использован индекс-дефлятор по инвестициям в основной капитал 2015/2014 - 1,051 по письмам: Минэкономразвития России от 25.09.2013 №20402-АК/ДОЗи, Госкорпорация "Росатом" от 10.02.2014 №1-12.8/4385
A21: Начальник отдела капитального строительства
A22: ФГУП "Комбинат "Электрохимприбор" | H22: В.В. Моляков
A24: Инженер по проектно-сметной работе | H24: Н.А. Басова
A26: Согласовано | H26: отд. 028

Sheet НМЦ договора
A4: Определение начальной (максимальной) цены договора генерального подряда
A5: на реконструкцию комнат мастеров производственных участков №2, 5, 31 в здании №101 МОП 112. Инв. № 5300260
A6: на 2014 год
A8: Способ закупки: открытый запрос предложений
G9: ц.2000г./текущие цены, руб.
A10: Наименование услуг и работ (затрат) | C10: Сметная стоимость строительства в базисном уровне цен на 01.01.2000 г. | D10: Сметная стоимость строительства в текущем уровне цен, пресчитанная на момент проведения процедуры закупки | F10: Начальная (максимальная) цена | G10: в том числе по годам строительства
G13: 2014 г.
A17: 1 | C17: 2 | D17: 3 | F17: 4 | G17: 5
A18: СМР | C18: =СМР!K10 -> 231526 | D18: =F18 -> 1322013 | F18: =G18 -> 1322013 | G18: =СМР!P11 -> 1322013
A19: Оборудование | C19: =СМР!L10 -> 0 | D19: =F19 -> 0 | F19: =G19 -> 0 | G19: =СМР!Q11 -> 0
A20: Прочие затраты | C20: =СМР!M10 -> 5448 | D20: =F20 -> 54480 | F20: =G20 -> 54480 | G20: =СМР!R11 -> 54480
A21: Всего: | C21: =SUM(C18:C20) -> 236974 | D21: =F21 -> 1376493 | F21: =G21 -> 1376493 | G21: =SUM(G18:G20) -> 1376493
A22: НДС | D22: =F22 -> 260404.92 | F22: =G22 -> 260404.92 | G22: =СМР!P13+СМР!Q13+СМР!R13 -> 260404.92
A23: Итого с НДС | D23: =F23 -> 1707098.9 | F23: =G23 -> 1707098.9 | G23: =СМР!P14+СМР!Q14+СМР!R14 -> 1707098.9
A25: В расчете использованы индексы:
A27: - 5,71 индекс изменения сметной стоимости СМР к ТЕР 2001 (письмо Минстроя России от 13.11.2014 года № 25374-ЮР, приложение1, прочие объекты) - 10,00 индекс изменения сметной стоимости прочих затрат к ТЕР 2001 (письмо Минстроя России от 13.11.2014 года № 25374-ЮР, приложение1, пусконаладочные работы) **В расчете использован индекс-дефлятор по инвестициям в основной капитал 2015/2014 - 1,051 по письмам: Минэкономразвития России от 25.09.2013 №20402-АК/ДОЗи, Госкорпорация "Росатом" от 10.02.2014 №1-12.8/4385
A29: Начальник отдела капитального строительства
A30: ФГУП "Комбинат "Электрохимприбор" | G30: В.В. Моляков
A32: Инженер по проектно-сметной работе | G32: Н.А. Басова
A34: Согласовано | G34: отд. 028
