Workbook

Sheet Смета 12 гр. по ФЕР
A1: =Source!B1 -> Smeta.RU (495) 974-1589
H4: Приложение № 1 к Приложению № 5 к извещению о проведении запроса котировок
B7: СМЕТА
B11: Капитальный ремонт помещения №36 лаборатории СХД 2-го этажа здания учебного корпуса Озерского технологического института-филиала НИЯУ МИФИ (ОТИ НИЯУ МИФИ)по адресу: Челябинская обл., г. Озерск, пр-т Победы, д.48
G13: базовая цена | I13: текущая цена
C14: Сметная стоимость | G14: =SUM(O1:O137)/1000 -> 18.66997 | I14: =(Source!P139/1000) -> 134.04086 | K14: тыс. руб.
C15: Строительные работы | G15: =SUM(W1:W137)/1000 -> 18.66997 | I15: =(Source!P126)/1000 -> 113.59395 | K15: тыс. руб.
C16: Монтажные работы | G16: =SUM(X1:X137)/1000 -> 0 | I16: =(Source!P127)/1000 -> 0 | K16: тыс. руб.
C17: Оборудование | G17: =SUM(Y1:Y137)/1000 -> 0 | I17: =(Source!P118)/1000 -> 0 | K17: тыс. руб.
C18: Прочие работы | G18: =SUM(Z1:Z137)/1000 -> 0 | I18: =(Source!P128+Source!P129)/1000 -> 0 | K18: тыс. руб.
C19: Нормативная трудоемкость | G19: =I19 -> 260.21302 | I19: =(Source!P131+Source!P132) -> 260.21302 | K19: чел. -ч.
C20: Средства на оплату труда | G20: =SUM(R1:R137)/1000 -> 2.2324 | I20: =((Source!P124 + Source!P123)/1000) -> 13.57308 | K20: тыс. руб.
A22: Составлена в ценахIV квартал 2017 года
A23: № п/п | B23: Шифр расценки и коды ресурсов | C23: Наименование работ и затрат | D23: Ед. изм. | E23: Кол-во единиц | F23: Цена на ед. изм. | G23: Попра-вочные коэфф. | H23: Стоимость в ценах 2001г. | I23: Пункт коэфф. пересчета | J23: Коэфф. пересчета | K23: Стоимость в текущих ценах | L23: ЗТР всего чел.-час
A24: 1 | B24: 2 | C24: 3 | D24: 4 | E24: 5 | F24: 6 | G24: 7 | H24: 8 | I24: 9 | J24: 10 | K24: 11 | L24: 12
A26: =CONCATENATE("Локальная смета: ",IF(Source!G20<>"Новая локальная смета", Source!G20, "")) -> Локальная смета:
A27: =Source!E25 -> 1 | B27: =Source!F25 -> 57-3-1 | C27: =Source!G25 -> Разборка плинтусов деревянных и из пластмассовых материалов | D27: =Source!H25 -> 100 м | E27: =Source!I25 -> 0.232 | F27: =Source!AL25+Source!AM25+Source!AO25 -> 29.41 | I27: =Source!BO25 | S27: =ROUND((Source!FX25/100)*((ROUND(Source!AF25*Source!I25, 2)+ROUND(Source!AE25*Source!I25, 2))), 2) -> 5.46 | T27: =Source!X25 -> 33.18 | U27: =ROUND((Source!FY25/100)*((ROUND(Source!AF25*Source!I25, 2)+ROUND(Source!AE25*Source!I25, 2))), 2) -> 4.64 | V27: =Source!Y25 -> 28.21
C28: ="Объем: "&Source!I25&"=23,2/"&"100" -> Объем: 0,232=23,2/100
C29: Зарплата | F29: =Source!AO25 -> 29.41 | G29: =Source!DG25 | H29: =ROUND(Source!AF25*Source!I25, 2) -> 6.82 | J29: =IF(Source!BA25<> 0, Source!BA25, 1) -> 6.08 | K29: =Source!S25 -> 41.48 | R29: =H29 -> 6.82
C30: НР от ФОТ | D30: % | E30: =Source!BZ25 -> 80 | H30: =SUM(S27:S32) -> 5.46 | J30: =Source!AT25 -> 80 | K30: =SUM(T27:T32) -> 33.18
C31: СП от ФОТ | D31: % | E31: =Source!CA25 -> 68 | H31: =SUM(U27:U32) -> 4.64 | J31: =Source!AU25 -> 68 | K31: =SUM(V27:V32) -> 28.21
C32: Затраты труда | D32: чел-ч | E32: =Source!AQ25 -> 3.77 | G32: =Source!DI25 | L32: =Source!U25 -> 0.87464
G33: =H29+H30+H31 -> 16.92 | J33: =K29+K30+K31 -> 102.87 | L33: =Source!U25 -> 0.87464 | O33: =G33 -> 16.92 | P33: =J33 -> 102.87 | Q33: =L33 -> 0.87464 | W33: =IF(Source!BI25<=1,H29+H30+H31, 0) -> 16.92 | X33: =IF(Source!BI25=2,H29+H30+H31, 0) -> 0 | Y33: =IF(Source!BI25=3,H29+H30+H31, 0) -> 0 | Z33: =IF(Source!BI25=4,H29+H30+H31, 0) -> 0
A34: =Source!E27 -> 2 | B34: =Source!F27 -> 57-2-1 | C34: =Source!G27 -> Разборка покрытий полов из линолеума и релина | D34: =Source!H27 -> 100 м2 | E34: =Source!I27 -> 0.363 | F34: =Source!AL27+Source!AM27+Source!AO27 -> 92.9 | I34: =Source!BO27 | S34: =ROUND((Source!FX27/100)*((ROUND(Source!AF27*Source!I27, 2)+ROUND(Source!AE27*Source!I27, 2))), 2) -> 26.31 | T34: =Source!X27 -> 159.96 | U34: =ROUND((Source!FY27/100)*((ROUND(Source!AF27*Source!I27, 2)+ROUND(Source!AE27*Source!I27, 2))), 2) -> 22.37 | V34: =Source!Y27 -> 135.97
C35: ="Объем: "&Source!I27&"=36,3/"&"100" -> Объем: 0,363=36,3/100
C36: Зарплата | F36: =Source!AO27 -> 88.84 | G36: =Source!DG27 | H36: =ROUND(Source!AF27*Source!I27, 2) -> 32.25 | J36: =IF(Source!BA27<> 0, Source!BA27, 1) -> 6.08 | K36: =Source!S27 -> 196.07 | R36: =H36 -> 32.25
C37: Эксплуатация машин | F37: =Source!AM27 -> 4.06 | G37: =Source!DE27 | H37: =ROUND(Source!AD27*Source!I27, 2) -> 1.47 | J37: =IF(Source!BB27<> 0, Source!BB27, 1) -> 6.08 | K37: =Source!Q27 -> 8.96
C38: в т.ч. зарплата машинистов | F38: =Source!AN27 -> 1.76 | G38: =Source!DF27 | H38: =ROUND(Source!AE27*Source!I27, 2) -> 0.64 | J38: =IF(Source!BS27<> 0, Source!BS27, 1) -> 6.08 | K38: =Source!R27 -> 3.88 | R38: =H38 -> 0.64
C39: НР от ФОТ | D39: % | E39: =Source!BZ27 -> 80 | H39: =SUM(S34:S41) -> 26.31 | J39: =Source!AT27 -> 80 | K39: =SUM(T34:T41) -> 159.96
C40: СП от ФОТ | D40: % | E40: =Source!CA27 -> 68 | H40: =SUM(U34:U41) -> 22.37 | J40: =Source!AU27 -> 68 | K40: =SUM(V34:V41) -> 135.97
C41: Затраты труда | D41: чел-ч | E41: =Source!AQ27 -> 11.39 | G41: =Source!DI27 | L41: =Source!U27 -> 4.13457
G42: =H36+H37+H39+H40 -> 82.4 | J42: =K36+K37+K39+K40 -> 500.96 | L42: =Source!U27 -> 4.13457 | O42: =G42 -> 82.4 | P42: =J42 -> 500.96 | Q42: =L42 -> 4.13457 | W42: =IF(Source!BI27<=1,H36+H37+H39+H40, 0) -> 82.4 | X42: =IF(Source!BI27=2,H36+H37+H39+H40, 0) -> 0 | Y42: =IF(Source!BI27=3,H36+H37+H39+H40, 0) -> 0 | Z42: =IF(Source!BI27=4,H36+H37+H39+H40, 0) -> 0
A43: =Source!E29 -> 3 | B43: =Source!F29 -> 11-01-011-08 | C43: =Source!G29 -> Устройство стяжек из выравнивающей смеси типа "Ветонит" 5000, толщиной 5 мм | D43: =Source!H29 -> 100 м2 | E43: =Source!I29 -> 0.363 | F43: =Source!AL29+Source!AM29+Source!AO29 -> 11028.89 | I43: =Source!BO29 | S43: =ROUND((Source!FX29/100)*((ROUND(Source!AF29*Source!I29, 2)+ROUND(Source!AE29*Source!I29, 2))), 2) -> 149.48 | T43: =Source!X29 -> 911.31 | U43: =ROUND((Source!FY29/100)*((ROUND(Source!AF29*Source!I29, 2)+ROUND(Source!AE29*Source!I29, 2))), 2) -> 86.08 | V43: =Source!Y29 -> 525.44
C44: ="Объем: "&Source!I29&"=36,3/"&"100" -> Объем: 0,363=36,3/100
C45: Зарплата | F45: =Source!AO29 -> 321.33 | G45: =Source!DG29 -> )*1,15 | H45: =ROUND(Source!AF29*Source!I29, 2) -> 134.14 | J45: =IF(Source!BA29<> 0, Source!BA29, 1) -> 6.08 | K45: =Source!S29 -> 815.57 | R45: =H45 -> 134.14
C46: Эксплуатация машин | F46: =Source!AM29 -> 6.23 | G46: =Source!DE29 -> )*1,25 | H46: =ROUND(Source!AD29*Source!I29, 2) -> 2.83 | J46: =IF(Source!BB29<> 0, Source!BB29, 1) -> 6.08 | K46: =Source!Q29 -> 17.19
C47: в т.ч. зарплата машинистов | F47: =Source!AN29 -> 1.97 | G47: =Source!DF29 -> )*1,25 | H47: =ROUND(Source!AE29*Source!I29, 2) -> 0.89 | J47: =IF(Source!BS29<> 0, Source!BS29, 1) -> 6.08 | K47: =Source!R29 -> 5.43 | R47: =H47 -> 0.89
C48: Материальные ресурсы | F48: =Source!AL29 -> 10701.33 | G48: =Source!DD29 | H48: =ROUND(Source!AC29*Source!I29, 2) -> 3884.58 | J48: =IF(Source!BC29<> 0, Source!BC29, 1) -> 6.08 | K48: =Source!P29 -> 23618.26
C49: НР от ФОТ | D49: % | E49: =Source!BZ29 -> 123 | F49: =CONCATENATE(" )", Source!DL29, Source!FT29, "=", Source!FX29) -> )*0,9=110,7 | H49: =SUM(S43:S51) -> 149.48 | J49: =Source!AT29 -> 111 | K49: =SUM(T43:T51) -> 911.31
C50: СП от ФОТ | D50: % | E50: =Source!CA29 -> 75 | F50: =CONCATENATE(" )", Source!DM29, Source!FU29, "=", Source!FY29) -> )*0,85=63,75 | H50: =SUM(U43:U51) -> 86.08 | J50: =Source!AU29 -> 64 | K50: =SUM(V43:V51) -> 525.44
...

Sheet Акт КС-2 c НР и СП
A1: =Source!B1 -> Smeta.RU (495) 974-1589
E2: Унифицированная форма № КС-2
E3: Утверждена постановлением Госкомстата России
E4: от 11.11.99. № 100
G6: Код
F7: Форма по ОКУД | G7: 0322005
G8: =IF(Source!AT15 <> "", Source!AT15, "")
A9: Инвестор | C9: =IF(Source!BA15 <> "", Source!BA15, IF(Source!AU15 <> "", Source!AU15, "")) | F9: по ОКПО
C10: организация, адрес, телефон, факс | G10: =IF(Source!AK15 <> "", Source!AK15, "")
A11: Заказчик | C11: =IF(Source!AX12<> "", Source!AX12, IF(Source!AJ12 <> "", Source!AJ12, "")) | F11: по ОКПО
C12: организация, адрес, телефон, факс | G12: =IF(Source!AO15 <> "", Source!AO15, "")
A13: Подрядчик | C13: =IF(Source!AY12<> "", Source!AY12, IF(Source!AN12 <> "", Source!AN12, "")) | F13: по ОКПО
C14: организация, адрес, телефон, факс | G14: =IF(Source!CO15 <> "", Source!CO15, "")
A15: Стройка | C15: Капитальный ремонт помещения №36 ОТИ НИЯУ МИФИ | AE15: Капитальный ремонт помещения №36 ОТИ НИЯУ МИФИ
C16: наименование, адрес | G16: =IF(Source!CP15 <> "", Source!CP15, "")
A17: Объект | C17: =IF(Source!G12<>"Новый объект", Source!G12, "") -> Капитальный ремонт помещения №36 ОТИ НИЯУ МИФИ | AE17: =IF(Source!G12<>"Новый объект", Source!G12, "") -> Капитальный ремонт помещения №36 ОТИ НИЯУ МИФИ
C18: наименование
D19: Вид деятельности по ОКДП | G19: =IF(Source!CQ15 <> "", Source!CQ15, "")
D20: Договор подряда | F20: номер | G20: =IF(Source!CR15 <> "", Source!CR15, "")
F21: дата | G21: =IF(Source!CS15 <> 0, Source!CS15, "")
F22: Вид операции | G22: =IF(Source!CT15 <> "", Source!CT15, "")
D24: Номер документа | E24: Дата составления | F24: Отчетный период
F25: с | G25: по
D26: =IF(Source!CN15 <> "", Source!CN15, "") | E26: 43230.64
A28: AKT
A29: О ПРИЕМКЕ ВЫПОЛНЕННЫХ РАБОТ
A31: Сметная (договорная) стоимость в соответствии с договором подряда (субподряда) | F31: =(Source!P139/1000) -> 134.04086 | H31: тыс.руб
A33: Номер | C33: Наименование работ | D33: Номер единичной расценки | E33: Единица измерения | F33: Выполнено работ
A34: по порядку | B34: поз. по смете | F34: Количество | G34: цена за единицу, руб | H34: стоимость, руб
A35: 1 | B35: 2 | C35: 3 | D35: 4 | E35: 5 | F35: 6 | G35: 7 | H35: 8
A37: =CONCATENATE("Локальная смета: ",IF(Source!G20<>"Новая локальная смета", Source!G20, "")) -> Локальная смета:
A38: 1 | B38: =Source!E25 -> 1 | C38: =Source!G25 -> Разборка плинтусов деревянных и из пластмассовых материалов | D38: =Source!F25 -> 57-3-1 | E38: =Source!H25 -> 100 м | F38: =Source!I25 -> 0.232 | G38: =Source!AB25 -> 29.41 | H38: =Source!O25 -> 41.48 | T38: =Source!O25+Source!X25+Source!Y25 -> 102.87 | U38: =Source!P25 -> 0 | V38: =Source!S25 -> 41.48 | W38: =Source!Q25 -> 0 | X38: =Source!R25 -> 0 | Y38: =Source!U25 -> 0.87464 | Z38: =Source!V25 -> 0 | AA38: =Source!X25 -> 33.18 | AB38: =Source!Y25 -> 28.21
C39: ="Объем: "&Source!I25&"=23,2/"&"100" -> Объем: 0,232=23,2/100
C40: Коэфф. к ОЗП | D40: =Source!BA25 -> 6.08
C41: Коэфф. к эксплуатации машин | D41: =Source!BB25 -> 6.08
C42: Коэфф. к материалам | D42: =Source!BC25 -> 6.08
C43: Коэфф. к ЗПМ | D43: =Source!BS25 -> 6.08
C44: % НР | F44: =Source!BZ25 -> 80 | G44: =(Source!AF25+Source!AE25)*Source!FX25/100 -> 23.528 | H44: =Source!X25 -> 33.18
C45: % СП | F45: =Source!CA25 -> 68 | G45: =(Source!AF25+Source!AE25)*Source!FY25/100 -> 19.9988 | H45: =Source!Y25 -> 28.21
C46: Итого с НР и СП | G46: =((Source!AF25+Source!AE25)*Source!FX25/100)+((Source!AF25+Source!AE25)*Source!FY25/100)+Source!AB25 -> 72.9368 | H46: =Source!O25+Source!X25+Source!Y25 -> 102.87
...

Sheet Source
A1: 0 | B1: Smeta.RU (495) 974-1589 | D1: _PS_ | F1: 0 | G1: 0 | H1: 0 | I1: Smeta.RU | J1: НИЯУ МИФИ Доп. раб. место MCCS-0027251 | K1: 0 | L1: 27251 | M1: 10
A12: 1 | B12: 170 | C12: 0 | D12: =ROW(A109) -> 109 | E12: 0 | G12: Капитальный ремонт помещения №36 ОТИ НИЯУ МИФИ | I12: 0 | K12: 0 | O12: 0 | P12: 0 | Q12: 0 | R12: 0 | S12: 0 | V12: 0 | BH12: Сметные нормы списания | BI12: Коды ценников | BJ12: 1 | BK12: 1 | BL12: 0 | BM12: 0 | BN12: 1 | BO12: 0 | BP12: 6 | BQ12: 2 | BR12: 1 | BS12: 1 | BT12: 0 | BU12: 0 | BV12: 0 | BW12: 0 | BX12: 0 | BY12: ФЕР-2017 | BZ12: ТР для Версии 10: Центральные регионы (с учетом п-ма 2536-ИП/12/ГС от 22.03.2017 г | CA12: ФЕР-2017 | CB12: ФЕР-2017 | CC12: ФЕР-2017 | CD12: ФЕР-2017 | CE12: Поправки для ГСН 2017 от 31.03.2017 г | CF12: 0 | CG12: 0 | CH12: 524296 | CK12: 4 | EC12: 0
A15: 15 | B15: 1
A18: 52 | B18: =B109 -> 170 | C18: =C109 -> 1 | D18: =D109 -> 12 | E18: =E109 -> 0 | F18: =F109 | G18: =G109 -> Капитальный ремонт помещения №36 ОТИ НИЯУ МИФИ | O18: =O109 -> 15406.32 | P18: =P109 -> 13134.48 | Q18: =Q109 -> 59.39 | R18: =R109 -> 19.95 | S18: =S109 -> 2212.45 | T18: =T109 -> 0 | U18: =U109 -> 258.46642 | V18: =V109 -> 1.7466025 | ... GX18: =GX109 -> 0
A20: 3 | B20: 1 | D20: =ROW(A77) -> 77 | F20: Новая локальная смета | G20: Новая локальная смета | I20: 0 | K20: 0 | V20: 0 | BX20: 0 | CF20: 0 | CG20: 0
A22: 52 | B22: =B77 -> 1 | C22: =C77 -> 3 | D22: =D77 -> 20 | E22: =E77 -> 0 | F22: =F77 -> Новая локальная смета | G22: =G77 -> Новая локальная смета | O22: =O77 -> 15406.32 | P22: =P77 -> 13134.48 | Q22: =Q77 -> 59.39 | R22: =R77 -> 19.95 | S22: =S77 -> 2212.45 | T22: =T77 -> 0 | U22: =U77 -> 258.46642 | V22: =V77 -> 1.7466025 | ... GX22: =GX77 -> 0
A24: 17 | B24: 1 | C24: =ROW(SmtRes!A1) -> 1 | D24: =ROW(EtalonRes!A2) -> 2 | E24: 1 | F24: 57-3-1 | G24: Разборка плинтусов деревянных и из пластмассовых материалов | H24: 100 м | I24: =ROUND(23.2/100,9) -> 0.232 | J24: 0 | O24: =ROUND(CP24,2) -> 6.82 | P24: =ROUND(CQ24*I24,2) -> 0 | Q24: =ROUND(CR24*I24,2) -> 0 | R24: =ROUND(CS24*I24,2) -> 0 | S24: =ROUND(CT24*I24,2) -> 6.82 | T24: =ROUND(CU24*I24,2) -> 0 | U24: =CV24*I24 -> 0.87464 | V24: =CW24*I24 -> 0 | W24: =ROUND(CX24*I24,2) -> 0 | X24: =ROUND(CY24,2) -> 5.46 | Y24: =ROUND(CZ24,2) -> 4.64 | AA24: 16501254 | AB24: =ROUND((AC24+AD24+AF24),6) -> 29.41 | AC24: =ROUND((ES24),6) -> 0 | AD24: =ROUND((((ET24)-(EU24))+AE24),6) -> 0 | AE24: =ROUND((EU24),6) -> 0 | AF24: =ROUND((EV24),6) -> 29.41 | AG24: =ROUND((AP24),6) -> 0 | AH24: =(EW24) -> 3.77 | AI24: =(EX24) -> 0 | AJ24: =ROUND((AS24),6) -> 0 | AK24: 29.41 | AL24: 0 | AM24: 0 | AN24: 0 | AO24: 29.41 | AP24: 0 | AQ24: 3.77 | AR24: 0 | AS24: 0 | AT24: 80 | AU24: 68 | AV24: 1 | AW24: 1 | AZ24: 1 | BA24: 1 | BB24: 1 | BC24: 1 | BH24: 0 | BI24: 1 | BJ24: ФЕР-2001, 57-3-1, приказ Минстроя России №1039/пр от 30.12.2016г. | BM24: 57001 | BN24: 0 | BP24: 0 | BQ24: 6 | BR24: 0 | BS24: 1 | BT24: 1 | BU24: 1 | BV24: 1 | BW24: 1 | BX24: 1 | BZ24: 80 | CA24: 68 | CF24: 0 | CG24: 0 | CM24: 0 | CO24: 0 | CP24: =(P24+Q24+S24) -> 6.82 | CQ24: =AC24*BC24 -> 0 | CR24: =AD24*BB24 -> 0 | CS24: =AE24*BS24 -> 0 | CT24: =AF24*BA24 -> 29.41 | CU24: =AG24 -> 0 | CV24: =AH24 -> 3.77 | CW24: =AI24 -> 0 | CX24: =AJ24 -> 0 | CY24: =(((S24+R24)*AT24)/100) -> 5.456 | CZ24: =(((S24+R24)*AU24)/100) -> 4.6376 | DN24: 0 | DO24: 0 | DP24: 1 | DQ24: 1 | DU24: 1003 | DV24: 100 м | DW24: 100 м | DX24: 100 | EE24: 16510566 | EF24: 6 | EG24: Ремонтно-строительные работы | EH24: 0 | EJ24: 1 | EK24: 57001 | EL24: Полы | EM24: рФЕР-57 | EQ24: 0 | ER24: 29.41 | ES24: 0 | ET24: 0 | EU24: 0 | EV24: 29.41 | EW24: 3.77 | EX24: 0 | EY24: 0 | FQ24: 0 | FR24: =ROUND(IF(AND(BH24=3,BI24=3),P24,0),2) -> 0 | FS24: 0 | FX24: 80 | FY24: 68 | GD24: 0 | GF24: -1431764135 | GG24: 2 | GH24: 1 | GI24: -2 | GJ24: 0 | GK24: =ROUND(R24*(R12)/100,2) -> 0 | GL24: =ROUND(IF(AND(BH24=3,BI24=3,FS24<>0),P24,0),2) -> 0 | GM24: =ROUND(O24+X24+Y24+GK24,2)+GX24 -> 16.92 | GN24: =IF(OR(BI24=0,BI24=1),ROUND(O24+X24+Y24+GK24,2),0) -> 16.92 | GO24: =IF(BI24=2,ROUND(O24+X24+Y24+GK24,2),0) -> 0 | GP24: =IF(BI24=4,ROUND(O24+X24+Y24+GK24,2)+GX24,0) -> 0 | GR24: 0 | GS24: 3 | GT24: 0 | GV24: =ROUND(GT24,6) -> 0 | GW24: 1 | GX24: =ROUND(GV24*GW24*I24,2) -> 0 | HA24: 0 | HB24: 0 | IK24: 0
A25: 17 | B25: 1 | C25: =ROW(SmtRes!A2) -> 2 | D25: =ROW(EtalonRes!A4) -> 4 | E25: 1 | F25: 57-3-1 | G25: Разборка плинтусов деревянных и из пластмассовых материалов | H25: 100 м | I25: =ROUND(23.2/100,9) -> 0.232 | J25: 0 | O25: =ROUND(CP25,2) -> 41.48 | P25: =ROUND(CQ25*I25,2) -> 0 | Q25: =ROUND(CR25*I25,2) -> 0 | R25: =ROUND(CS25*I25,2) -> 0 | S25: =ROUND(CT25*I25,2) -> 41.48 | T25: =ROUND(CU25*I25,2) -> 0 | U25: =CV25*I25 -> 0.87464 | V25: =CW25*I25 -> 0 | W25: =ROUND(CX25*I25,2) -> 0 | X25: =ROUND(CY25,2) -> 33.18 | Y25: =ROUND(CZ25,2) -> 28.21 | AA25: 16501255 | AB25: =ROUND((AC25+AD25+AF25),6) -> 29.41 | AC25: =ROUND((ES25),6) -> 0 | AD25: =ROUND((((ET25)-(EU25))+AE25),6) -> 0 | AE25: =ROUND((EU25),6) -> 0 | AF25: =ROUND((EV25),6) -> 29.41 | AG25: =ROUND((AP25),6) -> 0 | AH25: =(EW25) -> 3.77 | AI25: =(EX25) -> 0 | AJ25: =ROUND((AS25),6) -> 0 | AK25: 29.41 | AL25: 0 | AM25: 0 | AN25: 0 | AO25: 29.41 | AP25: 0 | AQ25: 3.77 | AR25: 0 | AS25: 0 | AT25: 80 | AU25: 68 | AV25: 1 | AW25: 1 | AZ25: 6.08 | BA25: 6.08 | BB25: 6.08 | BC25: 6.08 | BH25: 0 | BI25: 1 | BJ25: ФЕР-2001, 57-3-1, приказ Минстроя России №1039/пр от 30.12.2016г. | BM25: 57001 | BN25: 0 | BP25: 0 | BQ25: 6 | BR25: 0 | BS25: 6.08 | BT25: 1 | BU25: 1 | BV25: 1 | BW25: 1 | BX25: 1 | BZ25: 80 | CA25: 68 | CF25: 0 | CG25: 0 | CM25: 0 | CO25: 0 | CP25: =(P25+Q25+S25) -> 41.48 | CQ25: =AC25*BC25 -> 0 | CR25: =AD25*BB25 -> 0 | CS25: =AE25*BS25 -> 0 | CT25: =AF25*BA25 -> 178.8128 | CU25: =AG25 -> 0 | CV25: =AH25 -> 3.77 | CW25: =AI25 -> 0 | CX25: =AJ25 -> 0 | CY25: =(((S25+R25)*AT25)/100) -> 33.184 | CZ25: =(((S25+R25)*AU25)/100) -> 28.2064 | DN25: 0 | DO25: 0 | DP25: 1 | DQ25: 1 | DU25: 1003 | DV25: 100 м | DW25: 100 м | DX25: 100 | EE25: 16510566 | EF25: 6 | EG25: Ремонтно-строительные работы | EH25: 0 | EJ25: 1 | EK25: 57001 | EL25: Полы | EM25: рФЕР-57 | EQ25: 0 | ER25: 29.41 | ES25: 0 | ET25: 0 | EU25: 0 | EV25: 29.41 | EW25: 3.77 | EX25: 0 | EY25: 0 | FQ25: 0 | FR25: =ROUND(IF(AND(BH25=3,BI25=3),P25,0),2) -> 0 | FS25: 0 | FX25: 80 | FY25: 68 | GD25: 0 | GF25: -1431764135 | GG25: 1 | GH25: 1 | GI25: 4 | GJ25: 0 | GK25: =ROUND(R25*(S12)/100,2) -> 0 | GL25: =ROUND(IF(AND(BH25=3,BI25=3,FS25<>0),P25,0),2) -> 0 | GM25: =ROUND(O25+X25+Y25+GK25,2)+GX25 -> 102.87 | GN25: =IF(OR(BI25=0,BI25=1),ROUND(O25+X25+Y25+GK25,2),0) -> 102.87 | GO25: =IF(BI25=2,ROUND(O25+X25+Y25+GK25,2),0) -> 0 | GP25: =IF(BI25=4,ROUND(O25+X25+Y25+GK25,2)+GX25,0) -> 0 | GR25: 0 | GS25: 3 | GT25: 0 | GV25: =ROUND(GT25,6) -> 0 | GW25: 1 | GX25: =ROUND(GV25*GW25*I25,2) -> 0 | HA25: 0 | HB25: 0 | IK25: 0
A26: 17 | B26: 1 | C26: =ROW(SmtRes!A5) -> 5 | D26: =ROW(EtalonRes!A8) -> 8 | E26: 2 | F26: 57-2-1 | G26: Разборка покрытий полов из линолеума и релина | H26: 100 м2 | I26: =ROUND(36.3/100,9) -> 0.363 | J26: 0 | O26: =ROUND(CP26,2) -> 33.72 | P26: =ROUND(CQ26*I26,2) -> 0 | Q26: =ROUND(CR26*I26,2) -> 1.47 | R26: =ROUND(CS26*I26,2) -> 0.64 | S26: =ROUND(CT26*I26,2) -> 32.25 | T26: =ROUND(CU26*I26,2) -> 0 | U26: =CV26*I26 -> 4.13457 | V26: =CW26*I26 -> 0.04719 | W26: =ROUND(CX26*I26,2) -> 0 | X26: =ROUND(CY26,2) -> 26.31 | Y26: =ROUND(CZ26,2) -> 22.37 | AA26: 16501254 | AB26: =ROUND((AC26+AD26+AF26),6) -> 92.9 | AC26: =ROUND((ES26),6) -> 0 | AD26: =ROUND((((ET26)-(EU26))+AE26),6) -> 4.06 | AE26: =ROUND((EU26),6) -> 1.76 | AF26: =ROUND((EV26),6) -> 88.84 | AG26: =ROUND((AP26),6) -> 0 | AH26: =(EW26) -> 11.39 | AI26: =(EX26) -> 0.13 | AJ26: =ROUND((AS26),6) -> 0 | AK26: 92.9 | AL26: 0 | AM26: 4.06 | AN26: 1.76 | AO26: 88.84 | AP26: 0 | AQ26: 11.39 | AR26: 0.13 | AS26: 0 | AT26: 80 | AU26: 68 | AV26: 1 | AW26: 1 | AZ26: 1 | BA26: 1 | BB26: 1 | BC26: 1 | BH26: 0 | BI26: 1 | BJ26: ФЕР-2001, 57-2-1, приказ Минстроя России №1039/пр от 30.12.2016г. | BM26: 57001 | BN26: 0 | BP26: 0 | BQ26: 6 | BR26: 0 | BS26: 1 | BT26: 1 | BU26: 1 | BV26: 1 | BW26: 1 | BX26: 1 | BZ26: 80 | CA26: 68 | CF26: 0 | CG26: 0 | CM26: 0 | CO26: 0 | CP26: =(P26+Q26+S26) -> 33.72 | CQ26: =AC26*BC26 -> 0 | CR26: =AD26*BB26 -> 4.06 | CS26: =AE26*BS26 -> 1.76 | CT26: =AF26*BA26 -> 88.84 | CU26: =AG26 -> 0 | CV26: =AH26 -> 11.39 | CW26: =AI26 -> 0.13 | CX26: =AJ26 -> 0 | CY26: =(((S26+R26)*AT26)/100) -> 26.312 | CZ26: =(((S26+R26)*AU26)/100) -> 22.3652 | DN26: 0 | DO26: 0 | DP26: 1 | DQ26: 1 | DU26: 1005 | DV26: 100 м2 | DW26: 100 м2 | DX26: 100 | EE26: 16510566 | EF26: 6 | EG26: Ремонтно-строительные работы | EH26: 0 | EJ26: 1 | EK26: 57001 | EL26: Полы | EM26: рФЕР-57 | EQ26: 0 | ER26: 92.9 | ES26: 0 | ET26: 4.06 | EU26: 1.76 | EV26: 88.84 | EW26: 11.39 | EX26: 0.13 | EY26: 0 | FQ26: 0 | FR26: =ROUND(IF(AND(BH26=3,BI26=3),P26,0),2) -> 0 | FS26: 0 | FX26: 80 | FY26: 68 | GD26: 0 | GF26: -1228944231 | GG26: 2 | GH26: 1 | GI26: -2 | GJ26: 0 | GK26: =ROUND(R26*(R12)/100,2) -> 0 | GL26: =ROUND(IF(AND(BH26=3,BI26=3,FS26<>0),P26,0),2) -> 0 | GM26: =ROUND(O26+X26+Y26+GK26,2)+GX26 -> 82.4 | GN26: =IF(OR(BI26=0,BI26=1),ROUND(O26+X26+Y26+GK26,2),0) -> 82.4 | GO26: =IF(BI26=2,ROUND(O26+X26+Y26+GK26,2),0) -> 0 | GP26: =IF(BI26=4,ROUND(O26+X26+Y26+GK26,2)+GX26,0) -> 0 | GR26: 0 | GS26: 3 | GT26: 0 | GV26: =ROUND(GT26,6) -> 0 | GW26: 1 | GX26: =ROUND(GV26*GW26*I26,2) -> 0 | HA26: 0 | HB26: 0 | IK26: 0
A27: 17 | B27: 1 | C27: =ROW(SmtRes!A8) -> 8 | D27: =ROW(EtalonRes!A12) -> 12 | E27: 2 | F27: 57-2-1 | G27: Разборка покрытий полов из линолеума и релина | H27: 100 м2 | I27: =ROUND(36.3/100,9) -> 0.363 | J27: 0 | O27: =ROUND(CP27,2) -> 205.03 | P27: =ROUND(CQ27*I27,2) -> 0 | Q27: =ROUND(CR27*I27,2) -> 8.96 | R27: =ROUND(CS27*I27,2) -> 3.88 | S27: =ROUND(CT27*I27,2) -> 196.07 | T27: =ROUND(CU27*I27,2) -> 0 | U27: =CV27*I27 -> 4.13457 | V27: =CW27*I27 -> 0.04719 | W27: =ROUND(CX27*I27,2) -> 0 | X27: =ROUND(CY27,2) -> 159.96 | Y27: =ROUND(CZ27,2) -> 135.97 | AA27: 16501255 | AB27: =ROUND((AC27+AD27+AF27),6) -> 92.9 | AC27: =ROUND((ES27),6) -> 0 | AD27: =ROUND((((ET27)-(EU27))+AE27),6) -> 4.06 | AE27: =ROUND((EU27),6) -> 1.76 | AF27: =ROUND((EV27),6) -> 88.84 | AG27: =ROUND((AP27),6) -> 0 | AH27: =(EW27) -> 11.39 | AI27: =(EX27) -> 0.13 | AJ27: =ROUND((AS27),6) -> 0 | AK27: 92.9 | AL27: 0 | AM27: 4.06 | AN27: 1.76 | AO27: 88.84 | AP27: 0 | AQ27: 11.39 | AR27: 0.13 | AS27: 0 | AT27: 80 | AU27: 68 | AV27: 1 | AW27: 1 | AZ27: 6.08 | BA27: 6.08 | BB27: 6.08 | BC27: 6.08 | BH27: 0 | BI27: 1 | BJ27: ФЕР-2001, 57-2-1, приказ Минстроя России №1039/пр от 30.12.2016г. | BM27: 57001 | BN27: 0 | BP27: 0 | BQ27: 6 | BR27: 0 | BS27: 6.08 | BT27: 1 | BU27: 1 | BV27: 1 | BW27: 1 | BX27: 1 | BZ27: 80 | CA27: 68 | CF27: 0 | CG27: 0 | CM27: 0 | CO27: 0 | CP27: =(P27+Q27+S27) -> 205.03 | CQ27: =AC27*BC27 -> 0 | CR27: =AD27*BB27 -> 24.6848 | CS27: =AE27*BS27 -> 10.7008 | CT27: =AF27*BA27 -> 540.1472 | CU27: =AG27 -> 0 | CV27: =AH27 -> 11.39 | CW27: =AI27 -> 0.13 | CX27: =AJ27 -> 0 | CY27: =(((S27+R27)*AT27)/100) -> 159.96 | CZ27: =(((S27+R27)*AU27)/100) -> 135.966 | DN27: 0 | DO27: 0 | DP27: 1 | DQ27: 1 | DU27: 1005 | DV27: 100 м2 | DW27: 100 м2 | DX27: 100 | EE27: 16510566 | EF27: 6 | EG27: Ремонтно-строительные работы | EH27: 0 | EJ27: 1 | EK27: 57001 | EL27: Полы | EM27: рФЕР-57 | EQ27: 0 | ER27: 92.9 | ES27: 0 | ET27: 4.06 | EU27: 1.76 | EV27: 88.84 | EW27: 11.39 | EX27: 0.13 | EY27: 0 | FQ27: 0 | FR27: =ROUND(IF(AND(BH27=3,BI27=3),P27,0),2) -> 0 | FS27: 0 | FX27: 80 | FY27: 68 | GD27: 0 | GF27: -1228944231 | GG27: 1 | GH27: 1 | GI27: 4 | GJ27: 0 | GK27: =ROUND(R27*(S12)/100,2) -> 0 | GL27: =ROUND(IF(AND(BH27=3,BI27=3,FS27<>0),P27,0),2) -> 0 | GM27: =ROUND(O27+X27+Y27+GK27,2)+GX27 -> 500.96 | GN27: =IF(OR(BI27=0,BI27=1),ROUND(O27+X27+Y27+GK27,2),0) -> 500.96 | GO27: =IF(BI27=2,ROUND(O27+X27+Y27+GK27,2),0) -> 0 | GP27: =IF(BI27=4,ROUND(O27+X27+Y27+GK27,2)+GX27,0) -> 0 | GR27: 0 | GS27: 3 | GT27: 0 | GV27: =ROUND(GT27,6) -> 0 | GW27: 1 | GX27: =ROUND(GV27*GW27*I27,2) -> 0 | HA27: 0 | HB27: 0 | IK27: 0
A28: 17 | B28: 1 | C28: =ROW(SmtRes!A15) -> 15 | D28: =ROW(EtalonRes!A19) -> 19 | E28: 3 | F28: 11-01-011-08 | G28: Устройство стяжек из выравнивающей смеси типа "Ветонит" 5000, толщиной 5 мм | H28: 100 м2 | I28: =ROUND(36.3/100,9) -> 0.363 | J28: 0 | O28: =ROUND(CP28,2) -> 4021.55 | P28: =ROUND(CQ28*I28,2) -> 3884.58 | Q28: =ROUND(CR28*I28,2) -> 2.83 | R28: =ROUND(CS28*I28,2) -> 0.89 | S28: =ROUND(CT28*I28,2) -> 134.14 | T28: =ROUND(CU28*I28,2) -> 0 | U28: =CV28*I28 -> 15.725341 | V28: =CW28*I28 -> 0.0771375 | W28: =ROUND(CX28*I28,2) -> 0 | X28: =ROUND(CY28,2) -> 149.88 | Y28: =ROUND(CZ28,2) -> 86.42 | AA28: 16501254 | AB28: =ROUND((AC28+AD28+AF28),6) -> 11078.647 | AC28: =ROUND((ES28),6) -> 10701.33 | AD28: =ROUND(((((ET28*1.25))-((EU28*1.25)))+AE28),6) -> 7.7875 | AE28: =ROUND(((EU28*1.25)),6) -> 2.4625 | AF28: =ROUND(((EV28*1.15)),6) -> 369.5295 | AG28: =ROUND((AP28),6) -> 0 | AH28: =((EW28*1.15)) -> 43.3205 | AI28: =((EX28*1.25)) -> 0.2125 | AJ28: =ROUND((AS28),6) -> 0 | AK28: 11028.89 | AL28: 10701.33 | AM28: 6.23 | AN28: 1.97 | AO28: 321.33 | AP28: 0 | AQ28: 37.67 | AR28: 0.17 | AS28: 0 | AT28: 111 | AU28: 64 | AV28: 1 | AW28: 1 | AZ28: 1 | BA28: 1 | BB28: 1 | BC28: 1 | BH28: 0 | BI28: 1 | BJ28: ФЕР-2001, 11-01-011-08, приказ Минстроя России №1039/пр от 30.12.2016г. | BM28: 11001 | BN28: 0 | BP28: 0 | BQ28: 2 | BR28: 0 | BS28: 1 | BT28: 1 | BU28: 1 | BV28: 1 | BW28: 1 | BX28: 1 | BZ28: 123 | CA28: 75 | CF28: 0 | CG28: 0 | CM28: 0 | CN28: Поправка: МДС 81-35.2004, п.4.7 Наименование: Работы, выполняемые при реконструкции зданий и сооружений работы, аналогичные технологическим процессам в новом строительстве (в том числе возведение новых конструктивных элементов) стоимость которых определена по соответствующим сборникам ФЕР, кроме сборника № 46 «Работы при реконструкции зданий и сооружений» | CO28: 0 | CP28: =(P28+Q28+S28) -> 4021.55 | CQ28: =AC28*BC28 -> 10701.33 | CR28: =AD28*BB28 -> 7.7875 | CS28: =AE28*BS28 -> 2.4625 | CT28: =AF28*BA28 -> 369.5295 | CU28: =AG28 -> 0 | CV28: =AH28 -> 43.3205 | CW28: =AI28 -> 0.2125 | CX28: =AJ28 -> 0 | CY28: =(((S28+R28)*AT28)/100) -> 149.8833 | CZ28: =(((S28+R28)*AU28)/100) -> 86.4192 | DE28: )*1,25 | DF28: )*1,25 | DG28: )*1,15 | DI28: )*1,15 | DJ28: )*1,25 | DN28: 0 | DO28: 0 | DP28: 1 | DQ28: 1 | DU28: 1005 | DV28: 100 м2 | DW28: 100 м2 | DX28: 100 | EE28: 16510488 | EF28: 2 | EG28: Общестроительные работы | EH28: 0 | EJ28: 1 | EK28: 11001 | EL28: Полы | EM28: ФЕР-11 | EO28: Поправка: МДС 81-35.2004, п.4.7 | EQ28: 0 | ER28: 11028.89 | ES28: 10701.33 | ET28: 6.23 | EU28: 1.97 | EV28: 321.33 | EW28: 37.67 | EX28: 0.17 | EY28: 0 | FQ28: 0 | FR28: =ROUND(IF(AND(BH28=3,BI28=3),P28,0),2) -> 0 | FS28: 0 | FT28: *0,9 | FU28: *0,85 | FX28: 110.7 | FY28: 63.75 | GD28: 0 | GF28: 1715562049 | GG28: 2 | GH28: 1 | GI28: -2 | GJ28: 0 | GK28: =ROUND(R28*(R12)/100,2) -> 0 | GL28: =ROUND(IF(AND(BH28=3,BI28=3,FS28<>0),P28,0),2) -> 0 | GM28: =ROUND(O28+X28+Y28+GK28,2)+GX28 -> 4257.85 | GN28: =IF(OR(BI28=0,BI28=1),ROUND(O28+X28+Y28+GK28,2),0) -> 4257.85 | GO28: =IF(BI28=2,ROUND(O28+X28+Y28+GK28,2),0) -> 0 | GP28: =IF(BI28=4,ROUND(O28+X28+Y28+GK28,2)+GX28,0) -> 0 | GR28: 0 | GS28: 3 | GT28: 0 | GV28: =ROUND(GT28,6) -> 0 | GW28: 1 | GX28: =ROUND(GV28*GW28*I28,2) -> 0 | HA28: 0 | HB28: 0 | IK28: 0
A29: 17 | B29: 1 | C29: =ROW(SmtRes!A22) -> 22 | D29: =ROW(EtalonRes!A26) -> 26 | E29: 3 | F29: 11-01-011-08 | G29: Устройство стяжек из выравнивающей смеси типа "Ветонит" 5000, толщиной 5 мм | H29: 100 м2 | I29: =ROUND(36.3/100,9) -> 0.363 | J29: 0 | O29: =ROUND(CP29,2) -> 24451.02 | P29: =ROUND(CQ29*I29,2) -> 23618.26 | Q29: =ROUND(CR29*I29,2) -> 17.19 | R29: =ROUND(CS29*I29,2) -> 5.43 | S29: =ROUND(CT29*I29,2) -> 815.57 | T29: =ROUND(CU29*I29,2) -> 0 | U29: =CV29*I29 -> 15.725341 | V29: =CW29*I29 -> 0.0771375 | W29: =ROUND(CX29*I29,2) -> 0 | X29: =ROUND(CY29,2) -> 911.31 | Y29: =ROUND(CZ29,2) -> 525.44 | AA29: 16501255 | AB29: =ROUND((AC29+AD29+AF29),6) -> 11078.647 | AC29: =ROUND((ES29),6) -> 10701.33 | AD29: =ROUND(((((ET29*1.25))-((EU29*1.25)))+AE29),6) -> 7.7875 | AE29: =ROUND(((EU29*1.25)),6) -> 2.4625 | AF29: =ROUND(((EV29*1.15)),6) -> 369.5295 | AG29: =ROUND((AP29),6) -> 0 | AH29: =((EW29*1.15)) -> 43.3205 | AI29: =((EX29*1.25)) -> 0.2125 | AJ29: =ROUND((AS29),6) -> 0 | AK29: 11028.89 | AL29: 10701.33 | AM29: 6.23 | AN29: 1.97 | AO29: 321.33 | AP29: 0 | AQ29: 37.67 | AR29: 0.17 | AS29: 0 | AT29: 111 | AU29: 64 | AV29: 1 | AW29: 1 | AZ29: 6.08 | BA29: 6.08 | BB29: 6.08 | BC29: 6.08 | BH29: 0 | BI29: 1 | BJ29: ФЕР-2001, 11-01-011-08, приказ Минстроя России №1039/пр от 30.12.2016г. | BM29: 11001 | BN29: 0 | BP29: 0 | BQ29: 2 | BR29: 0 | BS29: 6.08 | BT29: 1 | BU29: 1 | BV29: 1 | BW29: 1 | BX29: 1 | BZ29: 123 | CA29: 75 | CF29: 0 | CG29: 0 | CM29: 0 | CN29: Поправка: МДС 81-35.2004, п.4.7 Наименование: Работы, выполняемые при реконструкции зданий и сооружений работы, аналогичные технологическим процессам в новом строительстве (в том числе возведение новых конструктивных элементов) стоимость которых определена по соответствующим сборникам ФЕР, кроме сборника № 46 «Работы при реконструкции зданий и сооружений» | CO29: 0 | CP29: =(P29+Q29+S29) -> 24451.02 | CQ29: =AC29*BC29 -> 65064.086 | CR29: =AD29*BB29 -> 47.348 | CS29: =AE29*BS29 -> 14.972 | CT29: =AF29*BA29 -> 2246.7394 | CU29: =AG29 -> 0 | CV29: =AH29 -> 43.3205 | CW29: =AI29 -> 0.2125 | CX29: =AJ29 -> 0 | CY29: =(((S29+R29)*AT29)/100) -> 911.31 | CZ29: =(((S29+R29)*AU29)/100) -> 525.44 | DE29: )*1,25 | DF29: )*1,25 | DG29: )*1,15 | DI29: )*1,15 | DJ29: )*1,25 | DN29: 0 | DO29: 0 | DP29: 1 | DQ29: 1 | DU29: 1005 | DV29: 100 м2 | DW29: 100 м2 | DX29: 100 | EE29: 16510488 | EF29: 2 | EG29: Общестроительные работы | EH29: 0 | EJ29: 1 | EK29: 11001 | EL29: Полы | EM29: ФЕР-11 | EO29: Поправка: МДС 81-35.2004, п.4.7 | EQ29: 0 | ER29: 11028.89 | ES29: 10701.33 | ET29: 6.23 | EU29: 1.97 | EV29: 321.33 | EW29: 37.67 | EX29: 0.17 | EY29: 0 | FQ29: 0 | FR29: =ROUND(IF(AND(BH29=3,BI29=3),P29,0),2) -> 0 | FS29: 0 | FT29: *0,9 | FU29: *0,85 | FX29: 110.7 | FY29: 63.75 | GD29: 0 | GF29: 1715562049 | GG29: 1 | GH29: 1 | GI29: 4 | GJ29: 0 | GK29: =ROUND(R29*(S12)/100,2) -> 0 | GL29: =ROUND(IF(AND(BH29=3,BI29=3,FS29<>0),P29,0),2) -> 0 | GM29: =ROUND(O29+X29+Y29+GK29,2)+GX29 -> 25887.77 | GN29: =IF(OR(BI29=0,BI29=1),ROUND(O29+X29+Y29+GK29,2),0) -> 25887.77 | GO29: =IF(BI29=2,ROUND(O29+X29+Y29+GK29,2),0) -> 0 | GP29: =IF(BI29=4,ROUND(O29+X29+Y29+GK29,2)+GX29,0) -> 0 | GR29: 0 | GS29: 3 | GT29: 0 | GV29: =ROUND(GT29,6) -> 0 | GW29: 1 | GX29: =ROUND(GV29*GW29*I29,2) -> 0 | HA29: 0 | HB29: 0 | IK29: 0
A30: 17 | B30: 1 | C30: =ROW(SmtRes!A28) -> 28 | D30: =ROW(EtalonRes!A32) -> 32 | E30: 4 | F30: 11-01-011-10 | G30: Устройство стяжек на каждый последующий слой толщиной 1 мм добавлять к расценке 11-01-011-08 | H30: 100 м2 | I30: =ROUND(36.3/100,9) -> 0.363 | J30: 0 | O30: =ROUND(CP30,2) -> 3764.31 | P30: =ROUND(CQ30*I30,2) -> 3718.48 | Q30: =ROUND(CR30*I30,2) -> 2.75 | R30: =ROUND(CS30*I30,2) -> 0.79 | S30: =ROUND(CT30*I30,2) -> 43.08 | T30: =ROUND(CU30*I30,2) -> 0 | U30: =CV30*I30 -> 5.051145 | V30: =CW30*I30 -> 0.0680625 | W30: =ROUND(CX30*I30,2) -> 0 | X30: =ROUND(CY30,2) -> 48.7 | Y30: =ROUND(CZ30,2) -> 28.08 | AA30: 16501254 | AB30: =ROUND((AC30+AD30+AF30),6) -> 10369.993 | AC30: =ROUND(((ES30*5)),6) -> 10243.75 | AD30: =ROUND((((((ET30*5)*1.25))-(((EU30*5)*1.25)))+AE30),6) -> 7.5625 | AE30: =ROUND((((EU30*5)*1.25)),6) -> 2.1875 | AF30: =ROUND((((EV30*5)*1.15)),6) -> 118.68 | AG30: =ROUND((AP30),6) -> 0 | AH30: =(((EW30*5)*1.15)) -> 13.915 | AI30: =(((EX30*5)*1.25)) -> 0.1875 | AJ30: =ROUND((AS30),6) -> 0 | AK30: 2070.6 | AL30: 2048.75 | AM30: 1.21 | AN30: 0.35 | AO30: 20.64 | AP30: 0 | AQ30: 2.42 | AR30: 0.03 | AS30: 0 | AT30: 111 | AU30: 64 | AV30: 1 | AW30: 1 | AZ30: 1 | BA30: 1 | BB30: 1 | BC30: 1 | BH30: 0 | BI30: 1 | BJ30: ФЕР-2001, 11-01-011-10, приказ Минстроя России №1039/пр от 30.12.2016г. | BM30: 11001 | BN30: 0 | BP30: 0 | BQ30: 2 | BR30: 0 | BS30: 1 | BT30: 1 | BU30: 1 | BV30: 1 | BW30: 1 | BX30: 1 | BZ30: 123 | CA30: 75 | CF30: 0 | CG30: 0 | CM30: 0 | CN30: Поправка: МДС 81-35.2004, п.4.7 Наименование: Работы, выполняемые при реконструкции зданий и сооружений работы, аналогичные технологическим процессам в новом строительстве (в том числе возведение новых конструктивных элементов) стоимость которых определена по соответствующим сборникам ФЕР, кроме сборника № 46 «Работы при реконструкции зданий и сооружений» | CO30: 0 | CP30: =(P30+Q30+S30) -> 3764.31 | CQ30: =AC30*BC30 -> 10243.75 | CR30: =AD30*BB30 -> 7.5625 | CS30: =AE30*BS30 -> 2.1875 | CT30: =AF30*BA30 -> 118.68 | CU30: =AG30 -> 0 | CV30: =AH30 -> 13.915 | CW30: =AI30 -> 0.1875 | CX30: =AJ30 -> 0 | CY30: =(((S30+R30)*AT30)/100) -> 48.6957 | CZ30: =(((S30+R30)*AU30)/100) -> 28.0768 | DD30: *5 | DE30: *5)*1,25 | DF30: *5)*1,25 | DG30: *5)*1,15 | DI30: *5)*1,15 | DJ30: *5)*1,25 | DN30: 0 | DO30: 0 | DP30: 1 | DQ30: 1 | DU30: 1005 | DV30: 100 м2 | DW30: 100 м2 | DX30: 100 | EE30: 16510488 | EF30: 2 | EG30: Общестроительные работы | EH30: 0 | EJ30: 1 | EK30: 11001 | EL30: Полы | EM30: ФЕР-11 | EO30: Поправка: МДС 81-35.2004, п.4.7 | EQ30: 0 | ER30: 2070.6 | ES30: 2048.75 | ET30: 1.21 | EU30: 0.35 | EV30: 20.64 | EW30: 2.42 | EX30: 0.03 | EY30: 0 | FQ30: 0 | FR30: =ROUND(IF(AND(BH30=3,BI30=3),P30,0),2) -> 0 | FS30: 0 | FT30: *0,9 | FU30: *0,85 | FX30: 110.7 | FY30: 63.75 | GD30: 0 | GF30: 337317905 | GG30: 2 | GH30: 1 | GI30: -2 | GJ30: 0 | GK30: =ROUND(R30*(R12)/100,2) -> 0 | GL30: =ROUND(IF(AND(BH30=3,BI30=3,FS30<>0),P30,0),2) -> 0 | GM30: =ROUND(O30+X30+Y30+GK30,2)+GX30 -> 3841.09 | GN30: =IF(OR(BI30=0,BI30=1),ROUND(O30+X30+Y30+GK30,2),0) -> 3841.09 | GO30: =IF(BI30=2,ROUND(O30+X30+Y30+GK30,2),0) -> 0 | GP30: =IF(BI30=4,ROUND(O30+X30+Y30+GK30,2)+GX30,0) -> 0 | GR30: 0 | GS30: 3 | GT30: 0 | GV30: =ROUND(GT30,6) -> 0 | GW30: 1 | GX30: =ROUND(GV30*GW30*I30,2) -> 0 | HA30: 0 | HB30: 0 | IK30: 0
A31: 17 | B31: 1 | C31: =ROW(SmtRes!A34) -> 34 | D31: =ROW(EtalonRes!A38) -> 38 | E31: 4 | F31: 11-01-011-10 | G31: Устройство стяжек на каждый последующий слой толщиной 1 мм добавлять к расценке 11-01-011-08 | H31: 100 м2 | I31: =ROUND(36.3/100,9) -> 0.363 | J31: 0 | O31: =ROUND(CP31,2) -> 22886.99 | P31: =ROUND(CQ31*I31,2) -> 22608.37 | Q31: =ROUND(CR31*I31,2) -> 16.69 | R31: =ROUND(CS31*I31,2) -> 4.83 | S31: =ROUND(CT31*I31,2) -> 261.93 | T31: =ROUND(CU31*I31,2) -> 0 | U31: =CV31*I31 -> 5.051145 | V31: =CW31*I31 -> 0.0680625 | W31: =ROUND(CX31*I31,2) -> 0 | X31: =ROUND(CY31,2) -> 296.1 | Y31: =ROUND(CZ31,2) -> 170.73 | AA31: 16501255 | AB31: =ROUND((AC31+AD31+AF31),6) -> 10369.993 | AC31: =ROUND(((ES31*5)),6) -> 10243.75 | AD31: =ROUND((((((ET31*5)*1.25))-(((EU31*5)*1.25)))+AE31),6) -> 7.5625 | AE31: =ROUND((((EU31*5)*1.25)),6) -> 2.1875 | AF31: =ROUND((((EV31*5)*1.15)),6) -> 118.68 | AG31: =ROUND((AP31),6) -> 0 | AH31: =(((EW31*5)*1.15)) -> 13.915 | AI31: =(((EX31*5)*1.25)) -> 0.1875 | AJ31: =ROUND((AS31),6) -> 0 | AK31: 2070.6 | AL31: 2048.75 | AM31: 1.21 | AN31: 0.35 | AO31: 20.64 | AP31: 0 | AQ31: 2.42 | AR31: 0.03 | AS31: 0 | AT31: 111 | AU31: 64 | AV31: 1 | AW31: 1 | AZ31: 6.08 | BA31: 6.08 | BB31: 6.08 | BC31: 6.08 | BH31: 0 | BI31: 1 | BJ31: ФЕР-2001, 11-01-011-10, приказ Минстроя России №1039/пр от 30.12.2016г. | BM31: 11001 | BN31: 0 | BP31: 0 | BQ31: 2 | BR31: 0 | BS31: 6.08 | BT31: 1 | BU31: 1 | BV31: 1 | BW31: 1 | BX31: 1 | BZ31: 123 | CA31: 75 | CF31: 0 | CG31: 0 | CM31: 0 | CN31: Поправка: МДС 81-35.2004, п.4.7 Наименование: Работы, выполняемые при реконструкции зданий и сооружений работы, аналогичные технологическим процессам в новом строительстве (в том числе возведение новых конструктивных элементов) стоимость которых определена по соответствующим сборникам ФЕР, кроме сборника № 46 «Работы при реконструкции зданий и сооружений» | CO31: 0 | CP31: =(P31+Q31+S31) -> 22886.99 | CQ31: =AC31*BC31 -> 62282 | CR31: =AD31*BB31 -> 45.98 | CS31: =AE31*BS31 -> 13.3 | CT31: =AF31*BA31 -> 721.5744 | CU31: =AG31 -> 0 | CV31: =AH31 -> 13.915 | CW31: =AI31 -> 0.1875 | CX31: =AJ31 -> 0 | CY31: =(((S31+R31)*AT31)/100) -> 296.1036 | CZ31: =(((S31+R31)*AU31)/100) -> 170.7264 | DD31: *5 | DE31: *5)*1,25 | DF31: *5)*1,25 | DG31: *5)*1,15 | DI31: *5)*1,15 | DJ31: *5)*1,25 | DN31: 0 | DO31: 0 | DP31: 1 | DQ31: 1 | DU31: 1005 | DV31: 100 м2 | DW31: 100 м2 | DX31: 100 | EE31: 16510488 | EF31: 2 | EG31: Общестроительные работы | EH31: 0 | EJ31: 1 | EK31: 11001 | EL31: Полы | EM31: ФЕР-11 | EO31: Поправка: МДС 81-35.2004, п.4.7 | EQ31: 0 | ER31: 2070.6 | ES31: 2048.75 | ET31: 1.21 | EU31: 0.35 | EV31: 20.64 | EW31: 2.42 | EX31: 0.03 | EY31: 0 | FQ31: 0 | FR31: =ROUND(IF(AND(BH31=3,BI31=3),P31,0),2) -> 0 | FS31: 0 | FT31: *0,9 | FU31: *0,85 | FX31: 110.7 | FY31: 63.75 | GD31: 0 | GF31: 337317905 | GG31: 1 | GH31: 1 | GI31: 4 | GJ31: 0 | GK31: =ROUND(R31*(S12)/100,2) -> 0 | GL31: =ROUND(IF(AND(BH31=3,BI31=3,FS31<>0),P31,0),2) -> 0 | GM31: =ROUND(O31+X31+Y31+GK31,2)+GX31 -> 23353.82 | GN31: =IF(OR(BI31=0,BI31=1),ROUND(O31+X31+Y31+GK31,2),0) -> 23353.82 | GO31: =IF(BI31=2,ROUND(O31+X31+Y31+GK31,2),0) -> 0 | GP31: =IF(BI31=4,ROUND(O31+X31+Y31+GK31,2)+GX31,0) -> 0 | GR31: 0 | GS31: 3 | GT31: 0 | GV31: =ROUND(GT31,6) -> 0 | GW31: 1 | GX31: =ROUND(GV31*GW31*I31,2) -> 0 | HA31: 0 | HB31: 0 | IK31: 0
A32: 17 | B32: 1 | C32: =ROW(SmtRes!A42) -> 42 | D32: =ROW(EtalonRes!A45) -> 45 | E32: 5 | F32: 11-01-036-01 | G32: Устройство покрытий из линолеума на клее | H32: 100 м2 | I32: =ROUND(36.3/100,9) -> 0.363 | J32: 0 | O32: =ROUND(CP32,2) -> 167.28 | P32: =ROUND(CQ32*I32,2) -> 0.33 | Q32: =ROUND(CR32*I32,2) -> 19.87 | R32: =ROUND(CS32*I32,2) -> 4.78 | S32: =ROUND(CT32*I32,2) -> 147.08 | T32: =ROUND(CU32*I32,2) -> 0 | U32: =CV32*I32 -> 17.69988 | V32: =CW32*I32 -> 0.3856875 | W32: =ROUND(CX32*I32,2) -> 0 | X32: =ROUND(CY32,2) -> 168.56 | Y32: =ROUND(CZ32,2) -> 97.19 | AA32: 16501254 | AB32: =ROUND((AC32+AD32+AF32),6) -> 460.851 | AC32: =ROUND((ES32),6) -> 0.91 | AD32: =ROUND(((((ET32*1.25))-((EU32*1.25)))+AE32),6) -> 54.75 | AE32: =ROUND(((EU32*1.25)),6) -> 13.1625 | AF32: =ROUND(((EV32*1.15)),6) -> 405.191 | AG32: =ROUND((AP32),6) -> 0 | AH32: =((EW32*1.15)) -> 48.76 | AI32: =((EX32*1.25)) -> 1.0625 | AJ32: =ROUND((AS32),6) -> 0 | AK32: 397.05 | AL32: 0.91 | AM32: 43.8 | AN32: 10.53 | AO32: 352.34 | AP32: 0 | AQ32: 42.4 | AR32: 0.85 | AS32: 0 | AT32: 111 | AU32: 64 | AV32: 1 | AW32: 1 | AZ32: 1 | BA32: 1 | BB32: 1 | BC32: 1 | BH32: 0 | BI32: 1 | BJ32: ФЕР-2001, 11-01-036-01, приказ Минстроя России №1039/пр от 30.12.2016г. | BM32: 11001 | BN32: 0 | BP32: 0 | BQ32: 2 | BR32: 0 | BS32: 1 | BT32: 1 | BU32: 1 | BV32: 1 | BW32: 1 | BX32: 1 | BZ32: 123 | CA32: 75 | CF32: 0 | CG32: 0 | CM32: 0 | CN32: Поправка: МДС 81-35.2004, п.4.7 Наименование: Работы, выполняемые при реконструкции зданий и сооружений работы, аналогичные технологическим процессам в новом строительстве (в том числе возведение новых конструктивных элементов) стоимость которых определена по соответствующим сборникам ФЕР, кроме сборника № 46 «Работы при реконструкции зданий и сооружений» | CO32: 0 | CP32: =(P32+Q32+S32) -> 167.28 | CQ32: =AC32*BC32 -> 0.91 | CR32: =AD32*BB32 -> 54.75 | CS32: =AE32*BS32 -> 13.1625 | CT32: =AF32*BA32 -> 405.191 | CU32: =AG32 -> 0 | CV32: =AH32 -> 48.76 | CW32: =AI32 -> 1.0625 | CX32: =AJ32 -> 0 | CY32: =(((S32+R32)*AT32)/100) -> 168.5646 | CZ32: =(((S32+R32)*AU32)/100) -> 97.1904 | DE32: )*1,25 | DF32: )*1,25 | DG32: )*1,15 | DI32: )*1,15 | DJ32: )*1,25 | DN32: 0 | DO32: 0 | DP32: 1 | DQ32: 1 | DU32: 1005 | DV32: 100 м2 | DW32: 100 м2 | DX32: 100 | EE32: 16510488 | EF32: 2 | EG32: Общестроительные работы | EH32: 0 | EJ32: 1 | EK32: 11001 | EL32: Полы | EM32: ФЕР-11 | EO32: Поправка: МДС 81-35.2004, п.4.7 | EQ32: 0 | ER32: 397.05 | ES32: 0.91 | ET32: 43.8 | EU32: 10.53 | EV32: 352.34 | EW32: 42.4 | EX32: 0.85 | EY32: 0 | FQ32: 0 | FR32: =ROUND(IF(AND(BH32=3,BI32=3),P32,0),2) -> 0 | FS32: 0 | FT32: *0,9 | FU32: *0,85 | FX32: 110.7 | FY32: 63.75 | GD32: 0 | GF32: 35623097 | GG32: 2 | GH32: 1 | GI32: -2 | GJ32: 0 | GK32: =ROUND(R32*(R12)/100,2) -> 0 | GL32: =ROUND(IF(AND(BH32=3,BI32=3,FS32<>0),P32,0),2) -> 0 | GM32: =ROUND(O32+X32+Y32+GK32,2)+GX32 -> 433.03 | GN32: =IF(OR(BI32=0,BI32=1),ROUND(O32+X32+Y32+GK32,2),0) -> 433.03 | GO32: =IF(BI32=2,ROUND(O32+X32+Y32+GK32,2),0) -> 0 | GP32: =IF(BI32=4,ROUND(O32+X32+Y32+GK32,2)+GX32,0) -> 0 | GR32: 0 | GS32: 3 | GT32: 0 | GV32: =ROUND(GT32,6) -> 0 | GW32: 1 | GX32: =ROUND(GV32*GW32*I32,2) -> 0 | HA32: 0 | HB32: 0 | IK32: 0
A33: 17 | B33: 1 | C33: =ROW(SmtRes!A50) -> 50 | D33: =ROW(EtalonRes!A52) -> 52 | E33: 5 | F33: 11-01-036-01 | G33: Устройство покрытий из линолеума на клее | H33: 100 м2 | I33: =ROUND(36.3/100,9) -> 0.363 | J33: 0 | O33: =ROUND(CP33,2) -> 1017.12 | P33: =ROUND(CQ33*I33,2) -> 2.01 | Q33: =ROUND(CR33*I33,2) -> 120.84 | R33: =ROUND(CS33*I33,2) -> 29.05 | S33: =ROUND(CT33*I33,2) -> 894.27 | T33: =ROUND(CU33*I33,2) -> 0 | U33: =CV33*I33 -> 17.69988 | V33: =CW33*I33 -> 0.3856875 | W33: =ROUND(CX33*I33,2) -> 0 | X33: =ROUND(CY33,2) -> 1024.89 | Y33: =ROUND(CZ33,2) -> 590.92 | AA33: 16501255 | AB33: =ROUND((AC33+AD33+AF33),6) -> 460.851 | AC33: =ROUND((ES33),6) -> 0.91 | AD33: =ROUND(((((ET33*1.25))-((EU33*1.25)))+AE33),6) -> 54.75 | AE33: =ROUND(((EU33*1.25)),6) -> 13.1625 | AF33: =ROUND(((EV33*1.15)),6) -> 405.191 | AG33: =ROUND((AP33),6) -> 0 | AH33: =((EW33*1.15)) -> 48.76 | AI33: =((EX33*1.25)) -> 1.0625 | AJ33: =ROUND((AS33),6) -> 0 | AK33: 397.05 | AL33: 0.91 | AM33: 43.8 | AN33: 10.53 | AO33: 352.34 | AP33: 0 | AQ33: 42.4 | AR33: 0.85 | AS33: 0 | AT33: 111 | AU33: 64 | AV33: 1 | AW33: 1 | AZ33: 6.08 | BA33: 6.08 | BB33: 6.08 | BC33: 6.08 | BH33: 0 | BI33: 1 | BJ33: ФЕР-2001, 11-01-036-01, приказ Минстроя России №1039/пр от 30.12.2016г. | BM33: 11001 | BN33: 0 | BP33: 0 | BQ33: 2 | BR33: 0 | BS33: 6.08 | BT33: 1 | BU33: 1 | BV33: 1 | BW33: 1 | BX33: 1 | BZ33: 123 | CA33: 75 | CF33: 0 | CG33: 0 | CM33: 0 | CN33: Поправка: МДС 81-35.2004, п.4.7 Наименование: Работы, выполняемые при реконструкции зданий и сооружений работы, аналогичные технологическим процессам в новом строительстве (в том числе возведение новых конструктивных элементов) стоимость которых определена по соответствующим сборникам ФЕР, кроме сборника № 46 «Работы при реконструкции зданий и сооружений» | CO33: 0 | CP33: =(P33+Q33+S33) -> 1017.12 | CQ33: =AC33*BC33 -> 5.5328 | CR33: =AD33*BB33 -> 332.88 | CS33: =AE33*BS33 -> 80.028 | CT33: =AF33*BA33 -> 2463.5613 | CU33: =AG33 -> 0 | CV33: =AH33 -> 48.76 | CW33: =AI33 -> 1.0625 | CX33: =AJ33 -> 0 | CY33: =(((S33+R33)*AT33)/100) -> 1024.8852 | CZ33: =(((S33+R33)*AU33)/100) -> 590.9248 | DE33: )*1,25 | DF33: )*1,25 | DG33: )*1,15 | DI33: )*1,15 | DJ33: )*1,25 | DN33: 0 | DO33: 0 | DP33: 1 | DQ33: 1 | DU33: 1005 | DV33: 100 м2 | DW33: 100 м2 | DX33: 100 | EE33: 16510488 | EF33: 2 | EG33: Общестроительные работы | EH33: 0 | EJ33: 1 | EK33: 11001 | EL33: Полы | EM33: ФЕР-11 | EO33: Поправка: МДС 81-35.2004, п.4.7 | EQ33: 0 | ER33: 397.05 | ES33: 0.91 | ET33: 43.8 | EU33: 10.53 | EV33: 352.34 | EW33: 42.4 | EX33: 0.85 | EY33: 0 | FQ33: 0 | FR33: =ROUND(IF(AND(BH33=3,BI33=3),P33,0),2) -> 0 | FS33: 0 | FT33: *0,9 | FU33: *0,85 | FX33: 110.7 | FY33: 63.75 | GD33: 0 | GF33: 35623097 | GG33: 1 | GH33: 1 | GI33: 4 | GJ33: 0 | GK33: =ROUND(R33*(S12)/100,2) -> 0 | GL33: =ROUND(IF(AND(BH33=3,BI33=3,FS33<>0),P33,0),2) -> 0 | GM33: =ROUND(O33+X33+Y33+GK33,2)+GX33 -> 2632.93 | GN33: =IF(OR(BI33=0,BI33=1),ROUND(O33+X33+Y33+GK33,2),0) -> 2632.93 | GO33: =IF(BI33=2,ROUND(O33+X33+Y33+GK33,2),0) -> 0 | GP33: =IF(BI33=4,ROUND(O33+X33+Y33+GK33,2)+GX33,0) -> 0 | GR33: 0 | GS33: 3 | GT33: 0 | GV33: =ROUND(GT33,6) -> 0 | GW33: 1 | GX33: =ROUND(GV33*GW33*I33,2) -> 0 | HA33: 0 | HB33: 0 | IK33: 0
A34: 18 | B34: 1 | C34: 39 | E34: 5,1 | F34: 01.6.03.04 | G34: Линолеум на теплозвукоизолирующей подоснове | H34: м2 | I34: =I32*J34 -> 37.026 | J34: 102 | O34: =ROUND(CP34,2) -> 0 | P34: =ROUND(CQ34*I34,2) -> 0 | Q34: =ROUND(CR34*I34,2) -> 0 | R34: =ROUND(CS34*I34,2) -> 0 | S34: =ROUND(CT34*I34,2) -> 0 | T34: =ROUND(CU34*I34,2) -> 0 | U34: =CV34*I34 -> 0 | V34: =CW34*I34 -> 0 | W34: =ROUND(CX34*I34,2) -> 0 | X34: =ROUND(CY34,2) -> 0 | Y34: =ROUND(CZ34,2) -> 0 | AA34: 16501254 | AB34: =ROUND((AC34+AD34+AF34),6) -> 0 | AC34: =ROUND((ES34),6) -> 0 | AD34: =ROUND((((ET34)-(EU34))+AE34),6) -> 0 | AE34: =ROUND((EU34),6) -> 0 | AF34: =ROUND((EV34),6) -> 0 | AG34: =ROUND((AP34),6) -> 0 | AH34: =(EW34) -> 0 | AI34: =(EX34) -> 0 | AJ34: =ROUND((AS34),6) -> 0 | AK34: 0 | AL34: 0 | AM34: 0 | AN34: 0 | AO34: 0 | AP34: 0 | AQ34: 0 | AR34: 0 | AS34: 0 | AT34: 111 | AU34: 64 | AV34: 1 | AW34: 1 | AZ34: 1 | BA34: 1 | BB34: 1 | BC34: 1 | BH34: 3 | BI34: 1 | BM34: 11001 | BN34: 0 | BP34: 0 | BQ34: 2 | BR34: 0 | BS34: 1 | BT34: 1 | BU34: 1 | BV34: 1 | BW34: 1 | BX34: 1 | BZ34: 123 | CA34: 75 | CF34: 0 | CG34: 0 | CM34: 0 | CO34: 0 | CP34: =(P34+Q34+S34) -> 0 | CQ34: =AC34*BC34 -> 0 | CR34: =AD34*BB34 -> 0 | CS34: =AE34*BS34 -> 0 | CT34: =AF34*BA34 -> 0 | CU34: =AG34 -> 0 | CV34: =AH34 -> 0 | CW34: =AI34 -> 0 | CX34: =AJ34 -> 0 | CY34: =(((S34+R34)*AT34)/100) -> 0 | CZ34: =(((S34+R34)*AU34)/100) -> 0 | DN34: 0 | DO34: 0 | DP34: 1 | DQ34: 1 | DU34: 1005 | DV34: м2 | DW34: м2 | DX34: 1 | EE34: 16510488 | EF34: 2 | EG34: Общестроительные работы | EH34: 0 | EJ34: 1 | EK34: 11001 | EL34: Полы | EM34: ФЕР-11 | EQ34: 0 | ER34: 0 | ES34: 0 | ET34: 0 | EU34: 0 | EV34: 0 | EW34: 0 | EX34: 0 | FQ34: 0 | FR34: =ROUND(IF(AND(BH34=3,BI34=3),P34,0),2) -> 0 | FS34: 0 | FT34: *0,9 | FU34: *0,85 | FX34: 110.7 | FY34: 63.75 | GD34: 0 | GF34: -919469713 | GG34: 2 | GH34: 1 | GI34: -2 | GJ34: 0 | GK34: =ROUND(R34*(R12)/100,2) -> 0 | GL34: =ROUND(IF(AND(BH34=3,BI34=3,FS34<>0),P34,0),2) -> 0 | GM34: =ROUND(O34+X34+Y34+GK34,2)+GX34 -> 0 | GN34: =IF(OR(BI34=0,BI34=1),ROUND(O34+X34+Y34+GK34,2),0) -> 0 | GO34: =IF(BI34=2,ROUND(O34+X34+Y34+GK34,2),0) -> 0 | GP34: =IF(BI34=4,ROUND(O34+X34+Y34+GK34,2)+GX34,0) -> 0 | GR34: 0 | GS34: 3 | GT34: 0 | GV34: =ROUND(GT34,6) -> 0 | GW34: 1 | GX34: =ROUND(GV34*GW34*I34,2) -> 0 | HA34: 0 | HB34: 0 | IK34: 0
A35: 18 | B35: 1 | C35: 47 | E35: 5,1 | F35: 01.6.03.04 | G35: Линолеум на теплозвукоизолирующей подоснове | H35: м2 | I35: =I33*J35 -> 37.026 | J35: 102 | O35: =ROUND(CP35,2) -> 0 | P35: =ROUND(CQ35*I35,2) -> 0 | Q35: =ROUND(CR35*I35,2) -> 0 | R35: =ROUND(CS35*I35,2) -> 0 | S35: =ROUND(CT35*I35,2) -> 0 | T35: =ROUND(CU35*I35,2) -> 0 | U35: =CV35*I35 -> 0 | V35: =CW35*I35 -> 0 | W35: =ROUND(CX35*I35,2) -> 0 | X35: =ROUND(CY35,2) -> 0 | Y35: =ROUND(CZ35,2) -> 0 | AA35: 16501255 | AB35: =ROUND((AC35+AD35+AF35),6) -> 0 | AC35: =ROUND((ES35),6) -> 0 | AD35: =ROUND((((ET35)-(EU35))+AE35),6) -> 0 | AE35: =ROUND((EU35),6) -> 0 | AF35: =ROUND((EV35),6) -> 0 | AG35: =ROUND((AP35),6) -> 0 | AH35: =(EW35) -> 0 | AI35: =(EX35) -> 0 | AJ35: =ROUND((AS35),6) -> 0 | AK35: 0 | AL35: 0 | AM35: 0 | AN35: 0 | AO35: 0 | AP35: 0 | AQ35: 0 | AR35: 0 | AS35: 0 | AT35: 111 | AU35: 64 | AV35: 1 | AW35: 1 | AZ35: 6.08 | BA35: 1 | BB35: 1 | BC35: 6.08 | BH35: 3 | BI35: 1 | BM35: 11001 | BN35: 0 | BP35: 0 | BQ35: 2 | BR35: 0 | BS35: 1 | BT35: 1 | BU35: 1 | BV35: 1 | BW35: 1 | BX35: 1 | BZ35: 123 | CA35: 75 | CF35: 0 | CG35: 0 | CM35: 0 | CO35: 0 | CP35: =(P35+Q35+S35) -> 0 | CQ35: =AC35*BC35 -> 0 | CR35: =AD35*BB35 -> 0 | CS35: =AE35*BS35 -> 0 | CT35: =AF35*BA35 -> 0 | CU35: =AG35 -> 0 | CV35: =AH35 -> 0 | CW35: =AI35 -> 0 | CX35: =AJ35 -> 0 | CY35: =(((S35+R35)*AT35)/100) -> 0 | CZ35: =(((S35+R35)*AU35)/100) -> 0 | DN35: 0 | DO35: 0 | DP35: 1 | DQ35: 1 | DU35: 1005 | DV35: м2 | DW35: м2 | DX35: 1 | EE35: 16510488 | EF35: 2 | EG35: Общестроительные работы | EH35: 0 | EJ35: 1 | EK35: 11001 | EL35: Полы | EM35: ФЕР-11 | EQ35: 0 | ER35: 0 | ES35: 0 | ET35: 0 | EU35: 0 | EV35: 0 | EW35: 0 | EX35: 0 | FQ35: 0 | FR35: =ROUND(IF(AND(BH35=3,BI35=3),P35,0),2) -> 0 | FS35: 0 | FT35: *0,9 | FU35: *0,85 | FX35: 110.7 | FY35: 63.75 | GD35: 0 | GF35: -919469713 | GG35: 1 | GH35: 1 | GI35: 4 | GJ35: 0 | GK35: =ROUND(R35*(S12)/100,2) -> 0 | GL35: =ROUND(IF(AND(BH35=3,BI35=3,FS35<>0),P35,0),2) -> 0 | GM35: =ROUND(O35+X35+Y35+GK35,2)+GX35 -> 0 | GN35: =IF(OR(BI35=0,BI35=1),ROUND(O35+X35+Y35+GK35,2),0) -> 0 | GO35: =IF(BI35=2,ROUND(O35+X35+Y35+GK35,2),0) -> 0 | GP35: =IF(BI35=4,ROUND(O35+X35+Y35+GK35,2)+GX35,0) -> 0 | GR35: 0 | GS35: 3 | GT35: 0 | GV35: =ROUND(GT35,6) -> 0 | GW35: 1 | GX35: =ROUND(GV35*GW35*I35,2) -> 0 | HA35: 0 | HB35: 0 | IK35: 0
A36: 18 | B36: 1 | C36: 40 | E36: 5,2 | F36: 01.6.03.04-0112 | G36: Линолеум коммерческий гомогенный "ТАРКЕТТ iQ MONOLIT" (толщина 2 мм, класс 34/43, пож. безопасность Г1, В2, РП1, Д2, Т2) | H36: м2 | I36: =I32*J36 -> 37.026 | J36: 102 | O36: =ROUND(CP36,2) -> 2646.25 | P36: =ROUND(CQ36*I36,2) -> 2646.25 | Q36: =ROUND(CR36*I36,2) -> 0 | R36: =ROUND(CS36*I36,2) -> 0 | S36: =ROUND(CT36*I36,2) -> 0 | T36: =ROUND(CU36*I36,2) -> 0 | U36: =CV36*I36 -> 0 | V36: =CW36*I36 -> 0 | W36: =ROUND(CX36*I36,2) -> 0 | X36: =ROUND(CY36,2) -> 0 | Y36: =ROUND(CZ36,2) -> 0 | AA36: 16501254 | AB36: =ROUND((AC36+AD36+AF36),6) -> 71.47 | AC36: =ROUND((ES36),6) -> 71.47 | AD36: =ROUND((((ET36)-(EU36))+AE36),6) -> 0 | AE36: =ROUND((EU36),6) -> 0 | AF36: =ROUND((EV36),6) -> 0 | AG36: =ROUND((AP36),6) -> 0 | AH36: =(EW36) -> 0 | AI36: =(EX36) -> 0 | AJ36: =ROUND((AS36),6) -> 0 | AK36: 71.47 | AL36: 71.47 | AM36: 0 | AN36: 0 | AO36: 0 | AP36: 0 | AQ36: 0 | AR36: 0 | AS36: 0 | AT36: 111 | AU36: 64 | AV36: 1 | AW36: 1 | AZ36: 1 | BA36: 1 | BB36: 1 | BC36: 1 | BH36: 3 | BI36: 1 | BJ36: ФССЦ-2001, 01.6.03.04-0112, приказ Минстроя России №1039/пр от 30.12.2016г. | BM36: 11001 | BN36: 0 | BP36: 0 | BQ36: 2 | BR36: 0 | BS36: 1 | BT36: 1 | BU36: 1 | BV36: 1 | BW36: 1 | BX36: 1 | BZ36: 123 | CA36: 75 | CF36: 0 | CG36: 0 | CM36: 0 | CO36: 0 | CP36: =(P36+Q36+S36) -> 2646.25 | CQ36: =AC36*BC36 -> 71.47 | CR36: =AD36*BB36 -> 0 | CS36: =AE36*BS36 -> 0 | CT36: =AF36*BA36 -> 0 | CU36: =AG36 -> 0 | CV36: =AH36 -> 0 | CW36: =AI36 -> 0 | CX36: =AJ36 -> 0 | CY36: =(((S36+R36)*AT36)/100) -> 0 | CZ36: =(((S36+R36)*AU36)/100) -> 0 | DN36: 0 | DO36: 0 | DP36: 1 | DQ36: 1 | DU36: 1005 | DV36: м2 | DW36: м2 | DX36: 1 | EE36: 16510488 | EF36: 2 | EG36: Общестроительные работы | EH36: 0 | EJ36: 1 | EK36: 11001 | EL36: Полы | EM36: ФЕР-11 | EQ36: 0 | ER36: 71.47 | ES36: 71.47 | ET36: 0 | EU36: 0 | EV36: 0 | EW36: 0 | EX36: 0 | FQ36: 0 | FR36: =ROUND(IF(AND(BH36=3,BI36=3),P36,0),2) -> 0 | FS36: 0 | FT36: *0,9 | FU36: *0,85 | FX36: 110.7 | FY36: 63.75 | GD36: 0 | GF36: 630556909 | GG36: 2 | GH36: 1 | GI36: -2 | GJ36: 0 | GK36: =ROUND(R36*(R12)/100,2) -> 0 | GL36: =ROUND(IF(AND(BH36=3,BI36=3,FS36<>0),P36,0),2) -> 0 | GM36: =ROUND(O36+X36+Y36+GK36,2)+GX36 -> 2646.25 | GN36: =IF(OR(BI36=0,BI36=1),ROUND(O36+X36+Y36+GK36,2),0) -> 2646.25 | GO36: =IF(BI36=2,ROUND(O36+X36+Y36+GK36,2),0) -> 0 | GP36: =IF(BI36=4,ROUND(O36+X36+Y36+GK36,2)+GX36,0) -> 0 | GR36: 0 | GS36: 3 | GT36: 0 | GV36: =ROUND(GT36,6) -> 0 | GW36: 1 | GX36: =ROUND(GV36*GW36*I36,2) -> 0 | HA36: 0 | HB36: 0 | IK36: 0
A37: 18 | B37: 1 | C37: 48 | E37: 5,2 | F37: 01.6.03.04-0112 | G37: Линолеум коммерческий гомогенный "ТАРКЕТТ iQ MONOLIT" (толщина 2 мм, класс 34/43, пож. безопасность Г1, В2, РП1, Д2, Т2) | H37: м2 | I37: =I33*J37 -> 37.026 | J37: 102 | O37: =ROUND(CP37,2) -> 16089.19 | P37: =ROUND(CQ37*I37,2) -> 16089.19 | Q37: =ROUND(CR37*I37,2) -> 0 | R37: =ROUND(CS37*I37,2) -> 0 | S37: =ROUND(CT37*I37,2) -> 0 | T37: =ROUND(CU37*I37,2) -> 0 | U37: =CV37*I37 -> 0 | V37: =CW37*I37 -> 0 | W37: =ROUND(CX37*I37,2) -> 0 | X37: =ROUND(CY37,2) -> 0 | Y37: =ROUND(CZ37,2) -> 0 | AA37: 16501255 | AB37: =ROUND((AC37+AD37+AF37),6) -> 71.47 | AC37: =ROUND((ES37),6) -> 71.47 | AD37: =ROUND((((ET37)-(EU37))+AE37),6) -> 0 | AE37: =ROUND((EU37),6) -> 0 | AF37: =ROUND((EV37),6) -> 0 | AG37: =ROUND((AP37),6) -> 0 | AH37: =(EW37) -> 0 | AI37: =(EX37) -> 0 | AJ37: =ROUND((AS37),6) -> 0 | AK37: 71.47 | AL37: 71.47 | AM37: 0 | AN37: 0 | AO37: 0 | AP37: 0 | AQ37: 0 | AR37: 0 | AS37: 0 | AT37: 111 | AU37: 64 | AV37: 1 | AW37: 1 | AZ37: 6.08 | BA37: 1 | BB37: 1 | BC37: 6.08 | BH37: 3 | BI37: 1 | BJ37: ФССЦ-2001, 01.6.03.04-0112, приказ Минстроя России №1039/пр от 30.12.2016г. | BM37: 11001 | BN37: 0 | BP37: 0 | BQ37: 2 | BR37: 0 | BS37: 1 | BT37: 1 | BU37: 1 | BV37: 1 | BW37: 1 | BX37: 1 | BZ37: 123 | CA37: 75 | CF37: 0 | CG37: 0 | CM37: 0 | CO37: 0 | CP37: =(P37+Q37+S37) -> 16089.19 | CQ37: =AC37*BC37 -> 434.5376 | CR37: =AD37*BB37 -> 0 | CS37: =AE37*BS37 -> 0 | CT37: =AF37*BA37 -> 0 | CU37: =AG37 -> 0 | CV37: =AH37 -> 0 | CW37: =AI37 -> 0 | CX37: =AJ37 -> 0 | CY37: =(((S37+R37)*AT37)/100) -> 0 | CZ37: =(((S37+R37)*AU37)/100) -> 0 | DN37: 0 | DO37: 0 | DP37: 1 | DQ37: 1 | DU37: 1005 | DV37: м2 | DW37: м2 | DX37: 1 | EE37: 16510488 | EF37: 2 | EG37: Общестроительные работы | EH37: 0 | EJ37: 1 | EK37: 11001 | EL37: Полы | EM37: ФЕР-11 | EQ37: 0 | ER37: 71.47 | ES37: 71.47 | ET37: 0 | EU37: 0 | EV37: 0 | EW37: 0 | EX37: 0 | FQ37: 0 | FR37: =ROUND(IF(AND(BH37=3,BI37=3),P37,0),2) -> 0 | FS37: 0 | FT37: *0,9 | FU37: *0,85 | FX37: 110.7 | FY37: 63.75 | GD37: 0 | GF37: 630556909 | GG37: 1 | GH37: 1 | GI37: 4 | GJ37: 0 | GK37: =ROUND(R37*(S12)/100,2) -> 0 | GL37: =ROUND(IF(AND(BH37=3,BI37=3,FS37<>0),P37,0),2) -> 0 | GM37: =ROUND(O37+X37+Y37+GK37,2)+GX37 -> 16089.19 | GN37: =IF(OR(BI37=0,BI37=1),ROUND(O37+X37+Y37+GK37,2),0) -> 16089.19 | GO37: =IF(BI37=2,ROUND(O37+X37+Y37+GK37,2),0) -> 0 | GP37: =IF(BI37=4,ROUND(O37+X37+Y37+GK37,2)+GX37,0) -> 0 | GR37: 0 | GS37: 3 | GT37: 0 | GV37: =ROUND(GT37,6) -> 0 | GW37: 1 | GX37: =ROUND(GV37*GW37*I37,2) -> 0 | HA37: 0 | HB37: 0 | IK37: 0
A38: 18 | B38: 1 | C38: 42 | E38: 5,3 | F38: 14.1.02.04-0101 | G38: Клей «Бустилат» | H38: т | I38: =I32*J38 -> 0.01815 | J38: 0.05 | O38: =ROUND(CP38,2) -> 205.1 | P38: =ROUND(CQ38*I38,2) -> 205.1 | Q38: =ROUND(CR38*I38,2) -> 0 | R38: =ROUND(CS38*I38,2) -> 0 | S38: =ROUND(CT38*I38,2) -> 0 | T38: =ROUND(CU38*I38,2) -> 0 | U38: =CV38*I38 -> 0 | V38: =CW38*I38 -> 0 | W38: =ROUND(CX38*I38,2) -> 0 | X38: =ROUND(CY38,2) -> 0 | Y38: =ROUND(CZ38,2) -> 0 | AA38: 16501254 | AB38: =ROUND((AC38+AD38+AF38),6) -> 11300 | AC38: =ROUND((ES38),6) -> 11300 | AD38: =ROUND((((ET38)-(EU38))+AE38),6) -> 0 | AE38: =ROUND((EU38),6) -> 0 | AF38: =ROUND((EV38),6) -> 0 | AG38: =ROUND((AP38),6) -> 0 | AH38: =(EW38) -> 0 | AI38: =(EX38) -> 0 | AJ38: =ROUND((AS38),6) -> 0 | AK38: 11300 | AL38: 11300 | AM38: 0 | AN38: 0 | AO38: 0 | AP38: 0 | AQ38: 0 | AR38: 0 | AS38: 0 | AT38: 111 | AU38: 64 | AV38: 1 | AW38: 1 | AZ38: 1 | BA38: 1 | BB38: 1 | BC38: 1 | BH38: 3 | BI38: 1 | BJ38: ФССЦ-2001, 14.1.02.04-0101, приказ Минстроя России №1039/пр от 30.12.2016г. | BM38: 11001 | BN38: 0 | BP38: 0 | BQ38: 2 | BR38: 0 | BS38: 1 | BT38: 1 | BU38: 1 | BV38: 1 | BW38: 1 | BX38: 1 | BZ38: 123 | CA38: 75 | CF38: 0 | CG38: 0 | CM38: 0 | CO38: 0 | CP38: =(P38+Q38+S38) -> 205.1 | CQ38: =AC38*BC38 -> 11300 | CR38: =AD38*BB38 -> 0 | CS38: =AE38*BS38 -> 0 | CT38: =AF38*BA38 -> 0 | CU38: =AG38 -> 0 | CV38: =AH38 -> 0 | CW38: =AI38 -> 0 | CX38: =AJ38 -> 0 | CY38: =(((S38+R38)*AT38)/100) -> 0 | CZ38: =(((S38+R38)*AU38)/100) -> 0 | DN38: 0 | DO38: 0 | DP38: 1 | DQ38: 1 | DU38: 1009 | DV38: т | DW38: т | DX38: 1000 | EE38: 16510488 | EF38: 2 | EG38: Общестроительные работы | EH38: 0 | EJ38: 1 | EK38: 11001 | EL38: Полы | EM38: ФЕР-11 | EQ38: 0 | ER38: 11300 | ES38: 11300 | ET38: 0 | EU38: 0 | EV38: 0 | EW38: 0 | EX38: 0 | FQ38: 0 | FR38: =ROUND(IF(AND(BH38=3,BI38=3),P38,0),2) -> 0 | FS38: 0 | FT38: *0,9 | FU38: *0,85 | FX38: 110.7 | FY38: 63.75 | GD38: 0 | GF38: 486476101 | GG38: 2 | GH38: 1 | GI38: -2 | GJ38: 0 | GK38: =ROUND(R38*(R12)/100,2) -> 0 | GL38: =ROUND(IF(AND(BH38=3,BI38=3,FS38<>0),P38,0),2) -> 0 | GM38: =ROUND(O38+X38+Y38+GK38,2)+GX38 -> 205.1 | GN38: =IF(OR(BI38=0,BI38=1),ROUND(O38+X38+Y38+GK38,2),0) -> 205.1 | GO38: =IF(BI38=2,ROUND(O38+X38+Y38+GK38,2),0) -> 0 | GP38: =IF(BI38=4,ROUND(O38+X38+Y38+GK38,2)+GX38,0) -> 0 | GR38: 0 | GS38: 3 | GT38: 0 | GV38: =ROUND(GT38,6) -> 0 | GW38: 1 | GX38: =ROUND(GV38*GW38*I38,2) -> 0 | HA38: 0 | HB38: 0 | IK38: 0
A39: 18 | B39: 1 | C39: 50 | E39: 5,3 | F39: 14.1.02.04-0101 | G39: Клей «Бустилат» | H39: т | I39: =I33*J39 -> 0.01815 | J39: 0.05 | O39: =ROUND(CP39,2) -> 1246.98 | P39: =ROUND(CQ39*I39,2) -> 1246.98 | Q39: =ROUND(CR39*I39,2) -> 0 | R39: =ROUND(CS39*I39,2) -> 0 | S39: =ROUND(CT39*I39,2) -> 0 | T39: =ROUND(CU39*I39,2) -> 0 | U39: =CV39*I39 -> 0 | V39: =CW39*I39 -> 0 | W39: =ROUND(CX39*I39,2) -> 0 | X39: =ROUND(CY39,2) -> 0 | Y39: =ROUND(CZ39,2) -> 0 | AA39: 16501255 | AB39: =ROUND((AC39+AD39+AF39),6) -> 11300 | AC39: =ROUND((ES39),6) -> 11300 | AD39: =ROUND((((ET39)-(EU39))+AE39),6) -> 0 | AE39: =ROUND((EU39),6) -> 0 | AF39: =ROUND((EV39),6) -> 0 | AG39: =ROUND((AP39),6) -> 0 | AH39: =(EW39) -> 0 | AI39: =(EX39) -> 0 | AJ39: =ROUND((AS39),6) -> 0 | AK39: 11300 | AL39: 11300 | AM39: 0 | AN39: 0 | AO39: 0 | AP39: 0 | AQ39: 0 | AR39: 0 | AS39: 0 | AT39: 111 | AU39: 64 | AV39: 1 | AW39: 1 | AZ39: 6.08 | BA39: 1 | BB39: 1 | BC39: 6.08 | BH39: 3 | BI39: 1 | BJ39: ФССЦ-2001, 14.1.02.04-0101, приказ Минстроя России №1039/пр от 30.12.2016г. | BM39: 11001 | BN39: 0 | BP39: 0 | BQ39: 2 | BR39: 0 | BS39: 1 | BT39: 1 | BU39: 1 | BV39: 1 | BW39: 1 | BX39: 1 | BZ39: 123 | CA39: 75 | CF39: 0 | CG39: 0 | CM39: 0 | CO39: 0 | CP39: =(P39+Q39+S39) -> 1246.98 | CQ39: =AC39*BC39 -> 68704 | CR39: =AD39*BB39 -> 0 | CS39: =AE39*BS39 -> 0 | CT39: =AF39*BA39 -> 0 | CU39: =AG39 -> 0 | CV39: =AH39 -> 0 | CW39: =AI39 -> 0 | CX39: =AJ39 -> 0 | CY39: =(((S39+R39)*AT39)/100) -> 0 | CZ39: =(((S39+R39)*AU39)/100) -> 0 | DN39: 0 | DO39: 0 | DP39: 1 | DQ39: 1 | DU39: 1009 | DV39: т | DW39: т | DX39: 1000 | EE39: 16510488 | EF39: 2 | EG39: Общестроительные работы | EH39: 0 | EJ39: 1 | EK39: 11001 | EL39: Полы | EM39: ФЕР-11 | EQ39: 0 | ER39: 11300 | ES39: 11300 | ET39: 0 | EU39: 0 | EV39: 0 | EW39: 0 | EX39: 0 | FQ39: 0 | FR39: =ROUND(IF(AND(BH39=3,BI39=3),P39,0),2) -> 0 | FS39: 0 | FT39: *0,9 | FU39: *0,85 | FX39: 110.7 | FY39: 63.75 | GD39: 0 | GF39: 486476101 | GG39: 1 | GH39: 1 | GI39: 4 | GJ39: 0 | GK39: =ROUND(R39*(S12)/100,2) -> 0 | GL39: =ROUND(IF(AND(BH39=3,BI39=3,FS39<>0),P39,0),2) -> 0 | GM39: =ROUND(O39+X39+Y39+GK39,2)+GX39 -> 1246.98 | GN39: =IF(OR(BI39=0,BI39=1),ROUND(O39+X39+Y39+GK39,2),0) -> 1246.98 | GO39: =IF(BI39=2,ROUND(O39+X39+Y39+GK39,2),0) -> 0 | GP39: =IF(BI39=4,ROUND(O39+X39+Y39+GK39,2)+GX39,0) -> 0 | GR39: 0 | GS39: 3 | GT39: 0 | GV39: =ROUND(GT39,6) -> 0 | GW39: 1 | GX39: =ROUND(GV39*GW39*I39,2) -> 0 | HA39: 0 | HB39: 0 | IK39: 0
