Workbook
Name аааааппппппрррппппппп: #REF!
Name аараооооооооооооо: #REF!
Name автом: #REF!
Name алшрльоплварл: #REF!
Name аолвлддддддддддддддддввввввввв: #REF!
Name апарв: #REF!
Name апрлдджаоырыфрпопрлпрлпрлп: #REF!
Name арлггаджаш: #REF!
Name ароррбллтблпроорапииас: #REF!
Name арррррблллпдрлдддддддддд: #REF!
Name варпаааааааааа: #REF!
Name ввпьььььлднд: #REF!
Name вед: #REF!
Name вертикальная: #REF!
Name вертикплан: #REF!
Name волен: #REF!
Name вп: #REF!
Name впырпфдыпл: #REF!
Name впьглорьтитттттттттт: #REF!
Name всввввввввввввввввввввввввв: #REF!
Name выб: #REF!
Name выпуск: #REF!
Name выьлепвввввпмп: #REF!
Name еваопродолжэрщэрзшщщх: #REF!
Name измен: #REF!
Name итого: #REF!
Name итого_сантех: #REF!
Name итого_стр: #REF!
Name итого_строит: #REF!
Name итого_технол: #REF!
Name итого_электр: #REF!
Name квота: #REF!
Name кккккккккк: #REF!
Name корек: #REF!
Name корект: #REF!
Name корректир: #REF!
Name лен: #REF!
Name лот: #REF!
Name мамиааааааааааааааааааааааааааааа: #REF!
Name ммпоослччччччччччрччапппппппппр: #REF!
Name мрол: #REF!
Name оз: #REF!
Name озелен: #REF!
Name озеленение: #REF!
Name озеленение2: #REF!
Name ОСР: #REF!
Name ОСР110: #REF!
Name ОСР111: #REF!
Name план: #REF!
Name планировка: #REF!
Name плдщхэж.юрббдлююбо: #REF!
Name площадки: #REF!
Name пос: #REF!
Name прав: #REF!
Name прлппппппппппппппрррррррр: #REF!
Name провбп: #REF!
Name проект: #REF!
Name пропппп: #REF!
Name рпоолллллбрюююююююююююю: #REF!
Name сааповвыыыыыеееееггггггггг: #REF!

Sheet СМР
A1: Расчет начальной (максимальной) цены на
A2: на выполнение работ по " Строительству кормокухни и вольеров для содержания служебных собак на кинологическом городке войсковой части 3275".
A4: Наименование глав ССР, объектный сметных расчетов, локальных сметных расчетов, видов прочих работ | B4: Сметная стоимость строительства в базисном уровне цен на 01.01.2000г. по ССР | F4: Остаток сметной стоимости в базисном уровне цен на 01.01.2015 | J4: Сметная стоимость строительства в базисном уровне цен на 01.01.2000г., выставленная на конкурс | N4: Текущая стоимость на момент определения начальной (максимальной) цены | O4: № обосновывающего расчета | P4: 2015 год | S4: 2016 год
B5: Всего | C5: СМР | D5: Оборудование | E5: Прочие | F5: Всего | G5: СМР | H5: Оборудование | I5: Прочие | J5: Всего | K5: СМР | L5: Оборудование | M5: Прочие | P5: СМР | Q5: Оборудование | R5: Прочие | S5: СМР | T5: Оборудование | U5: Прочие
A6: 1 | B6: 2 | C6: 3 | D6: 4 | E6: 5 | F6: 6 | G6: 7 | H6: 8 | I6: 9 | J6: 10 | K6: 11 | L6: 12 | M6: 13 | N6: 14 | O6: 15 | P6: 16 | Q6: 17 | R6: 18 | S6: 19 | T6: 20 | U6: 21
A7: Раздел: Архитектурно-строительные работы. | B7: ='[2]25841'!E17 -> 2917465 | C7: ='[2]25841'!F17 -> 2917465 | D7: ='[2]25841'!G17 -> 0 | E7: ='[2]25841'!H17 -> 0 | F7: =SUM(G7:I7) -> 2917465 | G7: =C7 -> 2917465 | H7: =D7 -> 0 | I7: =E7 -> 0 | J7: =SUM(K7:M7) -> 2917465 | K7: =G7 -> 2917465 | L7: =Q7 -> 0 | M7: =E7 -> 0 | N7: =SUM(P7:R7) -> 16746249 | O7: ='[2]25841'!B17 -> 25826 | P7: =ROUND(C7*5.74,0) -> 16746249 | Q7: =D7 -> 0 | R7: =E7 -> 0
A8: Раздел: Вольеры на 48 собак. Архитектурно-строительные решения | B8: ='[2]25841'!E18 -> 1277724 | C8: ='[2]25841'!F18 -> 1277724 | D8: ='[2]25841'!G18 -> 0 | E8: ='[2]25841'!H18 -> 0 | F8: =SUM(G8:I8) -> 1277724 | G8: =C8 -> 1277724 | H8: =D8 -> 0 | I8: =E8 -> 0 | J8: =SUM(K8:M8) -> 1277724 | K8: =G8 -> 1277724 | L8: =Q8 -> 0 | M8: =E8 -> 0 | N8: =SUM(S8:U8) -> 7334136 | O8: ='[2]25841'!B18 -> 25827 | Q8: =H8 -> 0 | R8: =I8 -> 0 | S8: =ROUND(C8*5.74,0) -> 7334136 | T8: =D8 -> 0 | U8: =E8 -> 0
A9: Раздел: Генеральный план. Благоустройство | B9: ='[2]25841'!E19 -> 202092 | C9: ='[2]25841'!F19 -> 202092 | D9: ='[2]25841'!G19 -> 0 | E9: ='[2]25841'!H19 -> 0 | F9: =SUM(G9:I9) -> 202092 | G9: =C9 -> 202092 | H9: =D9 -> 0 | I9: =E9 -> 0 | J9: =SUM(K9:M9) -> 202092 | K9: =G9 -> 202092 | L9: =Q9 -> 0 | M9: =E9 -> 0 | N9: =SUM(S9:U9) -> 1160008 | O9: ='[2]25841'!B19 -> 25828 | Q9: =H9 -> 0 | R9: =I9 -> 0 | S9: =ROUND(C9*5.74,0) -> 1160008 | T9: =D9 -> 0 | U9: =E9 -> 0
A10: Раздел: Генеральный план. Водоотведение. | B10: ='[2]25841'!E20 -> 894163 | C10: ='[2]25841'!F20 -> 894163 | D10: ='[2]25841'!G20 -> 0 | E10: ='[2]25841'!H20 -> 0 | F10: =SUM(G10:I10) -> 894163 | G10: =C10 -> 894163 | H10: =D10 -> 0 | I10: =E10 -> 0 | J10: =SUM(K10:M10) -> 894163 | K10: =G10 -> 894163 | L10: =Q10 -> 0 | M10: =E10 -> 0 | N10: =SUM(S10:U10) -> 5132496 | O10: ='[2]25841'!B20 -> 25884 | Q10: =H10 -> 0 | R10: =I10 -> 0 | S10: =ROUND(C10*5.74,0) -> 5132496 | T10: =D10 -> 0 | U10: =E10 -> 0
A11: Раздел: Теплосеть | B11: ='[2]25841'!E22 -> 6717 | C11: ='[2]25841'!F22 -> 6717 | D11: ='[2]25841'!G22 -> 0 | E11: ='[2]25841'!H22 -> 0 | F11: =SUM(G11:I11) -> 6717 | G11: =C11 -> 6717 | H11: =D11 -> 0 | I11: =E11 -> 0 | J11: =SUM(K11:M11) -> 6717 | K11: =G11 -> 6717 | L11: =H11 -> 0 | M11: =E11 -> 0 | N11: =SUM(S11:U11) -> 38556 | O11: ='[2]25841'!B22 -> 25830 | R11: =I11 -> 0 | S11: =ROUND(C11*5.74,0) -> 38556 | T11: =D11 -> 0 | U11: =E11 -> 0
A12: Раздел: Отопление и вентиляция | B12: ='[2]25841'!E23 -> 322172 | C12: ='[2]25841'!F23 -> 171704 | D12: ='[2]25841'!G23 -> 150468 | E12: ='[2]25841'!H23 -> 0 | F12: =SUM(G12:I12) -> 322172 | G12: =C12 -> 171704 | H12: =D12 -> 150468 | I12: =E12 -> 0 | J12: =SUM(K12:M12) -> 322172 | K12: =G12 -> 171704 | L12: =H12 -> 150468 | M12: =E12 -> 0 | N12: =SUM(S12:U12) -> 1551341 | O12: ='[2]25841'!B23 -> 25831 | R12: =I12 -> 0 | S12: =ROUND(C12*5.74,0) -> 985581 | T12: =ROUND(D12*3.76,0) -> 565760 | U12: =E12 -> 0
A13: Раздел: Водопровод и канализация. | B13: ='[2]25841'!E24 -> 57917 | C13: ='[2]25841'!F24 -> 57917 | D13: ='[2]25841'!G24 -> 0 | E13: ='[2]25841'!H24 -> 0 | F13: =SUM(G13:I13) -> 57917 | G13: =C13 -> 57917 | H13: =D13 -> 0 | I13: =E13 -> 0 | J13: =SUM(K13:M13) -> 57917 | K13: =G13 -> 57917 | L13: =H13 -> 0 | M13: =E13 -> 0 | N13: =SUM(S13:U13) -> 332444 | O13: ='[2]25841'!B24 -> 25832 | R13: =I13 -> 0 | S13: =ROUND(C13*5.74,0) -> 332444 | T13: =ROUND(D13*3.76,0) -> 0 | U13: =E13 -> 0
A14: Раздел: Наружные сети водопровода и канализации | B14: ='[2]25841'!E25 -> 74795 | C14: ='[2]25841'!F25 -> 74795 | D14: ='[2]25841'!G25 -> 0 | E14: ='[2]25841'!H25 -> 0 | F14: =SUM(G14:I14) -> 74795 | G14: =C14 -> 74795 | H14: =D14 -> 0 | I14: =E14 -> 0 | J14: =SUM(K14:M14) -> 74795 | K14: =G14 -> 74795 | L14: =H14 -> 0 | M14: =E14 -> 0 | N14: =SUM(S14:U14) -> 429323 | O14: ='[2]25841'!B25 -> 25833 | R14: =I14 -> 0 | S14: =ROUND(C14*5.74,0) -> 429323 | T14: =ROUND(D14*3.76,0) -> 0 | U14: =E14 -> 0
A15: Раздел: Электроснабжение | B15: ='[2]25841'!E26 -> 60020 | C15: ='[2]25841'!F26 -> 57700 | D15: ='[2]25841'!G26 -> 2320 | E15: ='[2]25841'!H26 -> 0 | F15: =SUM(G15:I15) -> 60020 | G15: =C15 -> 57700 | H15: =D15 -> 2320 | I15: =E15 -> 0 | J15: =SUM(K15:M15) -> 60020 | K15: =G15 -> 57700 | L15: =H15 -> 2320 | M15: =E15 -> 0 | N15: =SUM(S15:U15) -> 339921 | O15: ='[2]25841'!B26 -> 25834 | R15: =I15 -> 0 | S15: =ROUND(C15*5.74,0) -> 331198 | T15: =ROUND(D15*3.76,0) -> 8723 | U15: =E15 -> 0
A16: Раздел: Cиловое электрооборудование. | B16: ='[2]25841'!E27 -> 170303 | C16: ='[2]25841'!F27 -> 149696 | D16: ='[2]25841'!G27 -> 20607 | E16: ='[2]25841'!H27 -> 0 | F16: =SUM(G16:I16) -> 170303 | G16: =C16 -> 149696 | H16: =D16 -> 20607 | I16: =E16 -> 0 | J16: =SUM(K16:M16) -> 170303 | K16: =G16 -> 149696 | L16: =H16 -> 20607 | M16: =E16 -> 0 | N16: =SUM(S16:U16) -> 936737 | O16: ='[2]25841'!B27 -> 25835 | R16: =I16 -> 0 | S16: =ROUND(C16*5.74,0) -> 859255 | T16: =ROUND(D16*3.76,0) -> 77482 | U16: =E16 -> 0
A17: Раздел: Молниезащита и заземление. | B17: ='[2]25841'!E28 -> 38807 | C17: ='[2]25841'!F28 -> 38129 | D17: ='[2]25841'!G28 -> 0 | E17: ='[2]25841'!H28 -> 678 | F17: =SUM(G17:I17) -> 38807 | G17: =C17 -> 38129 | H17: =D17 -> 0 | I17: =E17 -> 678 | J17: =SUM(K17:M17) -> 38807 | K17: =G17 -> 38129 | L17: =H17 -> 0 | M17: =E17 -> 678 | N17: =SUM(S17:U17) -> 225674 | O17: ='[2]25841'!B28 -> 25836 | Q17: =H17 -> 0 | S17: =ROUND(C17*5.74,0) -> 218860 | T17: =ROUND(D17*3.76,0) -> 0 | U17: =ROUND(E17*10.05,0) -> 6814
A18: Раздел: Электроосвещение | B18: ='[2]25841'!E29 -> 129284 | C18: ='[2]25841'!F29 -> 127202 | D18: ='[2]25841'!G29 -> 2082 | E18: ='[2]25841'!H29 -> 0 | F18: =SUM(G18:I18) -> 129284 | G18: =C18 -> 127202 | H18: =D18 -> 2082 | I18: =E18 -> 0 | J18: =SUM(K18:M18) -> 129284 | K18: =G18 -> 127202 | L18: =H18 -> 2082 | M18: =E18 -> 0 | N18: =SUM(S18:U18) -> 737967 | O18: ='[2]25841'!B29 -> 25837 | R18: =I18 -> 0 | S18: =ROUND(C18*5.74,0) -> 730139 | T18: =ROUND(D18*3.76,0) -> 7828 | U18: =ROUND(E18*10.05,0) -> 0
A19: Раздел: Наружное освещение. | B19: ='[2]25841'!E30 -> 49229 | C19: ='[2]25841'!F30 -> 49229 | D19: ='[2]25841'!G30 -> 0 | E19: ='[2]25841'!H30 -> 0 | F19: =SUM(G19:I19) -> 49229 | G19: =C19 -> 49229 | H19: =D19 -> 0 | I19: =E19 -> 0 | J19: =SUM(K19:M19) -> 49229 | K19: =G19 -> 49229 | L19: =H19 -> 0 | M19: =E19 -> 0 | N19: =SUM(S19:U19) -> 282574 | O19: ='[2]25841'!B30 -> 25838 | Q19: =H19 -> 0 | R19: =I19 -> 0 | S19: =ROUND(C19*5.74,0) -> 282574 | T19: =ROUND(D19*3.76,0) -> 0 | U19: =ROUND(E19*10.05,0) -> 0
A20: Раздел: Cети связи. | B20: ='[2]25841'!E31 -> 40807 | C20: ='[2]25841'!F31 -> 40807 | D20: ='[2]25841'!G31 -> 0 | E20: ='[2]25841'!H31 -> 0 | F20: =SUM(G20:I20) -> 40807 | G20: =C20 -> 40807 | H20: =D20 -> 0 | I20: =E20 -> 0 | J20: =SUM(K20:M20) -> 40807 | K20: =G20 -> 40807 | L20: =H20 -> 0 | M20: =E20 -> 0 | N20: =SUM(S20:U20) -> 234232 | O20: ='[2]25841'!B31 -> 25839 | R20: =I20 -> 0 | S20: =ROUND(C20*5.74,0) -> 234232 | T20: =ROUND(D20*3.76,0) -> 0 | U20: =ROUND(E20*10.05,0) -> 0
A21: Раздел: Пожарная сигнализация | B21: ='[2]25841'!E32 -> 56766 | C21: ='[2]25841'!F32 -> 41432 | D21: ='[2]25841'!G32 -> 15334 | E21: ='[2]25841'!H32 -> 0 | F21: =SUM(G21:I21) -> 56766 | G21: =C21 -> 41432 | H21: =D21 -> 15334 | I21: =E21 -> 0 | J21: =SUM(K21:M21) -> 56766 | K21: =G21 -> 41432 | L21: =H21 -> 15334 | M21: =E21 -> 0 | N21: =SUM(S21:U21) -> 295476 | O21: ='[2]25841'!B32 -> 25840 | R21: =I21 -> 0 | S21: =ROUND(C21*5.74,0) -> 237820 | T21: =ROUND(D21*3.76,0) -> 57656 | U21: =ROUND(E21*10.05,0) -> 0
A22: Раздел: Пусконаладочные работы | B22: ='[2]25841'!E33 -> 8762 | C22: ='[2]25841'!F33 -> 0 | D22: ='[2]25841'!G33 -> 0 | E22: ='[2]25841'!H33 -> 8762 | F22: =SUM(G22:I22) -> 8762 | G22: =C22 -> 0 | H22: =D22 -> 0 | I22: =E22 -> 8762 | J22: =SUM(K22:M22) -> 8762 | K22: =G22 -> 0 | L22: =Q22 -> 0 | M22: =E22 -> 8762 | N22: =SUM(S22:U22) -> 88058 | O22: ='[2]25841'!B33 -> 25829 | Q22: =H22 -> 0 | S22: =ROUND(C22*5.74,0) -> 0 | T22: =ROUND(D22*3.76,0) -> 0 | U22: =ROUND(E22*10.05,0) -> 88058
A23: Раздел: Электроосвещение. ПНР. | B23: ='[2]25841'!E34 -> 2792 | C23: ='[2]25841'!F34 -> 0 | D23: ='[2]25841'!G34 -> 0 | E23: ='[2]25841'!H34 -> 2792 | F23: =SUM(G23:I23) -> 2792 | G23: =C23 -> 0 | H23: =D23 -> 0 | I23: =E23 -> 2792 | J23: =SUM(K23:M23) -> 2792 | K23: =G23 -> 0 | L23: =Q23 -> 0 | M23: =E23 -> 2792 | N23: =SUM(S23:U23) -> 28060 | O23: ='[2]25841'!B34 -> 25885 | Q23: =H23 -> 0 | S23: =ROUND(C23*5.74,0) -> 0 | T23: =ROUND(D23*3.76,0) -> 0 | U23: =ROUND(E23*10.05,0) -> 28060
A24: Раздел: Cиловое электрооборудование. ПНР. | B24: ='[2]25841'!E35 -> 4549 | C24: ='[2]25841'!F35 -> 0 | D24: ='[2]25841'!G35 -> 0 | E24: ='[2]25841'!H35 -> 4549 | F24: =SUM(G24:I24) -> 4549 | G24: =C24 -> 0 | H24: =D24 -> 0 | I24: =E24 -> 4549 | J24: =SUM(K24:M24) -> 4549 | K24: =G24 -> 0 | L24: =Q24 -> 0 | M24: =E24 -> 4549 | N24: =SUM(S24:U24) -> 45717 | O24: ='[2]25841'!B35 -> 25876 | Q24: =H24 -> 0 | S24: =ROUND(C24*5.74,0) -> 0 | T24: =ROUND(D24*3.76,0) -> 0 | U24: =ROUND(E24*10.05,0) -> 45717
A25: Раздел: ПНР. Электроснабжение. | B25: ='[2]25841'!E36 -> 404 | C25: ='[2]25841'!F36 -> 0 | D25: ='[2]25841'!G36 -> 0 | E25: ='[2]25841'!H36 -> 404 | F25: =SUM(G25:I25) -> 404 | G25: =C25 -> 0 | H25: =D25 -> 0 | I25: =E25 -> 404 | J25: =SUM(K25:M25) -> 404 | K25: =G25 -> 0 | L25: =Q25 -> 0 | M25: =E25 -> 404 | N25: =SUM(S25:U25) -> 4060 | O25: ='[2]25841'!B36 -> 25875 | Q25: =H25 -> 0 | S25: =ROUND(C25*5.74,0) -> 0 | T25: =ROUND(D25*3.76,0) -> 0 | U25: =ROUND(E25*10.05,0) -> 4060
A26: Раздел: ПНР. Пожарная сигнализация. | B26: ='[2]25841'!E37 -> 2595 | C26: ='[2]25841'!F37 -> 0 | D26: ='[2]25841'!G37 -> 0 | E26: ='[2]25841'!H37 -> 2595 | F26: =SUM(G26:I26) -> 2595 | G26: =C26 -> 0 | H26: =D26 -> 0 | I26: =E26 -> 2595 | J26: =SUM(K26:M26) -> 2595 | K26: =G26 -> 0 | L26: =Q26 -> 0 | M26: =E26 -> 2595 | N26: =SUM(S26:U26) -> 26080 | O26: ='[2]25841'!B37 -> 25874 | Q26: =H26 -> 0 | S26: =ROUND(C26*5.74,0) -> 0 | T26: =ROUND(D26*3.76,0) -> 0 | U26: =ROUND(E26*10.05,0) -> 26080
A27: Раздел: ПНР. Наружное освещение. | B27: ='[2]25841'!E38 -> 2194 | C27: ='[2]25841'!F38 -> 0 | D27: ='[2]25841'!G38 -> 0 | E27: ='[2]25841'!H38 -> 2194 | F27: =SUM(G27:I27) -> 2194 | G27: =C27 -> 0 | H27: =D27 -> 0 | I27: =E27 -> 2194 | J27: =SUM(K27:M27) -> 2194 | K27: =G27 -> 0 | L27: =Q27 -> 0 | M27: =E27 -> 2194 | N27: =SUM(S27:U27) -> 22050 | O27: ='[2]25841'!B38 -> 25886 | Q27: =H27 -> 0 | S27: =ROUND(C27*5.74,0) -> 0 | T27: =ROUND(D27*3.76,0) -> 0 | U27: =ROUND(E27*10.05,0) -> 22050
A28: Итого в ценах 2000 года: | B28: =SUM(B7:B27) -> 6319557 | C28: =SUM(C7:C27) -> 6106772 | D28: =SUM(D7:D27) -> 190811 | E28: =SUM(E7:E27) -> 21974 | F28: =SUM(F7:F27) -> 6319557 | G28: =SUM(G7:G27) -> 6106772 | H28: =SUM(H7:H27) -> 190811 | I28: =SUM(I7:I27) -> 21974 | ... M28: =SUM(M7:M27) -> 21974 | N28: =SUM(P28:U28) -> 35991159 | P28: =SUM(P7:P27) -> 16746249 | Q28: =SUM(Q7:Q27) -> 0 | R28: =SUM(R7:R18) -> 0 | S28: =SUM(S7:S27) -> 18306622 | T28: =SUM(T7:T27) -> 717449 | U28: =SUM(U7:U27) -> 220839
A29: Итого с индексом инфляции**: | N29: =P28+S29+T29+U29 -> 37011139 | S29: =ROUND(S28*1.053,0) -> 19276873 | T29: =ROUND(T28*1.053,0) -> 755474 | U29: =ROUND(U28*1.053,0) -> 232543
A30: НДС 18% | N30: =SUM(P30:U30) -> 6662005 | P30: =ROUND(P28*18%,2) -> 3014324.8 | S30: =ROUND(S29*18%,2) -> 3469837.1 | T30: =ROUND(T29*18%,2) -> 135985.32 | U30: =ROUND(U29*18%,2) -> 41857.74
A31: Всего: | N31: =SUM(P31:U31) -> 43673144 | P31: =SUM(P28:P30) -> 19760574 | S31: =SUM(S29:S30) -> 22746710 | T31: =SUM(T29:T30) -> 891459.32 | U31: =SUM(U29:U30) -> 274400.74
P32: 60000000
A33: * В расчете использованы индексы: | Q33: =P32-P31 -> 40239426
A34: - 5,74 индекс изменения сметной стоимости СМР к ТЕР 2001 (Письмо Минстроя от 06.02.201 №3004-ЛС/08, Приложение 1 прочие объекты).
A35: - 3,76 индекс изменения сметной стоимости оборудования к ТЕР 2001 (Письмо Минстроя от 06.02.201 №3004-ЛС/08, Приложение 5 экономика в целом)
A36: - 10,05 индекс изменения сметной стоимости прочих затрат к ТЕР 2001 (Письмо Минстроя от 06.02.201 №3004-ЛС/08, Приложение 1, пусконаладочные работы)
A37: **В расчете использован индекс-дефлятор по инвестициям в основной капитал 2015/2016 - 1,053 по письмам: Минэкономразвития России от 25.09.2013 №20402-АК/ДОЗи, Госкорпорация "Росатом" от 09.09.2014 №1-12.8/34083
A39: Начальник отдела капитального строительства
A40: ФГУП "Комбинат "Электрохимприбор" | H40: С.С. Батаев
A42: Инженер договорной группы | H42: И.А.Клюсова
A44: Согласовано | H44: отд. 028

Sheet НМЦ договора
A8: Определение начальной (максимальной) цены договора генерального подряда
A9: на выполнение работ по " Строительству кормокухни и вольеров для содержания служебных собак на кинологическом городке войсковой части 3275".
A10: на 2015 год
A12: Способ закупки: открытый конкурс
F13: ц.2000г./текущие цены, руб.
A14: Наименование услуг и работ (затрат) | C14: Сметная стоимость строительства в базисном уровне цен на 01.01.2000 г. | D14: Сметная стоимость строительства в текущем уровне цен, пресчитанная на момент проведения процедуры закупки | F14: Начальная (максимальная) цена | G14: в том числе по годам строительства
G17: 2015 г. | H17: 2016 г.
A21: 1 | C21: 2 | D21: 3 | F21: 4 | G21: 5 | H21: 6
A22: СМР | C22: =СМР!$C$28 -> 6106772 | D22: =F22 -> 36023122 | F22: =G22+H22 -> 36023122 | G22: =СМР!$P$28 -> 16746249 | H22: =СМР!S29 -> 19276873
A23: Оборудование | C23: =СМР!$D$28 -> 190811 | D23: =F23 -> 755474 | F23: =H23 -> 755474 | G23: 0 | H23: =СМР!T29 -> 755474
A24: Прочие затраты | C24: =СМР!$E$28 -> 21974 | D24: =F24 -> 0 | F24: =G24 -> 0 | G24: 0 | H24: 232543
A25: Всего: | C25: =SUM(C22:C24) -> 6319557 | D25: =СМР!N29 -> 37011139 | F25: =SUM(G25:I25) -> 37011139 | G25: =SUM(G22:G24) -> 16746249 | H25: =SUM(H22:I24) -> 20264890
A26: НДС | D26: =СМР!N30 -> 6662005 | F26: =SUM(G26:I26) -> 6662005 | G26: =СМР!P30+СМР!Q30 -> 3014324.8 | H26: =ROUND(H25*18%,2) -> 3647680.2
A27: Итого с НДС | D27: =СМР!N31 -> 43673144 | F27: =SUM(G27:I27) -> 43673144 | G27: =СМР!P31+СМР!Q31 -> 19760574 | H27: =SUM(H25:I26) -> 23912570
A29: *В расчете использованы индексы:
A31: -5,74 индекс изменения сметной стоимости СМР к ТЕР 2001 (Письмо Минстроя от 06.02.201 №3004-ЛС/08, Приложение 1 прочие объекты). - 3,76 индекс изменения сметной стоимости оборудования к ТЕР 2001 (Письмо Минстроя от 06.02.201 №3004-ЛС/08, Приложение 5 экономика в целом) - 10,05 индекс изменения сметной стоимости прочих затрат к ТЕР 2001 (Письмо Минстроя от 06.02.201 №3004-ЛС/08, Приложение 1, пусконаладочные работы)
A32: **В расчете использован индекс-дефлятор по инвестициям в основной капитал 2015/2016 - 1,053 по письмам: Минэкономразвития России от 25.09.2013 №20402-АК/ДОЗи, Госкорпорация "Росатом" от 09.09.2014 №1-12.8/34083
A34: Начальник отдела капитального строительства
A35: ФГУП "Комбинат "Электрохимприбор" | G35: С.С. Батаев
A37: Инженер договорной группы | G37: И.А. Клюсова
A39: Согласовано | G39: отд. 028

Sheet 25826
A1: СОГЛАСОВАНО: | E1: ФГУП "Комбинат "Электрохимприбор" | M1: УТВЕРЖДАЮ:
G2: (наименование стройки) | M2: Зам.генерального директора
A3: _________________ | N3: Е.В. Гордеев
A4: " _____ " ________________ 2015 г. | M4: __________________
M5: "______ " __________2015 г.
G7: ЛОКАЛЬНЫЙ СМЕТНЫЙ РАСЧЕТ № 25826
G8: (локальная смета)
C10: на | D10: строительство кормокухни и вольеров для содержания служебных собак
D11: на кинологическом городке войсковой части 3275.
D12: Раздел: Архитектурно-строительные работы.
G13: (наименование работ и затрат, наименование объекта)
D15: Основание: проект № 2014/06-06-У-1-АС
D16: Сметная стоимость строительных работ _______________________________________________________________________________________________ | J16: ___________________________2917,465 | L16: тыс. руб.
D17: Средства на оплату труда _______________________________________________________________________________________________ | J17: ___________________________78,604 | L17: тыс. руб.
D18: Сметная трудоемкость _______________________________________________________________________________________________ | J18: _______________________________________________________________________________________________5700,2 | L18: чел.час
D19: Составлен(а) в базовых ценах 2001г. в редакции 2009г.
A21: № пп | B21: Обосно- вание | C21: Наименование | D21: Ед. изм. | E21: Кол. | F21: Стоимость единицы, руб. | J21: Общая стоимость, руб. | N21: Т/з осн. раб.на ед. | O21: Т/з осн. раб. Всего | P21: Т/з мех. на ед. | Q21: Т/з мех. Всего
F22: Всего | G22: В том числе | J22: Всего | K22: В том числе
G23: Осн.З/п | H23: Эк.Маш | I23: З/пМех | K23: Осн.З/п | L23: Эк.Маш | M23: З/пМех
A24: 1 | B24: 2 | C24: 3 | D24: 4 | E24: 5 | F24: 6 | G24: 7 | H24: 8 | I24: 9 | J24: 10 | K24: 11 | L24: 12 | M24: 13 | N24: 14 | O24: 15 | P24: 16 | Q24: 17
A25: Раздел 1. Земляные работы
A26: 1 | B26: ТЕР01-01-003-09 | C26: Разработка грунта в отвал экскаваторами «драглайн» или «обратная лопата» с ковшом вместимостью 0,65 (0,5-1) м3, группа грунтов 3 | D26: 1000 м3 грунта | E26: 0,015 0,6*0,3*83,1/1000 | F26: 4796.33 | G26: 145.29 | H26: 4651.04 | I26: 489.16 | J26: 72 | K26: 2 | L26: 70 | M26: 7 | N26: 13.22 | O26: 0.2 | P26: 28.91 | Q26: 0.43
A27: 2 | B27: ТЕР01-02-056-08 | C27: Разработка грунта вручную в траншеях шириной более 2 м и котлованах площадью сечения до 5 м2 с креплениями, глубина траншей и котлованов до 3 м, группа грунтов 2 | D27: 100 м3 грунта | E27: 0,005 15*0,03/100 | F27: 3495.76 | G27: 3495.76 | J27: 17 | K27: 17 | N27: 296 | O27: 1.48
A28: 3 | B28: ТЕР01-01-013-01 | C28: Разработка грунта с погрузкой на автомобили-самосвалы экскаваторами с ковшом вместимостью 1 (1-1,2) м3, группа грунтов 1 | D28: 1000 м3 грунта | E28: 0.015 | F28: 3222.6 | G28: 70.34 | H28: 3148.43 | I28: 524.17 | J28: 48 | K28: 1 | L28: 47 | M28: 8 | N28: 6.4 | O28: 0.1 | P28: 32.72 | Q28: 0.49
A29: 4 | B29: ФССЦпг03-21-01-010 | C29: Перевозка грузов (грунта) автомобилями-самосвалами грузоподъемностью 10 т, работающих вне карьера, на расстояние: до 10 км I класс груза (15 Поясные коэффициенты к сметным ценам на перевозку грузов автомобильным транспортом: Свердловская область ПЗ=1,1 (ОЗП=1,1; ЭМ=1,1; ЗПМ=1,1; МАТ=1,1)) | D29: 1 т груза | E29: 30 15*2 | F29: 12.56 | H29: 12.56 | J29: 377 | L29: 377
A30: 5 | B30: ТЕР01-01-016-01 | C30: Работа на отвале, группа грунтов 1 | D30: 1000 м3 грунта | E30: 0.015 | F30: 391.87 | G30: 32.86 | H30: 356.46 | I30: 55.16 | J30: 6 | L30: 5 | M30: 1 | N30: 2.99 | O30: 0.04 | P30: 3.26 | Q30: 0.05
A31: Итого по разделу 1 Земляные работы | J31: 573 | O31: 1.82 | Q31: 0.97
A32: Раздел 2. Фундаменты
A33: Сваи 32 шт
A34: 6 | B34: ТЕР01-02-031-02 | C34: Бурение ям глубиной до 2 м бурильно-крановыми машинами на тракторе, группа грунтов 2 | D34: 100 ям | E34: 0,32 32/100 | F34: 4032.02 | G34: 249.91 | H34: 3782.11 | I34: 385.97 | J34: 1290 | K34: 80 | L34: 1210 | M34: 124 | N34: 22.74 | O34: 7.28 | P34: 24.71 | Q34: 7.91
A35: 7 | B35: ТЕР08-01-002-02 | C35: Устройство основания под фундаменты щебеночного | D35: 1 м3 | E35: 0,023 0,314*0,15*0,15*0,1*32 | F35: 288.26 | G35: 27.62 | H35: 67.69 | I35: 7.48 | J35: 7 | K35: 1 | L35: 2 | N35: 2.4 | O35: 0.06 | P35: 0.54 | Q35: 0.01
A36: 8 | B36: ТЕР06-01-001-13 | C36: Устройство фундаментов-столбов бетонных 17 819,65 = 72 650,77 - 102 x 537,56 | D36: 100 м3 | E36: 0,163 0,51*32/100 | F36: 17819.65 | G36: 7185.1 | H36: 4805.24 | I36: 338.14 | J36: 2905 | K36: 1171 | L36: 783 | M36: 55 | N36: 598.26 | O36: 97.52 | P36: 18.62 | Q36: 3.04
A37: Уд | B37: 1. 401-0023 | C37: Бетон тяжелый, крупность заполнителя более 40 мм, класс В7,5 (М 100) | D37: м3 | E37: 102 16,63 | F37: 537.56 | J37: 8939.62
A38: 9 | B38: ТСЦ-401-0027 | C38: Бетон тяжелый, крупность заполнителя более 40 мм, класс В20 (М250) | D38: м3 | E38: 16.63 | F38: 594.19 | J38: 9881
A39: 10 | B39: ТЕР06-01-015-06 | C39: Армирование свай 1 290,61 = 11 035,04 - 1 x 9 744,43 | D39: 1 т | E39: 0,2032 (1,69*3+0,16*8)*32/1000 | F39: 1290.61 | G39: 627.77 | H39: 589.31 | I39: 31.85 | J39: 262 | K39: 128 | L39: 120 | M39: 6 | N39: 46.33 | O39: 9.41 | P39: 1.75 | Q39: 0.36
A40: Уд | B40: 1. 201-0775 | C40: Конструктивные элементы вспомогательного назначения с преобладанием профильного проката без отверстий и сборосварочных операций | D40: т | E40: 1 0,2032 | F40: 9744.43 | J40: 1980.07
A41: 11 | B41: ТСЦ-204-0001 | C41: Горячекатаная арматурная сталь гладкая класса А-I, диаметром 6 мм | D41: т | E41: 0,041 (0,16*8)*32/1000 | F41: 4815.5 | J41: 197
A42: 12 | B42: ТСЦ-204-0022 | C42: Горячекатаная арматурная сталь периодического профиля класса А-III, диаметром 12 мм | D42: т | E42: 0,1622 (1,69*3)*32/1000 | F42: 4874.75 | J42: 791
A43: 13 | B43: ТСЦ-204-0034 | C43: Надбавки к ценам заготовок за сборку и сварку каркасов и сеток плоских, диаметром 5-6 мм | D43: т | E43: 0.041 | F43: 3145.5 | J43: 129
A44: 14 | B44: ТСЦ-204-0037 | C44: Надбавки к ценам заготовок за сборку и сварку каркасов и сеток плоских, диаметром 12 мм | D44: т | E44: 0.1622 | F44: 2069.7 | J44: 336
...

Sheet 25827
A1: СОГЛАСОВАНО: | E1: ФГУП "Комбинат "Электрохимприбор" | M1: УТВЕРЖДАЮ:
G2: (наименование стройки) | M2: Зам.генерального директора
A3: _________________ | N3: Е.В. Гордеев
A4: " _____ " _________ 2015 г. | M4: __________________
G5: ЛОКАЛЬНЫЙ СМЕТНЫЙ РАСЧЕТ № 25827 | M5: "______ " __________2015г.
G6: (локальная смета)
C8: на | D8: строительство кормокухни и вольеров для содержания служебных собак на кинологическом
D9: городке войсковой части 3275. Раздел: Вольеры на 48 собак. Архитектурно-строительные решения
D10: (наименование работ и затрат, наименование объекта)
D12: Основание: проект № 2014/06-06-У-2-АС
D13: Сметная стоимость строительных работ _______________________________________________________________________________________________ | J13: ___________________________1277,724 | L13: тыс. руб.
D14: Средства на оплату труда _______________________________________________________________________________________________ | J14: ___________________________98,155 | L14: тыс. руб.
D15: Сметная трудоемкость _______________________________________________________________________________________________ | J15: _______________________________________________________________________________________________7004,24 | L15: чел.час
D16: Материалы ______________________________________________________________ | K16: 920.881 | L16: тыс. руб.
D17: Составлен(а) в базовых ценах 2001г. в редакции 2009г.
A19: № пп | B19: Обосно- вание | C19: Наименование | D19: Ед. изм. | E19: Кол. | F19: Стоимость единицы, руб. | J19: Общая стоимость, руб. | N19: Т/з осн. раб.на ед. | O19: Т/з осн. раб. Всего | P19: Т/з мех. на ед. | Q19: Т/з мех. Всего
F20: Всего | G20: В том числе | J20: Всего | K20: В том числе
G21: Осн.З/п | H21: Эк.Маш | I21: З/пМех | K21: Осн.З/п | L21: Эк.Маш | M21: З/пМех
A22: 1 | B22: 2 | C22: 3 | D22: 4 | E22: 5 | F22: 6 | G22: 7 | H22: 8 | I22: 9 | J22: 10 | K22: 11 | L22: 12 | M22: 13 | N22: 14 | O22: 15 | P22: 16 | Q22: 17
A23: Раздел 1. Фундаменты
A24: 1 | B24: ТЕР01-01-003-08 | C24: Разработка грунта в отвал экскаваторами «драглайн» или «обратная лопата» с ковшом вместимостью 0,65 (0,5-1) м3, группа грунтов 2 | D24: 1000 м3 грунта | E24: 0.07 | F24: 3778.42 | G24: 115.18 | H24: 3663.24 | I24: 385.27 | J24: 264 | K24: 8 | L24: 256 | M24: 27 | N24: 10.48 | O24: 0.73 | P24: 22.77 | Q24: 1.59
A25: 2 | B25: ТЕР01-02-057-02 | C25: Разработка грунта вручную в траншеях глубиной до 2 м без креплений с откосами, группа грунтов 2 (3.187 Доработка вручную, зачистка дна и стенок с выкидкой грунта в котлованах и траншеях, разработанных механизированным способом ОЗП=1,2; ТЗ=1,2) | D25: 100 м3 грунта | E25: 0.02 | F25: 2030.95 | G25: 2030.95 | J25: 41 | K25: 41 | N25: 184.8 | O25: 3.7
A26: 3 | B26: ТЕР01-02-031-02 | C26: Бурение ям глубиной до 2,2 м бурильно-крановыми машинами на тракторе, группа грунтов 2 | D26: 100 ям | E26: 1.56 | F26: 4032.02 | G26: 249.91 | H26: 3782.11 | I26: 385.97 | J26: 6290 | K26: 390 | L26: 5900 | M26: 602 | N26: 22.74 | O26: 35.47 | P26: 24.71 | Q26: 38.55
A27: 4 | B27: ТЕР08-01-002-02 | C27: Устройство основания под фундаменты щебеночного | D27: 1 м3 | E27: 1.1 | F27: 288.26 | G27: 27.62 | H27: 67.69 | I27: 7.48 | J27: 317 | K27: 30 | L27: 74 | M27: 8 | N27: 2.4 | O27: 2.64 | P27: 0.54 | Q27: 0.59
A28: 5 | B28: ТЕР06-01-001-13 | C28: Устройство фундаментов-столбов бетонных | D28: 100 м3 | E28: 0.209 | F28: 17819.65 | G28: 7185.1 | H28: 4805.24 | I28: 338.14 | J28: 3724 | K28: 1502 | L28: 1004 | M28: 71 | N28: 598.26 | O28: 125.04 | P28: 18.62 | Q28: 3.89
A29: 6 | B29: ТСЦ-401-0067 | C29: Бетон тяжелый, крупность заполнителя 20 мм, класс В20 (М250) | D29: м3 | E29: 21.3 | F29: 627.08 | J29: 13357
A30: 7 | B30: ТЕР06-01-015-06 | C30: Армирование свай | D30: 1 т | E30: 1.025 | F30: 1290.61 | G30: 627.77 | H30: 589.31 | I30: 31.85 | J30: 1323 | K30: 643 | L30: 604 | M30: 33 | N30: 46.33 | O30: 47.49 | P30: 1.75 | Q30: 1.79
A31: 8 | B31: ТСЦ-204-0022 | C31: Горячекатаная арматурная сталь периодического профиля класса А-III, диаметром 12 мм | D31: т | E31: 0.831 | F31: 4874.75 | J31: 4051
A32: 9 | B32: ТСЦ-204-0001 | C32: Горячекатаная арматурная сталь гладкая класса А-I, диаметром 6 мм | D32: т | E32: 0.194 | F32: 4815.5 | J32: 934
A33: 10 | B33: ТСЦ-204-0037 | C33: Надбавки к ценам заготовок за сборку и сварку каркасов и сеток плоских, диаметром 12 мм | D33: т | E33: 0.831 | F33: 2069.7 | J33: 1720
A34: 11 | B34: ТСЦ-204-0034 | C34: Надбавки к ценам заготовок за сборку и сварку каркасов и сеток плоских, диаметром 5-6 мм | D34: т | E34: 0.194 | F34: 3145.5 | J34: 610
A35: 12 | B35: ТЕР08-01-002-01 | C35: Устройство основания из песчано-гравийной смеси под ростверк (обратная засыпка) | D35: 1 м3 | E35: 70 | F35: 68.31 | G35: 26.47 | H35: 41.11 | I35: 4.09 | J35: 4782 | K35: 1853 | L35: 2878 | M35: 286 | N35: 2.3 | O35: 161 | P35: 0.29 | Q35: 20.3
A36: 13 | B36: ТСЦ-408-0202 | C36: Смесь песчано-гравийная природная обогащенная с содержанием гравия 25-35 % | D36: м3 | E36: 84 | F36: 156.55 | J36: 13150
A37: 14 | B37: ТЕР06-01-001-22 | C37: Устройство ленточных фундаментов железобетонных при ширине по верху до 1000 мм | D37: 100 м3 | E37: 0.736 | F37: 19509.01 | G37: 5566.58 | H37: 8517.37 | I37: 523.04 | J37: 14359 | K37: 4097 | L37: 6269 | M37: 385 | N37: 446.04 | O37: 328.29 | P37: 28.77 | Q37: 21.17
A38: 15 | B38: ТСЦ-401-0067 | C38: Бетон тяжелый, крупность заполнителя 20 мм, класс В20 (М250) | D38: м3 | E38: 74.7 | F38: 627.08 | J38: 46843
A39: 16 | B39: ТСЦ-204-0022 | C39: Горячекатаная арматурная сталь периодического профиля класса А-III, диаметром 12 мм | D39: т | E39: 2.452 | F39: 4874.75 | J39: 11953
A40: 17 | B40: ТСЦ-204-0020 | C40: Горячекатаная арматурная сталь периодического профиля класса А-III, диаметром 8 мм | D40: т | E40: 1.512 | F40: 5156.3 | J40: 7796
A41: 18 | B41: ТСЦ-204-0037 | C41: Надбавки к ценам заготовок за сборку и сварку каркасов и сеток плоских, диаметром 12 мм | D41: т | E41: 2.452 | F41: 2069.7 | J41: 5075
A42: 19 | B42: ТСЦ-204-0035 | C42: Надбавки к ценам заготовок за сборку и сварку каркасов и сеток плоских, диаметром 8 мм | D42: т | E42: 1.512 | F42: 2484.5 | J42: 3757
A43: 20 | B43: ТЕР16-02-005-03 прим. | C43: Установка гильз из стальных электросварных труб диаметром 65 мм | D43: 100 м | E43: 0.192 | F43: 9225.14 | G43: 992.92 | H43: 189.78 | I43: 4.19 | J43: 1771 | K43: 191 | L43: 36 | M43: 1 | N43: 72.16 | O43: 13.85 | P43: 0.23 | Q43: 0.04
...

Sheet 25828
A1: СОГЛАСОВАНО: | E1: ФГУП "Комбинат "Электрохимприбор" | M1: УТВЕРЖДАЮ:
G2: (наименование стройки) | M2: Зам.генерального директора
A3: _________________ | N3: Е.В. Гордеев
A4: " _____ " _________ 2015 г. | M4: __________________
G5: ЛОКАЛЬНЫЙ СМЕТНЫЙ РАСЧЕТ № 25828 | M5: "______ " __________2015г.
G6: (локальная смета)
C8: на | D8: строительство кормокухни и вольеров для содержания служебных собак на кинологическом
D9: городке войсковой части 3275. Раздел: Генеральный план. Благоустройство
D10: (наименование работ и затрат, наименование объекта)
D12: Основание: проект № 2014/06-06-У-0-ГП
D13: Сметная стоимость строительных работ _______________________________________________________________________________________________ | J13: ___________________________202,092 | L13: тыс. руб.
D14: Средства на оплату труда _______________________________________________________________________________________________ | J14: ___________________________20,255 | L14: тыс. руб.
D15: Сметная трудоемкость _______________________________________________________________________________________________ | J15: _______________________________________________________________________________________________1468,72 | L15: чел.час
D16: Материалы ______________________________________________________________ | K16: 123.699 | L16: тыс. руб.
D17: Составлен(а) в базовых ценах 2001г. в редакции 2009г.
A19: № пп | B19: Обосно- вание | C19: Наименование | D19: Ед. изм. | E19: Кол. | F19: Стоимость единицы, руб. | J19: Общая стоимость, руб. | N19: Т/з осн. раб.на ед. | O19: Т/з осн. раб. Всего | P19: Т/з мех. на ед. | Q19: Т/з мех. Всего
F20: Всего | G20: В том числе | J20: Всего | K20: В том числе
G21: Осн.З/п | H21: Эк.Маш | I21: З/пМех | K21: Осн.З/п | L21: Эк.Маш | M21: З/пМех
A22: 1 | B22: 2 | C22: 3 | D22: 4 | E22: 5 | F22: 6 | G22: 7 | H22: 8 | I22: 9 | J22: 10 | K22: 11 | L22: 12 | M22: 13 | N22: 14 | O22: 15 | P22: 16 | Q22: 17
A23: Раздел 1. Тротуар
A24: 1 | B24: ТЕР01-01-030-05 | C24: Разработка грунта с перемещением до 10 м бульдозерами мощностью 79 кВт (108 л.с.), группа грунтов 1 (срезка растительного слоя толщиной 150 мм) | D24: 1000 м3 | E24: 0.073 | F24: 645.17 | H24: 645.17 | I24: 102.37 | J24: 47 | L24: 47 | M24: 7 | P24: 6.05 | Q24: 0.44
A25: 2 | B25: ТЕР01-01-030-06 | C25: Разработка грунта с перемещением до 10 м бульдозерами мощностью 79 кВт (108 л.с.), группа грунтов 2 (рытье корыта под дорожную одежду) | D25: 1000 м3 | E25: 0.048 | F25: 798.73 | H25: 798.73 | I25: 126.73 | J25: 38 | L25: 38 | M25: 6 | P25: 7.49 | Q25: 0.36
A26: 3 | B26: ТЕР01-02-002-03 | C26: Уплотнение грунта прицепными кулачковыми катками 8 т на первый проход по одному следу при толщине слоя 20 см | D26: 1000 м3 | E26: 0.087 | F26: 2463.05 | H26: 2463.05 | I26: 385.1 | J26: 214 | L26: 214 | M26: 34 | P26: 22.76 | Q26: 1.98
A27: 4 | B27: ТЕР01-02-002-06 | C27: На каждый последующий проход по одному следу добавлять к расценке 01-02-002-03 (Новый коэффициент ПЗ=7 (ОЗП=7; ЭМ=7 к расх.; ЗПМ=7; МАТ=7 к расх.; ТЗ=7; ТЗМ=7)) | D27: 1000 м3 | E27: 0.087 | F27: 550.13 | H27: 550.13 | I27: 79.38 | J27: 48 | L27: 48 | M27: 7 | P27: 4.69 | Q27: 0.41
A28: 5 | B28: ТЕР27-04-005-01 | C28: Устройство оснований толщиной 15 см из щебня фракции 40-70 мм при укатке каменных материалов с пределом прочности на сжатие свыше 98,1 МПа (1000 кгс/см2) однослойных | D28: 1000 м2 | E28: 0.437 | F28: 32528.99 | G28: 429.21 | H28: 5950.28 | I28: 827.17 | J28: 14215 | K28: 188 | L28: 2600 | M28: 361 | N28: 37.29 | O28: 16.3 | P28: 49.92 | Q28: 21.82
A29: 6 | B29: ТЕР27-04-005-04 | C29: На каждый 1 см изменения толщины слоя добавлять или исключать к расценкам 27-04-005-01 (до толщины 20 см ПЗ=5 (ОЗП=5; ЭМ=5 к расх.; ЗПМ=5; МАТ=5 к расх.; ТЗ=5; ТЗМ=5)) | D29: 1000 м2 | E29: 0.437 | F29: 9179.2 | H29: 1244.35 | I29: 201.3 | J29: 4011 | L29: 544 | M29: 88 | P29: 12.55 | Q29: 5.48
A30: 7 | B30: ТЕР27-06-026-01 | C30: Розлив вяжущих материалов, расход 0,8 кг/м2 | D30: 1 т | E30: 0.35 | F30: 2017.46 | H30: 46.53 | I30: 11.16 | J30: 706 | L30: 16 | M30: 4 | P30: 0.66 | Q30: 0.23
A31: 8 | B31: ТЕР27-07-001-01 | C31: Устройство асфальтобетонных покрытий дорожек и тротуаров однослойных из мелкозернистой асфальто-бетонной смеси толщиной 3 см | D31: 100 м2 | E31: 4.16 | F31: 428.52 | G31: 197.92 | H31: 47.98 | I31: 0.83 | J31: 1783 | K31: 823 | L31: 200 | M31: 3 | N31: 15.12 | O31: 62.9 | P31: 0.05 | Q31: 0.21
A32: 9 | B32: ТЕР27-07-001-02 | C32: На каждые 0,5 см изменения толщины покрытия добавлять к расценке 27-07-001-01 (до толщины 6 см ПЗ=6 (ОЗП=6; ЭМ=6 к расх.; ЗПМ=6; МАТ=6 к расх.; ТЗ=6; ТЗМ=6)) | D32: 100 м2 | E32: 4.16 | F32: 222.66 | G32: 182.22 | H32: 40.44 | J32: 926 | K32: 758 | L32: 168 | N32: 13.92 | O32: 57.91
A33: 10 | B33: ТСЦ-410-0006 | C33: Асфальтобетонные смеси дорожные, аэродромные и асфальтобетон (горячие и теплые для плотного асфальтобетона мелко и крупнозернистые, песчаные), марка II, тип Б | D33: т | E33: 59.9 | F33: 502.39 | J33: 30093
A34: 11 | B34: ТЕР27-06-022-07 | C34: Одиночная поверхностная обработка усовершенствованных покрытий битумом с применением щебня | D34: 1000 м2 | E34: 0.416 | F34: 5815.85 | G34: 200.81 | H34: 834.34 | I34: 112.19 | J34: 2419 | K34: 84 | L34: 347 | M34: 47 | N34: 16.72 | O34: 6.96 | P34: 6.58 | Q34: 2.74
A35: 12 | B35: ТЕР27-02-010-02 | C35: Установка бортовых камней бетонных при других видах покрытий | D35: 100 м | E35: 5.14 | F35: 4479.96 | G35: 906.11 | H35: 91.05 | I35: 12.38 | J35: 23027 | K35: 4657 | L35: 468 | M35: 64 | N35: 76.08 | O35: 391.05 | P35: 0.68 | Q35: 3.5
A36: 13 | B36: ТСЦ-403-8023 | C36: Камни бортовые БР 100.20.8 / бетон В22,5 (М300), объем 0,016 м3/ (ГОСТ 6665-91) | D36: шт. | E36: 514 | F36: 21.76 | J36: 11185
A37: Раздел 2. Газон
A38: 14 | B38: ТЕР47-01-046-03 | C38: Подготовка почвы для устройства партерного и обыкновенного газона с внесением растительной земли (местной) слоем 15 см механизированным способом | D38: 100 м2 | E38: 21.923 | F38: 400.55 | G38: 392.55 | H38: 8 | I38: 0.95 | J38: 8781 | K38: 8606 | L38: 175 | M38: 21 | N38: 35.08 | O38: 769.06 | P38: 0.07 | Q38: 1.53
A39: 15 | B39: ТЕР47-01-046-05 | C39: На каждые 5 см изменения толщины слоя добавлять или исключать к расценкам с 47-01-046-01 по 47-01-046-04 | D39: 100 м2 | E39: -21.923 | F39: 61.21 | G39: 61.21 | J39: -1342 | K39: -1342 | N39: 5.47 | O39: -119.92
A40: 16 | B40: ТЕР47-01-046-06 | C40: Посев газонов партерных, мавританских и обыкновенных вручную | D40: 100 м2 | E40: 21.923 | F40: 529.03 | G40: 71.34 | H40: 408.89 | I40: 49.87 | J40: 11598 | K40: 1564 | L40: 8964 | M40: 1093 | N40: 5.99 | O40: 131.32 | P40: 2.74 | Q40: 60.07
A41: 17 | B41: ТСЦ-414-0137 | C41: Семена газонных трав (смесь), расход 5 кг на 100 м2 | D41: кг | E41: 109.6 | F41: 95.2 | J41: 10434
A42: Раздел 3. Металлическое ограждение
A43: 18 | B43: ТЕР07-01-054-12 | C43: Установка металлических оград по столбам из сетчатых панелей высотой до 2,2 м (рытье ям под фундаменты с обратной засыпкой и трамбованием; установка столбов в ямы с заделкой бетоном; навеска панелей на столбы с закреплением) | D43: 100 м ограды | E43: 0.63 | F43: 6403.24 | G43: 2176.29 | H43: 3194.95 | I43: 420.24 | J43: 4034 | K43: 1371 | L43: 2013 | M43: 265 | N43: 162.41 | O43: 102.32 | P43: 23.09 | Q43: 14.55
...

Sheet 25884
A1: СОГЛАСОВАНО: | E1: ФГУП "Комбинат "Электрохимприбор" | M1: УТВЕРЖДАЮ:
G2: (наименование стройки) | M2: Зам. генерального директора
A3: _____________________________ | M3: Е.В.Гордеев
A4: " _____ " ________________ 2015г. | G4: ЛОКАЛЬНЫЙ СМЕТНЫЙ РАСЧЕТ № 25884
G5: (локальная смета) | M5: "______ " __________2015 г.
C7: на | D7: Строительство кормокухни и вольеров для содержания служебных собак на кинологическом
D8: городке войсковой части 3275. Раздел: Генеральный план. Водоотведение.
H9: (наименование работ и затрат, наименование объекта)
H10: (локальная смета)
D12: Основание: Проект № 2014/06-06-У-О-ГП
D13: Сметная стоимость строительных работ _______________________________________________________________________________________________ | J13: ___________________________894,163 | L13: тыс. руб.
D14: Средства на оплату труда _______________________________________________________________________________________________ | J14: ___________________________172,782 | L14: тыс. руб.
D15: Сметная трудоемкость _______________________________________________________________________________________________ | J15: _______________________________________________________________________________________________10387,82 | L15: чел.час
D16: Материалы ___________________________________________________________ | J16: =J83/1000 -> 350.43 | L16: тыс.руб.
D17: Составлен(а) в базовых ценах 2001г. в редакции 2009г.
A19: № пп | B19: Обосно- вание | C19: Наименование | D19: Ед. изм. | E19: Кол. | F19: Стоимость единицы, руб. | J19: Общая стоимость, руб. | N19: Т/з осн. раб.на ед. | O19: Т/з осн. раб. Всего | P19: Т/з мех. на ед. | Q19: Т/з мех. Всего
F20: Всего | G20: В том числе | J20: Всего | K20: В том числе
G21: Осн.З/п | H21: Эк.Маш | I21: З/пМех | K21: Осн.З/п | L21: Эк.Маш | M21: З/пМех
A22: 1 | B22: 2 | C22: 3 | D22: 4 | E22: 5 | F22: 6 | G22: 7 | H22: 8 | I22: 9 | J22: 10 | K22: 11 | L22: 12 | M22: 13 | N22: 14 | O22: 15 | P22: 16 | Q22: 17
A23: Раздел 1. Водоотведение.
A24: Устройство лотка.
A25: 1 | B25: ТЕР01-01-003-08 | C25: Разработка грунта в отвал экскаваторами «драглайн» или «обратная лопата» с ковшом вместимостью 0,65 (0,5-1) м3, группа грунтов 2 | D25: 1000 м3 грунта | E25: 0.113 | F25: 3778.42 | G25: 115.18 | H25: 3663.24 | I25: 385.27 | J25: 427 | K25: 13 | L25: 414 | M25: 44 | N25: 10.48 | O25: 1.18 | P25: 22.77 | Q25: 2.57
A26: 2 | B26: ТЕР01-02-057-02 | C26: Разработка грунта вручную в траншеях глубиной до 2 м без креплений с откосами, группа грунтов 2 (3.187Доработка вручную, зачистка дна и стенок с выкидкой грунта в котлованах и траншеях, разработанных механизированным способом ОЗП=1,2; ТЗ=1,2) | D26: 100 м3 грунта | E26: 0.035 | F26: 2030.95 | G26: 2030.95 | J26: 71 | K26: 71 | N26: 184.8 | O26: 6.47
A27: 3 | B27: ТЕР01-01-013-08 | C27: Разработка грунта с погрузкой на автомобили-самосвалы экскаваторами с ковшом вместимостью 0,65 (0,5-1) м3, группа грунтов 2 (Лишний грунт) | D27: 1000 м3 грунта | E27: 0.059 | F27: 5028.78 | G27: 125.4 | H27: 4898.28 | I27: 559.88 | J27: 297 | K27: 7 | L27: 289 | M27: 33 | N27: 11.41 | O27: 0.67 | P27: 33.09 | Q27: 1.95
A28: 4 | B28: ФССЦпг03-21-01-005 | C28: Перевозка грузов автомобилями-самосвалами грузоподъемностью 10 т, работающих вне карьера, на расстояние: до 5 км I класс груза (Лишний грунт) (ОП п.1.1.9Поясные коэффициенты к сметным ценам на перевозку грузов автомобильным транспортом: Свердловская область ПЗ=1,1 (ОЗП=1,1; ЭМ=1,1; ЗПМ=1,1; МАТ=1,1)) | D28: 1 т груза | E28: 118 | F28: 7.36 | H28: 7.36 | J28: 868 | L28: 868
A29: 5 | B29: ТЕР27-04-021-01 | C29: Устройство основания из пескоцементной смеси толщиной 0,18 м на крутых склонах | D29: 100 м2 основания | E29: 1.66 | F29: 7170.4 | G29: 869.41 | H29: 1512.68 | I29: 217.04 | J29: 11903 | K29: 1443 | L29: 2511 | M29: 360 | N29: 55.66 | O29: 92.4 | P29: 12.2 | Q29: 20.25
A30: 6 | B30: ТЕР27-04-021-02 | C30: На каждый 1 см изменения толщины слоя добавлять или исключать к расценке 27-04-021-01 (толщина 100мм ПЗ=8 (ОЗП=8; ЭМ=8 к расх.; ЗПМ=8; МАТ=8 к расх.; ТЗ=8; ТЗМ=8)) | D30: 100 м2 основания | E30: -1.66 | F30: 1928.64 | G30: 49.68 | H30: 20.4 | I30: 2.88 | J30: -3202 | K30: -82 | L30: -34 | M30: -5 | N30: 4.08 | O30: -6.77 | P30: 0.16 | Q30: -0.27
A31: 7 | B31: ТЕР06-01-064-01 | C31: Строительство отдельных конструкций емкостных сооружений, устройство лотков в сооружениях 75 008,05 = 143 587,54 - 101,5 x 675,66 | D31: 100 м3 железобетона в деле | E31: 3.652 | F31: 75008.05 | G31: 40418.11 | H31: 22097.68 | I31: 3339.34 | J31: 273929 | K31: 147607 | L31: 80701 | M31: 12195 | N31: 2732.8 | O31: 9980.19 | P31: 183.48 | Q31: 670.07
A32: Уд | B32: 1. 401-0246 | C32: Бетон песчаный, класс В15 (М200) | D32: м3 | E32: 101,5 370,7 | F32: 675.66 | J32: 250467.16
A33: 8 | B33: ТСЦ-401-0069 | C33: Бетон тяжелый, крупность заполнителя 20 мм, класс В25 (М350) | D33: м3 | E33: 370.7 | F33: 660.86 | J33: 244981
A34: 9 | B34: ТЕР27-02-010-01 прим. | C34: Установка лотков железобетонных | D34: 100 м | E34: 3.32 | F34: 3353.64 | G34: 906.11 | H34: 91.05 | I34: 12.38 | J34: 11134 | K34: 3008 | L34: 302 | M34: 41 | N34: 76.08 | O34: 252.59 | P34: 0.68 | Q34: 2.26
A35: 10 | B35: Прайс лист от 19.05.15 (стр.1) | C35: Стоимость: Лоток железобетонный ЛК75.30.45 | D35: шт | E35: 443 | F35: 90,36 600,00/1,18/5,74*1,02 | J35: 40029
A36: 11 | B36: ТЕР09-03-049-01 | C36: Установка съемных металлических решетак стальных к лотку | D36: 100 м2 пола | E36: 0.015 | F36: 6260.37 | G36: 6107.29 | H36: 153.08 | I36: 10.01 | J36: 94 | K36: 92 | L36: 2 | N36: 471.97 | O36: 7.08 | P36: 0.55 | Q36: 0.01
A37: 12 | B37: Прайс лист от 19.05.15 (стр.2) | C37: Стоимость: Решетка стальная к лотку ЛК75.30.45 | D37: шт | E37: 4 | F37: 467,29 3103,00/1,18/5,74*1,02 | J37: 1869
A38: Устройство колодца ж/б для сбора стоков.
A39: 13 | B39: ТЕР01-01-003-08 | C39: Разработка грунта в отвал экскаваторами «драглайн» или «обратная лопата» с ковшом вместимостью 0,65 (0,5-1) м3, группа грунтов 2 | D39: 1000 м3 грунта | E39: 0.039 | F39: 3778.42 | G39: 115.18 | H39: 3663.24 | I39: 385.27 | J39: 147 | K39: 4 | L39: 143 | M39: 15 | N39: 10.48 | O39: 0.41 | P39: 22.77 | Q39: 0.89
A40: 14 | B40: ТЕР01-02-055-08 | C40: Разработка грунта вручную с креплениями в траншеях шириной до 2 м, глубиной до 3 м, группа грунтов 2 | D40: 100 м3 грунта | E40: 0.012 | F40: 3117.84 | G40: 3117.84 | J40: 37 | K40: 37 | N40: 264 | O40: 3.17
A41: 15 | B41: ТЕР01-01-013-08 | C41: Разработка грунта с погрузкой на автомобили-самосвалы экскаваторами с ковшом вместимостью 0,65 (0,5-1) м3, группа грунтов 2 (Лишний грунт) | D41: 1000 м3 грунта | E41: 0.007 | F41: 5028.78 | G41: 125.4 | H41: 4898.28 | I41: 559.88 | J41: 35 | K41: 1 | L41: 34 | M41: 4 | N41: 11.41 | O41: 0.08 | P41: 33.09 | Q41: 0.23
A42: 16 | B42: ФССЦпг03-21-01-005 | C42: Перевозка грузов автомобилями-самосвалами грузоподъемностью 10 т, работающих вне карьера, на расстояние: до 5 км I класс груза (Лишний грунт) (ОП п.1.1.9Поясные коэффициенты к сметным ценам на перевозку грузов автомобильным транспортом: Свердловская область ПЗ=1,1 (ОЗП=1,1; ЭМ=1,1; ЗПМ=1,1; МАТ=1,1)) | D42: 1 т груза | E42: 13 | F42: 7.36 | H42: 7.36 | J42: 96 | L42: 96
A43: 17 | B43: ТЕР01-01-033-02 | C43: Засыпка траншей и котлованов с перемещением грунта до 5 м бульдозерами мощностью 59 кВт (80 л.с.), группа грунтов 2 | D43: 1000 м3 грунта | E43: 0.032 | F43: 822.69 | H43: 822.69 | I43: 138.55 | J43: 26 | L43: 26 | M43: 4 | P43: 8.87 | Q43: 0.28
...

Sheet 25830
A1: СОГЛАСОВАНО: | E1: ФГУП "Комбинат "Электрохимприбор" | M1: УТВЕРЖДАЮ:
G2: (наименование стройки) | M2: Зам. генерального директора
A3: _____________________________ | M3: Е.В.Гордеев
A4: " _____ " ________________ 2015г. | G4: ЛОКАЛЬНЫЙ СМЕТНЫЙ РАСЧЕТ № 25830
G5: (локальная смета) | M5: "______ " __________2015 г.
C7: на | D7: Строительство кормокухни и вольеров для содержания служебных собак на
D8: кинологическом городке войсковой части 3275. Раздел: Теплосеть
H9: (наименование работ и затрат, наименование объекта)
D11: Основание: Проект 2014/06-06-У-1-ТС
D12: Сметная стоимость строительных работ _______________________________________________________________________________________________ | J12: ___________________________6,717 | L12: тыс. руб.
D13: Средства на оплату труда _______________________________________________________________________________________________ | J13: ___________________________0,384 | L13: тыс. руб.
D14: Сметная трудоемкость _______________________________________________________________________________________________ | J14: _______________________________________________________________________________________________24,25 | L14: чел.час
D15: Материалы ___________________________________________________________ | J15: =J67/1000 -> 5.222 | L15: тыс.руб.
D16: Составлен(а) в базовых ценах 2001г. в редакции 2009г.
A18: № пп | B18: Обосно- вание | C18: Наименование | D18: Ед. изм. | E18: Кол. | F18: Стоимость единицы, руб. | J18: Общая стоимость, руб. | N18: Т/з осн. раб.на ед. | O18: Т/з осн. раб. Всего | P18: Т/з мех. на ед. | Q18: Т/з мех. Всего
F19: Всего | G19: В том числе | J19: Всего | K19: В том числе
G20: Осн.З/п | H20: Эк.Маш | I20: З/пМех | K20: Осн.З/п | L20: Эк.Маш | M20: З/пМех
A21: 1 | B21: 2 | C21: 3 | D21: 4 | E21: 5 | F21: 6 | G21: 7 | H21: 8 | I21: 9 | J21: 10 | K21: 11 | L21: 12 | M21: 13 | N21: 14 | O21: 15 | P21: 16 | Q21: 17
A22: Раздел 1.
A23: 1 | B23: ТЕР24-01-004-01 | C23: Надземная прокладка трубопроводов при условном давлении 1,6 МПа, температуре 150°С, диаметр труб до 50 мм (в том числе отводы и узел для выпуска воздуха) 18 314,09 = 68 935,96 - 1010 x 46,39 - 0,29 x 12 993,00 | D23: 1 км трубопровода | E23: 0.025 | F23: 18314.09 | G23: 5944.32 | H23: 11228.22 | I23: 1204.73 | J23: 458 | K23: 149 | L23: 281 | M23: 30 | N23: 432 | O23: 10.8 | P23: 71.71 | Q23: 1.79
A24: Уд | B24: 1. 103-0357 | C24: Трубы стальные бесшовные, горячедеформированные со снятой фаской из стали марок 15, 20, 25, наружным диаметром 57 мм, толщина стенки 3,5 мм | D24: м | E24: 1010 25,25 | F24: 46.39 | J24: 1171.35
A25: Уд | B25: 2. 201-0888 | C25: Опоры скользящие и катковые, крепежные детали, хомуты | D25: т | E25: 0,29 0,0073 | F25: 12993 | J25: 94.85
A26: 2 | B26: ТСЦ-103-0347 | C26: Трубы стальные бесшовные, горячедеформированные со снятой фаской из стали марок 15, 20, 25, наружным диаметром 32 мм, толщина стенки 3,5 мм (в том числе отводы и узел для выпуска воздуха) | D26: м | E26: 25.25 | F26: 28.02 | J26: 708
A27: 3 | B27: ТСЦ-201-0888 | C27: Опоры скользящие и катковые, крепежные детали, хомуты | D27: т | E27: 0.011 | F27: 12993 | J27: 143
A28: 4 | B28: ТЕР13-03-002-04 | C28: Огрунтовка металлических поверхностей за один раз грунтовкой ГФ-021 | D28: 100 м2 | E28: 0.053 | F28: 417.46 | G28: 79.65 | H28: 10.15 | I28: 0.16 | J28: 22 | K28: 4 | L28: 1 | N28: 5.31 | O28: 0.28 | P28: 0.01
A29: 5 | B29: ТЕР13-03-004-26 | C29: Окраска металлических огрунтованных поверхностей эмалью ПФ (За 2 раза ПЗ=2 (ОЗП=2; ЭМ=2 к расх.; ЗПМ=2; МАТ=2 к расх.; ТЗ=2; ТЗМ=2)) | D29: 100 м2 | E29: 0.053 | F29: 1261.82 | G29: 97.9 | H29: 13.36 | I29: 0.32 | J29: 67 | K29: 5 | L29: 1 | N29: 7.66 | O29: 0.41 | P29: 0.02
A30: 6 | B30: ТЕР26-01-003-01 | C30: Изоляция трубопроводов цилиндрами и полуцилиндрами из минеральной ваты на синтетическом связующем 1 140,90 = 2 429,78 - 1,032 x 1 248,91 | D30: 1 м3 изоляции | E30: 0.339 | F30: 1140.9 | G30: 243.27 | H30: 46.57 | J30: 387 | K30: 82 | L30: 16 | N30: 18.8 | O30: 6.37
A31: Уд | B31: 1. 104-0017 | C31: Цилиндры и полуцилиндры теплоизоляционные из минваты на синтетическом связующем М-200, внутренний диаметр 76-108 мм | D31: м3 | E31: 1,032 0,3498 | F31: 1248.91 | J31: 436.87
A32: 7 | B32: ТСЦ-104-1345 | C32: Цилиндры минераловатные кашированные алюминиевой фольгой толщиной 50 мм, диаметром до 89 мм (ROCKWOOL) | D32: м | E32: 24.24 | F32: 116.62 | J32: 2827
A33: 8 | B33: ТЕР24-01-028-01 | C33: Установка П-образных компенсаторов диаметром труб до 50 мм | D33: 1 компенсатор | E33: 2 | F33: 603.12 | G33: 39.68 | H33: 30.01 | I33: 3.84 | J33: 1206 | K33: 79 | L33: 60 | M33: 8 | N33: 2.8 | O33: 5.6 | P33: 0.32 | Q33: 0.64
A34: 9 | B34: ТЕР09-03-014-01 прим. | C34: Монтаж парных уголков | D34: 1 т конструкций | E34: 0.0007 | F34: 1773.81 | G34: 779.61 | H34: 583.19 | I34: 69.72 | J34: 1 | K34: 1 | N34: 63.28 | O34: 0.04 | P34: 3.82
A35: 10 | B35: ТСЦ-101-1641 | C35: Сталь угловая равнополочная, марка стали ВСт3кп2, размером 50x50x5 мм | D35: т | E35: 0.003 | F35: 5890.5 | J35: 18
A36: 11 | B36: ТЕР26-01-009-01 прим. | C36: Изоляция трубопроводов 943,99 = 1 630,78 - 4E-5 x 38 163,26 - 1,54 x 414,12 - 0,002204 x 21 560,00 | D36: 1 м3 изоляции | E36: 0.04 | F36: 943.99 | G36: 259.38 | H36: 71.42 | J36: 38 | K36: 10 | L36: 3 | N36: 18.85 | O36: 0.75
A37: Уд | B37: 1. 101-1821 | C37: Винты самонарезающие оцинкованные, размером 4-12 мм ГОСТ 10621-80 | D37: т | E37: 4E-5 | F37: 38163.26
A38: Уд | B38: 2. 104-0009 | C38: Маты прошивные из минеральной ваты без обкладок М-100, толщина 60 мм | D38: м3 | E38: 1,54 0,0616 | F38: 414.12 | J38: 25.51
A39: Уд | B39: 3. 104-0077 | C39: Стеклопластик рулонный марки РСТ-А-Л-В | D39: 1000 м2 | E39: 0,002204 0,0001 | F39: 21560 | J39: 2.16
A40: 12 | B40: Прайс лист от 21.05.15 (стр.1) | C40: Стоимость: Плиты теплоизоляционные ТЕХ БАТТС 50 ТУ 5762-013-45757203-03 | D40: м3 | E40: 0.04 | F40: 692,73 4600,00/1,18/5,74*1,02 | J40: 28
A41: 13 | B41: ТСЦ-101-1821 | C41: Винты самонарезающие оцинкованные, размером 4-12 мм ГОСТ 10621-80 | D41: т | E41: 0.0003 | F41: 38163.26 | J41: 11
A42: Итого по разделу 1 | J42: 6717 | O42: 24.25 | Q42: 2.43
A43: ИТОГИ ПО СМЕТЕ:
...

Sheet 25831
A1: СОГЛАСОВАНО: | E1: ФГУП "Комбинат "Электрохимприбор" | M1: УТВЕРЖДАЮ:
G2: (наименование стройки) | M2: Зам. генерального директора
A3: _____________________________ | M3: Е.В.Гордеев
A4: " _____ " ________________ 2015г. | G4: ЛОКАЛЬНЫЙ СМЕТНЫЙ РАСЧЕТ № 25831
G5: (локальная смета) | M5: "______ " __________2015 г.
C7: на | D7: Строительство кормокухни и вольеров для содержания служебных собак на
D8: кинологическом городке войсковой части 3275. Раздел: Отопление и вентиляция
H9: (наименование работ и затрат, наименование объекта)
D11: Основание: Проект № 2014/06-06-У-1-ОВ
D12: Сметная стоимость _______________________________________________________________________________________________ | J12: ___________________________322,172 | L12: тыс. руб.
D13: строительных работ _______________________________________________________________________________________________ | J13: _______________________________________________________________________________________________171,608 | L13: тыс. руб.
D14: монтажных работ _______________________________________________________________________________________________ | J14: _______________________________________________________________________________________________0,096 | L14: тыс. руб.
D15: оборудования _______________________________________________________________________________________________ | J15: _______________________________________________________________________________________________150,468 | L15: тыс. руб.
D16: Средства на оплату труда _______________________________________________________________________________________________ | J16: ___________________________9,072 | L16: тыс. руб.
D17: Сметная трудоемкость _______________________________________________________________________________________________ | J17: _______________________________________________________________________________________________677,8 | L17: чел.час
D18: Материалы ___________________________________________________________ | J18: =K477/1000 -> 142.644 | L18: тыс.руб.
D19: Составлен(а) в базовых ценах 2001г. в редакции 2009г.
A21: № пп | B21: Обосно- вание | C21: Наименование | D21: Ед. изм. | E21: Кол. | F21: Стоимость единицы, руб. | J21: Общая стоимость, руб. | O21: Т/з осн. раб.на ед. | P21: Т/з осн. раб. Всего | Q21: Общая масса обору-дования, т
F22: Всего | G22: В том числе | J22: Обору- дование | K22: Всего | L22: В том числе
G23: Осн.З/п | H23: Эк.Маш | I23: З/пМех | L23: Осн.З/п | M23: Эк.Маш | N23: З/пМех
A24: 1 | B24: 2 | C24: 3 | D24: 4 | E24: 5 | F24: 6 | G24: 7 | H24: 8 | I24: 9 | J24: 10 | K24: 11 | L24: 12 | M24: 13 | N24: 14 | O24: 15 | P24: 16 | Q24: 17
A25: Раздел 1. Узел ввода и теплоснабжение калорифера приточной установки.
A26: 1 | B26: ТЕР16-05-001-02 | C26: Установка кранов на трубопроводах из стальных труб диаметром до 50 мм | D26: 1 шт. | E26: 2 | F26: 138.58 | G26: 18.79 | H26: 5.32 | K26: 277 | L26: 38 | M26: 11 | O26: 1.47 | P26: 2.94
A27: 2 | B27: Прайс лист от 14.05.15 (стр.1) | C27: Стоимость: Кран шаровой фланцевый Ду32 JIP-FF | D27: компл. | E27: 2 | F27: 796,45 4482,00/5,74*1,02 | K27: 1593
A28: 3 | B28: ТЕР16-07-001-02 прим. | C28: Установка кранов диаметром до 25 мм 5,02 = 879,66 - 20 x 40,82 - 2 x 7,20 - 1 x 43,84 | D28: 1 кран | E28: 14 | F28: 5.02 | G28: 4.07 | K28: 70 | L28: 57 | O28: 0.3 | P28: 4.2
A29: Уд | B29: 1. 301-3329 | C29: Рукава поливочные диаметром 25 мм | D29: м | E29: 20 280 | F29: 40.82 | K29: 11429.6
A30: Уд | B30: 2. 301-3332 | C30: Головки для присоединения рукавов поливочных диаметром 25 мм | D30: шт. | E30: 2 28 | F30: 7.2 | K30: 201.6
A31: Уд | B31: 3. 302-1136 | C31: Вентили проходные муфтовые 15KЧ18Р для воды, давлением 1,6 МПа (16 кгс/см2), диаметром 25 мм | D31: шт. | E31: 1 14 | F31: 43.84 | K31: 613.76
A32: 4 | B32: Прайс лист от 14.05.15 (стр.2) | C32: Стоимость: Кран шаровой латунный муфтовый Ду20, BVR | D32: шт | E32: 3 | F32: 107,86 607,00/5,74*1,02 | K32: 324
A33: 5 | B33: Прайс лист от 14.05.15 (стр.2) | C33: Стоимость: Кран шаровой латунный муфтовый Ду15, BVR | D33: шт | E33: 6 | F33: 72,68 409,00/5,74*1,02 | K33: 436
A34: 6 | B34: Прайс лист от 14.05.15 (стр.2) | C34: Стоимость: Кран шаровой латунный муфтовый сливной Ду20, BVR-С | D34: шт | E34: 5 | F34: 132,74 747,00/5,74*1,02 | K34: 664
A35: 7 | B35: ТЕР16-05-001-01 | C35: Установка клапанов на трубопроводах из стальных труб диаметром до 25 мм | D35: 1 шт. | E35: 3 | F35: 84.1 | G35: 18.79 | H35: 4.23 | K35: 252 | L35: 56 | M35: 13 | O35: 1.47 | P35: 4.41
A36: 8 | B36: Прайс лист от 14.05.15 (стр.3) | C36: Стоимость: Клапан балансировочный ручной со спускным клапаном и измерительным нипелем Ду20, USV-I | D36: шт | E36: 3 | F36: 521,73 2936,00/5,74*1,02 | K36: 1565
A37: 9 | B37: ТЕР18-06-007-02 | C37: Установка фильтров диаметром 32 мм 179,74 = 6 207,34 - 10 x 602,76 | D37: 10 фильтров | E37: 0.2 | F37: 179.74 | G37: 108.39 | H37: 62.45 | I37: 0.55 | K37: 36 | L37: 22 | M37: 12 | O37: 8.18 | P37: 1.64
A38: Уд | B38: 1. 301-1214 | C38: Фильтры для очистки воды в трубопроводах систем отопления диаметром 32 мм | D38: шт. | E38: 10 2 | F38: 602.76 | K38: 1205.52
A39: 10 | B39: Прайс лист от 14.05.15 (стр.4) | C39: Стоимость: Фильтр сетчатый муфтовый Ду32 FVR | D39: шт | E39: 2 | F39: 511,78 2880,00/5,74*1,02 | K39: 1024
A40: 11 | B40: ТЕР18-07-001-02 | C40: Установка манометров с трехходовым краном | D40: 1 компл. | E40: 12 | F40: 244.31 | G40: 3.07 | K40: 2932 | L40: 37 | O40: 0.22 | P40: 2.64
A41: 12 | B41: ТЕР18-07-001-04 | C41: Установка термометров в оправе прямых и угловых | D41: 1 компл. | E41: 5 | F41: 365.03 | G41: 4.11 | K41: 1825 | L41: 21 | O41: 0.31 | P41: 1.55
A42: 13 | B42: ТЕР18-06-003-10 | C42: Установка воздухоотводчиков 53,48 = 118,68 - 1 x 65,20 | D42: 1 шт. | E42: 6 | F42: 53.48 | G42: 22.24 | H42: 10.19 | I42: 0.36 | K42: 321 | L42: 133 | M42: 61 | N42: 2 | O42: 1.66 | P42: 9.96
A43: Уд | B43: 1. 301-1489 | C43: Воздухоотводчик автоматический с наружным резьбовым присоединением Рр=1,0 МПа, Т max = 120 град С, D = 15 мм | D43: шт. | E43: 1 6 | F43: 65.2 | K43: 391.2
...

Sheet 25832
A1: СОГЛАСОВАНО: | E1: ФГУП "Комбинат "Электрохимприбор" | M1: УТВЕРЖДАЮ:
G2: (наименование стройки) | M2: Зам. генерального директора
A3: _____________________________ | M3: Е.В.Гордеев
A4: " _____ " ________________ 2015г. | G4: ЛОКАЛЬНЫЙ СМЕТНЫЙ РАСЧЕТ № 25832
G5: (локальная смета) | M5: "______ " __________2015 г.
C7: на | D7: Строительство кормокухни и вольеров для содержания служебных собак на
D8: кинологическом городке воинской части 3275. Раздел: Водопровод и канализация.
H9: (наименование работ и затрат, наименование объекта)
D11: Основание: Проект № 2014/06-06-У-1-ВК
D12: Сметная стоимость строительных работ _______________________________________________________________________________________________ | J12: ___________________________57,917 | L12: тыс. руб.
D13: Средства на оплату труда _______________________________________________________________________________________________ | J13: ___________________________7,231 | L13: тыс. руб.
D14: Сметная трудоемкость _______________________________________________________________________________________________ | J14: _______________________________________________________________________________________________476,08 | L14: чел.час
D15: Материалы ___________________________________________________________ | J15: =J153/1000 -> 33.193 | L15: тыс.руб.
D16: Составлен(а) в базовых ценах 2001г. в редакции 2009г.
A19: № пп | B19: Обосно- вание | C19: Наименование | D19: Ед. изм. | E19: Кол. | F19: Стоимость единицы, руб. | J19: Общая стоимость, руб. | N19: Т/з осн. раб.на ед. | O19: Т/з осн. раб. Всего | P19: Т/з мех. на ед. | Q19: Т/з мех. Всего
F20: Всего | G20: В том числе | J20: Всего | K20: В том числе
G21: Осн.З/п | H21: Эк.Маш | I21: З/пМех | K21: Осн.З/п | L21: Эк.Маш | M21: З/пМех
A22: 1 | B22: 2 | C22: 3 | D22: 4 | E22: 5 | F22: 6 | G22: 7 | H22: 8 | I22: 9 | J22: 10 | K22: 11 | L22: 12 | M22: 13 | N22: 14 | O22: 15 | P22: 16 | Q22: 17
A23: Раздел 1. Хозяйственно-питьевой водопровод
A24: Водомерный узел № 1 холодной воды
A25: 1 | B25: ТЕР16-06-005-01 | C25: Установка счетчиков (водомеров) диаметром до 40 мм 7,47 = 1 266,37 - 1 x 1 258,90 | D25: 1 счетчик (водомер) | E25: 1 | F25: 7.47 | G25: 5.43 | H25: 1.09 | J25: 7 | K25: 5 | L25: 1 | N25: 0.41 | O25: 0.41
A26: Уд | B26: 1. 301-3165 | C26: Счетчики (водомеры) крыльчатые диаметром 32 мм | D26: шт. | E26: 1 1 | F26: 1258.9 | J26: 1258.9
A27: 2 | B27: Прайс лист от 12.05.15 (стр.1) | C27: Стоимость: Счетчик холодной воды крыльчатый, марка СКБи-20 | D27: шт. | E27: 1 | F27: 888,5 5900,00/1,18/5,74*1,02 | J27: 889
A28: 3 | B28: ТЕР18-07-001-02 | C28: Установка манометров с трехходовым краном | D28: 1 компл. | E28: 1 | F28: 244.31 | G28: 3.07 | J28: 244 | K28: 3 | N28: 0.22 | O28: 0.22
A29: 4 | B29: ТЕР16-05-001-02 | C29: Установка затворов на трубопроводах из стальных труб диаметром до 50 мм | D29: 1 шт. | E29: 2 | F29: 138.58 | G29: 18.79 | H29: 5.32 | J29: 277 | K29: 38 | L29: 11 | N29: 1.47 | O29: 2.94
