Workbook

Sheet 1-1 Разбивка трассы
A1: Наименование стройки - Внешние сети для электроснабжения жилого дома в д. Три Отрока Новгородского района
A2: Объект
A3: ЛОКАЛЬНАЯ СМЕТА № 1-1
A4: на разбивку трассы
A5: Основание | J5: Сметная стоимость -
A6: Чертежи : 11.10-ЭС
A9: № п/п | B9: Шифр и номер позиции норматива | D9: Наименование работ и затрат | F9: Количество | H9: Стоимость на единицу, руб | L9: Общая стоимость, руб. | R9: Затраты труда рабочих, чел.-ч. не занят. обсл. машин
H10: Всего | I10: Экспл. машин | L10: Всего | N10: Основной зарплаты | P10: Экспл. машин | R10: обслуживающ. машины
F11: ед. изм.
H12: Основной зарплаты | I12: В т.ч. зарплаты | P12: В т.ч. зарплаты | R12: На един. | T12: Всего
A13: 1 | B13: 2 | D13: 3 | F13: 4 | H13: 5 | I13: 6 | L13: 7 | N13: 8 | P13: 9 | R13: 10 | T13: 11
A14: 1 | B14: СБЦИ табл 15 п 1 | D14: Трассирование воздушной линий 0,4 кВ 1 категория сложности | F14: 0.079
F15: 1 км
A16: ИТОГО:
A18: Наименование и значение множителей | O18: Значение | S18: Прямые
A24: Всего по смете | O24: 1

Sheet 2-1 ВЛИ-0,4
A1: SmetaWizard документ: Новая Мельница Форма: 2-1 ВЛИ-0,4
A3: ФОРМА № 4
A4: Наименование стройки - Электроснабжение жилого дома по адресу: д. Новая Мельница, ул. Лесная, д.9
A5: Объект
A6: ЛОКАЛЬНАЯ СМЕТА № 2-1
A7: на ВЛИ-0,4 кВ
A8: Основание | N8: Сметная стоимость -
A9: Чертежи № 1036-ЭС.С | N9: Нормативная трудоемкость -
N10: Сметная заработная плата -
A12: № п/п | B12: Шифр и номер позиции норматива | F12: Наименование работ и затрат | H12: Количество | J12: Стоимость на единицу, руб | O12: Общая стоимость, руб. | X12: Затраты труда рабочих, чел.-ч. не занят. обсл. машин
J13: Всего | M13: Экспл. машин | O13: Всего | Q13: Основной зарплаты | U13: Экспл. машин | X13: обслуживающ. машины
H14: ед. изм.
J15: Основной зарплаты | M15: В т.ч. зарплаты | U15: В т.ч. зарплаты | X15: На един. | AA15: Всего
A16: №1 Строительные работы
A17: 1 | B17: 2 | F17: 3 | H17: 4 | J17: 5 | M17: 6 | O17: 7 | Q17: 8 | U17: 9 | X17: 10 | AA17: 11
A18: 1 | B18: ТЕР33-04-001-01 | F18: Установка с помощью механизмов деревянных опор ВЛ 0,38; 6-10 кВ из пропитанных цельных стоек одностоечных | H18: 1
B19: (0) | H19: 1 опора
A20: 2 | B20: Тех.ч. 33-04 п.3.6 (табл.1) | F20: При бурении котлованов для опор на глубину более 2-х м к затратам на бурение котлованов к расценке 33-04-001-01 (к=0,25) | H20: 1
H21: 1 опора
A22: 3 | B22: Тех.ч. 33-04 п.3.7 (табл.1) | F22: При установке опор в мокрых грунтах к затратам на бурение котлованов к расценке 33-04-001-01 (к=0,2) | H22: 1
H23: 1 опора
A24: 4 | B24: ТЕР33-04-003-02 | F24: Установка железобетонных опор ВЛ 0,38; 6-10 кВ с траверсами без приставок одностоечных с одним подкосом | H24: 2
B25: (33) | H25: 1 опора
A26: 5 | B26: Тех.ч. 33-04 п.3.6 | F26: При бурении котлованов для опор на глубину более 2-х м к затратам на бурение котлованов к расценке 33-04-003-02 (к=0,25) | H26: 2
H27: 1 опора
A28: 6 | B28: Тех.ч. 33-04 п.3.7 | F28: При установке опор в мокрых грунтах к затратам на бурение котлованов к расценке 33-04-003-02 (к=0,2) | H28: 2
H29: 1 опора
A30: 7 | B30: ТЕР33-04-003-03 | F30: Установка железобетонных опор ВЛ 0,38; 6-10 кВ с траверсами без приставок одностоечных с двумя подкосами | H30: 1
H31: 1 опора
A32: 8 | B32: Тех.ч. 33-04 п.3.6 | F32: При бурении котлованов для опор на глубину более 2-х м к затратам на бурение котлованов к расценке 33-04-003-03 (к=0,25) | H32: 1
H33: 1 опора
A34: 9 | B34: Тех.ч. 33-04 п.3.6 | F34: При установке опор в мокрых грунтах к затратам на бурение котлованов к расценке 33-04-001-01 (к=0,2) | H34: 1
H35: 1 опора
A36: 10 | B36: ТЕР33-04-016-01 | F36: Развозка конструкций и материалов опор ВЛ 0,38-10 кВ по трассе одностоечных деревянных опор | H36: 1
B37: (0) | H37: 1 опора
A38: 11 | B38: ТЕР33-04-016-02 | F38: Развозка конструкций и материалов опор ВЛ 0,38-10 кВ по трассе одностоечных железобетонных опор | H38: 7
B39: (33) | H39: 1 опора
A40: 12 | B40: ТЕР33-04-016-06 | F40: Развозка конструкций и материалов опор ВЛ 0,38-10 кВ по трассе материалов оснастки сложных опор | H40: 3
B41: (33) | H41: 1 опора
A42: 13 | F42: Стойка опоры СВ 95-2-а | H42: 7
H43: шт.
A44: 14 | F44: Стойка С1 | H44: 1
H45: шт.
A46: 15 | F46: СОТ 36 скрепа | H46: 8
H47: шт
A48: 16 | F48: СОТ 37 лента | H48: 10.4
H49: м
A50: 17 | F50: SOТ 39 бандажный крюк | H50: 8
H51: шт
A52: 18 | F52: Кронштейн У4 | H52: 4
H53: шт
A54: 19 | F54: Бандаж PER15 | H54: 12
H55: шт.
A56: 20 | F56: ЗП 6 проводник заземляющий | H56: 4
H57: шт
A58: 21 | F58: Информационные знаки | H58: 4
H59: шт
A60: Монтаж ограничителей перенапряжения SE 45.328
A61: 22 | B61: ТЕР33-04-030-01 | F61: Установка разрядников с помощью механизмов | H61: 1
B62: (0) | F62: V=3/3 | H62: 1 компл.
A63: 23 | F63: Ограничитель перенапряжения SE 45.328 | H63: 3
H64: шт
A65: Устройство заземления опор
A66: 24 | B66: ТЕР01-02-057-02 | F66: Разработка грунта вручную в траншеях глубиной до 2 м без креплений с откосами, группа грунтов 2 | H66: 0.00525
B67: (1) | H67: 100 м3
A68: 25 | B68: ТЕР01-02-061-02 | F68: Засыпка вручную траншей, пазух котлованов и ям, группа грунтов 2 | H68: 0.00525
B69: (1) | H69: 100 м3
A70: 26 | B70: ТЕР33-03-004-02 | F70: Забивка вертикальных заземлителей вручную на глубину до 3 м | H70: 3
B71: (0) | H71: 1 заземлитель
A72: 27 | F72: Сталь угловая 50х50х5 мм | H72: 33.93
F73: V=3*3*3,77 | H73: кг
A74: ИТОГО:
A77: Наименование и значение множителей | S77: Значение | Y77: Прямые
A98: Итого | S98: 0
A100: №2 Монтажные работы
A101: 1 | C101: 2 | E101: 3 | G101: 4 | K101: 5 | L101: 6 | O101: 7 | R101: 8 | T101: 9 | W101: 10 | Z101: 11
A102: Устройство заземления опор
A103: 1 | C103: ТЕРм08-02-472-01 | E103: Заземлитель горизонтальный из стали круглой диаметром 12 мм | G103: 0.4
C104: (8) | G104: 100 м
A105: 1.1 | C105: [101-1614] | E105: Сталь круглая углеродистая обыкновенного качества марки ВСт3пс5-1 диаметром 16 мм | G105: -0.0368
G106: т
A107: 2 | E107: Сталь круглая диаметром 8мм | G107: 15.8
E108: V=0,395*40 | G108: кг
A109: Подвеска провода СИП
A110: 3 | C110: ТЕРм08-02-150-01 | E110: Подвеска самонесущих изолированных проводов (СИП-2А) напряжением от 0,4 кВ до 1 кВ (со снятием напряжения) при количестве 29 опор с использованием автогидроподъемника | G110: 0.079
G111: 1000 м
A112: 4 | E112: Провод СИП-2 3x70+70 мм2 | G112: 83
G113: м
A114: 5 | E114: РК 99.095 колпачок защитный | G114: 8
G115: шт
A116: 6 | E116: SО 250.01 анкерный зажим | G116: 4
G117: шт
A118: 7 | E118: SО 69.95 поддерживающий зажим | G118: 2
G119: шт
A120: 8 | C120: ТЕРм08-01-082-01 | E120: Зажим наборный без кожуха | G120: 0.2
G121: 100 шт.
A122: 9 | E122: SLIР 22.12 зажим соединительный | G122: 4
G123: шт
A124: 10 | E124: SLIР 22.12 зажим соединительный | G124: 8
G125: шт
...

Sheet 9-1 ПНР ВЛИ-0,4 
A1: SmetaWizard документ: Новая Мельница Форма: 9-1 ПНР ВЛИ-0,4
A3: ФОРМА № 4
A4: Наименование стройки - Электроснабжение жилого дома по адресу: д. Новая Мельница, ул. Лесная, д.9
A5: Объект
A6: ЛОКАЛЬНАЯ СМЕТА № 9-1
A7: на пусконаладочные работы ВЛИ-0,4 кВ
A8: Основание | H8: Сметная стоимость -
A9: Чертежи № 1036-ЭС.С | H9: Нормативная трудоемкость -
H10: Сметная заработная плата -
A12: № п/п | B12: Шифр и номер позиции норматива | C12: Наименование работ и затрат | D12: Количество | F12: Стоимость на единицу, руб | I12: Общая стоимость, руб. | O12: Затраты труда рабочих, чел.-ч. не занят. обсл. машин
F13: Всего | G13: Экспл. машин | I13: Всего | K13: Основной зарплаты | M13: Экспл. машин | O13: обслуживающ. машины
D14: ед. изм.
F15: Основной зарплаты | G15: В т.ч. зарплаты | M15: В т.ч. зарплаты | O15: На един. | Q15: Всего
A16: 1 | B16: 2 | C16: 3 | D16: 4 | F16: 5 | G16: 6 | I16: 7 | K16: 8 | M16: 9 | O16: 10 | Q16: 11
A17: 1 | B17: ТЕРп01-11-012-01 | C17: Определение удельного сопротивления грунта | D17: 1
B18: (0) | D18: 1 измерение
A19: 2 | B19: ТЕРп01-11-010-01 | C19: Измерение сопротивления растеканию тока заземлителя | D19: 3
B20: (0) | D20: 1 измерение
A21: 3 | B21: ТЕРп01-11-011-01 | C21: Проверка наличия цепи между заземлителями и заземленными элементами | D21: 0.06
B22: (0) | D22: 100 точек
A23: 4 | B23: ТЕРп01-11-028-01 | C23: Измерение сопротивления изоляции мегаомметром кабельных и других линий напряжением до 1 кВ, предназначенных для передачи электроэнергии к распределительным устройствам, щитам, шкафам, коммутационным аппаратам и электропотребителям | D23: 1
B24: (0) | D24: 1 линия
A25: ИТОГО:
A32: Наименование и значение множителей | L32: Значение | P32: Прямые
A40: Итого | L40: 0

Sheet SMW_Служебная
A1: Новая Мельница
A2: ='1-1 Разбивка трассы'!A1 -> Наименование стройки - Внешние сети для электроснабжения жилого дома в д. Три Отрока Новгородского района | B2: 16 | C2: 1 | D2: 0 | E2: 0 | F2: 701
A3: ='1-1 Разбивка трассы'!A2 -> Объект | B3: 16 | C3: 2 | D3: 0 | E3: 0 | F3: 702
A4: ='1-1 Разбивка трассы'!A3 -> ЛОКАЛЬНАЯ СМЕТА № 1-1 | B4: 16 | C4: 3 | D4: 0 | E4: 0 | F4: 703
A5: ='1-1 Разбивка трассы'!A4 -> на разбивку трассы | B5: 16 | C5: 4 | D5: 0 | E5: 0 | F5: 704
A6: ='1-1 Разбивка трассы'!A5 -> Основание | B6: 16 | C6: 5 | D6: 0 | E6: 0 | F6: 705
A7: ='1-1 Разбивка трассы'!J5 -> Сметная стоимость - | B7: 16 | C7: 5 | D7: 1 | E7: 0 | F7: 705
A8: ='1-1 Разбивка трассы'!A6 -> Чертежи : 11.10-ЭС | B8: 16 | C8: 6 | D8: 0 | E8: 0 | F8: 706
A9: ='1-1 Разбивка трассы'!J6 -> 0 | B9: 16 | C9: 6 | D9: 1 | E9: 0 | F9: 706
A10: ='1-1 Разбивка трассы'!A7 -> 0 | B10: 16 | C10: 119 | D10: 0 | E10: 0 | F10: 711
A11: ='1-1 Разбивка трассы'!E7 -> 0 | B11: 16 | C11: 119 | D11: 1 | E11: 0 | F11: 711
A12: ='1-1 Разбивка трассы'!M7 -> 0 | B12: 16 | C12: 119 | D12: 2 | E12: 0 | F12: 711
A13: ='1-1 Разбивка трассы'!A8 -> 0 | B13: 16 | C13: 8 | D13: 0 | E13: 0 | F13: 708
A14: ='1-1 Разбивка трассы'!A9 -> № п/п | B14: 16 | C14: 88 | D14: 0 | E14: 0 | F14: 1400
A15: ='1-1 Разбивка трассы'!B9 -> Шифр и номер позиции норматива | B15: 16 | C15: 88 | D15: 1 | E15: 0 | F15: 1400
A16: ='1-1 Разбивка трассы'!D9 -> Наименование работ и затрат | B16: 16 | C16: 88 | D16: 2 | E16: 0 | F16: 1400
A17: ='1-1 Разбивка трассы'!F9 -> Количество | B17: 16 | C17: 88 | D17: 3 | E17: 0 | F17: 1400
A18: ='1-1 Разбивка трассы'!F11 -> ед. изм. | B18: 16 | C18: 88 | D18: 4 | E18: 0 | F18: 1400
A19: ='1-1 Разбивка трассы'!H9 -> Стоимость на единицу, руб | B19: 16 | C19: 88 | D19: 5 | E19: 0 | F19: 1400
A20: ='1-1 Разбивка трассы'!H10 -> Всего | B20: 16 | C20: 88 | D20: 6 | E20: 0 | F20: 1400
A21: ='1-1 Разбивка трассы'!H12 -> Основной зарплаты | B21: 16 | C21: 88 | D21: 7 | E21: 0 | F21: 1400
A22: ='1-1 Разбивка трассы'!I10 -> Экспл. машин | B22: 16 | C22: 88 | D22: 8 | E22: 0 | F22: 1400
A23: ='1-1 Разбивка трассы'!I12 -> В т.ч. зарплаты | B23: 16 | C23: 88 | D23: 9 | E23: 0 | F23: 1400
A24: ='1-1 Разбивка трассы'!L9 -> Общая стоимость, руб. | B24: 16 | C24: 88 | D24: 10 | E24: 0 | F24: 1400
A25: ='1-1 Разбивка трассы'!L10 -> Всего | B25: 16 | C25: 88 | D25: 11 | E25: 0 | F25: 1400
A26: ='1-1 Разбивка трассы'!N10 -> Основной зарплаты | B26: 16 | C26: 88 | D26: 12 | E26: 0 | F26: 1400
A27: ='1-1 Разбивка трассы'!P10 -> Экспл. машин | B27: 16 | C27: 88 | D27: 13 | E27: 0 | F27: 1400
A28: ='1-1 Разбивка трассы'!P12 -> В т.ч. зарплаты | B28: 16 | C28: 88 | D28: 14 | E28: 0 | F28: 1400
A29: ='1-1 Разбивка трассы'!R9 -> Затраты труда рабочих, чел.-ч. не занят. обсл. машин | B29: 16 | C29: 88 | D29: 15 | E29: 0 | F29: 1400
A30: ='1-1 Разбивка трассы'!R10 -> обслуживающ. машины | B30: 16 | C30: 88 | D30: 16 | E30: 0 | F30: 1400
A31: ='1-1 Разбивка трассы'!R12 -> На един. | B31: 16 | C31: 88 | D31: 17 | E31: 0 | F31: 1400
A32: ='1-1 Разбивка трассы'!T12 -> Всего | B32: 16 | C32: 88 | D32: 18 | E32: 0 | F32: 1400
A33: ='1-1 Разбивка трассы'!A14 -> 1 | B33: 16 | C33: 135 | D33: 0 | E33: 0 | F33: 1402
A34: ='1-1 Разбивка трассы'!B14 -> СБЦИ табл 15 п 1 | B34: 16 | C34: 135 | D34: 1 | E34: 0 | F34: 1402
A35: ='1-1 Разбивка трассы'!D14 -> Трассирование воздушной линий 0,4 кВ 1 категория сложности | B35: 16 | C35: 135 | D35: 2 | E35: 0 | F35: 1402
A36: ='1-1 Разбивка трассы'!F15 -> 1 км | B36: 16 | C36: 135 | D36: 3 | E36: 0 | F36: 1402
A37: ='1-1 Разбивка трассы'!F14 -> 0.079 | B37: 16 | C37: 135 | D37: 4 | E37: 0 | F37: 1402
A38: ='1-1 Разбивка трассы'!H15 -> 0 | B38: 16 | C38: 135 | D38: 6 | E38: 0 | F38: 1402
A39: ='1-1 Разбивка трассы'!I14 -> 0 | B39: 16 | C39: 135 | D39: 7 | E39: 0 | F39: 1402
A40: ='1-1 Разбивка трассы'!I15 -> 0 | B40: 16 | C40: 135 | D40: 8 | E40: 0 | F40: 1402
A41: ='1-1 Разбивка трассы'!R14 -> 0 | B41: 16 | C41: 135 | D41: 9 | E41: 0 | F41: 1402
A42: ='1-1 Разбивка трассы'!R15 -> 0 | B42: 16 | C42: 135 | D42: 10 | E42: 0 | F42: 1402
A43: ='1-1 Разбивка трассы'!A16 -> ИТОГО: | B43: 16 | C43: 94 | D43: 0 | E43: 0 | F43: 1403
A44: ='1-1 Разбивка трассы'!A18 -> Наименование и значение множителей | B44: 16 | C44: 20 | D44: 0 | E44: 0 | F44: 100
A45: ='1-1 Разбивка трассы'!O18 -> Значение | B45: 16 | C45: 20 | D45: 1 | E45: 0 | F45: 100
A46: ='1-1 Разбивка трассы'!S18 -> Прямые | B46: 16 | C46: 20 | D46: 3 | E46: 0 | F46: 100
A47: ='1-1 Разбивка трассы'!A19 -> 0 | B47: 16 | C47: 21 | D47: 0 | E47: 0 | F47: 103
A48: ='1-1 Разбивка трассы'!O19 -> 0 | B48: 16 | C48: 21 | D48: 1 | E48: 0 | F48: 103
A49: ='1-1 Разбивка трассы'!A20 -> 0 | B49: 16 | C49: 40 | D49: 0 | E49: 0 | F49: 102
A50: ='1-1 Разбивка трассы'!O20 -> 0 | B50: 16 | C50: 40 | D50: 1 | E50: 0 | F50: 102
A51: ='1-1 Разбивка трассы'!A21 -> 0 | B51: 16 | C51: 41 | D51: 0 | E51: 0 | F51: 102
A52: ='1-1 Разбивка трассы'!O21 -> 0 | B52: 16 | C52: 41 | D52: 1 | E52: 0 | F52: 102
A53: ='1-1 Разбивка трассы'!A22 -> 0 | B53: 16 | C53: 24 | D53: 0 | E53: 0 | F53: 103
A54: ='1-1 Разбивка трассы'!O22 -> 0 | B54: 16 | C54: 24 | D54: 1 | E54: 0 | F54: 103
A55: ='1-1 Разбивка трассы'!A23 -> 0 | B55: 16 | C55: 43 | D55: 0 | E55: 0 | F55: 102
A56: ='1-1 Разбивка трассы'!O23 -> 0 | B56: 16 | C56: 43 | D56: 1 | E56: 0 | F56: 102
A57: ='1-1 Разбивка трассы'!A24 -> Всего по смете | B57: 16 | C57: 25 | D57: 0 | E57: 0 | F57: 103
A58: ='1-1 Разбивка трассы'!O24 -> 1 | B58: 16 | C58: 25 | D58: 1 | E58: 0 | F58: 103
A59: ='1-1 Разбивка трассы'!A25 -> 0 | B59: 16 | C59: 100 | D59: 0 | E59: 0 | F59: 104
A60: ='1-1 Разбивка трассы'!A26 -> 0 | B60: 16 | C60: 99 | D60: 0 | E60: 0 | F60: 104
A61: ='1-1 Разбивка трассы'!A27 -> 0 | B61: 16 | C61: 15 | D61: 0 | E61: 0 | F61: 2000
A62: ='1-1 Разбивка трассы'!C27 -> 0 | B62: 16 | C62: 15 | D62: 1 | E62: 0 | F62: 2000
A63: ='1-1 Разбивка трассы'!G27 -> 0 | B63: 16 | C63: 15 | D63: 2 | E63: 0 | F63: 2000
A64: ='1-1 Разбивка трассы'!A28 -> 0 | B64: 16 | C64: 15 | D64: 3 | E64: 0 | F64: 2000
A65: ='1-1 Разбивка трассы'!C28 -> 0 | B65: 16 | C65: 15 | D65: 4 | E65: 0 | F65: 2000
A66: ='1-1 Разбивка трассы'!G28 -> 0 | B66: 16 | C66: 15 | D66: 5 | E66: 0 | F66: 2000
A67: ='2-1 ВЛИ-0,4'!A3 -> ФОРМА № 4 | B67: 12 | C67: 0 | D67: 0 | E67: 0 | F67: 700
A68: ='2-1 ВЛИ-0,4'!A4 -> Наименование стройки - Электроснабжение жилого дома по адресу: д. Новая Мельница, ул. Лесная, д.9 | B68: 12 | C68: 1 | D68: 0 | E68: 0 | F68: 701
A69: ='2-1 ВЛИ-0,4'!A5 -> Объект | B69: 12 | C69: 2 | D69: 0 | E69: 0 | F69: 702
A70: ='2-1 ВЛИ-0,4'!A6 -> ЛОКАЛЬНАЯ СМЕТА № 2-1 | B70: 12 | C70: 3 | D70: 0 | E70: 0 | F70: 703
A71: ='2-1 ВЛИ-0,4'!A7 -> на ВЛИ-0,4 кВ | B71: 12 | C71: 4 | D71: 0 | E71: 0 | F71: 704
A72: ='2-1 ВЛИ-0,4'!A8 -> Основание | B72: 12 | C72: 5 | D72: 0 | E72: 0 | F72: 705
A73: ='2-1 ВЛИ-0,4'!N8 -> Сметная стоимость - | B73: 12 | C73: 5 | D73: 1 | E73: 0 | F73: 705
A74: ='2-1 ВЛИ-0,4'!A9 -> Чертежи № 1036-ЭС.С | B74: 12 | C74: 6 | D74: 0 | E74: 0 | F74: 706
A75: ='2-1 ВЛИ-0,4'!N9 -> Нормативная трудоемкость - | B75: 12 | C75: 6 | D75: 1 | E75: 0 | F75: 706
A76: ='2-1 ВЛИ-0,4'!A10 -> 0 | B76: 12 | C76: 7 | D76: 0 | E76: 0 | F76: 707
A77: ='2-1 ВЛИ-0,4'!N10 -> Сметная заработная плата - | B77: 12 | C77: 7 | D77: 1 | E77: 0 | F77: 707
A78: ='2-1 ВЛИ-0,4'!A11 -> 0 | B78: 12 | C78: 8 | D78: 0 | E78: 0 | F78: 708
A79: ='2-1 ВЛИ-0,4'!A12 -> № п/п | B79: 12 | C79: 10 | D79: 0 | E79: 0 | F79: 1400
A80: ='2-1 ВЛИ-0,4'!B12 -> Шифр и номер позиции норматива | B80: 12 | C80: 10 | D80: 1 | E80: 0 | F80: 1400
A81: ='2-1 ВЛИ-0,4'!F12 -> Наименование работ и затрат | B81: 12 | C81: 10 | D81: 2 | E81: 0 | F81: 1400
A82: ='2-1 ВЛИ-0,4'!H12 -> Количество | B82: 12 | C82: 10 | D82: 3 | E82: 0 | F82: 1400
A83: ='2-1 ВЛИ-0,4'!H14 -> ед. изм. | B83: 12 | C83: 10 | D83: 4 | E83: 0 | F83: 1400
A84: ='2-1 ВЛИ-0,4'!J12 -> Стоимость на единицу, руб | B84: 12 | C84: 10 | D84: 5 | E84: 0 | F84: 1400
A85: ='2-1 ВЛИ-0,4'!J13 -> Всего | B85: 12 | C85: 10 | D85: 6 | E85: 0 | F85: 1400
A86: ='2-1 ВЛИ-0,4'!J15 -> Основной зарплаты | B86: 12 | C86: 10 | D86: 7 | E86: 0 | F86: 1400
A87: ='2-1 ВЛИ-0,4'!M13 -> Экспл. машин | B87: 12 | C87: 10 | D87: 8 | E87: 0 | F87: 1400
A88: ='2-1 ВЛИ-0,4'!M15 -> В т.ч. зарплаты | B88: 12 | C88: 10 | D88: 9 | E88: 0 | F88: 1400
A89: ='2-1 ВЛИ-0,4'!O12 -> Общая стоимость, руб. | B89: 12 | C89: 10 | D89: 10 | E89: 0 | F89: 1400
A90: ='2-1 ВЛИ-0,4'!O13 -> Всего | B90: 12 | C90: 10 | D90: 11 | E90: 0 | F90: 1400
A91: ='2-1 ВЛИ-0,4'!Q13 -> Основной зарплаты | B91: 12 | C91: 10 | D91: 12 | E91: 0 | F91: 1400
A92: ='2-1 ВЛИ-0,4'!U13 -> Экспл. машин | B92: 12 | C92: 10 | D92: 13 | E92: 0 | F92: 1400
A93: ='2-1 ВЛИ-0,4'!U15 -> В т.ч. зарплаты | B93: 12 | C93: 10 | D93: 14 | E93: 0 | F93: 1400
A94: ='2-1 ВЛИ-0,4'!X12 -> Затраты труда рабочих, чел.-ч. не занят. обсл. машин | B94: 12 | C94: 10 | D94: 15 | E94: 0 | F94: 1400
A95: ='2-1 ВЛИ-0,4'!X13 -> обслуживающ. машины | B95: 12 | C95: 10 | D95: 16 | E95: 0 | F95: 1400
A96: ='2-1 ВЛИ-0,4'!X15 -> На един. | B96: 12 | C96: 10 | D96: 17 | E96: 0 | F96: 1400
A97: ='2-1 ВЛИ-0,4'!AA15 -> Всего | B97: 12 | C97: 10 | D97: 18 | E97: 0 | F97: 1400
A98: ='2-1 ВЛИ-0,4'!A18 -> 1 | B98: 12 | C98: 158 | D98: 0 | E98: 0 | F98: 1402
A99: ='2-1 ВЛИ-0,4'!B18 -> ТЕР33-04-001-01 | B99: 12 | C99: 158 | D99: 1 | E99: 0 | F99: 1402
A100: ='2-1 ВЛИ-0,4'!F18 -> Установка с помощью механизмов деревянных опор ВЛ 0,38; 6-10 кВ из пропитанных цельных стоек одностоечных | B100: 12 | C100: 158 | D100: 2 | E100: 0 | F100: 1402
...
