Workbook

Sheet 1-1 Разбивка трассы
A1: Наименование стройки - Внешние сети для электроснабжения жилого дома в д. Три Отрока Новгородского района
A2: Объект
A3: ЛОКАЛЬНАЯ СМЕТА № 1-1
A4: на разбивку трассы
A5: Основание | J5: Сметная стоимость -
A6: Чертежи : 11.10-ЭС
A9: № п/п | B9: Шифр и номер позиции норматива | D9: Наименование работ и затрат | F9: Количество | H9: Стоимость на единицу, руб | L9: Общая стоимость, руб. | R9: Затраты труда рабочих, чел.-ч. не занят. обсл. машин
H10: Всего | I10: Экспл. машин | L10: Всего | N10: Основной зарплаты | P10: Экспл. машин | R10: обслуживающ. машины
F11: ед. изм.
H12: Основной зарплаты | I12: В т.ч. зарплаты | P12: В т.ч. зарплаты | R12: На един. | T12: Всего
A13: 1 | B13: 2 | D13: 3 | F13: 4 | H13: 5 | I13: 6 | L13: 7 | N13: 8 | P13: 9 | R13: 10 | T13: 11
A14: 1 | B14: СБЦИ табл 15 п 1 | D14: Трассирование воздушной линий 0,4 кВ 1 категория сложности | F14: 0.079
F15: 1 км
A16: ИТОГО:
A18: Наименование и значение множителей | O18: Значение | S18: Прямые
A24: Всего по смете | O24: 1

Sheet 2-1 ВЛИ-0,4
A1: SmetaWizard документ: Новая Мельница Форма: 2-1 ВЛИ-0,4
A3: ФОРМА № 4
A4: Наименование стройки - Электроснабжение жилого дома по адресу: д. Новая Мельница, ул. Лесная, д.9
A5: Объект
A6: ЛОКАЛЬНАЯ СМЕТА № 2-1
A7: на ВЛИ-0,4 кВ
A8: Основание | N8: Сметная стоимость -
A9: Чертежи № 1036-ЭС.С | N9: Нормативная трудоемкость -
N10: Сметная заработная плата -
A12: № п/п | B12: Шифр и номер позиции норматива | F12: Наименование работ и затрат | H12: Количество | J12: Стоимость на единицу, руб | O12: Общая стоимость, руб. | X12: Затраты труда рабочих, чел.-ч. не занят. обсл. машин
J13: Всего | M13: Экспл. машин | O13: Всего | Q13: Основной зарплаты | U13: Экспл. машин | X13: обслуживающ. машины
H14: ед. изм.
J15: Основной зарплаты | M15: В т.ч. зарплаты | U15: В т.ч. зарплаты | X15: На един. | AA15: Всего
A16: №1 Строительные работы
A17: 1 | B17: 2 | F17: 3 | H17: 4 | J17: 5 | M17: 6 | O17: 7 | Q17: 8 | U17: 9 | X17: 10 | AA17: 11
A18: 1 | B18: ТЕР33-04-001-01 | F18: Установка с помощью механизмов деревянных опор ВЛ 0,38; 6-10 кВ из пропитанных цельных стоек одностоечных | H18: 1
B19: (0) | H19: 1 опора
A20: 2 | B20: Тех.ч. 33-04 п.3.6 (табл.1) | F20: При бурении котлованов для опор на глубину более 2-х м к затратам на бурение котлованов к расценке 33-04-001-01 (к=0,25) | H20: 1
H21: 1 опора
A22: 3 | B22: Тех.ч. 33-04 п.3.7 (табл.1) | F22: При установке опор в мокрых грунтах к затратам на бурение котлованов к расценке 33-04-001-01 (к=0,2) | H22: 1
H23: 1 опора
A24: 4 | B24: ТЕР33-04-003-02 | F24: Установка железобетонных опор ВЛ 0,38; 6-10 кВ с траверсами без приставок одностоечных с одним подкосом | H24: 2
B25: (33) | H25: 1 опора
A26: 5 | B26: Тех.ч. 33-04 п.3.6 | F26: При бурении котлованов для опор на глубину более 2-х м к затратам на бурение котлованов к расценке 33-04-003-02 (к=0,25) | H26: 2
H27: 1 опора
A28: 6 | B28: Тех.ч. 33-04 п.3.7 | F28: При установке опор в мокрых грунтах к затратам на бурение котлованов к расценке 33-04-003-02 (к=0,2) | H28: 2
H29: 1 опора
A30: 7 | B30: ТЕР33-04-003-03 | F30: Установка железобетонных опор ВЛ 0,38; 6-10 кВ с траверсами без приставок одностоечных с двумя подкосами | H30: 1
H31: 1 опора
A32: 8 | B32: Тех.ч. 33-04 п.3.6 | F32: При бурении котлованов для опор на глубину более 2-х м к затратам на бурение котлованов к расценке 33-04-003-03 (к=0,25) | H32: 1
H33: 1 опора
A34: 9 | B34: Тех.ч. 33-04 п.3.6 | F34: При установке опор в мокрых грунтах к затратам на бурение котлованов к расценке 33-04-001-01 (к=0,2) | H34: 1
H35: 1 опора
A36: 10 | B36: ТЕР33-04-016-01 | F36: Развозка конструкций и материалов опор ВЛ 0,38-10 кВ по трассе одностоечных деревянных опор | H36: 1
B37: (0) | H37: 1 опора
A38: 11 | B38: ТЕР33-04-016-02 | F38: Развозка конструкций и материалов опор ВЛ 0,38-10 кВ по трассе одностоечных железобетонных опор | H38: 7
B39: (33) | H39: 1 опора
A40: 12 | B40: ТЕР33-04-016-06 | F40: Развозка конструкций и материалов опор ВЛ 0,38-10 кВ по трассе материалов оснастки сложных опор | H40: 3
B41: (33) | H41: 1 опора
A42: 13 | F42: Стойка опоры СВ 95-2-а | H42: 7
...

Sheet 9-1 ПНР ВЛИ-0,4 
A1: SmetaWizard документ: Новая Мельница Форма: 9-1 ПНР ВЛИ-0,4
A3: ФОРМА № 4
A4: Наименование стройки - Электроснабжение жилого дома по адресу: д. Новая Мельница, ул. Лесная, д.9
A5: Объект
A6: ЛОКАЛЬНАЯ СМЕТА № 9-1
A7: на пусконаладочные работы ВЛИ-0,4 кВ
A8: Основание | H8: Сметная стоимость -
A9: Чертежи № 1036-ЭС.С | H9: Нормативная трудоемкость -
H10: Сметная заработная плата -
A12: № п/п | B12: Шифр и номер позиции норматива | C12: Наименование работ и затрат | D12: Количество | F12: Стоимость на единицу, руб | I12: Общая стоимость, руб. | O12: Затраты труда рабочих, чел.-ч. не занят. обсл. машин
F13: Всего | G13: Экспл. машин | I13: Всего | K13: Основной зарплаты | M13: Экспл. машин | O13: обслуживающ. машины
D14: ед. изм.
F15: Основной зарплаты | G15: В т.ч. зарплаты | M15: В т.ч. зарплаты | O15: На един. | Q15: Всего
A16: 1 | B16: 2 | C16: 3 | D16: 4 | F16: 5 | G16: 6 | I16: 7 | K16: 8 | M16: 9 | O16: 10 | Q16: 11
A17: 1 | B17: ТЕРп01-11-012-01 | C17: Определение удельного сопротивления грунта | D17: 1
B18: (0) | D18: 1 измерение
A19: 2 | B19: ТЕРп01-11-010-01 | C19: Измерение сопротивления растеканию тока заземлителя | D19: 3
B20: (0) | D20: 1 измерение
A21: 3 | B21: ТЕРп01-11-011-01 | C21: Проверка наличия цепи между заземлителями и заземленными элементами | D21: 0.06
B22: (0) | D22: 100 точек
A23: 4 | B23: ТЕРп01-11-028-01 | C23: Измерение сопротивления изоляции мегаомметром кабельных и других линий напряжением до 1 кВ, предназначенных для передачи электроэнергии к распределительным устройствам, щитам, шкафам, коммутационным аппаратам и электропотребителям | D23: 1
B24: (0) | D24: 1 линия
A25: ИТОГО:
A32: Наименование и значение множителей | L32: Значение | P32: Прямые
A40: Итого | L40: 0

Sheet SMW_Служебная
A1: Новая Мельница
A2: ='1-1 Разбивка трассы'!A1 -> Наименование стройки - Внешние сети для электроснабжения жилого дома в д. Три Отрока Новгородского района | B2: 16 | C2: 1 | D2: 0 | E2: 0 | F2: 701
A3: ='1-1 Разбивка трассы'!A2 -> Объект | B3: 16 | C3: 2 | D3: 0 | E3: 0 | F3: 702
A4: ='1-1 Разбивка трассы'!A3 -> ЛОКАЛЬНАЯ СМЕТА № 1-1 | B4: 16 | C4: 3 | D4: 0 | E4: 0 | F4: 703
A5: ='1-1 Разбивка трассы'!A4 -> на разбивку трассы | B5: 16 | C5: 4 | D5: 0 | E5: 0 | F5: 704
A6: ='1-1 Разбивка трассы'!A5 -> Основание | B6: 16 | C6: 5 | D6: 0 | E6: 0 | F6: 705
A7: ='1-1 Разбивка трассы'!J5 -> Сметная стоимость - | B7: 16 | C7: 5 | D7: 1 | E7: 0 | F7: 705
A8: ='1-1 Разбивка трассы'!A6 -> Чертежи : 11.10-ЭС | B8: 16 | C8: 6 | D8: 0 | E8: 0 | F8: 706
A9: ='1-1 Разбивка трассы'!J6 -> 0 | B9: 16 | C9: 6 | D9: 1 | E9: 0 | F9: 706
A10: ='1-1 Разбивка трассы'!A7 -> 0 | B10: 16 | C10: 119 | D10: 0 | E10: 0 | F10: 711
A11: ='1-1 Разбивка трассы'!E7 -> 0 | B11: 16 | C11: 119 | D11: 1 | E11: 0 | F11: 711
A12: ='1-1 Разбивка трассы'!M7 -> 0 | B12: 16 | C12: 119 | D12: 2 | E12: 0 | F12: 711
A13: ='1-1 Разбивка трассы'!A8 -> 0 | B13: 16 | C13: 8 | D13: 0 | E13: 0 | F13: 708
A14: ='1-1 Разбивка трассы'!A9 -> № п/п | B14: 16 | C14: 88 | D14: 0 | E14: 0 | F14: 1400
A15: ='1-1 Разбивка трассы'!B9 -> Шифр и номер позиции норматива | B15: 16 | C15: 88 | D15: 1 | E15: 0 | F15: 1400
A16: ='1-1 Разбивка трассы'!D9 -> Наименование работ и затрат | B16: 16 | C16: 88 | D16: 2 | E16: 0 | F16: 1400
A17: ='1-1 Разбивка трассы'!F9 -> Количество | B17: 16 | C17: 88 | D17: 3 | E17: 0 | F17: 1400
A18: ='1-1 Разбивка трассы'!F11 -> ед. изм. | B18: 16 | C18: 88 | D18: 4 | E18: 0 | F18: 1400
A19: ='1-1 Разбивка трассы'!H9 -> Стоимость на единицу, руб | B19: 16 | C19: 88 | D19: 5 | E19: 0 | F19: 1400
A20: ='1-1 Разбивка трассы'!H10 -> Всего | B20: 16 | C20: 88 | D20: 6 | E20: 0 | F20: 1400
A21: ='1-1 Разбивка трассы'!H12 -> Основной зарплаты | B21: 16 | C21: 88 | D21: 7 | E21: 0 | F21: 1400
A22: ='1-1 Разбивка трассы'!I10 -> Экспл. машин | B22: 16 | C22: 88 | D22: 8 | E22: 0 | F22: 1400
A23: ='1-1 Разбивка трассы'!I12 -> В т.ч. зарплаты | B23: 16 | C23: 88 | D23: 9 | E23: 0 | F23: 1400
A24: ='1-1 Разбивка трассы'!L9 -> Общая стоимость, руб. | B24: 16 | C24: 88 | D24: 10 | E24: 0 | F24: 1400
A25: ='1-1 Разбивка трассы'!L10 -> Всего | B25: 16 | C25: 88 | D25: 11 | E25: 0 | F25: 1400
A26: ='1-1 Разбивка трассы'!N10 -> Основной зарплаты | B26: 16 | C26: 88 | D26: 12 | E26: 0 | F26: 1400
A27: ='1-1 Разбивка трассы'!P10 -> Экспл. машин | B27: 16 | C27: 88 | D27: 13 | E27: 0 | F27: 1400
A28: ='1-1 Разбивка трассы'!P12 -> В т.ч. зарплаты | B28: 16 | C28: 88 | D28: 14 | E28: 0 | F28: 1400
A29: ='1-1 Разбивка трассы'!R9 -> Затраты труда рабочих, чел.-ч. не занят. обсл. машин | B29: 16 | C29: 88 | D29: 15 | E29: 0 | F29: 1400
A30: ='1-1 Разбивка трассы'!R10 -> обслуживающ. машины | B30: 16 | C30: 88 | D30: 16 | E30: 0 | F30: 1400
A31: ='1-1 Разбивка трассы'!R12 -> На един. | B31: 16 | C31: 88 | D31: 17 | E31: 0 | F31: 1400
A32: ='1-1 Разбивка трассы'!T12 -> Всего | B32: 16 | C32: 88 | D32: 18 | E32: 0 | F32: 1400
A33: ='1-1 Разбивка трассы'!A14 -> 1 | B33: 16 | C33: 135 | D33: 0 | E33: 0 | F33: 1402
A34: ='1-1 Разбивка трассы'!B14 -> СБЦИ табл 15 п 1 | B34: 16 | C34: 135 | D34: 1 | E34: 0 | F34: 1402
A35: ='1-1 Разбивка трассы'!D14 -> Трассирование воздушной линий 0,4 кВ 1 категория сложности | B35: 16 | C35: 135 | D35: 2 | E35: 0 | F35: 1402
A36: ='1-1 Разбивка трассы'!F15 -> 1 км | B36: 16 | C36: 135 | D36: 3 | E36: 0 | F36: 1402
A37: ='1-1 Разбивка трассы'!F14 -> 0.079 | B37: 16 | C37: 135 | D37: 4 | E37: 0 | F37: 1402
A38: ='1-1 Разбивка трассы'!H15 -> 0 | B38: 16 | C38: 135 | D38: 6 | E38: 0 | F38: 1402
A39: ='1-1 Разбивка трассы'!I14 -> 0 | B39: 16 | C39: 135 | D39: 7 | E39: 0 | F39: 1402
A40: ='1-1 Разбивка трассы'!I15 -> 0 | B40: 16 | C40: 135 | D40: 8 | E40: 0 | F40: 1402
...
