Workbook
Name Constr: '24785'!$A$1
Name FOT: '24785'!$D$18
Name Ind: '24785'!$G$9
Name Obj: '24785'!#REF!
Name Obosn: '24785'!$D$13
Name SmPr: '24785'!$D$14
Name аааааппппппрррппппппп: #REF!
Name аааааппппппрррппппппп: #REF!
Name аараооооооооооооо: #REF!
Name аараооооооооооооо: #REF!
Name автом: #REF!
Name автом: #REF!
Name алшрльоплварл: #REF!
Name алшрльоплварл: #REF!
Name аолвлддддддддддддддддввввввввв: #REF!
Name аолвлддддддддддддддддввввввввв: #REF!
Name апарв: #REF!
Name апарв: #REF!
Name апрлдджаоырыфрпопрлпрлпрлп: #REF!
Name апрлдджаоырыфрпопрлпрлпрлп: #REF!
Name арлггаджаш: #REF!
Name арлггаджаш: #REF!
Name ароррбллтблпроорапииас: #REF!
Name ароррбллтблпроорапииас: #REF!
Name арррррблллпдрлдддддддддд: #REF!
Name арррррблллпдрлдддддддддд: #REF!
Name варпаааааааааа: #REF!
Name варпаааааааааа: #REF!
Name ввпьььььлднд: #REF!
Name ввпьььььлднд: #REF!
Name вед: #REF!
Name вед: #REF!
Name вертикальная: #REF!
Name вертикальная: #REF!
Name вертикплан: #REF!
Name вертикплан: #REF!
Name волен: #REF!
Name волен: #REF!
Name вп: #REF!
Name вп: #REF!
Name впырпфдыпл: #REF!
Name впырпфдыпл: #REF!
Name впьглорьтитттттттттт: #REF!
Name впьглорьтитттттттттт: #REF!
Name всввввввввввввввввввввввввв: #REF!
Name всввввввввввввввввввввввввв: #REF!
Name выб: #REF!
Name выб: #REF!
Name выпуск: #REF!
Name выпуск: #REF!
Name выьлепвввввпмп: #REF!
Name выьлепвввввпмп: #REF!
Name еваопродолжэрщэрзшщщх: #REF!
Name еваопродолжэрщэрзшщщх: #REF!
Name измен: #REF!
Name измен: #REF!
Name итого: #REF!
Name итого: #REF!
Name итого: #REF!
Name итого_сантех: #REF!

Sheet 24785
A1: СОГЛАСОВАНО: | E1: ФГУП "Комбинат "Электрохимприбор" | M1: УТВЕРЖДАЮ:
G2: (наименование стройки) | M2: Зам. генерального директора
M3: Е.В.Гордеев
A4: _________________ | M4: _________________
A5: " _____ " ________________ 2013 г. | M5: "______ " __________2013 г.
G6: ЛОКАЛЬНЫЙ СМЕТНЫЙ РАСЧЕТ № 24785
G7: (локальная смета)
C9: на | D9: монтаж наружных сетей связи. Здание УВЦ ФГУП "Комбинат "Электрохимприбор"
D10: г.Лесной, ул. Ленина, 54а, 54б.
G11: (наименование работ и затрат, наименование объекта)
D13: Основание: проект 24533-13-СС
D14: Сметная стоимость _______________________________________________________________________________________________ | J14: ___________________________98,704 | L14: тыс. руб.
D15: строительных работ _______________________________________________________________________________________________ | J15: _______________________________________________________________________________________________1,611 | L15: тыс. руб.
D16: монтажных работ _______________________________________________________________________________________________ | J16: _______________________________________________________________________________________________88,974 | L16: тыс. руб.
D17: оборудования _______________________________________________________________________________________________ | J17: _______________________________________________________________________________________________8,119 | L17: тыс. руб.
D18: Средства на оплату труда _______________________________________________________________________________________________ | J18: ___________________________14,041 | L18: тыс. руб.
D19: Сметная трудоемкость _______________________________________________________________________________________________ | J19: _______________________________________________________________________________________________850,89 | L19: чел.час
D20: Материалы ______________________________________ | K20: =K111/1000 -> 34.755 | L20: тыс.руб.
D21: Составлен(а) в базовых ценах 2001г. в редакции 2009г.
A23: № пп | B23: Обоснова-ние | C23: Наименование | D23: Ед. изм. | E23: Кол. | F23: Стоимость единицы, руб. | J23: Общая стоимость, руб. | O23: Т/з осн. раб.на ед. | P23: Т/з осн. раб. Всего | Q23: Общая масса обору-дования, т
F24: Всего | G24: В том числе | J24: Обору-дование | K24: Всего | L24: В том числе
G25: Осн.З/п | H25: Эк.Маш | I25: З/пМех | L25: Осн.З/п | M25: Эк.Маш | N25: З/пМех
A26: 1 | B26: 2 | C26: 3 | D26: 4 | E26: 5 | F26: 6 | G26: 7 | H26: 8 | I26: 9 | J26: 10 | K26: 11 | L26: 12 | M26: 13 | N26: 14 | O26: 15 | P26: 16 | Q26: 17
A27: Раздел 1. Монтажные работы (наружная прокладка)
A28: 1 | B28: ТСЦ-501-1352 | C28: Кабели связи с полиэтиленовой изоляцией, с алюмополиэтиленовым экраном, марки ТППэп, диаметром жилы 0,5 мм, с числом пар - 10 | D28: 1000 м | E28: 0.2244 | F28: 8539 | K28: 1916
A29: 2 | B29: ТЕРм10-06-026-01 | C29: Прокладка кабеля в подземной канализации, масса 1 м кабеля до 1 кг ТППэп 10х2х0,5 | D29: 1 км | E29: 0.8 | F29: 6327.57 | G29: 1633.36 | H29: 2052.48 | I29: 172.13 | K29: 5062 | L29: 1307 | M29: 1642 | N29: 138 | O29: 136 | P29: 108.8
A30: 3 | B30: ТЕРм10-01-051-25 | C30: Разделка и включение кабелей ТСВ емкостью 10х2 при разделке одного кабеля пайкой | D30: 10 концов кабеля | E30: 2 | F30: 74.95 | G30: 69.11 | K30: 150 | L30: 138 | O30: 5.1 | P30: 10.2
A31: 4 | B31: Цена поставщика | C31: Кабель одномодовый оптический ОКЛ 0,22-8-С (Ц:75руб:1,18:5,56) | D31: м | E31: 1734 | F31: 11.43 | K31: 19820
A32: 5 | B32: ТЕРм10-06-048-09 | C32: Прокладка волоконно-оптических кабелей в канализации в полиэтиленовой трубе по занятому каналу трубопровода в существующей канализации | D32: 100 м кабеля | E32: 16.4 | F32: 772.1 | G32: 277.21 | H32: 482.24 | I32: 59.67 | K32: 12662 | L32: 4546 | M32: 7909 | N32: 979 | O32: 19 | P32: 311.6
A33: 6 | B33: ТЕРм10-06-055-02 | C33: Установка, монтаж УССЛК с учетом измерений в процессе монтажа на волоконно-оптическом кабеле ГТС с числом волокон 8 | D33: 1 УССЛК | E33: 1 | F33: 2691.57 | G33: 575.28 | H33: 2098.11 | I33: 259.6 | K33: 2692 | L33: 575 | M33: 2098 | N33: 260 | O33: 34 | P33: 34
A34: 7 | B34: ТЕРм10-06-054-10 | C34: Измерение на смонтированном участке волоконно-оптического зонового кабеля в одном направлении с числом волокон 8 | D34: 1 участок | E34: 1 | F34: 6424.99 | G34: 254.8 | H34: 6165.09 | I34: 171.99 | K34: 6425 | L34: 255 | M34: 6165 | N34: 172 | O34: 14 | P34: 14
A35: 8 | B35: ТЕРм10-06-034-31 | C35: Герметизация крышки люка колодца кабельной канализации (существующего колодца) | D35: 1 люк | E35: 3 | F35: 293.89 | G35: 25.63 | K35: 882 | L35: 77 | O35: 2.17 | P35: 6.51
A36: Раздел 2. Кабельные проводки в помещениях
A37: 9 | B37: ТЕРм08-02-147-02 | C37: Кабель до 35 кВ по установленным конструкциям и лоткам с креплением на поворотах и в конце трассы, масса 1 м кабеля до 2 кг ОКЛ 0,22-8-С КОЭФ. К ПОЗИЦИИ: 1.8.3.ОП При производстве работ на высоте свыше расстояний, указанных в вводных указаниях к разделам сборника: при высоте свыше 2 до 8 м ОЗП=1,05; ТЗ=1,05 | D37: 100 м кабеля | E37: 0.6 | F37: 1051.55 | G37: 219.1 | H37: 639.74 | I37: 68.54 | K37: 631 | L37: 131 | M37: 384 | N37: 41 | O37: 16.17 | P37: 9.7
A38: 10 | B38: ТЕРм08-02-147-01 | C38: Кабель до 35 кВ по установленным конструкциям и лоткам с креплением на поворотах и в конце трассы, масса 1 м кабеля до 1 кг ТППэп 10х2х0,5 КОЭФ. К ПОЗИЦИИ: 1.8.3.ОП При производстве работ на высоте свыше расстояний, указанных в вводных указаниях к разделам сборника: при высоте свыше 2 до 8 м ОЗП=1,05; ТЗ=1,05 | D38: 100 м кабеля | E38: 1.4 | F38: 813.92 | G38: 165.04 | H38: 456.3 | I38: 50.35 | K38: 1139 | L38: 231 | M38: 639 | N38: 70 | O38: 12.18 | P38: 17.05
A39: 11 | B39: ФЕРм08-02-390-01 | C39: Короба пластмассовые: шириной до 40 мм КОЭФ. К ПОЗИЦИИ: Приведение расценок ФЕР к территориальному уровню (Письмо УРЦЦС Ц-297 от 12.04.2011) ОЗП=1,41; ЭМ=1,242; ЗПМ=1,41; МАТ=1,052 | D39: 100 м | E39: 0.35 | F39: 311.4 | G39: 218.44 | H39: 38.75 | I39: 0.17 | K39: 109 | L39: 76 | M39: 14 | O39: 16.29 | P39: 5.7
A40: 12 | B40: Цена поставщика | C40: Мини-канал ПВХ 40х17 мм с крышкой длиной 2 м (Ц:60руб:1,18:5,56) | D40: м | E40: 70 | F40: 9.15 | K40: 641
A41: 13 | B41: ТЕРр63-10-2 | C41: Разборка облицовки потолков из плит типа Армстронг | D41: 100 м2 | E41: 0.6 | F41: 124.65 | G41: 116.59 | H41: 8.06 | I41: 3.12 | K41: 75 | L41: 70 | M41: 5 | N41: 2 | O41: 9.58 | P41: 5.75
A42: 14 | B42: ТЕР15-07-016-01 | C42: Восстановление облицовки потолков из плит типа Армстронг б/у КОЭФ. К ПОЗИЦИИ: Новый коэффициент МАТ=0 к расх. | D42: 100 м2 | E42: 0.6 | F42: 887.21 | G42: 874.72 | H42: 12.49 | I42: 4.84 | K42: 532 | L42: 525 | M42: 7 | N42: 3 | O42: 71 | P42: 42.6
A43: Раздел 3. Монтажные работы для узла связи в здании УВЦ по ул.Ленина 54А
...

Sheet НМЦ
A1: г. Лесной ФГУП "Комбинат "Электрохимприбор"
A3: Расчет начальной (максимальной) цены
A5: Выполнение работ по монтажу наружных сетей связи здания учебно-выставочного центра ФГУП "Комбинат "Электрохимприбор"
A8: Составлен в ценах по состоянию на 01.01.2000 г. с переводом в текущие | D8: руб.
A9: Наименование глав ССР, объектных сметных расчетов, локальных сметных расчетов, видов работ | B9: Сметная стоимость в базисных ценах на 01.01.2000 | C9: Текущая стоимость на момент определения начальной (максимальной) цены | D9: № обосновывающего расчета
A13: 1 | B13: 2 | C13: 3 | D13: 4
A14: монтаж наружных сетей связи. Здание УВЦ ФГУП "Комбинат "Электрохимприбор" | B14: ='Сводка затрат'!H14 -> 98704 | C14: ='Сводка затрат'!H16 -> 537671 | D14: 24785
A15: Итого | B15: =SUM(B14:B14) -> 98704 | C15: =SUM(C14:C14) -> 537671
A17: НДС 18% | C17: =ROUND(C15*18%,2) -> 96780.78
A19: Всего | C19: =SUM(C15:C18) -> 634451.78
A22: Начальник отдела капитального строительства | D22: В.В. Моляков
A24: Инженер по проектно-сметной работе | D24: Т.Ш. Ковязина
A27: Согласовано | D27: отдел 028

Sheet Сводка затрат
A1: Приложение №__ к договору от "__"______2013 №_______
A3: г. Лесной. ФГУП "Комбинат "Электрохимприбор"
A5: Сводка затрат
A7: Выполнение работ по монтажу наружных сетей связи здания учебно-выставочного центра
A8: ФГУП «Комбинат «Электрохимприбор»
A10: Составлен в ценах по состоянию на 01.01.2000 г.
A11: № п/п | B11: Номера сметных расчетов и смет | C11: Наименование работ и затрат | D11: Сметная стоимость | H11: Общая сметная стоимость, руб.
D12: строительных работ | E12: монтажных работ | F12: оборудования, мебели, инвентаря | G12: прочих затрат
A13: 1 | B13: 2 | C13: 3 | D13: 4 | E13: 5 | F13: 6 | G13: 7 | H13: 8
A14: 1 | B14: 24785 | C14: монтаж наружных сетей связи. Здание УВЦ ФГУП "Комбинат "Электрохимприбор" | D14: ='24785'!K106 -> 1611 | E14: ='24785'!K107 -> 88974 | F14: ='24785'!K108 -> 8119 | G14: 0 | H14: =SUM(D14:G14) -> 98704
C15: Итого в базисных ценах 2000 г. | D15: =SUM(D14:D14) -> 1611 | E15: =SUM(E14:E14) -> 88974 | F15: =SUM(F14:F14) -> 8119 | G15: =SUM(G14:G14) -> 0 | H15: =SUM(D15:G15) -> 98704
C16: Всего в ценах 2012 (Ксмр=5,56, Коб.=4,19, Кпнр=9,32) | D16: =ROUND(D15*5.56,0) -> 8957 | E16: =ROUND(E15*5.56,0) -> 494695 | F16: =ROUND(F15*4.19,0) -> 34019 | G16: =ROUND(G15*9.32,0) -> 0 | H16: =SUM(D16:G16) -> 537671
C17: НДС 18% | D17: =ROUND(D16*18%,2) -> 1612.26 | E17: =ROUND(E16*18%,2) -> 89045.1 | F17: =ROUND(F16*18%,2) -> 6123.42 | G17: =ROUND(G16*18%,2) -> 0 | H17: =SUM(D17:G17) -> 96780.78
C18: Всего в ценах 2012 с НДС | D18: =SUM(D16:D17) -> 10569.26 | E18: =SUM(E16:E17) -> 583740.1 | F18: =SUM(F16:F17) -> 40142.42 | G18: =SUM(G16:G17) -> 0 | H18: =SUM(D18:G18) -> 634451.78
C22: ЗАКАЗЧИК: | H22: ПОДРЯДЧИК:
C23: Генеральный директор
C24: ФГУП "Комбинат "Электрохимприбор"
C26: __________________ А.В. Новиков
