Workbook
Name Constr: '25272-1'!$A$1
Name Constr: '25309'!$A$1
Name Constr: '25323'!$A$1
Name FOT: '25272-1'!$B$17
Name FOT: '25309'!$B$17
Name FOT: '25323'!$B$20
Name Ind: '25272-1'!$D$9
Name Ind: '25309'!$C$9
Name Ind: '25323'!$D$9
Name Obj: '25272-1'!#REF!
Name Obj: '25309'!#REF!
Name Obj: '25323'!#REF!
Name Obosn: '25272-1'!$B$15
Name Obosn: '25309'!$B$15
Name Obosn: '25323'!$B$15
Name SmPr: '25272-1'!$B$16
Name SmPr: '25309'!$B$16
Name SmPr: '25323'!$B$16
Name аааааппппппрррппппппп: #REF!
Name аараооооооооооооо: #REF!
Name автом: #REF!
Name алшрльоплварл: #REF!
Name аолвлддддддддддддддддввввввввв: #REF!
Name апарв: #REF!
Name апрлдджаоырыфрпопрлпрлпрлп: #REF!
Name арлггаджаш: #REF!
Name ароррбллтблпроорапииас: #REF!
Name арррррблллпдрлдддддддддд: #REF!
Name варпаааааааааа: #REF!
Name ввпьььььлднд: #REF!
Name вед: #REF!
Name вертикальная: #REF!
Name вертикплан: #REF!
Name волен: #REF!
Name вп: #REF!
Name впырпфдыпл: #REF!
Name впьглорьтитттттттттт: #REF!
Name всввввввввввввввввввввввввв: #REF!
Name выб: #REF!
Name выпуск: #REF!
Name выьлепвввввпмп: #REF!
Name еваопродолжэрщэрзшщщх: #REF!
Name измен: #REF!
Name итого: #REF!
Name итого_сантех: #REF!
Name итого_стр: #REF!
Name итого_строит: #REF!
Name итого_технол: #REF!
Name итого_электр: #REF!
Name квота: #REF!
Name кккккккккк: #REF!
Name корек: #REF!
Name корект: #REF!
Name корректир: #REF!
Name лен: #REF!
Name лот: #REF!
Name мамиааааааааааааааааааааааааааааа: #REF!
Name ммпоослччччччччччрччапппппппппр: #REF!
Name мрол: #REF!
Name оз: #REF!

Sheet 25272-1
A1: СОГЛАСОВАНО: | E1: ФГУП "Комбинат "Электрохимприбор" | M1: УТВЕРЖДАЮ:
G2: (наименование стройки) | M2: Зам. генерального директора
M3: Е.В.Гордеев
A4: _________________ | M4: _________________
A5: " _____ " ________________ 2014 г. | M5: "______ " __________2014 г.
G6: ЛОКАЛЬНЫЙ СМЕТНЫЙ РАСЧЕТ № 25272-1
G7: (локальная смета)
C9: на | D9: реконструкцию помещений для отдела 042. г.Лесной ул.Островского, 2. Инв.№ 8811031
D10: Раздел: Создание кабельной системы для организации ЛВС.
G11: (наименование работ и затрат, наименование объекта)
D13: Основание: Проект АСУЖ QS89.4Е-РП изм. №072-17/629 от 26.02.2014г.
D14: Сметная стоимость _______________________________________________________________________________________________ | J14: ___________________________48,612 | L14: тыс. руб.
D15: строительных работ _______________________________________________________________________________________________ | J15: _______________________________________________________________________________________________1,105 | L15: тыс. руб.
D16: монтажных работ _______________________________________________________________________________________________ | J16: _______________________________________________________________________________________________36,240 | L16: тыс. руб.
D17: прочих (ПНР "в холостую") _______________________________________________________________________________________________ | J17: _______________________________________________________________________________________________4,375 | L17: тыс. руб.
D18: оборудования _______________________________________________________________________________________________ | J18: _______________________________________________________________________________________________6,892 | L18: тыс. руб.
D19: Средства на оплату труда _______________________________________________________________________________________________ | J19: ___________________________10,151 | L19: тыс. руб.
D20: Сметная трудоемкость _______________________________________________________________________________________________ | J20: _______________________________________________________________________________________________665,24 | L20: чел.час
D21: Составлен(а) в базовых ценах 2001г. в редакции 2009г.
A23: № пп | B23: Обоснова-ние | C23: Наименование | D23: Ед. изм. | E23: Кол. | F23: Стоимость единицы, руб. | J23: Общая стоимость, руб. | O23: Т/з осн. раб.на ед. | P23: Т/з осн. раб. Всего | Q23: Общая масса обору-дования, т
F24: Всего | G24: В том числе | J24: Обору-дование | K24: Всего | L24: В том числе
G25: Осн.З/п | H25: Эк.Маш | I25: З/пМех | L25: Осн.З/п | M25: Эк.Маш | N25: З/пМех
A26: 1 | B26: 2 | C26: 3 | D26: 4 | E26: 5 | F26: 6 | G26: 7 | H26: 8 | I26: 9 | J26: 10 | K26: 11 | L26: 12 | M26: 13 | N26: 14 | O26: 15 | P26: 16 | Q26: 17
A27: Раздел 1. Монтажные работы по проекту АСУЖ QS89.4Е-РП
A28: 1 | B28: Цена поставщика | C28: Коммутатор управляемый D-Link DES-3200-26 (Цена: 21000,00:1,18:4,19) | D28: шт | E28: 1 | F28: 21000,00/1,18/4,19 | J28: 4247 | K28: 4247
A29: 2 | B29: ТЕРм10-03-013-01 | C29: Коммутатор управления и наблюдения | D29: 1 шт. | E29: 1 | F29: 555.04 | G29: 419.15 | H29: 111.06 | I29: 22.18 | K29: 555 | L29: 419 | M29: 111 | N29: 22 | O29: 34.9 | P29: 34.9
A30: 3 | B30: Цена поставщика | C30: Источник бесперебойного питания АРС 420 (Цена: 5000,00:1,18:4,19) | D30: шт | E30: 1 | F30: 5000,00/1,18/4,19 | J30: 1011 | K30: 1011
A31: 4 | B31: ТЕРм10-02-016-06 | C31: Отдельно устанавливаемый преобразователь или блок питания | D31: 1 шт. | E31: 1 | F31: 256.7 | G31: 157.76 | H31: 33.83 | I31: 6.87 | K31: 257 | L31: 158 | M31: 34 | N31: 7 | O31: 10.1 | P31: 10.1
A32: 5 | B32: ТЕРм10-01-054-01 прим. | C32: Монтаж кабеля информационного по кабель-каналам | D32: 100 м кабеля | E32: 1.9 | F32: 126.41 | G32: 93.68 | H32: 25.37 | I32: 5.15 | K32: 240 | L32: 178 | M32: 48 | N32: 10 | O32: 7.8 | P32: 14.82
A33: 6 | B33: Цена поставщика | C33: Кабель UTP 4-парн. Cat.5е, PVC,многожильный,белый (Цена:32,00:1,18:5,56) | D33: м | E33: 150 | F33: 4,88 32,00/1,18/5,56 | K33: 732
A34: 7 | B34: Цена поставщика | C34: Кабель телефонный 4-х жильный, белый, круглый (Цена:20,00:1,18:5,56) | D34: м | E34: 40 | F34: 3,05 20,00/1,18/5,56 | K34: 122
A35: 8 | B35: Цена поставщика | C35: 110 Connect XC Разъём на 1 пару кат.5е (Цена: 2,3:1,18:5,56) | D35: шт | E35: 30 | F35: 0,35 2,3/1,18/5,56 | K35: 11
A36: 9 | B36: Цена поставщика | C36: 8-контактный разъем RJ-45 для многожилього кабеля (Цена: 1760,00:1,18:5,56) | D36: упак. | E36: 1 | F36: 268,26 1760,00/1,18/5,56 | K36: 268
A37: 10 | B37: ТЕРм11-04-020-01 | C37: Разделка информационных кабелей и установка разъемов (коммутационные кабели) | D37: 1 шт. | E37: 60 | F37: 33.86 | G37: 27.3 | K37: 2032 | L37: 1638 | O37: 2.06 | P37: 123.6
A38: 11 | B38: ТЕРм10-01-051-15 | C38: Разделка информационных кабелей пистолетом 42 (в панели) + 18 (в розетках) | D38: 10 концов кабеля | E38: 6 | F38: 74.06 | G38: 69.11 | K38: 444 | L38: 415 | O38: 5.1 | P38: 30.6
A39: 12 | B39: ТЕРм10-06-032-01 | C39: Комплекс измерений постоянным током смонтированных парных кабелей; (20 (4-парн. линий) х 4 = 80 пар | D39: 100 пар | E39: 0.8 | F39: 188.66 | G39: 176.15 | K39: 151 | L39: 141 | O39: 13 | P39: 10.4
A40: 13 | B40: Цена поставщика | C40: Соединительный блок типа 110 5-ти парный (Цена: 36,00:1,18:5,56) | D40: шт | E40: 20 | F40: 5,49 36,00/1,18/5,56 | K40: 110
A41: 14 | B41: Цена поставщика | C41: 110 Modular Jack Сменный модуль RJ45 Т568А/Т568В UTP Cat 5е (Цена: 116,8:1,18:5,56) | D41: шт | E41: 18 | F41: 17,8 116,8/1,18/5,56 | K41: 320
A42: 15 | B42: Цена поставщика | C42: Плинт с нормально замкнутыми контактами на 10 пар (Цена: 356,00:1,18:5,56) | D42: шт | E42: 1 | F42: 54,26 356/1,18/5,56 | K42: 54
A43: 16 | B43: ТЕРм11-03-001-01 | C43: Приборы, устанавливаемые на металлоконструкциях, щитах и пультах, масса до 5 кг | D43: 1 шт. | E43: 39 | F43: 8.41 | G43: 7.26 | K43: 328 | L43: 283 | O43: 0.52 | P43: 20.28
...

Sheet 25309
A1: СОГЛАСОВАНО: | E1: ФГУП "Комбинат "Электрохимприбор" | M1: УТВЕРЖДАЮ:
G2: (наименование стройки) | M2: Зам. генерального директора
M3: Е.В.Гордеев
A4: _________________ | M4: _________________
A5: " _____ " ________________ 2014 г. | M5: "______ " __________2014 г.
G6: ЛОКАЛЬНЫЙ СМЕТНЫЙ РАСЧЕТ № 25309
G7: (локальная смета)
C9: на | D9: реконструкцию помещений для отдела 042. г.Лесной ул.Островского, 2. Инв.№ 8811031
D10: Раздел: Система охранной и тревожной сигнализации.
G11: (наименование работ и затрат, наименование объекта)
D13: Основание: проект № 24869-14-ОС
D14: Сметная стоимость _______________________________________________________________________________________________ | J14: ___________________________60,261 | L14: тыс. руб.
D15: строительных работ _______________________________________________________________________________________________ | J15: _______________________________________________________________________________________________2,367 | L15: тыс. руб.
D16: монтажных работ _______________________________________________________________________________________________ | J16: _______________________________________________________________________________________________35,660 | L16: тыс. руб.
D17: прочих (ПНР "в холостую") _______________________________________________________________________________________________ | J17: _______________________________________________________________________________________________11,839 | L17: тыс. руб.
D18: оборудования _______________________________________________________________________________________________ | J18: _______________________________________________________________________________________________10,395 | L18: тыс. руб.
D19: Средства на оплату труда _______________________________________________________________________________________________ | J19: ___________________________14,162 | L19: тыс. руб.
D20: Сметная трудоемкость _______________________________________________________________________________________________ | J20: _______________________________________________________________________________________________897,12 | L20: чел.час
D21: Составлен(а) в базовых ценах 2001г. в редакции 2009г.
A23: № пп | B23: Обоснова-ние | C23: Наименование | D23: Ед. изм. | E23: Кол. | F23: Стоимость единицы, руб. | J23: Общая стоимость, руб. | O23: Т/з осн. раб.на ед. | P23: Т/з осн. раб. Всего | Q23: Общая масса обору-дования, т
F24: Всего | G24: В том числе | J24: Обору-дование | K24: Всего | L24: В том числе
G25: Осн.З/п | H25: Эк.Маш | I25: З/пМех | L25: Осн.З/п | M25: Эк.Маш | N25: З/пМех
A26: 1 | B26: 2 | C26: 3 | D26: 4 | E26: 5 | F26: 6 | G26: 7 | H26: 8 | I26: 9 | J26: 10 | K26: 11 | L26: 12 | M26: 13 | N26: 14 | O26: 15 | P26: 16 | Q26: 17
A27: Раздел 1. Монтажные работы
A28: 1 | B28: Цена поставщика | C28: Пульт контроля и управления С2000-М (Ц:5491,20руб:1,18:4,21) | D28: 1 шт. | E28: 1 | F28: 5491,20/1,18/4,21 | J28: 1105 | K28: 1105
A29: 2 | B29: ТЕРм10-08-001-13 | C29: Монтаж: пульт контроля и управления С2000-М | D29: 1 шт. | E29: 1 | F29: 64.92 | G29: 57.52 | H29: 0.37 | K29: 65 | L29: 58 | O29: 4 | P29: 4
A30: 3 | B30: Цена поставщика | C30: Пульт и клавиатура со светодиодными индикаторами на 20 охранных или пожарных зон С2000-КС (Ц:1693,12руб:1,18:4,21) | D30: 1 шт. | E30: 1 | F30: 1693,12/1,18/4,21 | J30: 341 | K30: 341
A31: 4 | B31: ТЕРм10-08-001-13 | C31: Монтаж: пульт и клавиатура С2000-КС | D31: 1 шт. | E31: 1 | F31: 64.92 | G31: 57.52 | H31: 0.37 | K31: 65 | L31: 58 | O31: 4 | P31: 4
A32: 5 | B32: Цена поставщика | C32: Контроль по двухпроводной линии С2000-КДЛ (Ц:1830,40руб:1,18:4,21) | D32: 1 шт. | E32: 2 | F32: 1830,40/1,18/4,21 | J32: 737 | K32: 737
A33: 6 | B33: ТЕРм10-08-001-13 | C33: Монтаж: контроллер С2000-КДЛ | D33: 1 шт. | E33: 2 | F33: 64.92 | G33: 57.52 | H33: 0.37 | K33: 130 | L33: 115 | M33: 1 | O33: 4 | P33: 8
A34: 7 | B34: Цена поставщика | C34: Адресный релейный блок на два реле С2000-СП1 (Ц:1435,72руб:1,18:4,21) | D34: 1 шт. | E34: 1 | F34: 1435,72/1,18/4,21 | J34: 289 | K34: 289
A35: 8 | B35: ТЕРм10-08-001-13 | C35: Монтаж: блок сигнально-пусковой С2000-СП1 | D35: 1 шт. | E35: 1 | F35: 64.92 | G35: 57.52 | H35: 0.37 | K35: 65 | L35: 58 | O35: 4 | P35: 4
A36: 9 | B36: Цена поставщика | C36: Охранный объемный оптико-электронный адресный извещатель С2000-ИК исп.02 (Ц:840руб:1,18:5,98) | D36: 1 шт. | E36: 22 | F36: 119,04 840/1,18/5,98 | K36: 2619
A37: 10 | B37: ТЕРм10-08-003-05 | C37: Монтаж: охранный объемный оптико-электронный адресный извещатель С2000-ИК исп.02 | D37: 1 шт. | E37: 20 | F37: 86.32 | G37: 78.05 | H37: 0.37 | K37: 1726 | L37: 1561 | M37: 7 | O37: 5.76 | P37: 115.2
A38: 11 | B38: Цена поставщика | C38: Охранный поверхностный оптико-электронный адресный извещатель С2000-ШИК (Ц:783,21руб:1,18:5,98) | D38: 1 шт. | E38: 4 | F38: 110,99 783,21/1,18/5,98 | K38: 444
A39: 12 | B39: ТЕРм10-08-003-05 | C39: Монтаж: охранный поверхностный оптико-электронный адресный извещатель С2000-ШИК | D39: 1 шт. | E39: 4 | F39: 86.32 | G39: 78.05 | H39: 0.37 | K39: 345 | L39: 312 | M39: 1 | O39: 5.76 | P39: 23.04
A40: 13 | B40: Цена поставщика | C40: Акустический адресный охранный извещатель С2000-СТ (Ц:543,39руб:1,18:5,98) | D40: 1 шт. | E40: 21 | F40: 77,01 543,39/1,18/5,98 | K40: 1617
A41: 14 | B41: ТЕРм10-04-066-05 | C41: Монтаж: оповещатель звуковой | D41: 1 шт. | E41: 20 | F41: 13.89 | G41: 12.78 | K41: 278 | L41: 256 | O41: 1 | P41: 20
A42: 15 | B42: Цена поставщика | C42: Адресный магнитоконтактный охранный извещатель С2000-СМК (Ц:228,80руб:1,18:5,98) | D42: 1 шт. | E42: 60 | F42: 32,42 228,80/1,18/5,98 | K42: 1945
A43: 16 | B43: Цена поставщика | C43: Адресный магнитоконтактный охранный извещатель для защиты металлических дверей С2000-СМК Эстет (Ц:345,27руб:1,18:5,98) | D43: 1 шт. | E43: 5 | F43: 48,93 345,27/1,18/5,98 | K43: 245
...

Sheet 25323
E1: ФГУП "Комбинат "Электрохимприбор" | M1: УТВЕРЖДАЮ:
G2: (наименование стройки) | M2: Зам. генерального директора
M3: Е.В.Гордеев
A4: _________________ | M4: _________________
A5: " _____ " ________________ 2014 г. | M5: "______ " __________2014 г.
G7: ЛОКАЛЬНЫЙ СМЕТНЫЙ РАСЧЕТ № 25323
G8: (взамен сметы 25304)
C10: на | D10: реконструкцию помещений для отдела 042, г.Лесной, ул. Островского, 2. Инв. № 8811031
E11: Раздел: Наружные линии связи.
F12: (наименование работ и затрат, наименование объекта)
D14: Основание: проект №24844-14-СС
D15: Сметная стоимость _______________________________________________________________________________________________ | J15: ___________________________152,218 | L15: тыс. руб.
D16: строительных работ _______________________________________________________________________________________________ | J16: _______________________________________________________________________________________________7,325 | L16: тыс. руб.
D17: монтажных работ _______________________________________________________________________________________________ | J17: _______________________________________________________________________________________________106,550 | L17: тыс. руб.
D18: прочих (ПНР "в холостую 80%") _______________________________________________________________________________________________ | J18: _______________________________________________________________________________________________16,238 | L18: тыс. руб.
D19: оборудования _______________________________________________________________________________________________ | J19: _______________________________________________________________________________________________22,105 | L19: тыс. руб.
D20: Средства на оплату труда _______________________________________________________________________________________________ | J20: ___________________________25,880 | L20: тыс. руб.
D21: Сметная трудоемкость _______________________________________________________________________________________________ | J21: _______________________________________________________________________________________________1465,92 | L21: чел.час
D22: Материалы ______________________________________ | K22: =K115/1000 -> 34.952 | L22: тыс. руб.
D23: Составлен(а) в базовых ценах 2001г. в редакции 2009г.
A25: № пп | B25: Обосно- вание | C25: Наименование | D25: Ед. изм. | E25: Кол. | F25: Стоимость единицы, руб. | J25: Общая стоимость, руб. | O25: Т/з осн. раб.на ед. | P25: Т/з осн. раб. Всего | Q25: Общая масса обору-дования, т
F26: Всего | G26: В том числе | J26: Обору- дование | K26: Всего | L26: В том числе
G27: Осн.З/п | H27: Эк.Маш | I27: З/пМех | L27: Осн.З/п | M27: Эк.Маш | N27: З/пМех
A28: 1 | B28: 2 | C28: 3 | D28: 4 | E28: 5 | F28: 6 | G28: 7 | H28: 8 | I28: 9 | J28: 10 | K28: 11 | L28: 12 | M28: 13 | N28: 14 | O28: 15 | P28: 16 | Q28: 17
A29: Раздел 1. Монтажные работы внутри зданий
A30: 1 О | B30: Цена поставщика | C30: Модульный VoIP-шлюз DVG-2032S/16CORU (16 FXS портов, 1 LAN-порт 10\100 Мбит/с, 1 WAN-порт 10\100 Мбит/с, возможность установки дополнительного модуля на 16 FXS-портов) | D30: шт. | E30: 1 | F30: 1641,51 8154,70/1,18/4,21 | J30: 1642 | K30: 1642
A31: 2 | B31: ТЕРм10-03-013-05 прим. | C31: Монтаж: модульный VoIP-шлюз DVG-2032S/16CORU | D31: 1 шт. | E31: 1 | F31: 137.61 | G31: 91.6 | H31: 20.76 | I31: 4.22 | K31: 138 | L31: 92 | M31: 21 | N31: 4 | O31: 6.76 | P31: 6.76
A32: 3 О | B32: Цена поставщика | C32: Управляемый коммутатор 2 уровня DES-3200-28/C1 | D32: шт. | E32: 2 | F32: 2121,21 10537,77/1,18/4,21 | J32: 4242 | K32: 4242
A33: 4 | B33: ТЕРм10-03-013-05 прим. | C33: Монтаж: коммутатор 2 уровня DES-3200-28/C1 | D33: 1 шт. | E33: 2 | F33: 137.61 | G33: 91.6 | H33: 20.76 | I33: 4.22 | K33: 275 | L33: 183 | M33: 42 | N33: 8 | O33: 6.76 | P33: 13.52
A34: 5 О | B34: Цена поставщика | C34: Модуль SFP DEM-310GT | D34: шт. | E34: 4 | F34: 202,53 1006,15/1,18/4,21 | J34: 810 | K34: 810
A35: 6 | B35: ТЕРм10-03-013-05 прим. | C35: Монтаж: аппаратура сопряжения канала передачи данных (модуль D-Link) | D35: 1 шт. | E35: 4 | F35: 137.61 | G35: 91.6 | H35: 20.76 | I35: 4.22 | K35: 550 | L35: 366 | M35: 83 | N35: 17 | O35: 6.76 | P35: 27.04
A36: 7 | B36: ТЕРм10-06-033-33 прим. | C36: Маркировка информационных портов шлюза, коммутаторов, модулей SFP | D36: 1 шт | E36: 156 1*18*2+2*28*2+4*1*2 | F36: 2.45 | G36: 2.4 | K36: 382 | L36: 374 | O36: 0.2 | P36: 31.2
A37: 8 | B37: Цена поставщика | C37: Оптический патч-корд LC/UPC-SC/UPC 9/125 duplex SM одномодульный 2м | D37: шт. | E37: 4 | F37: 62,23 439,11/1,18/5,98 | K37: 249
A38: 9 | B38: ТЕРм11-04-028-01 | C38: Включение в аппаратуру разъемов штепсельных, количество контактов в разъеме до 14 шт. | D38: 1 разъем | E38: 8 4*2 | F38: 2.98 | G38: 2.92 | K38: 24 | L38: 23 | O38: 0.22 | P38: 1.76
A39: 10 О | B39: Цена поставщика | C39: Шкаф 19" напольный Server MAX 42U800*1000 SRV42U8BR1R1 | D39: шт. | E39: 1 | F39: 14513,27 72099/1,18/4,21 | J39: 14513 | K39: 14513
A40: 11 | B40: ТЕРм10-04-113-02 прим. | C40: Монтаж: шкаф 19" напольный Server MAX 42U800*1000 | D40: 1 шт. | E40: 1 | F40: 287.67 | G40: 209.59 | H40: 49.97 | I40: 10.15 | K40: 288 | L40: 210 | M40: 50 | N40: 10 | O40: 16.4 | P40: 16.4 | Q40: 0.2
A41: 12 | B41: Цена поставщика | C41: Вентиляторный модуль с 6 вентиляторами и управляемым термостатом для шкафов Server MAX, черный M55HV6FSTB | D41: шт. | E41: 1 | F41: 1063,29 7503/1,18/5,98 | K41: 1063
A42: 13 | B42: ТЕРм11-03-001-01 прим. | C42: Монтаж: вентиляторный модуль с 6 вентиляторами и управляемым термостатом | D42: 1 шт. | E42: 1 | F42: 8.41 | G42: 7.26 | K42: 8 | L42: 7 | O42: 0.52 | P42: 0.52
A43: 14 | B43: Цена поставщика | C43: 19" 1U консольная полка глубина 400 мм E44RAK40B | D43: шт. | E43: 1 | F43: 157,02 1108/1,18/5,98 | K43: 157
A44: 15 | B44: Цена поставщика | C44: 19" стационарная полка усиленной конструкции, регулируемая глубина M55SR720B | D44: шт. | E44: 1 | F44: 486,79 3435/1,18/5,98 | K44: 487
...

Sheet СМР
A1: Расчет начальной (максимальной) цены на
A2: выполнение работ по монтажу наружных и внутренних сетей связи и охранной сигнализации в здании расположенном по ул. Островского, 2
A4: Наименование глав ССР, объектный сметных расчетов, локальных сметных расчетов, видов прочих работ | B4: Сметная стоимость строительства в базисном уровне цен на 01.01.2000г. по ССР | F4: Остаток сметной стоимости в базисном уровне цен на 01.01.2014 | J4: Сметная стоимость строительства в базисном уровне цен на 01.01.2000г., выставленная на конкурс | N4: Текущая стоимость на момент определения начальной (максимальной) цены | O4: № обосновывающего расчета | P4: 2014 год
B5: Всего | C5: СМР | D5: Оборудование | E5: Прочие | F5: Всего | G5: СМР | H5: Оборудование | I5: Прочие | J5: Всего | K5: СМР | L5: Оборудование | M5: Прочие | P5: СМР | Q5: Оборудование | R5: Прочие
A6: 1 | B6: 2 | C6: 3 | D6: 4 | E6: 5 | F6: 6 | G6: 7 | H6: 8 | I6: 9 | J6: 10 | K6: 11 | L6: 12 | M6: 13 | N6: 14 | O6: 15 | P6: 16 | Q6: 17 | R6: 18
A7: Создание кабельной системы для организации ЛВС. | B7: =SUM(C7:E7) -> 48612 | C7: ='25272-1'!K107+'25272-1'!K108 -> 37345 | D7: ='25272-1'!K109 -> 6892 | E7: ='25272-1'!K110 -> 4375 | F7: =SUM(G7:I7) -> 48612 | G7: =C7 -> 37345 | H7: =D7 -> 6892 | I7: =E7 -> 4375 | J7: =SUM(K7:M7) -> 48612 | K7: =P7 -> 37345 | L7: =Q7 -> 6892 | M7: =R7 -> 4375 | N7: =SUM(P7:R7) -> 48612 | O7: 25272-1 | P7: =G7 -> 37345 | Q7: =H7 -> 6892 | R7: =I7 -> 4375
A8: Система охранной и тревожной сигнализации. | B8: =SUM(C8:E8) -> 60261 | C8: ='25309'!K130+'25309'!K131 -> 38027 | D8: ='25309'!K132 -> 10395 | E8: ='25309'!K133 -> 11839 | F8: =SUM(G8:I8) -> 60261 | G8: =C8 -> 38027 | H8: =D8 -> 10395 | I8: =E8 -> 11839 | J8: =SUM(K8:M8) -> 60261 | K8: =P8 -> 38027 | L8: =Q8 -> 10395 | M8: =R8 -> 11839 | N8: =SUM(P8:R8) -> 60261 | O8: 25309 | P8: =G8 -> 38027 | Q8: =H8 -> 10395 | R8: =I8 -> 11839
A9: Наружные линии связи | B9: =SUM(C9:E9) -> 152218 | C9: ='25323'!K109+'25323'!K110 -> 113875 | D9: ='25323'!K111 -> 22105 | E9: ='25323'!K112 -> 16238 | F9: =SUM(G9:I9) -> 152218 | G9: =C9 -> 113875 | H9: =D9 -> 22105 | I9: =E9 -> 16238 | J9: =SUM(K9:M9) -> 152218 | K9: =P9 -> 113875 | L9: =Q9 -> 22105 | M9: =R9 -> 16238 | N9: =SUM(P9:R9) -> 152218 | O9: 25323 (взамен сметы 25304) | P9: =G9 -> 113875 | Q9: =H9 -> 22105 | R9: =I9 -> 16238
A10: Итого в ценах 2000 года: | B10: =SUM(B7:B9) -> 261091 | C10: =SUM(C7:C9) -> 189247 | D10: =SUM(D7:D9) -> 39392 | E10: =SUM(E7:E9) -> 32452 | F10: =SUM(F7:F9) -> 261091 | G10: =SUM(G7:G9) -> 189247 | H10: =SUM(H7:H9) -> 39392 | I10: =SUM(I7:I9) -> 32452 | ... M10: =SUM(M7:M9) -> 32452 | N10: =SUM(P10:R10) -> 261091 | P10: =SUM(P7:P9) -> 189247 | Q10: =SUM(Q7:Q9) -> 39392 | R10: =SUM(R7:R9) -> 32452
A11: Итого в текущих ценах*: | N11: =SUM(P11:R11) -> 1637634 | P11: =ROUND(P10*5.98,0) -> 1131697 | Q11: =ROUND(Q10*4.21,0) -> 165840 | R11: =ROUND(R10*10.48,0) -> 340097
A12: НДС 18% | N12: =SUM(P12:R12) -> 294774.12 | P12: =ROUND(P11*18%,2) -> 203705.46 | Q12: =ROUND(Q11*18%,2) -> 29851.2 | R12: =ROUND(R11*18%,2) -> 61217.46
A13: Всего: | N13: =SUM(P13:R13) -> 1932408.1 | P13: =SUM(P11:P12) -> 1335402.5 | Q13: =SUM(Q11:Q12) -> 195691.2 | R13: =SUM(R11:R12) -> 401314.46
P14: 60000000
A15: * В расчете использованы индексы: | Q15: =P14-P13 -> 58664598
A16: - 5,98 индекс изменения сметной стоимости СМР к ТЕР 2001 (приказ ФГУП "Комбинат "Электрохимприбор" от 18.09.2013 №1902-П).
A17: - 10,48 индекс изменения сметной стоимости прочих затрат к ТЕР 2001 (приказ ФГУП "Комбинат "Электрохимприбор" от 18.09.2013 №1902-П)
A18: - 4,21 индекс изменения сметной стоимости прочих затрат к ТЕР 2001 (приказ ФГУП "Комбинат "Электрохимприбор" от 18.09.2013 №1902-П)
A20: Начальник отдела капитального строительства
A21: ФГУП "Комбинат "Электрохимприбор" | H21: В.В. Моляков
A23: Инженер по проектно-сметной работе | H23: Н.А. Басова
A25: Согласовано | H25: отд. 028

Sheet НМЦ договора
G1: Приложение №1
G2: к извещению на размещение заказа
G3: на выполнение комплекса работ
G4: по строительству объекта
A8: Определение начальной (максимальной) цены договора генерального подряда
A9: на выполнение работ по монтажу наружных и внутренних сетей связи и охранной сигнализации в здании расположенном по ул. Островского, 2
A10: на 2014 год
G13: ц.2000г./текущие цены, руб.
A14: Наименование услуг и работ (затрат) | C14: Сметная стоимость строительства в базисном уровне цен на 01.01.2000 г. | D14: Сметная стоимость строительства в текущем уровне цен, пресчитанная на момент проведения процедуры закупки | F14: Начальная (максимальная) цена | G14: в том числе по годам строительства
G17: 2014 г.
A21: 1 | C21: 2 | D21: 3 | F21: 4 | G21: 5
A22: СМР | C22: =СМР!K10 -> 189247 | D22: =F22 -> 1131697 | F22: =G22 -> 1131697 | G22: =СМР!P11 -> 1131697
A23: Оборудование | C23: =СМР!L10 -> 39392 | D23: =F23 -> 165840 | F23: =G23 -> 165840 | G23: =СМР!Q11 -> 165840
A24: Прочие затраты | C24: =СМР!M10 -> 32452 | D24: =F24 -> 340097 | F24: =G24 -> 340097 | G24: =СМР!R11 -> 340097
A25: Всего: | C25: =SUM(C22:C24) -> 261091 | D25: =F25 -> 1637634 | F25: =G25 -> 1637634 | G25: =SUM(G22:G24) -> 1637634
A26: НДС | D26: =F26 -> 294774.12 | F26: =G26 -> 294774.12 | G26: =СМР!P12+СМР!Q12+СМР!R12 -> 294774.12
A27: Итого с НДС | D27: =F27 -> 1932408.1 | F27: =G27 -> 1932408.1 | G27: =СМР!P13+СМР!Q13+СМР!R13 -> 1932408.1
A29: В расчете использованы индексы:
A31: - 5,98 индекс изменения сметной стоимости СМР к ТЕР 2001 (приказ ФГУП "Комбинат "Электрохимприбор" от 18.09.2013 №1902-П) - 10,48 индекс изменения сметной стоимости прочих затрат к ТЕР 2001 (приказ ФГУП "Комбинат "Электрохимприбор" от 18.09.2013 №1902-П) - 4,21 индекс изменения сметной стоимости прочих затрат к ТЕР 2001 (приказ ФГУП "Комбинат "Электрохимприбор" от 18.09.2013 №1902-П)
A33: Начальник отдела капитального строительства
A34: ФГУП "Комбинат "Электрохимприбор" | G34: В.В. Моляков
A36: Инженер по проектно-сметной работе | G36: Н.А. Басова
A38: Согласовано | G38: отд. 028
