Workbook
Name аааааппппппрррппппппп: #REF!
Name аараооооооооооооо: #REF!
Name автом: #REF!
Name алшрльоплварл: #REF!
Name аолвлддддддддддддддддввввввввв: #REF!
Name апарв: #REF!
Name апрлдджаоырыфрпопрлпрлпрлп: #REF!
Name арлггаджаш: #REF!
Name ароррбллтблпроорапииас: #REF!
Name арррррблллпдрлдддддддддд: #REF!
Name варпаааааааааа: #REF!
Name ввпьььььлднд: #REF!
Name вед: #REF!
Name вертикальная: #REF!
Name вертикплан: #REF!
Name волен: #REF!
Name вп: #REF!
Name впырпфдыпл: #REF!
Name впьглорьтитттттттттт: #REF!
Name всввввввввввввввввввввввввв: #REF!
Name выб: #REF!
Name выпуск: #REF!
Name выьлепвввввпмп: #REF!
Name еваопродолжэрщэрзшщщх: #REF!
Name измен: #REF!
Name итого: #REF!
Name итого_сантех: #REF!
Name итого_стр: #REF!
Name итого_строит: #REF!
Name итого_технол: #REF!
Name итого_электр: #REF!
Name квота: #REF!
Name кккккккккк: #REF!
Name корек: #REF!
Name корект: #REF!
Name корректир: #REF!
Name лен: #REF!
Name лот: #REF!
Name мамиааааааааааааааааааааааааааааа: #REF!
Name ммпоослччччччччччрччапппппппппр: #REF!
Name мрол: #REF!
Name оз: #REF!
Name озелен: #REF!
Name озеленение: #REF!
Name озеленение2: #REF!
Name ОСР: #REF!
Name ОСР110: #REF!
Name ОСР111: #REF!
Name план: #REF!
Name планировка: #REF!
Name плдщхэж.юрббдлююбо: #REF!
Name площадки: #REF!
Name пос: #REF!
Name прав: #REF!
Name прлппппппппппппппрррррррр: #REF!
Name провбп: #REF!
Name проект: #REF!
Name пропппп: #REF!
Name рпоолллллбрюююююююююююю: #REF!
Name сааповвыыыыыеееееггггггггг: #REF!

Sheet 7181
J1: УТВЕРЖДАЮ:
J4: __________________
J5: "______ " _______________2014 г.
D6: ФГУП "Комбинат "Электрохимприбор"
D7: (наименование стройки)
D9: ЛОКАЛЬНЫЙ СМЕТНЫЙ РАСЧЕТ № 7181
D10: (локальная смета)
A12: на | B12: пусконаладочные работы стадия "вхолостую" комплекса из двух нагревательных печей. Здание 357
D13: (наименование работ и затрат, наименование объекта)
B15: Основание: р.д. ИФШД.2038.41.00.100; 13-042-ЭМ
B16: Сметная стоимость прочих _______________________________________________________________________________________________ | D16: ___________________________1517,682 | F16: тыс. руб.
B17: Средства на оплату труда _______________________________________________________________________________________________ | D17: ___________________________70,642 | F17: тыс. руб.
B18: Сметная трудоемкость _______________________________________________________________________________________________ | D18: _______________________________________________________________________________________________3248,85 | F18: чел.час
B19: Составлена в ценах 2000г. с переводом в текущие
A22: № пп | B22: Шифр и номер позиции норматива | C22: Наименование работ и затрат, единица измерения | D22: Количество | E22: Стоимость единицы, руб. | H22: Общая стоимость, руб. | L22: Затраты труда рабочих, чел.-ч, не занятых обслуживанием машин
E23: всего | F23: эксплуата- ции машин | G23: мате- риалы | H23: Всего | I23: оплаты труда | J23: эксплуата- ции машин | K23: мате- риалы
E24: оплаты труда | F24: в т.ч. оплаты труда | J24: в т.ч. оплаты труда | L24: на единицу | M24: всего
A25: 1 | B25: 2 | C25: 3 | D25: 4 | E25: 5 | F25: 6 | G25: 7 | H25: 8 | I25: 9 | J25: 10 | K25: 11 | L25: 12 | M25: 13
A26: Раздел 1.
A27: 1 | B27: ТЕРп01-03-001-01 | C27: Выключатель однополюсный напряжением до 1 кВ: с электромагнитным, тепловым или комбинированным расцепителем (шт.) (Стадия "вхолостую" ПЗ=0,8 (ОЗП=0,8; ЭМ=0,8 к расх.; ЗПМ=0,8; МАТ=0,8 к расх.; ТЗ=0,8; ТЗМ=0,8)) | D27: 4 | E27: 15,92 15,92 | H27: 64 | I27: 64 | L27: 1.2 | M27: 4.8
A28: 2 | B28: ТЕРп01-03-002-04 | C28: Выключатель трехполюсный напряжением до 1 кВ: с электромагнитным, тепловым или комбинированным расцепителем, номинальный ток, А, до: 50 (шт.) (Стадия "вхолостую" ПЗ=0,8 (ОЗП=0,8; ЭМ=0,8 к расх.; ЗПМ=0,8; МАТ=0,8 к расх.; ТЗ=0,8; ТЗМ=0,8)) | D28: 6 | E28: 21,22 21,22 | H28: 127 | I28: 127 | L28: 1.6 | M28: 9.6
A29: 3 | B29: ТЕРп01-05-015-01 | C29: Устройство АВР: со схемой восстановления напряжения (устройство) (Стадия "вхолостую" ПЗ=0,8 (ОЗП=0,8; ЭМ=0,8 к расх.; ЗПМ=0,8; МАТ=0,8 к расх.; ТЗ=0,8; ТЗМ=0,8)) | D29: 2 | E29: 413,66 413,66 | H29: 827 | I29: 827 | L29: 23.2 | M29: 46.4
A30: 4 | B30: ТЕРп01-04-061-06 Изм. Вып.1 | C30: Защита с реле (компл.) (Стадия "вхолостую" ПЗ=0,8 (ОЗП=0,8; ЭМ=0,8 к расх.; ЗПМ=0,8; МАТ=0,8 к расх.; ТЗ=0,8; ТЗМ=0,8)) | D30: 2 | E30: 113,83 113,83 | H30: 228 | I30: 228 | L30: 6.4 | M30: 12.8
A31: 5 | B31: ТЕРп01-05-028-05 | C31: Программируемый микропроцессорный комплекс (устройство) (Стадия "вхолостую" ПЗ=0,8 (ОЗП=0,8; ЭМ=0,8 к расх.; ЗПМ=0,8; МАТ=0,8 к расх.; ТЗ=0,8; ТЗМ=0,8)) | D31: 2 | E31: 455,32 455,32 | H31: 911 | I31: 911 | L31: 25.6 | M31: 51.2
A32: 6 | B32: ТЕРп01-06-010-03 Изм. Вып.1 | C32: Выпрямительный блок питания (токовый или напряжения) для питания цепей защиты, управления и сигнализации мощностью до 1 кВА: со стабилизацией выходного напряжения (устройство) (Стадия "вхолостую" ПЗ=0,8 (ОЗП=0,8; ЭМ=0,8 к расх.; ЗПМ=0,8; МАТ=0,8 к расх.; ТЗ=0,8; ТЗМ=0,8)) | D32: 2 | E32: 355,72 355,72 | H32: 711 | I32: 711 | L32: 20 | M32: 40
A33: 7 | B33: ТЕРп01-07-001-05 Изм. Вып.1 | C33: Электродвигатель асинхронный с фазным ротором напряжением, кВ: св.1, мощностью, кВт: до 300 (шт.) (Стадия "вхолостую" ПЗ=0,8 (ОЗП=0,8; ЭМ=0,8 к расх.; ЗПМ=0,8; МАТ=0,8 к расх.; ТЗ=0,8; ТЗМ=0,8)) | D33: 4 | E33: 139,95 139,95 | H33: 560 | I33: 560 | L33: 8.8 | M33: 35.2
A34: 8 | B34: ТЕРп01-08-022-04 | C34: Преобразователь частоты напряжением до 1 кВ с непосредственной связью, ток, А, до: 200 (устройство) (Стадия "вхолостую" ПЗ=0,8 (ОЗП=0,8; ЭМ=0,8 к расх.; ЗПМ=0,8; МАТ=0,8 к расх.; ТЗ=0,8; ТЗМ=0,8)) | D34: 2 | E34: 3971,96 3971,96 | H34: 7944 | I34: 7944 | L34: 206.4 | M34: 412.8
A35: 9 | B35: ТЕРп01-09-013-03 | C35: Контур регулирования параметров: до 4: с числом органов настройки до 5 (шт.) (Стадия "вхолостую" ПЗ=0,8 (ОЗП=0,8; ЭМ=0,8 к расх.; ЗПМ=0,8; МАТ=0,8 к расх.; ТЗ=0,8; ТЗМ=0,8)) | D35: 4 | E35: 2053,22 2053,22 | H35: 8213 | I35: 8213 | L35: 98.4 | M35: 393.6
A36: 10 | B36: ТЕРп01-09-002-01 | C36: Датчик бесконтактный с числом "вход-выход" до: 3 (шт.) (Стадия "вхолостую" ПЗ=0,8 (ОЗП=0,8; ЭМ=0,8 к расх.; ЗПМ=0,8; МАТ=0,8 к расх.; ТЗ=0,8; ТЗМ=0,8)) | D36: 8 | E36: 120,58 120,58 | H36: 965 | I36: 965 | L36: 6.4 | M36: 51.2
A37: 11 | B37: ТЕРп01-09-003-01 | C37: Бесконтактный дискретный элемент с числом "вход-выход" до 5: без органов настройки (шт.) (Стадия "вхолостую" ПЗ=0,8 (ОЗП=0,8; ЭМ=0,8 к расх.; ЗПМ=0,8; МАТ=0,8 к расх.; ТЗ=0,8; ТЗМ=0,8)) | D37: 4 | E37: 29,82 29,82 | H37: 119 | I37: 119 | L37: 1.6 | M37: 6.4
A38: 12 | B38: ТЕРп01-09-002-12 | C38: Элемент нелинейного преобразования с числом органов настройки до: 5 (шт.) (Стадия "вхолостую" ПЗ=0,8 (ОЗП=0,8; ЭМ=0,8 к расх.; ЗПМ=0,8; МАТ=0,8 к расх.; ТЗ=0,8; ТЗМ=0,8)) | D38: 2 | E38: 301,44 301,44 | H38: 603 | I38: 603 | L38: 16 | M38: 32
... A45: 19 | B45: ТЕРп02-01-003-09 | C45: Автоматизированная система управления III категории технической сложности с количеством каналов: 80 (система) (Стадия "вхолостую" ПЗ=0,8 (ОЗП=0,8; ЭМ=0,8 к расх.; ЗПМ=0,8; МАТ=0,8 к расх.; ТЗ=0,8; ТЗМ=0,8)) | D45: 2 | E45: 14165,84 14165,84 | H45: 28332 | I45: 28332 | L45: 616 | M45: 1232
A46: Раздел 2. Новый Раздел
A47: 20 | B47: ТЕРп07-03-001-01 | C47: Горелка: газомазутная или газовая (1 горелка) (Стадия "вхолостую" ПЗ=0,6 (ОЗП=0,6; ЭМ=0,6 к расх.; ЗПМ=0,6; МАТ=0,6 к расх.; ТЗ=0,6; ТЗМ=0,6)) | D47: 4 | E47: 134,38 134,38 | H47: 538 | I47: 538 | L47: 6.6 | M47: 26.4
A48: 21 | B48: ТЕРп07-05-007-01 | C48: Установка подачи газообразного топлива производительностью по газу, м3/ч, до: 1000 (1 установка) (Стадия "вхолостую" ПЗ=0,6 (ОЗП=0,6; ЭМ=0,6 к расх.; ЗПМ=0,6; МАТ=0,6 к расх.; ТЗ=0,6; ТЗМ=0,6)) | D48: 1 | E48: 2797,46 2797,46 | H48: 2797 | I48: 2797 | L48: 137.4 | M48: 137.4
A49: 22 | B49: ТЕРп07-06-002-02 | C49: Труба дымовая: кирпичная (1 труба) (Стадия "вхолостую" ПЗ=0,6 (ОЗП=0,6; ЭМ=0,6 к расх.; ЗПМ=0,6; МАТ=0,6 к расх.; ТЗ=0,6; ТЗМ=0,6)) | D49: 1 | E49: 329,83 329,83 | H49: 330 | I49: 330 | L49: 16.2 | M49: 16.2
A50: Раздел 3. Новый Раздел
A51: 23 | B51: ТЕРп03-01-009-02 | C51: Отсос местный или укрытие при отсасывании воздуха: в нескольких местах (1 устройство) (Стадия "вхолостую" ПЗ=0,75 (ОЗП=0,75; ЭМ=0,75 к расх.; ЗПМ=0,75; МАТ=0,75 к расх.; ТЗ=0,75; ТЗМ=0,75)) | D51: 2 | E51: 153,25 153,25 | H51: 307 | I51: 307 | L51: 8.25 | M51: 16.5
A52: 24 | B52: ТЕРп03-01-002-13 | C52: Вентилятор радиальный (центробежный), диаметральный или крышный, №: до 5 (1 устройство) (Стадия "вхолостую" ПЗ=0,75 (ОЗП=0,75; ЭМ=0,75 к расх.; ЗПМ=0,75; МАТ=0,75 к расх.; ТЗ=0,75; ТЗМ=0,75)) | D52: 2 | E52: 69,66 69,66 | H52: 139 | I52: 139 | L52: 3.75 | M52: 7.5
A53: 25 | B53: ТЕРп03-01-011-03 | C53: Регулировочно-запорное устройство: регулятор расхода воздуха (1 устройство) (Стадия "вхолостую" ПЗ=0,75 (ОЗП=0,75; ЭМ=0,75 к расх.; ЗПМ=0,75; МАТ=0,75 к расх.; ТЗ=0,75; ТЗМ=0,75)) | D53: 1 | E53: 123 123 | H53: 123 | I53: 123 | L53: 6.45 | M53: 6.45
...

Sheet СМР
A1: Расчет начальной (максимальной) цены на
A2: выполнение пусконаладочных работ комплекса из двух нагревательных печей. Здание 357 ФГУП "Комбинат "Электрохимприбор"
A4: Наименование глав ССР, объектный сметных расчетов, локальных сметных расчетов, видов прочих работ | B4: Сметная стоимость строительства в базисном уровне цен на 01.01.2000г. по ССР | F4: Остаток сметной стоимости в базисном уровне цен на 01.01.2014 | J4: Сметная стоимость строительства в базисном уровне цен на 01.01.2000г., выставленная на конкурс | N4: Текущая стоимость на момент определения начальной (максимальной) цены | O4: № обосновывающего расчета | P4: 2014 год
B5: Всего | C5: СМР | D5: Оборудование | E5: Прочие | F5: Всего | G5: СМР | H5: Оборудование | I5: Прочие | J5: Всего | K5: СМР | L5: Оборудование | M5: Прочие | P5: СМР | Q5: Оборудование | R5: Прочие
A6: 1 | B6: 2 | C6: 3 | D6: 4 | E6: 5 | F6: 6 | G6: 7 | H6: 8 | I6: 9 | J6: 10 | K6: 11 | L6: 12 | M6: 13 | N6: 14 | O6: 15 | P6: 16 | Q6: 17 | R6: 18
A7: Пусконаладочные работы стадия "вхолостую" комплекса из двух нагревательных печей. Здание 357 | B7: =SUM(C7:E7) -> 144817 | C7: 0 | D7: 0 | E7: ='7181'!H65 -> 144817 | F7: =SUM(G7:I7) -> 144817 | G7: =C7 -> 0 | H7: =D7 -> 0 | I7: =E7 -> 144817 | J7: =SUM(K7:M7) -> 144817 | K7: =P7 -> 0 | L7: =Q7 -> 0 | M7: =R7 -> 144817 | O7: 7181 | P7: =G7 -> 0 | Q7: =H7 -> 0 | R7: =I7 -> 144817
A8: Итого в ценах 2000 года: | B8: =SUM(B7:B7) -> 144817 | C8: =SUM(C7:C7) -> 0 | D8: =SUM(D7:D7) -> 0 | E8: =SUM(E7:E7) -> 144817 | F8: =SUM(F7:F7) -> 144817 | G8: =SUM(G7:G7) -> 0 | H8: =SUM(H7:H7) -> 0 | I8: =SUM(I7:I7) -> 144817 | ... M8: =SUM(M7:M7) -> 144817 | N8: =SUM(P8:R8) -> 144817 | P8: =SUM(P7:P7) -> 0 | Q8: =SUM(Q7:Q7) -> 0 | R8: =SUM(R7:R7) -> 144817
A9: Итого в текущих ценах*: | N9: =SUM(P9:R9) -> 1453963 | P9: =ROUND(P8*5.98,0) -> 0 | Q9: =ROUND(Q8*4.21,0) -> 0 | R9: =ROUND(R8*10.04,0) -> 1453963
A10: НДС 18% | N10: =SUM(P10:R10) -> 261713.34 | P10: =ROUND(P9*18%,2) -> 0 | Q10: =ROUND(Q9*18%,2) -> 0 | R10: =ROUND(R9*18%,2) -> 261713.34
A11: Всего: | N11: =SUM(P11:R11) -> 1715676.3 | P11: =SUM(P9:P10) -> 0 | Q11: =SUM(Q9:Q10) -> 0 | R11: =SUM(R9:R10) -> 1715676.3
P12: 60000000
A13: * В расчете использованы индексы: | Q13: =P12-P11 -> 60000000
A14: - 10,04 индекс изменения сметной стоимости прочих затрат к ТЕР 2001 (Письмо Минстроя от 04.08.2014 №15285-ЕС/08, приложение 1 пусконаладочные работы)
A16: Начальник отдела капитального строительства
A17: ФГУП "Комбинат "Электрохимприбор" | H17: В.В. Моляков
A19: Инженер по проектно-сметной работе | H19: Н.А. Басова
A21: Согласовано | H21: отд. 028

Sheet НМЦ договора
A8: Определение начальной (максимальной) цены договора генерального подряда
A9: на выполнение пусконаладочных работ комплекса из двух нагревательных печей. Здание 357 ФГУП "Комбинат "Электрохимприбор"
A10: на 2014 год
G13: ц.2000г./текущие цены, руб.
A14: Наименование услуг и работ (затрат) | C14: Сметная стоимость строительства в базисном уровне цен на 01.01.2000 г. | D14: Сметная стоимость строительства в текущем уровне цен, пресчитанная на момент проведения процедуры закупки | F14: Начальная (максимальная) цена | G14: в том числе по годам строительства
G17: 2014 г.
A21: 1 | C21: 2 | D21: 3 | F21: 4 | G21: 5
A22: СМР | C22: =СМР!K8 -> 0 | D22: =F22 -> 0 | F22: =G22 -> 0 | G22: =СМР!P9 -> 0
A23: Оборудование | C23: =СМР!L8 -> 0 | D23: =F23 -> 0 | F23: =G23 -> 0 | G23: =СМР!Q9 -> 0
A24: Прочие затраты | C24: =СМР!M8 -> 144817 | D24: =F24 -> 1453963 | F24: =G24 -> 1453963 | G24: =СМР!R9 -> 1453963
A25: Всего: | C25: =SUM(C22:C24) -> 144817 | D25: =F25 -> 1453963 | F25: =G25 -> 1453963 | G25: =SUM(G22:G24) -> 1453963
A26: НДС | D26: =F26 -> 261713.34 | F26: =G26 -> 261713.34 | G26: =СМР!P10+СМР!Q10+СМР!R10 -> 261713.34
A27: Итого с НДС | D27: =F27 -> 1715676.3 | F27: =G27 -> 1715676.3 | G27: =СМР!P11+СМР!Q11+СМР!R11 -> 1715676.3
A29: В расчете использованы индексы:
A31: - 10,04 индекс изменения сметной стоимости прочих затрат к ТЕР 2001 (Письмо Минстроя от 04.08.2014 №15285-ЕС/08, приложение 1 пусконаладочные работы)
A33: Начальник отдела капитального строительства
A34: ФГУП "Комбинат "Электрохимприбор" | G34: В.В. Моляков
A36: Инженер по проектно-сметной работе | G36: Н.А. Басова
A38: Согласовано | G38: отд. 028
