Workbook

Sheet Смета 12 гр. по ФЕР
A1: =Source!B1 -> Smeta.RU (495) 974-1589
H4: Приложение 1 к Форме 7
B11: Локальный сметный расчет
B15: на монтаж комплекса систем пожарной безопасности согласно рабочей документации № 581-32/17К-ПБ.СР в здании НИЯУ МИФИ по адресу: г. Москва, Каширское шоссе д. 64, к.1 | AD15: =IF(Source!G12<>"Новый объект", Source!G12, "") -> Капитальный ремонт системы пожарки учебного корпуса НИЯУ МИФИ , Каширка, 64_РОСАТОМ
G20: базовая цена | I20: текущая цена
C21: Сметная стоимость | G21: =SUM(O1:O346)/1000 -> 505.29176 | I21: =(Source!P424/1000) -> 3024.358 | K21: тыс. руб.
C22: Строительные работы | G22: =SUM(W1:W346)/1000 -> 22.00679 | I22: =(Source!P411)/1000 -> 143.70434 | K22: тыс. руб.
C23: Монтажные работы | G23: =SUM(X1:X346)/1000 -> 480.77291 | I23: =(Source!P412)/1000 -> 2371.9587 | K23: тыс. руб.
C24: Оборудование | G24: =SUM(Y1:Y346)/1000 -> 0 | I24: =(Source!P403)/1000 -> 0 | K24: тыс. руб.
C25: Прочие работы | G25: =SUM(Z1:Z346)/1000 -> 2.51206 | I25: =(Source!P413+Source!P414)/1000 -> 47.3522 | K25: тыс. руб.
C26: Нормативная трудоемкость | G26: =I26 -> 4794.4605 | I26: =(Source!P416+Source!P417) -> 4794.4605 | K26: чел. -ч.
C27: Средства на оплату труда | G27: =SUM(R1:R346)/1000 -> 43.10504 | I27: =((Source!P409 + Source!P408)/1000) -> 296.57274 | K27: тыс. руб.
A29: Составлена в ценах 1 квартал 2018 года
A30: № п/п | B30: Шифр расценки и коды ресурсов | C30: Наименование работ и затрат | D30: Ед. изм. | E30: Кол-во единиц | F30: Цена на ед. изм. | G30: Попра-вочные коэфф. | H30: Стоимость в ценах 2001г. | I30: Пункт коэфф. пересчета | J30: Коэфф. пересчета | K30: Стоимость в текущих ценах | L30: ЗТР всего чел.-час
A31: 1 | B31: 2 | C31: 3 | D31: 4 | E31: 5 | F31: 6 | G31: 7 | H31: 8 | I31: 9 | J31: 10 | K31: 11 | L31: 12
A33: =CONCATENATE("Локальная смета: ",IF(Source!G20<>"Новая локальная смета", Source!G20, "")) -> Локальная смета:
A35: =CONCATENATE("Раздел: ",IF(Source!G24<>"Новый раздел", Source!G24, "")) -> Раздел: Раздел 1 Демонтажные работы
A36: =Source!E29 -> 1 | B36: =Source!F29 -> м10-08-002-02 | C36: =Source!G29 -> Демонтаж:ПС автоматический дымовой, фотоэлектрический, радиоизотопный, световой в нормальном исполнении | D36: =Source!H29 -> ШТ | E36: =Source!I29 -> 394 | F36: =Source!AL29+Source!AM29+Source!AO29 -> 18.91 | I36: =Source!BO29 | S36: =ROUND((Source!FX29/100)*((ROUND(Source!AF29*Source!I29, 2)+ROUND(Source!AE29*Source!I29, 2))), 2) -> 1528.09 | T36: =Source!X29 -> 9978.42 | U36: =ROUND((Source!FY29/100)*((ROUND(Source!AF29*Source!I29, 2)+ROUND(Source!AE29*Source!I29, 2))), 2) -> 1146.07 | V36: =Source!Y29 -> 7483.82
C37: Зарплата | F37: =Source!AO29 -> 16.16 | G37: =Source!DG29 -> )*0,3 | H37: =ROUND(Source!AF29*Source!I29, 2) -> 1910.11 | J37: =IF(Source!BA29<> 0, Source!BA29, 1) -> 6.53 | K37: =Source!S29 -> 12473.03 | R37: =H37 -> 1910.11
C38: НР от ФОТ | D38: % | E38: =Source!BZ29 -> 80 | H38: =SUM(S36:S40) -> 1528.09 | J38: =Source!AT29 -> 80 | K38: =SUM(T36:T40) -> 9978.42
C39: СП от ФОТ | D39: % | E39: =Source!CA29 -> 60 | H39: =SUM(U36:U40) -> 1146.07 | J39: =Source!AU29 -> 60 | K39: =SUM(V36:V40) -> 7483.82
C40: Затраты труда | D40: чел-ч | E40: =Source!AQ29 -> 1.68 | G40: =Source!DI29 -> )*0,3 | L40: =Source!U29 -> 198.576
G41: =H37+H38+H39 -> 4584.27 | J41: =K37+K38+K39 -> 29935.27 | L41: =Source!U29 -> 198.576 | O41: =G41 -> 4584.27 | P41: =J41 -> 29935.27 | Q41: =L41 -> 198.576 | W41: =IF(Source!BI29<=1,H37+H38+H39, 0) -> 0 | X41: =IF(Source!BI29=2,H37+H38+H39, 0) -> 4584.27 | Y41: =IF(Source!BI29=3,H37+H38+H39, 0) -> 0 | Z41: =IF(Source!BI29=4,H37+H38+H39, 0) -> 0
A42: =Source!E31 -> 2 | B42: =Source!F31 -> м10-08-001-02 | C42: =Source!G31 -> Демонтаж:Приборы ПС приемно-контрольные, пусковые, концентратор блок базовый на 20 лучей | D42: =Source!H31 -> ШТ | E42: =Source!I31 -> 1 | F42: =Source!AL31+Source!AM31+Source!AO31 -> 130.23 | I42: =Source!BO31 | S42: =ROUND((Source!FX31/100)*((ROUND(Source!AF31*Source!I31, 2)+ROUND(Source!AE31*Source!I31, 2))), 2) -> 28.25 | T42: =Source!X31 -> 184.46 | U42: =ROUND((Source!FY31/100)*((ROUND(Source!AF31*Source!I31, 2)+ROUND(Source!AE31*Source!I31, 2))), 2) -> 21.19 | V42: =Source!Y31 -> 138.34
C43: Зарплата | F43: =Source!AO31 -> 117.7 | G43: =Source!DG31 -> )*0,3 | H43: =ROUND(Source!AF31*Source!I31, 2) -> 35.31 | J43: =IF(Source!BA31<> 0, Source!BA31, 1) -> 6.53 | K43: =Source!S31 -> 230.57 | R43: =H43 -> 35.31
C44: НР от ФОТ | D44: % | E44: =Source!BZ31 -> 80 | H44: =SUM(S42:S46) -> 28.25 | J44: =Source!AT31 -> 80 | K44: =SUM(T42:T46) -> 184.46
C45: СП от ФОТ | D45: % | E45: =Source!CA31 -> 60 | H45: =SUM(U42:U46) -> 21.19 | J45: =Source!AU31 -> 60 | K45: =SUM(V42:V46) -> 138.34
C46: Затраты труда | D46: чел-ч | E46: =Source!AQ31 -> 11.7 | G46: =Source!DI31 -> )*0,3 | L46: =Source!U31 -> 3.51
G47: =H43+H44+H45 -> 84.75 | J47: =K43+K44+K45 -> 553.37 | L47: =Source!U31 -> 3.51 | O47: =G47 -> 84.75 | P47: =J47 -> 553.37 | Q47: =L47 -> 3.51 | W47: =IF(Source!BI31<=1,H43+H44+H45, 0) -> 0 | X47: =IF(Source!BI31=2,H43+H44+H45, 0) -> 84.75 | Y47: =IF(Source!BI31=3,H43+H44+H45, 0) -> 0 | Z47: =IF(Source!BI31=4,H43+H44+H45, 0) -> 0
A48: =Source!E33 -> 3 | B48: =Source!F33 -> м10-08-003-03 | C48: =Source!G33 -> Демонтаж:Устройство ультразвуковое, блок питания и контроля | D48: =Source!H33 -> ШТ | E48: =Source!I33 -> 7 | F48: =Source!AL33+Source!AM33+Source!AO33 -> 41.09 | I48: =Source!BO33 | S48: =ROUND((Source!FX33/100)*((ROUND(Source!AF33*Source!I33, 2)+ROUND(Source!AE33*Source!I33, 2))), 2) -> 61.76 | T48: =Source!X33 -> 403.27 | U48: =ROUND((Source!FY33/100)*((ROUND(Source!AF33*Source!I33, 2)+ROUND(Source!AE33*Source!I33, 2))), 2) -> 46.32 | V48: =Source!Y33 -> 302.45
C49: Зарплата | F49: =Source!AO33 -> 36.76 | G49: =Source!DG33 -> )*0,3 | H49: =ROUND(Source!AF33*Source!I33, 2) -> 77.2 | J49: =IF(Source!BA33<> 0, Source!BA33, 1) -> 6.53 | K49: =Source!S33 -> 504.09 | R49: =H49 -> 77.2
C50: НР от ФОТ | D50: % | E50: =Source!BZ33 -> 80 | H50: =SUM(S48:S52) -> 61.76 | J50: =Source!AT33 -> 80 | K50: =SUM(T48:T52) -> 403.27
C51: СП от ФОТ | D51: % | E51: =Source!CA33 -> 60 | H51: =SUM(U48:U52) -> 46.32 | J51: =Source!AU33 -> 60 | K51: =SUM(V48:V52) -> 302.45
C52: Затраты труда | D52: чел-ч | E52: =Source!AQ33 -> 3.6 | G52: =Source!DI33 -> )*0,3 | L52: =Source!U33 -> 7.56
G53: =H49+H50+H51 -> 185.28 | J53: =K49+K50+K51 -> 1209.81 | L53: =Source!U33 -> 7.56 | O53: =G53 -> 185.28 | P53: =J53 -> 1209.81 | Q53: =L53 -> 7.56 | W53: =IF(Source!BI33<=1,H49+H50+H51, 0) -> 0 | X53: =IF(Source!BI33=2,H49+H50+H51, 0) -> 185.28 | Y53: =IF(Source!BI33=3,H49+H50+H51, 0) -> 0 | Z53: =IF(Source!BI33=4,H49+H50+H51, 0) -> 0
A54: =Source!E35 -> 4 | B54: =Source!F35 -> м10-04-101-07 | C54: =Source!G35 -> Демонтаж:Громкоговоритель или звуковая колонка в помещении | D54: =Source!H35 -> ШТ | E54: =Source!I35 -> 204 | F54: =Source!AL35+Source!AM35+Source!AO35 -> 30.77 | I54: =Source!BO35 | S54: =ROUND((Source!FX35/100)*((ROUND(Source!AF35*Source!I35, 2)+ROUND(Source!AE35*Source!I35, 2))), 2) -> 1021.36 | T54: =Source!X35 -> 6669.45 | U54: =ROUND((Source!FY35/100)*((ROUND(Source!AF35*Source!I35, 2)+ROUND(Source!AE35*Source!I35, 2))), 2) -> 721.61 | V54: =Source!Y35 -> 4712.11
C55: Зарплата | F55: =Source!AO35 -> 18.14 | G55: =Source!DG35 -> )*0,3 | H55: =ROUND(Source!AF35*Source!I35, 2) -> 1110.17 | J55: =IF(Source!BA35<> 0, Source!BA35, 1) -> 6.53 | K55: =Source!S35 -> 7249.4 | R55: =H55 -> 1110.17
C56: НР от ФОТ | D56: % | E56: =Source!BZ35 -> 92 | H56: =SUM(S54:S58) -> 1021.36 | J56: =Source!AT35 -> 92 | K56: =SUM(T54:T58) -> 6669.45
C57: СП от ФОТ | D57: % | E57: =Source!CA35 -> 65 | H57: =SUM(U54:U58) -> 721.61 | J57: =Source!AU35 -> 65 | K57: =SUM(V54:V58) -> 4712.11
C58: Затраты труда | D58: чел-ч | E58: =Source!AQ35 -> 2 | G58: =Source!DI35 -> )*0,3 | L58: =Source!U35 -> 122.4
...

Sheet Акт КС-2 c НР и СП
A1: =Source!B1 -> Smeta.RU (495) 974-1589
E2: Унифицированная форма № КС-2
E3: Утверждена постановлением Госкомстата России
E4: от 11.11.99. № 100
G6: Код
F7: Форма по ОКУД | G7: 0322005
G8: =IF(Source!AT15 <> "", Source!AT15, "")
A9: Инвестор | C9: =IF(Source!BA15 <> "", Source!BA15, IF(Source!AU15 <> "", Source!AU15, "")) | F9: по ОКПО
C10: организация, адрес, телефон, факс | G10: =IF(Source!AK15 <> "", Source!AK15, "")
A11: Заказчик | C11: =IF(Source!AX12<> "", Source!AX12, IF(Source!AJ12 <> "", Source!AJ12, "")) | F11: по ОКПО
C12: организация, адрес, телефон, факс | G12: =IF(Source!AO15 <> "", Source!AO15, "")
A13: Подрядчик | C13: =IF(Source!AY12<> "", Source!AY12, IF(Source!AN12 <> "", Source!AN12, "")) | F13: по ОКПО
C14: организация, адрес, телефон, факс | G14: =IF(Source!CO15 <> "", Source!CO15, "")
A15: Стройка | C15: Капитальный ремонт системы пожарки учебного корпуса НИЯУ МИФИ , Каширка, 64_РОСАТОМ | AE15: Капитальный ремонт системы пожарки учебного корпуса НИЯУ МИФИ , Каширка, 64_РОСАТОМ
C16: наименование, адрес | G16: =IF(Source!CP15 <> "", Source!CP15, "")
A17: Объект | C17: =IF(Source!G12<>"Новый объект", Source!G12, "") -> Капитальный ремонт системы пожарки учебного корпуса НИЯУ МИФИ , Каширка, 64_РОСАТОМ | AE17: =IF(Source!G12<>"Новый объект", Source!G12, "") -> Капитальный ремонт системы пожарки учебного корпуса НИЯУ МИФИ , Каширка, 64_РОСАТОМ
C18: наименование
D19: Вид деятельности по ОКДП | G19: =IF(Source!CQ15 <> "", Source!CQ15, "")
D20: Договор подряда | F20: номер | G20: =IF(Source!CR15 <> "", Source!CR15, "")
F21: дата | G21: =IF(Source!CS15 <> 0, Source!CS15, "")
F22: Вид операции | G22: =IF(Source!CT15 <> "", Source!CT15, "")
D24: Номер документа | E24: Дата составления | F24: Отчетный период
F25: с | G25: по
D26: =IF(Source!CN15 <> "", Source!CN15, "") | E26: 43230.648
A28: AKT
A29: О ПРИЕМКЕ ВЫПОЛНЕННЫХ РАБОТ
A31: Сметная (договорная) стоимость в соответствии с договором подряда (субподряда) | F31: =(Source!P424/1000) -> 3024.358 | H31: тыс.руб
A33: Номер | C33: Наименование работ | D33: Номер единичной расценки | E33: Единица измерения | F33: Выполнено работ
A34: по порядку | B34: поз. по смете | F34: Количество | G34: цена за единицу, руб | H34: стоимость, руб
A35: 1 | B35: 2 | C35: 3 | D35: 4 | E35: 5 | F35: 6 | G35: 7 | H35: 8
A37: =CONCATENATE("Локальная смета: ",IF(Source!G20<>"Новая локальная смета", Source!G20, "")) -> Локальная смета:
A39: =CONCATENATE("Раздел: ",IF(Source!G24<>"Новый раздел", Source!G24, "")) -> Раздел: Раздел 1 Демонтажные работы
A40: 1 | B40: =Source!E29 -> 1 | C40: =Source!G29 -> Демонтаж:ПС автоматический дымовой, фотоэлектрический, радиоизотопный, световой в нормальном исполнении | D40: =Source!F29 -> м10-08-002-02 | E40: =Source!H29 -> ШТ | F40: =Source!I29 -> 394 | G40: =Source!AB29 -> 4.848 | H40: =Source!O29 -> 12473.03 | T40: =Source!O29+Source!X29+Source!Y29 -> 29935.27 | U40: =Source!P29 -> 0 | V40: =Source!S29 -> 12473.03 | W40: =Source!Q29 -> 0 | X40: =Source!R29 -> 0 | Y40: =Source!U29 -> 198.576 | Z40: =Source!V29 -> 0 | AA40: =Source!X29 -> 9978.42 | AB40: =Source!Y29 -> 7483.82
C41: Коэфф. к ОЗП | D41: =Source!BA29 -> 6.53
C42: Коэфф. к эксплуатации машин | D42: =Source!BB29 -> 6.53
C43: Коэфф. к материалам | D43: =Source!BC29 -> 6.53
C44: Коэфф. к ЗПМ | D44: =Source!BS29 -> 6.53
C45: Стоимость материалов | D45: )*0
C46: Эксплуатация машин | D46: )*0,3
C47: Оплата труда машинистов | D47: )*0,3
...

Sheet Source
A1: 0 | B1: Smeta.RU (495) 974-1589 | D1: _PS_ | F1: 0 | G1: 0 | H1: 0 | I1: Smeta.RU | J1: НИЯУ МИФИ Доп. раб. место MCCS-0027251 | K1: 0 | L1: 27251 | M1: 10
A12: 1 | B12: 455 | C12: 0 | D12: =ROW(A394) -> 394 | E12: 0 | F12: Новый объект_(Копия) | G12: Капитальный ремонт системы пожарки учебного корпуса НИЯУ МИФИ , Каширка, 64_РОСАТОМ | I12: 0 | K12: 0 | O12: 0 | P12: 0 | Q12: 0 | R12: 0 | S12: 0 | V12: 0 | BH12: Сметные нормы списания | BI12: Коды ценников | BJ12: 1 | BK12: 1 | BL12: 0 | BM12: 0 | BN12: 1 | BO12: 0 | BP12: 6 | BQ12: 2 | BR12: 1 | BS12: 1 | BT12: 0 | BU12: 0 | BV12: 0 | BW12: 0 | BX12: 0 | BY12: ФЕР-2017 | BZ12: ТР для Версии 10: Центральные регионы (с учетом п-ма 2536-ИП/12/ГС от 22.03.2017 г | CA12: ФЕР-2017 | CB12: ФЕР-2017 | CC12: ФЕР-2017 | CD12: ФЕР-2017 | CE12: Поправки для ГСН 2017 от 31.03.2017 г | CF12: 0 | CG12: 0 | CH12: 524296 | CK12: 4 | EC12: 0
A15: 15 | B15: 1
A18: 52 | B18: =B394 -> 455 | C18: =C394 -> 1 | D18: =D394 -> 12 | E18: =E394 -> 0 | F18: =F394 -> Новый объект_(Копия) | G18: =G394 -> Капитальный ремонт системы пожарки учебного корпуса НИЯУ МИФИ , Каширка, 64_РОСАТОМ | O18: =O394 -> 184306.15 | P18: =P394 -> 140721.82 | Q18: =Q394 -> 569.79 | R18: =R394 -> 90.5 | S18: =S394 -> 43014.54 | T18: =T394 -> 0 | U18: =U394 -> 4787.303 | V18: =V394 -> 7.1575 | ... GX18: =GX394 -> 0
A20: 3 | B20: 1 | D20: =ROW(A362) -> 362 | F20: Новая локальная смета | G20: Новая локальная смета | I20: 0 | K20: 0 | V20: 0 | BX20: 0 | CF20: 0 | CG20: 0
A22: 52 | B22: =B362 -> 1 | C22: =C362 -> 3 | D22: =D362 -> 20 | E22: =E362 -> 0 | F22: =F362 -> Новая локальная смета | G22: =G362 -> Новая локальная смета | O22: =O362 -> 184306.15 | P22: =P362 -> 140721.82 | Q22: =Q362 -> 569.79 | R22: =R362 -> 90.5 | S22: =S362 -> 43014.54 | T22: =T362 -> 0 | U22: =U362 -> 4787.303 | V22: =V362 -> 7.1575 | ... GX22: =GX362 -> 0
A24: 4 | B24: 1 | D24: =ROW(A39) -> 39 | F24: Новый раздел | G24: Раздел 1 Демонтажные работы | I24: 0 | K24: 0 | V24: 0 | BX24: 0 | CJ24: 0
A26: 52 | B26: =B39 -> 1 | C26: =C39 -> 4 | D26: =D39 -> 24 | E26: =E39 -> 0 | F26: =F39 -> Новый раздел | G26: =G39 -> Раздел 1 Демонтажные работы | O26: =O39 -> 11947.41 | P26: =P39 -> 0 | Q26: =Q39 -> 36.19 | R26: =R39 -> 16.35 | S26: =S39 -> 11911.22 | T26: =T39 -> 0 | U26: =U39 -> 1457.516 | V26: =V39 -> 1.1675 | ... GX26: =GX39 -> 0
A28: 17 | B28: 1 | C28: =ROW(SmtRes!A6) -> 6 | D28: =ROW(EtalonRes!A6) -> 6 | E28: 1 | F28: м10-08-002-02 | G28: Демонтаж:ПС автоматический дымовой, фотоэлектрический, радиоизотопный, световой в нормальном исполнении | H28: ШТ | I28: 394 | J28: 0 | O28: =ROUND(CP28,2) -> 1910.11 | P28: =ROUND(CQ28*I28,2) -> 0 | Q28: =ROUND(CR28*I28,2) -> 0 | R28: =ROUND(CS28*I28,2) -> 0 | S28: =ROUND(CT28*I28,2) -> 1910.11 | T28: =ROUND(CU28*I28,2) -> 0 | U28: =CV28*I28 -> 198.576 | V28: =CW28*I28 -> 0 | W28: =ROUND(CX28*I28,2) -> 0 | X28: =ROUND(CY28,2) -> 1528.09 | Y28: =ROUND(CZ28,2) -> 1146.07 | AA28: 16670159 | AB28: =ROUND((AC28+AD28+AF28),6) -> 4.848 | AC28: =ROUND(((ES28*0)),6) -> 0 | AD28: =ROUND(((((ET28*0.3))-((EU28*0.3)))+AE28),6) -> 0 | AE28: =ROUND(((EU28*0.3)),6) -> 0 | AF28: =ROUND(((EV28*0.3)),6) -> 4.848 | AG28: =ROUND((AP28),6) -> 0 | AH28: =((EW28*0.3)) -> 0.504 | AI28: =((EX28*0.3)) -> 0 | AJ28: =ROUND((AS28),6) -> 0 | AK28: 18.91 | AL28: 2.75 | AM28: 0 | AN28: 0 | AO28: 16.16 | AP28: 0 | AQ28: 1.68 | AR28: 0 | AS28: 0 | AT28: 80 | AU28: 60 | AV28: 1 | AW28: 1 | AZ28: 1 | BA28: 1 | BB28: 1 | BC28: 1 | BH28: 0 | BI28: 2 | BJ28: ФЕРм-2001, м10-08-002-02, приказ Минстроя России №1039/пр от 30.12.2016г. | BM28: 110011 | BN28: 0 | BP28: 0 | BQ28: 3 | BR28: 0 | BS28: 1 | BT28: 1 | BU28: 1 | BV28: 1 | BW28: 1 | BX28: 1 | BZ28: 80 | CA28: 60 | CF28: 0 | CG28: 0 | CM28: 0 | CN28: Поправка: Табл.3, п.4 Наименование: Демонтаж: Оборудование, не пригодное для дальнейшего использования, (предназначено в лом) без разборки и резки | CO28: 0 | CP28: =(P28+Q28+S28) -> 1910.11 | CQ28: =AC28*BC28 -> 0 | CR28: =AD28*BB28 -> 0 | CS28: =AE28*BS28 -> 0 | CT28: =AF28*BA28 -> 4.848 | CU28: =AG28 -> 0 | CV28: =AH28 -> 0.504 | CW28: =AI28 -> 0 | CX28: =AJ28 -> 0 | CY28: =(((S28+R28)*AT28)/100) -> 1528.088 | CZ28: =(((S28+R28)*AU28)/100) -> 1146.066 | DD28: )*0 | DE28: )*0,3 | DF28: )*0,3 | DG28: )*0,3 | DI28: )*0,3 | DJ28: )*0,3 | DN28: 0 | DO28: 0 | DP28: 1 | DQ28: 1 | DU28: 1013 | DV28: ШТ | DW28: ШТ | DX28: 1 | EE28: 16510417 | EF28: 3 | EG28: Монтажные работы | EH28: 0 | EJ28: 2 | EK28: 110011 | EL28: Связь: пожарно-охранная сигнализация и пром. телевиз. установки ( отделы 8 и 9 ) (при устройстве средств посадки самолетов : НР=95%, СП=55% - {АВИА}=1) | EM28: мФЕР-10 | EO28: Поправка: Табл.3, п.4 | EQ28: 0 | ER28: 18.91 | ES28: 2.75 | ET28: 0 | EU28: 0 | EV28: 16.16 | EW28: 1.68 | EX28: 0 | EY28: 0 | FQ28: 0 | FR28: =ROUND(IF(AND(BH28=3,BI28=3),P28,0),2) -> 0 | FS28: 0 | FX28: 80 | FY28: 60 | GD28: 0 | GF28: 115411083 | GG28: 1 | GH28: 1 | GI28: -2 | GJ28: 0 | GK28: =ROUND(R28*(R12)/100,2) -> 0 | GL28: =ROUND(IF(AND(BH28=3,BI28=3,FS28<>0),P28,0),2) -> 0 | GM28: =ROUND(O28+X28+Y28+GK28,2)+GX28 -> 4584.27 | GN28: =IF(OR(BI28=0,BI28=1),ROUND(O28+X28+Y28+GK28,2),0) -> 0 | GO28: =IF(BI28=2,ROUND(O28+X28+Y28+GK28,2),0) -> 4584.27 | GP28: =IF(BI28=4,ROUND(O28+X28+Y28+GK28,2)+GX28,0) -> 0 | GR28: 0 | GS28: 3 | GT28: 0 | GV28: =ROUND(GT28,6) -> 0 | GW28: 1 | GX28: =ROUND(GV28*GW28*I28,2) -> 0 | HA28: 0 | HB28: 0 | IK28: 0
A29: 17 | B29: 1 | C29: =ROW(SmtRes!A12) -> 12 | D29: =ROW(EtalonRes!A12) -> 12 | E29: 1 | F29: м10-08-002-02 | G29: Демонтаж:ПС автоматический дымовой, фотоэлектрический, радиоизотопный, световой в нормальном исполнении | H29: ШТ | I29: 394 | J29: 0 | O29: =ROUND(CP29,2) -> 12473.03 | P29: =ROUND(CQ29*I29,2) -> 0 | Q29: =ROUND(CR29*I29,2) -> 0 | R29: =ROUND(CS29*I29,2) -> 0 | S29: =ROUND(CT29*I29,2) -> 12473.03 | T29: =ROUND(CU29*I29,2) -> 0 | U29: =CV29*I29 -> 198.576 | V29: =CW29*I29 -> 0 | W29: =ROUND(CX29*I29,2) -> 0 | X29: =ROUND(CY29,2) -> 9978.42 | Y29: =ROUND(CZ29,2) -> 7483.82 | AA29: 16670161 | AB29: =ROUND((AC29+AD29+AF29),6) -> 4.848 | AC29: =ROUND(((ES29*0)),6) -> 0 | AD29: =ROUND(((((ET29*0.3))-((EU29*0.3)))+AE29),6) -> 0 | AE29: =ROUND(((EU29*0.3)),6) -> 0 | AF29: =ROUND(((EV29*0.3)),6) -> 4.848 | AG29: =ROUND((AP29),6) -> 0 | AH29: =((EW29*0.3)) -> 0.504 | AI29: =((EX29*0.3)) -> 0 | AJ29: =ROUND((AS29),6) -> 0 | AK29: 18.91 | AL29: 2.75 | AM29: 0 | AN29: 0 | AO29: 16.16 | AP29: 0 | AQ29: 1.68 | AR29: 0 | AS29: 0 | AT29: 80 | AU29: 60 | AV29: 1 | AW29: 1 | AZ29: 6.53 | BA29: 6.53 | BB29: 6.53 | BC29: 6.53 | BH29: 0 | BI29: 2 | BJ29: ФЕРм-2001, м10-08-002-02, приказ Минстроя России №1039/пр от 30.12.2016г. | BM29: 110011 | BN29: 0 | BP29: 0 | BQ29: 3 | BR29: 0 | BS29: 6.53 | BT29: 1 | BU29: 1 | BV29: 1 | BW29: 1 | BX29: 1 | BZ29: 80 | CA29: 60 | CF29: 0 | CG29: 0 | CM29: 0 | CN29: Поправка: Табл.3, п.4 Наименование: Демонтаж: Оборудование, не пригодное для дальнейшего использования, (предназначено в лом) без разборки и резки | CO29: 0 | CP29: =(P29+Q29+S29) -> 12473.03 | CQ29: =AC29*BC29 -> 0 | CR29: =AD29*BB29 -> 0 | CS29: =AE29*BS29 -> 0 | CT29: =AF29*BA29 -> 31.65744 | CU29: =AG29 -> 0 | CV29: =AH29 -> 0.504 | CW29: =AI29 -> 0 | CX29: =AJ29 -> 0 | CY29: =(((S29+R29)*AT29)/100) -> 9978.424 | CZ29: =(((S29+R29)*AU29)/100) -> 7483.818 | DD29: )*0 | DE29: )*0,3 | DF29: )*0,3 | DG29: )*0,3 | DI29: )*0,3 | DJ29: )*0,3 | DN29: 0 | DO29: 0 | DP29: 1 | DQ29: 1 | DU29: 1013 | DV29: ШТ | DW29: ШТ | DX29: 1 | EE29: 16510417 | EF29: 3 | EG29: Монтажные работы | EH29: 0 | EJ29: 2 | EK29: 110011 | EL29: Связь: пожарно-охранная сигнализация и пром. телевиз. установки ( отделы 8 и 9 ) (при устройстве средств посадки самолетов : НР=95%, СП=55% - {АВИА}=1) | EM29: мФЕР-10 | EO29: Поправка: Табл.3, п.4 | EQ29: 0 | ER29: 18.91 | ES29: 2.75 | ET29: 0 | EU29: 0 | EV29: 16.16 | EW29: 1.68 | EX29: 0 | EY29: 0 | FQ29: 0 | FR29: =ROUND(IF(AND(BH29=3,BI29=3),P29,0),2) -> 0 | FS29: 0 | FX29: 80 | FY29: 60 | GD29: 0 | GF29: 115411083 | GG29: 1 | GH29: 1 | GI29: 4 | GJ29: 0 | GK29: =ROUND(R29*(S12)/100,2) -> 0 | GL29: =ROUND(IF(AND(BH29=3,BI29=3,FS29<>0),P29,0),2) -> 0 | GM29: =ROUND(O29+X29+Y29+GK29,2)+GX29 -> 29935.27 | GN29: =IF(OR(BI29=0,BI29=1),ROUND(O29+X29+Y29+GK29,2),0) -> 0 | GO29: =IF(BI29=2,ROUND(O29+X29+Y29+GK29,2),0) -> 29935.27 | GP29: =IF(BI29=4,ROUND(O29+X29+Y29+GK29,2)+GX29,0) -> 0 | GR29: 0 | GS29: 3 | GT29: 0 | GV29: =ROUND(GT29,6) -> 0 | GW29: 1 | GX29: =ROUND(GV29*GW29*I29,2) -> 0 | HA29: 0 | HB29: 0 | IK29: 0
A30: 17 | B30: 1 | C30: =ROW(SmtRes!A17) -> 17 | D30: =ROW(EtalonRes!A17) -> 17 | E30: 2 | F30: м10-08-001-02 | G30: Демонтаж:Приборы ПС приемно-контрольные, пусковые, концентратор блок базовый на 20 лучей | H30: ШТ | I30: 1 | J30: 0 | O30: =ROUND(CP30,2) -> 35.31 | P30: =ROUND(CQ30*I30,2) -> 0 | Q30: =ROUND(CR30*I30,2) -> 0 | R30: =ROUND(CS30*I30,2) -> 0 | S30: =ROUND(CT30*I30,2) -> 35.31 | T30: =ROUND(CU30*I30,2) -> 0 | U30: =CV30*I30 -> 3.51 | V30: =CW30*I30 -> 0 | W30: =ROUND(CX30*I30,2) -> 0 | X30: =ROUND(CY30,2) -> 28.25 | Y30: =ROUND(CZ30,2) -> 21.19 | AA30: 16670159 | AB30: =ROUND((AC30+AD30+AF30),6) -> 35.31 | AC30: =ROUND(((ES30*0)),6) -> 0 | AD30: =ROUND(((((ET30*0.3))-((EU30*0.3)))+AE30),6) -> 0 | AE30: =ROUND(((EU30*0.3)),6) -> 0 | AF30: =ROUND(((EV30*0.3)),6) -> 35.31 | AG30: =ROUND((AP30),6) -> 0 | AH30: =((EW30*0.3)) -> 3.51 | AI30: =((EX30*0.3)) -> 0 | AJ30: =ROUND((AS30),6) -> 0 | AK30: 130.23 | AL30: 12.53 | AM30: 0 | AN30: 0 | AO30: 117.7 | AP30: 0 | AQ30: 11.7 | AR30: 0 | AS30: 0 | AT30: 80 | AU30: 60 | AV30: 1 | AW30: 1 | AZ30: 1 | BA30: 1 | BB30: 1 | BC30: 1 | BH30: 0 | BI30: 2 | BJ30: ФЕРм-2001, м10-08-001-02, приказ Минстроя России №1039/пр от 30.12.2016г. | BM30: 110011 | BN30: 0 | BP30: 0 | BQ30: 3 | BR30: 0 | BS30: 1 | BT30: 1 | BU30: 1 | BV30: 1 | BW30: 1 | BX30: 1 | BZ30: 80 | CA30: 60 | CF30: 0 | CG30: 0 | CM30: 0 | CN30: Поправка: Табл.3, п.4 Наименование: Демонтаж: Оборудование, не пригодное для дальнейшего использования, (предназначено в лом) без разборки и резки | CO30: 0 | CP30: =(P30+Q30+S30) -> 35.31 | CQ30: =AC30*BC30 -> 0 | CR30: =AD30*BB30 -> 0 | CS30: =AE30*BS30 -> 0 | CT30: =AF30*BA30 -> 35.31 | CU30: =AG30 -> 0 | CV30: =AH30 -> 3.51 | CW30: =AI30 -> 0 | CX30: =AJ30 -> 0 | CY30: =(((S30+R30)*AT30)/100) -> 28.248 | CZ30: =(((S30+R30)*AU30)/100) -> 21.186 | DD30: )*0 | DE30: )*0,3 | DF30: )*0,3 | DG30: )*0,3 | DI30: )*0,3 | DJ30: )*0,3 | DN30: 0 | DO30: 0 | DP30: 1 | DQ30: 1 | DU30: 1013 | DV30: ШТ | DW30: ШТ | DX30: 1 | EE30: 16510417 | EF30: 3 | EG30: Монтажные работы | EH30: 0 | EJ30: 2 | EK30: 110011 | EL30: Связь: пожарно-охранная сигнализация и пром. телевиз. установки ( отделы 8 и 9 ) (при устройстве средств посадки самолетов : НР=95%, СП=55% - {АВИА}=1) | EM30: мФЕР-10 | EO30: Поправка: Табл.3, п.4 | EQ30: 0 | ER30: 130.23 | ES30: 12.53 | ET30: 0 | EU30: 0 | EV30: 117.7 | EW30: 11.7 | EX30: 0 | EY30: 0 | FQ30: 0 | FR30: =ROUND(IF(AND(BH30=3,BI30=3),P30,0),2) -> 0 | FS30: 0 | FX30: 80 | FY30: 60 | GD30: 0 | GF30: 1818641454 | GG30: 1 | GH30: 1 | GI30: -2 | GJ30: 0 | GK30: =ROUND(R30*(R12)/100,2) -> 0 | GL30: =ROUND(IF(AND(BH30=3,BI30=3,FS30<>0),P30,0),2) -> 0 | GM30: =ROUND(O30+X30+Y30+GK30,2)+GX30 -> 84.75 | GN30: =IF(OR(BI30=0,BI30=1),ROUND(O30+X30+Y30+GK30,2),0) -> 0 | GO30: =IF(BI30=2,ROUND(O30+X30+Y30+GK30,2),0) -> 84.75 | GP30: =IF(BI30=4,ROUND(O30+X30+Y30+GK30,2)+GX30,0) -> 0 | GR30: 0 | GS30: 3 | GT30: 0 | GV30: =ROUND(GT30,6) -> 0 | GW30: 1 | GX30: =ROUND(GV30*GW30*I30,2) -> 0 | HA30: 0 | HB30: 0 | IK30: 0
A31: 17 | B31: 1 | C31: =ROW(SmtRes!A22) -> 22 | D31: =ROW(EtalonRes!A22) -> 22 | E31: 2 | F31: м10-08-001-02 | G31: Демонтаж:Приборы ПС приемно-контрольные, пусковые, концентратор блок базовый на 20 лучей | H31: ШТ | I31: 1 | J31: 0 | O31: =ROUND(CP31,2) -> 230.57 | P31: =ROUND(CQ31*I31,2) -> 0 | Q31: =ROUND(CR31*I31,2) -> 0 | R31: =ROUND(CS31*I31,2) -> 0 | S31: =ROUND(CT31*I31,2) -> 230.57 | T31: =ROUND(CU31*I31,2) -> 0 | U31: =CV31*I31 -> 3.51 | V31: =CW31*I31 -> 0 | W31: =ROUND(CX31*I31,2) -> 0 | X31: =ROUND(CY31,2) -> 184.46 | Y31: =ROUND(CZ31,2) -> 138.34 | AA31: 16670161 | AB31: =ROUND((AC31+AD31+AF31),6) -> 35.31 | AC31: =ROUND(((ES31*0)),6) -> 0 | AD31: =ROUND(((((ET31*0.3))-((EU31*0.3)))+AE31),6) -> 0 | AE31: =ROUND(((EU31*0.3)),6) -> 0 | AF31: =ROUND(((EV31*0.3)),6) -> 35.31 | AG31: =ROUND((AP31),6) -> 0 | AH31: =((EW31*0.3)) -> 3.51 | AI31: =((EX31*0.3)) -> 0 | AJ31: =ROUND((AS31),6) -> 0 | AK31: 130.23 | AL31: 12.53 | AM31: 0 | AN31: 0 | AO31: 117.7 | AP31: 0 | AQ31: 11.7 | AR31: 0 | AS31: 0 | AT31: 80 | AU31: 60 | AV31: 1 | AW31: 1 | AZ31: 6.53 | BA31: 6.53 | BB31: 6.53 | BC31: 6.53 | BH31: 0 | BI31: 2 | BJ31: ФЕРм-2001, м10-08-001-02, приказ Минстроя России №1039/пр от 30.12.2016г. | BM31: 110011 | BN31: 0 | BP31: 0 | BQ31: 3 | BR31: 0 | BS31: 6.53 | BT31: 1 | BU31: 1 | BV31: 1 | BW31: 1 | BX31: 1 | BZ31: 80 | CA31: 60 | CF31: 0 | CG31: 0 | CM31: 0 | CN31: Поправка: Табл.3, п.4 Наименование: Демонтаж: Оборудование, не пригодное для дальнейшего использования, (предназначено в лом) без разборки и резки | CO31: 0 | CP31: =(P31+Q31+S31) -> 230.57 | CQ31: =AC31*BC31 -> 0 | CR31: =AD31*BB31 -> 0 | CS31: =AE31*BS31 -> 0 | CT31: =AF31*BA31 -> 230.5743 | CU31: =AG31 -> 0 | CV31: =AH31 -> 3.51 | CW31: =AI31 -> 0 | CX31: =AJ31 -> 0 | CY31: =(((S31+R31)*AT31)/100) -> 184.456 | CZ31: =(((S31+R31)*AU31)/100) -> 138.342 | DD31: )*0 | DE31: )*0,3 | DF31: )*0,3 | DG31: )*0,3 | DI31: )*0,3 | DJ31: )*0,3 | DN31: 0 | DO31: 0 | DP31: 1 | DQ31: 1 | DU31: 1013 | DV31: ШТ | DW31: ШТ | DX31: 1 | EE31: 16510417 | EF31: 3 | EG31: Монтажные работы | EH31: 0 | EJ31: 2 | EK31: 110011 | EL31: Связь: пожарно-охранная сигнализация и пром. телевиз. установки ( отделы 8 и 9 ) (при устройстве средств посадки самолетов : НР=95%, СП=55% - {АВИА}=1) | EM31: мФЕР-10 | EO31: Поправка: Табл.3, п.4 | EQ31: 0 | ER31: 130.23 | ES31: 12.53 | ET31: 0 | EU31: 0 | EV31: 117.7 | EW31: 11.7 | EX31: 0 | EY31: 0 | FQ31: 0 | FR31: =ROUND(IF(AND(BH31=3,BI31=3),P31,0),2) -> 0 | FS31: 0 | FX31: 80 | FY31: 60 | GD31: 0 | GF31: 1818641454 | GG31: 1 | GH31: 1 | GI31: 4 | GJ31: 0 | GK31: =ROUND(R31*(S12)/100,2) -> 0 | GL31: =ROUND(IF(AND(BH31=3,BI31=3,FS31<>0),P31,0),2) -> 0 | GM31: =ROUND(O31+X31+Y31+GK31,2)+GX31 -> 553.37 | GN31: =IF(OR(BI31=0,BI31=1),ROUND(O31+X31+Y31+GK31,2),0) -> 0 | GO31: =IF(BI31=2,ROUND(O31+X31+Y31+GK31,2),0) -> 553.37 | GP31: =IF(BI31=4,ROUND(O31+X31+Y31+GK31,2)+GX31,0) -> 0 | GR31: 0 | GS31: 3 | GT31: 0 | GV31: =ROUND(GT31,6) -> 0 | GW31: 1 | GX31: =ROUND(GV31*GW31*I31,2) -> 0 | HA31: 0 | HB31: 0 | IK31: 0
A32: 17 | B32: 1 | C32: =ROW(SmtRes!A28) -> 28 | D32: =ROW(EtalonRes!A28) -> 28 | E32: 3 | F32: м10-08-003-03 | G32: Демонтаж:Устройство ультразвуковое, блок питания и контроля | H32: ШТ | I32: 7 | J32: 0 | O32: =ROUND(CP32,2) -> 77.2 | P32: =ROUND(CQ32*I32,2) -> 0 | Q32: =ROUND(CR32*I32,2) -> 0 | R32: =ROUND(CS32*I32,2) -> 0 | S32: =ROUND(CT32*I32,2) -> 77.2 | T32: =ROUND(CU32*I32,2) -> 0 | U32: =CV32*I32 -> 7.56 | V32: =CW32*I32 -> 0 | W32: =ROUND(CX32*I32,2) -> 0 | X32: =ROUND(CY32,2) -> 61.76 | Y32: =ROUND(CZ32,2) -> 46.32 | AA32: 16670159 | AB32: =ROUND((AC32+AD32+AF32),6) -> 11.028 | AC32: =ROUND(((ES32*0)),6) -> 0 | AD32: =ROUND(((((ET32*0.3))-((EU32*0.3)))+AE32),6) -> 0 | AE32: =ROUND(((EU32*0.3)),6) -> 0 | AF32: =ROUND(((EV32*0.3)),6) -> 11.028 | AG32: =ROUND((AP32),6) -> 0 | AH32: =((EW32*0.3)) -> 1.08 | AI32: =((EX32*0.3)) -> 0 | AJ32: =ROUND((AS32),6) -> 0 | AK32: 41.09 | AL32: 4.33 | AM32: 0 | AN32: 0 | AO32: 36.76 | AP32: 0 | AQ32: 3.6 | AR32: 0 | AS32: 0 | AT32: 80 | AU32: 60 | AV32: 1 | AW32: 1 | AZ32: 1 | BA32: 1 | BB32: 1 | BC32: 1 | BH32: 0 | BI32: 2 | BJ32: ФЕРм-2001, м10-08-003-03, приказ Минстроя России №1039/пр от 30.12.2016г. | BM32: 110011 | BN32: 0 | BP32: 0 | BQ32: 3 | BR32: 0 | BS32: 1 | BT32: 1 | BU32: 1 | BV32: 1 | BW32: 1 | BX32: 1 | BZ32: 80 | CA32: 60 | CF32: 0 | CG32: 0 | CM32: 0 | CN32: Поправка: Табл.3, п.4 Наименование: Демонтаж: Оборудование, не пригодное для дальнейшего использования, (предназначено в лом) без разборки и резки | CO32: 0 | CP32: =(P32+Q32+S32) -> 77.2 | CQ32: =AC32*BC32 -> 0 | CR32: =AD32*BB32 -> 0 | CS32: =AE32*BS32 -> 0 | CT32: =AF32*BA32 -> 11.028 | CU32: =AG32 -> 0 | CV32: =AH32 -> 1.08 | CW32: =AI32 -> 0 | CX32: =AJ32 -> 0 | CY32: =(((S32+R32)*AT32)/100) -> 61.76 | CZ32: =(((S32+R32)*AU32)/100) -> 46.32 | DD32: )*0 | DE32: )*0,3 | DF32: )*0,3 | DG32: )*0,3 | DI32: )*0,3 | DJ32: )*0,3 | DN32: 0 | DO32: 0 | DP32: 1 | DQ32: 1 | DU32: 1013 | DV32: ШТ | DW32: ШТ | DX32: 1 | EE32: 16510417 | EF32: 3 | EG32: Монтажные работы | EH32: 0 | EJ32: 2 | EK32: 110011 | EL32: Связь: пожарно-охранная сигнализация и пром. телевиз. установки ( отделы 8 и 9 ) (при устройстве средств посадки самолетов : НР=95%, СП=55% - {АВИА}=1) | EM32: мФЕР-10 | EO32: Поправка: Табл.3, п.4 | EQ32: 0 | ER32: 41.09 | ES32: 4.33 | ET32: 0 | EU32: 0 | EV32: 36.76 | EW32: 3.6 | EX32: 0 | EY32: 0 | FQ32: 0 | FR32: =ROUND(IF(AND(BH32=3,BI32=3),P32,0),2) -> 0 | FS32: 0 | FX32: 80 | FY32: 60 | GD32: 0 | GF32: 114270378 | GG32: 1 | GH32: 1 | GI32: -2 | GJ32: 0 | GK32: =ROUND(R32*(R12)/100,2) -> 0 | GL32: =ROUND(IF(AND(BH32=3,BI32=3,FS32<>0),P32,0),2) -> 0 | GM32: =ROUND(O32+X32+Y32+GK32,2)+GX32 -> 185.28 | GN32: =IF(OR(BI32=0,BI32=1),ROUND(O32+X32+Y32+GK32,2),0) -> 0 | GO32: =IF(BI32=2,ROUND(O32+X32+Y32+GK32,2),0) -> 185.28 | GP32: =IF(BI32=4,ROUND(O32+X32+Y32+GK32,2)+GX32,0) -> 0 | GR32: 0 | GS32: 3 | GT32: 0 | GV32: =ROUND(GT32,6) -> 0 | GW32: 1 | GX32: =ROUND(GV32*GW32*I32,2) -> 0 | HA32: 0 | HB32: 0 | IK32: 0
A33: 17 | B33: 1 | C33: =ROW(SmtRes!A34) -> 34 | D33: =ROW(EtalonRes!A34) -> 34 | E33: 3 | F33: м10-08-003-03 | G33: Демонтаж:Устройство ультразвуковое, блок питания и контроля | H33: ШТ | I33: 7 | J33: 0 | O33: =ROUND(CP33,2) -> 504.09 | P33: =ROUND(CQ33*I33,2) -> 0 | Q33: =ROUND(CR33*I33,2) -> 0 | R33: =ROUND(CS33*I33,2) -> 0 | S33: =ROUND(CT33*I33,2) -> 504.09 | T33: =ROUND(CU33*I33,2) -> 0 | U33: =CV33*I33 -> 7.56 | V33: =CW33*I33 -> 0 | W33: =ROUND(CX33*I33,2) -> 0 | X33: =ROUND(CY33,2) -> 403.27 | Y33: =ROUND(CZ33,2) -> 302.45 | AA33: 16670161 | AB33: =ROUND((AC33+AD33+AF33),6) -> 11.028 | AC33: =ROUND(((ES33*0)),6) -> 0 | AD33: =ROUND(((((ET33*0.3))-((EU33*0.3)))+AE33),6) -> 0 | AE33: =ROUND(((EU33*0.3)),6) -> 0 | AF33: =ROUND(((EV33*0.3)),6) -> 11.028 | AG33: =ROUND((AP33),6) -> 0 | AH33: =((EW33*0.3)) -> 1.08 | AI33: =((EX33*0.3)) -> 0 | AJ33: =ROUND((AS33),6) -> 0 | AK33: 41.09 | AL33: 4.33 | AM33: 0 | AN33: 0 | AO33: 36.76 | AP33: 0 | AQ33: 3.6 | AR33: 0 | AS33: 0 | AT33: 80 | AU33: 60 | AV33: 1 | AW33: 1 | AZ33: 6.53 | BA33: 6.53 | BB33: 6.53 | BC33: 6.53 | BH33: 0 | BI33: 2 | BJ33: ФЕРм-2001, м10-08-003-03, приказ Минстроя России №1039/пр от 30.12.2016г. | BM33: 110011 | BN33: 0 | BP33: 0 | BQ33: 3 | BR33: 0 | BS33: 6.53 | BT33: 1 | BU33: 1 | BV33: 1 | BW33: 1 | BX33: 1 | BZ33: 80 | CA33: 60 | CF33: 0 | CG33: 0 | CM33: 0 | CN33: Поправка: Табл.3, п.4 Наименование: Демонтаж: Оборудование, не пригодное для дальнейшего использования, (предназначено в лом) без разборки и резки | CO33: 0 | CP33: =(P33+Q33+S33) -> 504.09 | CQ33: =AC33*BC33 -> 0 | CR33: =AD33*BB33 -> 0 | CS33: =AE33*BS33 -> 0 | CT33: =AF33*BA33 -> 72.01284 | CU33: =AG33 -> 0 | CV33: =AH33 -> 1.08 | CW33: =AI33 -> 0 | CX33: =AJ33 -> 0 | CY33: =(((S33+R33)*AT33)/100) -> 403.272 | CZ33: =(((S33+R33)*AU33)/100) -> 302.454 | DD33: )*0 | DE33: )*0,3 | DF33: )*0,3 | DG33: )*0,3 | DI33: )*0,3 | DJ33: )*0,3 | DN33: 0 | DO33: 0 | DP33: 1 | DQ33: 1 | DU33: 1013 | DV33: ШТ | DW33: ШТ | DX33: 1 | EE33: 16510417 | EF33: 3 | EG33: Монтажные работы | EH33: 0 | EJ33: 2 | EK33: 110011 | EL33: Связь: пожарно-охранная сигнализация и пром. телевиз. установки ( отделы 8 и 9 ) (при устройстве средств посадки самолетов : НР=95%, СП=55% - {АВИА}=1) | EM33: мФЕР-10 | EO33: Поправка: Табл.3, п.4 | EQ33: 0 | ER33: 41.09 | ES33: 4.33 | ET33: 0 | EU33: 0 | EV33: 36.76 | EW33: 3.6 | EX33: 0 | EY33: 0 | FQ33: 0 | FR33: =ROUND(IF(AND(BH33=3,BI33=3),P33,0),2) -> 0 | FS33: 0 | FX33: 80 | FY33: 60 | GD33: 0 | GF33: 114270378 | GG33: 1 | GH33: 1 | GI33: 4 | GJ33: 0 | GK33: =ROUND(R33*(S12)/100,2) -> 0 | GL33: =ROUND(IF(AND(BH33=3,BI33=3,FS33<>0),P33,0),2) -> 0 | GM33: =ROUND(O33+X33+Y33+GK33,2)+GX33 -> 1209.81 | GN33: =IF(OR(BI33=0,BI33=1),ROUND(O33+X33+Y33+GK33,2),0) -> 0 | GO33: =IF(BI33=2,ROUND(O33+X33+Y33+GK33,2),0) -> 1209.81 | GP33: =IF(BI33=4,ROUND(O33+X33+Y33+GK33,2)+GX33,0) -> 0 | GR33: 0 | GS33: 3 | GT33: 0 | GV33: =ROUND(GT33,6) -> 0 | GW33: 1 | GX33: =ROUND(GV33*GW33*I33,2) -> 0 | HA33: 0 | HB33: 0 | IK33: 0
A34: 17 | B34: 1 | C34: =ROW(SmtRes!A39) -> 39 | D34: =ROW(EtalonRes!A39) -> 39 | E34: 4 | F34: м10-04-101-07 | G34: Демонтаж:Громкоговоритель или звуковая колонка в помещении | H34: ШТ | I34: 204 | J34: 0 | O34: =ROUND(CP34,2) -> 1110.17 | P34: =ROUND(CQ34*I34,2) -> 0 | Q34: =ROUND(CR34*I34,2) -> 0 | R34: =ROUND(CS34*I34,2) -> 0 | S34: =ROUND(CT34*I34,2) -> 1110.17 | T34: =ROUND(CU34*I34,2) -> 0 | U34: =CV34*I34 -> 122.4 | V34: =CW34*I34 -> 0 | W34: =ROUND(CX34*I34,2) -> 0 | X34: =ROUND(CY34,2) -> 1021.36 | Y34: =ROUND(CZ34,2) -> 721.61 | AA34: 16670159 | AB34: =ROUND((AC34+AD34+AF34),6) -> 5.442 | AC34: =ROUND(((ES34*0)),6) -> 0 | AD34: =ROUND(((((ET34*0.3))-((EU34*0.3)))+AE34),6) -> 0 | AE34: =ROUND(((EU34*0.3)),6) -> 0 | AF34: =ROUND(((EV34*0.3)),6) -> 5.442 | AG34: =ROUND((AP34),6) -> 0 | AH34: =((EW34*0.3)) -> 0.6 | AI34: =((EX34*0.3)) -> 0 | AJ34: =ROUND((AS34),6) -> 0 | AK34: 30.77 | AL34: 12.63 | AM34: 0 | AN34: 0 | AO34: 18.14 | AP34: 0 | AQ34: 2 | AR34: 0 | AS34: 0 | AT34: 92 | AU34: 65 | AV34: 1 | AW34: 1 | AZ34: 1 | BA34: 1 | BB34: 1 | BC34: 1 | BH34: 0 | BI34: 2 | BJ34: ФЕРм-2001, м10-04-101-07, приказ Минстроя России №1039/пр от 30.12.2016г. | BM34: 110004 | BN34: 0 | BP34: 0 | BQ34: 3 | BR34: 0 | BS34: 1 | BT34: 1 | BU34: 1 | BV34: 1 | BW34: 1 | BX34: 1 | BZ34: 92 | CA34: 65 | CF34: 0 | CG34: 0 | CM34: 0 | CN34: Поправка: Табл.3, п.4 Наименование: Демонтаж: Оборудование, не пригодное для дальнейшего использования, (предназначено в лом) без разборки и резки | CO34: 0 | CP34: =(P34+Q34+S34) -> 1110.17 | CQ34: =AC34*BC34 -> 0 | CR34: =AD34*BB34 -> 0 | CS34: =AE34*BS34 -> 0 | CT34: =AF34*BA34 -> 5.442 | CU34: =AG34 -> 0 | CV34: =AH34 -> 0.6 | CW34: =AI34 -> 0 | CX34: =AJ34 -> 0 | CY34: =(((S34+R34)*AT34)/100) -> 1021.3564 | CZ34: =(((S34+R34)*AU34)/100) -> 721.6105 | DD34: )*0 | DE34: )*0,3 | DF34: )*0,3 | DG34: )*0,3 | DI34: )*0,3 | DJ34: )*0,3 | DN34: 0 | DO34: 0 | DP34: 1 | DQ34: 1 | DU34: 1013 | DV34: ШТ | DW34: ШТ | DX34: 1 | EE34: 16510374 | EF34: 3 | EG34: Монтажные работы | EH34: 0 | EJ34: 2 | EK34: 110004 | EL34: Связь: монтаж теле- радио оборудования ( отдел 4 и 5 ) - (при устройстве средств посадки самолетов : НР=95%, СП=55% - {АВИА}=1) | EM34: мФЕР-10 | EO34: Поправка: Табл.3, п.4 | EQ34: 0 | ER34: 30.77 | ES34: 12.63 | ET34: 0 | EU34: 0 | EV34: 18.14 | EW34: 2 | EX34: 0 | EY34: 0 | FQ34: 0 | FR34: =ROUND(IF(AND(BH34=3,BI34=3),P34,0),2) -> 0 | FS34: 0 | FX34: 92 | FY34: 65 | GD34: 0 | GF34: -1597645418 | GG34: 1 | GH34: 1 | GI34: -2 | GJ34: 0 | GK34: =ROUND(R34*(R12)/100,2) -> 0 | GL34: =ROUND(IF(AND(BH34=3,BI34=3,FS34<>0),P34,0),2) -> 0 | GM34: =ROUND(O34+X34+Y34+GK34,2)+GX34 -> 2853.14 | GN34: =IF(OR(BI34=0,BI34=1),ROUND(O34+X34+Y34+GK34,2),0) -> 0 | GO34: =IF(BI34=2,ROUND(O34+X34+Y34+GK34,2),0) -> 2853.14 | GP34: =IF(BI34=4,ROUND(O34+X34+Y34+GK34,2)+GX34,0) -> 0 | GR34: 0 | GS34: 3 | GT34: 0 | GV34: =ROUND(GT34,6) -> 0 | GW34: 1 | GX34: =ROUND(GV34*GW34*I34,2) -> 0 | HA34: 0 | HB34: 0 | IK34: 0
A35: 17 | B35: 1 | C35: =ROW(SmtRes!A44) -> 44 | D35: =ROW(EtalonRes!A44) -> 44 | E35: 4 | F35: м10-04-101-07 | G35: Демонтаж:Громкоговоритель или звуковая колонка в помещении | H35: ШТ | I35: 204 | J35: 0 | O35: =ROUND(CP35,2) -> 7249.4 | P35: =ROUND(CQ35*I35,2) -> 0 | Q35: =ROUND(CR35*I35,2) -> 0 | R35: =ROUND(CS35*I35,2) -> 0 | S35: =ROUND(CT35*I35,2) -> 7249.4 | T35: =ROUND(CU35*I35,2) -> 0 | U35: =CV35*I35 -> 122.4 | V35: =CW35*I35 -> 0 | W35: =ROUND(CX35*I35,2) -> 0 | X35: =ROUND(CY35,2) -> 6669.45 | Y35: =ROUND(CZ35,2) -> 4712.11 | AA35: 16670161 | AB35: =ROUND((AC35+AD35+AF35),6) -> 5.442 | AC35: =ROUND(((ES35*0)),6) -> 0 | AD35: =ROUND(((((ET35*0.3))-((EU35*0.3)))+AE35),6) -> 0 | AE35: =ROUND(((EU35*0.3)),6) -> 0 | AF35: =ROUND(((EV35*0.3)),6) -> 5.442 | AG35: =ROUND((AP35),6) -> 0 | AH35: =((EW35*0.3)) -> 0.6 | AI35: =((EX35*0.3)) -> 0 | AJ35: =ROUND((AS35),6) -> 0 | AK35: 30.77 | AL35: 12.63 | AM35: 0 | AN35: 0 | AO35: 18.14 | AP35: 0 | AQ35: 2 | AR35: 0 | AS35: 0 | AT35: 92 | AU35: 65 | AV35: 1 | AW35: 1 | AZ35: 6.53 | BA35: 6.53 | BB35: 6.53 | BC35: 6.53 | BH35: 0 | BI35: 2 | BJ35: ФЕРм-2001, м10-04-101-07, приказ Минстроя России №1039/пр от 30.12.2016г. | BM35: 110004 | BN35: 0 | BP35: 0 | BQ35: 3 | BR35: 0 | BS35: 6.53 | BT35: 1 | BU35: 1 | BV35: 1 | BW35: 1 | BX35: 1 | BZ35: 92 | CA35: 65 | CF35: 0 | CG35: 0 | CM35: 0 | CN35: Поправка: Табл.3, п.4 Наименование: Демонтаж: Оборудование, не пригодное для дальнейшего использования, (предназначено в лом) без разборки и резки | CO35: 0 | CP35: =(P35+Q35+S35) -> 7249.4 | CQ35: =AC35*BC35 -> 0 | CR35: =AD35*BB35 -> 0 | CS35: =AE35*BS35 -> 0 | CT35: =AF35*BA35 -> 35.53626 | CU35: =AG35 -> 0 | CV35: =AH35 -> 0.6 | CW35: =AI35 -> 0 | CX35: =AJ35 -> 0 | CY35: =(((S35+R35)*AT35)/100) -> 6669.448 | CZ35: =(((S35+R35)*AU35)/100) -> 4712.11 | DD35: )*0 | DE35: )*0,3 | DF35: )*0,3 | DG35: )*0,3 | DI35: )*0,3 | DJ35: )*0,3 | DN35: 0 | DO35: 0 | DP35: 1 | DQ35: 1 | DU35: 1013 | DV35: ШТ | DW35: ШТ | DX35: 1 | EE35: 16510374 | EF35: 3 | EG35: Монтажные работы | EH35: 0 | EJ35: 2 | EK35: 110004 | EL35: Связь: монтаж теле- радио оборудования ( отдел 4 и 5 ) - (при устройстве средств посадки самолетов : НР=95%, СП=55% - {АВИА}=1) | EM35: мФЕР-10 | EO35: Поправка: Табл.3, п.4 | EQ35: 0 | ER35: 30.77 | ES35: 12.63 | ET35: 0 | EU35: 0 | EV35: 18.14 | EW35: 2 | EX35: 0 | EY35: 0 | FQ35: 0 | FR35: =ROUND(IF(AND(BH35=3,BI35=3),P35,0),2) -> 0 | FS35: 0 | FX35: 92 | FY35: 65 | GD35: 0 | GF35: -1597645418 | GG35: 1 | GH35: 1 | GI35: 4 | GJ35: 0 | GK35: =ROUND(R35*(S12)/100,2) -> 0 | GL35: =ROUND(IF(AND(BH35=3,BI35=3,FS35<>0),P35,0),2) -> 0 | GM35: =ROUND(O35+X35+Y35+GK35,2)+GX35 -> 18630.96 | GN35: =IF(OR(BI35=0,BI35=1),ROUND(O35+X35+Y35+GK35,2),0) -> 0 | GO35: =IF(BI35=2,ROUND(O35+X35+Y35+GK35,2),0) -> 18630.96 | GP35: =IF(BI35=4,ROUND(O35+X35+Y35+GK35,2)+GX35,0) -> 0 | GR35: 0 | GS35: 3 | GT35: 0 | GV35: =ROUND(GT35,6) -> 0 | GW35: 1 | GX35: =ROUND(GV35*GW35*I35,2) -> 0 | HA35: 0 | HB35: 0 | IK35: 0
A36: 17 | B36: 1 | C36: =ROW(SmtRes!A47) -> 47 | D36: =ROW(EtalonRes!A47) -> 47 | E36: 5 | F36: 67-3-1 | G36: Демонтаж кабеля | H36: 100 м | I36: =ROUND(11675/100,9) -> 116.75 | J36: 0 | O36: =ROUND(CP36,2) -> 8814.62 | P36: =ROUND(CQ36*I36,2) -> 0 | Q36: =ROUND(CR36*I36,2) -> 36.19 | R36: =ROUND(CS36*I36,2) -> 16.35 | S36: =ROUND(CT36*I36,2) -> 8778.43 | T36: =ROUND(CU36*I36,2) -> 0 | U36: =CV36*I36 -> 1125.47 | V36: =CW36*I36 -> 1.1675 | W36: =ROUND(CX36*I36,2) -> 0 | X36: =ROUND(CY36,2) -> 7475.56 | Y36: =ROUND(CZ36,2) -> 5716.61 | AA36: 16670159 | AB36: =ROUND((AC36+AD36+AF36),6) -> 75.5 | AC36: =ROUND((ES36),6) -> 0 | AD36: =ROUND((((ET36)-(EU36))+AE36),6) -> 0.31 | AE36: =ROUND((EU36),6) -> 0.14 | AF36: =ROUND((EV36),6) -> 75.19 | AG36: =ROUND((AP36),6) -> 0 | AH36: =(EW36) -> 9.64 | AI36: =(EX36) -> 0.01 | AJ36: =ROUND((AS36),6) -> 0 | AK36: 75.5 | AL36: 0 | AM36: 0.31 | AN36: 0.14 | AO36: 75.19 | AP36: 0 | AQ36: 9.64 | AR36: 0.01 | AS36: 0 | AT36: 85 | AU36: 65 | AV36: 1 | AW36: 1 | AZ36: 1 | BA36: 1 | BB36: 1 | BC36: 1 | BH36: 0 | BI36: 1 | BJ36: ФЕРр-2001, 67-3-1, приказ Минстроя России №1039/пр от 30.12.2016г. | BM36: 67001 | BN36: 0 | BP36: 0 | BQ36: 6 | BR36: 0 | BS36: 1 | BT36: 1 | BU36: 1 | BV36: 1 | BW36: 1 | BX36: 1 | BZ36: 85 | CA36: 65 | CF36: 0 | CG36: 0 | CM36: 0 | CO36: 0 | CP36: =(P36+Q36+S36) -> 8814.62 | CQ36: =AC36*BC36 -> 0 | CR36: =AD36*BB36 -> 0.31 | CS36: =AE36*BS36 -> 0.14 | CT36: =AF36*BA36 -> 75.19 | CU36: =AG36 -> 0 | CV36: =AH36 -> 9.64 | CW36: =AI36 -> 0.01 | CX36: =AJ36 -> 0 | CY36: =(((S36+R36)*AT36)/100) -> 7475.563 | CZ36: =(((S36+R36)*AU36)/100) -> 5716.607 | DN36: 0 | DO36: 0 | DP36: 1 | DQ36: 1 | DU36: 1003 | DV36: 100 м | DW36: 100 м | DX36: 100 | EE36: 16510612 | EF36: 6 | EG36: Ремонтно-строительные работы | EH36: 0 | EJ36: 1 | EK36: 67001 | EL36: Электромонтажные работы | EM36: рФЕР-67 | EQ36: 0 | ER36: 75.5 | ES36: 0 | ET36: 0.31 | EU36: 0.14 | EV36: 75.19 | EW36: 9.64 | EX36: 0.01 | EY36: 0 | FQ36: 0 | FR36: =ROUND(IF(AND(BH36=3,BI36=3),P36,0),2) -> 0 | FS36: 0 | FX36: 85 | FY36: 65 | GD36: 0 | GF36: 994189354 | GG36: 1 | GH36: 1 | GI36: -2 | GJ36: 0 | GK36: =ROUND(R36*(R12)/100,2) -> 0 | GL36: =ROUND(IF(AND(BH36=3,BI36=3,FS36<>0),P36,0),2) -> 0 | GM36: =ROUND(O36+X36+Y36+GK36,2)+GX36 -> 22006.79 | GN36: =IF(OR(BI36=0,BI36=1),ROUND(O36+X36+Y36+GK36,2),0) -> 22006.79 | GO36: =IF(BI36=2,ROUND(O36+X36+Y36+GK36,2),0) -> 0 | GP36: =IF(BI36=4,ROUND(O36+X36+Y36+GK36,2)+GX36,0) -> 0 | GR36: 0 | GS36: 3 | GT36: 0 | GV36: =ROUND(GT36,6) -> 0 | GW36: 1 | GX36: =ROUND(GV36*GW36*I36,2) -> 0 | HA36: 0 | HB36: 0 | IK36: 0
A37: 17 | B37: 1 | C37: =ROW(SmtRes!A50) -> 50 | D37: =ROW(EtalonRes!A50) -> 50 | E37: 5 | F37: 67-3-1 | G37: Демонтаж кабеля | H37: 100 м | I37: =ROUND(11675/100,9) -> 116.75 | J37: 0 | O37: =ROUND(CP37,2) -> 57559.5 | P37: =ROUND(CQ37*I37,2) -> 0 | Q37: =ROUND(CR37*I37,2) -> 236.34 | R37: =ROUND(CS37*I37,2) -> 106.73 | S37: =ROUND(CT37*I37,2) -> 57323.16 | T37: =ROUND(CU37*I37,2) -> 0 | U37: =CV37*I37 -> 1125.47 | V37: =CW37*I37 -> 1.1675 | W37: =ROUND(CX37*I37,2) -> 0 | X37: =ROUND(CY37,2) -> 48815.41 | Y37: =ROUND(CZ37,2) -> 37329.43 | AA37: 16670161 | AB37: =ROUND((AC37+AD37+AF37),6) -> 75.5 | AC37: =ROUND((ES37),6) -> 0 | AD37: =ROUND((((ET37)-(EU37))+AE37),6) -> 0.31 | AE37: =ROUND((EU37),6) -> 0.14 | AF37: =ROUND((EV37),6) -> 75.19 | AG37: =ROUND((AP37),6) -> 0 | AH37: =(EW37) -> 9.64 | AI37: =(EX37) -> 0.01 | AJ37: =ROUND((AS37),6) -> 0 | AK37: 75.5 | AL37: 0 | AM37: 0.31 | AN37: 0.14 | AO37: 75.19 | AP37: 0 | AQ37: 9.64 | AR37: 0.01 | AS37: 0 | AT37: 85 | AU37: 65 | AV37: 1 | AW37: 1 | AZ37: 6.53 | BA37: 6.53 | BB37: 6.53 | BC37: 6.53 | BH37: 0 | BI37: 1 | BJ37: ФЕРр-2001, 67-3-1, приказ Минстроя России №1039/пр от 30.12.2016г. | BM37: 67001 | BN37: 0 | BP37: 0 | BQ37: 6 | BR37: 0 | BS37: 6.53 | BT37: 1 | BU37: 1 | BV37: 1 | BW37: 1 | BX37: 1 | BZ37: 85 | CA37: 65 | CF37: 0 | CG37: 0 | CM37: 0 | CO37: 0 | CP37: =(P37+Q37+S37) -> 57559.5 | CQ37: =AC37*BC37 -> 0 | CR37: =AD37*BB37 -> 2.0243 | CS37: =AE37*BS37 -> 0.9142 | CT37: =AF37*BA37 -> 490.9907 | CU37: =AG37 -> 0 | CV37: =AH37 -> 9.64 | CW37: =AI37 -> 0.01 | CX37: =AJ37 -> 0 | CY37: =(((S37+R37)*AT37)/100) -> 48815.407 | CZ37: =(((S37+R37)*AU37)/100) -> 37329.429 | DN37: 0 | DO37: 0 | DP37: 1 | DQ37: 1 | DU37: 1003 | DV37: 100 м | DW37: 100 м | DX37: 100 | EE37: 16510612 | EF37: 6 | EG37: Ремонтно-строительные работы | EH37: 0 | EJ37: 1 | EK37: 67001 | EL37: Электромонтажные работы | EM37: рФЕР-67 | EQ37: 0 | ER37: 75.5 | ES37: 0 | ET37: 0.31 | EU37: 0.14 | EV37: 75.19 | EW37: 9.64 | EX37: 0.01 | EY37: 0 | FQ37: 0 | FR37: =ROUND(IF(AND(BH37=3,BI37=3),P37,0),2) -> 0 | FS37: 0 | FX37: 85 | FY37: 65 | GD37: 0 | GF37: 994189354 | GG37: 1 | GH37: 1 | GI37: 4 | GJ37: 0 | GK37: =ROUND(R37*(S12)/100,2) -> 0 | GL37: =ROUND(IF(AND(BH37=3,BI37=3,FS37<>0),P37,0),2) -> 0 | GM37: =ROUND(O37+X37+Y37+GK37,2)+GX37 -> 143704.34 | GN37: =IF(OR(BI37=0,BI37=1),ROUND(O37+X37+Y37+GK37,2),0) -> 143704.34 | GO37: =IF(BI37=2,ROUND(O37+X37+Y37+GK37,2),0) -> 0 | GP37: =IF(BI37=4,ROUND(O37+X37+Y37+GK37,2)+GX37,0) -> 0 | GR37: 0 | GS37: 3 | GT37: 0 | GV37: =ROUND(GT37,6) -> 0 | GW37: 1 | GX37: =ROUND(GV37*GW37*I37,2) -> 0 | HA37: 0 | HB37: 0 | IK37: 0
A39: 51 | B39: =B24 -> 1 | C39: =A24 -> 4 | D39: =ROW(A24) -> 24 | F39: =IF(F24<>"",F24,"") -> Новый раздел | G39: =IF(G24<>"",G24,"") -> Раздел 1 Демонтажные работы | H39: 0 | O39: =ROUND(AB39,2) -> 11947.41 | P39: =ROUND(AC39,2) -> 0 | Q39: =ROUND(AD39,2) -> 36.19 | R39: =ROUND(AE39,2) -> 16.35 | S39: =ROUND(AF39,2) -> 11911.22 | T39: =ROUND(AG39,2) -> 0 | U39: =AH39 -> 1457.516 | V39: =AI39 -> 1.1675 | W39: =ROUND(AJ39,2) -> 0 | X39: =ROUND(AK39,2) -> 10115.02 | Y39: =ROUND(AL39,2) -> 7651.8 | AB39: =ROUND(SUMIF(AA28:AA37,"=16670159",O28:O37),2) -> 11947.41 | AC39: =ROUND(SUMIF(AA28:AA37,"=16670159",P28:P37),2) -> 0 | AD39: =ROUND(SUMIF(AA28:AA37,"=16670159",Q28:Q37),2) -> 36.19 | AE39: =ROUND(SUMIF(AA28:AA37,"=16670159",R28:R37),2) -> 16.35 | AF39: =ROUND(SUMIF(AA28:AA37,"=16670159",S28:S37),2) -> 11911.22 | AG39: =ROUND(SUMIF(AA28:AA37,"=16670159",T28:T37),2) -> 0 | AH39: =SUMIF(AA28:AA37,"=16670159",U28:U37) -> 1457.516 | AI39: =SUMIF(AA28:AA37,"=16670159",V28:V37) -> 1.1675 | AJ39: =ROUND(SUMIF(AA28:AA37,"=16670159",W28:W37),2) -> 0 | AK39: =ROUND(SUMIF(AA28:AA37,"=16670159",X28:X37),2) -> 10115.02 | AL39: =ROUND(SUMIF(AA28:AA37,"=16670159",Y28:Y37),2) -> 7651.8 | AO39: =ROUND(BX39,2) -> 0 | AP39: =ROUND(BY39,2) -> 0 | AQ39: =ROUND(BZ39,2) -> 0 | AR39: =ROUND(CA39,2) -> 29714.23 | AS39: =ROUND(CB39,2) -> 22006.79 | AT39: =ROUND(CC39,2) -> 7707.44 | AU39: =ROUND(CD39,2) -> 0 | AV39: =ROUND(CE39,2) -> 0 | ... BC39: =ROUND(CL39,2) -> 0 | BX39: =ROUND(SUMIF(AA28:AA37,"=16670159",FQ28:FQ37),2) -> 0 | BY39: =ROUND(SUMIF(AA28:AA37,"=16670159",FR28:FR37),2) -> 0 | BZ39: =ROUND(SUMIF(AA28:AA37,"=16670159",GL28:GL37),2) -> 0 | CA39: =ROUND(SUMIF(AA28:AA37,"=16670159",GM28:GM37),2) -> 29714.23 | CB39: =ROUND(SUMIF(AA28:AA37,"=16670159",GN28:GN37),2) -> 22006.79 | CC39: =ROUND(SUMIF(AA28:AA37,"=16670159",GO28:GO37),2) -> 7707.44 | CD39: =ROUND(SUMIF(AA28:AA37,"=16670159",GP28:GP37),2) -> 0 | CE39: =AC39-BX39 -> 0 | CF39: =AC39-BY39 -> 0 | CG39: =BX39-BZ39 -> 0 | CH39: =AC39-BX39-BY39+BZ39 -> 0 | CI39: =BY39-BZ39 -> 0 | CJ39: =ROUND(SUMIF(AA28:AA37,"=16670159",GX28:GX37),2) -> 0 | CK39: =ROUND(SUMIF(AA28:AA37,"=16670159",GY28:GY37),2) -> 0 | CL39: =ROUND(SUMIF(AA28:AA37,"=16670159",GZ28:GZ37),2) -> 0 | DG39: =ROUND(DT39,2) -> 78016.59 | DH39: =ROUND(DU39,2) -> 0 | DI39: =ROUND(DV39,2) -> 236.34 | DJ39: =ROUND(DW39,2) -> 106.73 | DK39: =ROUND(DX39,2) -> 77780.25 | DL39: =ROUND(DY39,2) -> 0 | DM39: =DZ39 -> 1457.516 | DN39: =EA39 -> 1.1675 | DO39: =ROUND(EB39,2) -> 0 | DP39: =ROUND(EC39,2) -> 66051.01 | DQ39: =ROUND(ED39,2) -> 49966.15 | DT39: =ROUND(SUMIF(AA28:AA37,"=16670161",O28:O37),2) -> 78016.59 | DU39: =ROUND(SUMIF(AA28:AA37,"=16670161",P28:P37),2) -> 0 | DV39: =ROUND(SUMIF(AA28:AA37,"=16670161",Q28:Q37),2) -> 236.34 | DW39: =ROUND(SUMIF(AA28:AA37,"=16670161",R28:R37),2) -> 106.73 | DX39: =ROUND(SUMIF(AA28:AA37,"=16670161",S28:S37),2) -> 77780.25 | DY39: =ROUND(SUMIF(AA28:AA37,"=16670161",T28:T37),2) -> 0 | DZ39: =SUMIF(AA28:AA37,"=16670161",U28:U37) -> 1457.516 | EA39: =SUMIF(AA28:AA37,"=16670161",V28:V37) -> 1.1675 | EB39: =ROUND(SUMIF(AA28:AA37,"=16670161",W28:W37),2) -> 0 | EC39: =ROUND(SUMIF(AA28:AA37,"=16670161",X28:X37),2) -> 66051.01 | ED39: =ROUND(SUMIF(AA28:AA37,"=16670161",Y28:Y37),2) -> 49966.15 | EG39: =ROUND(FP39,2) -> 0 | EH39: =ROUND(FQ39,2) -> 0 | EI39: =ROUND(FR39,2) -> 0 | EJ39: =ROUND(FS39,2) -> 194033.75 | EK39: =ROUND(FT39,2) -> 143704.34 | EL39: =ROUND(FU39,2) -> 50329.41 | EM39: =ROUND(FV39,2) -> 0 | EN39: =ROUND(FW39,2) -> 0 | ... EU39: =ROUND(GD39,2) -> 0 | FP39: =ROUND(SUMIF(AA28:AA37,"=16670161",FQ28:FQ37),2) -> 0 | FQ39: =ROUND(SUMIF(AA28:AA37,"=16670161",FR28:FR37),2) -> 0 | FR39: =ROUND(SUMIF(AA28:AA37,"=16670161",GL28:GL37),2) -> 0 | FS39: =ROUND(SUMIF(AA28:AA37,"=16670161",GM28:GM37),2) -> 194033.75 | FT39: =ROUND(SUMIF(AA28:AA37,"=16670161",GN28:GN37),2) -> 143704.34 | FU39: =ROUND(SUMIF(AA28:AA37,"=16670161",GO28:GO37),2) -> 50329.41 | FV39: =ROUND(SUMIF(AA28:AA37,"=16670161",GP28:GP37),2) -> 0 | FW39: =DU39-FP39 -> 0 | FX39: =DU39-FQ39 -> 0 | FY39: =FP39-FR39 -> 0 | FZ39: =DU39-FP39-FQ39+FR39 -> 0 | GA39: =FQ39-FR39 -> 0 | GB39: =ROUND(SUMIF(AA28:AA37,"=16670161",GX28:GX37),2) -> 0 | GC39: =ROUND(SUMIF(AA28:AA37,"=16670161",GY28:GY37),2) -> 0 | GD39: =ROUND(SUMIF(AA28:AA37,"=16670161",GZ28:GZ37),2) -> 0 | GX39: 0
A41: 50 | B41: 0 | C41: 0 | D41: 1 | E41: 201 | F41: =ROUND(Source!O39,O41) -> 11947.41 | G41: ПЗ | H41: Прямые затраты | K41: 201 | L41: 1 | M41: 3 | O41: 2 | P41: =ROUND(Source!DG39,O41) -> 78016.59
A42: 50 | B42: 0 | C42: 0 | D42: 1 | E42: 202 | F42: =ROUND(Source!P39,O42) -> 0 | G42: СтМатОб | H42: Стоимость материальных ресурсов (всего) | K42: 202 | L42: 2 | M42: 3 | O42: 2 | P42: =ROUND(Source!DH39,O42) -> 0
A43: 50 | B43: 0 | C43: 0 | D43: 1 | E43: 222 | F43: =ROUND(Source!AO39,O43) -> 0 | G43: СтМатОбЗак | H43: Стоимость материалов и оборудования заказчика | K43: 222 | L43: 3 | M43: 3 | O43: 2 | P43: =ROUND(Source!EG39,O43) -> 0
A44: 50 | B44: 0 | C44: 0 | D44: 1 | E44: 225 | F44: =ROUND(Source!AV39,O44) -> 0 | G44: СтМатОбПод | H44: Стоимость материалов и оборудования подрядчика | K44: 225 | L44: 4 | M44: 3 | O44: 2 | P44: =ROUND(Source!EN39,O44) -> 0
A45: 50 | B45: 0 | C45: 0 | D45: 1 | E45: 226 | F45: =ROUND(Source!AW39,O45) -> 0 | G45: СтМат | H45: Стоимость материалов (всего) | K45: 226 | L45: 5 | M45: 3 | O45: 2 | P45: =ROUND(Source!EO39,O45) -> 0
A46: 50 | B46: 0 | C46: 0 | D46: 1 | E46: 227 | F46: =ROUND(Source!AX39,O46) -> 0 | G46: СтМатЗак | H46: Стоимость материалов заказчика | K46: 227 | L46: 6 | M46: 3 | O46: 2 | P46: =ROUND(Source!EP39,O46) -> 0
A47: 50 | B47: 0 | C47: 0 | D47: 1 | E47: 228 | F47: =ROUND(Source!AY39,O47) -> 0 | G47: СтМатПод | H47: Стоимость материалов подрядчика | K47: 228 | L47: 7 | M47: 3 | O47: 2 | P47: =ROUND(Source!EQ39,O47) -> 0
A48: 50 | B48: 0 | C48: 0 | D48: 1 | E48: 216 | F48: =ROUND(Source!AP39,O48) -> 0 | G48: Оборуд | H48: Стоимость оборудования (всего) | K48: 216 | L48: 8 | M48: 3 | O48: 2 | P48: =ROUND(Source!EH39,O48) -> 0
A49: 50 | B49: 0 | C49: 0 | D49: 1 | E49: 223 | F49: =ROUND(Source!AQ39,O49) -> 0 | G49: ОборудЗак | H49: Стоимость оборудования заказчика | K49: 223 | L49: 9 | M49: 3 | O49: 2 | P49: =ROUND(Source!EI39,O49) -> 0
A50: 50 | B50: 0 | C50: 0 | D50: 1 | E50: 229 | F50: =ROUND(Source!AZ39,O50) -> 0 | G50: ОборудПод | H50: Стоимость оборудования подрядчика | K50: 229 | L50: 10 | M50: 3 | O50: 2 | P50: =ROUND(Source!ER39,O50) -> 0
A51: 50 | B51: 0 | C51: 0 | D51: 1 | E51: 203 | F51: =ROUND(Source!Q39,O51) -> 36.19 | G51: ЭММ | H51: Эксплуатация машин | K51: 203 | L51: 11 | M51: 3 | O51: 2 | P51: =ROUND(Source!DI39,O51) -> 236.34
A52: 50 | B52: 0 | C52: 0 | D52: 1 | E52: 231 | F52: =ROUND(Source!BB39,O52) -> 0 | G52: ЭММсНРиСП | H52: Эксплуатация машин по ТСН-2001.16 | K52: 231 | L52: 12 | M52: 3 | O52: 2 | P52: =ROUND(Source!ET39,O52) -> 0
A53: 50 | B53: 0 | C53: 0 | D53: 1 | E53: 204 | F53: =ROUND(Source!R39,O53) -> 16.35 | G53: ЗПМ | H53: ЗП машинистов | K53: 204 | L53: 13 | M53: 3 | O53: 2 | P53: =ROUND(Source!DJ39,O53) -> 106.73
A54: 50 | B54: 0 | C54: 0 | D54: 1 | E54: 205 | F54: =ROUND(Source!S39,O54) -> 11911.22 | G54: ОЗП | H54: Основная ЗП рабочих | K54: 205 | L54: 14 | M54: 3 | O54: 2 | P54: =ROUND(Source!DK39,O54) -> 77780.25
A55: 50 | B55: 0 | C55: 0 | D55: 1 | E55: 232 | F55: =ROUND(Source!BC39,O55) -> 0 | G55: ОЗПсНРиСП | H55: Основная ЗП рабочих по ТСН-2001.16 | K55: 232 | L55: 15 | M55: 3 | O55: 2 | P55: =ROUND(Source!EU39,O55) -> 0
A56: 50 | B56: 0 | C56: 0 | D56: 1 | E56: 214 | F56: =ROUND(Source!AS39,O56) -> 22006.79 | G56: Строит | H56: Строительные работы с НР и СП | K56: 214 | L56: 16 | M56: 3 | O56: 2 | P56: =ROUND(Source!EK39,O56) -> 143704.34
A57: 50 | B57: 0 | C57: 0 | D57: 1 | E57: 215 | F57: =ROUND(Source!AT39,O57) -> 7707.44 | G57: Монтаж | H57: Монтажные работы с НР и СП | K57: 215 | L57: 17 | M57: 3 | O57: 2 | P57: =ROUND(Source!EL39,O57) -> 50329.41
A58: 50 | B58: 0 | C58: 0 | D58: 1 | E58: 217 | F58: =ROUND(Source!AU39,O58) -> 0 | G58: Прочие | H58: Прочие работы с НР и СП | K58: 217 | L58: 18 | M58: 3 | O58: 2 | P58: =ROUND(Source!EM39,O58) -> 0
A59: 50 | B59: 0 | C59: 0 | D59: 1 | E59: 230 | F59: =ROUND(Source!BA39,O59) -> 0 | G59: ПрочиеЗатр | H59: Прочие затраты по ТСН-2001.16 | K59: 230 | L59: 19 | M59: 3 | O59: 2 | P59: =ROUND(Source!ES39,O59) -> 0
A60: 50 | B60: 0 | C60: 0 | D60: 1 | E60: 206 | F60: =ROUND(Source!T39,O60) -> 0 | G60: ВозврМат | H60: Возврат материалов | K60: 206 | L60: 20 | M60: 3 | O60: 2 | P60: =ROUND(Source!DL39,O60) -> 0
A61: 50 | B61: 0 | C61: 0 | D61: 1 | E61: 207 | F61: =Source!U39 -> 1457.516 | G61: ТрудСтр | H61: Трудозатраты строителей | K61: 207 | L61: 21 | M61: 3 | O61: -1 | P61: =Source!DM39 -> 1457.516
...

Sheet SourceObSm
A1: 0 | B1: Smeta.RU (495) 974-1589 | D1: _OBSM_ | F1: 0 | G1: 0 | H1: 0 | I1: Smeta.RU | J1: НИЯУ МИФИ Доп. раб. место MCCS-0027251 | K1: 0 | L1: 27251 | M1: 10
A12: 1 | B12: 53 | C12: 0 | E12: 0 | F12: Новый объект_(Копия) | G12: Капитальный ремонт системы пожарки учебного корпуса НИЯУ МИФИ , Каширка, 64_РОСАТОМ | I12: 0 | K12: 0 | O12: 0 | P12: 0 | Q12: 0 | R12: 0 | S12: 0 | V12: 0 | BH12: Сметные нормы списания | BI12: Коды ценников | BJ12: 1 | BK12: 1 | BL12: 0 | BM12: 0 | BN12: 1 | BO12: 0 | BP12: 6 | BQ12: 2 | BR12: 1 | BS12: 1 | BT12: 0 | BU12: 0 | BV12: 0 | BW12: 0 | BX12: 0 | BY12: ФЕР-2017 | BZ12: ТР для Версии 10: Центральные регионы (с учетом п-ма 2536-ИП/12/ГС от 22.03.2017 г | CA12: ФЕР-2017 | CB12: ФЕР-2017 | CC12: ФЕР-2017 | CD12: ФЕР-2017 | CE12: Поправки для ГСН 2017 от 31.03.2017 г | CF12: 0 | CG12: 0 | CH12: 524296 | CK12: 4 | EC12: 0
A14: 22 | B14: 0 | C14: 0 | D14: 16670159 | E14: 16670161 | F14: 3
A16: 3 | B16: 1 | C16: Новая локальная смета | D16: Новая локальная смета | E16: =(Source!F379)/1000 -> 22.00679 | F16: =(Source!F380)/1000 -> 224.78455 | G16: =(Source!F371)/1000 -> 0 | H16: =(Source!F381)/1000+(Source!F382)/1000 -> 2.51206 | I16: =E16+F16+G16+H16 -> 249.3034 | J16: =(Source!F377)/1000 -> 43.01454 | T16: =(Source!P379)/1000 -> 143.70434 | U16: =(Source!P380)/1000 -> 2371.9587 | V16: =(Source!P371)/1000 -> 0 | W16: =(Source!P381)/1000+(Source!P382)/1000 -> 47.3522 | X16: =T16+U16+V16+W16 -> 2563.0152 | Y16: =(Source!P377)/1000 -> 295.98184 | AI16: 0 | AJ16: 0 | AN16: 0 | AT16: 184306.15 | AU16: 140721.82 | AV16: 0 | AW16: 0 | AX16: 0 | AY16: 569.79 | AZ16: 90.5 | BA16: 43014.54 | BB16: 22006.79 | BC16: 224784.55 | BD16: 2512.06 | BE16: 0 | BF16: 4787.303 | BG16: 7.1575 | BH16: 0 | BI16: 37783.91 | BJ16: 27213.34 | BK16: 294178.01 | BR16: 2122731.6 | BS16: 1823029.1 | BT16: 0 | BU16: 0 | BV16: 0 | BW16: 3720.75 | BX16: 590.9 | BY16: 295981.84 | BZ16: 143704.34 | CA16: 2371958.7 | CB16: 47352.2 | CC16: 0 | CD16: 4787.303 | CE16: 7.1575 | CF16: 0 | CG16: 256541.75 | CH16: 183741.82 | CI16: 3024358
A18: 51 | E18: =SUMIF(A16:A17,3,E16:E17) -> 22.00679 | F18: =SUMIF(A16:A17,3,F16:F17) -> 224.78455 | G18: =SUMIF(A16:A17,3,G16:G17) -> 0 | H18: =SUMIF(A16:A17,3,H16:H17) -> 2.51206 | I18: =SUMIF(A16:A17,3,I16:I17) -> 249.3034 | J18: =SUMIF(A16:A17,3,J16:J17) -> 43.01454 | T18: =SUMIF(A16:A17,3,T16:T17) -> 143.70434 | U18: =SUMIF(A16:A17,3,U16:U17) -> 2371.9587 | V18: =SUMIF(A16:A17,3,V16:V17) -> 0 | W18: =SUMIF(A16:A17,3,W16:W17) -> 47.3522 | X18: =SUMIF(A16:A17,3,X16:X17) -> 2563.0152 | Y18: =SUMIF(A16:A17,3,Y16:Y17) -> 295.98184
A20: 50 | B20: 0 | C20: 0 | D20: 1 | E20: 201 | F20: 184306.15 | G20: ПЗ | H20: Прямые затраты | K20: 201 | L20: 1 | M20: 3 | O20: 2 | P20: 2122731.6
A21: 50 | B21: 0 | C21: 0 | D21: 1 | E21: 202 | F21: 140721.82 | G21: СтМатОб | H21: Стоимость материальных ресурсов (всего) | K21: 202 | L21: 2 | M21: 3 | O21: 2 | P21: 1823029.1
A22: 50 | B22: 0 | C22: 0 | D22: 1 | E22: 222 | F22: 0 | G22: СтМатОбЗак | H22: Стоимость материалов и оборудования заказчика | K22: 222 | L22: 3 | M22: 3 | O22: 2 | P22: 0
A23: 50 | B23: 0 | C23: 0 | D23: 1 | E23: 225 | F23: 140721.82 | G23: СтМатОбПод | H23: Стоимость материалов и оборудования подрядчика | K23: 225 | L23: 4 | M23: 3 | O23: 2 | P23: 1823029.1
A24: 50 | B24: 0 | C24: 0 | D24: 1 | E24: 226 | F24: 140721.82 | G24: СтМат | H24: Стоимость материалов (всего) | K24: 226 | L24: 5 | M24: 3 | O24: 2 | P24: 1823029.1
A25: 50 | B25: 0 | C25: 0 | D25: 1 | E25: 227 | F25: 0 | G25: СтМатЗак | H25: Стоимость материалов заказчика | K25: 227 | L25: 6 | M25: 3 | O25: 2 | P25: 0
A26: 50 | B26: 0 | C26: 0 | D26: 1 | E26: 228 | F26: 140721.82 | G26: СтМатПод | H26: Стоимость материалов подрядчика | K26: 228 | L26: 7 | M26: 3 | O26: 2 | P26: 1823029.1
A27: 50 | B27: 0 | C27: 0 | D27: 1 | E27: 216 | F27: 0 | G27: Оборуд | H27: Стоимость оборудования (всего) | K27: 216 | L27: 8 | M27: 3 | O27: 2 | P27: 0
A28: 50 | B28: 0 | C28: 0 | D28: 1 | E28: 223 | F28: 0 | G28: ОборудЗак | H28: Стоимость оборудования заказчика | K28: 223 | L28: 9 | M28: 3 | O28: 2 | P28: 0
A29: 50 | B29: 0 | C29: 0 | D29: 1 | E29: 229 | F29: 0 | G29: ОборудПод | H29: Стоимость оборудования подрядчика | K29: 229 | L29: 10 | M29: 3 | O29: 2 | P29: 0
A30: 50 | B30: 0 | C30: 0 | D30: 1 | E30: 203 | F30: 569.79 | G30: ЭММ | H30: Эксплуатация машин | K30: 203 | L30: 11 | M30: 3 | O30: 2 | P30: 3720.75
A31: 50 | B31: 0 | C31: 0 | D31: 1 | E31: 231 | F31: 0 | G31: ЭММсНРиСП | H31: Эксплуатация машин по ТСН-2001.16 | K31: 231 | L31: 12 | M31: 3 | O31: 2 | P31: 0
... A48: 50 | B48: 1 | C48: 0 | D48: 2 | E48: 224 | F48: 294178.01 | G48: Итого 3 | H48: Всего по смете | K48: 212 | L48: 29 | M48: 0 | O48: 2 | P48: 3024358
A50: -1
A53: 75 | B53: Базовый | C53: 2000 | D53: 0 | E53: 1 | F53: 0 | G53: 0 | H53: 1 | I53: 0 | J53: 1 | K53: 0 | L53: 0 | M53: 0 | N53: 16670159 | O53: 1
A54: 3 | B54: Индексы за итогом | C54: 1 | D54: 1 | E54: 1 | F54: 1 | G54: 1 | H54: 1 | I54: 1 | J54: 1 | K54: 1 | L54: 1 | M54: 1 | N54: 1 | O54: 1 | P54: 1 | Q54: 1 | R54: 1
A55: 75 | B55: Текущий уровень цен | C55: 2017 | D55: 0 | E55: 1 | G55: 0 | H55: 1 | I55: 0 | J55: 1 | K55: 0 | L55: 0 | M55: 1 | N55: 16670161 | O55: 2
A56: 3 | B56: Индексы за итогом | C56: 6.53 | D56: 1 | E56: 1 | F56: 1 | G56: 1 | H56: 3.53 | I56: 1 | J56: 1 | K56: 18.85 | L56: 1 | M56: 6.53 | N56: 1 | O56: 3.53 | P56: 1 | Q56: 18.85 | R56: 1

Sheet SmtRes
A1: =ROW(Source!A28) -> 28 | B1: 16670159 | C1: 16670503 | D1: 15436556 | E1: 1 | F1: 1 | G1: 1 | H1: 1 | I1: 1-100-40 | K1: Рабочий среднего разряда 4 | L1: 1191 | N1: 1013 | O1: чел.-ч. | P1: чел.-ч. | Q1: 1 | W1: 0 | X1: 1069510174 | Y1: 0.504 | AA1: 0 | AB1: 0 | AC1: 0 | AD1: 9.62 | AE1: 0 | AF1: 0 | AG1: 0 | AH1: 9.62 | AI1: 1 | AJ1: 1 | AK1: 1 | AL1: 1 | AN1: 0 | AO1: 1 | AP1: 1 | AQ1: 0 | AR1: 0 | AT1: 1.68 | AU1: )*0,3 | AV1: 1 | AW1: 2 | AX1: 16670510 | AY1: 1 | AZ1: 0 | BA1: 1 | BB1: 0 | BC1: 0 | BD1: 0 | BE1: 0 | BF1: 0 | BG1: 0 | BH1: 0 | BI1: 0 | BJ1: 0 | BK1: 0 | BL1: 0 | BM1: 0 | BN1: 0 | BO1: 0 | BP1: 0 | BQ1: 0 | BR1: 0 | BS1: 0 | BT1: 0 | BU1: 0 | BV1: 0 | BW1: 0 | CX1: =Y1*Source!I28 -> 198.576 | CY1: =AD1 -> 9.62 | CZ1: =AH1 -> 9.62 | DA1: =AL1 -> 1 | DB1: 0
A2: =ROW(Source!A28) -> 28 | B2: 16670159 | C2: 16670503 | D2: 15165918 | E2: 1 | F2: 1 | G2: 1 | H2: 3 | I2: 01.3.05.17-0002 | J2: ФССЦ-2001, 01.3.05.17-0002, приказ Минстроя России №1039/пр от 30.12.2016г. | K2: Канифоль сосновая | L2: 1346 | N2: 1009 | O2: кг | P2: кг | Q2: 1 | W2: 0 | X2: 1559187994 | Y2: 0 | AA2: 27.74 | AB2: 0 | AC2: 0 | AD2: 0 | AE2: 27.74 | AF2: 0 | AG2: 0 | AH2: 0 | AI2: 1 | AJ2: 1 | AK2: 1 | AL2: 1 | AN2: 0 | AO2: 1 | AP2: 1 | AQ2: 0 | AR2: 0 | AT2: 0.0005 | AU2: )*0 | AV2: 0 | AW2: 2 | AX2: 16670511 | AY2: 1 | AZ2: 0 | BA2: 2 | BB2: 0 | BC2: 0 | BD2: 0 | BE2: 0 | BF2: 0 | BG2: 0 | BH2: 0 | BI2: 0 | BJ2: 0 | BK2: 0 | BL2: 0 | BM2: 0 | BN2: 0 | BO2: 0 | BP2: 0 | BQ2: 0 | BR2: 0 | BS2: 0 | BT2: 0 | BU2: 0 | BV2: 0 | BW2: 0 | CX2: =Y2*Source!I28 -> 0 | CY2: =AA2 -> 27.74 | CZ2: =AE2 -> 27.74 | DA2: =AI2 -> 1 | DB2: 0
A3: =ROW(Source!A28) -> 28 | B3: 16670159 | C3: 16670503 | D3: 15170072 | E3: 1 | F3: 1 | G3: 1 | H3: 3 | I3: 01.7.15.07-0012 | J3: ФССЦ-2001, 01.7.15.07-0012, приказ Минстроя России №1039/пр от 30.12.2016г. | K3: Дюбели пластмассовые с шурупами 12х70 мм | L3: 1355 | N3: 1010 | O3: 100 шт. | P3: 100 шт. | Q3: 100 | W3: 0 | X3: -66531260 | Y3: 0 | AA3: 83 | AB3: 0 | AC3: 0 | AD3: 0 | AE3: 83 | AF3: 0 | AG3: 0 | AH3: 0 | AI3: 1 | AJ3: 1 | AK3: 1 | AL3: 1 | AN3: 0 | AO3: 1 | AP3: 1 | AQ3: 0 | AR3: 0 | AT3: 0.025 | AU3: )*0 | AV3: 0 | AW3: 2 | AX3: 16670512 | AY3: 1 | AZ3: 0 | BA3: 3 | BB3: 0 | BC3: 0 | BD3: 0 | BE3: 0 | BF3: 0 | BG3: 0 | BH3: 0 | BI3: 0 | BJ3: 0 | BK3: 0 | BL3: 0 | BM3: 0 | BN3: 0 | BO3: 0 | BP3: 0 | BQ3: 0 | BR3: 0 | BS3: 0 | BT3: 0 | BU3: 0 | BV3: 0 | BW3: 0 | CX3: =Y3*Source!I28 -> 0 | CY3: =AA3 -> 83 | CZ3: =AE3 -> 83 | DA3: =AI3 -> 1 | DB3: 0
