Workbook

Sheet Смета 12 гр. по ФЕР
A1: =Source!B1 -> Smeta.RU (495) 974-1589 | J1: Приложение 1 к форме 7
B5: =CONCATENATE( "ЛОКАЛЬНАЯ СМЕТА ",IF(Source!F20<>"Новая локальная смета", Source!F20, "")) -> ЛОКАЛЬНАЯ СМЕТА
B7: =IF(Source!G20<>"Новая локальная смета", Source!G20, "")
B9: на ремонт помещений №2, №3, №4, №5, №6, №12, №13, №14 второго этажа, №4 четвертого этажа лабораторного корпуса Р-17 НИЯУ МИФИ по адресу: г. Москва, Каширское шоссе, д. 31, стр. 12 | AD9: =IF(Source!G12<>"Новый объект", Source!G12, "") -> На ремонт помещений 2-го этажа №№2,3,4,5,6,12,13,14 и 4-го этажа, лабораторного корпуса Р-17 по адресу: г. Москва, Каширское шоссе, д. 31, стр. 12
B10: (наименование работ и затрат, наименование объекта)
G13: базовая цена | I13: текущая цена
C14: Сметная стоимость | G14: =SUM(O24:O602)/1000 -> 261.25886 | I14: =(Source!P346/1000) -> 2026.2772 | K14: тыс. руб.
C15: Строительные работы | G15: =SUM(W24:W602)/1000 -> 241.9576 | I15: =(Source!P333)/1000 -> 1549.0533 | K15: тыс. руб.
C16: Монтажные работы | G16: =SUM(X24:X602)/1000 -> 15.60285 | I16: =(Source!P334)/1000 -> 99.85819 | K16: тыс. руб.
C17: Прочие работы | G17: =SUM(Z24:Z602)/1000 -> 3.69841 | I17: =(Source!P335+Source!P336)/1000 -> 68.27258 | K17: тыс. руб.
C18: Нормативная трудоемкость | G18: =I18 -> 2959.952 | I18: =(Source!P338+Source!P339) -> 2959.952 | K18: чел. -ч.
C19: Средства на оплату труда | G19: =SUM(R24:R602)/1000 -> 27.00367 | I19: =((Source!P331 + Source!P330)/1000) -> 194.58091 | K19: тыс. руб.
A21: Составлена в ценах III квартал 2017 года
A22: № п/п | B22: Шифр расценки и коды ресурсов | C22: Наименование работ и затрат | D22: Ед. изм. | E22: Кол-во единиц | F22: Цена на ед. изм. | G22: Попра-вочные коэфф. | H22: Стоимость в ценах 2001г. | I22: Пункт коэфф. пересчета | J22: Коэфф. пересчета | K22: Стоимость в текущих ценах | L22: ЗТР всего чел.-час
A23: 1 | B23: 2 | C23: 3 | D23: 4 | E23: 5 | F23: 6 | G23: 7 | H23: 8 | I23: 9 | J23: 10 | K23: 11 | L23: 12
A25: =CONCATENATE("Раздел: ",IF(Source!G24<>"Новый раздел", Source!G24, "")) -> Раздел: Общестроительные работы
A26: =Source!E29 -> 1 | B26: =Source!F29 -> 46-04-012-03 | C26: =Source!G29 -> Разборка деревянных заполнений проемов дверных и воротных | D26: =Source!H29 -> 100 м2 | E26: =Source!I29 -> 0.1607 | F26: =Source!AL29+Source!AM29+Source!AO29 -> 1082.58 | I26: =Source!BO29 | S26: =ROUND((Source!FX29/100)*((ROUND(Source!AF29*Source!I29, 2)+ROUND(Source!AE29*Source!I29, 2))), 2) -> 150.36 | T26: =Source!X29 -> 962.32 | U26: =ROUND((Source!FY29/100)*((ROUND(Source!AF29*Source!I29, 2)+ROUND(Source!AE29*Source!I29, 2))), 2) -> 90.37 | V26: =Source!Y29 -> 583.22
C27: ="Объем: "&Source!I29&"=(10,35+"&"5,72)/"&"100" -> Объем: 0,1607=(10,35+5,72)/100
C28: Зарплата | F28: =Source!AO29 -> 840.63 | G28: =Source!DG29 | H28: =ROUND(Source!AF29*Source!I29, 2) -> 135.09 | J28: =IF(Source!BA29<> 0, Source!BA29, 1) -> 6.4 | K28: =Source!S29 -> 864.57 | R28: =H28 -> 135.09
C29: Эксплуатация машин | F29: =Source!AM29 -> 241.95 | G29: =Source!DE29 | H29: =ROUND(Source!AD29*Source!I29, 2) -> 38.88 | J29: =IF(Source!BB29<> 0, Source!BB29, 1) -> 6.4 | K29: =Source!Q29 -> 248.84
C30: в т.ч. зарплата машинистов | F30: =Source!AN29 -> 104.49 | G30: =Source!DF29 | H30: =ROUND(Source!AE29*Source!I29, 2) -> 16.79 | J30: =IF(Source!BS29<> 0, Source!BS29, 1) -> 6.4 | K30: =Source!R29 -> 107.47 | R30: =H30 -> 16.79
C31: НР от ФОТ | D31: % | E31: =Source!BZ29 -> 110 | F31: =CONCATENATE(" )", Source!DL29, Source!FT29, "=", Source!FX29) -> )*0,9=99 | H31: =SUM(S26:S33) -> 150.36 | J31: =Source!AT29 -> 99 | K31: =SUM(T26:T33) -> 962.32
C32: СП от ФОТ | D32: % | E32: =Source!CA29 -> 70 | F32: =CONCATENATE(" )", Source!DM29, Source!FU29, "=", Source!FY29) -> )*0,85=59,5 | H32: =SUM(U26:U33) -> 90.37 | J32: =Source!AU29 -> 60 | K32: =SUM(V26:V33) -> 583.22
C33: Затраты труда | D33: чел-ч | E33: =Source!AQ29 -> 103.91 | G33: =Source!DI29 | L33: =Source!U29 -> 16.698337
G34: =H28+H29+H31+H32 -> 414.7 | J34: =K28+K29+K31+K32 -> 2658.95 | L34: =Source!U29 -> 16.698337 | O34: =G34 -> 414.7 | P34: =J34 -> 2658.95 | Q34: =L34 -> 16.698337 | W34: =IF(Source!BI29<=1,H28+H29+H31+H32, 0) -> 414.7 | X34: =IF(Source!BI29=2,H28+H29+H31+H32, 0) -> 0 | Y34: =IF(Source!BI29=3,H28+H29+H31+H32, 0) -> 0 | Z34: =IF(Source!BI29=4,H28+H29+H31+H32, 0) -> 0
A35: =Source!E31 -> 2 | B35: =Source!F31 -> 09-04-012-01 | C35: =Source!G31 -> Демонтаж металлических дверных блоков в готовые проемы | D35: =Source!H31 -> м2 | E35: =Source!I31 -> 11.04 | F35: =Source!AL31+Source!AM31+Source!AO31 -> 63.94 | I35: =Source!BO31 | S35: =ROUND((Source!FX31/100)*((ROUND(Source!AF31*Source!I31, 2)+ROUND(Source!AE31*Source!I31, 2))), 2) -> 161.37 | T35: =Source!X31 -> 1032.79 | U35: =ROUND((Source!FY31/100)*((ROUND(Source!AF31*Source!I31, 2)+ROUND(Source!AE31*Source!I31, 2))), 2) -> 143.94 | V35: =Source!Y31 -> 918.04
C36: ="Объем: "&Source!I31&"=6,9+"&"4,14" -> Объем: 11,04=6,9+4,14
C37: Зарплата | F37: =Source!AO31 -> 23.81 | G37: =Source!DG31 -> )*0,7 | H37: =ROUND(Source!AF31*Source!I31, 2) -> 184 | J37: =IF(Source!BA31<> 0, Source!BA31, 1) -> 6.4 | K37: =Source!S31 -> 1177.62 | R37: =H37 -> 184
C38: Эксплуатация машин | F38: =Source!AM31 -> 14.41 | G38: =Source!DE31 -> )*0,7 | H38: =ROUND(Source!AD31*Source!I31, 2) -> 111.36 | J38: =IF(Source!BB31<> 0, Source!BB31, 1) -> 6.4 | K38: =Source!Q31 -> 712.71
C39: в т.ч. зарплата машинистов | F39: =Source!AN31 -> 1.97 | G39: =Source!DF31 -> )*0,7 | H39: =ROUND(Source!AE31*Source!I31, 2) -> 15.22 | J39: =IF(Source!BS31<> 0, Source!BS31, 1) -> 6.4 | K39: =Source!R31 -> 97.43 | R39: =H39 -> 15.22
C40: НР от ФОТ | D40: % | E40: =Source!BZ31 -> 90 | F40: =CONCATENATE(" )", Source!DL31, Source!FT31, "=", Source!FX31) -> )*0,9=81 | H40: =SUM(S35:S42) -> 161.37 | J40: =Source!AT31 -> 81 | K40: =SUM(T35:T42) -> 1032.79
C41: СП от ФОТ | D41: % | E41: =Source!CA31 -> 85 | F41: =CONCATENATE(" )", Source!DM31, Source!FU31, "=", Source!FY31) -> )*0,85=72,25 | H41: =SUM(U35:U42) -> 143.94 | J41: =Source!AU31 -> 72 | K41: =SUM(V35:V42) -> 918.04
C42: Затраты труда | D42: чел-ч | E42: =Source!AQ31 -> 2.4 | G42: =Source!DI31 -> )*0,7 | L42: =Source!U31 -> 18.5472
G43: =H37+H38+H40+H41 -> 600.67 | J43: =K37+K38+K40+K41 -> 3841.16 | L43: =Source!U31 -> 18.5472 | O43: =G43 -> 600.67 | P43: =J43 -> 3841.16 | Q43: =L43 -> 18.5472 | W43: =IF(Source!BI31<=1,H37+H38+H40+H41, 0) -> 600.67 | X43: =IF(Source!BI31=2,H37+H38+H40+H41, 0) -> 0 | Y43: =IF(Source!BI31=3,H37+H38+H40+H41, 0) -> 0 | Z43: =IF(Source!BI31=4,H37+H38+H40+H41, 0) -> 0
A44: =Source!E33 -> 3 | B44: =Source!F33 -> 09-03-039-05 | C44: =Source!G33 -> Демонтаж опорных конструкций | D44: =Source!H33 -> т | E44: =Source!I33 -> 0.4185 | F44: =Source!AL33+Source!AM33+Source!AO33 -> 868.38 | I44: =Source!BO33 | S44: =ROUND((Source!FX33/100)*((ROUND(Source!AF33*Source!I33, 2)+ROUND(Source!AE33*Source!I33, 2))), 2) -> 47.9 | T44: =Source!X33 -> 306.53 | U44: =ROUND((Source!FY33/100)*((ROUND(Source!AF33*Source!I33, 2)+ROUND(Source!AE33*Source!I33, 2))), 2) -> 42.72 | V44: =Source!Y33 -> 272.47
C45: ="Объем: "&Source!I33&"=418,5/"&"1000" -> Объем: 0,4185=418,5/1000
C46: Зарплата | F46: =Source!AO33 -> 182.17 | G46: =Source!DG33 -> )*0,7 | H46: =ROUND(Source!AF33*Source!I33, 2) -> 53.37 | J46: =IF(Source!BA33<> 0, Source!BA33, 1) -> 6.4 | K46: =Source!S33 -> 341.55 | R46: =H46 -> 53.37
C47: Эксплуатация машин | F47: =Source!AM33 -> 235.79 | G47: =Source!DE33 -> )*0,7 | H47: =ROUND(Source!AD33*Source!I33, 2) -> 69.07 | J47: =IF(Source!BB33<> 0, Source!BB33, 1) -> 6.4 | K47: =Source!Q33 -> 442.08
C48: в т.ч. зарплата машинистов | F48: =Source!AN33 -> 19.67 | G48: =Source!DF33 -> )*0,7 | H48: =ROUND(Source!AE33*Source!I33, 2) -> 5.76 | J48: =IF(Source!BS33<> 0, Source!BS33, 1) -> 6.4 | K48: =Source!R33 -> 36.88 | R48: =H48 -> 5.76
C49: НР от ФОТ | D49: % | E49: =Source!BZ33 -> 90 | F49: =CONCATENATE(" )", Source!DL33, Source!FT33, "=", Source!FX33) -> )*0,9=81 | H49: =SUM(S44:S51) -> 47.9 | J49: =Source!AT33 -> 81 | K49: =SUM(T44:T51) -> 306.53
...

Sheet Source
A1: 0 | B1: Smeta.RU (495) 974-1589 | D1: _PS_ | F1: 0 | G1: 0 | H1: 0 | I1: Smeta.RU | J1: НИЯУ МИФИ Доп. раб. место MCCS-0016187 | K1: 0 | L1: 16187 | M1: 10
A12: 1 | B12: 409 | C12: 0 | D12: =ROW(A348) -> 348 | E12: 0 | F12: Новый объект | G12: На ремонт помещений 2-го этажа №№2,3,4,5,6,12,13,14 и 4-го этажа, лабораторного корпуса Р-17 по адресу: г. Москва, Каширское шоссе, д. 31, стр. 12 | I12: 0 | K12: 0 | O12: 0 | P12: 0 | Q12: 0 | R12: 0 | S12: 0 | V12: 0 | BH12: Сметные нормы списания | BI12: Коды ценников | BJ12: 1 | BK12: 1 | BL12: 0 | BM12: 0 | BN12: 1 | BO12: 0 | BP12: 6 | BQ12: 2 | BR12: 1 | BS12: 1 | BT12: 0 | BU12: 0 | BV12: 1 | BW12: 0 | BX12: 0 | BY12: ФЕР-2017 | BZ12: ТР для Версии 10: Центральные регионы (с учетом п-ма 2536-ИП/12/ГС от 22.03.2017 г | CA12: ФЕР-2017 | CB12: ФЕР-2017 | CC12: ФЕР-2017 | CD12: ФЕР-2017 | CE12: Поправки для ГСН 2017 от 31.03.2017 г | CF12: 0 | CG12: 0 | CH12: 524288 | CK12: 0 | EC12: 0
A15: 15 | B15: 1
A18: 52 | B18: =B348 -> 409 | C18: =C348 -> 1 | D18: =D348 -> 12 | E18: =E348 -> 0 | F18: =F348 -> Новый объект | G18: =G348 -> На ремонт помещений 2-го этажа №№2,3,4,5,6,12,13,14 и 4-го этажа, лабораторного корпуса Р-17 по адресу: г. Москва, Каширское шоссе, д. 31, стр. 12 | O18: =O348 -> 219542.96 | P18: =P348 -> 190935.12 | Q18: =Q348 -> 2003.83 | R18: =R348 -> 399.66 | S18: =S348 -> 26604.01 | T18: =T348 -> 0 | U18: =U348 -> 2926.5481 | V18: =V348 -> 33.403963 | ... GX18: =GX348 -> 0
A20: 3 | B20: 1 | D20: =ROW(A316) -> 316 | F20: Новая локальная смета | G20: Новая локальная смета | I20: 0 | K20: 0 | V20: 0 | BX20: 0 | CF20: 0 | CG20: 0
A22: 52 | B22: =B316 -> 1 | C22: =C316 -> 3 | D22: =D316 -> 20 | E22: =E316 -> 0 | F22: =F316 -> Новая локальная смета | G22: =G316 -> Новая локальная смета | O22: =O316 -> 219542.96 | P22: =P316 -> 190935.12 | Q22: =Q316 -> 2003.83 | R22: =R316 -> 399.66 | S22: =S316 -> 26604.01 | T22: =T316 -> 0 | U22: =U316 -> 2926.5481 | V22: =V316 -> 33.403963 | ... GX22: =GX316 -> 0
A24: 4 | B24: 1 | D24: =ROW(A187) -> 187 | F24: Новый раздел | G24: Общестроительные работы | I24: 0 | K24: 0 | V24: 0 | BX24: 0 | CJ24: 0
A26: 52 | B26: =B187 -> 1 | C26: =C187 -> 4 | D26: =D187 -> 24 | E26: =E187 -> 0 | F26: =F187 -> Новый раздел | G26: =G187 -> Общестроительные работы | O26: =O187 -> 206823.48 | P26: =P187 -> 183355.79 | Q26: =Q187 -> 1814.52 | R26: =R187 -> 376.96 | S26: =S187 -> 21653.17 | T26: =T187 -> 0 | U26: =U187 -> 2461.847 | V26: =V187 -> 31.609863 | ... GX26: =GX187 -> 0
A28: 17 | B28: 1 | C28: =ROW(SmtRes!A3) -> 3 | D28: =ROW(EtalonRes!A3) -> 3 | E28: 1 | F28: 46-04-012-03 | G28: Разборка деревянных заполнений проемов дверных и воротных | H28: 100 м2 | I28: =ROUND((10.35+5.72)/100,9) -> 0.1607 | J28: 0 | O28: =ROUND(CP28,2) -> 173.97 | P28: =ROUND(CQ28*I28,2) -> 0 | Q28: =ROUND(CR28*I28,2) -> 38.88 | R28: =ROUND(CS28*I28,2) -> 16.79 | S28: =ROUND(CT28*I28,2) -> 135.09 | T28: =ROUND(CU28*I28,2) -> 0 | U28: =CV28*I28 -> 16.698337 | V28: =CW28*I28 -> 1.243818 | W28: =ROUND(CX28*I28,2) -> 0 | X28: =ROUND(CY28,2) -> 150.36 | Y28: =ROUND(CZ28,2) -> 91.13 | AA28: 26834263 | AB28: =ROUND((AC28+AD28+AF28),6) -> 1082.58 | AC28: =ROUND((ES28),6) -> 0 | AD28: =ROUND((((ET28)-(EU28))+AE28),6) -> 241.95 | AE28: =ROUND((EU28),6) -> 104.49 | AF28: =ROUND((EV28),6) -> 840.63 | AG28: =ROUND((AP28),6) -> 0 | AH28: =(EW28) -> 103.91 | AI28: =(EX28) -> 7.74 | AJ28: =ROUND((AS28),6) -> 0 | AK28: 1082.58 | AL28: 0 | AM28: 241.95 | AN28: 104.49 | AO28: 840.63 | AP28: 0 | AQ28: 103.91 | AR28: 7.74 | AS28: 0 | AT28: 99 | AU28: 60 | AV28: 1 | AW28: 1 | AZ28: 1 | BA28: 1 | BB28: 1 | BC28: 1 | BH28: 0 | BI28: 1 | BJ28: ФЕР-2001, 46-04-012-03, приказ Минстроя России №1039/пр от 30.12.2016г. | BM28: 46001 | BN28: 0 | BP28: 0 | BQ28: 2 | BR28: 0 | BS28: 1 | BT28: 1 | BU28: 1 | BV28: 1 | BW28: 1 | BX28: 1 | BZ28: 110 | CA28: 70 | CF28: 0 | CG28: 0 | CM28: 0 | CO28: 0 | CP28: =(P28+Q28+S28) -> 173.97 | CQ28: =AC28*BC28 -> 0 | CR28: =AD28*BB28 -> 241.95 | CS28: =AE28*BS28 -> 104.49 | CT28: =AF28*BA28 -> 840.63 | CU28: =AG28 -> 0 | CV28: =AH28 -> 103.91 | CW28: =AI28 -> 7.74 | CX28: =AJ28 -> 0 | CY28: =(((S28+R28)*AT28)/100) -> 150.3612 | CZ28: =(((S28+R28)*AU28)/100) -> 91.128 | DN28: 0 | DO28: 0 | DP28: 1 | DQ28: 1 | DU28: 1005 | DV28: 100 м2 | DW28: 100 м2 | DX28: 100 | EE28: 26549128 | EF28: 2 | EG28: Общестроительные работы | EH28: 0 | EJ28: 1 | EK28: 46001 | EL28: Реконструкция зданий и сооружений | EM28: ФЕР-46 | EQ28: 0 | ER28: 1082.58 | ES28: 0 | ET28: 241.95 | EU28: 104.49 | EV28: 840.63 | EW28: 103.91 | EX28: 7.74 | EY28: 0 | FQ28: 0 | FR28: =ROUND(IF(AND(BH28=3,BI28=3),P28,0),2) -> 0 | FS28: 0 | FT28: *0,9 | FU28: *0,85 | FX28: 99 | FY28: 59.5 | GD28: 0 | GF28: 309229644 | GG28: 2 | GH28: 1 | GI28: -2 | GJ28: 0 | GK28: =ROUND(R28*(R12)/100,2) -> 0 | GL28: =ROUND(IF(AND(BH28=3,BI28=3,FS28<>0),P28,0),2) -> 0 | GM28: =ROUND(O28+X28+Y28+GK28,2)+GX28 -> 415.46 | GN28: =IF(OR(BI28=0,BI28=1),ROUND(O28+X28+Y28+GK28,2),0) -> 415.46 | GO28: =IF(BI28=2,ROUND(O28+X28+Y28+GK28,2),0) -> 0 | GP28: =IF(BI28=4,ROUND(O28+X28+Y28+GK28,2)+GX28,0) -> 0 | GR28: 0 | GS28: 3 | GT28: 0 | GV28: =ROUND(GT28,6) -> 0 | GW28: 1 | GX28: =ROUND(GV28*GW28*I28,2) -> 0 | HA28: 0 | HB28: 0 | IK28: 0
A29: 17 | B29: 1 | C29: =ROW(SmtRes!A6) -> 6 | D29: =ROW(EtalonRes!A6) -> 6 | E29: 1 | F29: 46-04-012-03 | G29: Разборка деревянных заполнений проемов дверных и воротных | H29: 100 м2 | I29: =ROUND((10.35+5.72)/100,9) -> 0.1607 | J29: 0 | O29: =ROUND(CP29,2) -> 1113.41 | P29: =ROUND(CQ29*I29,2) -> 0 | Q29: =ROUND(CR29*I29,2) -> 248.84 | R29: =ROUND(CS29*I29,2) -> 107.47 | S29: =ROUND(CT29*I29,2) -> 864.57 | T29: =ROUND(CU29*I29,2) -> 0 | U29: =CV29*I29 -> 16.698337 | V29: =CW29*I29 -> 1.243818 | W29: =ROUND(CX29*I29,2) -> 0 | X29: =ROUND(CY29,2) -> 962.32 | Y29: =ROUND(CZ29,2) -> 583.22 | AA29: 26834277 | AB29: =ROUND((AC29+AD29+AF29),6) -> 1082.58 | AC29: =ROUND((ES29),6) -> 0 | AD29: =ROUND((((ET29)-(EU29))+AE29),6) -> 241.95 | AE29: =ROUND((EU29),6) -> 104.49 | AF29: =ROUND((EV29),6) -> 840.63 | AG29: =ROUND((AP29),6) -> 0 | AH29: =(EW29) -> 103.91 | AI29: =(EX29) -> 7.74 | AJ29: =ROUND((AS29),6) -> 0 | AK29: 1082.58 | AL29: 0 | AM29: 241.95 | AN29: 104.49 | AO29: 840.63 | AP29: 0 | AQ29: 103.91 | AR29: 7.74 | AS29: 0 | AT29: 99 | AU29: 60 | AV29: 1 | AW29: 1 | AZ29: 6.4 | BA29: 6.4 | BB29: 6.4 | BC29: 6.4 | BH29: 0 | BI29: 1 | BJ29: ФЕР-2001, 46-04-012-03, приказ Минстроя России №1039/пр от 30.12.2016г. | BM29: 46001 | BN29: 0 | BP29: 0 | BQ29: 2 | BR29: 0 | BS29: 6.4 | BT29: 1 | BU29: 1 | BV29: 1 | BW29: 1 | BX29: 1 | BZ29: 110 | CA29: 70 | CF29: 0 | CG29: 0 | CM29: 0 | CO29: 0 | CP29: =(P29+Q29+S29) -> 1113.41 | CQ29: =AC29*BC29 -> 0 | CR29: =AD29*BB29 -> 1548.48 | CS29: =AE29*BS29 -> 668.736 | CT29: =AF29*BA29 -> 5380.032 | CU29: =AG29 -> 0 | CV29: =AH29 -> 103.91 | CW29: =AI29 -> 7.74 | CX29: =AJ29 -> 0 | CY29: =(((S29+R29)*AT29)/100) -> 962.3196 | CZ29: =(((S29+R29)*AU29)/100) -> 583.224 | DN29: 0 | DO29: 0 | DP29: 1 | DQ29: 1 | DU29: 1005 | DV29: 100 м2 | DW29: 100 м2 | DX29: 100 | EE29: 26549128 | EF29: 2 | EG29: Общестроительные работы | EH29: 0 | EJ29: 1 | EK29: 46001 | EL29: Реконструкция зданий и сооружений | EM29: ФЕР-46 | EQ29: 0 | ER29: 1082.58 | ES29: 0 | ET29: 241.95 | EU29: 104.49 | EV29: 840.63 | EW29: 103.91 | EX29: 7.74 | EY29: 0 | FQ29: 0 | FR29: =ROUND(IF(AND(BH29=3,BI29=3),P29,0),2) -> 0 | FS29: 0 | FT29: *0,9 | FU29: *0,85 | FX29: 99 | FY29: 59.5 | GD29: 0 | GF29: 309229644 | GG29: 1 | GH29: 1 | GI29: 4 | GJ29: 0 | GK29: =ROUND(R29*(S12)/100,2) -> 0 | GL29: =ROUND(IF(AND(BH29=3,BI29=3,FS29<>0),P29,0),2) -> 0 | GM29: =ROUND(O29+X29+Y29+GK29,2)+GX29 -> 2658.95 | GN29: =IF(OR(BI29=0,BI29=1),ROUND(O29+X29+Y29+GK29,2),0) -> 2658.95 | GO29: =IF(BI29=2,ROUND(O29+X29+Y29+GK29,2),0) -> 0 | GP29: =IF(BI29=4,ROUND(O29+X29+Y29+GK29,2)+GX29,0) -> 0 | GR29: 0 | GS29: 3 | GT29: 0 | GV29: =ROUND(GT29,6) -> 0 | GW29: 1 | GX29: =ROUND(GV29*GW29*I29,2) -> 0 | HA29: 0 | HB29: 0 | IK29: 0
A30: 17 | B30: 1 | C30: =ROW(SmtRes!A13) -> 13 | D30: =ROW(EtalonRes!A15) -> 15 | E30: 2 | F30: 09-04-012-01 | G30: Демонтаж металлических дверных блоков в готовые проемы | H30: м2 | I30: =ROUND(6.9+4.14,9) -> 11.04 | J30: 0 | O30: =ROUND(CP30,2) -> 295.36 | P30: =ROUND(CQ30*I30,2) -> 0 | Q30: =ROUND(CR30*I30,2) -> 111.36 | R30: =ROUND(CS30*I30,2) -> 15.22 | S30: =ROUND(CT30*I30,2) -> 184 | T30: =ROUND(CU30*I30,2) -> 0 | U30: =CV30*I30 -> 18.5472 | V30: =CW30*I30 -> 1.31376 | W30: =ROUND(CX30*I30,2) -> 0 | X30: =ROUND(CY30,2) -> 161.37 | Y30: =ROUND(CZ30,2) -> 143.44 | AA30: 26834263 | AB30: =ROUND((AC30+AD30+AF30),6) -> 26.754 | AC30: =ROUND(((ES30*0)),6) -> 0 | AD30: =ROUND(((((ET30*0.7))-((EU30*0.7)))+AE30),6) -> 10.087 | AE30: =ROUND(((EU30*0.7)),6) -> 1.379 | AF30: =ROUND(((EV30*0.7)),6) -> 16.667 | AG30: =ROUND((AP30),6) -> 0 | AH30: =((EW30*0.7)) -> 1.68 | AI30: =((EX30*0.7)) -> 0.119 | AJ30: =ROUND((AS30),6) -> 0 | AK30: 63.94 | AL30: 25.72 | AM30: 14.41 | AN30: 1.97 | AO30: 23.81 | AP30: 0 | AQ30: 2.4 | AR30: 0.17 | AS30: 0 | AT30: 81 | AU30: 72 | AV30: 1 | AW30: 1 | AZ30: 1 | BA30: 1 | BB30: 1 | BC30: 1 | BH30: 0 | BI30: 1 | BJ30: ФЕР-2001, 09-04-012-01, приказ Минстроя России №1039/пр от 30.12.2016г. | BM30: 9001 | BN30: 0 | BP30: 0 | BQ30: 2 | BR30: 0 | BS30: 1 | BT30: 1 | BU30: 1 | BV30: 1 | BW30: 1 | BX30: 1 | BZ30: 90 | CA30: 85 | CF30: 0 | CG30: 0 | CM30: 0 | CN30: Поправка: МДС 81-36.2004, п.3.3.1.д Наименование: При демонтаже металлических конструкций | CO30: 0 | CP30: =(P30+Q30+S30) -> 295.36 | CQ30: =AC30*BC30 -> 0 | CR30: =AD30*BB30 -> 10.087 | CS30: =AE30*BS30 -> 1.379 | CT30: =AF30*BA30 -> 16.667 | CU30: =AG30 -> 0 | CV30: =AH30 -> 1.68 | CW30: =AI30 -> 0.119 | CX30: =AJ30 -> 0 | CY30: =(((S30+R30)*AT30)/100) -> 161.3682 | CZ30: =(((S30+R30)*AU30)/100) -> 143.4384 | DD30: )*0 | DE30: )*0,7 | DF30: )*0,7 | DG30: )*0,7 | DI30: )*0,7 | DJ30: )*0,7 | DN30: 0 | DO30: 0 | DP30: 1 | DQ30: 1 | DU30: 1005 | DV30: м2 | DW30: м2 | DX30: 1 | EE30: 26549059 | EF30: 2 | EG30: Общестроительные работы | EH30: 0 | EJ30: 1 | EK30: 9001 | EL30: Металлические конструкции | EM30: ФЕР-09 | EO30: Поправка: МДС 81-36.2004, п.3.3.1.д | EQ30: 0 | ER30: 63.94 | ES30: 25.72 | ET30: 14.41 | EU30: 1.97 | EV30: 23.81 | EW30: 2.4 | EX30: 0.17 | EY30: 0 | FQ30: 0 | FR30: =ROUND(IF(AND(BH30=3,BI30=3),P30,0),2) -> 0 | FS30: 0 | FT30: *0,9 | FU30: *0,85 | FX30: 81 | FY30: 72.25 | GD30: 0 | GF30: 574798821 | GG30: 2 | GH30: 1 | GI30: -2 | GJ30: 0 | GK30: =ROUND(R30*(R12)/100,2) -> 0 | GL30: =ROUND(IF(AND(BH30=3,BI30=3,FS30<>0),P30,0),2) -> 0 | GM30: =ROUND(O30+X30+Y30+GK30,2)+GX30 -> 600.17 | GN30: =IF(OR(BI30=0,BI30=1),ROUND(O30+X30+Y30+GK30,2),0) -> 600.17 | GO30: =IF(BI30=2,ROUND(O30+X30+Y30+GK30,2),0) -> 0 | GP30: =IF(BI30=4,ROUND(O30+X30+Y30+GK30,2)+GX30,0) -> 0 | GR30: 0 | GS30: 3 | GT30: 0 | GV30: =ROUND(GT30,6) -> 0 | GW30: 1 | GX30: =ROUND(GV30*GW30*I30,2) -> 0 | HA30: 0 | HB30: 0 | IK30: 0
A31: 17 | B31: 1 | C31: =ROW(SmtRes!A20) -> 20 | D31: =ROW(EtalonRes!A24) -> 24 | E31: 2 | F31: 09-04-012-01 | G31: Демонтаж металлических дверных блоков в готовые проемы | H31: м2 | I31: =ROUND(6.9+4.14,9) -> 11.04 | J31: 0 | O31: =ROUND(CP31,2) -> 1890.33 | P31: =ROUND(CQ31*I31,2) -> 0 | Q31: =ROUND(CR31*I31,2) -> 712.71 | R31: =ROUND(CS31*I31,2) -> 97.43 | S31: =ROUND(CT31*I31,2) -> 1177.62 | T31: =ROUND(CU31*I31,2) -> 0 | U31: =CV31*I31 -> 18.5472 | V31: =CW31*I31 -> 1.31376 | W31: =ROUND(CX31*I31,2) -> 0 | X31: =ROUND(CY31,2) -> 1032.79 | Y31: =ROUND(CZ31,2) -> 918.04 | AA31: 26834277 | AB31: =ROUND((AC31+AD31+AF31),6) -> 26.754 | AC31: =ROUND(((ES31*0)),6) -> 0 | AD31: =ROUND(((((ET31*0.7))-((EU31*0.7)))+AE31),6) -> 10.087 | AE31: =ROUND(((EU31*0.7)),6) -> 1.379 | AF31: =ROUND(((EV31*0.7)),6) -> 16.667 | AG31: =ROUND((AP31),6) -> 0 | AH31: =((EW31*0.7)) -> 1.68 | AI31: =((EX31*0.7)) -> 0.119 | AJ31: =ROUND((AS31),6) -> 0 | AK31: 63.94 | AL31: 25.72 | AM31: 14.41 | AN31: 1.97 | AO31: 23.81 | AP31: 0 | AQ31: 2.4 | AR31: 0.17 | AS31: 0 | AT31: 81 | AU31: 72 | AV31: 1 | AW31: 1 | AZ31: 6.4 | BA31: 6.4 | BB31: 6.4 | BC31: 6.4 | BH31: 0 | BI31: 1 | BJ31: ФЕР-2001, 09-04-012-01, приказ Минстроя России №1039/пр от 30.12.2016г. | BM31: 9001 | BN31: 0 | BP31: 0 | BQ31: 2 | BR31: 0 | BS31: 6.4 | BT31: 1 | BU31: 1 | BV31: 1 | BW31: 1 | BX31: 1 | BZ31: 90 | CA31: 85 | CF31: 0 | CG31: 0 | CM31: 0 | CN31: Поправка: МДС 81-36.2004, п.3.3.1.д Наименование: При демонтаже металлических конструкций | CO31: 0 | CP31: =(P31+Q31+S31) -> 1890.33 | CQ31: =AC31*BC31 -> 0 | CR31: =AD31*BB31 -> 64.5568 | CS31: =AE31*BS31 -> 8.8256 | CT31: =AF31*BA31 -> 106.6688 | CU31: =AG31 -> 0 | CV31: =AH31 -> 1.68 | CW31: =AI31 -> 0.119 | CX31: =AJ31 -> 0 | CY31: =(((S31+R31)*AT31)/100) -> 1032.7905 | CZ31: =(((S31+R31)*AU31)/100) -> 918.036 | DD31: )*0 | DE31: )*0,7 | DF31: )*0,7 | DG31: )*0,7 | DI31: )*0,7 | DJ31: )*0,7 | DN31: 0 | DO31: 0 | DP31: 1 | DQ31: 1 | DU31: 1005 | DV31: м2 | DW31: м2 | DX31: 1 | EE31: 26549059 | EF31: 2 | EG31: Общестроительные работы | EH31: 0 | EJ31: 1 | EK31: 9001 | EL31: Металлические конструкции | EM31: ФЕР-09 | EO31: Поправка: МДС 81-36.2004, п.3.3.1.д | EQ31: 0 | ER31: 63.94 | ES31: 25.72 | ET31: 14.41 | EU31: 1.97 | EV31: 23.81 | EW31: 2.4 | EX31: 0.17 | EY31: 0 | FQ31: 0 | FR31: =ROUND(IF(AND(BH31=3,BI31=3),P31,0),2) -> 0 | FS31: 0 | FT31: *0,9 | FU31: *0,85 | FX31: 81 | FY31: 72.25 | GD31: 0 | GF31: 574798821 | GG31: 1 | GH31: 1 | GI31: 4 | GJ31: 0 | GK31: =ROUND(R31*(S12)/100,2) -> 0 | GL31: =ROUND(IF(AND(BH31=3,BI31=3,FS31<>0),P31,0),2) -> 0 | GM31: =ROUND(O31+X31+Y31+GK31,2)+GX31 -> 3841.16 | GN31: =IF(OR(BI31=0,BI31=1),ROUND(O31+X31+Y31+GK31,2),0) -> 3841.16 | GO31: =IF(BI31=2,ROUND(O31+X31+Y31+GK31,2),0) -> 0 | GP31: =IF(BI31=4,ROUND(O31+X31+Y31+GK31,2)+GX31,0) -> 0 | GR31: 0 | GS31: 3 | GT31: 0 | GV31: =ROUND(GT31,6) -> 0 | GW31: 1 | GX31: =ROUND(GV31*GW31*I31,2) -> 0 | HA31: 0 | HB31: 0 | IK31: 0
A32: 17 | B32: 1 | C32: =ROW(SmtRes!A42) -> 42 | D32: =ROW(EtalonRes!A47) -> 47 | E32: 3 | F32: 09-03-039-05 | G32: Демонтаж опорных конструкций | H32: т | I32: =ROUND(418.5/1000,9) -> 0.4185 | J32: 0 | O32: =ROUND(CP32,2) -> 122.44 | P32: =ROUND(CQ32*I32,2) -> 0 | Q32: =ROUND(CR32*I32,2) -> 69.07 | R32: =ROUND(CS32*I32,2) -> 5.76 | S32: =ROUND(CT32*I32,2) -> 53.37 | T32: =ROUND(CU32*I32,2) -> 0 | U32: =CV32*I32 -> 5.677371 | V32: =CW32*I32 -> 0.4306365 | W32: =ROUND(CX32*I32,2) -> 0 | X32: =ROUND(CY32,2) -> 47.9 | Y32: =ROUND(CZ32,2) -> 42.57 | AA32: 26834263 | AB32: =ROUND((AC32+AD32+AF32),6) -> 292.572 | AC32: =ROUND(((ES32*0)),6) -> 0 | AD32: =ROUND(((((ET32*0.7))-((EU32*0.7)))+AE32),6) -> 165.053 | AE32: =ROUND(((EU32*0.7)),6) -> 13.769 | AF32: =ROUND(((EV32*0.7)),6) -> 127.519 | AG32: =ROUND((AP32),6) -> 0 | AH32: =((EW32*0.7)) -> 13.566 | AI32: =((EX32*0.7)) -> 1.029 | AJ32: =ROUND((AS32),6) -> 0 | AK32: 868.38 | AL32: 450.42 | AM32: 235.79 | AN32: 19.67 | AO32: 182.17 | AP32: 0 | AQ32: 19.38 | AR32: 1.47 | AS32: 0 | AT32: 81 | AU32: 72 | AV32: 1 | AW32: 1 | AZ32: 1 | BA32: 1 | BB32: 1 | BC32: 1 | BH32: 0 | BI32: 1 | BJ32: ФЕР-2001, 09-03-039-05, приказ Минстроя России №1039/пр от 30.12.2016г. | BM32: 9001 | BN32: 0 | BP32: 0 | BQ32: 2 | BR32: 0 | BS32: 1 | BT32: 1 | BU32: 1 | BV32: 1 | BW32: 1 | BX32: 1 | BZ32: 90 | CA32: 85 | CF32: 0 | CG32: 0 | CM32: 0 | CN32: Поправка: МДС 81-36.2004, п.3.3.1.д Наименование: При демонтаже металлических конструкций | CO32: 0 | CP32: =(P32+Q32+S32) -> 122.44 | CQ32: =AC32*BC32 -> 0 | CR32: =AD32*BB32 -> 165.053 | CS32: =AE32*BS32 -> 13.769 | CT32: =AF32*BA32 -> 127.519 | CU32: =AG32 -> 0 | CV32: =AH32 -> 13.566 | CW32: =AI32 -> 1.029 | CX32: =AJ32 -> 0 | CY32: =(((S32+R32)*AT32)/100) -> 47.8953 | CZ32: =(((S32+R32)*AU32)/100) -> 42.5736 | DD32: )*0 | DE32: )*0,7 | DF32: )*0,7 | DG32: )*0,7 | DI32: )*0,7 | DJ32: )*0,7 | DN32: 0 | DO32: 0 | DP32: 1 | DQ32: 1 | DU32: 1009 | DV32: т | DW32: т | DX32: 1000 | EE32: 26549059 | EF32: 2 | EG32: Общестроительные работы | EH32: 0 | EJ32: 1 | EK32: 9001 | EL32: Металлические конструкции | EM32: ФЕР-09 | EO32: Поправка: МДС 81-36.2004, п.3.3.1.д | EQ32: 0 | ER32: 868.38 | ES32: 450.42 | ET32: 235.79 | EU32: 19.67 | EV32: 182.17 | EW32: 19.38 | EX32: 1.47 | EY32: 0 | FQ32: 0 | FR32: =ROUND(IF(AND(BH32=3,BI32=3),P32,0),2) -> 0 | FS32: 0 | FT32: *0,9 | FU32: *0,85 | FX32: 81 | FY32: 72.25 | GD32: 0 | GF32: 173067509 | GG32: 2 | GH32: 1 | GI32: -2 | GJ32: 0 | GK32: =ROUND(R32*(R12)/100,2) -> 0 | GL32: =ROUND(IF(AND(BH32=3,BI32=3,FS32<>0),P32,0),2) -> 0 | GM32: =ROUND(O32+X32+Y32+GK32,2)+GX32 -> 212.91 | GN32: =IF(OR(BI32=0,BI32=1),ROUND(O32+X32+Y32+GK32,2),0) -> 212.91 | GO32: =IF(BI32=2,ROUND(O32+X32+Y32+GK32,2),0) -> 0 | GP32: =IF(BI32=4,ROUND(O32+X32+Y32+GK32,2)+GX32,0) -> 0 | GR32: 0 | GS32: 3 | GT32: 0 | GV32: =ROUND(GT32,6) -> 0 | GW32: 1 | GX32: =ROUND(GV32*GW32*I32,2) -> 0 | HA32: 0 | HB32: 0 | IK32: 0
A33: 17 | B33: 1 | C33: =ROW(SmtRes!A64) -> 64 | D33: =ROW(EtalonRes!A70) -> 70 | E33: 3 | F33: 09-03-039-05 | G33: Демонтаж опорных конструкций | H33: т | I33: =ROUND(418.5/1000,9) -> 0.4185 | J33: 0 | O33: =ROUND(CP33,2) -> 783.63 | P33: =ROUND(CQ33*I33,2) -> 0 | Q33: =ROUND(CR33*I33,2) -> 442.08 | R33: =ROUND(CS33*I33,2) -> 36.88 | S33: =ROUND(CT33*I33,2) -> 341.55 | T33: =ROUND(CU33*I33,2) -> 0 | U33: =CV33*I33 -> 5.677371 | V33: =CW33*I33 -> 0.4306365 | W33: =ROUND(CX33*I33,2) -> 0 | X33: =ROUND(CY33,2) -> 306.53 | Y33: =ROUND(CZ33,2) -> 272.47 | AA33: 26834277 | AB33: =ROUND((AC33+AD33+AF33),6) -> 292.572 | AC33: =ROUND(((ES33*0)),6) -> 0 | AD33: =ROUND(((((ET33*0.7))-((EU33*0.7)))+AE33),6) -> 165.053 | AE33: =ROUND(((EU33*0.7)),6) -> 13.769 | AF33: =ROUND(((EV33*0.7)),6) -> 127.519 | AG33: =ROUND((AP33),6) -> 0 | AH33: =((EW33*0.7)) -> 13.566 | AI33: =((EX33*0.7)) -> 1.029 | AJ33: =ROUND((AS33),6) -> 0 | AK33: 868.38 | AL33: 450.42 | AM33: 235.79 | AN33: 19.67 | AO33: 182.17 | AP33: 0 | AQ33: 19.38 | AR33: 1.47 | AS33: 0 | AT33: 81 | AU33: 72 | AV33: 1 | AW33: 1 | AZ33: 6.4 | BA33: 6.4 | BB33: 6.4 | BC33: 6.4 | BH33: 0 | BI33: 1 | BJ33: ФЕР-2001, 09-03-039-05, приказ Минстроя России №1039/пр от 30.12.2016г. | BM33: 9001 | BN33: 0 | BP33: 0 | BQ33: 2 | BR33: 0 | BS33: 6.4 | BT33: 1 | BU33: 1 | BV33: 1 | BW33: 1 | BX33: 1 | BZ33: 90 | CA33: 85 | CF33: 0 | CG33: 0 | CM33: 0 | CN33: Поправка: МДС 81-36.2004, п.3.3.1.д Наименование: При демонтаже металлических конструкций | CO33: 0 | CP33: =(P33+Q33+S33) -> 783.63 | CQ33: =AC33*BC33 -> 0 | CR33: =AD33*BB33 -> 1056.3392 | CS33: =AE33*BS33 -> 88.1216 | CT33: =AF33*BA33 -> 816.1216 | CU33: =AG33 -> 0 | CV33: =AH33 -> 13.566 | CW33: =AI33 -> 1.029 | CX33: =AJ33 -> 0 | CY33: =(((S33+R33)*AT33)/100) -> 306.5283 | CZ33: =(((S33+R33)*AU33)/100) -> 272.4696 | DD33: )*0 | DE33: )*0,7 | DF33: )*0,7 | DG33: )*0,7 | DI33: )*0,7 | DJ33: )*0,7 | DN33: 0 | DO33: 0 | DP33: 1 | DQ33: 1 | DU33: 1009 | DV33: т | DW33: т | DX33: 1000 | EE33: 26549059 | EF33: 2 | EG33: Общестроительные работы | EH33: 0 | EJ33: 1 | EK33: 9001 | EL33: Металлические конструкции | EM33: ФЕР-09 | EO33: Поправка: МДС 81-36.2004, п.3.3.1.д | EQ33: 0 | ER33: 868.38 | ES33: 450.42 | ET33: 235.79 | EU33: 19.67 | EV33: 182.17 | EW33: 19.38 | EX33: 1.47 | EY33: 0 | FQ33: 0 | FR33: =ROUND(IF(AND(BH33=3,BI33=3),P33,0),2) -> 0 | FS33: 0 | FT33: *0,9 | FU33: *0,85 | FX33: 81 | FY33: 72.25 | GD33: 0 | GF33: 173067509 | GG33: 1 | GH33: 1 | GI33: 4 | GJ33: 0 | GK33: =ROUND(R33*(S12)/100,2) -> 0 | GL33: =ROUND(IF(AND(BH33=3,BI33=3,FS33<>0),P33,0),2) -> 0 | GM33: =ROUND(O33+X33+Y33+GK33,2)+GX33 -> 1362.63 | GN33: =IF(OR(BI33=0,BI33=1),ROUND(O33+X33+Y33+GK33,2),0) -> 1362.63 | GO33: =IF(BI33=2,ROUND(O33+X33+Y33+GK33,2),0) -> 0 | GP33: =IF(BI33=4,ROUND(O33+X33+Y33+GK33,2)+GX33,0) -> 0 | GR33: 0 | GS33: 3 | GT33: 0 | GV33: =ROUND(GT33,6) -> 0 | GW33: 1 | GX33: =ROUND(GV33*GW33*I33,2) -> 0 | HA33: 0 | HB33: 0 | IK33: 0
A34: 17 | B34: 1 | C34: =ROW(SmtRes!A68) -> 68 | D34: =ROW(EtalonRes!A74) -> 74 | E34: 4 | F34: 57-2-5 | G34: Разборка покрытий полов из древесностружечных плит в один слой | H34: 100 м2 | I34: =ROUND((23.5+23+32)/100,9) -> 0.785 | J34: 0 | O34: =ROUND(CP34,2) -> 102.69 | P34: =ROUND(CQ34*I34,2) -> 0 | Q34: =ROUND(CR34*I34,2) -> 3.68 | R34: =ROUND(CS34*I34,2) -> 1.59 | S34: =ROUND(CT34*I34,2) -> 99.01 | T34: =ROUND(CU34*I34,2) -> 0 | U34: =CV34*I34 -> 12.69345 | V34: =CW34*I34 -> 0.11775 | W34: =ROUND(CX34*I34,2) -> 0 | X34: =ROUND(CY34,2) -> 80.48 | Y34: =ROUND(CZ34,2) -> 68.41 | AA34: 26834263 | AB34: =ROUND((AC34+AD34+AF34),6) -> 130.82 | AC34: =ROUND((ES34),6) -> 0 | AD34: =ROUND((((ET34)-(EU34))+AE34),6) -> 4.69 | AE34: =ROUND((EU34),6) -> 2.03 | AF34: =ROUND((EV34),6) -> 126.13 | AG34: =ROUND((AP34),6) -> 0 | AH34: =(EW34) -> 16.17 | AI34: =(EX34) -> 0.15 | AJ34: =ROUND((AS34),6) -> 0 | AK34: 130.82 | AL34: 0 | AM34: 4.69 | AN34: 2.03 | AO34: 126.13 | AP34: 0 | AQ34: 16.17 | AR34: 0.15 | AS34: 0 | AT34: 80 | AU34: 68 | AV34: 1 | AW34: 1 | AZ34: 1 | BA34: 1 | BB34: 1 | BC34: 1 | BH34: 0 | BI34: 1 | BJ34: ФЕР-2001, 57-2-5, приказ Минстроя России №1039/пр от 30.12.2016г. | BM34: 57001 | BN34: 0 | BP34: 0 | BQ34: 6 | BR34: 0 | BS34: 1 | BT34: 1 | BU34: 1 | BV34: 1 | BW34: 1 | BX34: 1 | BZ34: 80 | CA34: 68 | CF34: 0 | CG34: 0 | CM34: 0 | CO34: 0 | CP34: =(P34+Q34+S34) -> 102.69 | CQ34: =AC34*BC34 -> 0 | CR34: =AD34*BB34 -> 4.69 | CS34: =AE34*BS34 -> 2.03 | CT34: =AF34*BA34 -> 126.13 | CU34: =AG34 -> 0 | CV34: =AH34 -> 16.17 | CW34: =AI34 -> 0.15 | CX34: =AJ34 -> 0 | CY34: =(((S34+R34)*AT34)/100) -> 80.48 | CZ34: =(((S34+R34)*AU34)/100) -> 68.408 | DN34: 0 | DO34: 0 | DP34: 1 | DQ34: 1 | DU34: 1005 | DV34: 100 м2 | DW34: 100 м2 | DX34: 100 | EE34: 26549139 | EF34: 6 | EG34: Ремонтно-строительные работы | EH34: 0 | EJ34: 1 | EK34: 57001 | EL34: Полы | EM34: рФЕР-57 | EQ34: 0 | ER34: 130.82 | ES34: 0 | ET34: 4.69 | EU34: 2.03 | EV34: 126.13 | EW34: 16.17 | EX34: 0.15 | EY34: 0 | FQ34: 0 | FR34: =ROUND(IF(AND(BH34=3,BI34=3),P34,0),2) -> 0 | FS34: 0 | FX34: 80 | FY34: 68 | GD34: 0 | GF34: 1002773447 | GG34: 2 | GH34: 1 | GI34: -2 | GJ34: 0 | GK34: =ROUND(R34*(R12)/100,2) -> 0 | GL34: =ROUND(IF(AND(BH34=3,BI34=3,FS34<>0),P34,0),2) -> 0 | GM34: =ROUND(O34+X34+Y34+GK34,2)+GX34 -> 251.58 | GN34: =IF(OR(BI34=0,BI34=1),ROUND(O34+X34+Y34+GK34,2),0) -> 251.58 | GO34: =IF(BI34=2,ROUND(O34+X34+Y34+GK34,2),0) -> 0 | GP34: =IF(BI34=4,ROUND(O34+X34+Y34+GK34,2)+GX34,0) -> 0 | GR34: 0 | GS34: 3 | GT34: 0 | GV34: =ROUND(GT34,6) -> 0 | GW34: 1 | GX34: =ROUND(GV34*GW34*I34,2) -> 0 | HA34: 0 | HB34: 0 | IK34: 0
A35: 17 | B35: 1 | C35: =ROW(SmtRes!A72) -> 72 | D35: =ROW(EtalonRes!A78) -> 78 | E35: 4 | F35: 57-2-5 | G35: Разборка покрытий полов из древесностружечных плит в один слой | H35: 100 м2 | I35: =ROUND((23.5+23+32)/100,9) -> 0.785 | J35: 0 | O35: =ROUND(CP35,2) -> 657.24 | P35: =ROUND(CQ35*I35,2) -> 0 | Q35: =ROUND(CR35*I35,2) -> 23.56 | R35: =ROUND(CS35*I35,2) -> 10.2 | S35: =ROUND(CT35*I35,2) -> 633.68 | T35: =ROUND(CU35*I35,2) -> 0 | U35: =CV35*I35 -> 12.69345 | V35: =CW35*I35 -> 0.11775 | W35: =ROUND(CX35*I35,2) -> 0 | X35: =ROUND(CY35,2) -> 515.1 | Y35: =ROUND(CZ35,2) -> 437.84 | AA35: 26834277 | AB35: =ROUND((AC35+AD35+AF35),6) -> 130.82 | AC35: =ROUND((ES35),6) -> 0 | AD35: =ROUND((((ET35)-(EU35))+AE35),6) -> 4.69 | AE35: =ROUND((EU35),6) -> 2.03 | AF35: =ROUND((EV35),6) -> 126.13 | AG35: =ROUND((AP35),6) -> 0 | AH35: =(EW35) -> 16.17 | AI35: =(EX35) -> 0.15 | AJ35: =ROUND((AS35),6) -> 0 | AK35: 130.82 | AL35: 0 | AM35: 4.69 | AN35: 2.03 | AO35: 126.13 | AP35: 0 | AQ35: 16.17 | AR35: 0.15 | AS35: 0 | AT35: 80 | AU35: 68 | AV35: 1 | AW35: 1 | AZ35: 6.4 | BA35: 6.4 | BB35: 6.4 | BC35: 6.4 | BH35: 0 | BI35: 1 | BJ35: ФЕР-2001, 57-2-5, приказ Минстроя России №1039/пр от 30.12.2016г. | BM35: 57001 | BN35: 0 | BP35: 0 | BQ35: 6 | BR35: 0 | BS35: 6.4 | BT35: 1 | BU35: 1 | BV35: 1 | BW35: 1 | BX35: 1 | BZ35: 80 | CA35: 68 | CF35: 0 | CG35: 0 | CM35: 0 | CO35: 0 | CP35: =(P35+Q35+S35) -> 657.24 | CQ35: =AC35*BC35 -> 0 | CR35: =AD35*BB35 -> 30.016 | CS35: =AE35*BS35 -> 12.992 | CT35: =AF35*BA35 -> 807.232 | CU35: =AG35 -> 0 | CV35: =AH35 -> 16.17 | CW35: =AI35 -> 0.15 | CX35: =AJ35 -> 0 | CY35: =(((S35+R35)*AT35)/100) -> 515.104 | CZ35: =(((S35+R35)*AU35)/100) -> 437.8384 | DN35: 0 | DO35: 0 | DP35: 1 | DQ35: 1 | DU35: 1005 | DV35: 100 м2 | DW35: 100 м2 | DX35: 100 | EE35: 26549139 | EF35: 6 | EG35: Ремонтно-строительные работы | EH35: 0 | EJ35: 1 | EK35: 57001 | EL35: Полы | EM35: рФЕР-57 | EQ35: 0 | ER35: 130.82 | ES35: 0 | ET35: 4.69 | EU35: 2.03 | EV35: 126.13 | EW35: 16.17 | EX35: 0.15 | EY35: 0 | FQ35: 0 | FR35: =ROUND(IF(AND(BH35=3,BI35=3),P35,0),2) -> 0 | FS35: 0 | FX35: 80 | FY35: 68 | GD35: 0 | GF35: 1002773447 | GG35: 1 | GH35: 1 | GI35: 4 | GJ35: 0 | GK35: =ROUND(R35*(S12)/100,2) -> 0 | GL35: =ROUND(IF(AND(BH35=3,BI35=3,FS35<>0),P35,0),2) -> 0 | GM35: =ROUND(O35+X35+Y35+GK35,2)+GX35 -> 1610.18 | GN35: =IF(OR(BI35=0,BI35=1),ROUND(O35+X35+Y35+GK35,2),0) -> 1610.18 | GO35: =IF(BI35=2,ROUND(O35+X35+Y35+GK35,2),0) -> 0 | GP35: =IF(BI35=4,ROUND(O35+X35+Y35+GK35,2)+GX35,0) -> 0 | GR35: 0 | GS35: 3 | GT35: 0 | GV35: =ROUND(GT35,6) -> 0 | GW35: 1 | GX35: =ROUND(GV35*GW35*I35,2) -> 0 | HA35: 0 | HB35: 0 | IK35: 0
A36: 18 | B36: 1 | C36: 68 | E36: 4,1 | F36: 01.7.07.07 | G36: Строительный мусор | H36: т | I36: =I34*J36 -> 0.98125 | J36: 1.25 | O36: =ROUND(CP36,2) -> 0 | P36: =ROUND(CQ36*I36,2) -> 0 | Q36: =ROUND(CR36*I36,2) -> 0 | R36: =ROUND(CS36*I36,2) -> 0 | S36: =ROUND(CT36*I36,2) -> 0 | T36: =ROUND(CU36*I36,2) -> 0 | U36: =CV36*I36 -> 0 | V36: =CW36*I36 -> 0 | W36: =ROUND(CX36*I36,2) -> 0 | X36: =ROUND(CY36,2) -> 0 | Y36: =ROUND(CZ36,2) -> 0 | AA36: 26834263 | AB36: =ROUND((AC36+AD36+AF36),6) -> 0 | AC36: =ROUND((ES36),6) -> 0 | AD36: =ROUND((((ET36)-(EU36))+AE36),6) -> 0 | AE36: =ROUND((EU36),6) -> 0 | AF36: =ROUND((EV36),6) -> 0 | AG36: =ROUND((AP36),6) -> 0 | AH36: =(EW36) -> 0 | AI36: =(EX36) -> 0 | AJ36: =ROUND((AS36),6) -> 0 | AK36: 0 | AL36: 0 | AM36: 0 | AN36: 0 | AO36: 0 | AP36: 0 | AQ36: 0 | AR36: 0 | AS36: 0 | AT36: 80 | AU36: 68 | AV36: 1 | AW36: 1 | AZ36: 1 | BA36: 1 | BB36: 1 | BC36: 1 | BH36: 3 | BI36: 1 | BM36: 57001 | BN36: 0 | BP36: 0 | BQ36: 6 | BR36: 0 | BS36: 1 | BT36: 1 | BU36: 1 | BV36: 1 | BW36: 1 | BX36: 1 | BZ36: 80 | CA36: 68 | CF36: 0 | CG36: 0 | CM36: 0 | CO36: 0 | CP36: =(P36+Q36+S36) -> 0 | CQ36: =AC36*BC36 -> 0 | CR36: =AD36*BB36 -> 0 | CS36: =AE36*BS36 -> 0 | CT36: =AF36*BA36 -> 0 | CU36: =AG36 -> 0 | CV36: =AH36 -> 0 | CW36: =AI36 -> 0 | CX36: =AJ36 -> 0 | CY36: =(((S36+R36)*AT36)/100) -> 0 | CZ36: =(((S36+R36)*AU36)/100) -> 0 | DN36: 0 | DO36: 0 | DP36: 1 | DQ36: 1 | DU36: 1009 | DV36: т | DW36: т | DX36: 1000 | EE36: 26549139 | EF36: 6 | EG36: Ремонтно-строительные работы | EH36: 0 | EJ36: 1 | EK36: 57001 | EL36: Полы | EM36: рФЕР-57 | EQ36: 0 | ER36: 0 | ES36: 0 | ET36: 0 | EU36: 0 | EV36: 0 | EW36: 0 | EX36: 0 | FQ36: 0 | FR36: =ROUND(IF(AND(BH36=3,BI36=3),P36,0),2) -> 0 | FS36: 0 | FX36: 80 | FY36: 68 | GA36: занесена вручную | GD36: 0 | GF36: -179832266 | GG36: 2 | GH36: 1 | GI36: -2 | GJ36: 0 | GK36: =ROUND(R36*(R12)/100,2) -> 0 | GL36: =ROUND(IF(AND(BH36=3,BI36=3,FS36<>0),P36,0),2) -> 0 | GM36: =ROUND(O36+X36+Y36+GK36,2)+GX36 -> 0 | GN36: =IF(OR(BI36=0,BI36=1),ROUND(O36+X36+Y36+GK36,2),0) -> 0 | GO36: =IF(BI36=2,ROUND(O36+X36+Y36+GK36,2),0) -> 0 | GP36: =IF(BI36=4,ROUND(O36+X36+Y36+GK36,2)+GX36,0) -> 0 | GR36: 0 | GS36: 4 | GT36: 0 | GV36: =ROUND(GT36,6) -> 0 | GW36: 1 | GX36: =ROUND(GV36*GW36*I36,2) -> 0 | HA36: 0 | HB36: 0 | IK36: 0
A37: 18 | B37: 1 | C37: 72 | E37: 4,1 | F37: 01.7.07.07 | G37: Строительный мусор | H37: т | I37: =I35*J37 -> 0.98125 | J37: 1.25 | O37: =ROUND(CP37,2) -> 0 | P37: =ROUND(CQ37*I37,2) -> 0 | Q37: =ROUND(CR37*I37,2) -> 0 | R37: =ROUND(CS37*I37,2) -> 0 | S37: =ROUND(CT37*I37,2) -> 0 | T37: =ROUND(CU37*I37,2) -> 0 | U37: =CV37*I37 -> 0 | V37: =CW37*I37 -> 0 | W37: =ROUND(CX37*I37,2) -> 0 | X37: =ROUND(CY37,2) -> 0 | Y37: =ROUND(CZ37,2) -> 0 | AA37: 26834277 | AB37: =ROUND((AC37+AD37+AF37),6) -> 0 | AC37: =ROUND((ES37),6) -> 0 | AD37: =ROUND((((ET37)-(EU37))+AE37),6) -> 0 | AE37: =ROUND((EU37),6) -> 0 | AF37: =ROUND((EV37),6) -> 0 | AG37: =ROUND((AP37),6) -> 0 | AH37: =(EW37) -> 0 | AI37: =(EX37) -> 0 | AJ37: =ROUND((AS37),6) -> 0 | AK37: 0 | AL37: 0 | AM37: 0 | AN37: 0 | AO37: 0 | AP37: 0 | AQ37: 0 | AR37: 0 | AS37: 0 | AT37: 80 | AU37: 68 | AV37: 1 | AW37: 1 | AZ37: 6.4 | BA37: 1 | BB37: 1 | BC37: 6.4 | BH37: 3 | BI37: 1 | BM37: 57001 | BN37: 0 | BP37: 0 | BQ37: 6 | BR37: 0 | BS37: 1 | BT37: 1 | BU37: 1 | BV37: 1 | BW37: 1 | BX37: 1 | BZ37: 80 | CA37: 68 | CF37: 0 | CG37: 0 | CM37: 0 | CO37: 0 | CP37: =(P37+Q37+S37) -> 0 | CQ37: =AC37*BC37 -> 0 | CR37: =AD37*BB37 -> 0 | CS37: =AE37*BS37 -> 0 | CT37: =AF37*BA37 -> 0 | CU37: =AG37 -> 0 | CV37: =AH37 -> 0 | CW37: =AI37 -> 0 | CX37: =AJ37 -> 0 | CY37: =(((S37+R37)*AT37)/100) -> 0 | CZ37: =(((S37+R37)*AU37)/100) -> 0 | DN37: 0 | DO37: 0 | DP37: 1 | DQ37: 1 | DU37: 1009 | DV37: т | DW37: т | DX37: 1000 | EE37: 26549139 | EF37: 6 | EG37: Ремонтно-строительные работы | EH37: 0 | EJ37: 1 | EK37: 57001 | EL37: Полы | EM37: рФЕР-57 | EQ37: 0 | ER37: 0 | ES37: 0 | ET37: 0 | EU37: 0 | EV37: 0 | EW37: 0 | EX37: 0 | FQ37: 0 | FR37: =ROUND(IF(AND(BH37=3,BI37=3),P37,0),2) -> 0 | FS37: 0 | FX37: 80 | FY37: 68 | GA37: занесена вручную | GD37: 0 | GF37: -179832266 | GG37: 1 | GH37: 1 | GI37: 4 | GJ37: 0 | GK37: =ROUND(R37*(S12)/100,2) -> 0 | GL37: =ROUND(IF(AND(BH37=3,BI37=3,FS37<>0),P37,0),2) -> 0 | GM37: =ROUND(O37+X37+Y37+GK37,2)+GX37 -> 0 | GN37: =IF(OR(BI37=0,BI37=1),ROUND(O37+X37+Y37+GK37,2),0) -> 0 | GO37: =IF(BI37=2,ROUND(O37+X37+Y37+GK37,2),0) -> 0 | GP37: =IF(BI37=4,ROUND(O37+X37+Y37+GK37,2)+GX37,0) -> 0 | GR37: 0 | GS37: 4 | GT37: 0 | GV37: =ROUND(GT37,6) -> 0 | GW37: 1 | GX37: =ROUND(GV37*GW37*I37,2) -> 0 | HA37: 0 | HB37: 0 | IK37: 0
A38: 17 | B38: 1 | C38: =ROW(SmtRes!A74) -> 74 | D38: =ROW(EtalonRes!A80) -> 80 | E38: 5 | F38: 57-3-1 | G38: Разборка плинтусов деревянных и из пластмассовых материалов | H38: 100 м | I38: =ROUND((17.9+18.2+22.3+14.07+9.6+28.9)/100,9) -> 1.1097 | J38: 0 | O38: =ROUND(CP38,2) -> 32.64 | P38: =ROUND(CQ38*I38,2) -> 0 | Q38: =ROUND(CR38*I38,2) -> 0 | R38: =ROUND(CS38*I38,2) -> 0 | S38: =ROUND(CT38*I38,2) -> 32.64 | T38: =ROUND(CU38*I38,2) -> 0 | U38: =CV38*I38 -> 4.183569 | V38: =CW38*I38 -> 0 | W38: =ROUND(CX38*I38,2) -> 0 | X38: =ROUND(CY38,2) -> 26.11 | Y38: =ROUND(CZ38,2) -> 22.2 | AA38: 26834263 | AB38: =ROUND((AC38+AD38+AF38),6) -> 29.41 | AC38: =ROUND((ES38),6) -> 0 | AD38: =ROUND((((ET38)-(EU38))+AE38),6) -> 0 | AE38: =ROUND((EU38),6) -> 0 | AF38: =ROUND((EV38),6) -> 29.41 | AG38: =ROUND((AP38),6) -> 0 | AH38: =(EW38) -> 3.77 | AI38: =(EX38) -> 0 | AJ38: =ROUND((AS38),6) -> 0 | AK38: 29.41 | AL38: 0 | AM38: 0 | AN38: 0 | AO38: 29.41 | AP38: 0 | AQ38: 3.77 | AR38: 0 | AS38: 0 | AT38: 80 | AU38: 68 | AV38: 1 | AW38: 1 | AZ38: 1 | BA38: 1 | BB38: 1 | BC38: 1 | BH38: 0 | BI38: 1 | BJ38: ФЕР-2001, 57-3-1, приказ Минстроя России №1039/пр от 30.12.2016г. | BM38: 57001 | BN38: 0 | BP38: 0 | BQ38: 6 | BR38: 0 | BS38: 1 | BT38: 1 | BU38: 1 | BV38: 1 | BW38: 1 | BX38: 1 | BZ38: 80 | CA38: 68 | CF38: 0 | CG38: 0 | CM38: 0 | CO38: 0 | CP38: =(P38+Q38+S38) -> 32.64 | CQ38: =AC38*BC38 -> 0 | CR38: =AD38*BB38 -> 0 | CS38: =AE38*BS38 -> 0 | CT38: =AF38*BA38 -> 29.41 | CU38: =AG38 -> 0 | CV38: =AH38 -> 3.77 | CW38: =AI38 -> 0 | CX38: =AJ38 -> 0 | CY38: =(((S38+R38)*AT38)/100) -> 26.112 | CZ38: =(((S38+R38)*AU38)/100) -> 22.1952 | DN38: 0 | DO38: 0 | DP38: 1 | DQ38: 1 | DU38: 1003 | DV38: 100 м | DW38: 100 м | DX38: 100 | EE38: 26549139 | EF38: 6 | EG38: Ремонтно-строительные работы | EH38: 0 | EJ38: 1 | EK38: 57001 | EL38: Полы | EM38: рФЕР-57 | EQ38: 0 | ER38: 29.41 | ES38: 0 | ET38: 0 | EU38: 0 | EV38: 29.41 | EW38: 3.77 | EX38: 0 | EY38: 0 | FQ38: 0 | FR38: =ROUND(IF(AND(BH38=3,BI38=3),P38,0),2) -> 0 | FS38: 0 | FX38: 80 | FY38: 68 | GD38: 0 | GF38: -1431764135 | GG38: 2 | GH38: 1 | GI38: -2 | GJ38: 0 | GK38: =ROUND(R38*(R12)/100,2) -> 0 | GL38: =ROUND(IF(AND(BH38=3,BI38=3,FS38<>0),P38,0),2) -> 0 | GM38: =ROUND(O38+X38+Y38+GK38,2)+GX38 -> 80.95 | GN38: =IF(OR(BI38=0,BI38=1),ROUND(O38+X38+Y38+GK38,2),0) -> 80.95 | GO38: =IF(BI38=2,ROUND(O38+X38+Y38+GK38,2),0) -> 0 | GP38: =IF(BI38=4,ROUND(O38+X38+Y38+GK38,2)+GX38,0) -> 0 | GR38: 0 | GS38: 3 | GT38: 0 | GV38: =ROUND(GT38,6) -> 0 | GW38: 1 | GX38: =ROUND(GV38*GW38*I38,2) -> 0 | HA38: 0 | HB38: 0 | IK38: 0
A39: 17 | B39: 1 | C39: =ROW(SmtRes!A76) -> 76 | D39: =ROW(EtalonRes!A82) -> 82 | E39: 5 | F39: 57-3-1 | G39: Разборка плинтусов деревянных и из пластмассовых материалов | H39: 100 м | I39: =ROUND((17.9+18.2+22.3+14.07+9.6+28.9)/100,9) -> 1.1097 | J39: 0 | O39: =ROUND(CP39,2) -> 208.87 | P39: =ROUND(CQ39*I39,2) -> 0 | Q39: =ROUND(CR39*I39,2) -> 0 | R39: =ROUND(CS39*I39,2) -> 0 | S39: =ROUND(CT39*I39,2) -> 208.87 | T39: =ROUND(CU39*I39,2) -> 0 | U39: =CV39*I39 -> 4.183569 | V39: =CW39*I39 -> 0 | W39: =ROUND(CX39*I39,2) -> 0 | X39: =ROUND(CY39,2) -> 167.1 | Y39: =ROUND(CZ39,2) -> 142.03 | AA39: 26834277 | AB39: =ROUND((AC39+AD39+AF39),6) -> 29.41 | AC39: =ROUND((ES39),6) -> 0 | AD39: =ROUND((((ET39)-(EU39))+AE39),6) -> 0 | AE39: =ROUND((EU39),6) -> 0 | AF39: =ROUND((EV39),6) -> 29.41 | AG39: =ROUND((AP39),6) -> 0 | AH39: =(EW39) -> 3.77 | AI39: =(EX39) -> 0 | AJ39: =ROUND((AS39),6) -> 0 | AK39: 29.41 | AL39: 0 | AM39: 0 | AN39: 0 | AO39: 29.41 | AP39: 0 | AQ39: 3.77 | AR39: 0 | AS39: 0 | AT39: 80 | AU39: 68 | AV39: 1 | AW39: 1 | AZ39: 6.4 | BA39: 6.4 | BB39: 6.4 | BC39: 6.4 | BH39: 0 | BI39: 1 | BJ39: ФЕР-2001, 57-3-1, приказ Минстроя России №1039/пр от 30.12.2016г. | BM39: 57001 | BN39: 0 | BP39: 0 | BQ39: 6 | BR39: 0 | BS39: 6.4 | BT39: 1 | BU39: 1 | BV39: 1 | BW39: 1 | BX39: 1 | BZ39: 80 | CA39: 68 | CF39: 0 | CG39: 0 | CM39: 0 | CO39: 0 | CP39: =(P39+Q39+S39) -> 208.87 | CQ39: =AC39*BC39 -> 0 | CR39: =AD39*BB39 -> 0 | CS39: =AE39*BS39 -> 0 | CT39: =AF39*BA39 -> 188.224 | CU39: =AG39 -> 0 | CV39: =AH39 -> 3.77 | CW39: =AI39 -> 0 | CX39: =AJ39 -> 0 | CY39: =(((S39+R39)*AT39)/100) -> 167.096 | CZ39: =(((S39+R39)*AU39)/100) -> 142.0316 | DN39: 0 | DO39: 0 | DP39: 1 | DQ39: 1 | DU39: 1003 | DV39: 100 м | DW39: 100 м | DX39: 100 | EE39: 26549139 | EF39: 6 | EG39: Ремонтно-строительные работы | EH39: 0 | EJ39: 1 | EK39: 57001 | EL39: Полы | EM39: рФЕР-57 | EQ39: 0 | ER39: 29.41 | ES39: 0 | ET39: 0 | EU39: 0 | EV39: 29.41 | EW39: 3.77 | EX39: 0 | EY39: 0 | FQ39: 0 | FR39: =ROUND(IF(AND(BH39=3,BI39=3),P39,0),2) -> 0 | FS39: 0 | FX39: 80 | FY39: 68 | GD39: 0 | GF39: -1431764135 | GG39: 1 | GH39: 1 | GI39: 4 | GJ39: 0 | GK39: =ROUND(R39*(S12)/100,2) -> 0 | GL39: =ROUND(IF(AND(BH39=3,BI39=3,FS39<>0),P39,0),2) -> 0 | GM39: =ROUND(O39+X39+Y39+GK39,2)+GX39 -> 518 | GN39: =IF(OR(BI39=0,BI39=1),ROUND(O39+X39+Y39+GK39,2),0) -> 518 | GO39: =IF(BI39=2,ROUND(O39+X39+Y39+GK39,2),0) -> 0 | GP39: =IF(BI39=4,ROUND(O39+X39+Y39+GK39,2)+GX39,0) -> 0 | GR39: 0 | GS39: 3 | GT39: 0 | GV39: =ROUND(GT39,6) -> 0 | GW39: 1 | GX39: =ROUND(GV39*GW39*I39,2) -> 0 | HA39: 0 | HB39: 0 | IK39: 0
A40: 18 | B40: 1 | C40: 74 | E40: 5,1 | F40: 01.7.07.07 | G40: Строительный мусор | H40: т | I40: =I38*J40 -> 0.122067 | J40: 0.11 | O40: =ROUND(CP40,2) -> 0 | P40: =ROUND(CQ40*I40,2) -> 0 | Q40: =ROUND(CR40*I40,2) -> 0 | R40: =ROUND(CS40*I40,2) -> 0 | S40: =ROUND(CT40*I40,2) -> 0 | T40: =ROUND(CU40*I40,2) -> 0 | U40: =CV40*I40 -> 0 | V40: =CW40*I40 -> 0 | W40: =ROUND(CX40*I40,2) -> 0 | X40: =ROUND(CY40,2) -> 0 | Y40: =ROUND(CZ40,2) -> 0 | AA40: 26834263 | AB40: =ROUND((AC40+AD40+AF40),6) -> 0 | AC40: =ROUND((ES40),6) -> 0 | AD40: =ROUND((((ET40)-(EU40))+AE40),6) -> 0 | AE40: =ROUND((EU40),6) -> 0 | AF40: =ROUND((EV40),6) -> 0 | AG40: =ROUND((AP40),6) -> 0 | AH40: =(EW40) -> 0 | AI40: =(EX40) -> 0 | AJ40: =ROUND((AS40),6) -> 0 | AK40: 0 | AL40: 0 | AM40: 0 | AN40: 0 | AO40: 0 | AP40: 0 | AQ40: 0 | AR40: 0 | AS40: 0 | AT40: 80 | AU40: 68 | AV40: 1 | AW40: 1 | AZ40: 1 | BA40: 1 | BB40: 1 | BC40: 1 | BH40: 3 | BI40: 1 | BM40: 57001 | BN40: 0 | BP40: 0 | BQ40: 6 | BR40: 0 | BS40: 1 | BT40: 1 | BU40: 1 | BV40: 1 | BW40: 1 | BX40: 1 | BZ40: 80 | CA40: 68 | CF40: 0 | CG40: 0 | CM40: 0 | CO40: 0 | CP40: =(P40+Q40+S40) -> 0 | CQ40: =AC40*BC40 -> 0 | CR40: =AD40*BB40 -> 0 | CS40: =AE40*BS40 -> 0 | CT40: =AF40*BA40 -> 0 | CU40: =AG40 -> 0 | CV40: =AH40 -> 0 | CW40: =AI40 -> 0 | CX40: =AJ40 -> 0 | CY40: =(((S40+R40)*AT40)/100) -> 0 | CZ40: =(((S40+R40)*AU40)/100) -> 0 | DN40: 0 | DO40: 0 | DP40: 1 | DQ40: 1 | DU40: 1009 | DV40: т | DW40: т | DX40: 1000 | EE40: 26549139 | EF40: 6 | EG40: Ремонтно-строительные работы | EH40: 0 | EJ40: 1 | EK40: 57001 | EL40: Полы | EM40: рФЕР-57 | EQ40: 0 | ER40: 0 | ES40: 0 | ET40: 0 | EU40: 0 | EV40: 0 | EW40: 0 | EX40: 0 | FQ40: 0 | FR40: =ROUND(IF(AND(BH40=3,BI40=3),P40,0),2) -> 0 | FS40: 0 | FX40: 80 | FY40: 68 | GA40: занесена вручную | GD40: 0 | GF40: -179832266 | GG40: 2 | GH40: 1 | GI40: -2 | GJ40: 0 | GK40: =ROUND(R40*(R12)/100,2) -> 0 | GL40: =ROUND(IF(AND(BH40=3,BI40=3,FS40<>0),P40,0),2) -> 0 | GM40: =ROUND(O40+X40+Y40+GK40,2)+GX40 -> 0 | GN40: =IF(OR(BI40=0,BI40=1),ROUND(O40+X40+Y40+GK40,2),0) -> 0 | GO40: =IF(BI40=2,ROUND(O40+X40+Y40+GK40,2),0) -> 0 | GP40: =IF(BI40=4,ROUND(O40+X40+Y40+GK40,2)+GX40,0) -> 0 | GR40: 0 | GS40: 4 | GT40: 0 | GV40: =ROUND(GT40,6) -> 0 | GW40: 1 | GX40: =ROUND(GV40*GW40*I40,2) -> 0 | HA40: 0 | HB40: 0 | IK40: 0
A41: 18 | B41: 1 | C41: 76 | E41: 5,1 | F41: 01.7.07.07 | G41: Строительный мусор | H41: т | I41: =I39*J41 -> 0.122067 | J41: 0.11 | O41: =ROUND(CP41,2) -> 0 | P41: =ROUND(CQ41*I41,2) -> 0 | Q41: =ROUND(CR41*I41,2) -> 0 | R41: =ROUND(CS41*I41,2) -> 0 | S41: =ROUND(CT41*I41,2) -> 0 | T41: =ROUND(CU41*I41,2) -> 0 | U41: =CV41*I41 -> 0 | V41: =CW41*I41 -> 0 | W41: =ROUND(CX41*I41,2) -> 0 | X41: =ROUND(CY41,2) -> 0 | Y41: =ROUND(CZ41,2) -> 0 | AA41: 26834277 | AB41: =ROUND((AC41+AD41+AF41),6) -> 0 | AC41: =ROUND((ES41),6) -> 0 | AD41: =ROUND((((ET41)-(EU41))+AE41),6) -> 0 | AE41: =ROUND((EU41),6) -> 0 | AF41: =ROUND((EV41),6) -> 0 | AG41: =ROUND((AP41),6) -> 0 | AH41: =(EW41) -> 0 | AI41: =(EX41) -> 0 | AJ41: =ROUND((AS41),6) -> 0 | AK41: 0 | AL41: 0 | AM41: 0 | AN41: 0 | AO41: 0 | AP41: 0 | AQ41: 0 | AR41: 0 | AS41: 0 | AT41: 80 | AU41: 68 | AV41: 1 | AW41: 1 | AZ41: 6.4 | BA41: 1 | BB41: 1 | BC41: 6.4 | BH41: 3 | BI41: 1 | BM41: 57001 | BN41: 0 | BP41: 0 | BQ41: 6 | BR41: 0 | BS41: 1 | BT41: 1 | BU41: 1 | BV41: 1 | BW41: 1 | BX41: 1 | BZ41: 80 | CA41: 68 | CF41: 0 | CG41: 0 | CM41: 0 | CO41: 0 | CP41: =(P41+Q41+S41) -> 0 | CQ41: =AC41*BC41 -> 0 | CR41: =AD41*BB41 -> 0 | CS41: =AE41*BS41 -> 0 | CT41: =AF41*BA41 -> 0 | CU41: =AG41 -> 0 | CV41: =AH41 -> 0 | CW41: =AI41 -> 0 | CX41: =AJ41 -> 0 | CY41: =(((S41+R41)*AT41)/100) -> 0 | CZ41: =(((S41+R41)*AU41)/100) -> 0 | DN41: 0 | DO41: 0 | DP41: 1 | DQ41: 1 | DU41: 1009 | DV41: т | DW41: т | DX41: 1000 | EE41: 26549139 | EF41: 6 | EG41: Ремонтно-строительные работы | EH41: 0 | EJ41: 1 | EK41: 57001 | EL41: Полы | EM41: рФЕР-57 | EQ41: 0 | ER41: 0 | ES41: 0 | ET41: 0 | EU41: 0 | EV41: 0 | EW41: 0 | EX41: 0 | FQ41: 0 | FR41: =ROUND(IF(AND(BH41=3,BI41=3),P41,0),2) -> 0 | FS41: 0 | FX41: 80 | FY41: 68 | GA41: занесена вручную | GD41: 0 | GF41: -179832266 | GG41: 1 | GH41: 1 | GI41: 4 | GJ41: 0 | GK41: =ROUND(R41*(S12)/100,2) -> 0 | GL41: =ROUND(IF(AND(BH41=3,BI41=3,FS41<>0),P41,0),2) -> 0 | GM41: =ROUND(O41+X41+Y41+GK41,2)+GX41 -> 0 | GN41: =IF(OR(BI41=0,BI41=1),ROUND(O41+X41+Y41+GK41,2),0) -> 0 | GO41: =IF(BI41=2,ROUND(O41+X41+Y41+GK41,2),0) -> 0 | GP41: =IF(BI41=4,ROUND(O41+X41+Y41+GK41,2)+GX41,0) -> 0 | GR41: 0 | GS41: 4 | GT41: 0 | GV41: =ROUND(GT41,6) -> 0 | GW41: 1 | GX41: =ROUND(GV41*GW41*I41,2) -> 0 | HA41: 0 | HB41: 0 | IK41: 0
A42: 17 | B42: 1 | C42: =ROW(SmtRes!A80) -> 80 | D42: =ROW(EtalonRes!A86) -> 86 | E42: 6 | F42: 57-2-1 | G42: Разборка покрытий полов из линолеума и релина | H42: 100 м2 | I42: =ROUND((23.5+23+32+24.1+12.5+45.9)/100,9) -> 1.61 | J42: 0 | O42: =ROUND(CP42,2) -> 149.57 | P42: =ROUND(CQ42*I42,2) -> 0 | Q42: =ROUND(CR42*I42,2) -> 6.54 | R42: =ROUND(CS42*I42,2) -> 2.83 | S42: =ROUND(CT42*I42,2) -> 143.03 | T42: =ROUND(CU42*I42,2) -> 0 | U42: =CV42*I42 -> 18.3379 | V42: =CW42*I42 -> 0.2093 | W42: =ROUND(CX42*I42,2) -> 0 | X42: =ROUND(CY42,2) -> 116.69 | Y42: =ROUND(CZ42,2) -> 99.18 | AA42: 26834263 | AB42: =ROUND((AC42+AD42+AF42),6) -> 92.9 | AC42: =ROUND((ES42),6) -> 0 | AD42: =ROUND((((ET42)-(EU42))+AE42),6) -> 4.06 | AE42: =ROUND((EU42),6) -> 1.76 | AF42: =ROUND((EV42),6) -> 88.84 | AG42: =ROUND((AP42),6) -> 0 | AH42: =(EW42) -> 11.39 | AI42: =(EX42) -> 0.13 | AJ42: =ROUND((AS42),6) -> 0 | AK42: 92.9 | AL42: 0 | AM42: 4.06 | AN42: 1.76 | AO42: 88.84 | AP42: 0 | AQ42: 11.39 | AR42: 0.13 | AS42: 0 | AT42: 80 | AU42: 68 | AV42: 1 | AW42: 1 | AZ42: 1 | BA42: 1 | BB42: 1 | BC42: 1 | BH42: 0 | BI42: 1 | BJ42: ФЕР-2001, 57-2-1, приказ Минстроя России №1039/пр от 30.12.2016г. | BM42: 57001 | BN42: 0 | BP42: 0 | BQ42: 6 | BR42: 0 | BS42: 1 | BT42: 1 | BU42: 1 | BV42: 1 | BW42: 1 | BX42: 1 | BZ42: 80 | CA42: 68 | CF42: 0 | CG42: 0 | CM42: 0 | CO42: 0 | CP42: =(P42+Q42+S42) -> 149.57 | CQ42: =AC42*BC42 -> 0 | CR42: =AD42*BB42 -> 4.06 | CS42: =AE42*BS42 -> 1.76 | CT42: =AF42*BA42 -> 88.84 | CU42: =AG42 -> 0 | CV42: =AH42 -> 11.39 | CW42: =AI42 -> 0.13 | CX42: =AJ42 -> 0 | CY42: =(((S42+R42)*AT42)/100) -> 116.688 | CZ42: =(((S42+R42)*AU42)/100) -> 99.1848 | DN42: 0 | DO42: 0 | DP42: 1 | DQ42: 1 | DU42: 1005 | DV42: 100 м2 | DW42: 100 м2 | DX42: 100 | EE42: 26549139 | EF42: 6 | EG42: Ремонтно-строительные работы | EH42: 0 | EJ42: 1 | EK42: 57001 | EL42: Полы | EM42: рФЕР-57 | EQ42: 0 | ER42: 92.9 | ES42: 0 | ET42: 4.06 | EU42: 1.76 | EV42: 88.84 | EW42: 11.39 | EX42: 0.13 | EY42: 0 | FQ42: 0 | FR42: =ROUND(IF(AND(BH42=3,BI42=3),P42,0),2) -> 0 | FS42: 0 | FX42: 80 | FY42: 68 | GD42: 0 | GF42: -1228944231 | GG42: 2 | GH42: 1 | GI42: -2 | GJ42: 0 | GK42: =ROUND(R42*(R12)/100,2) -> 0 | GL42: =ROUND(IF(AND(BH42=3,BI42=3,FS42<>0),P42,0),2) -> 0 | GM42: =ROUND(O42+X42+Y42+GK42,2)+GX42 -> 365.44 | GN42: =IF(OR(BI42=0,BI42=1),ROUND(O42+X42+Y42+GK42,2),0) -> 365.44 | GO42: =IF(BI42=2,ROUND(O42+X42+Y42+GK42,2),0) -> 0 | GP42: =IF(BI42=4,ROUND(O42+X42+Y42+GK42,2)+GX42,0) -> 0 | GR42: 0 | GS42: 3 | GT42: 0 | GV42: =ROUND(GT42,6) -> 0 | GW42: 1 | GX42: =ROUND(GV42*GW42*I42,2) -> 0 | HA42: 0 | HB42: 0 | IK42: 0
A43: 17 | B43: 1 | C43: =ROW(SmtRes!A84) -> 84 | D43: =ROW(EtalonRes!A90) -> 90 | E43: 6 | F43: 57-2-1 | G43: Разборка покрытий полов из линолеума и релина | H43: 100 м2 | I43: =ROUND((23.5+23+32+24.1+12.5+45.9)/100,9) -> 1.61 | J43: 0 | O43: =ROUND(CP43,2) -> 957.24 | P43: =ROUND(CQ43*I43,2) -> 0 | Q43: =ROUND(CR43*I43,2) -> 41.83 | R43: =ROUND(CS43*I43,2) -> 18.14 | S43: =ROUND(CT43*I43,2) -> 915.41 | T43: =ROUND(CU43*I43,2) -> 0 | U43: =CV43*I43 -> 18.3379 | V43: =CW43*I43 -> 0.2093 | W43: =ROUND(CX43*I43,2) -> 0 | X43: =ROUND(CY43,2) -> 746.84 | Y43: =ROUND(CZ43,2) -> 634.81 | AA43: 26834277 | AB43: =ROUND((AC43+AD43+AF43),6) -> 92.9 | AC43: =ROUND((ES43),6) -> 0 | AD43: =ROUND((((ET43)-(EU43))+AE43),6) -> 4.06 | AE43: =ROUND((EU43),6) -> 1.76 | AF43: =ROUND((EV43),6) -> 88.84 | AG43: =ROUND((AP43),6) -> 0 | AH43: =(EW43) -> 11.39 | AI43: =(EX43) -> 0.13 | AJ43: =ROUND((AS43),6) -> 0 | AK43: 92.9 | AL43: 0 | AM43: 4.06 | AN43: 1.76 | AO43: 88.84 | AP43: 0 | AQ43: 11.39 | AR43: 0.13 | AS43: 0 | AT43: 80 | AU43: 68 | AV43: 1 | AW43: 1 | AZ43: 6.4 | BA43: 6.4 | BB43: 6.4 | BC43: 6.4 | BH43: 0 | BI43: 1 | BJ43: ФЕР-2001, 57-2-1, приказ Минстроя России №1039/пр от 30.12.2016г. | BM43: 57001 | BN43: 0 | BP43: 0 | BQ43: 6 | BR43: 0 | BS43: 6.4 | BT43: 1 | BU43: 1 | BV43: 1 | BW43: 1 | BX43: 1 | BZ43: 80 | CA43: 68 | CF43: 0 | CG43: 0 | CM43: 0 | CO43: 0 | CP43: =(P43+Q43+S43) -> 957.24 | CQ43: =AC43*BC43 -> 0 | CR43: =AD43*BB43 -> 25.984 | CS43: =AE43*BS43 -> 11.264 | CT43: =AF43*BA43 -> 568.576 | CU43: =AG43 -> 0 | CV43: =AH43 -> 11.39 | CW43: =AI43 -> 0.13 | CX43: =AJ43 -> 0 | CY43: =(((S43+R43)*AT43)/100) -> 746.84 | CZ43: =(((S43+R43)*AU43)/100) -> 634.814 | DN43: 0 | DO43: 0 | DP43: 1 | DQ43: 1 | DU43: 1005 | DV43: 100 м2 | DW43: 100 м2 | DX43: 100 | EE43: 26549139 | EF43: 6 | EG43: Ремонтно-строительные работы | EH43: 0 | EJ43: 1 | EK43: 57001 | EL43: Полы | EM43: рФЕР-57 | EQ43: 0 | ER43: 92.9 | ES43: 0 | ET43: 4.06 | EU43: 1.76 | EV43: 88.84 | EW43: 11.39 | EX43: 0.13 | EY43: 0 | FQ43: 0 | FR43: =ROUND(IF(AND(BH43=3,BI43=3),P43,0),2) -> 0 | FS43: 0 | FX43: 80 | FY43: 68 | GD43: 0 | GF43: -1228944231 | GG43: 1 | GH43: 1 | GI43: 4 | GJ43: 0 | GK43: =ROUND(R43*(S12)/100,2) -> 0 | GL43: =ROUND(IF(AND(BH43=3,BI43=3,FS43<>0),P43,0),2) -> 0 | GM43: =ROUND(O43+X43+Y43+GK43,2)+GX43 -> 2338.89 | GN43: =IF(OR(BI43=0,BI43=1),ROUND(O43+X43+Y43+GK43,2),0) -> 2338.89 | GO43: =IF(BI43=2,ROUND(O43+X43+Y43+GK43,2),0) -> 0 | GP43: =IF(BI43=4,ROUND(O43+X43+Y43+GK43,2)+GX43,0) -> 0 | GR43: 0 | GS43: 3 | GT43: 0 | GV43: =ROUND(GT43,6) -> 0 | GW43: 1 | GX43: =ROUND(GV43*GW43*I43,2) -> 0 | HA43: 0 | HB43: 0 | IK43: 0
A44: 18 | B44: 1 | C44: 80 | E44: 6,1 | F44: 01.7.07.07 | G44: Строительный мусор | H44: т | I44: =I42*J44 -> 0.7567 | J44: 0.47 | O44: =ROUND(CP44,2) -> 0 | P44: =ROUND(CQ44*I44,2) -> 0 | Q44: =ROUND(CR44*I44,2) -> 0 | R44: =ROUND(CS44*I44,2) -> 0 | S44: =ROUND(CT44*I44,2) -> 0 | T44: =ROUND(CU44*I44,2) -> 0 | U44: =CV44*I44 -> 0 | V44: =CW44*I44 -> 0 | W44: =ROUND(CX44*I44,2) -> 0 | X44: =ROUND(CY44,2) -> 0 | Y44: =ROUND(CZ44,2) -> 0 | AA44: 26834263 | AB44: =ROUND((AC44+AD44+AF44),6) -> 0 | AC44: =ROUND((ES44),6) -> 0 | AD44: =ROUND((((ET44)-(EU44))+AE44),6) -> 0 | AE44: =ROUND((EU44),6) -> 0 | AF44: =ROUND((EV44),6) -> 0 | AG44: =ROUND((AP44),6) -> 0 | AH44: =(EW44) -> 0 | AI44: =(EX44) -> 0 | AJ44: =ROUND((AS44),6) -> 0 | AK44: 0 | AL44: 0 | AM44: 0 | AN44: 0 | AO44: 0 | AP44: 0 | AQ44: 0 | AR44: 0 | AS44: 0 | AT44: 80 | AU44: 68 | AV44: 1 | AW44: 1 | AZ44: 1 | BA44: 1 | BB44: 1 | BC44: 1 | BH44: 3 | BI44: 1 | BM44: 57001 | BN44: 0 | BP44: 0 | BQ44: 6 | BR44: 0 | BS44: 1 | BT44: 1 | BU44: 1 | BV44: 1 | BW44: 1 | BX44: 1 | BZ44: 80 | CA44: 68 | CF44: 0 | CG44: 0 | CM44: 0 | CO44: 0 | CP44: =(P44+Q44+S44) -> 0 | CQ44: =AC44*BC44 -> 0 | CR44: =AD44*BB44 -> 0 | CS44: =AE44*BS44 -> 0 | CT44: =AF44*BA44 -> 0 | CU44: =AG44 -> 0 | CV44: =AH44 -> 0 | CW44: =AI44 -> 0 | CX44: =AJ44 -> 0 | CY44: =(((S44+R44)*AT44)/100) -> 0 | CZ44: =(((S44+R44)*AU44)/100) -> 0 | DN44: 0 | DO44: 0 | DP44: 1 | DQ44: 1 | DU44: 1009 | DV44: т | DW44: т | DX44: 1000 | EE44: 26549139 | EF44: 6 | EG44: Ремонтно-строительные работы | EH44: 0 | EJ44: 1 | EK44: 57001 | EL44: Полы | EM44: рФЕР-57 | EQ44: 0 | ER44: 0 | ES44: 0 | ET44: 0 | EU44: 0 | EV44: 0 | EW44: 0 | EX44: 0 | FQ44: 0 | FR44: =ROUND(IF(AND(BH44=3,BI44=3),P44,0),2) -> 0 | FS44: 0 | FX44: 80 | FY44: 68 | GA44: занесена вручную | GD44: 0 | GF44: -179832266 | GG44: 2 | GH44: 1 | GI44: -2 | GJ44: 0 | GK44: =ROUND(R44*(R12)/100,2) -> 0 | GL44: =ROUND(IF(AND(BH44=3,BI44=3,FS44<>0),P44,0),2) -> 0 | GM44: =ROUND(O44+X44+Y44+GK44,2)+GX44 -> 0 | GN44: =IF(OR(BI44=0,BI44=1),ROUND(O44+X44+Y44+GK44,2),0) -> 0 | GO44: =IF(BI44=2,ROUND(O44+X44+Y44+GK44,2),0) -> 0 | GP44: =IF(BI44=4,ROUND(O44+X44+Y44+GK44,2)+GX44,0) -> 0 | GR44: 0 | GS44: 4 | GT44: 0 | GV44: =ROUND(GT44,6) -> 0 | GW44: 1 | GX44: =ROUND(GV44*GW44*I44,2) -> 0 | HA44: 0 | HB44: 0 | IK44: 0
A45: 18 | B45: 1 | C45: 84 | E45: 6,1 | F45: 01.7.07.07 | G45: Строительный мусор | H45: т | I45: =I43*J45 -> 0.7567 | J45: 0.47 | O45: =ROUND(CP45,2) -> 0 | P45: =ROUND(CQ45*I45,2) -> 0 | Q45: =ROUND(CR45*I45,2) -> 0 | R45: =ROUND(CS45*I45,2) -> 0 | S45: =ROUND(CT45*I45,2) -> 0 | T45: =ROUND(CU45*I45,2) -> 0 | U45: =CV45*I45 -> 0 | V45: =CW45*I45 -> 0 | W45: =ROUND(CX45*I45,2) -> 0 | X45: =ROUND(CY45,2) -> 0 | Y45: =ROUND(CZ45,2) -> 0 | AA45: 26834277 | AB45: =ROUND((AC45+AD45+AF45),6) -> 0 | AC45: =ROUND((ES45),6) -> 0 | AD45: =ROUND((((ET45)-(EU45))+AE45),6) -> 0 | AE45: =ROUND((EU45),6) -> 0 | AF45: =ROUND((EV45),6) -> 0 | AG45: =ROUND((AP45),6) -> 0 | AH45: =(EW45) -> 0 | AI45: =(EX45) -> 0 | AJ45: =ROUND((AS45),6) -> 0 | AK45: 0 | AL45: 0 | AM45: 0 | AN45: 0 | AO45: 0 | AP45: 0 | AQ45: 0 | AR45: 0 | AS45: 0 | AT45: 80 | AU45: 68 | AV45: 1 | AW45: 1 | AZ45: 6.4 | BA45: 1 | BB45: 1 | BC45: 6.4 | BH45: 3 | BI45: 1 | BM45: 57001 | BN45: 0 | BP45: 0 | BQ45: 6 | BR45: 0 | BS45: 1 | BT45: 1 | BU45: 1 | BV45: 1 | BW45: 1 | BX45: 1 | BZ45: 80 | CA45: 68 | CF45: 0 | CG45: 0 | CM45: 0 | CO45: 0 | CP45: =(P45+Q45+S45) -> 0 | CQ45: =AC45*BC45 -> 0 | CR45: =AD45*BB45 -> 0 | CS45: =AE45*BS45 -> 0 | CT45: =AF45*BA45 -> 0 | CU45: =AG45 -> 0 | CV45: =AH45 -> 0 | CW45: =AI45 -> 0 | CX45: =AJ45 -> 0 | CY45: =(((S45+R45)*AT45)/100) -> 0 | CZ45: =(((S45+R45)*AU45)/100) -> 0 | DN45: 0 | DO45: 0 | DP45: 1 | DQ45: 1 | DU45: 1009 | DV45: т | DW45: т | DX45: 1000 | EE45: 26549139 | EF45: 6 | EG45: Ремонтно-строительные работы | EH45: 0 | EJ45: 1 | EK45: 57001 | EL45: Полы | EM45: рФЕР-57 | EQ45: 0 | ER45: 0 | ES45: 0 | ET45: 0 | EU45: 0 | EV45: 0 | EW45: 0 | EX45: 0 | FQ45: 0 | FR45: =ROUND(IF(AND(BH45=3,BI45=3),P45,0),2) -> 0 | FS45: 0 | FX45: 80 | FY45: 68 | GA45: занесена вручную | GD45: 0 | GF45: -179832266 | GG45: 1 | GH45: 1 | GI45: 4 | GJ45: 0 | GK45: =ROUND(R45*(S12)/100,2) -> 0 | GL45: =ROUND(IF(AND(BH45=3,BI45=3,FS45<>0),P45,0),2) -> 0 | GM45: =ROUND(O45+X45+Y45+GK45,2)+GX45 -> 0 | GN45: =IF(OR(BI45=0,BI45=1),ROUND(O45+X45+Y45+GK45,2),0) -> 0 | GO45: =IF(BI45=2,ROUND(O45+X45+Y45+GK45,2),0) -> 0 | GP45: =IF(BI45=4,ROUND(O45+X45+Y45+GK45,2)+GX45,0) -> 0 | GR45: 0 | GS45: 4 | GT45: 0 | GV45: =ROUND(GT45,6) -> 0 | GW45: 1 | GX45: =ROUND(GV45*GW45*I45,2) -> 0 | HA45: 0 | HB45: 0 | IK45: 0
