Workbook
Name Constr: '24657'!$A$7
Name Constr: '24668'!$A$7
Name Constr: '24690'!#REF!
Name Constr: '24692'!#REF!
Name Constr: '24709'!#REF!
Name Constr: '24710'!$A$7
Name Constr: '24711'!$A$7
Name Constr: '24727'!$A$7
Name Constr: '24729'!$A$7
Name Constr: '24730'!$A$7
Name Constr: '24732'!$A$7
Name Constr: '24733'!$A$7
Name Constr: '24734'!$A$7
Name Constr: '24736'!$A$1
Name Constr: '24738'!$A$1
Name FOT: '24657'!$D$14
Name FOT: '24668'!$D$14
Name FOT: '24690'!$D$12
Name FOT: '24692'!$D$12
Name FOT: '24709'!$D$13
Name FOT: '24710'!$D$17
Name FOT: '24711'!$D$15
Name FOT: '24727'!$D$15
Name FOT: '24729'!$D$15
Name FOT: '24730'!$D$15
Name FOT: '24732'!$D$14
Name FOT: '24733'!$D$17
Name FOT: '24734'!$D$15
Name FOT: '24736'!$D$18
Name FOT: '24738'!$D$18
Name Ind: '24657'!$H$9
Name Ind: '24668'!$H$9
Name Ind: '24690'!#REF!
Name Ind: '24692'!#REF!
Name Ind: '24709'!#REF!
Name Ind: '24710'!#REF!
Name Ind: '24711'!$H$9
Name Ind: '24727'!$H$9
Name Ind: '24729'!$H$9
Name Ind: '24730'!$H$9
Name Ind: '24732'!$H$9
Name Ind: '24733'!$H$9
Name Ind: '24734'!$H$9
Name Ind: '24736'!$G$9
Name Ind: '24738'!$G$9
Name Obj: '24657'!#REF!
Name Obj: '24668'!#REF!
Name Obj: '24690'!$E$7
Name Obj: '24692'!$E$7
Name Obj: '24709'!$E$7
Name Obj: '24710'!$E$9
Name Obj: '24711'!#REF!
Name Obj: '24727'!#REF!
Name Obj: '24729'!#REF!
Name Obj: '24730'!#REF!
Name Obj: '24732'!#REF!
Name Obj: '24733'!#REF!
Name Obj: '24734'!#REF!
Name Obj: '24736'!#REF!
Name Obj: '24738'!#REF!

Sheet 24657
A1: СОГЛАСОВАНО: | E1: ФГУП "Комбинат "Электрохимприбор" | M1: УТВЕРЖДАЮ:
G2: (наименование стройки) | M2: Зам.генерального директора
A3: _________________ | N3: Е.В. Гордеев
A4: " _____ " ________________ 201_ г. | M4: __________________
G5: ЛОКАЛЬНЫЙ СМЕТНЫЙ РАСЧЕТ № 24657 | M5: "______ " __________201_ г.
G6: (локальная смета)
C8: на | D8: реконструкцию. Архитектурно-строительные решения. г. Лесной, ул.Кирова, 1а
E9: Гостиница "Лесная". Бильярдная (инв. № 8712564)
D12: Основание: проект № 24452-12-АС
D13: Сметная стоимость строительных работ _______________________________________________________________________________________________ | J13: ___________________________54,067 | L13: тыс. руб.
D14: Средства на оплату труда _______________________________________________________________________________________________ | J14: ___________________________4,875 | L14: тыс. руб.
D15: Сметная трудоемкость _______________________________________________________________________________________________ | J15: _______________________________________________________________________________________________351,92 | L15: чел.час
D16: Материалы ____________________________________________________________ | K16: 40,449 тыс.руб.
D17: Составлен(а) в базовых ценах 2001г. в редакции 2009г.
A19: № пп | B19: Обоснование | C19: Наименование | D19: Ед. изм. | E19: Кол. | F19: Стоимость единицы, руб. | J19: Общая стоимость, руб. | N19: Т/з осн. раб.на ед. | O19: Т/з осн. раб. Всего | P19: Т/з мех. на ед. | Q19: Т/з мех. Всего
F20: Всего | G20: В том числе | J20: Всего | K20: В том числе
G21: Осн.З/п | H21: Эк.Маш | I21: З/пМех | K21: Осн.З/п | L21: Эк.Маш | M21: З/пМех
A22: 1 | B22: 2 | C22: 3 | D22: 4 | E22: 5 | F22: 6 | G22: 7 | H22: 8 | I22: 9 | J22: 10 | K22: 11 | L22: 12 | M22: 13 | N22: 14 | O22: 15 | P22: 16 | Q22: 17
A23: Раздел 1. Разборка конструкций
A24: 1 | B24: ТЕР09-04-009-04 | C24: Разборка оконных блоков из алюминиевых многокамерных профилей с герметичными стеклопакетами КОЭФ. К ПОЗИЦИИ: Разборка конструкций ОЗП=0,7; ЭМ=0,7 к расх.; ЗПМ=0,7; МАТ=0 к расх.; ТЗ=0,7; ТЗМ=0,7 | D24: 100 м2 | E24: 0.126 | F24: 6489.06 | G24: 4282.42 | H24: 2206.64 | I24: 258.48 | J24: 818 | K24: 540 | L24: 278 | M24: 33 | N24: 306.54 | O24: 38.62 | P24: 12.94 | Q24: 1.63
A25: 2 | B25: ТЕРр57-2-1 | C25: Разборка покрытий полов из линолеума | D25: 100 м2 | E25: 0.375 | F25: 130.42 | G25: 125.18 | H25: 5.24 | I25: 2.03 | J25: 49 | K25: 47 | L25: 2 | M25: 1 | N25: 11.39 | O25: 4.27 | P25: 0.13 | Q25: 0.05
A26: 3 | B26: ТЕРр57-3-1 | C26: Разборка плинтусов деревянных и из пластмассовых материалов | D26: 100 м плинтуса | E26: 0.184 | F26: 41.43 | G26: 41.43 | J26: 8 | K26: 8 | N26: 3.77 | O26: 0.69
A27: 4 | B27: СЦП1-1-27-А | C27: Погрузочные работы при автомобильных перевозках: мусор строительный КОЭФ. К ПОЗИЦИИ: Коэффициент техн.часть п.3 ПЗ=1,025 (ОЗП=1,025; ЭМ=1,025 к расх.; ЗПМ=1,025; МАТ=1,025 к расх.; ТЗ=1,025; ТЗМ=1,025) | D27: т | E27: 1.48 | F27: 2.77 | G27: 2.77 | J27: 4 | K27: 4
A28: 5 | B28: СЦП3-3-40-1 | C28: Перевозка грузов (мусора) автомобилями-самосвалами (работающими вне карьеров): расстояние 40 км, класс груза I КОЭФ. К ПОЗИЦИИ: 17 При перевозке грузов к провозной плате (тарифам) применять поправочный коэффициент ПЗ=1,37 (ОЗП=1,37; ЭМ=1,37 к расх.; ЗПМ=1,37; МАТ=1,37 к расх.; ТЗ=1,37; ТЗМ=1,37) | D28: т | E28: 1.48 | F28: 52.85 | H28: 52.85 | J28: 78 | L28: 78
A29: Раздел 2. Общестроительные работы
A30: Потолок ГП-1
A31: 6 | B31: ТЕР10-05-011-01 | C31: Устройство подвесных потолков из гипсокартонных листов (ГКЛ) по системе «КНАУФ» двухуровневых (П 112) | D31: 100 м2 потолка | E31: 0.371 | F31: 7546.21 | G31: 1175.76 | H31: 18.95 | J31: 2800 | K31: 436 | L31: 7 | N31: 92 | O31: 34.13
A32: 7 | B32: ТСЦ-101-2508 | C32: Листы гипсокартонные ГКЛ 10 мм | D32: м2 | E32: 41.55 | F32: 31.58 | J32: 1312
A33: 8 | B33: ТСЦ-101-2589 | C33: Дюбель-гвоздь 6/39 мм | D33: шт. | E33: 82 | F33: 0.7 | J33: 57
A34: 9 | B34: ТСЦ-201-0797 | C34: Профиль направляющий ПН 28/27/0,6 | D34: м | E34: 42 | F34: 5 | J34: 210
A35: Перегородка П 1, облицовка Об-1
A36: 10 | B36: ТЕР10-05-001-02 | C36: Устройство перегородок из гипсокартонных листов (ГКЛ) по системе «КНАУФ» с одинарным металлическим каркасом и однослойной обшивкой с обеих сторон (С 111) с одним дверным проемом | D36: 100 м2 перегородок (за вычетом проемов) | E36: 0.052 | F36: 11854.4 | G36: 1316.34 | H36: 70.59 | J36: 616 | K36: 68 | L36: 4 | N36: 103 | O36: 5.36
A37: 11 | B37: ТСЦ-201-0808 | C37: Профиль стоечный ПС-6 100/50/0,6 | D37: м | E37: 27.9 | F37: 15.85 | J37: 442
A38: 12 | B38: ТСЦ-201-0796 | C38: Профиль направляющий ПН-6 100/40/0,6 | D38: м | E38: 16.5 | F38: 13.78 | J38: 227
A39: 13 | B39: ТСЦ-101-2582 | C39: Шуруп самонарезающий (LN) 3,5/9,5 мм | D39: шт. | E39: 20 | F39: 0.04 | J39: 1
A40: 14 | B40: ТСЦ-101-2583 | C40: Шуруп самонарезающий (TN) 3,5/25 мм | D40: шт. | E40: 130 | F40: 0.08 | J40: 10
A41: 15 | B41: Цена поставщика | C41: ДСП ламинированная, с распилом (цена: 350руб:1,18:5,56х1,02=54,41) | D41: м2 | E41: 1 | F41: 54.41 | J41: 54
A42: 16 | B42: ТЕР10-01-059-01 прим. | C42: Установка металлических стоек мебельных в перегородке | D42: 100 шт. изделий | E42: 0.02 | F42: 3440.78 | G42: 848.44 | H42: 339.37 | I42: 27.02 | J42: 69 | K42: 17 | L42: 7 | M42: 1 | N42: 75.15 | O42: 1.5 | P42: 1.73 | Q42: 0.03
A43: 17 | B43: Цена поставщика | C43: Труба мебельная d25 (цена: 100руб:1,18:5,56х1,02=15,55) | D43: м | E43: 4.5 | F43: 15.55 | J43: 70
A44: 18 | B44: ТЕР15-05-020-01 прим. | C44: Остекление перегородок триплексом | D44: м2 | E44: 6.7 | F44: 67.39 | G44: 9.98 | H44: 4.74 | I44: 0.18 | J44: 452 | K44: 67 | L44: 32 | M44: 1 | N44: 0.81 | O44: 5.43 | P44: 0.01 | Q44: 0.07
...

Sheet 24690
A1: СОГЛАСОВАНО: | E1: ФГУП "Комбинат "Электрохимприбор" | M1: УТВЕРЖДАЮ:
G2: (наименование стройки) | M2: Зам. генерального директора
A3: _____________________________ | M3: Е.В.Гордеев
A4: " _____ " ________________ 201_г. | G4: ЛОКАЛЬНЫЙ СМЕТНЫЙ РАСЧЕТ № 24690
G5: (локальная смета) | M5: "______ " __________2012 г.
C7: на | D7: Реконструкция отопления. г.Лесной, ул.Кирова 1а, Гостиница "Лесная" Бильярдная (инв.№ 8712564)
H8: (наименование работ и затрат, наименование объекта)
D10: Основание: проект № 24463-12-ОВ
D11: Сметная стоимость строительных работ _______________________________________________________________________________________________ | J11: ___________________________3,272 | L11: тыс. руб.
D12: Средства на оплату труда _______________________________________________________________________________________________ | J12: ___________________________0,329 | L12: тыс. руб.
D13: Сметная трудоемкость _______________________________________________________________________________________________ | J13: _______________________________________________________________________________________________24,05 | L13: чел.час
D14: Материалы ___________________________________________________________ | J14: =J48/1000 -> 2.25 | L14: тыс.руб.
D15: Составлен(а) в базовых ценах 2001г. в редакции 2009г.
A17: № пп | B17: Обоснование | C17: Наименование | D17: Ед. изм. | E17: Кол. | F17: Стоимость единицы, руб. | J17: Общая стоимость, руб. | N17: Т/з осн. раб.на ед. | O17: Т/з осн. раб. Всего | P17: Т/з мех. на ед. | Q17: Т/з мех. Всего
F18: Всего | G18: В том числе | J18: Всего | K18: В том числе
G19: Осн.З/п | H19: Эк.Маш | I19: З/пМех | K19: Осн.З/п | L19: Эк.Маш | M19: З/пМех
A20: 1 | B20: 2 | C20: 3 | D20: 4 | E20: 5 | F20: 6 | G20: 7 | H20: 8 | I20: 9 | J20: 10 | K20: 11 | L20: 12 | M20: 13 | N20: 14 | O20: 15 | P20: 16 | Q20: 17
A21: Раздел 1. Разборка.
A22: 1 | B22: ТЕРр65-19-5 | C22: Демонтаж конвекторов | D22: 100 экм | E22: 0.08 | F22: 211.01 | G22: 202.95 | H22: 8.06 | I22: 3.12 | J22: 17 | K22: 16 | L22: 1 | N22: 18.3 | O22: 1.46 | P22: 0.2 | Q22: 0.02
A23: Раздел 2. Отопление.
A24: 2 | B24: ТЕР18-03-001-02 | C24: Установка радиаторов стальных | D24: 100 кВт | E24: 0.0327 | F24: 2426.28 | G24: 828.53 | H24: 270.15 | I24: 20.22 | J24: 79 | K24: 27 | L24: 9 | M24: 1 | N24: 65.6 | O24: 2.15 | P24: 1.28 | Q24: 0.04
A25: Уд | B25: 1. 301-0559 | C25: Радиаторы стальные панельные РСВ2-1, РСВ2-6 однорядные | D25: кВт | E25: 100 3,27 | F25: 179.38 | J25: 586.57
A26: 3 | B26: Цена поставщика. | C26: Радиатор "Термал 300" (Цена: 227,00:1,18:5,56*1,02=35,29) | D26: секций | E26: 30 | F26: 35.29 | J26: 1059
A27: 4 | B27: Цена поставщика. | C27: Заглушка ф=20 (Цена:12,23:1,18:5,56*1,02=1,90) | D27: шт | E27: 8 | F27: 1.9 | J27: 15
A28: 12 | B28: ТЕР16-05-001-01 прим. | C28: Установка клапанов на трубопроводах диаметром до 25 мм | D28: 1 шт. | E28: 4 | F28: 84.1 | G28: 18.79 | H28: 4.23 | J28: 336 | K28: 75 | L28: 17 | N28: 1.47 | O28: 5.88
A29: 5 | B29: ТСЦ-301-1670 прим. | C29: Клапан регулирующий прямой с ручкой, никилированная латунь, муфта-штуцер, Ру 10, Т 110 С, диаметром 15 мм | D29: шт. | E29: 4 | F29: 56.72 | J29: 227
A30: 6 | B30: ТЕР16-02-001-01 | C30: Прокладка трубопроводов отопления из стальных водогазопроводных неоцинкованных труб диаметром 15 мм | D30: 100 м | E30: 0.14 | F30: 3897.38 | G30: 446.74 | H30: 69.04 | I30: 2.73 | J30: 546 | K30: 63 | L30: 10 | N30: 32.97 | O30: 4.62 | P30: 0.15 | Q30: 0.02
A31: 7 | B31: ТЕР16-02-001-02 | C31: Прокладка трубопроводов отопления из стальных водогазопроводных неоцинкованных труб диаметром 20 мм | D31: 100 м | E31: 0.03 | F31: 4340.3 | G31: 446.74 | H31: 69.04 | I31: 2.73 | J31: 130 | K31: 13 | L31: 2 | N31: 32.97 | O31: 0.99 | P31: 0.15
A32: 8 | B32: ТСЦ-301-1224 | C32: Крепления для трубопроводов и радиаторов | D32: кг | E32: 3.4 | F32: 17.02 | J32: 58
A33: 9 | B33: ТЕР16-07-005-01 | C33: Гидравлическое испытание трубопроводов систем отопления, водопровода и горячего водоснабжения диаметром до 50 мм | D33: 100 м | E33: 0.17 | F33: 104.4 | G33: 82.16 | H33: 15.29 | J33: 18 | K33: 14 | L33: 3 | N33: 5.01 | O33: 0.85
A34: 10 | B34: ТЕР13-03-002-04 | C34: Огрунтовка металлических поверхностей за один раз грунтовкой ГФ-021 | D34: 100 м2 | E34: 0.019 | F34: 417.46 | G34: 79.65 | H34: 10.15 | I34: 0.16 | J34: 8 | K34: 2 | N34: 5.31 | O34: 0.1 | P34: 0.01
A35: 11 | B35: ТЕР15-04-030-04 | C35: Масляная окраска металлических труб диаметром менее 50 мм и т.п., количество окрасок 2 | D35: 100 м2 | E35: 0.019 | F35: 1384.09 | G35: 886.83 | H35: 3.68 | I35: 0.16 | J35: 26 | K35: 17 | N35: 71.06 | O35: 1.35 | P35: 0.01
A36: Итого прямые затраты по смете в ценах 2001г. | J36: 2519 | K36: 227 | L36: 42 | M36: 1 | O36: 17.4 | Q36: 0.08
A37: Итого прямые затраты по смете с учетом коэффициентов к итогам | J37: 2643 | K37: 328 | L37: 65 | M37: 1 | O37: 24.05 | Q37: 0.12
A38: В том числе, справочно:
A39: Районный к-т 4,3% (Поз. 1-4, 12, 5-7, 9, 11) | J39: 10 | K39: 10
A40: При ремонте и реконструкции зданий и сооружений работы, аналогичные технологическим процессам в новом строительстве ОЗП=1,15; ЭМ=1,25; ЗПМ=1,25; ТЗ=1,15; ТЗМ=1,25 (Поз. 2-4, 12, 5-7, 9, 11) | J40: 43 | K40: 33 | L40: 10 | O40: 2.376 | Q40: 0.015
A41: Испытание систем отопления. (п. 1.18.16 Тех.часть) ОЗП=1,03; ЭМ=1,03; ЗПМ=1,03; ТЗ=1,03; ТЗМ=1,03 (Поз. 2-4, 12, 5-7, 9) | J41: 9 | K41: 7 | L41: 2 | O41: 0.4998 | Q41: 0.0024
A42: Условия производства работ ОЗП=1,2; ЭМ=1,2; ЗПМ=1,2; ТЗ=1,2; ТЗМ=1,2 (Поз. 2-4, 12, 5-7, 9, 11) | J42: 62 | K42: 52 | L42: 11 | O42: 3.742 | Q42: 0.016
A43: Накладные расходы | J43: 406
...

Sheet 24733
A1: СОГЛАСОВАНО: | E1: ФГУП "Комбинат "Электрохимприбор" | M1: УТВЕРЖДАЮ:
G2: (наименование стройки) | M2: Зам. генерального директора
M3: Е.В.Гордеев
A4: _________________ | M4: _________________
A5: " _____ " ________________ 201_ г. | M5: "______ " __________201_ г.
G6: ЛОКАЛЬНЫЙ СМЕТНЫЙ РАСЧЕТ № 24733
G7: (локальная смета)
C9: на | D9: Реконструкцию силовых и осветительных сетей. г.Лесной, ул.Кирова, 1а. Гостиница "Лесная"
E10: Бильярдная. Инв. № 8712564.
H11: (наименование работ и затрат, наименование объекта)
D13: Основание: проект №24495-12-ЭМ
D14: Сметная стоимость _______________________________________________________________________________________________ | J14: ___________________________27,417 | L14: тыс. руб.
D15: строительных работ _______________________________________________________________________________________________ | J15: _______________________________________________________________________________________________1,405 | L15: тыс. руб.
D16: монтажных работ _______________________________________________________________________________________________ | J16: _______________________________________________________________________________________________26,012 | L16: тыс. руб.
D17: Средства на оплату труда _______________________________________________________________________________________________ | J17: ___________________________5,534 | L17: тыс. руб.
D18: Сметная трудоемкость _______________________________________________________________________________________________ | J18: _______________________________________________________________________________________________340,83 | L18: чел.час
D19: Составлен(а) в базовых ценах 2001г. в редакции 2009г.
A21: № пп | B21: Обоснование | C21: Наименование | D21: Ед. изм. | E21: Кол. | F21: Стоимость единицы, руб. | J21: Общая стоимость, руб. | N21: Т/з осн. раб.на ед. | O21: Т/з осн. раб. Всего | P21: Т/з мех. на ед. | Q21: Т/з мех. Всего
F22: Всего | G22: В том числе | J22: Всего | K22: В том числе
G23: Осн.З/п | H23: Эк.Маш | I23: З/пМех | K23: Осн.З/п | L23: Эк.Маш | M23: З/пМех
A24: 1 | B24: 2 | C24: 3 | D24: 4 | E24: 5 | F24: 6 | G24: 7 | H24: 8 | I24: 9 | J24: 10 | K24: 11 | L24: 12 | M24: 13 | N24: 14 | O24: 15 | P24: 16 | Q24: 17
A25: Раздел 1. Демонтажные работы
A26: 1 | B26: ТЕРр67-4-3 | C26: Демонтаж светильников с лампами накаливания | D26: 100 шт. | E26: 0.05 | F26: 70.67 | G26: 69.46 | H26: 1.21 | I26: 0.47 | J26: 4 | K26: 4 | N26: 6.32 | O26: 0.32 | P26: 0.03
A27: 2 | B27: ТЕРр67-4-1 | C27: Демонтаж выключателей, розеток | D27: 100 шт. | E27: 0.03 | F27: 64.18 | G27: 64.18 | J27: 2 | K27: 2 | N27: 5.84 | O27: 0.18
A28: 3 | B28: ТЕРм08-03-545-01 | C28: Демонтаж: ответвительная коробка скрытой проводки КОЭФ. К ПОЗИЦИИ: демонтаж ОЗП=0,3; ЭМ=0,3 к расх.; ЗПМ=0,3; МАТ=0 к расх.; ТЗ=0,3; ТЗМ=0,3 | D28: 1 шт. | E28: 1 | F28: 13.87 | G28: 13.16 | H28: 0.71 | J28: 14 | K28: 13 | L28: 1 | N28: 0.99 | O28: 0.99
A29: 4 | B29: ТЕРр67-3-1 | C29: Демонтаж кабеля | D29: 100 м | E29: 0.15 | F29: 106.34 | G29: 105.94 | H29: 0.4 | I29: 0.16 | J29: 16 | K29: 16 | N29: 9.64 | O29: 1.45 | P29: 0.01
A30: Раздел 2. Монтажные работы
A31: 5 | B31: ТЕРм08-03-526-01 | C31: Автомат одно-, двух-, трехполюсный, устанавливаемый в шкафу, на ток до 25 А | D31: 1 шт. | E31: 1 | F31: 174.77 | G31: 20.9 | H31: 1.28 | J31: 175 | K31: 21 | L31: 1 | N31: 1.56 | O31: 1.56
A32: 6 | B32: ТСЦ-509-0323 | C32: Выключатели автоматические ВА47-29 16А | D32: шт. | E32: 1 | F32: 33.29 | J32: 33
A33: 7 | B33: ТЕРм08-03-591-09 | C33: Розетка штепсельная утопленного типа при скрытой проводке | D33: 100 шт. | E33: 0.03 | F33: 696.25 | G33: 532.26 | H33: 11.69 | I33: 0.73 | J33: 21 | K33: 16 | N33: 38.1 | O33: 1.14 | P33: 0.04
A34: 8 | B34: Цена поставщика | C34: Розетка одноместная с з/к скрытой установки (в сборе) "UNICA" цвет: белый (Ц:95руб:1,18:5,56) | D34: шт. | E34: 3 | F34: 14.48 | J34: 43
A35: 9 | B35: Цена поставщика | C35: Рамка горизонтальная, 3 места "UNICA" цвет: белый (Ц:540руб:1,18:5,56) | D35: шт. | E35: 1 | F35: 82.31 | J35: 82
A36: 10 | B36: ТЕРм08-03-591-05 | C36: Выключатель двухклавишный утопленного типа при скрытой проводке | D36: 100 шт. | E36: 0.01 | F36: 511.12 | G36: 458.22 | H36: 11.69 | I36: 0.73 | J36: 5 | K36: 5 | N36: 32.8 | O36: 0.33 | P36: 0.04
A37: 11 | B37: Цена поставщика | C37: Выключатель двухклавишный (в сборе) "UNICA" цвет: белый с подсветкой (Ц:576руб:1,18:5,56) | D37: шт. | E37: 1 | F37: 87.79 | J37: 88
A38: 12 | B38: Цена поставщика | C38: Рамка горизонтальная, 2 места "UNICA" цвет: белый (Ц:114руб:1,18:5,56) | D38: шт. | E38: 1 | F38: 17.38 | J38: 17
A39: 13 | B39: ТЕРм08-03-591-02 | C39: Выключатель одноклавишный утопленного типа при скрытой проводке | D39: 100 шт. | E39: 0.01 | F39: 502.57 | G39: 449.83 | H39: 11.69 | I39: 0.73 | J39: 5 | K39: 4 | N39: 32.2 | O39: 0.32 | P39: 0.04
A40: 14 | B40: Цена поставщика | C40: Выключатель одноклавишный (в сборе) "UNICA" цвет: белый с подсветкой (Ц:265руб:1,18:5,56) | D40: шт. | E40: 1 | F40: 40.39 | J40: 40
A41: 15 | B41: Цена поставщика | C41: Коробка КМ41024 распаячная d80х40мм для полых стен (металлические лапки, с крышкой ) UKG01-080-040-000-M (Ц:15,44руб:1,18:5,56) | D41: шт. | E41: 3 | F41: 2.35 | J41: 7
A42: 16 | B42: Цена поставщика | C42: Коробка КМ40022 установочная d65х46мм для полых стен (с саморезами, пластиковые лапки) UKG10-065-040-000-P (Ц:8,11руб:1,18:5,56) | D42: шт. | E42: 6 | F42: 1.24 | J42: 7
A43: 17 | B43: Цена поставщика | C43: Коробка КМ41237 распаячная для о/п d75х40мм IP44 (RAL7035, 4 гермоввода) UKO11-075-040-000-K41-44 (Ц:21руб:1,18:5.56) | D43: шт. | E43: 13 | F43: 3.2 | J43: 42
...

Sheet 24734
A1: СОГЛАСОВАНО: | E1: ФГУП "Комбинат "Электрохимприбор" | M1: УТВЕРЖДАЮ:
G2: (наименование стройки) | M2: Зам. генерального директора
M3: Е.В.Гордеев
A4: _________________ | M4: _________________
A5: " _____ " ________________ 201_ г. | M5: "______ " __________201_ г.
G6: ЛОКАЛЬНЫЙ СМЕТНЫЙ РАСЧЕТ № 24734
G7: (локальная смета)
C9: на | D9: Реконструкцию пожарной сигнализации. г.Лесной, ул.Кирова, 1а. Гостиница "Лесная"
E10: Бильярдная. Инв. № 8712564.
H11: (наименование работ и затрат, наименование объекта)
D13: Основание: проект № 24502-12-ПС
D14: Сметная стоимость монтажных работ _______________________________________________________________________________________________ | J14: ___________________________1,476 | L14: тыс. руб.
D15: Средства на оплату труда _______________________________________________________________________________________________ | J15: ___________________________0,175 | L15: тыс. руб.
D16: Сметная трудоемкость _______________________________________________________________________________________________ | J16: _______________________________________________________________________________________________12,26 | L16: чел.час
D17: Составлен(а) в базовых ценах 2001г. в редакции 2009г.
A19: № пп | B19: Обоснование | C19: Наименование | D19: Ед. изм. | E19: Кол. | F19: Стоимость единицы, руб. | J19: Общая стоимость, руб. | N19: Т/з осн. раб.на ед. | O19: Т/з осн. раб. Всего | P19: Т/з мех. на ед. | Q19: Т/з мех. Всего
F20: Всего | G20: В том числе | J20: Всего | K20: В том числе
G21: Осн.З/п | H21: Эк.Маш | I21: З/пМех | K21: Осн.З/п | L21: Эк.Маш | M21: З/пМех
A22: 1 | B22: 2 | C22: 3 | D22: 4 | E22: 5 | F22: 6 | G22: 7 | H22: 8 | I22: 9 | J22: 10 | K22: 11 | L22: 12 | M22: 13 | N22: 14 | O22: 15 | P22: 16 | Q22: 17
A23: Раздел 1. Демонтажные работы
A24: 1 | B24: ТЕРм10-08-002-01 | C24: Демонтаж: извещатель ПС автоматический тепловой электро-контактный, магнитоконтактный в нормальном исполнении КОЭФ. К ПОЗИЦИИ: демонтаж ОЗП=0,3; ЭМ=0,3 к расх.; ЗПМ=0,3; МАТ=0 к расх.; ТЗ=0,3; ТЗМ=0,3 | D24: 1 шт. | E24: 2 | F24: 3.47 | G24: 3.42 | H24: 0.05 | J24: 7 | K24: 7 | N24: 0.25 | O24: 0.5
A25: 2 | B25: ТЕРм08-02-402-01 | C25: Демонтаж:кабель КОЭФ. К ПОЗИЦИИ: демонтаж ОЗП=0,3; ЭМ=0,3 к расх.; ЗПМ=0,3; МАТ=0 к расх.; ТЗ=0,3; ТЗМ=0,3 | D25: 100 м | E25: 0.1 | F25: 272.03 | G25: 60.82 | H25: 211.21 | I25: 26.2 | J25: 27 | K25: 6 | L25: 21 | M25: 3 | N25: 4.59 | O25: 0.46 | P25: 1.58 | Q25: 0.16
A26: Раздел 2. Монтажные работы
A27: 3 | B27: Цена поставщика | C27: ИП 212 - 45 Серия "Марко" для подвесного потолка (Ц:255,31руб :1,18:5,56) | D27: шт | E27: 3 | F27: 38.91 | J27: 117
A28: 4 | B28: ТЕРм10-08-002-02 | C28: Извещатель ПС автоматический дымовой, фотоэлектрический, радиоизотопный, световой в нормальном исполнении | D28: 1 шт. | E28: 2 | F28: 28.38 | G28: 22.76 | H28: 0.46 | J28: 57 | K28: 46 | L28: 1 | N28: 1.68 | O28: 3.36
A29: 5 | B29: ТЕРм08-02-413-01 | C29: Провод (кабель), количество проводов в резинобитумной трубке до 2, сечение провода до 6 мм2 | D29: 100 м трубок | E29: 0.3 | F29: 1497.34 | G29: 267.65 | H29: 64.3 | I29: 4 | J29: 449 | K29: 80 | L29: 19 | M29: 1 | N29: 20.2 | O29: 6.06 | P29: 0.22 | Q29: 0.07
A30: 6 | B30: Цена поставщика | C30: Кабель КПСЭнг-FRLS 1x2x0,5 (Ц:43490руб :1,18:5,56) | D30: 1000м | E30: 0.0306 | F30: 6628.76 | J30: 203
A31: 7 | B31: ТСЦ-301-1380 | C31: Трубки защитные гофрированные | D31: м | E31: 30 | F31: 10.01 | J31: 300
A32: 8 | B32: Цена поставщика | C32: Коробка распределительная DKC SDMN для кабель-канала высота 10-22, 00677 (Ц:81руб:1,18:5,56) | D32: шт. | E32: 1 | F32: 12.35 | J32: 12
A33: Итого прямые затраты по смете в ценах 2001г. | J33: 1172 | K33: 139 | L33: 41 | M33: 4 | O33: 10.38 | Q33: 0.23
A34: Итого прямые затраты по смете с учетом коэффициентов к итогам | J34: 1208 | K34: 171 | L34: 45 | M34: 4 | O34: 12.26 | Q34: 0.24
A35: В том числе, справочно:
A36: Районный к-т 4,3% (Поз. 4-5) | J36: 5 | K36: 5
A37: Условия производства работ ОЗП=1,2; ЭМ=1,2; ЗПМ=1,2; ТЗ=1,2; ТЗМ=1,2 (Поз. 4-5) | J37: 31 | K37: 26 | L37: 4 | O37: 1.884 | Q37: 0.014
A38: Накладные расходы | J38: 157
A39: В том числе, справочно:
A40: 80% ФОТ (от 65) (Поз. 1, 4) | J40: 52
A41: 95% ФОТ (от 110) (Поз. 2, 5) | J41: 105
A42: Сметная прибыль | J42: 111
A43: В том числе, справочно:
...

Sheet 24727
A1: СОГЛАСОВАНО: | E1: ФГУП "Комбинат "Электрохимприбор" | M1: УТВЕРЖДАЮ:
G2: (наименование стройки) | M2: Зам. генерального директора
M3: Е.В.Гордеев
A4: _________________ | M4: _________________
A5: " _____ " ________________ 201_ г. | M5: "______ " __________201_ г.
G6: ЛОКАЛЬНЫЙ СМЕТНЫЙ РАСЧЕТ № 24727
G7: (локальная смета)
C9: на | D9: Реконструкцию водопровода и канализации. г.Лесной, ул.Кирова, 1а. Гостиница "Лесная"
E10: Гостиничный номер 4 этажа. Инв. № 8712564.
H11: (наименование работ и затрат, наименование объекта)
D13: Основание: Проект № 24489-12-ВК
D14: Сметная стоимость строительных работ _______________________________________________________________________________________________ | J14: ___________________________18,381 | L14: тыс. руб.
D15: Средства на оплату труда _______________________________________________________________________________________________ | J15: ___________________________1,858 | L15: тыс. руб.
D16: Сметная трудоемкость _______________________________________________________________________________________________ | J16: _______________________________________________________________________________________________132,47 | L16: чел.час
D17: Составлен(а) в базовых ценах 2001г. в редакции 2009г.
A19: № пп | B19: Обоснование | C19: Наименование | D19: Ед. изм. | E19: Кол. | F19: Стоимость единицы, руб. | J19: Общая стоимость, руб. | N19: Т/з осн. раб.на ед. | O19: Т/з осн. раб. Всего | P19: Т/з мех. на ед. | Q19: Т/з мех. Всего
F20: Всего | G20: В том числе | J20: Всего | K20: В том числе
G21: Осн.З/п | H21: Эк.Маш | I21: З/пМех | K21: Осн.З/п | L21: Эк.Маш | M21: З/пМех
A22: 1 | B22: 2 | C22: 3 | D22: 4 | E22: 5 | F22: 6 | G22: 7 | H22: 8 | I22: 9 | J22: 10 | K22: 11 | L22: 12 | M22: 13 | N22: 14 | O22: 15 | P22: 16 | Q22: 17
A23: Раздел 1. Разборка.
A24: 1 | B24: ТЕРр65-1-1 | C24: Разборка трубопроводов из водога-зопроводных труб диаметром до 32 мм | D24: 100 м | E24: 0.05 | F24: 483.12 | G24: 405.87 | H24: 8.12 | I24: 1.56 | J24: 24 | K24: 20 | N24: 34.66 | O24: 1.73 | P24: 0.1 | Q24: 0.01
A25: 2 | B25: ТЕРр65-2-2 | C25: Разборка трубопроводов из чугунных канализационных труб диаметром 100 мм | D25: 100 м | E25: 0.02 | F25: 1028.82 | G25: 1015.92 | H25: 12.9 | I25: 5 | J25: 21 | K25: 21 | N25: 85.3 | O25: 1.71 | P25: 0.32 | Q25: 0.01
A26: 3 | B26: ТЕРр65-2-1 | C26: Разборка трубопроводов из чугунных канализационных труб диаметром 50 мм | D26: 100 м | E26: 0.05 | F26: 825.86 | G26: 819.41 | H26: 6.45 | I26: 2.5 | J26: 41 | K26: 41 | N26: 68.8 | O26: 3.44 | P26: 0.16 | Q26: 0.01
A27: 4 | B27: ТЕРр65-4-2 | C27: Разборка унитазов и писсуаров | D27: 100 шт. | E27: 0.01 | F27: 778.41 | G27: 766.72 | H27: 11.69 | I27: 4.53 | J27: 8 | K27: 8 | N27: 63.84 | O27: 0.64 | P27: 0.29
A28: 5 | B28: ТЕРр65-3-7 | C28: Снятие смесителя без душевой сетки | D28: 101 шт. | E28: 0.02 | F28: 443.71 | G28: 440.89 | H28: 2.82 | I28: 1.09 | J28: 9 | K28: 9 | N28: 36.71 | O28: 0.73 | P28: 0.07
A29: 6 | B29: ТЕРр65-3-6 | C29: Снятие смесителя с душевой сеткой | D29: 102 шт. | E29: 0.01 | F29: 696.26 | G29: 691.42 | H29: 4.84 | I29: 1.87 | J29: 7 | K29: 7 | N29: 57.57 | O29: 0.58 | P29: 0.12
A30: 7 | B30: ТЕРр65-4-1 | C30: Разборка умывальников и раковин | D30: 103 шт. | E30: 0.01 | F30: 626.59 | G30: 616.11 | H30: 10.48 | I30: 4.06 | J30: 6 | K30: 6 | N30: 51.3 | O30: 0.51 | P30: 0.26
A31: 8 | B31: ТЕРр65-4-3 | C31: Разборка моек | D31: 104 шт. | E31: 0.01 | F31: 1264.07 | G31: 1232.23 | H31: 31.84 | I31: 12.34 | J31: 13 | K31: 13 | N31: 102.6 | O31: 1.03 | P31: 0.79 | Q31: 0.01
A32: 9 | B32: ТЕР17-01-001-18 прим. | C32: Разборка поддонов душевых КОЭФ. К ПОЗИЦИИ: Разборка ОЗП=0,4; ЭМ=0,4 к расх.; ЗПМ=0,4; МАТ=0 к расх.; ТЗ=0,4; ТЗМ=0,4 | D32: 10 компл. | E32: 0.1 | F32: 89.8 | G32: 59.02 | H32: 30.78 | I32: 1.44 | J32: 9 | K32: 6 | L32: 3 | N32: 4.36 | O32: 0.44 | P32: 0.09 | Q32: 0.01
A33: Раздел 2. Водопровод.
A34: 10 | B34: ТЕР16-02-002-03 | C34: Прокладка трубопроводов водоснабжения из стальных водогазопроводных оцинкованных труб диаметром 25 мм | D34: 100 м трубопровода | E34: 0.02 | F34: 6208.42 | G34: 502.3 | H34: 79.16 | I34: 2.73 | J34: 124 | K34: 10 | L34: 2 | N34: 37.07 | O34: 0.74 | P34: 0.15
A35: 11 | B35: ТЕР16-02-002-01 | C35: Прокладка трубопроводов водоснабжения из стальных водогазопроводных оцинкованных труб диаметром 15 мм | D35: 100 м | E35: 0.015 | F35: 5020.27 | G35: 502.3 | H35: 79.16 | I35: 2.73 | J35: 75 | K35: 8 | L35: 1 | N35: 37.07 | O35: 0.56 | P35: 0.15
A36: 12 | B36: ТЕР16-03-002-01 | C36: Прокладка трубопроводов водоснабжения из многослойных металл-полимерных труб диаметром 15 мм | D36: 100 м | E36: 0.2 | F36: 6136.29 | G36: 1541.12 | H36: 66.7 | I36: 1.27 | J36: 1227 | K36: 308 | L36: 13 | N36: 112 | O36: 22.4 | P36: 0.07 | Q36: 0.01
A37: 13 | B37: ТСЦ-302-1381 прим. | C37: Фасонные и соединительные части к многослойным металлополимерным трубам | D37: шт. | E37: 24 | F37: 50.98 | J37: 1224
A38: 14 | B38: ТСЦ-302-1461 | C38: Фиксатор пластмассовый ординарный для металлополимерных труб размером 1/2" | D38: шт. | E38: 40 | F38: 3.17 | J38: 127
A39: 15 | B39: ТСЦ-302-1485 прим. | C39: Кран шаровой PPRC Ду 15 | D39: шт. | E39: 8 | F39: 129.12 | J39: 1033
A40: 16 | B40: ТСЦ-302-1136 | C40: Вентили проходные муфтовые 15KЧ18Р для воды, давлением 1,6 МПа (16 кгс/см2), диаметром 25 мм | D40: шт. | E40: 1 | F40: 43.84 | J40: 44
A41: 17 | B41: ТЕР18-06-007-01 | C41: Установка фильтров диаметром до 25 мм | D41: 10 фильтров | E41: 0.2 | F41: 5347.8 | G41: 108.39 | H41: 64.42 | I41: 0.18 | J41: 1070 | K41: 22 | L41: 13 | N41: 8.18 | O41: 1.64 | P41: 0.01
A42: 18 | B42: ТЕРр65-6-10 прим. | C42: Установка гибких подводок | D42: 100 шт. | E42: 0.06 | F42: 4008.14 | G42: 669.67 | H42: 7.47 | I42: 0.78 | J42: 240 | K42: 40 | N42: 52.4 | O42: 3.14 | P42: 0.05
A43: 19 | B43: ТЕР20-02-003-09 прим. | C43: Установка лючков ПВХ размером 300х600 мм | D43: 1 решетка | E43: 1 | F43: 112.5 | G43: 14.78 | H43: 2.94 | J43: 113 | K43: 15 | L43: 3 | N43: 1.17 | O43: 1.17
...

Sheet 24729
A1: СОГЛАСОВАНО: | E1: ФГУП "Комбинат "Электрохимприбор" | M1: УТВЕРЖДАЮ:
G2: (наименование стройки) | M2: Зам. генерального директора
M3: Е.В.Гордеев
A4: _________________ | M4: _________________
A5: " _____ " ________________ 201_ г. | M5: "______ " __________201_ г.
G6: ЛОКАЛЬНЫЙ СМЕТНЫЙ РАСЧЕТ № 24729
G7: (локальная смета)
C9: на | D9: Реконструкцию отопления. г.Лесной, ул.Кирова, 1а. Гостиница "Лесная"
E10: Гостиничный номер 4 этажа. Инв. № 8712564.
H11: (наименование работ и затрат, наименование объекта)
D13: Основание: Проект № 24490-12-ОВ
D14: Сметная стоимость строительных работ _______________________________________________________________________________________________ | J14: ___________________________15,147 | L14: тыс. руб.
D15: Средства на оплату труда _______________________________________________________________________________________________ | J15: ___________________________0,868 | L15: тыс. руб.
D16: Сметная трудоемкость _______________________________________________________________________________________________ | J16: _______________________________________________________________________________________________64,38 | L16: чел.час
D17: Составлен(а) в базовых ценах 2001г. в редакции 2009г.
A19: № пп | B19: Обоснование | C19: Наименование | D19: Ед. изм. | E19: Кол. | F19: Стоимость единицы, руб. | J19: Общая стоимость, руб. | N19: Т/з осн. раб.на ед. | O19: Т/з осн. раб. Всего | P19: Т/з мех. на ед. | Q19: Т/з мех. Всего
F20: Всего | G20: В том числе | J20: Всего | K20: В том числе
G21: Осн.З/п | H21: Эк.Маш | I21: З/пМех | K21: Осн.З/п | L21: Эк.Маш | M21: З/пМех
A22: 1 | B22: 2 | C22: 3 | D22: 4 | E22: 5 | F22: 6 | G22: 7 | H22: 8 | I22: 9 | J22: 10 | K22: 11 | L22: 12 | M22: 13 | N22: 14 | O22: 15 | P22: 16 | Q22: 17
A23: Раздел 1. Разборка конструкций
A24: 1 | B24: ТЕРр65-19-1 | C24: Демонтаж радиаторов весом до 80 кг | D24: 100 шт. | E24: 0.09 | F24: 1310.17 | G24: 1219.9 | H24: 90.27 | I24: 34.99 | J24: 118 | K24: 110 | L24: 8 | M24: 3 | N24: 110 | O24: 9.9 | P24: 2.24 | Q24: 0.2
A25: 2 | B25: ТЕРр65-13-1 | C25: Демонтаж воздухосборников | D25: 100 шт. | E25: 0.02 | F25: 589.69 | G25: 589.69 | J25: 12 | K25: 12 | N25: 49.1 | O25: 0.98
A26: 3 | B26: ТЕРр65-14-1 | C26: Разборка трубопроводов из водогазопроводных труб в зданиях и сооружениях на резьбе диаметром до 32 мм | D26: 100 м трубопровода | E26: 0.35 | F26: 453.98 | G26: 453.98 | J26: 159 | K26: 159 | N26: 37.8 | O26: 13.23
A27: Раздел 2. Отопление
A28: 4 | B28: ТЕР18-03-001-02 | C28: Установка радиаторов стальных | D28: 100 кВт радиаторов | E28: 0.08517 | F28: 2426.28 | G28: 828.53 | H28: 270.15 | I28: 20.22 | J28: 207 | K28: 71 | L28: 23 | M28: 2 | N28: 65.6 | O28: 5.59 | P28: 1.28 | Q28: 0.11
A29: 5 | B29: ТСЦ-301-1245 | C29: Радиаторы алюминивые, количество секций 1, мощность 155 Вт | D29: шт. | E29: 51 | F29: 175.66 | J29: 8959
A30: 6 | B30: ТСЦ-301-1308 | C30: Пробки радиаторные | D30: шт. | E30: 8 | F30: 19.04 | J30: 152
A31: 7 | B31: ТЕР18-07-001-05 | C31: Установка кранов воздушных | D31: 1 компл. | E31: 8 | F31: 2.68 | G31: 1.73 | J31: 21 | K31: 14 | N31: 0.12 | O31: 0.96
A32: 8 | B32: ТСЦ-301-1313 | C32: Кран радиаторный прямой, верхний | D32: шт. | E32: 8 | F32: 127.09 | J32: 1017
A33: 9 | B33: ТЕР16-02-001-01 | C33: Прокладка трубопроводов отопления из стальных водогазопроводных неоцинкованных труб диаметром 15 мм | D33: 100 м трубопровода | E33: 0.17 | F33: 3897.38 | G33: 446.74 | H33: 69.04 | I33: 2.73 | J33: 663 | K33: 76 | L33: 12 | N33: 32.97 | O33: 5.6 | P33: 0.15 | Q33: 0.03
A34: 10 | B34: ТЕР16-02-001-02 | C34: Прокладка трубопроводов отопления из стальных водогазопроводных неоцинкованных труб диаметром 20 мм | D34: 100 м трубопровода | E34: 0.075 | F34: 4340.3 | G34: 446.74 | H34: 69.04 | I34: 2.73 | J34: 326 | K34: 34 | L34: 5 | N34: 32.97 | O34: 2.47 | P34: 0.15 | Q34: 0.01
A35: 11 | B35: ТЕР16-02-001-04 | C35: Прокладка трубопроводов отопления из стальных водогазопроводных неоцинкованных труб диаметром 32 мм | D35: 100 м трубопровода | E35: 0.12 | F35: 5528.68 | G35: 446.74 | H35: 69.04 | I35: 2.73 | J35: 663 | K35: 54 | L35: 8 | N35: 32.97 | O35: 3.96 | P35: 0.15 | Q35: 0.02
A36: 12 | B36: ТСЦ-301-1224 | C36: Крепления для трубопроводов: кронштейны, планки, хомуты | D36: кг | E36: 1.2 | F36: 17.02 | J36: 20
A37: 13 | B37: ТСЦ-302-1341 | C37: Вентили проходные муфтовые 15кч18п для воды давлением 1,6 МПа (16 кгс/см2), диаметром 15 мм | D37: шт. | E37: 1 | F37: 26.18 | J37: 26
A38: 14 | B38: ТСЦ-302-1831 | C38: Кран шаровой муфтовый 11Б27П1, диаметром 15 мм | D38: шт. | E38: 2 | F38: 25.14 | J38: 50
A39: 15 | B39: ТСЦ-302-1832 | C39: Кран шаровой муфтовый 11Б27П1, диаметром 20 мм | D39: шт. | E39: 1 | F39: 39.32 | J39: 39
A40: 16 | B40: ТСЦ-302-1834 | C40: Кран шаровой муфтовый 11Б27П1, диаметром 32 мм | D40: шт. | E40: 1 | F40: 117.5 | J40: 118
A41: 17 | B41: ТЕР18-06-003-03 | C41: Установка воздухосборников наружным диаметром 108 мм | D41: 1 шт. | E41: 2 | F41: 171.76 | G41: 16.21 | H41: 9.06 | I41: 0.18 | J41: 344 | K41: 32 | L41: 18 | N41: 1.21 | O41: 2.42 | P41: 0.01 | Q41: 0.02
A42: 18 | B42: ТЕР16-07-005-01 | C42: Гидравлическое испытание трубопроводов систем отопления, водопровода и горячего водоснабжения диаметром до 50 мм | D42: 100 м трубопровода | E42: 0.365 | F42: 104.4 | G42: 82.16 | H42: 15.29 | J42: 38 | K42: 30 | L42: 6 | N42: 5.01 | O42: 1.83
A43: 19 | B43: ТЕР15-04-030-04 | C43: Масляная окраска металлических поверхностей труб диаметром менее 50 мм и т.п., количество окрасок 2 | D43: 100 м2 | E43: 0.05 | F43: 1384.09 | G43: 886.83 | H43: 3.68 | I43: 0.16 | J43: 69 | K43: 44 | N43: 71.06 | O43: 3.55 | P43: 0.01
...

Sheet 24730
A1: СОГЛАСОВАНО: | E1: ФГУП "Комбинат "Электрохимприбор" | M1: УТВЕРЖДАЮ:
G2: (наименование стройки) | M2: Зам. генерального директора
M3: Е.В.Гордеев
A4: _________________ | M4: _________________
A5: " _____ " ________________ 201_ г. | M5: "______ " __________201_ г.
G6: ЛОКАЛЬНЫЙ СМЕТНЫЙ РАСЧЕТ № 24730
G7: (локальная смета)
C9: на | D9: Реконструкцию вентиляции. г.Лесной, ул.Кирова, 1а. Гостиница "Лесная"
E10: Гостиничный номер 4 этажа. Инв. № 8712564.
H11: (наименование работ и затрат, наименование объекта)
D13: Основание: Проект № 24499-12-ОВ
D14: Сметная стоимость строительных работ _______________________________________________________________________________________________ | J14: ___________________________4,191 | L14: тыс. руб.
D15: Средства на оплату труда _______________________________________________________________________________________________ | J15: ___________________________0,257 | L15: тыс. руб.
D16: Сметная трудоемкость _______________________________________________________________________________________________ | J16: _______________________________________________________________________________________________20,12 | L16: чел.час
D17: Составлен(а) в базовых ценах 2001г. в редакции 2009г.
A19: № пп | B19: Обоснование | C19: Наименование | D19: Ед. изм. | E19: Кол. | F19: Стоимость единицы, руб. | J19: Общая стоимость, руб. | N19: Т/з осн. раб.на ед. | O19: Т/з осн. раб. Всего | P19: Т/з мех. на ед. | Q19: Т/з мех. Всего
F20: Всего | G20: В том числе | J20: Всего | K20: В том числе
G21: Осн.З/п | H21: Эк.Маш | I21: З/пМех | K21: Осн.З/п | L21: Эк.Маш | M21: З/пМех
A22: 1 | B22: 2 | C22: 3 | D22: 4 | E22: 5 | F22: 6 | G22: 7 | H22: 8 | I22: 9 | J22: 10 | K22: 11 | L22: 12 | M22: 13 | N22: 14 | O22: 15 | P22: 16 | Q22: 17
A23: Раздел 1. Вентиляция
A24: 1 | B24: ТЕР20-03-001-01 | C24: Установка вентиляторов массой до 0,05 т | D24: 1 вентилятор | E24: 1 | F24: 100.35 | G24: 78.55 | H24: 6.66 | I24: 0.18 | J24: 100 | K24: 79 | L24: 7 | N24: 6.54 | O24: 6.54 | P24: 0.01 | Q24: 0.01
A25: 2 | B25: Цена поставщика | C25: Вентилятор канальный KV 100 XL (Цена:6127,75руб :1,18:5,56х1,02) | D25: комп-кт | E25: 1 | F25: 952.67 | J25: 953
A26: 3 | B26: Цена поставщика | C26: Быстросъемная муфта FK 100 (Цена:125,06руб :1,18:5,56х1,02) | D26: комп-кт | E26: 1 | F26: 19.44 | J26: 19
A27: 4 | B27: Цена поставщика | C27: Жалюзи VK 15*3 (Цена:1458.99руб :1,18:5,56х1,02) | D27: комп-кт | E27: 1 | F27: 226.83 | J27: 227
A28: 5 | B28: Цена поставщика | C28: Трансформатор RE 1.5 (Цена:5210,68руб :1,18:5,56х1,02) | D28: комп-кт | E28: 1 | F28: 810.1 | J28: 810
A29: 6 | B29: ТЕР20-02-003-04 | C29: Установка решеток жалюзийных стальных штампованных | D29: 1 решетка | E29: 2 | F29: 20.76 | G29: 14.78 | H29: 2.94 | J29: 42 | K29: 30 | L29: 6 | N29: 1.17 | O29: 2.34
A30: 7 | B30: Цена поставщика | C30: Решетки АЛН 150х200мм (Ц:484руб:1,18:5,56х1,02) | D30: шт | E30: 2 | F30: 75.25 | J30: 151
A31: 8 | B31: ТЕР20-01-001-01 | C31: Прокладка воздуховодов из листовой, оцинкованной стали и алюминия класса Н (нормальные) толщиной 0,5 мм, диаметром до 200 мм | D31: 100 м2 | E31: 0.019 | F31: 2810.67 | G31: 2068.04 | H31: 170.31 | I31: 9.46 | J31: 53 | K31: 39 | L31: 3 | N31: 167.86 | O31: 3.19 | P31: 0.52 | Q31: 0.01
A32: 9 | B32: ТЕР20-01-001-01 | C32: Прокладка перехода из листовой, оцинкованной стали толщиной 0,5 мм, диам.100 х диам. 125 мм, L=300 мм | D32: 100 м2 | E32: 0.0035 | F32: 2810.67 | G32: 2068.04 | H32: 170.31 | I32: 9.46 | J32: 10 | K32: 7 | L32: 1 | N32: 167.86 | O32: 0.59 | P32: 0.52
A33: 10 | B33: ТСЦ-301-1786 | C33: Воздуховоды из оцинкованной стали толщиной 0,5 мм, диаметром до 200 мм | D33: м2 | E33: 2.25 | F33: 347.48 | J33: 782
A34: 11 | B34: ТЕР20-01-001-03 | C34: Прокладка воздуховодов из листовой, оцинкованной стали и алюминия класса Н (нормальные) толщиной 0,5 мм, периметром 800, 1000 мм | D34: 100 м2 | E34: 0.008 | F34: 2601.53 | G34: 1893.46 | H34: 136.2 | I34: 7.46 | J34: 21 | K34: 15 | L34: 1 | N34: 153.69 | O34: 1.23 | P34: 0.41
A35: 12 | B35: ТСЦ-301-1787 | C35: Воздуховоды из оцинкованной стали толщиной 0,5 мм, периметром до 600 мм | D35: м2 | E35: 0.8 | F35: 249.07 | J35: 199
A36: 13 | B36: ТСЦ-300-9240-00003 | C36: Крепления для воздуховодов: подвески СТД 6228, СТД 6229 | D36: кг | E36: 0.8 | F36: 12.91 | J36: 10
A37: 14 | B37: ТСЦ-301-0477 | C37: Крепления для воздуховодов | D37: т | E37: 0.00093 | F37: 12914.61 | J37: 12
A38: 15 | B38: ТСЦ-301-3096 | C38: Шиберы в обечайке из тонколистовой оцинкованной и сортовой стали прямоугольные периметром до 600 мм | D38: шт. | E38: 2 | F38: 80.93 | J38: 162
A39: Итого прямые затраты по смете в ценах 2001г. | J39: 3551 | K39: 170 | L39: 18 | O39: 13.89 | Q39: 0.02
A40: Итого прямые затраты по смете с учетом коэффициентов к итогам | J40: 3649 | K40: 257 | L40: 29 | O40: 20.12 | Q40: 0.04
A41: В том числе, справочно:
A42: Районный к-т 4,3% (Поз. 1, 6, 8-9, 11) | J42: 7 | K42: 7
A43: При ремонте и реконструкции зданий и сооружений работы, аналогичные технологическим процессам в новом строительстве ОЗП=1,15; ЭМ=1,25; ЗПМ=1,25; ТЗ=1,15; ТЗМ=1,25 (Поз. 1, 6, 8-9, 11) | J43: 32 | K43: 27 | L43: 4 | O43: 2.0835 | Q43: 0.005
...

Sheet 24732
A1: СОГЛАСОВАНО: | E1: ФГУП "Комбинат "Электрохимприбор" | M1: УТВЕРЖДАЮ:
G2: (наименование стройки) | M2: Зам.генерального директора
A3: _________________ | N3: Е.В. Гордеев
A4: " _____ " ________________ 201_ г. | M4: __________________
G5: ЛОКАЛЬНЫЙ СМЕТНЫЙ РАСЧЕТ № 24732 | M5: "______ " __________201_ г.
G6: (локальная смета)
C8: на | D8: реконструкцию. Архитектурно-строительные решения. г. Лесной, ул.Кирова, 1а
E9: Гостиница "Лесная". Гостиничный номер. 4 этаж (инв. № 8712564)
D12: Основание: проект № 24508-12-АС
D13: Сметная стоимость строительных работ _______________________________________________________________________________________________ | J13: ___________________________163,505 | L13: тыс. руб.
D14: Средства на оплату труда _______________________________________________________________________________________________ | J14: ___________________________15,716 | L14: тыс. руб.
D15: Сметная трудоемкость _______________________________________________________________________________________________ | J15: _______________________________________________________________________________________________1156,22 | L15: чел.час
D16: Материалы ____________________________________________________________ | K16: 119,711 тыс.руб.
D17: Составлен(а) в базовых ценах 2001г. в редакции 2009г.
A19: № пп | B19: Обоснование | C19: Наименование | D19: Ед. изм. | E19: Кол. | F19: Стоимость единицы, руб. | J19: Общая стоимость, руб. | N19: Т/з осн. раб.на ед. | O19: Т/з осн. раб. Всего | P19: Т/з мех. на ед. | Q19: Т/з мех. Всего
F20: Всего | G20: В том числе | J20: Всего | K20: В том числе
G21: Осн.З/п | H21: Эк.Маш | I21: З/пМех | K21: Осн.З/п | L21: Эк.Маш | M21: З/пМех
A22: 1 | B22: 2 | C22: 3 | D22: 4 | E22: 5 | F22: 6 | G22: 7 | H22: 8 | I22: 9 | J22: 10 | K22: 11 | L22: 12 | M22: 13 | N22: 14 | O22: 15 | P22: 16 | Q22: 17
A23: Раздел 1. Разборка конструкций
A24: 1 | B24: ТЕР46-04-012-03 | C24: Разборка деревянных заполнений проемов дверных | D24: 100 м2 | E24: 0.12 | F24: 1496.49 | G24: 1184.57 | H24: 311.92 | I24: 120.9 | J24: 180 | K24: 143 | L24: 37 | M24: 15 | N24: 103.91 | O24: 12.47 | P24: 7.74 | Q24: 0.93
A25: 2 | B25: ТЕРр55-5-1 | C25: Разборка кирпичных перегородок | D25: 100 м2 | E25: 0.461 | F25: 2694.87 | G25: 1695.81 | H25: 999.06 | I25: 91.06 | J25: 1242 | K25: 782 | L25: 460 | M25: 42 | N25: 141.2 | O25: 65.09 | P25: 6.72 | Q25: 3.1
A26: 3 | B26: ТЕР46-04-012-01 | C26: Разборка деревянных заполнений проемов оконных с подоконными досками | D26: 100 м2 | E26: 0.084 | F26: 2461.28 | G26: 2149.36 | H26: 311.92 | I26: 120.9 | J26: 207 | K26: 181 | L26: 26 | M26: 10 | N26: 188.54 | O26: 15.84 | P26: 7.74 | Q26: 0.65
A27: 4 | B27: ТЕРр63-7-5 | C27: Разборка облицовки стен из керамических глазурованных плиток | D27: 100 м2 | E27: 0.147 | F27: 1081.91 | G27: 823.99 | H27: 257.92 | I27: 27.68 | J27: 159 | K27: 121 | L27: 38 | M27: 4 | N27: 74.3 | O27: 10.92 | P27: 1.99 | Q27: 0.29
A28: 5 | B28: ТЕРр57-2-3 | C28: Разборка покрытий полов из керамических плиток | D28: 100 м2 | E28: 0.046 | F28: 897.17 | G28: 839.14 | H28: 58.03 | I28: 22.49 | J28: 41 | K28: 39 | L28: 2 | M28: 1 | N28: 69.87 | O28: 3.21 | P28: 1.44 | Q28: 0.07
A29: 6 | B29: ТЕРр57-2-4 | C29: Разборка цементной стяжки | D29: 100 м2 | E29: 0.046 | F29: 4262.51 | G29: 1335.51 | H29: 2927 | I29: 288.33 | J29: 196 | K29: 61 | L29: 135 | M29: 13 | N29: 111.2 | O29: 5.12 | P29: 21 | Q29: 0.97
A30: 7 | B30: ТЕРр57-3-1 | C30: Разборка плинтусов деревянных и из пластмассовых материалов | D30: 100 м плинтуса | E30: 0.867 | F30: 41.43 | G30: 41.43 | J30: 36 | K30: 36 | N30: 3.77 | O30: 3.27
A31: 8 | B31: ТЕРр57-2-1 | C31: Разборка покрытий полов из линолеума | D31: 100 м2 | E31: 0.887 | F31: 130.42 | G31: 125.18 | H31: 5.24 | I31: 2.03 | J31: 116 | K31: 111 | L31: 5 | M31: 2 | N31: 11.39 | O31: 10.1 | P31: 0.13 | Q31: 0.12
A32: 9 | B32: ТЕРр63-12-1 | C32: Снятие плит подвесного потолка Армстронг с обратной укладкой их в подвесную конструкцию КОЭФ. К ПОЗИЦИИ: Новый коэффициент ОЗП=0,8; ЭМ=0,8 к расх.; ЗПМ=0,8; ТЗ=0,8; ТЗМ=0,8 | D32: 100 м2 | E32: 0.198 | F32: 5283.06 | G32: 413.16 | H32: 23.27 | I32: 2.25 | J32: 1046 | K32: 82 | L32: 5 | N32: 33.54 | O32: 6.64 | P32: 0.14 | Q32: 0.03
A33: 10 | B33: ТЕР46-03-009-02 | C33: Пробивка в кирпичных стенах гнезд размером до 260х260 мм | D33: 100 шт. | E33: 0.03 | F33: 3359.59 | G33: 689.7 | H33: 2669.89 | I33: 247.26 | J33: 101 | K33: 21 | L33: 80 | M33: 7 | N33: 53.3 | O33: 1.6 | P33: 15.83 | Q33: 0.47
A34: 11 | B34: ТЕРр56-10-1 | C34: Снятие дверных полотен пожарных ящиков | D34: 100 м2 | E34: 0.02 | F34: 405.97 | G34: 405.97 | J34: 8 | K34: 8 | N34: 36.28 | O34: 0.73
A35: 12 | B35: СЦП1-1-27-А | C35: Погрузочные работы при автомобильных перевозках: мусор строительный КОЭФ. К ПОЗИЦИИ: Коэффициент техн.часть п.3 ПЗ=1,025 (ОЗП=1,025; ЭМ=1,025 к расх.; ЗПМ=1,025; МАТ=1,025 к расх.; ТЗ=1,025; ТЗМ=1,025) | D35: т | E35: 13.76 | F35: 2.77 | G35: 2.77 | J35: 38 | K35: 38
A36: 13 | B36: СЦП3-3-40-1 | C36: Перевозка грузов (мусора) автомобилями-самосвалами (работающими вне карьеров): расстояние 40 км, класс груза I КОЭФ. К ПОЗИЦИИ: При перевозке грузов к провозной плате (тарифам) применять поправочный коэффициент ПЗ=1,37 (ОЗП=1,37; ЭМ=1,37 к расх.; ЗПМ=1,37; МАТ=1,37 к расх.; ТЗ=1,37; ТЗМ=1,37) | D36: т | E36: 13.76 | F36: 52.85 | H36: 52.85 | J36: 727 | L36: 727
A37: Раздел 2. Стены, перегородки. Установка конструкций из гипсокартона
A38: Облицовка стен гипсокартонными листами (С 623)
A39: 14 | B39: ТЕР10-05-008-03 | C39: Облицовка стен по системе «КНАУФ» по одинарному металлическому каркасу из потолочного профиля гипсокартонными листами (С 623) одним слоем с дверным проемом | D39: 100 м2 стен /за вычетом проемов | E39: 0.93 | F39: 2491.85 | G39: 1035.18 | H39: 46.17 | J39: 2317 | K39: 963 | L39: 43 | N39: 81 | O39: 75.33
A40: 15 | B40: ТСЦ-101-2509 | C40: Листы гипсокартонные ГКЛ 12,5 мм | D40: м2 | E40: 186 | F40: 35.15 | J40: 6538
A41: 16 | B41: ТСЦ-201-0802 | C41: Профиль потолочный ПП 60/27/0,6 | D41: м | E41: 186 | F41: 9.2 | J41: 1711
A42: 17 | B42: ТСЦ-201-0797 | C42: Профиль направляющий ПН 28/27/0,6 | D42: м | E42: 65.1 | F42: 5 | J42: 326
A43: 18 | B43: ТСЦ-101-2582 | C43: Шуруп самонарезающий (LN) 3,5/9,5 мм | D43: шт. | E43: 139 | F43: 0.04 | J43: 6
A44: 19 | B44: ТСЦ-101-2583 | C44: Шуруп самонарезающий (TN) 3,5/25 мм | D44: шт. | E44: 651 | F44: 0.08 | J44: 52
...

Sheet 24736
A1: СОГЛАСОВАНО: | E1: ФГУП "Комбинат "Электрохимприбор" | M1: УТВЕРЖДАЮ:
G2: (наименование стройки) | M2: Зам. генерального директора
M3: Е.В.Гордеев
A4: _________________ | M4: _________________
A5: " _____ " ________________ 201_ г. | M5: "______ " __________201_ г.
G6: ЛОКАЛЬНЫЙ СМЕТНЫЙ РАСЧЕТ № 24736
G7: (локальная смета)
C9: на | D9: Реконструкцию силовых и осветительных сетей. г.Лесной, ул.Кирова, 1а. Гостиница "Лесная"
E10: Гостиничный номер 4 этажа. Инв. № 8712564.
H11: (наименование работ и затрат, наименование объекта)
D13: Основание: проект №24516-12-ЭМ
D14: Сметная стоимость _______________________________________________________________________________________________ | J14: ___________________________49,502 | L14: тыс. руб.
D15: строительных работ _______________________________________________________________________________________________ | J15: _______________________________________________________________________________________________2,726 | L15: тыс. руб.
D16: монтажных работ _______________________________________________________________________________________________ | J16: _______________________________________________________________________________________________46,269 | L16: тыс. руб.
D17: оборудования _______________________________________________________________________________________________ | J17: _______________________________________________________________________________________________0,507 | L17: тыс. руб.
D18: Средства на оплату труда _______________________________________________________________________________________________ | J18: ___________________________9,191 | L18: тыс. руб.
D19: Сметная трудоемкость _______________________________________________________________________________________________ | J19: _______________________________________________________________________________________________558,26 | L19: чел.час
D20: Составлен(а) в базовых ценах 2001г. в редакции 2009г.
A22: № пп | B22: Обоснова-ние | C22: Наименование | D22: Ед. изм. | E22: Кол. | F22: Стоимость единицы, руб. | J22: Общая стоимость, руб. | O22: Т/з осн. раб.на ед. | P22: Т/з осн. раб. Всего | Q22: Общая масса обору-дования, т
F23: Всего | G23: В том числе | J23: Обору-дование | K23: Всего | L23: В том числе
G24: Осн.З/п | H24: Эк.Маш | I24: З/пМех | L24: Осн.З/п | M24: Эк.Маш | N24: З/пМех
A25: 1 | B25: 2 | C25: 3 | D25: 4 | E25: 5 | F25: 6 | G25: 7 | H25: 8 | I25: 9 | J25: 10 | K25: 11 | L25: 12 | M25: 13 | N25: 14 | O25: 15 | P25: 16 | Q25: 17
A26: Раздел 1. Демонтажные работы
A27: 1 | B27: ТЕРр67-4-3 | C27: Демонтаж светильников с лампами накаливания | D27: 100 шт. | E27: 0.1 | F27: 70.67 | G27: 69.46 | H27: 1.21 | I27: 0.47 | K27: 7 | L27: 7 | O27: 6.32 | P27: 0.63
A28: 2 | B28: ТЕРр67-4-1 | C28: Демонтаж выключателей, розеток | D28: 100 шт. | E28: 0.11 | F28: 64.18 | G28: 64.18 | K28: 7 | L28: 7 | O28: 5.84 | P28: 0.64
A29: 3 | B29: ТЕРм08-03-545-01 | C29: Демонтаж: ответвительная коробка скрытой проводки КОЭФ. К ПОЗИЦИИ: демонтаж ОЗП=0,3; ЭМ=0,3 к расх.; ЗПМ=0,3; МАТ=0 к расх.; ТЗ=0,3; ТЗМ=0,3 | D29: 1 шт. | E29: 5 | F29: 13.87 | G29: 13.16 | H29: 0.71 | K29: 69 | L29: 66 | M29: 3 | O29: 0.99 | P29: 4.95
A30: 4 | B30: ТЕРр67-3-1 | C30: Демонтаж кабеля | D30: 100 м | E30: 0.25 | F30: 106.34 | G30: 105.94 | H30: 0.4 | I30: 0.16 | K30: 27 | L30: 27 | O30: 9.64 | P30: 2.41
A31: Раздел 2. Монтажные работы
A32: 5 | B32: ТЕРм08-03-526-01 | C32: Автомат одно-, двух-, трехполюсный, устанавливаемый в шкафу, на ток до 25 А | D32: 1 шт. | E32: 2 | F32: 174.77 | G32: 20.9 | H32: 1.28 | K32: 350 | L32: 42 | M32: 3 | O32: 1.56 | P32: 3.12
A33: 6 | B33: ТСЦ-509-0323 прим. | C33: Выключатели автоматические ВА47-29 16А, 25А | D33: шт. | E33: 2 | F33: 33.29 | K33: 67
A34: 7 | B34: ТЕРм08-03-591-09 | C34: Розетка штепсельная утопленного типа при скрытой проводке | D34: 100 шт. | E34: 0.1 | F34: 696.25 | G34: 532.26 | H34: 11.69 | I34: 0.73 | K34: 70 | L34: 53 | M34: 1 | O34: 38.1 | P34: 3.81
A35: 8 | B35: Цена поставщика | C35: Розетка одноместная с з/к скрытой установки (в сборе) "UNICA" цвет: белый (Ц:95руб:1,18:5,56) | D35: шт. | E35: 10 | F35: 14.48 | K35: 145
A36: 9 | B36: Цена поставщика | C36: Рамка горизонтальная, 4 места "UNICA" цвет: белый (Ц:218руб:1,18:5,56) | D36: шт. | E36: 1 | F36: 33.23 | K36: 33
A37: 10 | B37: Цена поставщика | C37: Рамка горизонтальная, 2 места "UNICA" цвет: белый (Ц:114руб:1,18:5,56) | D37: шт. | E37: 2 | F37: 17.38 | K37: 35
A38: 11 | B38: ТЕРм08-03-591-10 | C38: Розетка штепсельная полугерметическая и герметическая | D38: 100 шт. | E38: 1 | F38: 1651.95 | G38: 1063.12 | H38: 76.69 | I38: 2.18 | K38: 1652 | L38: 1063 | M38: 77 | N38: 2 | O38: 76.1 | P38: 76.1
A39: 12 | B39: Цена поставщика | C39: Розетка одноместная с з/к скрытой установки (в сборе) со шторками "UNICA" цвет: белый (Ц:162руб:1,18:5,56) | D39: шт. | E39: 1 | F39: 24.69 | K39: 25
A40: 13 | B40: ТЕРм08-03-591-05 | C40: Выключатель двухклавишный утопленного типа при скрытой проводке | D40: 100 шт. | E40: 0.01 | F40: 511.12 | G40: 458.22 | H40: 11.69 | I40: 0.73 | K40: 5 | L40: 5 | O40: 32.8 | P40: 0.33
A41: 14 | B41: Цена поставщика | C41: Выключатель двухклавишный (в сборе) "UNICA" цвет: белый с подсветкой (Ц:576руб:1,18:5,56) | D41: шт. | E41: 1 | F41: 87.79 | K41: 88
A42: 15 | B42: ТЕРм08-03-591-02 | C42: Выключатель одноклавишный утопленного типа при скрытой проводке | D42: 100 шт. | E42: 0.08 | F42: 502.57 | G42: 449.83 | H42: 11.69 | I42: 0.73 | K42: 40 | L42: 36 | M42: 1 | O42: 32.2 | P42: 2.58
A43: 16 | B43: Цена поставщика | C43: Выключатель одноклавишный (в сборе) "UNICA" цвет: белый с подсветкой (Ц:265руб:1,18:5,56) | D43: шт. | E43: 8 | F43: 40.39 | K43: 323
...

Sheet 24738
A1: СОГЛАСОВАНО: | E1: ФГУП "Комбинат "Электрохимприбор" | M1: УТВЕРЖДАЮ:
G2: (наименование стройки) | M2: Зам. генерального директора
M3: Е.В.Гордеев
A4: _________________ | M4: _________________
A5: " _____ " ________________ 201_ г. | M5: "______ " __________201_ г.
G6: ЛОКАЛЬНЫЙ СМЕТНЫЙ РАСЧЕТ № 24738
G7: (локальная смета)
C9: на | D9: Реконструкцию пожарной сигнализации. г.Лесной, ул.Кирова, 1а. Гостиница "Лесная"
D10: Гостиничный номер 4 этажа. Инв. № 8712564.
G11: (наименование работ и затрат, наименование объекта)
D13: Основание: проект № 24503-12-ПС
D14: Сметная стоимость _______________________________________________________________________________________________ | J14: ___________________________19,458 | L14: тыс. руб.
D15: монтажных работ _______________________________________________________________________________________________ | J15: _______________________________________________________________________________________________6,606 | L15: тыс. руб.
D16: прочих (ПНР "вхолостую") _______________________________________________________________________________________________ | J16: _______________________________________________________________________________________________4,053 | L16: тыс. руб.
D17: оборудования _______________________________________________________________________________________________ | J17: _______________________________________________________________________________________________8,799 | L17: тыс. руб.
D18: Средства на оплату труда _______________________________________________________________________________________________ | J18: ___________________________4,295 | L18: тыс. руб.
D19: Сметная трудоемкость _______________________________________________________________________________________________ | J19: _______________________________________________________________________________________________264,13 | L19: чел.час
D20: Составлен(а) в базовых ценах 2001г. в редакции 2009г.
A22: № пп | B22: Обоснова-ние | C22: Наименование | D22: Ед. изм. | E22: Кол. | F22: Стоимость единицы, руб. | J22: Общая стоимость, руб. | O22: Т/з осн. раб.на ед. | P22: Т/з осн. раб. Всего | Q22: Общая масса обору-дования, т
F23: Всего | G23: В том числе | J23: Обору-дование | K23: Всего | L23: В том числе
G24: Осн.З/п | H24: Эк.Маш | I24: З/пМех | L24: Осн.З/п | M24: Эк.Маш | N24: З/пМех
A25: 1 | B25: 2 | C25: 3 | D25: 4 | E25: 5 | F25: 6 | G25: 7 | H25: 8 | I25: 9 | J25: 10 | K25: 11 | L25: 12 | M25: 13 | N25: 14 | O25: 15 | P25: 16 | Q25: 17
A26: Раздел 1. Демонтажные работы
A27: 1 | B27: ТЕРм10-08-002-01 | C27: Демонтаж: извещатель ПС автоматический тепловой электро-контактный, магнитоконтактный в нормальном исполнении КОЭФ. К ПОЗИЦИИ: демонтаж ОЗП=0,3; ЭМ=0,3 к расх.; ЗПМ=0,3; МАТ=0 к расх.; ТЗ=0,3; ТЗМ=0,3 | D27: 1 шт. | E27: 13 | F27: 3.47 | G27: 3.42 | H27: 0.05 | K27: 45 | L27: 44 | M27: 1 | O27: 0.25 | P27: 3.25
A28: 2 | B28: ТЕРм08-02-402-01 | C28: Демонтаж:кабель КОЭФ. К ПОЗИЦИИ: демонтаж ОЗП=0,3; ЭМ=0,3 к расх.; ЗПМ=0,3; МАТ=0 к расх.; ТЗ=0,3; ТЗМ=0,3 | D28: 100 м | E28: 0.2 | F28: 272.03 | G28: 60.82 | H28: 211.21 | I28: 26.2 | K28: 54 | L28: 12 | M28: 42 | N28: 5 | O28: 4.59 | P28: 0.92
A29: Раздел 2. Монтажные работы
A30: 3 | B30: Цена поставщика | C30: ИП 21210-3 "Аврора-ДР" (Ц:2233,60руб :1,18:4,19) | D30: шт | E30: 14 | J30: 6325 | K30: 6325
A31: 4 | B31: ТЕРм10-08-003-01 | C31: Монтаж: извещатель пожарный радиоканальный "Аврора" | D31: 1 шт. | E31: 12 | F31: 118.78 | G31: 108.98 | H31: 0.37 | K31: 1425 | L31: 1308 | M31: 4 | O31: 7.92 | P31: 95.04
A32: 5 | B32: Цена поставщика | C32: ППК РРОП2 (Ц:4516,89руб :1,18:4,19) | D32: шт | E32: 1 | J32: 914 | K32: 914
A33: 6 | B33: ТЕРм10-08-001-01 | C33: Приборы ПС приемно-контрольные, пусковые, концентратор блок базовый на 10 лучей | D33: 1 шт. | E33: 1 | F33: 117.52 | G33: 102.02 | H33: 0.46 | K33: 118 | L33: 102 | O33: 7.2 | P33: 7.2
A34: 7 | B34: Цена поставщика | C34: Извещатель речевой радиоканальный "Орфей-Р" (Ц:3410руб :1,18:4,19) | D34: шт | E34: 1 | J34: 690 | K34: 690
A35: 8 | B35: ТЕРм10-08-003-01 | C35: Монтаж: извещатель речевой радиоканальный "Орфей-Р" | D35: 1 шт. | E35: 1 | F35: 118.78 | G35: 108.98 | H35: 0.37 | K35: 119 | L35: 109 | O35: 7.92 | P35: 7.92
A36: 9 | B36: Цена поставщика | C36: Источник питания СКАТ1200М (Ц:2535руб:1,18:4,19) | D36: 1 шт. | E36: 1 | J36: 513 | K36: 513
A37: 10 | B37: ТЕРм10-02-016-06 | C37: Монтаж: преобразователь или блок питания | D37: 1 шт. | E37: 1 | F37: 256.7 | G37: 157.76 | H37: 33.83 | I37: 6.87 | K37: 257 | L37: 158 | M37: 34 | N37: 7 | O37: 10.1 | P37: 10.1
A38: 11 | B38: Цена поставщика | C38: АКБ 12в 12,0 А/ч (Ц:1090руб:1,18:5.56) | D38: шт | E38: 1 | F38: 166.14 | K38: 166
A39: 12 | B39: ТЕРм08-02-402-01 | C39: Кабель двух-четырехжильный по установленным конструкциям и лоткам с установкой ответвительных коробок в помещениях с нормальной средой сечением жилы до 10 мм2 | D39: 100 м | E39: 0.3 | F39: 1131.61 | G39: 202.73 | H39: 704.04 | I39: 87.33 | K39: 339 | L39: 61 | M39: 211 | N39: 26 | O39: 15.3 | P39: 4.59
A40: 13 | B40: ТСЦ-501-8183 | C40: Кабель силовой с медными жилами с поливинилхлоридной изоляцией в поливинилхлоридной оболочке без защитного покрова ВВГ, напряжением 0,66 Кв, число жил 2 и сечением 1,5 мм2 | D40: 1000 м | E40: 0.005 | F40: 4439.3 | K40: 22
A41: 14 | B41: Цена поставщика | C41: Кабель КПСЭнг-FRLS 1x2x0,5 (Ц:43490руб :1,18:5,56) | D41: 1000м | E41: 0.0255 | F41: 6628.76 | K41: 169
A42: 15 | B42: Цена поставщика | C42: Коробка распределительная DKC SDMN для кабель-канала высота 10-22, 00677 (Ц:81руб:1,18:5,56) | D42: шт. | E42: 3 | F42: 12.35 | K42: 37
A43: 16 | B43: Цена поставщика | C43: Кабель-канал DKC 15/1x17 TMC IN-Liner L=2м,, 00303 (Ц:23руб:1,18:5,56) | D43: шт. | E43: 7 | F43: 3.51 | K43: 25
...

Sheet 24668
A1: СОГЛАСОВАНО: | E1: ФГУП "Комбинат "Электрохимприбор" | M1: УТВЕРЖДАЮ:
G2: (наименование стройки) | M2: Зам.генерального директора
A3: _________________ | N3: Е.В. Гордеев
A4: " _____ " ________________ 201 г. | M4: __________________
G5: ЛОКАЛЬНЫЙ СМЕТНЫЙ РАСЧЕТ № 24668 | M5: "______ " __________201 г.
G6: (локальная смета)
C8: на | D8: реконструкцию. Архитектурно-строительные решения. г. Лесной, ул.Кирова, 1а
E9: Гостиница "Лесная". Комната переговоров (инв. № 8712564)
D12: Основание: проект № 24464-12-АС
D13: Сметная стоимость строительных работ _______________________________________________________________________________________________ | J13: ___________________________28,285 | L13: тыс. руб.
D14: Средства на оплату труда _______________________________________________________________________________________________ | J14: ___________________________2,059 | L14: тыс. руб.
D15: Сметная трудоемкость _______________________________________________________________________________________________ | J15: _______________________________________________________________________________________________153,83 | L15: чел.час
D16: Материалы ____________________________________________________________ | K16: 19,516 тыс.руб.
D17: Составлен(а) в базовых ценах 2001г. в редакции 2009г.
A19: № пп | B19: Обоснование | C19: Наименование | D19: Ед. изм. | E19: Кол. | F19: Стоимость единицы, руб. | J19: Общая стоимость, руб. | N19: Т/з осн. раб.на ед. | O19: Т/з осн. раб. Всего | P19: Т/з мех. на ед. | Q19: Т/з мех. Всего
F20: Всего | G20: В том числе | J20: Всего | K20: В том числе
G21: Осн.З/п | H21: Эк.Маш | I21: З/пМех | K21: Осн.З/п | L21: Эк.Маш | M21: З/пМех
A22: 1 | B22: 2 | C22: 3 | D22: 4 | E22: 5 | F22: 6 | G22: 7 | H22: 8 | I22: 9 | J22: 10 | K22: 11 | L22: 12 | M22: 13 | N22: 14 | O22: 15 | P22: 16 | Q22: 17
A23: Раздел 1. Разборка конструкций
A24: 1 | B24: ТЕР46-04-012-03 | C24: Разборка деревянных заполнений проемов дверных | D24: 100 м2 | E24: 0.02 | F24: 1496.49 | G24: 1184.57 | H24: 311.92 | I24: 120.9 | J24: 30 | K24: 24 | L24: 6 | M24: 2 | N24: 103.91 | O24: 2.08 | P24: 7.74 | Q24: 0.15
A25: 2 | B25: ТЕРр63-5-1 | C25: Снятие обоев | D25: 100 м2 поверхности | E25: 0.392 | F25: 114.3 | G25: 114.3 | J25: 45 | K25: 45 | N25: 10.4 | O25: 4.08
