Workbook

Sheet СВОДНЫЕ
B5: Д О М 1 | V5: ДОМ 1
B6: СЕКЦИИ | C6: ШТУК | D6: КВАРТИРЫ | J6: ИТОГО КВАРТИР | L6: ПЛОЩАДЬ ЗАСТРОЙКИ | N6: ОБЩАЯ ПЛОЩАДЬ КВАРТИР | P6: ОБЩАЯ НАДЗЕМНАЯ ПЛОЩАДЬ | R6: ОБЩАЯ ПЛОЩАДЬ ЭТАЖЕЙ | T6: СТРОИТЕЛЬНЫЙ ОБЪЕМ | V6: НАГРУЗКА НА ОТОПЛЕНИЕ | X6: ВОДОСНАБЖЕНИЕ И ВОДООТВЕДЕНИЕ | AA6: В Т.Ч. ГВС | AD6: ВОДОСТОК С КРОВЛИ
D7: однокомнатные | F7: двухкомнатные | H7: трехкомнатные
D8: в одной | E8: в секциях | F8: в одной | G8: в секциях | H8: в одной | I8: в секциях | J8: в одной | K8: в секциях | L8: в одной | M8: в секциях | N8: в одной | O8: в секциях | P8: в одной | Q8: в секциях | R8: в одной | S8: в секциях | T8: в одной | U8: в секциях | V8: Вт | W8: Гкал/ч | X8: м3/сут | Y8: м3/час | Z8: л/с | AA8: м3/сут | AB8: м3/час | AC8: л/с | AD8: л/с
B9: РЯДОВАЯ - В4 | C9: 1 | D9: 32 | E9: =D9*C9 -> 32 | F9: 31 | G9: =F9*C9 -> 31 | H9: 16 | I9: =H9*C9 -> 16 | J9: =D9+F9+H9 -> 79 | K9: =E9+G9+I9 -> 79 | L9: 410.5 | M9: =L9*C9 -> 410.5 | N9: 4370 | O9: =N9*C9 -> 4370 | P9: 6536 | Q9: =P9*C9 -> 6536 | R9: 6903 | S9: =R9*C9 -> 6903 | T9: =R9*2.8 -> 19328.4 | U9: =T9*C9 -> 19328.4
B10: РЯДОВАЯ - В2 | C10: 2 | D10: 0 | E10: =D10*C10 -> 0 | F10: 31 | G10: =F10*C10 -> 62 | H10: 32 | I10: =H10*C10 -> 64 | J10: =D10+F10+H10 -> 63 | K10: =E10+G10+I10 -> 126 | L10: 410.5 | M10: =L10*C10 -> 821 | N10: 4370 | O10: =N10*C10 -> 8740 | P10: 6536 | Q10: =P10*C10 -> 13072 | R10: 6903 | S10: =R10*C10 -> 13806 | T10: =R10*2.8 -> 19328.4 | U10: =T10*C10 -> 38656.8
B11: РЯДОВАЯ - В1 | C11: 0 | D11: 109 | E11: =D11*C11 -> 0 | F11: 1 | G11: =F11*C11 -> 0 | H11: 0 | I11: =H11*C11 -> 0 | J11: =D11+F11+H11 -> 110 | K11: =E11+G11+I11 -> 0 | L11: 410.5 | M11: =L11*C11 -> 0 | N11: 4370 | O11: =N11*C11 -> 0 | P11: 6536 | Q11: =P11*C11 -> 0 | R11: 6903 | S11: =R11*C11 -> 0 | T11: =R11*2.8 -> 19328.4 | U11: =T11*C11 -> 0
B12: РЯДОВАЯ - В1 (обществ - 1 этаж) | C12: 1 | D12: 102 | E12: =D12*C12 -> 102 | F12: 1 | G12: =F12*C12 -> 1 | H12: 0 | I12: =H12*C12 -> 0 | J12: =D12+F12+H12 -> 103 | K12: =E12+G12+I12 -> 103 | L12: 410.5 | M12: =L12*C12 -> 410.5 | N12: 4090 | O12: =N12*C12 -> 4090 | P12: 6156 | Q12: =P12*C12 -> 6156 | R12: 6903 | S12: =R12*C12 -> 6903 | T12: =R12*2.8 -> 19328.4 | U12: =T12*C12 -> 19328.4
B13: РЯДОВАЯ - В1 (обществ - 2 этажа) | C13: 0 | D13: 95 | E13: =D13*C13 -> 0 | F13: 1 | G13: =F13*C13 -> 0 | H13: 0 | I13: =H13*C13 -> 0 | J13: =D13+F13+H13 -> 96 | K13: =E13+G13+I13 -> 0 | L13: 410.5 | M13: =L13*C13 -> 0 | N13: 3810 | O13: =N13*C13 -> 0 | P13: 5776 | Q13: =P13*C13 -> 0 | R13: 6903 | S13: =R13*C13 -> 0 | T13: =R13*2.8 -> 19328.4 | U13: =T13*C13 -> 0
B14: РЯДОВАЯ - В1 (обществ - 3 этажа) | C14: 0 | D14: 88 | E14: =D14*C14 -> 0 | F14: 1 | G14: =F14*C14 -> 0 | H14: 0 | I14: =H14*C14 -> 0 | J14: =D14+F14+H14 -> 89 | K14: =E14+G14+I14 -> 0 | L14: 410.5 | M14: =L14*C14 -> 0 | N14: 3530 | O14: =N14*C14 -> 0 | P14: 5396 | Q14: =P14*C14 -> 0 | R14: 6903 | S14: =R14*C14 -> 0 | T14: =R14*2.8 -> 19328.4 | U14: =T14*C14 -> 0
B15: УГЛОВАЯ 1 (с встроенно-пристроенными) | C15: 1 | D15: 15 | E15: =D15*C15 -> 15 | F15: 32 | G15: =F15*C15 -> 32 | H15: 16 | I15: =H15*C15 -> 16 | J15: =D15+F15+H15 -> 63 | K15: =E15+G15+I15 -> 63 | L15: 416.4 | M15: =L15*C15 -> 416.4 | N15: 4030 | O15: =N15*C15 -> 4030 | P15: 5874 | Q15: =P15*C15 -> 5874 | R15: 6209 | S15: =R15*C15 -> 6209 | T15: =R15*2.8 -> 17385.2 | U15: =T15*C15 -> 17385.2
B16: УГЛОВАЯ 2 | C16: 0 | D16: 31 | E16: =D16*C16 -> 0 | F16: 0 | G16: =F16*C16 -> 0 | H16: 32 | I16: =H16*C16 -> 0 | J16: =D16+F16+H16 -> 63 | K16: =E16+G16+I16 -> 0 | L16: 416.4 | M16: =L16*C16 -> 0 | N16: 4164 | O16: =N16*C16 -> 0 | P16: 5874 | Q16: =P16*C16 -> 0 | R16: 6209 | S16: =R16*C16 -> 0 | T16: =R16*2.8 -> 17385.2 | U16: =T16*C16 -> 0
B17: ИТОГО: | C17: =SUM(C9:C16) -> 5 | D17: =SUM(E9:E16) -> 149 | F17: =SUM(G9:G16) -> 126 | H17: =SUM(I9:I16) -> 96 | J17: =D17+F17+H17 -> 371 | L17: =SUM(M9:M16) -> 2058.4 | N17: =SUM(O9:O16) -> 21230 | P17: =SUM(Q9:Q16) -> 31638 | R17: =SUM(S9:S16) -> 33821 | T17: =SUM(U9:U16) -> 94698.8 | V17: =0.24*T17*(20+28) -> 1090930.2 | W17: =V17*0.00000085943 -> 0.93757812 | X17: =J17*0.595 -> 220.745 | Y17: =X17*0.1273 -> 28.100838 | Z17: =Y17*0.36 -> 10.116302 | AA17: =J17*0.315 -> 116.865 | AB17: =AA17*0.155 -> 18.114075 | AC17: =AB17*0.417 -> 7.5535693 | AD17: =L17*80/10000 -> 16.4672
B18: СООТНОШЕНИЕ | D18: =D17/J17 -> 0.40161725 | F18: =F17/J17 -> 0.33962264 | H18: =H17/J17 -> 0.25876011 | J18: =D18+F18+H18 -> 1 | N18: =N17/P17 -> 0.67102851 | P18: =1 -> 1 | R18: =R17/P17 -> 1.0689993
B20: Д О М 2 | V20: ДОМ 2
B21: СЕКЦИИ | C21: ШТУК | D21: КВАРТИРЫ | J21: ИТОГО КВАРТИР | L21: ПЛОЩАДЬ ЗАСТРОЙКИ | N21: ОБЩАЯ ПЛОЩАДЬ КВАРТИР | P21: ОБЩАЯ НАДЗЕМНАЯ ПЛОЩАДЬ | R21: ОБЩАЯ ПЛОЩАДЬ ЭТАЖЕЙ | T21: СТРОИТЕЛЬНЫЙ ОБЪЕМ | V21: НАГРУЗКА НА ОТОПЛЕНИЕ | X21: ВОДОСНАБЖЕНИЕ И ВОДООТВЕДЕНИЕ | AA21: В Т.Ч. ГВС | AD21: ВОДОСТОК С КРОВЛИ
D22: однокомнатные | F22: двухкомнатные | H22: трехкомнатные
D23: в одной | E23: в секциях | F23: в одной | G23: в секциях | H23: в одной | I23: в секциях | J23: в одной | K23: в секциях | L23: в одной | M23: в секциях | N23: в одной | O23: в секциях | P23: в одной | Q23: в секциях | R23: в одной | S23: в секциях | T23: в одной | U23: в секциях | V23: Вт | W23: Гкал/ч | X23: м3/сут | Y23: м3/час | Z23: л/с | AA23: м3/сут | AB23: м3/час | AC23: л/с | AD23: л/с
B24: РЯДОВАЯ - В4 | C24: 1 | D24: 32 | E24: =D24*C24 -> 32 | F24: 31 | G24: =F24*C24 -> 31 | H24: 16 | I24: =H24*C24 -> 16 | J24: =D24+F24+H24 -> 79 | K24: =E24+G24+I24 -> 79 | L24: 410.5 | M24: =L24*C24 -> 410.5 | N24: 4370 | O24: =N24*C24 -> 4370 | P24: 6536 | Q24: =P24*C24 -> 6536 | R24: 6903 | S24: =R24*C24 -> 6903 | T24: =R24*2.8 -> 19328.4 | U24: =T24*C24 -> 19328.4
B25: РЯДОВАЯ - В2 | C25: 2 | D25: 0 | E25: =D25*C25 -> 0 | F25: 31 | G25: =F25*C25 -> 62 | H25: 32 | I25: =H25*C25 -> 64 | J25: =D25+F25+H25 -> 63 | K25: =E25+G25+I25 -> 126 | L25: 410.5 | M25: =L25*C25 -> 821 | N25: 4370 | O25: =N25*C25 -> 8740 | P25: 6536 | Q25: =P25*C25 -> 13072 | R25: 6903 | S25: =R25*C25 -> 13806 | T25: =R25*2.8 -> 19328.4 | U25: =T25*C25 -> 38656.8
B26: РЯДОВАЯ - В1 | C26: 0 | D26: 109 | E26: =D26*C26 -> 0 | F26: 1 | G26: =F26*C26 -> 0 | H26: 0 | I26: =H26*C26 -> 0 | J26: =D26+F26+H26 -> 110 | K26: =E26+G26+I26 -> 0 | L26: 410.5 | M26: =L26*C26 -> 0 | N26: 4370 | O26: =N26*C26 -> 0 | P26: 6536 | Q26: =P26*C26 -> 0 | R26: 6903 | S26: =R26*C26 -> 0 | T26: =R26*2.8 -> 19328.4 | U26: =T26*C26 -> 0
B27: РЯДОВАЯ - В1 (обществ - 1 этаж) | C27: 0 | D27: 102 | E27: =D27*C27 -> 0 | F27: 1 | G27: =F27*C27 -> 0 | H27: 0 | I27: =H27*C27 -> 0 | J27: =D27+F27+H27 -> 103 | K27: =E27+G27+I27 -> 0 | L27: 410.5 | M27: =L27*C27 -> 0 | N27: 4090 | O27: =N27*C27 -> 0 | P27: 6156 | Q27: =P27*C27 -> 0 | R27: 6903 | S27: =R27*C27 -> 0 | T27: =R27*2.8 -> 19328.4 | U27: =T27*C27 -> 0
B28: РЯДОВАЯ - В1 (обществ - 2 этажа) | C28: 0 | D28: 95 | E28: =D28*C28 -> 0 | F28: 1 | G28: =F28*C28 -> 0 | H28: 0 | I28: =H28*C28 -> 0 | J28: =D28+F28+H28 -> 96 | K28: =E28+G28+I28 -> 0 | L28: 410.5 | M28: =L28*C28 -> 0 | N28: 3810 | O28: =N28*C28 -> 0 | P28: 5776 | Q28: =P28*C28 -> 0 | R28: 6903 | S28: =R28*C28 -> 0 | T28: =R28*2.8 -> 19328.4 | U28: =T28*C28 -> 0
B29: РЯДОВАЯ - В1 (обществ - 3 этажа) | C29: 0 | D29: 88 | E29: =D29*C29 -> 0 | F29: 1 | G29: =F29*C29 -> 0 | H29: 0 | I29: =H29*C29 -> 0 | J29: =D29+F29+H29 -> 89 | K29: =E29+G29+I29 -> 0 | L29: 410.5 | M29: =L29*C29 -> 0 | N29: 3530 | O29: =N29*C29 -> 0 | P29: 5396 | Q29: =P29*C29 -> 0 | R29: 6903 | S29: =R29*C29 -> 0 | T29: =R29*2.8 -> 19328.4 | U29: =T29*C29 -> 0
B30: УГЛОВАЯ 1 | C30: 0 | D30: 15 | E30: =D30*C30 -> 0 | F30: 32 | G30: =F30*C30 -> 0 | H30: 16 | I30: =H30*C30 -> 0 | J30: =D30+F30+H30 -> 63 | K30: =E30+G30+I30 -> 0 | L30: 416.4 | M30: =L30*C30 -> 0 | N30: 4164 | O30: =N30*C30 -> 0 | P30: 5874 | Q30: =P30*C30 -> 0 | R30: 6209 | S30: =R30*C30 -> 0 | T30: =R30*2.8 -> 17385.2 | U30: =T30*C30 -> 0
B31: УГЛОВАЯ 2 | C31: 0 | D31: 31 | E31: =D31*C31 -> 0 | F31: 0 | G31: =F31*C31 -> 0 | H31: 32 | I31: =H31*C31 -> 0 | J31: =D31+F31+H31 -> 63 | K31: =E31+G31+I31 -> 0 | L31: 416.4 | M31: =L31*C31 -> 0 | N31: 4164 | O31: =N31*C31 -> 0 | P31: 5874 | Q31: =P31*C31 -> 0 | R31: 6209 | S31: =R31*C31 -> 0 | T31: =R31*2.8 -> 17385.2 | U31: =T31*C31 -> 0
B32: ИТОГО: | C32: =SUM(C24:C31) -> 3 | D32: =SUM(E24:E31) -> 32 | F32: =SUM(G24:G31) -> 93 | H32: =SUM(I24:I31) -> 80 | J32: =D32+F32+H32 -> 205 | L32: =SUM(M24:M31) -> 1231.5 | N32: =SUM(O24:O31) -> 13110 | P32: =SUM(Q24:Q31) -> 19608 | R32: =SUM(S24:S31) -> 20709 | T32: =SUM(U24:U31) -> 57985.2 | V32: =0.24*T32*(20+28) -> 667989.5 | W32: =V32*0.00000085943 -> 0.57409022 | X32: =J32*0.595 -> 121.975 | Y32: =X32*0.1273 -> 15.527417 | Z32: =Y32*0.36 -> 5.5898703 | AA32: =J32*0.315 -> 64.575 | AB32: =AA32*0.155 -> 10.009125 | AC32: =AB32*0.417 -> 4.1738051 | AD32: =L32*80/10000 -> 9.852
B33: СООТНОШЕНИЕ | D33: =D32/J32 -> 0.15609756 | F33: =F32/J32 -> 0.45365854 | H33: =H32/J32 -> 0.3902439 | J33: =D33+F33+H33 -> 1 | N33: =N32/P32 -> 0.66860465 | P33: =1 -> 1 | R33: =R32/P32 -> 1.0561506
B35: Д О М 3 | V35: ДОМ 3
B36: СЕКЦИИ | C36: ШТУК | D36: КВАРТИРЫ | J36: ИТОГО КВАРТИР | L36: ПЛОЩАДЬ ЗАСТРОЙКИ | N36: ОБЩАЯ ПЛОЩАДЬ КВАРТИР | P36: ОБЩАЯ НАДЗЕМНАЯ ПЛОЩАДЬ | R36: ОБЩАЯ ПЛОЩАДЬ ЭТАЖЕЙ | T36: СТРОИТЕЛЬНЫЙ ОБЪЕМ | V36: НАГРУЗКА НА ОТОПЛЕНИЕ | X36: ВОДОСНАБЖЕНИЕ И ВОДООТВЕДЕНИЕ | AA36: В Т.Ч. ГВС | AD36: ВОДОСТОК С КРОВЛИ
D37: однокомнатные | F37: двухкомнатные | H37: трехкомнатные
D38: в одной | E38: в секциях | F38: в одной | G38: в секциях | H38: в одной | I38: в секциях | J38: в одной | K38: в секциях | L38: в одной | M38: в секциях | N38: в одной | O38: в секциях | P38: в одной | Q38: в секциях | R38: в одной | S38: в секциях | T38: в одной | U38: в секциях | V38: Вт | W38: Гкал/ч | X38: м3/сут | Y38: м3/час | Z38: л/с | AA38: м3/сут | AB38: м3/час | AC38: л/с | AD38: л/с
B39: РЯДОВАЯ - В4 | C39: 1 | D39: 32 | E39: =D39*C39 -> 32 | F39: 31 | G39: =F39*C39 -> 31 | H39: 16 | I39: =H39*C39 -> 16 | J39: =D39+F39+H39 -> 79 | K39: =E39+G39+I39 -> 79 | L39: 410.5 | M39: =L39*C39 -> 410.5 | N39: 4370 | O39: =N39*C39 -> 4370 | P39: 6536 | Q39: =P39*C39 -> 6536 | R39: 6903 | S39: =R39*C39 -> 6903 | T39: =R39*2.8 -> 19328.4 | U39: =T39*C39 -> 19328.4
B40: РЯДОВАЯ - В2 | C40: 3 | D40: 0 | E40: =D40*C40 -> 0 | F40: 31 | G40: =F40*C40 -> 93 | H40: 32 | I40: =H40*C40 -> 96 | J40: =D40+F40+H40 -> 63 | K40: =E40+G40+I40 -> 189 | L40: 410.5 | M40: =L40*C40 -> 1231.5 | N40: 4370 | O40: =N40*C40 -> 13110 | P40: 6536 | Q40: =P40*C40 -> 19608 | R40: 6903 | S40: =R40*C40 -> 20709 | T40: =R40*2.8 -> 19328.4 | U40: =T40*C40 -> 57985.2
B41: РЯДОВАЯ - В1 | C41: 0 | D41: 109 | E41: =D41*C41 -> 0 | F41: 1 | G41: =F41*C41 -> 0 | H41: 0 | I41: =H41*C41 -> 0 | J41: =D41+F41+H41 -> 110 | K41: =E41+G41+I41 -> 0 | L41: 410.5 | M41: =L41*C41 -> 0 | N41: 4370 | O41: =N41*C41 -> 0 | P41: 6536 | Q41: =P41*C41 -> 0 | R41: 6903 | S41: =R41*C41 -> 0 | T41: =R41*2.8 -> 19328.4 | U41: =T41*C41 -> 0
B42: РЯДОВАЯ - В1 (обществ - 1 этаж) | C42: 0 | D42: 102 | E42: =D42*C42 -> 0 | F42: 1 | G42: =F42*C42 -> 0 | H42: 0 | I42: =H42*C42 -> 0 | J42: =D42+F42+H42 -> 103 | K42: =E42+G42+I42 -> 0 | L42: 410.5 | M42: =L42*C42 -> 0 | N42: 4090 | O42: =N42*C42 -> 0 | P42: 6156 | Q42: =P42*C42 -> 0 | R42: 6903 | S42: =R42*C42 -> 0 | T42: =R42*2.8 -> 19328.4 | U42: =T42*C42 -> 0
B43: РЯДОВАЯ - В1 (обществ - 2 этажа) | C43: 0 | D43: 95 | E43: =D43*C43 -> 0 | F43: 1 | G43: =F43*C43 -> 0 | H43: 0 | I43: =H43*C43 -> 0 | J43: =D43+F43+H43 -> 96 | K43: =E43+G43+I43 -> 0 | L43: 410.5 | M43: =L43*C43 -> 0 | N43: 3810 | O43: =N43*C43 -> 0 | P43: 5776 | Q43: =P43*C43 -> 0 | R43: 6903 | S43: =R43*C43 -> 0 | T43: =R43*2.8 -> 19328.4 | U43: =T43*C43 -> 0
B44: РЯДОВАЯ - В1 (обществ - 3 этажа) | C44: 0 | D44: 88 | E44: =D44*C44 -> 0 | F44: 1 | G44: =F44*C44 -> 0 | H44: 0 | I44: =H44*C44 -> 0 | J44: =D44+F44+H44 -> 89 | K44: =E44+G44+I44 -> 0 | L44: 410.5 | M44: =L44*C44 -> 0 | N44: 3530 | O44: =N44*C44 -> 0 | P44: 5396 | Q44: =P44*C44 -> 0 | R44: 6903 | S44: =R44*C44 -> 0 | T44: =R44*2.8 -> 19328.4 | U44: =T44*C44 -> 0
B45: УГЛОВАЯ 1 | C45: 0 | D45: 15 | E45: =D45*C45 -> 0 | F45: 32 | G45: =F45*C45 -> 0 | H45: 16 | I45: =H45*C45 -> 0 | J45: =D45+F45+H45 -> 63 | K45: =E45+G45+I45 -> 0 | L45: 416.4 | M45: =L45*C45 -> 0 | N45: 4164 | O45: =N45*C45 -> 0 | P45: 5874 | Q45: =P45*C45 -> 0 | R45: 6209 | S45: =R45*C45 -> 0 | T45: =R45*2.8 -> 17385.2 | U45: =T45*C45 -> 0
B46: УГЛОВАЯ 2 | C46: 1 | D46: 31 | E46: =D46*C46 -> 31 | F46: 0 | G46: =F46*C46 -> 0 | H46: 32 | I46: =H46*C46 -> 32 | J46: =D46+F46+H46 -> 63 | K46: =E46+G46+I46 -> 63 | L46: 416.4 | M46: =L46*C46 -> 416.4 | N46: 4164 | O46: =N46*C46 -> 4164 | P46: 5874 | Q46: =P46*C46 -> 5874 | R46: 6209 | S46: =R46*C46 -> 6209 | T46: =R46*2.8 -> 17385.2 | U46: =T46*C46 -> 17385.2
B47: ИТОГО: | C47: =SUM(C39:C46) -> 5 | D47: =SUM(E39:E46) -> 63 | F47: =SUM(G39:G46) -> 124 | H47: =SUM(I39:I46) -> 144 | J47: =D47+F47+H47 -> 331 | L47: =SUM(M39:M46) -> 2058.4 | N47: =SUM(O39:O46) -> 21644 | P47: =SUM(Q39:Q46) -> 32018 | R47: =SUM(S39:S46) -> 33821 | T47: =SUM(U39:U46) -> 94698.8 | V47: =0.24*T47*(20+28) -> 1090930.2 | W47: =V47*0.00000085943 -> 0.93757812 | X47: =J47*0.595 -> 196.945 | Y47: =X47*0.1273 -> 25.071098 | Z47: =Y47*0.36 -> 9.0255955 | AA47: =J47*0.315 -> 104.265 | AB47: =AA47*0.155 -> 16.161075 | AC47: =AB47*0.417 -> 6.7391683 | AD47: =L47*80/10000 -> 16.4672
B48: СООТНОШЕНИЕ | D48: =D47/J47 -> 0.19033233 | F48: =F47/J47 -> 0.37462236 | H48: =H47/J47 -> 0.43504532 | J48: =D48+F48+H48 -> 1 | N48: =N47/P47 -> 0.67599475 | P48: =1 -> 1 | R48: =R47/P47 -> 1.0563121
B50: Д О М 4 | V50: ДОМ 4
B51: СЕКЦИИ | C51: ШТУК | D51: КВАРТИРЫ | J51: ИТОГО КВАРТИР | L51: ПЛОЩАДЬ ЗАСТРОЙКИ | N51: ОБЩАЯ ПЛОЩАДЬ КВАРТИР | P51: ОБЩАЯ НАДЗЕМНАЯ ПЛОЩАДЬ | R51: ОБЩАЯ ПЛОЩАДЬ ЭТАЖЕЙ | T51: СТРОИТЕЛЬНЫЙ ОБЪЕМ | V51: НАГРУЗКА НА ОТОПЛЕНИЕ | X51: ВОДОСНАБЖЕНИЕ И ВОДООТВЕДЕНИЕ | AA51: В Т.Ч. ГВС | AD51: ВОДОСТОК С КРОВЛИ
D52: однокомнатные | F52: двухкомнатные | H52: трехкомнатные
D53: в одной | E53: в секциях | F53: в одной | G53: в секциях | H53: в одной | I53: в секциях | J53: в одной | K53: в секциях | L53: в одной | M53: в секциях | N53: в одной | O53: в секциях | P53: в одной | Q53: в секциях | R53: в одной | S53: в секциях | T53: в одной | U53: в секциях | V53: Вт | W53: Гкал/ч | X53: м3/сут | Y53: м3/час | Z53: л/с | AA53: м3/сут | AB53: м3/час | AC53: л/с | AD53: л/с
B54: РЯДОВАЯ - В4 | C54: 1 | D54: 32 | E54: =D54*C54 -> 32 | F54: 31 | G54: =F54*C54 -> 31 | H54: 16 | I54: =H54*C54 -> 16 | J54: =D54+F54+H54 -> 79 | K54: =E54+G54+I54 -> 79 | L54: 410.5 | M54: =L54*C54 -> 410.5 | N54: 4370 | O54: =N54*C54 -> 4370 | P54: 6536 | Q54: =P54*C54 -> 6536 | R54: 6903 | S54: =R54*C54 -> 6903 | T54: =R54*2.8 -> 19328.4 | U54: =T54*C54 -> 19328.4
B55: РЯДОВАЯ - В2 | C55: 0 | D55: 0 | E55: =D55*C55 -> 0 | F55: 31 | G55: =F55*C55 -> 0 | H55: 32 | I55: =H55*C55 -> 0 | J55: =D55+F55+H55 -> 63 | K55: =E55+G55+I55 -> 0 | L55: 410.5 | M55: =L55*C55 -> 0 | N55: 4370 | O55: =N55*C55 -> 0 | P55: 6536 | Q55: =P55*C55 -> 0 | R55: 6903 | S55: =R55*C55 -> 0 | T55: =R55*2.8 -> 19328.4 | U55: =T55*C55 -> 0
B56: РЯДОВАЯ - В1 | C56: 2 | D56: 109 | E56: =D56*C56 -> 218 | F56: 1 | G56: =F56*C56 -> 2 | H56: 0 | I56: =H56*C56 -> 0 | J56: =D56+F56+H56 -> 110 | K56: =E56+G56+I56 -> 220 | L56: 410.5 | M56: =L56*C56 -> 821 | N56: 4370 | O56: =N56*C56 -> 8740 | P56: 6536 | Q56: =P56*C56 -> 13072 | R56: 6903 | S56: =R56*C56 -> 13806 | T56: =R56*2.8 -> 19328.4 | U56: =T56*C56 -> 38656.8
B57: РЯДОВАЯ - В1 (обществ - 1 этаж) | C57: 0 | D57: 102 | E57: =D57*C57 -> 0 | F57: 1 | G57: =F57*C57 -> 0 | H57: 0 | I57: =H57*C57 -> 0 | J57: =D57+F57+H57 -> 103 | K57: =E57+G57+I57 -> 0 | L57: 410.5 | M57: =L57*C57 -> 0 | N57: 4090 | O57: =N57*C57 -> 0 | P57: 6156 | Q57: =P57*C57 -> 0 | R57: 6903 | S57: =R57*C57 -> 0 | T57: =R57*2.8 -> 19328.4 | U57: =T57*C57 -> 0
B58: РЯДОВАЯ - В1 (обществ - 2 этажа) | C58: 0 | D58: 95 | E58: =D58*C58 -> 0 | F58: 1 | G58: =F58*C58 -> 0 | H58: 0 | I58: =H58*C58 -> 0 | J58: =D58+F58+H58 -> 96 | K58: =E58+G58+I58 -> 0 | L58: 410.5 | M58: =L58*C58 -> 0 | N58: 3810 | O58: =N58*C58 -> 0 | P58: 5776 | Q58: =P58*C58 -> 0 | R58: 6903 | S58: =R58*C58 -> 0 | T58: =R58*2.8 -> 19328.4 | U58: =T58*C58 -> 0
B59: РЯДОВАЯ - В1 (обществ - 3 этажа) | C59: 2 | D59: 88 | E59: =D59*C59 -> 176 | F59: 1 | G59: =F59*C59 -> 2 | H59: 0 | I59: =H59*C59 -> 0 | J59: =D59+F59+H59 -> 89 | K59: =E59+G59+I59 -> 178 | L59: 410.5 | M59: =L59*C59 -> 821 | N59: 3530 | O59: =N59*C59 -> 7060 | P59: 5396 | Q59: =P59*C59 -> 10792 | R59: 6903 | S59: =R59*C59 -> 13806 | T59: =R59*2.8 -> 19328.4 | U59: =T59*C59 -> 38656.8
B60: УГЛОВАЯ 1 | C60: 0 | D60: 15 | E60: =D60*C60 -> 0 | F60: 32 | G60: =F60*C60 -> 0 | H60: 16 | I60: =H60*C60 -> 0 | J60: =D60+F60+H60 -> 63 | K60: =E60+G60+I60 -> 0 | L60: 416.4 | M60: =L60*C60 -> 0 | N60: 4164 | O60: =N60*C60 -> 0 | P60: 5874 | Q60: =P60*C60 -> 0 | R60: 6209 | S60: =R60*C60 -> 0 | T60: =R60*2.8 -> 17385.2 | U60: =T60*C60 -> 0
B61: УГЛОВАЯ 2 | C61: 0 | D61: 31 | E61: =D61*C61 -> 0 | F61: 0 | G61: =F61*C61 -> 0 | H61: 32 | I61: =H61*C61 -> 0 | J61: =D61+F61+H61 -> 63 | K61: =E61+G61+I61 -> 0 | L61: 416.4 | M61: =L61*C61 -> 0 | N61: 4164 | O61: =N61*C61 -> 0 | P61: 5874 | Q61: =P61*C61 -> 0 | R61: 6209 | S61: =R61*C61 -> 0 | T61: =R61*2.8 -> 17385.2 | U61: =T61*C61 -> 0
B62: ИТОГО: | C62: =SUM(C54:C61) -> 5 | D62: =SUM(E54:E61) -> 426 | F62: =SUM(G54:G61) -> 35 | H62: =SUM(I54:I61) -> 16 | J62: =D62+F62+H62 -> 477 | L62: =SUM(M54:M61) -> 2052.5 | N62: =SUM(O54:O61) -> 20170 | P62: =SUM(Q54:Q61) -> 30400 | R62: =SUM(S54:S61) -> 34515 | T62: =SUM(U54:U61) -> 96642 | V62: =0.24*T62*(20+28) -> 1113315.8 | W62: =V62*0.00000085943 -> 0.95681703 | X62: =J62*0.595 -> 283.815 | Y62: =X62*0.1273 -> 36.129649 | Z62: =Y62*0.36 -> 13.006674 | AA62: =J62*0.315 -> 150.255 | AB62: =AA62*0.155 -> 23.289525 | AC62: =AB62*0.417 -> 9.7117319 | AD62: =L62*80/10000 -> 16.42
B63: СООТНОШЕНИЕ | D63: =D62/J62 -> 0.89308176 | F63: =F62/J62 -> 0.073375262 | H63: =H62/J62 -> 0.033542977 | J63: =D63+F63+H63 -> 1 | N63: =N62/P62 -> 0.66348684 | P63: =1 -> 1 | R63: =R62/P62 -> 1.1353618
B65: Д О М 5 | V65: ДОМ 5
B66: СЕКЦИИ | C66: ШТУК | D66: КВАРТИРЫ | J66: ИТОГО КВАРТИР | L66: ПЛОЩАДЬ ЗАСТРОЙКИ | N66: ОБЩАЯ ПЛОЩАДЬ КВАРТИР | P66: ОБЩАЯ НАДЗЕМНАЯ ПЛОЩАДЬ | R66: ОБЩАЯ ПЛОЩАДЬ ЭТАЖЕЙ | T66: СТРОИТЕЛЬНЫЙ ОБЪЕМ | V66: НАГРУЗКА НА ОТОПЛЕНИЕ | X66: ВОДОСНАБЖЕНИЕ И ВОДООТВЕДЕНИЕ | AA66: В Т.Ч. ГВС | AD66: ВОДОСТОК С КРОВЛИ
D67: однокомнатные | F67: двухкомнатные | H67: трехкомнатные
D68: в одной | E68: в секциях | F68: в одной | G68: в секциях | H68: в одной | I68: в секциях | J68: в одной | K68: в секциях | L68: в одной | M68: в секциях | N68: в одной | O68: в секциях | P68: в одной | Q68: в секциях | R68: в одной | S68: в секциях | T68: в одной | U68: в секциях | V68: Вт | W68: Гкал/ч | X68: м3/сут | Y68: м3/час | Z68: л/с | AA68: м3/сут | AB68: м3/час | AC68: л/с | AD68: л/с
B69: РЯДОВАЯ - В4 | C69: 2 | D69: 32 | E69: =D69*C69 -> 64 | F69: 31 | G69: =F69*C69 -> 62 | H69: 16 | I69: =H69*C69 -> 32 | J69: =D69+F69+H69 -> 79 | K69: =E69+G69+I69 -> 158 | L69: 410.5 | M69: =L69*C69 -> 821 | N69: 4370 | O69: =N69*C69 -> 8740 | P69: 6536 | Q69: =P69*C69 -> 13072 | R69: 6903 | S69: =R69*C69 -> 13806 | T69: =R69*2.8 -> 19328.4 | U69: =T69*C69 -> 38656.8
B70: РЯДОВАЯ - В2 | C70: 0 | D70: 0 | E70: =D70*C70 -> 0 | F70: 31 | G70: =F70*C70 -> 0 | H70: 32 | I70: =H70*C70 -> 0 | J70: =D70+F70+H70 -> 63 | K70: =E70+G70+I70 -> 0 | L70: 410.5 | M70: =L70*C70 -> 0 | N70: 4370 | O70: =N70*C70 -> 0 | P70: 6536 | Q70: =P70*C70 -> 0 | R70: 6903 | S70: =R70*C70 -> 0 | T70: =R70*2.8 -> 19328.4 | U70: =T70*C70 -> 0
B71: РЯДОВАЯ - В1 | C71: 2 | D71: 109 | E71: =D71*C71 -> 218 | F71: 1 | G71: =F71*C71 -> 2 | H71: 0 | I71: =H71*C71 -> 0 | J71: =D71+F71+H71 -> 110 | K71: =E71+G71+I71 -> 220 | L71: 410.5 | M71: =L71*C71 -> 821 | N71: 4370 | O71: =N71*C71 -> 8740 | P71: 6536 | Q71: =P71*C71 -> 13072 | R71: 6903 | S71: =R71*C71 -> 13806 | T71: =R71*2.8 -> 19328.4 | U71: =T71*C71 -> 38656.8
B72: РЯДОВАЯ - В1 (обществ - 1 этаж) | C72: 0 | D72: 102 | E72: =D72*C72 -> 0 | F72: 1 | G72: =F72*C72 -> 0 | H72: 0 | I72: =H72*C72 -> 0 | J72: =D72+F72+H72 -> 103 | K72: =E72+G72+I72 -> 0 | L72: 410.5 | M72: =L72*C72 -> 0 | N72: 4090 | O72: =N72*C72 -> 0 | P72: 6156 | Q72: =P72*C72 -> 0 | R72: 6903 | S72: =R72*C72 -> 0 | T72: =R72*2.8 -> 19328.4 | U72: =T72*C72 -> 0
B73: РЯДОВАЯ - В1 (обществ - 2 этажа) | C73: 0 | D73: 95 | E73: =D73*C73 -> 0 | F73: 1 | G73: =F73*C73 -> 0 | H73: 0 | I73: =H73*C73 -> 0 | J73: =D73+F73+H73 -> 96 | K73: =E73+G73+I73 -> 0 | L73: 410.5 | M73: =L73*C73 -> 0 | N73: 3810 | O73: =N73*C73 -> 0 | P73: 5776 | Q73: =P73*C73 -> 0 | R73: 6903 | S73: =R73*C73 -> 0 | T73: =R73*2.8 -> 19328.4 | U73: =T73*C73 -> 0
B74: РЯДОВАЯ - В1 (обществ - 3 этажа) | C74: 2 | D74: 88 | E74: =D74*C74 -> 176 | F74: 1 | G74: =F74*C74 -> 2 | H74: 0 | I74: =H74*C74 -> 0 | J74: =D74+F74+H74 -> 89 | K74: =E74+G74+I74 -> 178 | L74: 410.5 | M74: =L74*C74 -> 821 | N74: 3530 | O74: =N74*C74 -> 7060 | P74: 5396 | Q74: =P74*C74 -> 10792 | R74: 6903 | S74: =R74*C74 -> 13806 | T74: =R74*2.8 -> 19328.4 | U74: =T74*C74 -> 38656.8
B75: УГЛОВАЯ 1 | C75: 0 | D75: 15 | E75: =D75*C75 -> 0 | F75: 32 | G75: =F75*C75 -> 0 | H75: 16 | I75: =H75*C75 -> 0 | J75: =D75+F75+H75 -> 63 | K75: =E75+G75+I75 -> 0 | L75: 416.4 | M75: =L75*C75 -> 0 | N75: 4164 | O75: =N75*C75 -> 0 | P75: 5874 | Q75: =P75*C75 -> 0 | R75: 6209 | S75: =R75*C75 -> 0 | T75: =R75*2.8 -> 17385.2 | U75: =T75*C75 -> 0
B76: УГЛОВАЯ 2 | C76: 0 | D76: 31 | E76: =D76*C76 -> 0 | F76: 0 | G76: =F76*C76 -> 0 | H76: 32 | I76: =H76*C76 -> 0 | J76: =D76+F76+H76 -> 63 | K76: =E76+G76+I76 -> 0 | L76: 416.4 | M76: =L76*C76 -> 0 | N76: 4164 | O76: =N76*C76 -> 0 | P76: 5874 | Q76: =P76*C76 -> 0 | R76: 6209 | S76: =R76*C76 -> 0 | T76: =R76*2.8 -> 17385.2 | U76: =T76*C76 -> 0
B77: ИТОГО: | C77: =SUM(C69:C76) -> 6 | D77: =SUM(E69:E76) -> 458 | F77: =SUM(G69:G76) -> 66 | H77: =SUM(I69:I76) -> 32 | J77: =D77+F77+H77 -> 556 | L77: =SUM(M69:M76) -> 2463 | N77: =SUM(O69:O76) -> 24540 | P77: =SUM(Q69:Q76) -> 36936 | R77: =SUM(S69:S76) -> 41418 | T77: =SUM(U69:U76) -> 115970.4 | V77: =0.24*T77*(20+28) -> 1335979 | W77: =V77*0.00000085943 -> 1.1481804 | X77: =J77*0.595 -> 330.82 | Y77: =X77*0.1273 -> 42.113386 | Z77: =Y77*0.36 -> 15.160819 | AA77: =J77*0.315 -> 175.14 | AB77: =AA77*0.155 -> 27.1467 | AC77: =AB77*0.417 -> 11.320174 | AD77: =L77*80/10000 -> 19.704
B78: СООТНОШЕНИЕ | D78: =D77/J77 -> 0.82374101 | F78: =F77/J77 -> 0.11870504 | H78: =H77/J77 -> 0.057553957 | J78: =D78+F78+H78 -> 1 | N78: =N77/P77 -> 0.66439246 | P78: =1 -> 1 | R78: =R77/P77 -> 1.121345
B80: Д О М 6 | V80: ДОМ 6
B81: СЕКЦИИ | C81: ШТУК | D81: КВАРТИРЫ | J81: ИТОГО КВАРТИР | L81: ПЛОЩАДЬ ЗАСТРОЙКИ | N81: ОБЩАЯ ПЛОЩАДЬ КВАРТИР | P81: ОБЩАЯ НАДЗЕМНАЯ ПЛОЩАДЬ | R81: ОБЩАЯ ПЛОЩАДЬ ЭТАЖЕЙ | T81: СТРОИТЕЛЬНЫЙ ОБЪЕМ | V81: НАГРУЗКА НА ОТОПЛЕНИЕ | X81: ВОДОСНАБЖЕНИЕ И ВОДООТВЕДЕНИЕ | AA81: В Т.Ч. ГВС | AD81: ВОДОСТОК С КРОВЛИ
D82: однокомнатные | F82: двухкомнатные | H82: трехкомнатные
D83: в одной | E83: в секциях | F83: в одной | G83: в секциях | H83: в одной | I83: в секциях | J83: в одной | K83: в секциях | L83: в одной | M83: в секциях | N83: в одной | O83: в секциях | P83: в одной | Q83: в секциях | R83: в одной | S83: в секциях | T83: в одной | U83: в секциях | V83: Вт | W83: Гкал/ч | X83: м3/сут | Y83: м3/час | Z83: л/с | AA83: м3/сут | AB83: м3/час | AC83: л/с | AD83: л/с
B84: РЯДОВАЯ - В4 | C84: 2 | D84: 32 | E84: =D84*C84 -> 64 | F84: 31 | G84: =F84*C84 -> 62 | H84: 16 | I84: =H84*C84 -> 32 | J84: =D84+F84+H84 -> 79 | K84: =E84+G84+I84 -> 158 | L84: 410.5 | M84: =L84*C84 -> 821 | N84: 4370 | O84: =N84*C84 -> 8740 | P84: 6536 | Q84: =P84*C84 -> 13072 | R84: 6903 | S84: =R84*C84 -> 13806 | T84: =R84*2.8 -> 19328.4 | U84: =T84*C84 -> 38656.8
B85: РЯДОВАЯ - В2 | C85: 0 | D85: 0 | E85: =D85*C85 -> 0 | F85: 31 | G85: =F85*C85 -> 0 | H85: 32 | I85: =H85*C85 -> 0 | J85: =D85+F85+H85 -> 63 | K85: =E85+G85+I85 -> 0 | L85: 410.5 | M85: =L85*C85 -> 0 | N85: 4370 | O85: =N85*C85 -> 0 | P85: 6536 | Q85: =P85*C85 -> 0 | R85: 6903 | S85: =R85*C85 -> 0 | T85: =R85*2.8 -> 19328.4 | U85: =T85*C85 -> 0
B86: РЯДОВАЯ - В1 | C86: 2 | D86: 109 | E86: =D86*C86 -> 218 | F86: 1 | G86: =F86*C86 -> 2 | H86: 0 | I86: =H86*C86 -> 0 | J86: =D86+F86+H86 -> 110 | K86: =E86+G86+I86 -> 220 | L86: 410.5 | M86: =L86*C86 -> 821 | N86: 4370 | O86: =N86*C86 -> 8740 | P86: 6536 | Q86: =P86*C86 -> 13072 | R86: 6903 | S86: =R86*C86 -> 13806 | T86: =R86*2.8 -> 19328.4 | U86: =T86*C86 -> 38656.8
B87: РЯДОВАЯ - В1 (обществ - 1 этаж) | C87: 0 | D87: 102 | E87: =D87*C87 -> 0 | F87: 1 | G87: =F87*C87 -> 0 | H87: 0 | I87: =H87*C87 -> 0 | J87: =D87+F87+H87 -> 103 | K87: =E87+G87+I87 -> 0 | L87: 410.5 | M87: =L87*C87 -> 0 | N87: 4090 | O87: =N87*C87 -> 0 | P87: 6156 | Q87: =P87*C87 -> 0 | R87: 6903 | S87: =R87*C87 -> 0 | T87: =R87*2.8 -> 19328.4 | U87: =T87*C87 -> 0
B88: РЯДОВАЯ - В1 (обществ - 2 этажа) | C88: 0 | D88: 95 | E88: =D88*C88 -> 0 | F88: 1 | G88: =F88*C88 -> 0 | H88: 0 | I88: =H88*C88 -> 0 | J88: =D88+F88+H88 -> 96 | K88: =E88+G88+I88 -> 0 | L88: 410.5 | M88: =L88*C88 -> 0 | N88: 3810 | O88: =N88*C88 -> 0 | P88: 5776 | Q88: =P88*C88 -> 0 | R88: 6903 | S88: =R88*C88 -> 0 | T88: =R88*2.8 -> 19328.4 | U88: =T88*C88 -> 0
B89: РЯДОВАЯ - В1 (обществ - 3 этажа) | C89: 2 | D89: 88 | E89: =D89*C89 -> 176 | F89: 1 | G89: =F89*C89 -> 2 | H89: 0 | I89: =H89*C89 -> 0 | J89: =D89+F89+H89 -> 89 | K89: =E89+G89+I89 -> 178 | L89: 410.5 | M89: =L89*C89 -> 821 | N89: 3530 | O89: =N89*C89 -> 7060 | P89: 5396 | Q89: =P89*C89 -> 10792 | R89: 6903 | S89: =R89*C89 -> 13806 | T89: =R89*2.8 -> 19328.4 | U89: =T89*C89 -> 38656.8
B90: УГЛОВАЯ 1 | C90: 0 | D90: 15 | E90: =D90*C90 -> 0 | F90: 32 | G90: =F90*C90 -> 0 | H90: 16 | I90: =H90*C90 -> 0 | J90: =D90+F90+H90 -> 63 | K90: =E90+G90+I90 -> 0 | L90: 416.4 | M90: =L90*C90 -> 0 | N90: 4164 | O90: =N90*C90 -> 0 | P90: 5874 | Q90: =P90*C90 -> 0 | R90: 6209 | S90: =R90*C90 -> 0 | T90: =R90*2.8 -> 17385.2 | U90: =T90*C90 -> 0
B91: УГЛОВАЯ 2 | C91: 0 | D91: 31 | E91: =D91*C91 -> 0 | F91: 0 | G91: =F91*C91 -> 0 | H91: 32 | I91: =H91*C91 -> 0 | J91: =D91+F91+H91 -> 63 | K91: =E91+G91+I91 -> 0 | L91: 416.4 | M91: =L91*C91 -> 0 | N91: 4164 | O91: =N91*C91 -> 0 | P91: 5874 | Q91: =P91*C91 -> 0 | R91: 6209 | S91: =R91*C91 -> 0 | T91: =R91*2.8 -> 17385.2 | U91: =T91*C91 -> 0
B92: ИТОГО: | C92: =SUM(C84:C91) -> 6 | D92: =SUM(E84:E91) -> 458 | F92: =SUM(G84:G91) -> 66 | H92: =SUM(I84:I91) -> 32 | J92: =D92+F92+H92 -> 556 | L92: =SUM(M84:M91) -> 2463 | N92: =SUM(O84:O91) -> 24540 | P92: =SUM(Q84:Q91) -> 36936 | R92: =SUM(S84:S91) -> 41418 | T92: =SUM(U84:U91) -> 115970.4 | V92: =0.24*T92*(20+28) -> 1335979 | W92: =V92*0.00000085943 -> 1.1481804 | X92: =J92*0.595 -> 330.82 | Y92: =X92*0.1273 -> 42.113386 | Z92: =Y92*0.36 -> 15.160819 | AA92: =J92*0.315 -> 175.14 | AB92: =AA92*0.155 -> 27.1467 | AC92: =AB92*0.417 -> 11.320174 | AD92: =L92*80/10000 -> 19.704
B93: СООТНОШЕНИЕ | D93: =D92/J92 -> 0.82374101 | F93: =F92/J92 -> 0.11870504 | H93: =H92/J92 -> 0.057553957 | J93: =D93+F93+H93 -> 1 | N93: =N92/P92 -> 0.66439246 | P93: =1 -> 1 | R93: =R92/P92 -> 1.121345
B95: Д О М 7 | V95: ДОМ 7
B96: СЕКЦИИ | C96: ШТУК | D96: КВАРТИРЫ | J96: ИТОГО КВАРТИР | L96: ПЛОЩАДЬ ЗАСТРОЙКИ | N96: ОБЩАЯ ПЛОЩАДЬ КВАРТИР | P96: ОБЩАЯ НАДЗЕМНАЯ ПЛОЩАДЬ | R96: ОБЩАЯ ПЛОЩАДЬ ЭТАЖЕЙ | T96: СТРОИТЕЛЬНЫЙ ОБЪЕМ | V96: НАГРУЗКА НА ОТОПЛЕНИЕ | X96: ВОДОСНАБЖЕНИЕ И ВОДООТВЕДЕНИЕ | AA96: В Т.Ч. ГВС | AD96: ВОДОСТОК С КРОВЛИ
D97: однокомнатные | F97: двухкомнатные | H97: трехкомнатные
D98: в одной | E98: в секциях | F98: в одной | G98: в секциях | H98: в одной | I98: в секциях | J98: в одной | K98: в секциях | L98: в одной | M98: в секциях | N98: в одной | O98: в секциях | P98: в одной | Q98: в секциях | R98: в одной | S98: в секциях | T98: в одной | U98: в секциях | V98: Вт | W98: Гкал/ч | X98: м3/сут | Y98: м3/час | Z98: л/с | AA98: м3/сут | AB98: м3/час | AC98: л/с | AD98: л/с
B99: РЯДОВАЯ - В4 | C99: 0 | D99: 32 | E99: =D99*C99 -> 0 | F99: 31 | G99: =F99*C99 -> 0 | H99: 16 | I99: =H99*C99 -> 0 | J99: =D99+F99+H99 -> 79 | K99: =E99+G99+I99 -> 0 | L99: 410.5 | M99: =L99*C99 -> 0 | N99: 4370 | O99: =N99*C99 -> 0 | P99: 6536 | Q99: =P99*C99 -> 0 | R99: 6903 | S99: =R99*C99 -> 0 | T99: =R99*2.8 -> 19328.4 | U99: =T99*C99 -> 0
B100: РЯДОВАЯ - В2 | C100: 0 | D100: 0 | E100: =D100*C100 -> 0 | F100: 31 | G100: =F100*C100 -> 0 | H100: 32 | I100: =H100*C100 -> 0 | J100: =D100+F100+H100 -> 63 | K100: =E100+G100+I100 -> 0 | L100: 410.5 | M100: =L100*C100 -> 0 | N100: 4370 | O100: =N100*C100 -> 0 | P100: 6536 | Q100: =P100*C100 -> 0 | R100: 6903 | S100: =R100*C100 -> 0 | T100: =R100*2.8 -> 19328.4 | U100: =T100*C100 -> 0
B101: РЯДОВАЯ - В1 | C101: 0 | D101: 109 | E101: =D101*C101 -> 0 | F101: 1 | G101: =F101*C101 -> 0 | H101: 0 | I101: =H101*C101 -> 0 | J101: =D101+F101+H101 -> 110 | K101: =E101+G101+I101 -> 0 | L101: 410.5 | M101: =L101*C101 -> 0 | N101: 4370 | O101: =N101*C101 -> 0 | P101: 6536 | Q101: =P101*C101 -> 0 | R101: 6903 | S101: =R101*C101 -> 0 | T101: =R101*2.8 -> 19328.4 | U101: =T101*C101 -> 0
B102: РЯДОВАЯ - В1 (обществ - 1 этаж) | C102: 3 | D102: 102 | E102: =D102*C102 -> 306 | F102: 1 | G102: =F102*C102 -> 3 | H102: 0 | I102: =H102*C102 -> 0 | J102: =D102+F102+H102 -> 103 | K102: =E102+G102+I102 -> 309 | L102: 410.5 | M102: =L102*C102 -> 1231.5 | N102: 4090 | O102: =N102*C102 -> 12270 | P102: 6156 | Q102: =P102*C102 -> 18468 | R102: 6903 | S102: =R102*C102 -> 20709 | T102: =R102*2.8 -> 19328.4 | U102: =T102*C102 -> 57985.2
B103: РЯДОВАЯ - В1 (обществ - 2 этажа) | C103: 2 | D103: 95 | E103: =D103*C103 -> 190 | F103: 1 | G103: =F103*C103 -> 2 | H103: 0 | I103: =H103*C103 -> 0 | J103: =D103+F103+H103 -> 96 | K103: =E103+G103+I103 -> 192 | L103: 410.5 | M103: =L103*C103 -> 821 | N103: 3810 | O103: =N103*C103 -> 7620 | P103: 5776 | Q103: =P103*C103 -> 11552 | R103: 6903 | S103: =R103*C103 -> 13806 | T103: =R103*2.8 -> 19328.4 | U103: =T103*C103 -> 38656.8
B104: РЯДОВАЯ - В1 (обществ - 3 этажа) | C104: 0 | D104: 88 | E104: =D104*C104 -> 0 | F104: 1 | G104: =F104*C104 -> 0 | H104: 0 | I104: =H104*C104 -> 0 | J104: =D104+F104+H104 -> 89 | K104: =E104+G104+I104 -> 0 | L104: 410.5 | M104: =L104*C104 -> 0 | N104: 3530 | O104: =N104*C104 -> 0 | P104: 5396 | Q104: =P104*C104 -> 0 | R104: 6903 | S104: =R104*C104 -> 0 | T104: =R104*2.8 -> 19328.4 | U104: =T104*C104 -> 0
B105: УГЛОВАЯ 1 | C105: 0 | D105: 15 | E105: =D105*C105 -> 0 | F105: 32 | G105: =F105*C105 -> 0 | H105: 16 | I105: =H105*C105 -> 0 | J105: =D105+F105+H105 -> 63 | K105: =E105+G105+I105 -> 0 | L105: 416.4 | M105: =L105*C105 -> 0 | N105: 4164 | O105: =N105*C105 -> 0 | P105: 5874 | Q105: =P105*C105 -> 0 | R105: 6209 | S105: =R105*C105 -> 0 | T105: =R105*2.8 -> 17385.2 | U105: =T105*C105 -> 0
B106: УГЛОВАЯ 2 | C106: 0 | D106: 31 | E106: =D106*C106 -> 0 | F106: 0 | G106: =F106*C106 -> 0 | H106: 32 | I106: =H106*C106 -> 0 | J106: =D106+F106+H106 -> 63 | K106: =E106+G106+I106 -> 0 | L106: 416.4 | M106: =L106*C106 -> 0 | N106: 4164 | O106: =N106*C106 -> 0 | P106: 5874 | Q106: =P106*C106 -> 0 | R106: 6209 | S106: =R106*C106 -> 0 | T106: =R106*2.8 -> 17385.2 | U106: =T106*C106 -> 0
B107: ИТОГО: | C107: =SUM(C99:C106) -> 5 | D107: =SUM(E99:E106) -> 496 | F107: =SUM(G99:G106) -> 5 | H107: =SUM(I99:I106) -> 0 | J107: =D107+F107+H107 -> 501 | L107: =SUM(M99:M106) -> 2052.5 | N107: =SUM(O99:O106) -> 19890 | P107: =SUM(Q99:Q106) -> 30020 | R107: =SUM(S99:S106) -> 34515 | T107: =SUM(U99:U106) -> 96642 | V107: =0.24*T107*(20+28) -> 1113315.8 | W107: =V107*0.00000085943 -> 0.95681703 | X107: =J107*0.595 -> 298.095 | Y107: =X107*0.1273 -> 37.947493 | Z107: =Y107*0.36 -> 13.661098 | AA107: =J107*0.315 -> 157.815 | AB107: =AA107*0.155 -> 24.461325 | AC107: =AB107*0.417 -> 10.200373 | AD107: =L107*80/10000 -> 16.42
B108: СООТНОШЕНИЕ | D108: =D107/J107 -> 0.99001996 | F108: =F107/J107 -> 0.0099800399 | H108: =H107/J107 -> 0 | J108: =D108+F108+H108 -> 1 | N108: =N107/P107 -> 0.66255829 | P108: =1 -> 1 | R108: =R107/P107 -> 1.1497335
B110: Д О М 8 | V110: ДОМ 8
B111: СЕКЦИИ | C111: ШТУК | D111: КВАРТИРЫ | J111: ИТОГО КВАРТИР | L111: ПЛОЩАДЬ ЗАСТРОЙКИ | N111: ОБЩАЯ ПЛОЩАДЬ КВАРТИР | P111: ОБЩАЯ НАДЗЕМНАЯ ПЛОЩАДЬ | R111: ОБЩАЯ ПЛОЩАДЬ ЭТАЖЕЙ | T111: СТРОИТЕЛЬНЫЙ ОБЪЕМ | V111: НАГРУЗКА НА ОТОПЛЕНИЕ | X111: ВОДОСНАБЖЕНИЕ И ВОДООТВЕДЕНИЕ | AA111: В Т.Ч. ГВС | AD111: ВОДОСТОК С КРОВЛИ
...

Sheet тэпы
A1: Б А Л А Н С Т Е Р Р И Т О Р И И
A2: N п.п. | B2: НАИМЕНОВАНИЕ | C2: Площадь га | E2: %
A3: 1. | B3: Проектируемая территория | C3: 13.43 | E3: =SUM(E4:E16) -> 1.0000022
A4: 2. | B4: Площадь застройки в т.ч. | D4: =SUM(C5:C9) -> 2.32003 | E4: =D4/C3 -> 0.17274981
B5: Жилая застройка | C5: =СВОДНЫЕ!L152/10000 -> 1.52003
B6: Инженерные объекты | C6: 0.02
B7: Объекты торговли, культурно-бытового и коммунального обслуживания | C7: 0.65
B8: Здание бани на 60 мест | C8: 0.06
B9: Детский сад | C9: 0.07
A10: 5. | B10: Площадь покрытий дорог, проездов, автостоянок | D10: =SUM(C11:C13) -> 5.63 | E10: =D10/C3 -> 0.41921072
B11: Территория открытых автостоянок на территории жилой застроки | C11: 1.16
B12: Территория дополнительно отведенная под автостоянки хранения личного автотранспорта | C12: 2.75
B13: Проезды и дороги на проектируемой территории | C13: 1.72
A14: 6. | B14: Площадь озеленения | D14: =SUM(C15:C16) -> 5.48 | E14: =D14/C3 -> 0.4080417
B15: Территория площадок для игр детей, одтыха взрослых | C15: 1.72
B16: Проктируемые газоны | C16: 3.76
A18: ОСНОВНЫЕ ТЕХНИКО-ЭКОНОМИЧЕСКИЕ ПОКАЗАТЕЛИ
A19: N п.п. | B19: НАИМЕНОВАНИЕ ПОКАЗАТЕЛЯ | C19: ПОКАЗАТЕЛЬ | E19: ЕД. ИЗМЕРЕНИЯ
A20: 1. | B20: Общая площадь застройки жилыми домами | C20: =СВОДНЫЕ!P152 -> 230628 | E20: м2
A21: 2. | B21: Коэффициент застройки жилыми домами | C21: =C5/C3 -> 0.11318168 | E21: %
A22: 3. | B22: Плотность застройки | C22: =C20/C3 -> 17172.599 | E22: м2/га
A23: 4. | B23: Общая площадь квартир жилых домов | C23: =СВОДНЫЕ!N152 -> 153998 | E23: м2
A24: 5. | B24: Расчетная обеспеченность жильем | C24: 40 | E24: м2/чел
A25: 6. | B25: Расчетная численность населения жилой застройки | C25: =C23/C24 -> 3849.95 | E25: человек
A26: 7. | B26: Плотность населения | C26: =C25/C3 -> 286.66791 | E26: чел/га
A27: 8. | B27: Площадь территории открытых автостоянок и мест хранения из расчета на одного жителя | C27: =C28/C25 -> 10.155976 | E27: м2/чел
A28: 9. | B28: Проектная площадь территории открытых автостоянок и мест хранения автотранспорта | C28: =(C11+C12)*10000 -> 39100 | E28: м2
A29: 10. | B29: Общая площадь зданий общественного назначения в т.ч. встроенно-пристроенных на территории жилой застройки | C29: 20100 | E29: м2

Sheet РАСЧЕТНЫЕ ПОКАЗАТЕЛИ ПОТРЕБНОСТ
A1: РАСЧЕТНЫЕ ПОКАЗАТЕЛИ ПОТРЕБНОСТИ В УЧРЕЖДЕНИЯХ И ПРЕДПРИЯТИЯХ РАЗЛИЧНОГО НАЗНАЧЕНИЯ
A2: № п/п | B2: Предприятия и учреждения обслуживания | C2: Единица измерения | D2: Норма на 1000 жителей | E2: Требуется по норме | F2: По проекту | G2: Свободные места в существующих учреждениях | H2: Примечание
A3: 1. | B3: Учреждения образования (по демогр.)
A4: 1.1. | B4: Дошкольные образовательные учреждения | C4: мест | D4: 40 | E4: =D4/1000*тэпы!C25 -> 153.998 | F4: 240 | G4: -
A5: 1.2. | B5: Общеобразовательные школы | D5: 110 | E5: =D5/1000*тэпы!C25 -> 423.4945 | F5: - | G5: 442 | H5: в границах населенного пункта
A6: 2. | B6: Предприятия бытового обслуживания
A7: 2.1. | B7: Предприятия торговли (прод. товары) | C7: м2 торговой площади | D7: 132 | E7: =D7/1000*тэпы!C25 -> 508.1934 | F7: 1000
A8: 2.2. | B8: Предприятия торговли (пром. товары) | D8: 302 | E8: =D8/1000*тэпы!C25 -> 1162.6849 | F8: 2000
A9: 2.3. | B9: Предприятия общественного питания | C9: мест | D9: 20 | E9: =D9/1000*тэпы!C25 -> 76.999 | F9: 200
A10: 2.4. | B10: Предприятия бытового обслуживания | D10: 2 | E10: =D10/1000*тэпы!C25 -> 7.6999 | F10: 100
A11: 3. | B11: Предприятия коммунального обслуживания
A12: 2.1. | B12: Прачечная | C12: кг | D12: 10 | E12: =D12/1000*тэпы!C25 -> 38.4995 | F12: 50
A13: 2.2. | B13: Химчистка | D13: 4 | E13: =D13/1000*тэпы!C25 -> 15.3998 | F13: 20
A14: 4. | B14: Учреждения культуры и искусства
A15: 4.1. | B15: Дом детского творчества (Школа исскуств) | C15: мест | D15: 16.2 | E15: =D15/1000*тэпы!C25 -> 62.36919 | F15: 350 | H15: для нужд города
A16: 4.2. | B16: Клубные и развлекательные помещения | C16: м2 | D16: 50 | E16: =D16/1000*тэпы!C25 -> 192.4975 | F16: - | H16: в границах населенного пункта
A17: 5. | B17: Учреждения здравоохранения и соцобеспечения
A18: 5.1. | B18: Аптеки | C18: м2 | D18: 7 | E18: =D18/1000*тэпы!C25 -> 26.94965 | F18: 50
A19: 5.2. | B19: Поликлиники для взрослых | C19: пос/смену | D19: 18.8 | E19: =D19/1000*тэпы!C25 -> 72.37906 | F19: - | G19: МБУЗ «Лосино-Петровская ЦГБ» | H19: в границах населенного пункта
A20: 5.2. | B20: Поликлиники для детей | D20: 17.6 | E20: =D20/1000*тэпы!C25 -> 67.75912 | F20: - | H20: в границах населенного пункта
A21: 6. | B21: Прочие учреждения
A22: 6.1. | B22: Отделения банков | C22: операц. касса | D22: 1 | E22: =D22/1000*тэпы!C25 -> 3.84995 | F22: 5
A23: 6.2. | B23: Административно-деловые учреждения | C23: работающих | D23: - | E23: - | F23: 200 | H23: не нормируется
A24: 6.3. | B24: Учреждения муниципального управления | C24: работающих | D24: - | E24: - | F24: 150 | H24: не нормируется

Sheet КБО
B2: ОБЪЕКТЫ КУЛЬТУРНО-БЫТОВОГО ОБСЛУЖИВАНИЯ НАСЕЛЕНИЯ
B3: № п/п | C3: НАИМЕНОВАНИЕ ОБЪЕКТА | G3: ОБЩАЯ НАДЗЕМНАЯ ПЛОЩАДЬ | I3: СТРОИТЕЛЬНЫЙ ОБЪЕМ
G5: м2 | I5: м3
B6: 9 | C6: ВСТРОЕНО-ПРИСТРОЕННЫЕ КБО | G6: 750 | I6: =G6*4.2 -> 3150
B7: 10 | C7: ВСТРОЕНО-ПРИСТРОЕННЫЕ КБО | G7: =530+520+510+520*2+810*2 -> 4220 | I7: =G7*4.2 -> 17724
B8: 11 | C8: АДМИНИСТРАЦИЯ | G8: =850*4 -> 3400 | I8: =G8*4.2 -> 14280
B9: 12 | C9: ВСТРОЕНО-ПРИСТРОЕННЫЕ КБО | G9: =(340+275)*2+340+500 -> 2070 | I9: =G9*4.2 -> 8694
B10: 13 | C10: ДОМ ДЕТСКОГО ТВОРЧЕСТВА | G10: =G8 -> 3400 | I10: =G10*4.2 -> 14280
B11: 14 | C11: ВСТРОЕНО-ПРИСТРОЕННЫЕ КБО | G11: =G9 -> 2070 | I11: =G11*4.2 -> 8694
B12: 15 | C12: ОФИСНОЕ ЗДАНИЕ | G12: =G10 -> 3400 | I12: =G12*4.2 -> 14280
B13: 16 | C13: ВСТРОЕНО-ПРИСТРОЕННЫЕ КБО | G13: =(340+275)*2+220+380 -> 1830 | I13: =G13*4.2 -> 7686
B14: ИТОГО ВСТРОЕНО-ПРИСТРОЕННЫЕ: | G14: =SUM(G6:H13) -> 21140 | I14: =G14*4.2 -> 88788
B15: 17 | C15: БАНЯ НА 50 МЕСТ | G15: 1100 | I15: =G15*3.6 -> 3960
B16: 20 | C16: ДЕТСКИЙ САД НА 240 МЕСТ | G16: =635*3 -> 1905 | I16: =G16*3.6 -> 6858
