Workbook

Sheet СВОДНЫЕ
B5: Д О М 1 | V5: ДОМ 1
B6: СЕКЦИИ | C6: ШТУК | D6: КВАРТИРЫ | J6: ИТОГО КВАРТИР | L6: ПЛОЩАДЬ ЗАСТРОЙКИ | N6: ОБЩАЯ ПЛОЩАДЬ КВАРТИР | P6: ОБЩАЯ НАДЗЕМНАЯ ПЛОЩАДЬ | R6: ОБЩАЯ ПЛОЩАДЬ ЭТАЖЕЙ | T6: СТРОИТЕЛЬНЫЙ ОБЪЕМ | V6: НАГРУЗКА НА ОТОПЛЕНИЕ | X6: ВОДОСНАБЖЕНИЕ И ВОДООТВЕДЕНИЕ | AA6: В Т.Ч. ГВС | AD6: ВОДОСТОК С КРОВЛИ
D7: однокомнатные | F7: двухкомнатные | H7: трехкомнатные
D8: в одной | E8: в секциях | F8: в одной | G8: в секциях | H8: в одной | I8: в секциях | J8: в одной | K8: в секциях | L8: в одной | M8: в секциях | N8: в одной | O8: в секциях | P8: в одной | Q8: в секциях | R8: в одной | S8: в секциях | T8: в одной | U8: в секциях | V8: Вт | W8: Гкал/ч | X8: м3/сут | Y8: м3/час | Z8: л/с | AA8: м3/сут | AB8: м3/час | AC8: л/с | AD8: л/с
B9: РЯДОВАЯ - В4 | C9: 1 | D9: 32 | E9: =D9*C9 -> 32 | F9: 31 | G9: =F9*C9 -> 31 | H9: 16 | I9: =H9*C9 -> 16 | J9: =D9+F9+H9 -> 79 | K9: =E9+G9+I9 -> 79 | L9: 410.5 | M9: =L9*C9 -> 410.5 | N9: 4370 | O9: =N9*C9 -> 4370 | P9: 6536 | Q9: =P9*C9 -> 6536 | R9: 6903 | S9: =R9*C9 -> 6903 | T9: =R9*2.8 -> 19328.4 | U9: =T9*C9 -> 19328.4
B10: РЯДОВАЯ - В2 | C10: 2 | D10: 0 | E10: =D10*C10 -> 0 | F10: 31 | G10: =F10*C10 -> 62 | H10: 32 | I10: =H10*C10 -> 64 | J10: =D10+F10+H10 -> 63 | K10: =E10+G10+I10 -> 126 | L10: 410.5 | M10: =L10*C10 -> 821 | N10: 4370 | O10: =N10*C10 -> 8740 | P10: 6536 | Q10: =P10*C10 -> 13072 | R10: 6903 | S10: =R10*C10 -> 13806 | T10: =R10*2.8 -> 19328.4 | U10: =T10*C10 -> 38656.8
B11: РЯДОВАЯ - В1 | C11: 0 | D11: 109 | E11: =D11*C11 -> 0 | F11: 1 | G11: =F11*C11 -> 0 | H11: 0 | I11: =H11*C11 -> 0 | J11: =D11+F11+H11 -> 110 | K11: =E11+G11+I11 -> 0 | L11: 410.5 | M11: =L11*C11 -> 0 | N11: 4370 | O11: =N11*C11 -> 0 | P11: 6536 | Q11: =P11*C11 -> 0 | R11: 6903 | S11: =R11*C11 -> 0 | T11: =R11*2.8 -> 19328.4 | U11: =T11*C11 -> 0
B12: РЯДОВАЯ - В1 (обществ - 1 этаж) | C12: 1 | D12: 102 | E12: =D12*C12 -> 102 | F12: 1 | G12: =F12*C12 -> 1 | H12: 0 | I12: =H12*C12 -> 0 | J12: =D12+F12+H12 -> 103 | K12: =E12+G12+I12 -> 103 | L12: 410.5 | M12: =L12*C12 -> 410.5 | N12: 4090 | O12: =N12*C12 -> 4090 | P12: 6156 | Q12: =P12*C12 -> 6156 | R12: 6903 | S12: =R12*C12 -> 6903 | T12: =R12*2.8 -> 19328.4 | U12: =T12*C12 -> 19328.4
B13: РЯДОВАЯ - В1 (обществ - 2 этажа) | C13: 0 | D13: 95 | E13: =D13*C13 -> 0 | F13: 1 | G13: =F13*C13 -> 0 | H13: 0 | I13: =H13*C13 -> 0 | J13: =D13+F13+H13 -> 96 | K13: =E13+G13+I13 -> 0 | L13: 410.5 | M13: =L13*C13 -> 0 | N13: 3810 | O13: =N13*C13 -> 0 | P13: 5776 | Q13: =P13*C13 -> 0 | R13: 6903 | S13: =R13*C13 -> 0 | T13: =R13*2.8 -> 19328.4 | U13: =T13*C13 -> 0
B14: РЯДОВАЯ - В1 (обществ - 3 этажа) | C14: 0 | D14: 88 | E14: =D14*C14 -> 0 | F14: 1 | G14: =F14*C14 -> 0 | H14: 0 | I14: =H14*C14 -> 0 | J14: =D14+F14+H14 -> 89 | K14: =E14+G14+I14 -> 0 | L14: 410.5 | M14: =L14*C14 -> 0 | N14: 3530 | O14: =N14*C14 -> 0 | P14: 5396 | Q14: =P14*C14 -> 0 | R14: 6903 | S14: =R14*C14 -> 0 | T14: =R14*2.8 -> 19328.4 | U14: =T14*C14 -> 0
B15: УГЛОВАЯ 1 (с встроенно-пристроенными) | C15: 1 | D15: 15 | E15: =D15*C15 -> 15 | F15: 32 | G15: =F15*C15 -> 32 | H15: 16 | I15: =H15*C15 -> 16 | J15: =D15+F15+H15 -> 63 | K15: =E15+G15+I15 -> 63 | L15: 416.4 | M15: =L15*C15 -> 416.4 | N15: 4030 | O15: =N15*C15 -> 4030 | P15: 5874 | Q15: =P15*C15 -> 5874 | R15: 6209 | S15: =R15*C15 -> 6209 | T15: =R15*2.8 -> 17385.2 | U15: =T15*C15 -> 17385.2
B16: УГЛОВАЯ 2 | C16: 0 | D16: 31 | E16: =D16*C16 -> 0 | F16: 0 | G16: =F16*C16 -> 0 | H16: 32 | I16: =H16*C16 -> 0 | J16: =D16+F16+H16 -> 63 | K16: =E16+G16+I16 -> 0 | L16: 416.4 | M16: =L16*C16 -> 0 | N16: 4164 | O16: =N16*C16 -> 0 | P16: 5874 | Q16: =P16*C16 -> 0 | R16: 6209 | S16: =R16*C16 -> 0 | T16: =R16*2.8 -> 17385.2 | U16: =T16*C16 -> 0
B17: ИТОГО: | C17: =SUM(C9:C16) -> 5 | D17: =SUM(E9:E16) -> 149 | F17: =SUM(G9:G16) -> 126 | H17: =SUM(I9:I16) -> 96 | J17: =D17+F17+H17 -> 371 | L17: =SUM(M9:M16) -> 2058.4 | N17: =SUM(O9:O16) -> 21230 | P17: =SUM(Q9:Q16) -> 31638 | R17: =SUM(S9:S16) -> 33821 | T17: =SUM(U9:U16) -> 94698.8 | V17: =0.24*T17*(20+28) -> 1090930.2 | W17: =V17*0.00000085943 -> 0.93757812 | X17: =J17*0.595 -> 220.745 | Y17: =X17*0.1273 -> 28.100838 | Z17: =Y17*0.36 -> 10.116302 | AA17: =J17*0.315 -> 116.865 | AB17: =AA17*0.155 -> 18.114075 | AC17: =AB17*0.417 -> 7.5535693 | AD17: =L17*80/10000 -> 16.4672
B18: СООТНОШЕНИЕ | D18: =D17/J17 -> 0.40161725 | F18: =F17/J17 -> 0.33962264 | H18: =H17/J17 -> 0.25876011 | J18: =D18+F18+H18 -> 1 | N18: =N17/P17 -> 0.67102851 | P18: =1 -> 1 | R18: =R17/P17 -> 1.0689993
B20: Д О М 2 | V20: ДОМ 2
B21: СЕКЦИИ | C21: ШТУК | D21: КВАРТИРЫ | J21: ИТОГО КВАРТИР | L21: ПЛОЩАДЬ ЗАСТРОЙКИ | N21: ОБЩАЯ ПЛОЩАДЬ КВАРТИР | P21: ОБЩАЯ НАДЗЕМНАЯ ПЛОЩАДЬ | R21: ОБЩАЯ ПЛОЩАДЬ ЭТАЖЕЙ | T21: СТРОИТЕЛЬНЫЙ ОБЪЕМ | V21: НАГРУЗКА НА ОТОПЛЕНИЕ | X21: ВОДОСНАБЖЕНИЕ И ВОДООТВЕДЕНИЕ | AA21: В Т.Ч. ГВС | AD21: ВОДОСТОК С КРОВЛИ
D22: однокомнатные | F22: двухкомнатные | H22: трехкомнатные
D23: в одной | E23: в секциях | F23: в одной | G23: в секциях | H23: в одной | I23: в секциях | J23: в одной | K23: в секциях | L23: в одной | M23: в секциях | N23: в одной | O23: в секциях | P23: в одной | Q23: в секциях | R23: в одной | S23: в секциях | T23: в одной | U23: в секциях | V23: Вт | W23: Гкал/ч | X23: м3/сут | Y23: м3/час | Z23: л/с | AA23: м3/сут | AB23: м3/час | AC23: л/с | AD23: л/с
B24: РЯДОВАЯ - В4 | C24: 1 | D24: 32 | E24: =D24*C24 -> 32 | F24: 31 | G24: =F24*C24 -> 31 | H24: 16 | I24: =H24*C24 -> 16 | J24: =D24+F24+H24 -> 79 | K24: =E24+G24+I24 -> 79 | L24: 410.5 | M24: =L24*C24 -> 410.5 | N24: 4370 | O24: =N24*C24 -> 4370 | P24: 6536 | Q24: =P24*C24 -> 6536 | R24: 6903 | S24: =R24*C24 -> 6903 | T24: =R24*2.8 -> 19328.4 | U24: =T24*C24 -> 19328.4
B25: РЯДОВАЯ - В2 | C25: 2 | D25: 0 | E25: =D25*C25 -> 0 | F25: 31 | G25: =F25*C25 -> 62 | H25: 32 | I25: =H25*C25 -> 64 | J25: =D25+F25+H25 -> 63 | K25: =E25+G25+I25 -> 126 | L25: 410.5 | M25: =L25*C25 -> 821 | N25: 4370 | O25: =N25*C25 -> 8740 | P25: 6536 | Q25: =P25*C25 -> 13072 | R25: 6903 | S25: =R25*C25 -> 13806 | T25: =R25*2.8 -> 19328.4 | U25: =T25*C25 -> 38656.8
B26: РЯДОВАЯ - В1 | C26: 0 | D26: 109 | E26: =D26*C26 -> 0 | F26: 1 | G26: =F26*C26 -> 0 | H26: 0 | I26: =H26*C26 -> 0 | J26: =D26+F26+H26 -> 110 | K26: =E26+G26+I26 -> 0 | L26: 410.5 | M26: =L26*C26 -> 0 | N26: 4370 | O26: =N26*C26 -> 0 | P26: 6536 | Q26: =P26*C26 -> 0 | R26: 6903 | S26: =R26*C26 -> 0 | T26: =R26*2.8 -> 19328.4 | U26: =T26*C26 -> 0
B27: РЯДОВАЯ - В1 (обществ - 1 этаж) | C27: 0 | D27: 102 | E27: =D27*C27 -> 0 | F27: 1 | G27: =F27*C27 -> 0 | H27: 0 | I27: =H27*C27 -> 0 | J27: =D27+F27+H27 -> 103 | K27: =E27+G27+I27 -> 0 | L27: 410.5 | M27: =L27*C27 -> 0 | N27: 4090 | O27: =N27*C27 -> 0 | P27: 6156 | Q27: =P27*C27 -> 0 | R27: 6903 | S27: =R27*C27 -> 0 | T27: =R27*2.8 -> 19328.4 | U27: =T27*C27 -> 0
B28: РЯДОВАЯ - В1 (обществ - 2 этажа) | C28: 0 | D28: 95 | E28: =D28*C28 -> 0 | F28: 1 | G28: =F28*C28 -> 0 | H28: 0 | I28: =H28*C28 -> 0 | J28: =D28+F28+H28 -> 96 | K28: =E28+G28+I28 -> 0 | L28: 410.5 | M28: =L28*C28 -> 0 | N28: 3810 | O28: =N28*C28 -> 0 | P28: 5776 | Q28: =P28*C28 -> 0 | R28: 6903 | S28: =R28*C28 -> 0 | T28: =R28*2.8 -> 19328.4 | U28: =T28*C28 -> 0
B29: РЯДОВАЯ - В1 (обществ - 3 этажа) | C29: 0 | D29: 88 | E29: =D29*C29 -> 0 | F29: 1 | G29: =F29*C29 -> 0 | H29: 0 | I29: =H29*C29 -> 0 | J29: =D29+F29+H29 -> 89 | K29: =E29+G29+I29 -> 0 | L29: 410.5 | M29: =L29*C29 -> 0 | N29: 3530 | O29: =N29*C29 -> 0 | P29: 5396 | Q29: =P29*C29 -> 0 | R29: 6903 | S29: =R29*C29 -> 0 | T29: =R29*2.8 -> 19328.4 | U29: =T29*C29 -> 0
B30: УГЛОВАЯ 1 | C30: 0 | D30: 15 | E30: =D30*C30 -> 0 | F30: 32 | G30: =F30*C30 -> 0 | H30: 16 | I30: =H30*C30 -> 0 | J30: =D30+F30+H30 -> 63 | K30: =E30+G30+I30 -> 0 | L30: 416.4 | M30: =L30*C30 -> 0 | N30: 4164 | O30: =N30*C30 -> 0 | P30: 5874 | Q30: =P30*C30 -> 0 | R30: 6209 | S30: =R30*C30 -> 0 | T30: =R30*2.8 -> 17385.2 | U30: =T30*C30 -> 0
B31: УГЛОВАЯ 2 | C31: 0 | D31: 31 | E31: =D31*C31 -> 0 | F31: 0 | G31: =F31*C31 -> 0 | H31: 32 | I31: =H31*C31 -> 0 | J31: =D31+F31+H31 -> 63 | K31: =E31+G31+I31 -> 0 | L31: 416.4 | M31: =L31*C31 -> 0 | N31: 4164 | O31: =N31*C31 -> 0 | P31: 5874 | Q31: =P31*C31 -> 0 | R31: 6209 | S31: =R31*C31 -> 0 | T31: =R31*2.8 -> 17385.2 | U31: =T31*C31 -> 0
B32: ИТОГО: | C32: =SUM(C24:C31) -> 3 | D32: =SUM(E24:E31) -> 32 | F32: =SUM(G24:G31) -> 93 | H32: =SUM(I24:I31) -> 80 | J32: =D32+F32+H32 -> 205 | L32: =SUM(M24:M31) -> 1231.5 | N32: =SUM(O24:O31) -> 13110 | P32: =SUM(Q24:Q31) -> 19608 | R32: =SUM(S24:S31) -> 20709 | T32: =SUM(U24:U31) -> 57985.2 | V32: =0.24*T32*(20+28) -> 667989.5 | W32: =V32*0.00000085943 -> 0.57409022 | X32: =J32*0.595 -> 121.975 | Y32: =X32*0.1273 -> 15.527417 | Z32: =Y32*0.36 -> 5.5898703 | AA32: =J32*0.315 -> 64.575 | AB32: =AA32*0.155 -> 10.009125 | AC32: =AB32*0.417 -> 4.1738051 | AD32: =L32*80/10000 -> 9.852
B33: СООТНОШЕНИЕ | D33: =D32/J32 -> 0.15609756 | F33: =F32/J32 -> 0.45365854 | H33: =H32/J32 -> 0.3902439 | J33: =D33+F33+H33 -> 1 | N33: =N32/P32 -> 0.66860465 | P33: =1 -> 1 | R33: =R32/P32 -> 1.0561506
B35: Д О М 3 | V35: ДОМ 3
B36: СЕКЦИИ | C36: ШТУК | D36: КВАРТИРЫ | J36: ИТОГО КВАРТИР | L36: ПЛОЩАДЬ ЗАСТРОЙКИ | N36: ОБЩАЯ ПЛОЩАДЬ КВАРТИР | P36: ОБЩАЯ НАДЗЕМНАЯ ПЛОЩАДЬ | R36: ОБЩАЯ ПЛОЩАДЬ ЭТАЖЕЙ | T36: СТРОИТЕЛЬНЫЙ ОБЪЕМ | V36: НАГРУЗКА НА ОТОПЛЕНИЕ | X36: ВОДОСНАБЖЕНИЕ И ВОДООТВЕДЕНИЕ | AA36: В Т.Ч. ГВС | AD36: ВОДОСТОК С КРОВЛИ
D37: однокомнатные | F37: двухкомнатные | H37: трехкомнатные
D38: в одной | E38: в секциях | F38: в одной | G38: в секциях | H38: в одной | I38: в секциях | J38: в одной | K38: в секциях | L38: в одной | M38: в секциях | N38: в одной | O38: в секциях | P38: в одной | Q38: в секциях | R38: в одной | S38: в секциях | T38: в одной | U38: в секциях | V38: Вт | W38: Гкал/ч | X38: м3/сут | Y38: м3/час | Z38: л/с | AA38: м3/сут | AB38: м3/час | AC38: л/с | AD38: л/с
B39: РЯДОВАЯ - В4 | C39: 1 | D39: 32 | E39: =D39*C39 -> 32 | F39: 31 | G39: =F39*C39 -> 31 | H39: 16 | I39: =H39*C39 -> 16 | J39: =D39+F39+H39 -> 79 | K39: =E39+G39+I39 -> 79 | L39: 410.5 | M39: =L39*C39 -> 410.5 | N39: 4370 | O39: =N39*C39 -> 4370 | P39: 6536 | Q39: =P39*C39 -> 6536 | R39: 6903 | S39: =R39*C39 -> 6903 | T39: =R39*2.8 -> 19328.4 | U39: =T39*C39 -> 19328.4
B40: РЯДОВАЯ - В2 | C40: 3 | D40: 0 | E40: =D40*C40 -> 0 | F40: 31 | G40: =F40*C40 -> 93 | H40: 32 | I40: =H40*C40 -> 96 | J40: =D40+F40+H40 -> 63 | K40: =E40+G40+I40 -> 189 | L40: 410.5 | M40: =L40*C40 -> 1231.5 | N40: 4370 | O40: =N40*C40 -> 13110 | P40: 6536 | Q40: =P40*C40 -> 19608 | R40: 6903 | S40: =R40*C40 -> 20709 | T40: =R40*2.8 -> 19328.4 | U40: =T40*C40 -> 57985.2
B41: РЯДОВАЯ - В1 | C41: 0 | D41: 109 | E41: =D41*C41 -> 0 | F41: 1 | G41: =F41*C41 -> 0 | H41: 0 | I41: =H41*C41 -> 0 | J41: =D41+F41+H41 -> 110 | K41: =E41+G41+I41 -> 0 | L41: 410.5 | M41: =L41*C41 -> 0 | N41: 4370 | O41: =N41*C41 -> 0 | P41: 6536 | Q41: =P41*C41 -> 0 | R41: 6903 | S41: =R41*C41 -> 0 | T41: =R41*2.8 -> 19328.4 | U41: =T41*C41 -> 0
B42: РЯДОВАЯ - В1 (обществ - 1 этаж) | C42: 0 | D42: 102 | E42: =D42*C42 -> 0 | F42: 1 | G42: =F42*C42 -> 0 | H42: 0 | I42: =H42*C42 -> 0 | J42: =D42+F42+H42 -> 103 | K42: =E42+G42+I42 -> 0 | L42: 410.5 | M42: =L42*C42 -> 0 | N42: 4090 | O42: =N42*C42 -> 0 | P42: 6156 | Q42: =P42*C42 -> 0 | R42: 6903 | S42: =R42*C42 -> 0 | T42: =R42*2.8 -> 19328.4 | U42: =T42*C42 -> 0
B43: РЯДОВАЯ - В1 (обществ - 2 этажа) | C43: 0 | D43: 95 | E43: =D43*C43 -> 0 | F43: 1 | G43: =F43*C43 -> 0 | H43: 0 | I43: =H43*C43 -> 0 | J43: =D43+F43+H43 -> 96 | K43: =E43+G43+I43 -> 0 | L43: 410.5 | M43: =L43*C43 -> 0 | N43: 3810 | O43: =N43*C43 -> 0 | P43: 5776 | Q43: =P43*C43 -> 0 | R43: 6903 | S43: =R43*C43 -> 0 | T43: =R43*2.8 -> 19328.4 | U43: =T43*C43 -> 0
B44: РЯДОВАЯ - В1 (обществ - 3 этажа) | C44: 0 | D44: 88 | E44: =D44*C44 -> 0 | F44: 1 | G44: =F44*C44 -> 0 | H44: 0 | I44: =H44*C44 -> 0 | J44: =D44+F44+H44 -> 89 | K44: =E44+G44+I44 -> 0 | L44: 410.5 | M44: =L44*C44 -> 0 | N44: 3530 | O44: =N44*C44 -> 0 | P44: 5396 | Q44: =P44*C44 -> 0 | R44: 6903 | S44: =R44*C44 -> 0 | T44: =R44*2.8 -> 19328.4 | U44: =T44*C44 -> 0
B45: УГЛОВАЯ 1 | C45: 0 | D45: 15 | E45: =D45*C45 -> 0 | F45: 32 | G45: =F45*C45 -> 0 | H45: 16 | I45: =H45*C45 -> 0 | J45: =D45+F45+H45 -> 63 | K45: =E45+G45+I45 -> 0 | L45: 416.4 | M45: =L45*C45 -> 0 | N45: 4164 | O45: =N45*C45 -> 0 | P45: 5874 | Q45: =P45*C45 -> 0 | R45: 6209 | S45: =R45*C45 -> 0 | T45: =R45*2.8 -> 17385.2 | U45: =T45*C45 -> 0
B46: УГЛОВАЯ 2 | C46: 1 | D46: 31 | E46: =D46*C46 -> 31 | F46: 0 | G46: =F46*C46 -> 0 | H46: 32 | I46: =H46*C46 -> 32 | J46: =D46+F46+H46 -> 63 | K46: =E46+G46+I46 -> 63 | L46: 416.4 | M46: =L46*C46 -> 416.4 | N46: 4164 | O46: =N46*C46 -> 4164 | P46: 5874 | Q46: =P46*C46 -> 5874 | R46: 6209 | S46: =R46*C46 -> 6209 | T46: =R46*2.8 -> 17385.2 | U46: =T46*C46 -> 17385.2
...

Sheet тэпы
A1: Б А Л А Н С Т Е Р Р И Т О Р И И
A2: N п.п. | B2: НАИМЕНОВАНИЕ | C2: Площадь га | E2: %
A3: 1. | B3: Проектируемая территория | C3: 13.43 | E3: =SUM(E4:E16) -> 1.0000022
A4: 2. | B4: Площадь застройки в т.ч. | D4: =SUM(C5:C9) -> 2.32003 | E4: =D4/C3 -> 0.17274981
B5: Жилая застройка | C5: =СВОДНЫЕ!L152/10000 -> 1.52003
B6: Инженерные объекты | C6: 0.02
B7: Объекты торговли, культурно-бытового и коммунального обслуживания | C7: 0.65
B8: Здание бани на 60 мест | C8: 0.06
B9: Детский сад | C9: 0.07
A10: 5. | B10: Площадь покрытий дорог, проездов, автостоянок | D10: =SUM(C11:C13) -> 5.63 | E10: =D10/C3 -> 0.41921072
B11: Территория открытых автостоянок на территории жилой застроки | C11: 1.16
B12: Территория дополнительно отведенная под автостоянки хранения личного автотранспорта | C12: 2.75
B13: Проезды и дороги на проектируемой территории | C13: 1.72
A14: 6. | B14: Площадь озеленения | D14: =SUM(C15:C16) -> 5.48 | E14: =D14/C3 -> 0.4080417
B15: Территория площадок для игр детей, одтыха взрослых | C15: 1.72
B16: Проктируемые газоны | C16: 3.76
A18: ОСНОВНЫЕ ТЕХНИКО-ЭКОНОМИЧЕСКИЕ ПОКАЗАТЕЛИ
A19: N п.п. | B19: НАИМЕНОВАНИЕ ПОКАЗАТЕЛЯ | C19: ПОКАЗАТЕЛЬ | E19: ЕД. ИЗМЕРЕНИЯ
A20: 1. | B20: Общая площадь застройки жилыми домами | C20: =СВОДНЫЕ!P152 -> 230628 | E20: м2
A21: 2. | B21: Коэффициент застройки жилыми домами | C21: =C5/C3 -> 0.11318168 | E21: %
A22: 3. | B22: Плотность застройки | C22: =C20/C3 -> 17172.599 | E22: м2/га
A23: 4. | B23: Общая площадь квартир жилых домов | C23: =СВОДНЫЕ!N152 -> 153998 | E23: м2
A24: 5. | B24: Расчетная обеспеченность жильем | C24: 40 | E24: м2/чел
A25: 6. | B25: Расчетная численность населения жилой застройки | C25: =C23/C24 -> 3849.95 | E25: человек
A26: 7. | B26: Плотность населения | C26: =C25/C3 -> 286.66791 | E26: чел/га
A27: 8. | B27: Площадь территории открытых автостоянок и мест хранения из расчета на одного жителя | C27: =C28/C25 -> 10.155976 | E27: м2/чел
A28: 9. | B28: Проектная площадь территории открытых автостоянок и мест хранения автотранспорта | C28: =(C11+C12)*10000 -> 39100 | E28: м2
A29: 10. | B29: Общая площадь зданий общественного назначения в т.ч. встроенно-пристроенных на территории жилой застройки | C29: 20100 | E29: м2

Sheet РАСЧЕТНЫЕ ПОКАЗАТЕЛИ ПОТРЕБНОСТ
A1: РАСЧЕТНЫЕ ПОКАЗАТЕЛИ ПОТРЕБНОСТИ В УЧРЕЖДЕНИЯХ И ПРЕДПРИЯТИЯХ РАЗЛИЧНОГО НАЗНАЧЕНИЯ
A2: № п/п | B2: Предприятия и учреждения обслуживания | C2: Единица измерения | D2: Норма на 1000 жителей | E2: Требуется по норме | F2: По проекту | G2: Свободные места в существующих учреждениях | H2: Примечание
A3: 1. | B3: Учреждения образования (по демогр.)
A4: 1.1. | B4: Дошкольные образовательные учреждения | C4: мест | D4: 40 | E4: =D4/1000*тэпы!C25 -> 153.998 | F4: 240 | G4: -
A5: 1.2. | B5: Общеобразовательные школы | D5: 110 | E5: =D5/1000*тэпы!C25 -> 423.4945 | F5: - | G5: 442 | H5: в границах населенного пункта
A6: 2. | B6: Предприятия бытового обслуживания
A7: 2.1. | B7: Предприятия торговли (прод. товары) | C7: м2 торговой площади | D7: 132 | E7: =D7/1000*тэпы!C25 -> 508.1934 | F7: 1000
A8: 2.2. | B8: Предприятия торговли (пром. товары) | D8: 302 | E8: =D8/1000*тэпы!C25 -> 1162.6849 | F8: 2000
A9: 2.3. | B9: Предприятия общественного питания | C9: мест | D9: 20 | E9: =D9/1000*тэпы!C25 -> 76.999 | F9: 200
A10: 2.4. | B10: Предприятия бытового обслуживания | D10: 2 | E10: =D10/1000*тэпы!C25 -> 7.6999 | F10: 100
A11: 3. | B11: Предприятия коммунального обслуживания
A12: 2.1. | B12: Прачечная | C12: кг | D12: 10 | E12: =D12/1000*тэпы!C25 -> 38.4995 | F12: 50
A13: 2.2. | B13: Химчистка | D13: 4 | E13: =D13/1000*тэпы!C25 -> 15.3998 | F13: 20
A14: 4. | B14: Учреждения культуры и искусства
A15: 4.1. | B15: Дом детского творчества (Школа исскуств) | C15: мест | D15: 16.2 | E15: =D15/1000*тэпы!C25 -> 62.36919 | F15: 350 | H15: для нужд города
A16: 4.2. | B16: Клубные и развлекательные помещения | C16: м2 | D16: 50 | E16: =D16/1000*тэпы!C25 -> 192.4975 | F16: - | H16: в границах населенного пункта
A17: 5. | B17: Учреждения здравоохранения и соцобеспечения
A18: 5.1. | B18: Аптеки | C18: м2 | D18: 7 | E18: =D18/1000*тэпы!C25 -> 26.94965 | F18: 50
A19: 5.2. | B19: Поликлиники для взрослых | C19: пос/смену | D19: 18.8 | E19: =D19/1000*тэпы!C25 -> 72.37906 | F19: - | G19: МБУЗ «Лосино-Петровская ЦГБ» | H19: в границах населенного пункта
A20: 5.2. | B20: Поликлиники для детей | D20: 17.6 | E20: =D20/1000*тэпы!C25 -> 67.75912 | F20: - | H20: в границах населенного пункта
A21: 6. | B21: Прочие учреждения
A22: 6.1. | B22: Отделения банков | C22: операц. касса | D22: 1 | E22: =D22/1000*тэпы!C25 -> 3.84995 | F22: 5
A23: 6.2. | B23: Административно-деловые учреждения | C23: работающих | D23: - | E23: - | F23: 200 | H23: не нормируется
A24: 6.3. | B24: Учреждения муниципального управления | C24: работающих | D24: - | E24: - | F24: 150 | H24: не нормируется

Sheet КБО
B2: ОБЪЕКТЫ КУЛЬТУРНО-БЫТОВОГО ОБСЛУЖИВАНИЯ НАСЕЛЕНИЯ
B3: № п/п | C3: НАИМЕНОВАНИЕ ОБЪЕКТА | G3: ОБЩАЯ НАДЗЕМНАЯ ПЛОЩАДЬ | I3: СТРОИТЕЛЬНЫЙ ОБЪЕМ
G5: м2 | I5: м3
B6: 9 | C6: ВСТРОЕНО-ПРИСТРОЕННЫЕ КБО | G6: 750 | I6: =G6*4.2 -> 3150
B7: 10 | C7: ВСТРОЕНО-ПРИСТРОЕННЫЕ КБО | G7: =530+520+510+520*2+810*2 -> 4220 | I7: =G7*4.2 -> 17724
B8: 11 | C8: АДМИНИСТРАЦИЯ | G8: =850*4 -> 3400 | I8: =G8*4.2 -> 14280
B9: 12 | C9: ВСТРОЕНО-ПРИСТРОЕННЫЕ КБО | G9: =(340+275)*2+340+500 -> 2070 | I9: =G9*4.2 -> 8694
B10: 13 | C10: ДОМ ДЕТСКОГО ТВОРЧЕСТВА | G10: =G8 -> 3400 | I10: =G10*4.2 -> 14280
B11: 14 | C11: ВСТРОЕНО-ПРИСТРОЕННЫЕ КБО | G11: =G9 -> 2070 | I11: =G11*4.2 -> 8694
B12: 15 | C12: ОФИСНОЕ ЗДАНИЕ | G12: =G10 -> 3400 | I12: =G12*4.2 -> 14280
B13: 16 | C13: ВСТРОЕНО-ПРИСТРОЕННЫЕ КБО | G13: =(340+275)*2+220+380 -> 1830 | I13: =G13*4.2 -> 7686
B14: ИТОГО ВСТРОЕНО-ПРИСТРОЕННЫЕ: | G14: =SUM(G6:H13) -> 21140 | I14: =G14*4.2 -> 88788
B15: 17 | C15: БАНЯ НА 50 МЕСТ | G15: 1100 | I15: =G15*3.6 -> 3960
B16: 20 | C16: ДЕТСКИЙ САД НА 240 МЕСТ | G16: =635*3 -> 1905 | I16: =G16*3.6 -> 6858
