Workbook
Name Constr: '12-027-АР'!$A$7
Name Constr: '12-027-АТХ1'!$A$7
Name Constr: '12-027-АТХ2'!$A$7
Name Constr: '12-027-ТХ'!$A$7
Name Constr: '12-027-ЭМ.СМ'!$A$7
Name FOT: '12-027-АР'!$D$17
Name FOT: '12-027-АТХ1'!$D$19
Name FOT: '12-027-АТХ2'!$D$19
Name FOT: '12-027-ТХ'!$D$20
Name FOT: '12-027-ЭМ.СМ'!$D$19
Name Ind: '12-027-АР'!$H$9
Name Ind: '12-027-АТХ1'!$H$9
Name Ind: '12-027-АТХ2'!$H$9
Name Ind: '12-027-ТХ'!$H$9
Name Ind: '12-027-ЭМ.СМ'!$H$9
Name Obj: '12-027-АР'!$E$12
Name Obj: '12-027-АТХ1'!$E$12
Name Obj: '12-027-АТХ2'!$E$12
Name Obj: '12-027-ТХ'!$E$12
Name Obj: '12-027-ЭМ.СМ'!$E$12
Name Obosn: '12-027-АР'!$D$15
Name Obosn: '12-027-АТХ1'!$D$15
Name Obosn: '12-027-АТХ2'!$D$15
Name Obosn: '12-027-ТХ'!$D$15
Name Obosn: '12-027-ЭМ.СМ'!$D$15
Name SmPr: '12-027-АР'!$D$16
Name SmPr: '12-027-АТХ1'!$D$16
Name SmPr: '12-027-АТХ2'!$D$16
Name SmPr: '12-027-ТХ'!$D$16
Name SmPr: '12-027-ЭМ.СМ'!$D$16
Name аааааппппппрррппппппп: #REF!
Name аааааппппппрррппппппп: #REF!
Name аараооооооооооооо: #REF!
Name аараооооооооооооо: #REF!
Name автом: #REF!
Name автом: #REF!
Name алшрльоплварл: #REF!
Name алшрльоплварл: #REF!
Name аолвлддддддддддддддддввввввввв: #REF!
Name аолвлддддддддддддддддввввввввв: #REF!
Name апарв: #REF!
Name апарв: #REF!
Name апрлдджаоырыфрпопрлпрлпрлп: #REF!
Name апрлдджаоырыфрпопрлпрлпрлп: #REF!
Name арлггаджаш: #REF!
Name арлггаджаш: #REF!
Name ароррбллтблпроорапииас: #REF!
Name ароррбллтблпроорапииас: #REF!
Name арррррблллпдрлдддддддддд: #REF!
Name арррррблллпдрлдддддддддд: #REF!
Name варпаааааааааа: #REF!
Name варпаааааааааа: #REF!
Name ввпьььььлднд: #REF!
Name ввпьььььлднд: #REF!
Name вед: #REF!
Name вед: #REF!
Name вертикальная: #REF!
Name вертикальная: #REF!
Name вертикплан: #REF!
Name вертикплан: #REF!

Sheet 12-027-АР
A1: СОГЛАСОВАНО: | M1: УТВЕРЖДАЮ:
A4: _________________ | M4: _________________
A5: " _____ " ________________ 2013 г. | M5: "____" ______________2013 г.
H6: ФГУП "Комбинат Электрохимприбор", г.Лесной Свердловской области
H7: (наименование стройки)
H9: ЛОКАЛЬНЫЙ СМЕТНЫЙ РАСЧЕТ № 12-027-АР.СМ
H10: (локальная смета)
D12: Архитектурные решения к проекту: Модернизация системы технологической водоподготовки бассейна профилактория комбината
H13: (наименование работ и затрат, наименование объекта)
D15: Основание: 12-027-АР
D16: Сметная стоимость строительных работ _______________________________________________________________________________________________ | J16: ___________________________2,936 | L16: тыс. руб.
D17: Средства на оплату труда _______________________________________________________________________________________________ | J17: ___________________________0,424 | L17: тыс. руб.
D18: Сметная трудоемкость _______________________________________________________________________________________________ | J18: _______________________________________________________________________________________________32,57 | L18: чел.час
D19: Составлен(а) в текущих (прогнозных) ценах по состоянию на 2001г.
A22: № пп | B22: Обосно- вание | C22: Наименование | D22: Ед. изм. | E22: Кол. | F22: Стоимость единицы, руб. | J22: Общая стоимость, руб. | N22: Т/з осн. раб.на ед. | O22: Т/з осн. раб. Всего | P22: Т/з мех. на ед. | Q22: Т/з мех. Всего
F23: Всего | G23: В том числе | J23: Всего | K23: В том числе
G24: Осн.З/п | H24: Эк.Маш | I24: З/пМех | K24: Осн.З/п | L24: Эк.Маш | M24: З/пМех
A25: 1 | B25: 2 | C25: 3 | D25: 4 | E25: 5 | F25: 6 | G25: 7 | H25: 8 | I25: 9 | J25: 10 | K25: 11 | L25: 12 | M25: 13 | N25: 14 | O25: 15 | P25: 16 | Q25: 17
A26: Раздел 1. Полы
A27: Тип 1
A28: 1 | B28: ТЕР11-01-011-01 Постан.Правит.Свердл.обл. от 10.11.10 №1616-ПП | C28: Устройство стяжек цементных толщиной 20 мм (средняя толщина 40 мм) (При ремонте и реконструкции зданий и сооружений работы, аналогичные технологическим процессам в новом строительстве (п. 3.4 Указаний к ТЕРр) ОЗП=1,15; ЭМ=1,25 к расх.; ЗПМ=1,25; ТЗ=1,15; ТЗМ=1,25) НР (37 руб.): 123%*0.9 от ФОТ (33 руб.) СП (21 руб.): 75%*0.85 от ФОТ (33 руб.) | D28: 100 м2 стяжки | E28: 0,0618 6,18 / 100 | F28: 2039.92 | G28: 508.44 | H28: 70.33 | I28: 24.8 | J28: 126 | K28: 31 | L28: 4 | M28: 2 | N28: 45.4365 | O28: 2.81 | P28: 1.5875 | Q28: 0.1
A29: 2 | B29: ТЕР11-01-011-02 Постан.Правит.Свердл.обл. от 10.11.10 №1616-ПП | C29: Устройство стяжек на каждые 5 мм изменения толщины стяжки добавлять или исключать к расценке 11-01-011-01 (ПЗ=4 (ОЗП=4; ЭМ=4 к расх.; ЗПМ=4; МАТ=4 к расх.; ТЗ=4; ТЗМ=4) (1-й уровень); При ремонте и реконструкции зданий и сооружений работы, аналогичные технологическим процессам в новом строительстве (п. 3.4 Указаний к ТЕРр) ОЗП=1,15; ЭМ=1,25 к расх.; ЗПМ=1,25; ТЗ=1,15; ТЗМ=1,25 (1-й уровень)) НР (2 руб.): 123%*0.9 от ФОТ (2 руб.) СП (1 руб.): 75%*0.85 от ФОТ (2 руб.) | D29: 100 м2 стяжки | E29: 0,0618 6,18 / 100 | F29: 1508.8 | G29: 23.24 | H29: 41.48 | I29: 13.94 | J29: 93 | K29: 1 | L29: 3 | M29: 1 | N29: 2.075 | O29: 0.13 | P29: 0.8925 | Q29: 0.06
A30: 3 | B30: ТЕР11-01-004-01 Постан.Правит.Свердл.обл. от 10.11.10 №1616-ПП | C30: Устройство гидроизоляции оклеечной рулонными материалами 2 734,92 = 3 452,96 - 116 x 6,19 (При ремонте и реконструкции зданий и сооружений работы, аналогичные технологическим процессам в новом строительстве (п. 3.4 Указаний к ТЕРр) ОЗП=1,15; ЭМ=1,25 к расх.; ЗПМ=1,25; ТЗ=1,15; ТЗМ=1,25) НР (58 руб.): 123%*0.9 от ФОТ (52 руб.) СП (33 руб.): 75%*0.85 от ФОТ (52 руб.) | D30: 100 м2 изолируемой поверхности | E30: 0,0618 6,18 / 100 | F30: 2954.78 | G30: 843.34 | H30: 549.31 | I30: 7.61 | J30: 183 | K30: 52 | L30: 34 | N30: 53.107 | O30: 3.28 | P30: 0.4875 | Q30: 0.03
A31: 4 | B31: ФССЦ-101-3380 И1-Пр. Минрегион от 04.03.10 №94 | C31: Унифлекс ЭПП (Приведение расценок ФЕР к территориальному уровню (Письмо УРЦЦС Ц-297 от 12.04.2011) ОЗП=1,41; ЭМ=1,242; ЗПМ=1,41; МАТ=1,052 (1-й уровень); При ремонте и реконструкции зданий и сооружений работы, аналогичные технологическим процессам в новом строительстве (п. 3.4 Указаний к ТЕРр) ОЗП=1,15; ЭМ=1,25 к расх.; ЗПМ=1,25; ТЗ=1,15; ТЗМ=1,25 (1-й уровень)) | D31: м2 | E31: 7,169 6,18*1,16 | F31: 30.1 | J31: 216
A32: 5 | B32: ТЕР11-01-011-01 Постан.Правит.Свердл.обл. от 10.11.10 №1616-ПП | C32: Устройство стяжек цементных толщиной 20 мм (15 мм) (При ремонте и реконструкции зданий и сооружений работы, аналогичные технологическим процессам в новом строительстве (п. 3.4 Указаний к ТЕРр) ОЗП=1,15; ЭМ=1,25 к расх.; ЗПМ=1,25; ТЗ=1,15; ТЗМ=1,25) НР (37 руб.): 123%*0.9 от ФОТ (33 руб.) СП (21 руб.): 75%*0.85 от ФОТ (33 руб.) | D32: 100 м2 стяжки | E32: 0,0618 6,18 / 100 | F32: 2039.92 | G32: 508.44 | H32: 70.33 | I32: 24.8 | J32: 126 | K32: 31 | L32: 4 | M32: 2 | N32: 45.4365 | O32: 2.81 | P32: 1.5875 | Q32: 0.1
A33: 6 | B33: ТЕР11-01-011-02 Постан.Правит.Свердл.обл. от 10.11.10 №1616-ПП | C33: Устройство стяжек на каждые 5 мм изменения толщины стяжки добавлять или исключать к расценке 11-01-011-01 (При ремонте и реконструкции зданий и сооружений работы, аналогичные технологическим процессам в новом строительстве (п. 3.4 Указаний к ТЕРр) ОЗП=1,15; ЭМ=1,25 к расх.; ЗПМ=1,25; ТЗ=1,15; ТЗМ=1,25) НР 123%*0.9 от ФОТ СП 75%*0.85 от ФОТ | D33: 100 м2 стяжки | E33: -0,0618 -6,18 / 100 | F33: 379.66 | G33: 6.44 | H33: 12.2 | I33: 4.1 | J33: -23 | L33: -1 | N33: 0.575 | O33: -0.04 | P33: 0.2625 | Q33: -0.02
A34: 7 | B34: ТЕР11-01-027-06 Постан.Правит.Свердл.обл. от 10.11.10 №1616-ПП | C34: Устройство покрытий на растворе их сухой смеси с приготовлением раствора в построечных условиях из плиток гладких неглазурованных керамических для полов одноцветных 9 469,22 = 10 157,72 - 450 x 1,53 (При ремонте и реконструкции зданий и сооружений работы, аналогичные технологическим процессам в новом строительстве (п. 3.4 Указаний к ТЕРр) ОЗП=1,15; ЭМ=1,25 к расх.; ЗПМ=1,25; ТЗ=1,15; ТЗМ=1,25) НР (122 руб.): 123%*0.9 от ФОТ (110 руб.) СП (70 руб.): 75%*0.85 от ФОТ (110 руб.) | D34: 100 м2 покрытия | E34: 0,0618 6,18 / 100 | F34: 9735.92 | G34: 1697.04 | H34: 226.74 | I34: 78.34 | J34: 602 | K34: 105 | L34: 14 | M34: 5 | N34: 137.747 | O34: 8.51 | P34: 5.275 | Q34: 0.33
A35: 8 | B35: ФССЦ-101-4371 И1-Пр. Минрегион от 04.03.10 №94 | C35: Клей плиточный «Ceresit» CM11 (Приведение расценок ФЕР к территориальному уровню (Письмо УРЦЦС Ц-297 от 12.04.2011) ОЗП=1,41; ЭМ=1,242; ЗПМ=1,41; МАТ=1,052 (1-й уровень); При ремонте и реконструкции зданий и сооружений работы, аналогичные технологическим процессам в новом строительстве (п. 3.4 Указаний к ТЕРр) ОЗП=1,15; ЭМ=1,25 к расх.; ЗПМ=1,25; ТЗ=1,15; ТЗМ=1,25 (1-й уровень)) | D35: кг | E35: 27.81 | F35: 3.14 | J35: 87
A36: Тип 2
A37: 9 | B37: ТЕР11-01-011-01 Постан.Правит.Свердл.обл. от 10.11.10 №1616-ПП | C37: Устройство стяжек цементных толщиной 20 мм (15 мм) (При ремонте и реконструкции зданий и сооружений работы, аналогичные технологическим процессам в новом строительстве (п. 3.4 Указаний к ТЕРр) ОЗП=1,15; ЭМ=1,25 к расх.; ЗПМ=1,25; ТЗ=1,15; ТЗМ=1,25) НР (7 руб.): 123%*0.9 от ФОТ (6 руб.) СП (4 руб.): 75%*0.85 от ФОТ (6 руб.) | D37: 100 м2 стяжки | E37: 0,0123 1,23 / 100 | F37: 2039.92 | G37: 508.44 | H37: 70.33 | I37: 24.8 | J37: 25 | K37: 6 | L37: 1 | N37: 45.4365 | O37: 0.56 | P37: 1.5875 | Q37: 0.02
A38: 10 | B38: ТЕР11-01-011-02 Постан.Правит.Свердл.обл. от 10.11.10 №1616-ПП | C38: Устройство стяжек на каждые 5 мм изменения толщины стяжки добавлять или исключать к расценке 11-01-011-01 (При ремонте и реконструкции зданий и сооружений работы, аналогичные технологическим процессам в новом строительстве (п. 3.4 Указаний к ТЕРр) ОЗП=1,15; ЭМ=1,25 к расх.; ЗПМ=1,25; ТЗ=1,15; ТЗМ=1,25) НР 123%*0.9 от ФОТ СП 75%*0.85 от ФОТ | D38: 100 м2 стяжки | E38: -0,0123 -1,23 / 100 | F38: 379.66 | G38: 6.44 | H38: 12.2 | I38: 4.1 | J38: -5 | N38: 0.575 | O38: -0.01 | P38: 0.2625
A39: 11 | B39: ТЕР11-01-027-06 Постан.Правит.Свердл.обл. от 10.11.10 №1616-ПП | C39: Устройство покрытий на растворе их сухой смеси с приготовлением раствора в построечных условиях из плиток гладких неглазурованных керамических для полов одноцветных 9 469,22 = 10 157,72 - 450 x 1,53 (При ремонте и реконструкции зданий и сооружений работы, аналогичные технологическим процессам в новом строительстве (п. 3.4 Указаний к ТЕРр) ОЗП=1,15; ЭМ=1,25 к расх.; ЗПМ=1,25; ТЗ=1,15; ТЗМ=1,25) НР (24 руб.): 123%*0.9 от ФОТ (22 руб.) СП (14 руб.): 75%*0.85 от ФОТ (22 руб.) | D39: 100 м2 покрытия | E39: 0,0123 1,23 / 100 | F39: 9735.92 | G39: 1697.04 | H39: 226.74 | I39: 78.34 | J39: 120 | K39: 21 | L39: 3 | M39: 1 | N39: 137.747 | O39: 1.69 | P39: 5.275 | Q39: 0.06
A40: 12 | B40: ФССЦ-101-4371 И1-Пр. Минрегион от 04.03.10 №94 | C40: Клей плиточный «Ceresit» CM11 (Приведение расценок ФЕР к территориальному уровню (Письмо УРЦЦС Ц-297 от 12.04.2011) ОЗП=1,41; ЭМ=1,242; ЗПМ=1,41; МАТ=1,052 (1-й уровень); При ремонте и реконструкции зданий и сооружений работы, аналогичные технологическим процессам в новом строительстве (п. 3.4 Указаний к ТЕРр) ОЗП=1,15; ЭМ=1,25 к расх.; ЗПМ=1,25; ТЗ=1,15; ТЗМ=1,25 (1-й уровень)) | D40: кг | E40: 5.535 | F40: 3.14 | J40: 17
A41: Итого прямые затраты по разделу в ценах 2001г. | J41: 1567 | K41: 247 | L41: 62 | M41: 11 | O41: 19.74 | Q41: 0.68
A42: Накладные расходы | J42: 286
A43: Сметная прибыль | J43: 164
A44: Итого по разделу 1 Полы | J44: 2017 | O44: 19.74 | Q44: 0.68
A45: Раздел 2. Ремонтные работы
A46: 13 | B46: ТЕР46-04-001-04 Постан.Правит.Свердл.обл. от 10.11.10 №1616-ПП | C46: Разборка существующей стенки ванны НР (25 руб.): 110%*0.9 от ФОТ (25 руб.) СП (15 руб.): 70%*0.85 от ФОТ (25 руб.) | D46: 1 м3 | E46: 0,2 2,44*0,12*0,7 | F46: 296.8 | G46: 102.84 | H46: 193.96 | I46: 17.96 | J46: 59 | K46: 21 | L46: 38 | M46: 4 | N46: 8.24 | O46: 1.65 | P46: 1.15 | Q46: 0.23
A47: 14 | B47: ТЕР08-02-001-07 Постан.Правит.Свердл.обл. от 10.11.10 №1616-ПП | C47: Кладка бортика из кирпича (При ремонте и реконструкции зданий и сооружений работы, аналогичные технологическим процессам в новом строительстве (п. 3.4 Указаний к ТЕРр) ОЗП=1,15; ЭМ=1,25 к расх.; ЗПМ=1,25; ТЗ=1,15; ТЗМ=1,25) НР (7 руб.): 122%*0.9 от ФОТ (6 руб.) СП (4 руб.): 80%*0.85 от ФОТ (6 руб.) | D47: 1 м3 кладки | E47: 0,073 4,07*0,12*0,15 | F47: 750.45 | G47: 70.16 | H47: 127.98 | I47: 9.1 | J47: 55 | K47: 5 | L47: 9 | M47: 1 | N47: 5.9915 | O47: 0.44 | P47: 0.5 | Q47: 0.04
...

Sheet 12-027-ТХ
A1: СОГЛАСОВАНО: | M1: УТВЕРЖДАЮ:
A4: _________________ | M4: _________________
A5: " _____ " ________________ 2013 г. | M5: "____" ______________2013 г.
H6: ФГУП "Комбинат Электрохимприбор", г.Лесной Свердловской области
H7: (наименование стройки)
H9: ЛОКАЛЬНЫЙ СМЕТНЫЙ РАСЧЕТ № 12-027-ТХ.СМ
H10: (локальная смета)
D12: Технологическая часть к проекту: Модернизация системы технологической водоподготовки бассейна профилактория комбината
H13: (наименование работ и затрат, наименование объекта)
D15: Основание: 12-027-ТХ
D16: Сметная стоимость _______________________________________________________________________________________________ | J16: ___________________________353,188 | L16: тыс. руб.
D17: строительных работ _______________________________________________________________________________________________ | J17: _______________________________________________________________________________________________63,925 | L17: тыс. руб.
D18: монтажных работ _______________________________________________________________________________________________ | J18: _______________________________________________________________________________________________192,159 | L18: тыс. руб.
D19: оборудования _______________________________________________________________________________________________ | J19: _______________________________________________________________________________________________97,104 | L19: тыс. руб.
D20: Средства на оплату труда _______________________________________________________________________________________________ | J20: ___________________________14,743 | L20: тыс. руб.
D21: Сметная трудоемкость _______________________________________________________________________________________________ | J21: _______________________________________________________________________________________________1086,5 | L21: чел.час
D22: Составлен(а) в текущих (прогнозных) ценах по состоянию на 2001г.
A25: № пп | B25: Обосно- вание | C25: Наименование | D25: Ед. изм. | E25: Кол. | F25: Стоимость единицы, руб. | J25: Общая стоимость, руб. | N25: Т/з осн. раб.на ед. | O25: Т/з осн. раб. Всего | P25: Т/з мех. на ед. | Q25: Т/з мех. Всего
F26: Всего | G26: В том числе | J26: Всего | K26: В том числе
G27: Осн.З/п | H27: Эк.Маш | I27: З/пМех | K27: Осн.З/п | L27: Эк.Маш | M27: З/пМех
A28: 1 | B28: 2 | C28: 3 | D28: 4 | E28: 5 | F28: 6 | G28: 7 | H28: 8 | I28: 9 | J28: 10 | K28: 11 | L28: 12 | M28: 13 | N28: 14 | O28: 15 | P28: 16 | Q28: 17
A29: Раздел 1. Помещение насосно-фильтровальной станции
A30: 1 | B30: ТЕР18-05-001-01 Постан.Правит.Свердл.обл. от 10.11.10 №1616-ПП | C30: Установка насосов центробежных с электродвигателем, масса агрегата до 0,1 т 334,13 = 2 969,90 - 1 x 2 635,77 (При ремонте и реконструкции зданий и сооружений работы, аналогичные технологическим процессам в новом строительстве (п. 3.4 Указаний к ТЕРр) ОЗП=1,15; ЭМ=1,25 к расх.; ЗПМ=1,25; ТЗ=1,15; ТЗМ=1,25) НР (494 руб.): 128%*0.9 от ФОТ (429 руб.) СП (303 руб.): 83%*0.85 от ФОТ (429 руб.) | D30: 1 насос | E30: 2 | F30: 365.53 | G30: 213.31 | H30: 17.89 | I30: 1.14 | J30: 731 | K30: 427 | L30: 36 | M30: 2 | N30: 16.2955 | O30: 32.59 | P30: 0.0625 | Q30: 0.13
A31: 2 | B31: Материалы | C31: Насос балансного бака (1рабочий, 1 резервный) Q=18м3/ч, Н=28,0м, 2,2кВт СР220С (Указания по применению ТЕР, п.2.7. Заготовительно-складские расходы на материалы по прайс-листам МАТ=2%) | D31: шт | E31: 2 | F31: 3306,94 21156,00/1,18/ИндексСМР | J31: 6614
A32: 3 | B32: ТЕР18-06-007-06 Постан.Правит.Свердл.обл. от 10.11.10 №1616-ПП | C32: Установка фильтров диаметром 80 мм 369,49 = 11 408,69 - 10 x 1 103,92 (При ремонте и реконструкции зданий и сооружений работы, аналогичные технологическим процессам в новом строительстве (п. 3.4 Указаний к ТЕРр) ОЗП=1,15; ЭМ=1,25 к расх.; ЗПМ=1,25; ТЗ=1,15; ТЗМ=1,25) НР (53 руб.): 128%*0.9 от ФОТ (46 руб.) СП (32 руб.): 83%*0.85 от ФОТ (46 руб.) | D32: 10 фильтров | E32: 0,2 2 / 10 | F32: 436.89 | G32: 226.4 | H32: 189.34 | I32: 5 | J32: 87 | K32: 45 | L32: 38 | M32: 1 | N32: 17.296 | O32: 3.46 | P32: 0.275 | Q32: 0.06
A33: 4 | B33: Материалы | C33: Чугунный префильтр XPFH-001, 80/80 (Указания по применению ТЕР, п.2.7. Заготовительно-складские расходы на материалы по прайс-листам МАТ=2%) | D33: шт | E33: 2 | F33: 5001,99 32000,00/1,18/ИндексСМР | J33: 10004
A34: 5 | B34: ТЕР18-06-007-07 Постан.Правит.Свердл.обл. от 10.11.10 №1616-ПП | C34: Установка фильтров диаметром 100 мм 451,75 = 13 379,35 - 10 x 1 292,76 (При ремонте и реконструкции зданий и сооружений работы, аналогичные технологическим процессам в новом строительстве (п. 3.4 Указаний к ТЕРр) ОЗП=1,15; ЭМ=1,25 к расх.; ЗПМ=1,25; ТЗ=1,15; ТЗМ=1,25) НР (65 руб.): 128%*0.9 от ФОТ (56 руб.) СП (40 руб.): 83%*0.85 от ФОТ (56 руб.) | D34: 10 фильтров | E34: 0,2 2 / 10 | F34: 533.64 | G34: 267.5 | H34: 234.98 | I34: 7.51 | J34: 107 | K34: 54 | L34: 47 | M34: 2 | N34: 20.4355 | O34: 4.09 | P34: 0.4125 | Q34: 0.08
A35: 6 | B35: Материалы | C35: Чугунный префильтр XPFH-003, 100/100 (Указания по применению ТЕР, п.2.7. Заготовительно-складские расходы на материалы по прайс-листам МАТ=2%) | D35: шт | E35: 2 | F35: 5627,24 36000,00/1,18/ИндексСМР | J35: 11254
A36: 7 | B36: ТЕР18-05-001-01 Постан.Правит.Свердл.обл. от 10.11.10 №1616-ПП | C36: Установка насосов центробежных с электродвигателем, масса агрегата до 0,1 т 334,13 = 2 969,90 - 1 x 2 635,77 (При ремонте и реконструкции зданий и сооружений работы, аналогичные технологическим процессам в новом строительстве (п. 3.4 Указаний к ТЕРр) ОЗП=1,15; ЭМ=1,25 к расх.; ЗПМ=1,25; ТЗ=1,15; ТЗМ=1,25) НР (988 руб.): 128%*0.9 от ФОТ (858 руб.) СП (605 руб.): 83%*0.85 от ФОТ (858 руб.) | D36: 1 насос | E36: 4 1+1+1+1 | F36: 365.53 | G36: 213.31 | H36: 17.89 | I36: 1.14 | J36: 1462 | K36: 853 | L36: 72 | M36: 5 | N36: 16.2955 | O36: 65.18 | P36: 0.0625 | Q36: 0.25
A37: 8 | B37: Материалы | C37: Насос-дозатор хлор-реагента в линию подпитки (с кабелем внешнего управления) BT4b1000NPB900UA01000 (Указания по применению ТЕР, п.2.7. Заготовительно-складские расходы на материалы по прайс-листам МАТ=2%) | D37: шт | E37: 1 | F37: 8779,28 (51050+4950+165)/1,18/ИндексСМР | J37: 8779
A38: 9 | B38: Материалы | C38: Насос-дозатор хлор-реагента Q=0,5л/ч, Н=20м, 0,017кВт в комплекте ВТ4А1000РVT200AA010D00 Beta/4aCANopen (Указания по применению ТЕР, п.2.7. Заготовительно-складские расходы на материалы по прайс-листам МАТ=2%) | D38: шт | E38: 1 | F38: 9376,39 (54870+4950+165)/1,18/ИндексСМР | J38: 9376
A39: 10 | B39: Материалы | C39: Насос-дозатор кислоты Q=0,5л/ч, Н=20м, 0,017кВт в комплекте ВТ4А1000РРЕ200AA010D00 Beta/4aCANopen (Указания по применению ТЕР, п.2.7. Заготовительно-складские расходы на материалы по прайс-листам МАТ=2%) | D39: шт | E39: 1 | F39: 8408,03 (48675+4950+165)/1,18/ИндексСМР | J39: 8408
A40: 11 | B40: Материалы | C40: Насос-дозатор коагулянта Q=0,3л/ч, Н=20м, 0,017кВт в комплекте ВТ4А1000РРЕ200AA010D00 (Указания по применению ТЕР, п.2.7. Заготовительно-складские расходы на материалы по прайс-листам МАТ=2%) | D40: шт | E40: 1 | F40: 8408,03 (48675+4950+165)/1,18/ИндексСМР | J40: 8408
A41: 12 | B41: ТЕР18-04-001-01 Постан.Правит.Свердл.обл. от 10.11.10 №1616-ПП | C41: Установка баков расширительных круглых и прямоугольных вместимостью 0,1 м3 83,20 = 472,37 - 1 x 389,17 (При ремонте и реконструкции зданий и сооружений работы, аналогичные технологическим процессам в новом строительстве (п. 3.4 Указаний к ТЕРр) ОЗП=1,15; ЭМ=1,25 к расх.; ЗПМ=1,25; ТЗ=1,15; ТЗМ=1,25) НР (68 руб.): 128%*0.9 от ФОТ (59 руб.) СП (42 руб.): 83%*0.85 от ФОТ (59 руб.) | D41: 1 бак | E41: 1 | F41: 97.64 | G41: 57.83 | H41: 34.5 | I41: 1.14 | J41: 98 | K41: 58 | L41: 35 | M41: 1 | N41: 4.6345 | O41: 4.63 | P41: 0.0625 | Q41: 0.06
A42: 13 | B42: Материалы | C42: Расходный бак насоса-дозатора коагулянта ДК60КЗ (Указания по применению ТЕР, п.2.7. Заготовительно-складские расходы на материалы по прайс-листам МАТ=2%) | D42: шт | E42: 1 | F42: 484,57 3100,00/1,18/ИндексСМР | J42: 485
A43: 14 | B43: ТЕРм06-03-001-01 Постан.Правит.Свердл.обл. от 10.11.10 №1616-ПП | C43: Монтаж фильтра НР (4167 руб.): 80% от ФОТ (5209 руб.) СП (3125 руб.): 60% от ФОТ (5209 руб.) | D43: 1 т | E43: 0,9442 472,1*2/1000 | F43: 10826.62 | G43: 5342.04 | H43: 2313.21 | I43: 175.27 | J43: 10222 | K43: 5044 | L43: 2184 | M43: 165 | N43: 418 | O43: 394.68 | P43: 9.63 | Q43: 9.09
A44: 15 | B44: Оборудование | C44: Фильтр в комплекте VFT-1865CM (Транспортные расходы - согласно п.4.60 из МДС 81-35.2004 ПЗ=3% (ОЗП=3%; ЭМ=3%; МАТ=3%); Заготовительно-складские расходы - согласно п.4.64 из МДС 81-35.2004 ПЗ=1,2% (ОЗП=1,2%; ЭМ=1,2%; МАТ=1,2%)) | D44: шт. | E44: 2 | F44: 14376,5 90000,00/1,18/ИндексСМР | J44: 28753
A45: 16 | B45: ТЕР18-06-007-03 Постан.Правит.Свердл.обл. от 10.11.10 №1616-ПП | C45: Установка фильтров диаметром 40 мм 229,37 = 7 640,77 - 10 x 741,14 (При ремонте и реконструкции зданий и сооружений работы, аналогичные технологическим процессам в новом строительстве (п. 3.4 Указаний к ТЕРр) ОЗП=1,15; ЭМ=1,25 к расх.; ЗПМ=1,25; ТЗ=1,15; ТЗМ=1,25) НР (17 руб.): 128%*0.9 от ФОТ (15 руб.) СП (11 руб.): 83%*0.85 от ФОТ (15 руб.) | D45: 10 фильтров | E45: 0,1 1 / 10 | F45: 271.22 | G45: 149.33 | H45: 111.88 | I45: 0.69 | J45: 27 | K45: 15 | L45: 11 | N45: 11.408 | O45: 1.14 | P45: 0.0375
A46: 17 | B46: Материалы | C46: Фильтр сетчатый V823-040 (Указания по применению ТЕР, п.2.7. Заготовительно-складские расходы на материалы по прайс-листам МАТ=2%) | D46: шт | E46: 1 | F46: 312,62 2000,00/1,18/ИндексСМР | J46: 313
A47: 18 | B47: ТЕРм06-03-001-01 Постан.Правит.Свердл.обл. от 10.11.10 №1616-ПП | C47: Монтаж фильтра НР (64 руб.): 80% от ФОТ (80 руб.) СП (48 руб.): 60% от ФОТ (80 руб.) | D47: 1 т | E47: 0,0144 14,4/1000 | F47: 10826.62 | G47: 5342.04 | H47: 2313.21 | I47: 175.27 | J47: 156 | K47: 77 | L47: 33 | M47: 3 | N47: 418 | O47: 6.02 | P47: 9.63 | Q47: 0.14
...

Sheet 12-027-АТХ1
A1: СОГЛАСОВАНО: | M1: УТВЕРЖДАЮ:
A4: _________________ | M4: _________________
A5: " _____ " ________________ 2013 г. | M5: "____" ______________2013 г.
H6: ФГУП "Комбинат Электрохимприбор", г.Лесной Свердловской области
H7: (наименование стройки)
H9: ЛОКАЛЬНЫЙ СМЕТНЫЙ РАСЧЕТ № 12-027-АТХ1.СМ
H10: (локальная смета)
D12: Авктоматика к проекту: Модернизация системы технологической водоподготовки бассейна профилактория комбината
H13: (наименование работ и затрат, наименование объекта)
D15: Основание: 12-027-АТХ.С1
D16: Сметная стоимость _______________________________________________________________________________________________ | J16: ___________________________214,113 | L16: тыс. руб.
D17: монтажных работ _______________________________________________________________________________________________ | J17: _______________________________________________________________________________________________15,371 | L17: тыс. руб.
D18: оборудования _______________________________________________________________________________________________ | J18: _______________________________________________________________________________________________198,742 | L18: тыс. руб.
D19: Средства на оплату труда _______________________________________________________________________________________________ | J19: ___________________________3,371 | L19: тыс. руб.
D20: Сметная трудоемкость _______________________________________________________________________________________________ | J20: _______________________________________________________________________________________________246,48 | L20: чел.час
D21: Составлен(а) в текущих (прогнозных) ценах по состоянию на 2001г.
A24: № пп | B24: Обосно- вание | C24: Наименование | D24: Ед. изм. | E24: Кол. | F24: Стоимость единицы, руб. | J24: Общая стоимость, руб. | N24: Т/з осн. раб.на ед. | O24: Т/з осн. раб. Всего | P24: Т/з мех. на ед. | Q24: Т/з мех. Всего
F25: Всего | G25: В том числе | J25: Всего | K25: В том числе
G26: Осн.З/п | H26: Эк.Маш | I26: З/пМех | K26: Осн.З/п | L26: Эк.Маш | M26: З/пМех
A27: 1 | B27: 2 | C27: 3 | D27: 4 | E27: 5 | F27: 6 | G27: 7 | H27: 8 | I27: 9 | J27: 10 | K27: 11 | L27: 12 | M27: 13 | N27: 14 | O27: 15 | P27: 16 | Q27: 17
A28: Раздел 1. Оборудование
A29: 1 | B29: ТЕРм11-03-011-01 Постан.Правит.Свердл.обл. от 10.11.10 №1616-ПП | C29: Монтаж модуля НР (52 руб.): 80% от ФОТ (65 руб.) СП (39 руб.): 60% от ФОТ (65 руб.) | D29: 1 компл. | E29: 1 | F29: 114.59 | G29: 61.78 | H29: 42.29 | I29: 2.73 | J29: 115 | K29: 62 | L29: 42 | M29: 3 | N29: 4.49 | O29: 4.49 | P29: 0.15 | Q29: 0.15
A30: 2 | B30: Оборудование, ProMinent | C30: Центральный модуль многофункциональной системы DULCOMARIN II DULCO-Net, DXCa W 0 6 1 M А Р S EN 01 (Транспортные расходы - согласно п.4.60 из МДС 81-35.2004 ПЗ=3% (ОЗП=3%; ЭМ=3%; МАТ=3%); Заготовительно-складские расходы - согласно п.4.64 из МДС 81-35.2004 ПЗ=1,2% (ОЗП=1,2%; ЭМ=1,2%; МАТ=1,2%)) | D30: шт. | E30: 1 | F30: 42411,26 183404,00/1,18/ИндексОБ | J30: 42411
A31: 3 | B31: Оборудование, ProMinent | C31: Соединительный кабель для шины CAN, M12, 5 pole, 0.5 m 1022137 (Транспортные расходы - согласно п.4.60 из МДС 81-35.2004 ПЗ=3% (ОЗП=3%; ЭМ=3%; МАТ=3%); Заготовительно-складские расходы - согласно п.4.64 из МДС 81-35.2004 ПЗ=1,2% (ОЗП=1,2%; ЭМ=1,2%; МАТ=1,2%)) | D31: шт. | E31: 1 | F31: 535,34 2315,00/1,18/ИндексОБ | J31: 535
A32: 4 | B32: Оборудование, ProMinent | C32: T-образный соединитель для шины CAN M12,5-pole CAN 1022155 (Транспортные расходы - согласно п.4.60 из МДС 81-35.2004 ПЗ=3% (ОЗП=3%; ЭМ=3%; МАТ=3%); Заготовительно-складские расходы - согласно п.4.64 из МДС 81-35.2004 ПЗ=1,2% (ОЗП=1,2%; ЭМ=1,2%; МАТ=1,2%)) | D32: шт. | E32: 4 | F32: 402,36 1740,00/1,18/ИндексОБ | J32: 1609
A33: 5 | B33: Оборудование, ProMinent | C33: Терминальный резистор M12 разъем типа «папа» 1022154 (Транспортные расходы - согласно п.4.60 из МДС 81-35.2004 ПЗ=3% (ОЗП=3%; ЭМ=3%; МАТ=3%); Заготовительно-складские расходы - согласно п.4.64 из МДС 81-35.2004 ПЗ=1,2% (ОЗП=1,2%; ЭМ=1,2%; МАТ=1,2%)) | D33: шт. | E33: 2 | F33: 165,34 715,00/1,18/ИндексОБ | J33: 331
A34: 6 | B34: Оборудование, ProMinent | C34: Терминальный резистор M 12 разъем типа «мама» 1022592 (Транспортные расходы - согласно п.4.60 из МДС 81-35.2004 ПЗ=3% (ОЗП=3%; ЭМ=3%; МАТ=3%); Заготовительно-складские расходы - согласно п.4.64 из МДС 81-35.2004 ПЗ=1,2% (ОЗП=1,2%; ЭМ=1,2%; МАТ=1,2%)) | D34: шт. | E34: 2 | F34: 165,34 715,00/1,18/ИндексОБ | J34: 331
A35: 7 | B35: ТЕРм11-03-011-01 Постан.Правит.Свердл.обл. от 10.11.10 №1616-ПП | C35: Монтаж модуля НР (52 руб.): 80% от ФОТ (65 руб.) СП (39 руб.): 60% от ФОТ (65 руб.) | D35: 1 компл. | E35: 1 | F35: 114.59 | G35: 61.78 | H35: 42.29 | I35: 2.73 | J35: 115 | K35: 62 | L35: 42 | M35: 3 | N35: 4.49 | O35: 4.49 | P35: 0.15 | Q35: 0.15
A36: 8 | B36: Оборудование, ProMinent | C36: N-модуль питания CAN сети DXMaN W 2 S (Транспортные расходы - согласно п.4.60 из МДС 81-35.2004 ПЗ=3% (ОЗП=3%; ЭМ=3%; МАТ=3%); Заготовительно-складские расходы - согласно п.4.64 из МДС 81-35.2004 ПЗ=1,2% (ОЗП=1,2%; ЭМ=1,2%; МАТ=1,2%)) | D36: шт. | E36: 1 | F36: 3501,05 15140,00/1,18/ИндексОБ | J36: 3501
A37: 9 | B37: Оборудование, ProMinent | C37: Соединительный кабель для шины CAN, M12, 5 pole, 0.5 m 1022137 (Транспортные расходы - согласно п.4.60 из МДС 81-35.2004 ПЗ=3% (ОЗП=3%; ЭМ=3%; МАТ=3%); Заготовительно-складские расходы - согласно п.4.64 из МДС 81-35.2004 ПЗ=1,2% (ОЗП=1,2%; ЭМ=1,2%; МАТ=1,2%)) | D37: шт. | E37: 1 | F37: 535,34 2315,00/1,18/ИндексОБ | J37: 535
A38: 10 | B38: Оборудование, ProMinent | C38: T-образный соединитель для шины CAN M12,5-pole CAN 1022155 (Транспортные расходы - согласно п.4.60 из МДС 81-35.2004 ПЗ=3% (ОЗП=3%; ЭМ=3%; МАТ=3%); Заготовительно-складские расходы - согласно п.4.64 из МДС 81-35.2004 ПЗ=1,2% (ОЗП=1,2%; ЭМ=1,2%; МАТ=1,2%)) | D38: шт. | E38: 1 | F38: 402,36 1740,00/1,18/ИндексОБ | J38: 402
A39: 11 | B39: ТЕРм11-03-011-01 Постан.Правит.Свердл.обл. от 10.11.10 №1616-ПП | C39: Монтаж модуля НР (52 руб.): 80% от ФОТ (65 руб.) СП (39 руб.): 60% от ФОТ (65 руб.) | D39: 1 компл. | E39: 1 | F39: 114.59 | G39: 61.78 | H39: 42.29 | I39: 2.73 | J39: 115 | K39: 62 | L39: 42 | M39: 3 | N39: 4.49 | O39: 4.49 | P39: 0.15 | Q39: 0.15
A40: 12 | B40: Оборудование, ProMinent | C40: Измерительный модуль М-модуль для измерения рН и Redox DXMaM W 0 S EN 01 (Транспортные расходы - согласно п.4.60 из МДС 81-35.2004 ПЗ=3% (ОЗП=3%; ЭМ=3%; МАТ=3%); Заготовительно-складские расходы - согласно п.4.64 из МДС 81-35.2004 ПЗ=1,2% (ОЗП=1,2%; ЭМ=1,2%; МАТ=1,2%)) | D40: шт. | E40: 1 | F40: 11231,57 48570,00/1,18/ИндексОБ | J40: 11232
A41: 13 | B41: Оборудование, ProMinent | C41: Соединительный кабель для шины CAN, M12, 5 pole, 0.5 m 1022137 (Транспортные расходы - согласно п.4.60 из МДС 81-35.2004 ПЗ=3% (ОЗП=3%; ЭМ=3%; МАТ=3%); Заготовительно-складские расходы - согласно п.4.64 из МДС 81-35.2004 ПЗ=1,2% (ОЗП=1,2%; ЭМ=1,2%; МАТ=1,2%)) | D41: шт. | E41: 1 | F41: 535,34 2315,00/1,18/ИндексОБ | J41: 535
A42: 14 | B42: Оборудование, ProMinent | C42: T-образный соединитель для шины CAN M12,5-pole CAN 1022155 (Транспортные расходы - согласно п.4.60 из МДС 81-35.2004 ПЗ=3% (ОЗП=3%; ЭМ=3%; МАТ=3%); Заготовительно-складские расходы - согласно п.4.64 из МДС 81-35.2004 ПЗ=1,2% (ОЗП=1,2%; ЭМ=1,2%; МАТ=1,2%)) | D42: шт. | E42: 1 | F42: 402,36 1740,00/1,18/ИндексОБ | J42: 402
A43: 15 | B43: ТЕРм11-02-022-01 Постан.Правит.Свердл.обл. от 10.11.10 №1616-ПП | C43: Монтаж проточной ячейки НР (10 руб.): 80% от ФОТ (13 руб.) СП (8 руб.): 60% от ФОТ (13 руб.) | D43: 1 шт. | E43: 1 | F43: 12.94 | G43: 12.69 | J43: 13 | K43: 13 | N43: 1.03 | O43: 1.03
A44: 16 | B44: Оборудование, ProMinent | C44: Проточная ячейка датчиков температуры, рН и Redox DGMA 330T00 (Транспортные расходы - согласно п.4.60 из МДС 81-35.2004 ПЗ=3% (ОЗП=3%; ЭМ=3%; МАТ=3%); Заготовительно-складские расходы - согласно п.4.64 из МДС 81-35.2004 ПЗ=1,2% (ОЗП=1,2%; ЭМ=1,2%; МАТ=1,2%)) | D44: шт. | E44: 1 | F44: 9521,51 41175,00/1,18/ИндексОБ | J44: 9522
A45: 17 | B45: ТЕРм11-03-011-01 Постан.Правит.Свердл.обл. от 10.11.10 №1616-ПП | C45: Монтаж датчика протока НР (52 руб.): 80% от ФОТ (65 руб.) СП (39 руб.): 60% от ФОТ (65 руб.) | D45: 1 компл. | E45: 1 | F45: 114.59 | G45: 61.78 | H45: 42.29 | I45: 2.73 | J45: 115 | K45: 62 | L45: 42 | M45: 3 | N45: 4.49 | O45: 4.49 | P45: 0.15 | Q45: 0.15
A46: 18 | B46: Оборудование, ProMinent | C46: Датчик протока 791635 (Транспортные расходы - согласно п.4.60 из МДС 81-35.2004 ПЗ=3% (ОЗП=3%; ЭМ=3%; МАТ=3%); Заготовительно-складские расходы - согласно п.4.64 из МДС 81-35.2004 ПЗ=1,2% (ОЗП=1,2%; ЭМ=1,2%; МАТ=1,2%)) | D46: шт. | E46: 1 | F46: 1516,97 6560,00/1,18/ИндексОБ | J46: 1517
A47: 19 | B47: Оборудование, ProMinent | C47: Контрольный кабель для датчика протока 2х0,25 725122 (Транспортные расходы - согласно п.4.60 из МДС 81-35.2004 ПЗ=3% (ОЗП=3%; ЭМ=3%; МАТ=3%); Заготовительно-складские расходы - согласно п.4.64 из МДС 81-35.2004 ПЗ=1,2% (ОЗП=1,2%; ЭМ=1,2%; МАТ=1,2%)) | D47: шт. | E47: 1 | F47: 32,83 142,00/1,18/ИндексОБ | J47: 33
...

Sheet 12-027-АТХ2
A1: СОГЛАСОВАНО: | M1: УТВЕРЖДАЮ:
A4: _________________ | M4: _________________
A5: " _____ " ________________ 2013 г. | M5: "____" ______________2013 г.
H6: ФГУП "Комбинат Электрохимприбор", г.Лесной Свердловской области
H7: (наименование стройки)
H9: ЛОКАЛЬНЫЙ СМЕТНЫЙ РАСЧЕТ № 12-027-АТХ2.СМ
H10: (локальная смета)
D12: Автоматика к проекту: Модернизация системы технологической водоподготовки бассейна профилактория комбината
H13: (наименование работ и затрат, наименование объекта)
D15: Основание: 12-027-АТХ.С2
D16: Сметная стоимость _______________________________________________________________________________________________ | J16: ___________________________90,407 | L16: тыс. руб.
D17: монтажных работ _______________________________________________________________________________________________ | J17: _______________________________________________________________________________________________36,655 | L17: тыс. руб.
D18: оборудования _______________________________________________________________________________________________ | J18: _______________________________________________________________________________________________53,752 | L18: тыс. руб.
D19: Средства на оплату труда _______________________________________________________________________________________________ | J19: ___________________________6,859 | L19: тыс. руб.
D20: Сметная трудоемкость _______________________________________________________________________________________________ | J20: _______________________________________________________________________________________________505,09 | L20: чел.час
D21: Составлен(а) в текущих (прогнозных) ценах по состоянию на 2001г.
A24: № пп | B24: Обосно- вание | C24: Наименование | D24: Ед. изм. | E24: Кол. | F24: Стоимость единицы, руб. | J24: Общая стоимость, руб. | N24: Т/з осн. раб.на ед. | O24: Т/з осн. раб. Всего | P24: Т/з мех. на ед. | Q24: Т/з мех. Всего
F25: Всего | G25: В том числе | J25: Всего | K25: В том числе
G26: Осн.З/п | H26: Эк.Маш | I26: З/пМех | K26: Осн.З/п | L26: Эк.Маш | M26: З/пМех
A27: 1 | B27: 2 | C27: 3 | D27: 4 | E27: 5 | F27: 6 | G27: 7 | H27: 8 | I27: 9 | J27: 10 | K27: 11 | L27: 12 | M27: 13 | N27: 14 | O27: 15 | P27: 16 | Q27: 17
A28: Раздел 1. Оборудование шкафа БУП
A29: 1 | B29: ТЕРм11-04-008-01 Постан.Правит.Свердл.обл. от 10.11.10 №1616-ПП | C29: Монтаж блока питания НР (12 руб.): 92% от ФОТ (13 руб.) СП (8 руб.): 65% от ФОТ (13 руб.) | D29: 1 шт. | E29: 1 | F29: 13.88 | G29: 12.54 | H29: 1.09 | J29: 14 | K29: 13 | L29: 1 | N29: 1.03 | O29: 1.03
A30: 2 | B30: Оборудование | C30: Блок питания. SIMATIC S7-1200 POWER MODULE PM1207 STABILIZED POWER SUPPLY INPUT: 120/230 V AC OUTPUT: 24 V DC/2.5 A 6EP1332-1SH71 (Транспортные расходы - согласно п.4.60 из МДС 81-35.2004 ПЗ=3% (ОЗП=3%; ЭМ=3%; МАТ=3%); Заготовительно-складские расходы - согласно п.4.64 из МДС 81-35.2004 ПЗ=1,2% (ОЗП=1,2%; ЭМ=1,2%; МАТ=1,2%)) | D30: шт. | E30: 1 | F30: 691,42 2990,00/1,18/ИндексОБ | J30: 691
A31: 3 | B31: ТЕРм11-04-008-01 Постан.Правит.Свердл.обл. от 10.11.10 №1616-ПП | C31: Монтаж процессора НР (12 руб.): 92% от ФОТ (13 руб.) СП (8 руб.): 65% от ФОТ (13 руб.) | D31: 1 шт. | E31: 1 | F31: 13.88 | G31: 12.54 | H31: 1.09 | J31: 14 | K31: 13 | L31: 1 | N31: 1.03 | O31: 1.03
A32: 4 | B32: Оборудование | C32: Процессор. SIMATIC S7-1200, CPU 1214C, COMPACT CPU, DC/DC/DC, ONBOARD I/O: 14 DI 24V DC; 10 DO 24 V DC; 2 AI 0 - 10V DC OR 0 - 20MA, POWER SUPPLY: DC 20.4 - 28.8 V DC, PROGRAM/DATA MEMORY: 50 KB 6ES7214-1AE30-0XB0 (Транспортные расходы - согласно п.4.60 из МДС 81-35.2004 ПЗ=3% (ОЗП=3%; ЭМ=3%; МАТ=3%); Заготовительно-складские расходы - согласно п.4.64 из МДС 81-35.2004 ПЗ=1,2% (ОЗП=1,2%; ЭМ=1,2%; МАТ=1,2%)) | D32: шт. | E32: 1 | F32: 2958,08 12792,00/1,18/ИндексОБ | J32: 2958
A33: 5 | B33: ТЕРм10-03-001-04 Постан.Правит.Свердл.обл. от 10.11.10 №1616-ПП | C33: Монтаж карт памяти НР (93 руб.): 80% от ФОТ (116 руб.) СП (70 руб.): 60% от ФОТ (116 руб.) | D33: 1 шт. | E33: 4 1+3 | F33: 34.97 | G33: 27.5 | H33: 6.92 | I33: 1.41 | J33: 140 | K33: 110 | L33: 28 | M33: 6 | N33: 2.29 | O33: 9.16 | P33: 0.09 | Q33: 0.36
A34: 6 | B34: Оборудование | C34: SIMATIC S7, MEMORY CARD FOR S7-1200 CPU, 3,3 V NFLASH, 2 MBYTE 6ES7954-8LB01-0AA0 (Транспортные расходы - согласно п.4.60 из МДС 81-35.2004 ПЗ=3% (ОЗП=3%; ЭМ=3%; МАТ=3%); Заготовительно-складские расходы - согласно п.4.64 из МДС 81-35.2004 ПЗ=1,2% (ОЗП=1,2%; ЭМ=1,2%; МАТ=1,2%)) | D34: шт. | E34: 1 | F34: 502,49 2173,00/1,18/ИндексОБ | J34: 502
A35: 7 | B35: Оборудование | C35: SIMATIC S7, MEMORY CARD FOR S7-1200 CPU, 3,3 V NFLASH, 2 MBYTE 6ES7954-8LB01-0AA0 (Транспортные расходы - согласно п.4.60 из МДС 81-35.2004 ПЗ=3% (ОЗП=3%; ЭМ=3%; МАТ=3%); Заготовительно-складские расходы - согласно п.4.64 из МДС 81-35.2004 ПЗ=1,2% (ОЗП=1,2%; ЭМ=1,2%; МАТ=1,2%)) | D35: шт. | E35: 3 | F35: 2114,27 9143,00/1,18/ИндексОБ | J35: 6343
A36: 8 | B36: ТЕРм11-04-008-01 Постан.Правит.Свердл.обл. от 10.11.10 №1616-ПП | C36: Монтаж модуля НР (12 руб.): 92% от ФОТ (13 руб.) СП (8 руб.): 65% от ФОТ (13 руб.) | D36: 1 шт. | E36: 1 | F36: 13.88 | G36: 12.54 | H36: 1.09 | J36: 14 | K36: 13 | L36: 1 | N36: 1.03 | O36: 1.03
A37: 9 | B37: Оборудование | C37: SIMATIC S7-1200, МОДУЛЬ АНАЛОГОВОГО ВВОДА, SM 1231, 8 AI, +/-10В, +/-5В, +/-2,5В, ИЛИ 0-20 MA 12 БИТ + ЗНАК ИЛИ (13 БИТ ADC) 6ES7231-4HF30-0XB0 (Транспортные расходы - согласно п.4.60 из МДС 81-35.2004 ПЗ=3% (ОЗП=3%; ЭМ=3%; МАТ=3%); Заготовительно-складские расходы - согласно п.4.64 из МДС 81-35.2004 ПЗ=1,2% (ОЗП=1,2%; ЭМ=1,2%; МАТ=1,2%)) | D37: шт. | E37: 1 | F37: 2863,28 12382,00/1,18/ИндексОБ | J37: 2863
A38: 10 | B38: ТЕРм08-03-575-01 Постан.Правит.Свердл.обл. от 10.11.10 №1616-ПП | C38: Монтаж автоматических выключателей, на ток до 25 А НР (134 руб.): 95% от ФОТ (141 руб.) СП (92 руб.): 65% от ФОТ (141 руб.) | D38: 1 шт. | E38: 9 1+8 | F38: 16.3 | G38: 15.65 | J38: 147 | K38: 141 | N38: 1.12 | O38: 10.08
A39: 11 | B39: Оборудование | C39: Автоматический выключатель 1п 16А A9F79116 (Транспортные расходы - согласно п.4.60 из МДС 81-35.2004 ПЗ=3% (ОЗП=3%; ЭМ=3%; МАТ=3%); Заготовительно-складские расходы - согласно п.4.64 из МДС 81-35.2004 ПЗ=1,2% (ОЗП=1,2%; ЭМ=1,2%; МАТ=1,2%)) | D39: шт. | E39: 1 | F39: 43,48 188,00/1,18/ИндексОБ | J39: 43
A40: 12 | B40: Оборудование | C40: Автоматический выключатель 1п 10А A9F79110 (Транспортные расходы - согласно п.4.60 из МДС 81-35.2004 ПЗ=3% (ОЗП=3%; ЭМ=3%; МАТ=3%); Заготовительно-складские расходы - согласно п.4.64 из МДС 81-35.2004 ПЗ=1,2% (ОЗП=1,2%; ЭМ=1,2%; МАТ=1,2%)) | D40: шт. | E40: 8 | F40: 46,48 201,00/1,18/ИндексОБ | J40: 372
A41: 13.1 | B41: ТЕРм11-03-001-01 Постан.Правит.Свердл.обл. от 10.11.10 №1616-ПП | C41: Монтаж блока питания НР (29 руб.): 80% от ФОТ (36 руб.) СП (22 руб.): 60% от ФОТ (36 руб.) | D41: 1 шт. | E41: 5 | F41: 8.41 | G41: 7.26 | J41: 42 | K41: 36 | N41: 0.52 | O41: 2.6
A42: 14.1 | B42: Оборудование | C42: Блок питания 24В, 15Вт БП15Б-Д2-24 (Транспортные расходы - согласно п.4.60 из МДС 81-35.2004 ПЗ=3% (ОЗП=3%; ЭМ=3%; МАТ=3%); Заготовительно-складские расходы - согласно п.4.64 из МДС 81-35.2004 ПЗ=1,2% (ОЗП=1,2%; ЭМ=1,2%; МАТ=1,2%)) | D42: шт. | E42: 5 | F42: 346,87 1500,00/1,18/ИндексОБ | J42: 1734
A43: 15 | B43: ТЕРм08-01-068-01 Постан.Правит.Свердл.обл. от 10.11.10 №1616-ПП | C43: Монтаж шины НР (8 руб.): 95% от ФОТ (8 руб.) СП (5 руб.): 65% от ФОТ (8 руб.) | D43: 100 м | E43: 0,01 (0,5*2) / 100 | F43: 1036.95 | G43: 711.38 | H43: 188.29 | I43: 81.09 | J43: 10 | K43: 7 | L43: 2 | M43: 1 | N43: 52.5 | O43: 0.53 | P43: 5.91 | Q43: 0.06
A44: 16 | B44: Оборудование | C44: Шина заземления, горизонтальная 7313.000 (Транспортные расходы - согласно п.4.60 из МДС 81-35.2004 ПЗ=3% (ОЗП=3%; ЭМ=3%; МАТ=3%); Заготовительно-складские расходы - согласно п.4.64 из МДС 81-35.2004 ПЗ=1,2% (ОЗП=1,2%; ЭМ=1,2%; МАТ=1,2%)) | D44: шт. | E44: 2 | F44: 279,81 1210,00/1,18/ИндексОБ | J44: 560
A45: 17 | B45: ТЕРм08-01-080-02 Постан.Правит.Свердл.обл. от 10.11.10 №1616-ПП | C45: Монтаж реле НР (797 руб.): 95% от ФОТ (839 руб.) СП (545 руб.): 65% от ФОТ (839 руб.) | D45: 1 шт. | E45: 50 | F45: 44.12 | G45: 15.31 | H45: 23.38 | I45: 1.46 | J45: 2206 | K45: 766 | L45: 1169 | M45: 73 | N45: 1.13 | O45: 56.5 | P45: 0.08 | Q45: 4
A46: 18 | B46: Оборудование Phoenix Contact | C46: Реле 24В, 2п.к. 2961192 (Транспортные расходы - согласно п.4.60 из МДС 81-35.2004 ПЗ=3% (ОЗП=3%; ЭМ=3%; МАТ=3%); Заготовительно-складские расходы - согласно п.4.64 из МДС 81-35.2004 ПЗ=1,2% (ОЗП=1,2%; ЭМ=1,2%; МАТ=1,2%)) | D46: шт. | E46: 50 | F46: 26,74 2,89*40/1,18/ИндексОБ | J46: 1337
A47: 19 | B47: Оборудование Phoenix Contact | C47: Установочный блок для реле PR1-BSC2/2X21 2833518 (Транспортные расходы - согласно п.4.60 из МДС 81-35.2004 ПЗ=3% (ОЗП=3%; ЭМ=3%; МАТ=3%); Заготовительно-складские расходы - согласно п.4.64 из МДС 81-35.2004 ПЗ=1,2% (ОЗП=1,2%; ЭМ=1,2%; МАТ=1,2%)) | D47: шт. | E47: 50 | F47: 34,31 3,71*40/1,18/ИндексОБ | J47: 1716
...

Sheet 12-027-ЭМ.СМ
A1: СОГЛАСОВАНО: | M1: УТВЕРЖДАЮ:
A4: _________________ | M4: _________________
A5: " _____ " ________________ 2013 г. | M5: "____" ______________2013 г.
H6: ФГУП "Комбинат Электрохимприбор", г.Лесной Свердловской области
H7: (наименование стройки)
H9: ЛОКАЛЬНЫЙ СМЕТНЫЙ РАСЧЕТ № 12-027-ЭМ.СМ
H10: (локальная смета)
D12: Электрооборудование к проекту: Модернизация системы технологической водоподготовки бассейна профилактория комбината
H13: (наименование работ и затрат, наименование объекта)
D15: Основание: 12-027-ЭМ
D16: Сметная стоимость _______________________________________________________________________________________________ | J16: ___________________________63,658 | L16: тыс. руб.
D17: монтажных работ _______________________________________________________________________________________________ | J17: _______________________________________________________________________________________________40,428 | L17: тыс. руб.
D18: оборудования _______________________________________________________________________________________________ | J18: _______________________________________________________________________________________________23,230 | L18: тыс. руб.
D19: Средства на оплату труда _______________________________________________________________________________________________ | J19: ___________________________3,290 | L19: тыс. руб.
D20: Сметная трудоемкость _______________________________________________________________________________________________ | J20: _______________________________________________________________________________________________219,26 | L20: чел.час
D21: Составлен(а) в текущих (прогнозных) ценах по состоянию на 2001г.
A24: № пп | B24: Обосно- вание | C24: Наименование | D24: Ед. изм. | E24: Кол. | F24: Стоимость единицы, руб. | J24: Общая стоимость, руб. | N24: Т/з осн. раб.на ед. | O24: Т/з осн. раб. Всего | P24: Т/з мех. на ед. | Q24: Т/з мех. Всего
F25: Всего | G25: В том числе | J25: Всего | K25: В том числе
G26: Осн.З/п | H26: Эк.Маш | I26: З/пМех | K26: Осн.З/п | L26: Эк.Маш | M26: З/пМех
A27: 1 | B27: 2 | C27: 3 | D27: 4 | E27: 5 | F27: 6 | G27: 7 | H27: 8 | I27: 9 | J27: 10 | K27: 11 | L27: 12 | M27: 13 | N27: 14 | O27: 15 | P27: 16 | Q27: 17
A28: Раздел 1. Оборудование
A29: 1 | B29: ТЕРм08-03-572-06 Постан.Правит.Свердл.обл. от 10.11.10 №1616-ПП | C29: Монтаж ВРУ НР (51 руб.): 95% от ФОТ (54 руб.) СП (35 руб.): 65% от ФОТ (54 руб.) | D29: 1 шт. | E29: 1 | F29: 552.93 | G29: 48.76 | H29: 94.76 | I29: 5.46 | J29: 553 | K29: 49 | L29: 95 | M29: 5 | N29: 3.49 | O29: 3.49 | P29: 0.3 | Q29: 0.3
A30: 2 | B30: Оборудование, АВВ | C30: Вводно-распределительное устройство 2СРХ0 30121 R9999 (Транспортные расходы - согласно п.4.60 из МДС 81-35.2004 ПЗ=3% (ОЗП=3%; ЭМ=3%; МАТ=3%); Заготовительно-складские расходы - согласно п.4.64 из МДС 81-35.2004 ПЗ=1,2% (ОЗП=1,2%; ЭМ=1,2%; МАТ=1,2%)) | D30: шт. | E30: 1 | F30: 1019,3 4407.89/1,18/ИндексОБ | J30: 1019
A31: 3 | B31: ТЕРм08-03-575-01 Постан.Правит.Свердл.обл. от 10.11.10 №1616-ПП | C31: Монтаж автоматических выключателей НР (253 руб.): 95% от ФОТ (266 руб.) СП (173 руб.): 65% от ФОТ (266 руб.) | D31: 1 шт. | E31: 17 1+2+1+3+1+1+8 | F31: 16.3 | G31: 15.65 | J31: 277 | K31: 266 | N31: 1.12 | O31: 19.04
A32: 4 | B32: Оборудование, АВВ | C32: Автоматический выключатель S803 С-K 125 2СРХ0 2CCS883001R0647 (Транспортные расходы - согласно п.4.60 из МДС 81-35.2004 ПЗ=3% (ОЗП=3%; ЭМ=3%; МАТ=3%); Заготовительно-складские расходы - согласно п.4.64 из МДС 81-35.2004 ПЗ=1,2% (ОЗП=1,2%; ЭМ=1,2%; МАТ=1,2%)) | D32: шт. | E32: 1 | F32: 1429,78 6183.00/1,18/ИндексОБ | J32: 1430
A33: 5 | B33: Оборудование, АВВ | C33: Автоматический выключатель S200 1Р х-ка К, с расцепителями на ток 16 А S201 M-K 16 2CDS271001R0467 (Транспортные расходы - согласно п.4.60 из МДС 81-35.2004 ПЗ=3% (ОЗП=3%; ЭМ=3%; МАТ=3%); Заготовительно-складские расходы - согласно п.4.64 из МДС 81-35.2004 ПЗ=1,2% (ОЗП=1,2%; ЭМ=1,2%; МАТ=1,2%)) | D33: шт. | E33: 2 | F33: 306,86 1327.00/1,18/ИндексОБ | J33: 614
A34: 6 | B34: Оборудование, АВВ | C34: Автоматический выключатель S200 1Р х-ка К, с расцепителями на ток 20 А S201 M-K 20 2CDS271001R0487 (Транспортные расходы - согласно п.4.60 из МДС 81-35.2004 ПЗ=3% (ОЗП=3%; ЭМ=3%; МАТ=3%); Заготовительно-складские расходы - согласно п.4.64 из МДС 81-35.2004 ПЗ=1,2% (ОЗП=1,2%; ЭМ=1,2%; МАТ=1,2%)) | D34: шт. | E34: 1 | F34: 192,86 834.00/1,18/ИндексОБ | J34: 193
A35: 7 | B35: Оборудование, АВВ | C35: Автоматический выключатель S200 3Р х-ка К, с расцепителями на ток 16 А S203 M-K 16 2CDS273001R0467 (Транспортные расходы - согласно п.4.60 из МДС 81-35.2004 ПЗ=3% (ОЗП=3%; ЭМ=3%; МАТ=3%); Заготовительно-складские расходы - согласно п.4.64 из МДС 81-35.2004 ПЗ=1,2% (ОЗП=1,2%; ЭМ=1,2%; МАТ=1,2%)) | D35: шт. | E35: 3 | F35: 529,78 2291.00/1,18/ИндексОБ | J35: 1589
A36: 8 | B36: Оборудование, АВВ | C36: Автоматический выключатель S200 3Р х-ка К, с расцепителями на ток 20 А S203 M-K 20 2CDS273001R0487 (Транспортные расходы - согласно п.4.60 из МДС 81-35.2004 ПЗ=3% (ОЗП=3%; ЭМ=3%; МАТ=3%); Заготовительно-складские расходы - согласно п.4.64 из МДС 81-35.2004 ПЗ=1,2% (ОЗП=1,2%; ЭМ=1,2%; МАТ=1,2%)) | D36: шт. | E36: 1 | F36: 641,48 2774.00/1,18/ИндексОБ | J36: 641
A37: 9 | B37: Оборудование, АВВ | C37: Автоматический выключатель S200 3Р х-ка К, с расцепителями на ток 80 А S803 С-K 80 2CCS863001R0627 (Транспортные расходы - согласно п.4.60 из МДС 81-35.2004 ПЗ=3% (ОЗП=3%; ЭМ=3%; МАТ=3%); Заготовительно-складские расходы - согласно п.4.64 из МДС 81-35.2004 ПЗ=1,2% (ОЗП=1,2%; ЭМ=1,2%; МАТ=1,2%)) | D37: шт. | E37: 1 | F37: 3965,62 17149.00/1,18/ИндексОБ | J37: 3966
A38: 10 | B38: Оборудование, АВВ | C38: Автоматический выключатель дифференциального тока АВДТ 1+N, с расцепителем на ток 16 А DS201LC16APR30-С16 2CSR245440R1164 (Транспортные расходы - согласно п.4.60 из МДС 81-35.2004 ПЗ=3% (ОЗП=3%; ЭМ=3%; МАТ=3%); Заготовительно-складские расходы - согласно п.4.64 из МДС 81-35.2004 ПЗ=1,2% (ОЗП=1,2%; ЭМ=1,2%; МАТ=1,2%)) | D38: шт. | E38: 8 | F38: 742,56 3211.11/1,18/ИндексОБ | J38: 5940
A39: 11 | B39: ТЕРм08-03-573-04 Постан.Правит.Свердл.обл. от 10.11.10 №1616-ПП | C39: Монтаж ящиков управления НР (107 руб.): 95% от ФОТ (113 руб.) СП (73 руб.): 65% от ФОТ (113 руб.) | D39: 1 шт. | E39: 3 2+1 | F39: 99.26 | G39: 33.11 | H39: 62.05 | I39: 4.71 | J39: 298 | K39: 99 | L39: 186 | M39: 14 | N39: 2.37 | O39: 7.11 | P39: 0.29 | Q39: 0.87
A40: 12 | B40: Оборудование | C40: Ящик управления 380В; Iн=0,75А; IP54 Я5411-22 74УХЛ4 (Транспортные расходы - согласно п.4.60 из МДС 81-35.2004 ПЗ=3% (ОЗП=3%; ЭМ=3%; МАТ=3%); Заготовительно-складские расходы - согласно п.4.64 из МДС 81-35.2004 ПЗ=1,2% (ОЗП=1,2%; ЭМ=1,2%; МАТ=1,2%)) | D40: шт. | E40: 2 | F40: 2980,06 12887,00/1,18/ИндексОБ | J40: 5960
A41: 13 | B41: Оборудование | C41: Ящик управления 380В; Iн=0,6А; IP54 Я5111-18 74УХЛ4 (Транспортные расходы - согласно п.4.60 из МДС 81-35.2004 ПЗ=3% (ОЗП=3%; ЭМ=3%; МАТ=3%); Заготовительно-складские расходы - согласно п.4.64 из МДС 81-35.2004 ПЗ=1,2% (ОЗП=1,2%; ЭМ=1,2%; МАТ=1,2%)) | D41: шт. | E41: 1 | F41: 1877,71 8120,00/1,18/ИндексОБ | J41: 1878
A42: 14.1 | B42: ТЕРм08-03-575-01 Постан.Правит.Свердл.обл. от 10.11.10 №1616-ПП | C42: Монтаж приставки контактной НР (29 руб.): 95% от ФОТ (31 руб.) СП (20 руб.): 65% от ФОТ (31 руб.) | D42: 1 шт. | E42: 2 | F42: 16.3 | G42: 15.65 | J42: 33 | K42: 31 | N42: 1.12 | O42: 2.24
A43: 15.1 | B43: ФССЦ-509-4900 И7-Пр. Минрегиона от 29.06.12 №260 | C43: Приставки контактные ПКЛ-11-04А (Приведение расценок ФЕР к территориальному уровню (Письмо УРЦЦС Ц-297 от 12.04.2011) ОЗП=1,41; ЭМ=1,242; ЗПМ=1,41; МАТ=1,052) | D43: шт. | E43: 2 | F43: 15.86 | J43: 32
A44: Итого прямые затраты по разделу в ценах 2001г. | J44: 24423 | K44: 445 | L44: 281 | M44: 19 | O44: 31.88 | Q44: 1.17
A45: Накладные расходы | J45: 441
A46: Сметная прибыль | J46: 302
A47: Итого по разделу 1 Оборудование | J47: 25166 | O47: 31.88 | Q47: 1.17
...

Sheet НМЦ
A1: г. Лесной ФГУП "Комбинат "Электрохимприбор"
A3: Расчет начальной (максимальной) цены
A5: Выполнение работ по модернизации системы технологической водоподготовки бассейна профилактория ФГУП "Комбинат "Электрохимприбор"
A8: Составлен в ценах по состоянию на 01.01.2000 г. с переводом в текущие | D8: руб.
A9: Наименование глав ССР, объектных сметных расчетов, локальных сметных расчетов, видов работ | B9: Сметная стоимость в базисных ценах на 01.01.2000 | C9: Текущая стоимость на момент определения начальной (максимальной) цены | D9: № обосновывающего расчета
A13: 1 | B13: 2 | C13: 3 | D13: 4
A14: Архитектурные решения | B14: ='Сводка затрат'!H14 -> 2936 | C14: =ROUND('Сводка затрат'!D14*5.56,0)+ROUND('Сводка затрат'!E14*5.56,0)+ROUND('Сводка затрат'!F14*4.19,0) -> 16324 | D14: 12-027-АР
A15: Технологическая часть | B15: ='Сводка затрат'!H15 -> 353188 | C15: =ROUND('Сводка затрат'!D15*5.56,0)+ROUND('Сводка затрат'!E15*5.56,0)+ROUND('Сводка затрат'!F15*4.19,0) -> 1830693 | D15: 12-027-ТХ
A16: Автоматика | B16: ='Сводка затрат'!H16 -> 214113 | C16: =ROUND('Сводка затрат'!D16*5.56,0)+ROUND('Сводка затрат'!E16*5.56,0)+ROUND('Сводка затрат'!F16*4.19,0) -> 918192 | D16: 12-027-АТХ1
A17: Автоматика | B17: ='Сводка затрат'!H17 -> 90407 | C17: =ROUND('Сводка затрат'!D17*5.56,0)+ROUND('Сводка затрат'!E17*5.56,0)+ROUND('Сводка затрат'!F17*4.19,0) -> 429023 | D17: 12-027-АТХ2
A18: Электрооборудование | B18: ='Сводка затрат'!H18 -> 63658 | C18: =ROUND('Сводка затрат'!D18*5.56,0)+ROUND('Сводка затрат'!E18*5.56,0)+ROUND('Сводка затрат'!F18*4.19,0) -> 322114 | D18: 12-027-ЭМ
A19: Итого | B19: =SUM(B14:B18) -> 724302 | C19: =SUM(C14:C18) -> 3516346
A21: НДС 18% | C21: =ROUND(C19*18%,2) -> 632942.28
A23: Всего | C23: =SUM(C19:C22) -> 4149288.3
A26: Начальник отдела
A27: капитального строительства | C27: В.В. Моляков
A29: Инженер по проектно-сметной работе | C29: Т.Ш. Ковязина
A32: Согласовано | C32: отдел 028

Sheet Сводка затрат
A1: Приложение №__ к договору от "__"______2013 №_______
A3: г. Лесной. ФГУП "Комбинат "Электрохимприбор"
A5: Сводка затрат
A7: Выполнение работ по модернизации системы технологической водоподготовки бассейна профилактория
A8: ФГУП «Комбинат «Электрохимприбор»
A10: Составлен в ценах по состоянию на 01.01.2000 г.
A11: № п/п | B11: Номера сметных расчетов и смет | C11: Наименование работ и затрат | D11: Сметная стоимость | H11: Общая сметная стоимость, руб.
D12: строительных работ | E12: монтажных работ | F12: оборудования, мебели, инвентаря | G12: прочих затрат
A13: 1 | B13: 2 | C13: 3 | D13: 4 | E13: 5 | F13: 6 | G13: 7 | H13: 8
A14: 1 | B14: 12-027-АР | C14: Архитектурные решения | D14: ='12-027-АР'!J81 -> 2936 | E14: 0 | F14: 0 | G14: 0 | H14: =SUM(D14:G14) -> 2936
A15: 2 | B15: 12-027-ТХ | C15: Технологическая часть | D15: ='12-027-ТХ'!J421 -> 63925 | E15: ='12-027-ТХ'!J422 -> 192159 | F15: ='12-027-ТХ'!J423 -> 97104 | G15: 0 | H15: =SUM(D15:G15) -> 353188
A16: 3 | B16: 12-027-АТХ1 | C16: Автоматика | D16: 0 | E16: ='12-027-АТХ1'!J106 -> 15371 | F16: ='12-027-АТХ1'!J107 -> 198742 | G16: 0 | H16: =SUM(D16:G16) -> 214113
A17: 4 | B17: 12-027-АТХ2 | C17: Автоматика | D17: 0 | E17: ='12-027-АТХ2'!J112 -> 36655 | F17: ='12-027-АТХ2'!J113 -> 53752 | G17: 0 | H17: =SUM(D17:G17) -> 90407
A18: 5 | B18: 12-027-ЭМ | C18: Электрооборудование | D18: 0 | E18: ='12-027-ЭМ.СМ'!J139 -> 40428 | F18: ='12-027-ЭМ.СМ'!J140 -> 23230 | G18: 0 | H18: =SUM(D18:G18) -> 63658
C19: Итого в базисных ценах 2000 г. | D19: =SUM(D14:D18) -> 66861 | E19: =SUM(E14:E18) -> 284613 | F19: =SUM(F14:F18) -> 372828 | G19: =SUM(G14:G18) -> 0 | H19: =SUM(D19:G19) -> 724302
C20: Всего в ценах 2012 (Ксмр=5,56, Коб.=4,19) | D20: =ROUND(D19*5.56,0) -> 371747 | E20: =ROUND(E19*5.56,0)+1 -> 1582449 | F20: =ROUND(F19*4.19,0)+1 -> 1562150 | G20: =ROUND(G19*9.32,0) -> 0 | H20: =SUM(D20:G20) -> 3516346
C21: НДС 18% | D21: =ROUND(D20*18%,2) -> 66914.46 | E21: =ROUND(E20*18%,2) -> 284840.82 | F21: =ROUND(F20*18%,2) -> 281187 | G21: =ROUND(G20*18%,2) -> 0 | H21: =SUM(D21:G21) -> 632942.28
C22: Всего в ценах 2012 с НДС | D22: =SUM(D20:D21) -> 438661.46 | E22: =SUM(E20:E21) -> 1867289.8 | F22: =SUM(F20:F21) -> 1843337 | G22: =SUM(G20:G21) -> 0 | H22: =SUM(D22:G22) -> 4149288.3
C26: ЗАКАЗЧИК: | H26: ПОДРЯДЧИК:
C27: Генеральный директор
C28: ФГУП "Комбинат "Электрохимприбор"
C30: __________________ А.В. Новиков
