Workbook
Name Constr: '23776'!$A$6
Name Constr: '23777'!$A$6
Name Constr: '23780'!#REF!
Name Constr: '23781'!$A$6
Name Constr: '23783'!$A$1
Name Constr: '23784'!$A$1
Name Constr: '23829'!$A$6
Name FOT: '23776'!$D$12
Name FOT: '23777'!$D$12
Name FOT: '23780'!$D$12
Name FOT: '23781'!$D$12
Name FOT: '23783'!$D$16
Name FOT: '23784'!$D$16
Name FOT: '23829'!$D$12
Name Ind: '23776'!#REF!
Name Ind: '23777'!#REF!
Name Ind: '23780'!#REF!
Name Ind: '23781'!$H$8
Name Ind: '23783'!#REF!
Name Ind: '23784'!#REF!
Name Ind: '23829'!#REF!
Name Obj: '23776'!$E$7
Name Obj: '23777'!$E$7
Name Obj: '23780'!$E$7
Name Obj: '23781'!#REF!
Name Obj: '23783'!$D$9
Name Obj: '23784'!$D$9
Name Obj: '23829'!$E$7
Name Obosn: '23776'!$D$10
Name Obosn: '23777'!$D$10
Name Obosn: '23780'!$D$10
Name Obosn: '23781'!$D$10
Name Obosn: '23783'!$D$12
Name Obosn: '23784'!$D$12
Name Obosn: '23829'!$D$10
Name SmPr: '23776'!$D$11
Name SmPr: '23777'!$D$11
Name SmPr: '23780'!$D$11
Name SmPr: '23781'!$D$11
Name SmPr: '23783'!$D$13
Name SmPr: '23784'!$D$13
Name SmPr: '23829'!$D$11
Name аааааппппппрррппппппп: #REF!
Name аараооооооооооооо: #REF!
Name автом: #REF!
Name алшрльоплварл: #REF!
Name аолвлддддддддддддддддввввввввв: #REF!
Name апарв: #REF!
Name апрлдджаоырыфрпопрлпрлпрлп: #REF!
Name арлггаджаш: #REF!
Name ароррбллтблпроорапииас: #REF!
Name арррррблллпдрлдддддддддд: #REF!
Name варпаааааааааа: #REF!
Name ввпьььььлднд: #REF!
Name вед: #REF!
Name вертикальная: #REF!
Name вертикплан: #REF!
Name волен: #REF!
Name вп: #REF!
Name впырпфдыпл: #REF!

Sheet 23776
A1: СОГЛАСОВАНО: | D1: ФГУП "Комбинат "Электрохимприбор" | M1: УТВЕРЖДАЮ:
G2: (наименование стройки) | M2: Зам. генерального директора
M3: Е.В.Гордеев
A4: _____________________________ | G4: ЛОКАЛЬНЫЙ СМЕТНЫЙ РАСЧЕТ № 23776 | M4: _____________________________
A5: "______ " ________________2012 г. | G5: (локальная смета) | M5: "______ " _____________2012 г.
C7: на | D7: Водопровод и канализацию. Площадка 8. Столовая 3. Узел учёта холодной воды.
H8: (наименование работ и затрат, наименование объекта)
D10: Основание: № 23815-10-ВК КПМ Э 6064.097
D11: Сметная стоимость строительных работ _______________________________________________________________________________________________ | J11: =J50/1000 -> 6.224 | L11: тыс.руб.
D12: Средства на оплату труда _______________________________________________________________________________________________ | J12: =0.239*4.38 -> 1.04682 | L12: тыс.руб.
D13: Сметная трудоемкость _______________________________________________________________________________________________ | J13: _______________________________________________________________________________________________4,81 | L13: чел.час
D14: Составлен(а) в ценах 2001 года с переводом в текущие с К=4,38
A16: № пп | B16: Обоснование | C16: Наименование | D16: Ед. изм. | E16: Кол. | F16: Стоимость единицы, руб. | J16: Общая стоимость, руб. | N16: Т/з осн. раб.на ед. | O16: Т/з осн. раб. Всего | P16: Т/з мех. на ед. | Q16: Т/з мех. Всего
F17: Всего | G17: В том числе | J17: Всего | K17: В том числе
G18: Осн.З/п | H18: Эк.Маш | I18: З/пМех | K18: Осн.З/п | L18: Эк.Маш | M18: З/пМех
A19: 1 | B19: 2 | C19: 3 | D19: 4 | E19: 5 | F19: 6 | G19: 7 | H19: 8 | I19: 9 | J19: 10 | K19: 11 | L19: 12 | M19: 13 | N19: 14 | O19: 15 | P19: 16 | Q19: 17
A20: Раздел 1. Узел учёта холодной воды.
A21: 1 | B21: ТЕР16-02-002-06 | C21: Прокладка трубопроводов водоснабжения из стальных водогазопроводных оцинкованных труб диаметром: 50 мм | D21: 100 м трубопровода | E21: 0.02 | F21: 10308.62 | G21: 645.86 | H21: 96.05 | I21: 17.4 | J21: 206 | K21: 13 | L21: 2 | N21: 47.63 | O21: 0.95 | P21: 1.08 | Q21: 0.02
A22: 2 | B22: ТЕР16-02-002-04 | C22: Прокладка трубопроводов водоснабжения из стальных водогазопроводных оцинкованных труб диаметром: 32 мм | D22: 100 м трубопровода | E22: 0.01 | F22: 7290.86 | G22: 502.67 | H22: 54.32 | I22: 9.6 | J22: 73 | K22: 5 | L22: 1 | N22: 37.07 | O22: 0.37 | P22: 0.59 | Q22: 0.01
A23: 3 | B23: ТСЦ-300-1224 | C23: Крепления для трубопроводов: кронштейны, планки, хомуты | D23: кг | E23: 0.6 | F23: 17.02 | J23: 10
A24: 3.1 | B24: Цена поставщика | C24: Кран шаровый чугунный фланцевый, Ду 50. Цена:450.00р:1.18:3.58=106,52 КОЭФ. К ПОЗИЦИИ: За год складские затраты МАТ=1,02 | D24: шт | E24: 2 | F24: 108.65 | J24: 217
A25: 4 | B25: ТЕР16-05-002-01 | C25: Установка вентилей, задвижек, затворов, клапанов обратных, кранов проходных на трубопроводах из чугунных напорных фланцевых труб диаметром: до 65 мм | D25: 1 шт | E25: 2 | F25: 41.05 | G25: 11.5 | H25: 1.61 | I25: 0.31 | J25: 82 | K25: 23 | L25: 3 | M25: 1 | N25: 0.9 | O25: 1.8 | P25: 0.02 | Q25: 0.04
A26: 4.1 | B26: ТСЦ-300-1483 | C26: Кран шаровой В-В размером 1/2 | D26: шт. | E26: 1 | F26: 57.79 | J26: 58
A27: 5 | B27: ТСЦ-300-0966 | C27: Фланцы стальные плоские приварные из стали ВСт3сп2, ВСт3сп3; давлением 1.0 МПа (10 кгс/см2), диаметром 50 мм | D27: шт. | E27: 6 | F27: 44.03 | J27: 264
A28: 8 | B28: ТЕР18-07-001-02 | C28: Установка манометров: с трехходовым краном | D28: 1 комплект | E28: 1 | F28: 244.3 | G28: 3.07 | J28: 244 | K28: 3 | N28: 0.22 | O28: 0.22
A29: 9 | B29: ТСЦ-300-1228 | C29: Соединения на сгоне стальные: переходы, диаметром до 15 мм | D29: шт. | E29: 2 | F29: 3.37 | J29: 7
A30: 10 | B30: ТЕР16-07-005-01 | C30: Гидравлическое испытание трубопроводов систем отопления, водопровода и горячего водоснабжения диаметром: до 50 мм | D30: 100 м трубопровода | E30: 0.03 | F30: 106.32 | G30: 82.11 | H30: 13.93 | J30: 3 | K30: 2 | N30: 5.01 | O30: 0.15
A31: Итого прямые затраты по смете в ценах 2001г. | J31: 1164 | K31: 46 | L31: 6 | M31: 1 | O31: 3.49 | Q31: 0.07
A32: Итого прямые затраты по смете с учетом коэффициентов к итогам | J32: 1279 | K32: 66 | L32: 12 | M32: 1 | O32: 4.81 | Q32: 0.11
A33: В том числе, справочно:
A34: Районный к-т 4,3% (Поз. 1-2, 3.1, 4, 8, 10) | J34: 2 | K34: 2
A35: Территориальная поправка на материалы МАТ=1,08 (Поз. 1-2, 3.1, 4, 8, 10, 3, 4.1, 5, 9) | J35: 89
A36: При ремонте и реконструкции зданий и сооружений работы, аналогичные технологическим процессам в новом строительстве ОЗП=1,15; ЭМ=1,25; ЗПМ=1,25; ТЗ=1,15; ТЗМ=1,25 (Поз. 1-2, 3.1, 4, 8, 10) | J36: 9 | K36: 7 | L36: 2 | O36: 0.5235 | Q36: 0.0175
A37: Поправочный коэффициент к сметной ст-ти эксплуат.строительных машин №Ц-1699 ЭМ=1,2 (Поз. 1-2, 3.1, 4, 8, 10) | J37: 2 | L37: 2
A38: Условия производства работ ОЗП=1,2; ЭМ=1,2; ЗПМ=1,2; ТЗ=1,2; ТЗМ=1,2 (Поз. 1-2, 3.1, 4, 8, 10) | J38: 13 | K38: 11 | L38: 2 | O38: 0.802 | Q38: 0.018
A39: Накладные расходы | J39: 86
A40: Сметная прибыль | J40: 56
A41: Итоги по смете:
A42: Итого | J42: 1421 | O42: 4.81 | Q42: 0.11
A43: В том числе:
...

Sheet 23777
A1: СОГЛАСОВАНО: | D1: ФГУП "Комбинат "Электрохимприбор" | M1: УТВЕРЖДАЮ:
G2: (наименование стройки) | M2: Зам. генерального директора
M3: Е.В.Гордеев
A4: _____________________________ | G4: ЛОКАЛЬНЫЙ СМЕТНЫЙ РАСЧЕТ № 23777 | M4: _____________________________
A5: "______ " ________________2012 г. | G5: (локальная смета) | M5: "______ " _____________2012 г.
C7: на | D7: Водопровод и канализацию. Здание429. Столовая 11. Узел учёта холодной воды.
H8: (наименование работ и затрат, наименование объекта)
D10: Основание: № 23823-10-ВК КПМ Э 6063.097
D11: Сметная стоимость строительных работ _______________________________________________________________________________________________ | J11: =J52/1000 -> 25.36 | L11: тыс.руб.
D12: Средства на оплату труда _______________________________________________________________________________________________ | J12: ___________________________0,662 | L12: тыс.руб.
D13: Сметная трудоемкость _______________________________________________________________________________________________ | J13: _______________________________________________________________________________________________13,37 | L13: чел.час
D14: Составлен(а) в ценах 2001 года с переводом в текущие с К=4,38
A16: № пп | B16: Обоснование | C16: Наименование | D16: Ед. изм. | E16: Кол. | F16: Стоимость единицы, руб. | J16: Общая стоимость, руб. | N16: Т/з осн. раб.на ед. | O16: Т/з осн. раб. Всего | P16: Т/з мех. на ед. | Q16: Т/з мех. Всего
F17: Всего | G17: В том числе | J17: Всего | K17: В том числе
G18: Осн.З/п | H18: Эк.Маш | I18: З/пМех | K18: Осн.З/п | L18: Эк.Маш | M18: З/пМех
A19: 1 | B19: 2 | C19: 3 | D19: 4 | E19: 5 | F19: 6 | G19: 7 | H19: 8 | I19: 9 | J19: 10 | K19: 11 | L19: 12 | M19: 13 | N19: 14 | O19: 15 | P19: 16 | Q19: 17
A20: Раздел 1. Узел учёта холодной воды.
A21: 1 | B21: ТЕР16-02-004-04 | C21: Прокладка трубопроводов отопления и газоснабжения из стальных бесшовных труб диаметром: 100 мм | D21: 100 м трубопровода | E21: 0.01 | F21: 13528.89 | G21: 1097.36 | H21: 197.22 | I21: 28.58 | J21: 135 | K21: 11 | L21: 2 | N21: 79.75 | O21: 0.8 | P21: 1.77 | Q21: 0.02
A22: 2 | B22: ТЕР16-02-004-02 | C22: Прокладка трубопроводов отопления и газоснабжения из стальных бесшовных труб диаметром: 65 мм | D22: 100 м трубопровода | E22: 0.02 | F22: 7866.53 | G22: 991.41 | H22: 138.09 | I22: 19.95 | J22: 157 | K22: 20 | L22: 3 | N22: 72.05 | O22: 1.44 | P22: 1.24 | Q22: 0.02
A23: 3 | B23: ТСЦ-300-1224 | C23: Крепления для трубопроводов: кронштейны, планки, хомуты | D23: кг | E23: 0.6 | F23: 17.02 | J23: 10
A24: 4 | B24: ТЕР16-05-002-02 | C24: Установка вентилей, задвижек, затворов, клапанов обратных, кранов проходных на трубопроводах из чугунных напорных фланцевых труб диаметром: до 100 мм | D24: 1 шт | E24: 2 | F24: 73.87 | G24: 22.62 | H24: 3.92 | I24: 0.68 | J24: 148 | K24: 45 | L24: 8 | M24: 1 | N24: 1.77 | O24: 3.54 | P24: 0.04 | Q24: 0.08
A25: 5 | B25: Фирма: Hawle-A | C25: Задвижка чугунная фланцевая Ду 100 (Цена: 7500:1.18:3.58=1775.40 КОЭФ. К ПОЗИЦИИ: За год складские затраты МАТ=1,02 | D25: шт | E25: 2 | F25: 1810.38 | G25: 22.62 | H25: 3.92 | I25: 0.68 | J25: 3621 | K25: 45 | L25: 8 | M25: 1 | N25: 1.77 | O25: 3.54 | P25: 0.04 | Q25: 0.08
A26: 6 | B26: ТСЦ-300-1484 | C26: Кран шаровой В-В размером 3/4 | D26: шт. | E26: 1 | F26: 84.97 | J26: 85
A27: 7 | B27: ТЕР18-07-001-02 | C27: Установка манометров: с трехходовым краном | D27: 1 комплект | E27: 1 | F27: 244.3 | G27: 3.07 | J27: 244 | K27: 3 | N27: 0.22 | O27: 0.22
A28: 8 | B28: ТСЦ-300-0969 | C28: Фланцы стальные плоские приварные из стали ВСт3сп2, ВСт3сп3; давлением 1.0 МПа (10 кгс/см2), диаметром 100 мм | D28: шт. | E28: 6 | F28: 89.25 | J28: 536
A29: 9 | B29: ТСЦ-300-1229 | C29: Соединения на сгоне стальные: переходы, диаметром до 20 мм | D29: шт. | E29: 1 | F29: 5.36 | J29: 5
A30: 10 | B30: ТЕР16-07-005-01 | C30: Гидравлическое испытание трубопроводов систем отопления, водопровода и горячего водоснабжения диаметром: до 50 мм | D30: 100 м трубопровода | E30: 0.03 | F30: 106.32 | G30: 82.11 | H30: 13.93 | J30: 3 | K30: 2 | N30: 5.01 | O30: 0.15
A31: Итого прямые затраты по смете в ценах 2001г. | J31: 4944 | K31: 126 | L31: 21 | M31: 2 | O31: 9.69 | Q31: 0.2
A32: Итого прямые затраты по смете с учетом коэффициентов к итогам | J32: 5399 | K32: 181 | L32: 37 | M32: 4 | O32: 13.37 | Q32: 0.3
A33: В том числе, справочно:
A34: Районный к-т 4,3% (Поз. 1-2, 4-5, 7, 10) | J34: 5 | K34: 5
A35: Территориальная поправка на материалы МАТ=1,08 (Поз. 1-2, 4-5, 7, 10, 3, 6, 8-9) | J35: 384
A36: При ремонте и реконструкции зданий и сооружений работы, аналогичные технологическим процессам в новом строительстве ОЗП=1,15; ЭМ=1,25; ЗПМ=1,25; ТЗ=1,15; ТЗМ=1,25 (Поз. 1-2, 4-5, 7, 10) | J36: 25 | K36: 20 | L36: 5 | O36: 1.4535 | Q36: 0.05
A37: Поправочный коэффициент к сметной ст-ти эксплуат.строительных машин №Ц-1699 ЭМ=1,2 (Поз. 1-2, 4-5, 7, 10) | J37: 5 | L37: 5
A38: Условия производства работ ОЗП=1,2; ЭМ=1,2; ЗПМ=1,2; ТЗ=1,2; ТЗМ=1,2 (Поз. 1-2, 4-5, 7, 10) | J38: 36 | K38: 30 | L38: 6 | M38: 1 | O38: 2.228 | Q38: 0.05
A39: Накладные расходы | J39: 237
A40: Сметная прибыль | J40: 154
A41: Итоги по смете:
A42: Сантехнические работы - внутренние (трубопроводы, водопровод, канализация, отопление, газоснабжение, вентиляция и кондиционирование воздуха) | J42: 5103 | O42: 13.37 | Q42: 0.3
A43: Материалы для строительных работ | J43: 687
...

Sheet 23780
A1: СОГЛАСОВАНО: | D1: ФГУП "Комбинат "Электрохимприбор" | M1: УТВЕРЖДАЮ:
G2: (наименование стройки) | M2: Зам. генерального директора
M3: Е.В.Гордеев
A4: _____________________________ | G4: ЛОКАЛЬНЫЙ СМЕТНЫЙ РАСЧЕТ № 23780 | M4: _____________________________
A5: "______ " ________________2012 г. | G5: (локальная смета) | M5: "______ " _____________2012 г.
C7: на | D7: электроснабжение шкафа учета. Площадка 8. Здание 53. Столовая №3
H8: (наименование работ и затрат, наименование объекта)
D10: Основание: проект №23811-10-ЭМ Тема КПМ Э6064.097
D11: Сметная стоимость монтажных работ _______________________________________________________________________________________________ | J11: =J48/1000 -> 8.291 | L11: тыс.руб.
D12: Средства на оплату труда _______________________________________________________________________________________________ | J12: =0.198*4.38 -> 0.86724 | L12: тыс.руб.
D13: Сметная трудоемкость _______________________________________________________________________________________________ | J13: _______________________________________________________________________________________________9,1 | L13: чел.час
D14: Материалы ______________________________________ | K14: =J42*4.38/1000 -> 3.56094 | L14: тыс.руб.
D15: Составлен(а) в базовых ценах 2001г. с переводом в текущие с К=4,38
A17: № пп | B17: Обоснование | C17: Наименование | D17: Ед. изм. | E17: Кол. | F17: Стоимость единицы, руб. | J17: Общая стоимость, руб. | N17: Т/з осн. раб.на ед. | O17: Т/з осн. раб. Всего | P17: Т/з мех. на ед. | Q17: Т/з мех. Всего
F18: Всего | G18: В том числе | J18: Всего | K18: В том числе
G19: Осн.З/п | H19: Эк.Маш | I19: З/пМех | K19: Осн.З/п | L19: Эк.Маш | M19: З/пМех
A20: 1 | B20: 2 | C20: 3 | D20: 4 | E20: 5 | F20: 6 | G20: 7 | H20: 8 | I20: 9 | J20: 10 | K20: 11 | L20: 12 | M20: 13 | N20: 14 | O20: 15 | P20: 16 | Q20: 17
A21: 1 | B21: ТСЦ5-500-9001-700 | C21: Кабели силовые на напряжение 660 В с медными жилами, в изоляции из ПВХ пластиката, оболочкой из ПВХ пластиката пониженной горючести марки ВВГнг сеч. 3х1.5 мм2 | D21: 1000м | E21: 0.03 | F21: 7817.7 | J21: 235
A22: 2 | B22: ТЕРм08-02-146-01 | C22: Монтаж: кабели до 35 кв с креплением накладными скобами, масса 1 м кабеля, кг, до: 0,5 | D22: 100 м кабеля | E22: 0.3 | F22: 2874.68 | G22: 199.33 | H22: 1275.85 | I22: 152.07 | J22: 862 | K22: 60 | L22: 383 | M22: 46 | N22: 14.7 | O22: 4.41 | P22: 8.6 | Q22: 2.58
A23: 3 | B23: ТЕРм08-02-158-04 | C23: Заделки концевые сухие для контрольного кабеля сечением одной жилы до 2,5 мм2, количество жил, до: 4 | D23: шт. | E23: 2 | F23: 30.5 | G23: 3.53 | H23: 1.15 | I23: 0.18 | J23: 61 | K23: 7 | L23: 2 | N23: 0.26 | O23: 0.52 | P23: 0.01 | Q23: 0.02
A24: 4 | B24: ТЕРм08-02-144-01 | C24: Присоединение к зажимам жил проводов или кабелей, сечение, мм2, до: 2,5 | D24: 100 шт. | E24: 0.06 | F24: 162.72 | G24: 162.72 | J24: 10 | K24: 10 | N24: 12 | O24: 0.72
A25: 5 | B25: ТЕРм08-02-407-01 | C25: Монтаж: труба стальная (гильза) | D25: 100 м | E25: 0.005 | F25: 2508.07 | G25: 408.1 | H25: 865.31 | I25: 329.55 | J25: 13 | K25: 2 | L25: 4 | M25: 2 | N25: 30.8 | O25: 0.15 | P25: 20.9 | Q25: 0.1
A26: 6 | B26: ТСЦ-103-0001 | C26: Трубы стальные сварные водогазопроводные с резьбой черные легкие (неоцинкованные) диаметр условного прохода 15 мм, толщина стенки 2.5 мм | D26: м | E26: 0.5 | F26: 12.41 | J26: 6
A27: 7 | B27: ТЕРм08-02-155-01 | C27: Герметизация проходов при вводе кабелей во взрывоопасные помещения уплотнительной массой | D27: проход кабеля | E27: 2 | F27: 23.26 | G27: 6.37 | J27: 47 | K27: 13 | N27: 0.47 | O27: 0.94
A28: Итого прямые затраты по смете в ценах 2001г. | J28: 1234 | K28: 92 | L28: 389 | M28: 48 | O28: 6.74 | Q28: 2.7
A29: Итого прямые затраты по смете с учетом коэффициентов к итогам | J29: 1576 | K29: 130 | L29: 633 | M29: 68 | O29: 9.1 | Q29: 3.65
A30: В том числе, справочно:
A31: Районный к-т 4,3% (Поз. 2-5, 7) | J31: 6 | K31: 4 | L31: 2 | M31: 2
A32: Территориальная поправка на материалы МАТ=1,08 (Поз. 1, 6, 2-5, 7) | J32: 60
A33: Поправочный коэф-т к стоимости эксплуатации машин (письмо УРЦЭиЦС №Ц-1699 от 06.06.2008г.) ЭМ=1,2 (Поз. 2-5, 7) | J33: 78 | L33: 78
A34: 2. Производство монтажных работ в сущ.зданиях в стесн. условиях с наличием в зоне производства работ действующего тех. оборудования ОЗП=1,35; ЭМ=1,35; ЗПМ=1,35; ТЗ=1,35; ТЗМ=1,35 (Поз. 2-5, 7) | J34: 198 | K34: 34 | L34: 164 | M34: 18 | O34: 2.359 | Q34: 0.945
A35: Накладные расходы | J35: 188
A36: Сметная прибыль | J36: 129
A37: Итоги по смете:
A38: Материалы для монтажных работ | J38: 260
A39: Электромонтажные работы на других объектах | J39: 1633 | O39: 9.1 | Q39: 3.65
A40: Итого | J40: 1893 | O40: 9.1 | Q40: 3.65
A41: В том числе:
A42: Материалы | J42: 813
A43: Машины и механизмы | J43: =633-M29 -> 565
...

Sheet 23781
A1: СОГЛАСОВАНО: | D1: ФГУП "Комбинат "Электрохимприбор" | M1: УТВЕРЖДАЮ:
G2: (наименование стройки) | M2: Зам. генерального директора
M3: Е.В.Гордеев
A4: _____________________________ | G4: ЛОКАЛЬНЫЙ СМЕТНЫЙ РАСЧЕТ № 23781 | M4: _____________________________
A5: "______ " ________________2012 г. | G5: (локальная смета) | M5: "______ " _____________2012 г.
C7: на | D7: электроснабжение шкафа учета. Площадка 17. Здание 429. Столовая №11
H8: (наименование работ и затрат, наименование объекта)
D10: Основание: проект №23810-10-ЭМ Тема КПМ Э6063.097
D11: Сметная стоимость монтажных работ _______________________________________________________________________________________________ | J11: =J48/1000 -> 10.709 | L11: тыс.руб.
D12: Средства на оплату труда _______________________________________________________________________________________________ | J12: =0.247*4.38 -> 1.08186 | L12: тыс.руб.
D13: Сметная трудоемкость _______________________________________________________________________________________________ | J13: _______________________________________________________________________________________________11,08 | L13: чел.час
D14: Материалы ______________________________________ | K14: =J42*4.38/1000 -> 4.599 | L14: тыс.руб.
D15: Составлен(а) в базовых ценах 2001г. с переводом в текущие с К=4,38
A17: № пп | B17: Обоснование | C17: Наименование | D17: Ед. изм. | E17: Кол. | F17: Стоимость единицы, руб. | J17: Общая стоимость, руб. | N17: Т/з осн. раб.на ед. | O17: Т/з осн. раб. Всего | P17: Т/з мех. на ед. | Q17: Т/з мех. Всего
F18: Всего | G18: В том числе | J18: Всего | K18: В том числе
G19: Осн.З/п | H19: Эк.Маш | I19: З/пМех | K19: Осн.З/п | L19: Эк.Маш | M19: З/пМех
A20: 1 | B20: 2 | C20: 3 | D20: 4 | E20: 5 | F20: 6 | G20: 7 | H20: 8 | I20: 9 | J20: 10 | K20: 11 | L20: 12 | M20: 13 | N20: 14 | O20: 15 | P20: 16 | Q20: 17
A21: 1 | B21: ТСЦ5-500-9001-700 | C21: Кабели силовые на напряжение 660 В с медными жилами, в изоляции из ПВХ пластиката, оболочкой из ПВХ пластиката пониженной горючести марки ВВГнг сеч. 3х1.5 мм2 | D21: 1000м | E21: 0.04 | F21: 7817.7 | J21: 313
A22: 2 | B22: ТЕРм08-02-146-01 | C22: Монтаж: кабели до 35 кв с креплением накладными скобами, масса 1 м кабеля, кг, до: 0,5 | D22: 100 м кабеля | E22: 0.4 | F22: 2874.68 | G22: 199.33 | H22: 1275.85 | I22: 152.07 | J22: 1150 | K22: 80 | L22: 510 | M22: 61 | N22: 14.7 | O22: 5.88 | P22: 8.6 | Q22: 3.44
A23: 3 | B23: ТЕРм08-02-158-04 | C23: Заделки концевые сухие для контрольного кабеля сечением одной жилы до 2,5 мм2, количество жил, до: 4 | D23: шт. | E23: 2 | F23: 30.5 | G23: 3.53 | H23: 1.15 | I23: 0.18 | J23: 61 | K23: 7 | L23: 2 | N23: 0.26 | O23: 0.52 | P23: 0.01 | Q23: 0.02
A24: 4 | B24: ТЕРм08-02-144-01 | C24: Присоединение к зажимам жил проводов или кабелей, сечение, мм2, до: 2,5 | D24: 100 шт. | E24: 0.06 | F24: 162.72 | G24: 162.72 | J24: 10 | K24: 10 | N24: 12 | O24: 0.72
A25: 5 | B25: ТЕРм08-02-407-01 | C25: Монтаж: труба стальная (гильза) | D25: 100 м | E25: 0.005 | F25: 2508.07 | G25: 408.1 | H25: 865.31 | I25: 329.55 | J25: 13 | K25: 2 | L25: 4 | M25: 2 | N25: 30.8 | O25: 0.15 | P25: 20.9 | Q25: 0.1
A26: 6 | B26: ТСЦ-103-0001 | C26: Трубы стальные сварные водогазопроводные с резьбой черные легкие (неоцинкованные) диаметр условного прохода 15 мм, толщина стенки 2.5 мм | D26: м | E26: 0.5 | F26: 12.41 | J26: 6
A27: 7 | B27: ТЕРм08-02-155-01 | C27: Герметизация проходов при вводе кабелей во взрывоопасные помещения уплотнительной массой | D27: проход кабеля | E27: 2 | F27: 23.26 | G27: 6.37 | J27: 47 | K27: 13 | N27: 0.47 | O27: 0.94
A28: Итого прямые затраты по смете в ценах 2001г. | J28: 1600 | K28: 112 | L28: 516 | M28: 63 | O28: 8.21 | Q28: 3.56
A29: Итого прямые затраты по смете с учетом коэффициентов к итогам | J29: 2049 | K29: 158 | L29: 841 | M29: 89 | O29: 11.08 | Q29: 4.81
A30: В том числе, справочно:
A31: Районный к-т 4,3% (Поз. 2-5, 7) | J31: 8 | K31: 5 | L31: 3 | M31: 3
A32: Территориальная поправка на материалы МАТ=1,08 (Поз. 1, 6, 2-5, 7) | J32: 78
A33: Поправочный коэф-т к стоимости эксплуатации машин (письмо УРЦЭиЦС №Ц-1699 от 06.06.2008г.) ЭМ=1,2 (Поз. 2-5, 7) | J33: 104 | L33: 104
A34: 2. Производство монтажных работ в сущ.зданиях в стесн. условиях с наличием в зоне производства работ действующего тех. оборудования ОЗП=1,35; ЭМ=1,35; ЗПМ=1,35; ТЗ=1,35; ТЗМ=1,35 (Поз. 2-5, 7) | J34: 259 | K34: 41 | L34: 218 | M34: 23 | O34: 2.8735 | Q34: 1.246
A35: Накладные расходы | J35: 235
A36: Сметная прибыль | J36: 161
A37: Итоги по смете:
A38: Материалы для монтажных работ | J38: 345
A39: Электромонтажные работы на других объектах | J39: 2100 | O39: 11.08 | Q39: 4.81
A40: Итого | J40: 2445 | O40: 11.08 | Q40: 4.81
A41: В том числе:
A42: Материалы | J42: 1050
A43: Машины и механизмы | J43: =841-M29 -> 752
...

Sheet 23783
A1: СОГЛАСОВАНО: | E1: ФГУП "Комбинат "Электрохимприбор" | M1: УТВЕРЖДАЮ:
G2: (наименование стройки) | M2: Зам. генерального директора
M3: Е.В.Гордеев
A4: _________________ | M4: _________________
A5: " _____ " ________________ 2012 г. | M5: "______ " __________2012 г.
G6: ЛОКАЛЬНЫЙ СМЕТНЫЙ РАСЧЕТ № 23783
G7: (локальная смета)
C9: на | D9: электроснабжение. Узел учета. Столовая № 3
G10: (наименование работ и затрат, наименование объекта)
D12: Основание: проект № ЖАЕ.10590 Тема КПМ Э6064.097 | N12: Справочно, в тыс.руб. :
D13: Сметная стоимость _______________________________________________________________________________________________ | J13: ___________________________31,446 | L13: тыс. руб. | N13: ВСЕГО: | P13: =P14+P15 -> 134.697
D14: монтажных работ _______________________________________________________________________________________________ | J14: _______________________________________________________________________________________________15,467 | L14: тыс. руб. | N14: с К=4,38 | P14: =ROUND(15.467*4.38,3) -> 67.745
D15: оборудования _______________________________________________________________________________________________ | J15: _______________________________________________________________________________________________15,979 | L15: тыс. руб. | N15: с К=4,19 | P15: =ROUND(15.979*4.19,3) -> 66.952
D16: Средства на оплату труда _______________________________________________________________________________________________ | J16: ___________________________1,343 | L16: тыс. руб.
D17: Сметная трудоемкость _______________________________________________________________________________________________ | J17: _______________________________________________________________________________________________82,1 | L17: чел.час
D18: Составлен(а) в базовых ценах 2001г.
A20: № пп | B20: Обоснова-ние | C20: Наименование | D20: Ед. изм. | E20: Кол. | F20: Стоимость единицы, руб. | J20: Общая стоимость, руб. | O20: Т/з осн. раб.на ед. | P20: Т/з осн. раб. Всего | Q20: Общая масса обору-дования, т
F21: Всего | G21: В том числе | J21: Обору-дование | K21: Всего | L21: В том числе
G22: Осн.З/п | H22: Эк.Маш | I22: З/пМех | L22: Осн.З/п | M22: Эк.Маш | N22: З/пМех
A23: 1 | B23: 2 | C23: 3 | D23: 4 | E23: 5 | F23: 6 | G23: 7 | H23: 8 | I23: 9 | J23: 10 | K23: 11 | L23: 12 | M23: 13 | N23: 14 | O23: 15 | P23: 16 | Q23: 17
A24: Раздел 1. Монтажные работы
A25: 1 | B25: ТЕРм11-02-022-03 | C25: Монтаж: расходомер ультразвуковой US-800, устанавливаемый на фланцевых соединениях, диаметр условного прохода, мм, до: 32 | D25: шт. | E25: 2 | F25: 20.19 | G25: 12.7 | K25: 40 | L25: 25 | O25: 1.03 | P25: 2.06
A26: 2 | B26: ТЕРм11-02-022-01 | C26: Монтаж: преобразователь сопротивления, устанавливаемый на резьбовых (муфтовых) соединениях | D26: шт. | E26: 3 | F26: 12.7 | G26: 12.7 | K26: 38 | L26: 38 | O26: 1.03 | P26: 3.09
A27: 3 | B27: ТЕРм11-02-022-01 | C27: Монтаж: преобразователь давления, устанавливаемый на резьбовых (муфтовых) соединениях | D27: шт. | E27: 2 | F27: 12.7 | G27: 12.7 | K27: 25 | L27: 25 | O27: 1.03 | P27: 2.06
A28: 4 | B28: ТЕРм11-03-011-03 прим. | C28: Монтаж тепловычислителя СПТ961 | D28: компл. | E28: 1 | F28: 292.87 | G28: 171.83 | H28: 97.81 | I28: 15.67 | K28: 293 | L28: 172 | M28: 98 | N28: 16 | O28: 12.3 | P28: 12.3
A29: 5 | B29: ТЕРм10-02-016-06 | C29: Монтаж: отдельно устанавливаемый преобразователь или блок питания | D29: шт. | E29: 1 | F29: 270.07 | G29: 157.66 | H29: 33.82 | I29: 6.87 | K29: 270 | L29: 158 | M29: 34 | N29: 7 | O29: 10.1 | P29: 10.1
A30: 6 | B30: ТЕРм08-03-600-02 | C30: Монтаж: счетчики, устанавливаемые на готовом основании: трехфазные | D30: шт. | E30: 2 | F30: 14.81 | G30: 12.15 | H30: 2.3 | I30: 0.37 | K30: 30 | L30: 24 | M30: 5 | N30: 1 | O30: 0.87 | P30: 1.74
A31: 7 | B31: ТЕРм08-03-603-01 | C31: Монтаж: ящик с понижающим трансформатором | D31: шт. | E31: 6 | F31: 39.08 | G31: 19.98 | H31: 5.11 | I31: 0.74 | K31: 234 | L31: 120 | M31: 31 | N31: 4 | O31: 1.43 | P31: 8.58
A32: 8 | B32: ТЕРм08-03-526-01 | C32: Монтаж: выключатели установочные автоматические однополюсный, устанавливаемый на конструкции на стене или колонне, на ток, А, до: 25 | D32: шт. | E32: 1 | F32: 184.7 | G32: 20.92 | H32: 1.66 | I32: 0.07 | K32: 185 | L32: 21 | M32: 2 | O32: 1.56 | P32: 1.56
A33: 9 | B33: ТЕРм08-03-591-08 | C33: Розетка штепсельная: неутопленного типа при открытой проводке | D33: 100 шт. | E33: 0.04 | F33: 1553.96 | G33: 603.5 | H33: 21.69 | I33: 1.48 | K33: 62 | L33: 24 | M33: 1 | O33: 43.2 | P33: 1.73
A34: 10 | B34: ТЕРм08-02-147-10 | C34: Кабели до 35 кв по установленным конструкциям и лоткам с креплением по всей длине, масса 1 м, кг, до: 1 | D34: 100 м кабеля | E34: 1 | F34: 1324.99 | G34: 238.66 | H34: 655.24 | I34: 79.87 | K34: 1325 | L34: 239 | M34: 655 | N34: 80 | O34: 17.6 | P34: 17.6
A35: Раздел 2. Оборудование и материалы, неучтенные в стоимости монтажных работ
A36: 11 | B36: Цена поставщика | C36: Расходомер ультразвуковой US -800 диам.32 мм (Цена:25830руб:1,18:4,19) КОЭФ. К ПОЗИЦИИ: Транспортные расходы на оборудование ПЗ=1,03; Загот.складские расходы на оборудование ПЗ=1,012 | D36: шт | E36: 2 | J36: 10891 | K36: 10891
A37: 12 | B37: Цена поставщика | C37: Термопреобразователь сопротивления ТС 1088 (Цена:450руб:1,18:4,38) КОЭФ. К ПОЗИЦИИ: Загот.складские расходы на материалы МАТ=1,02 | D37: шт | E37: 3 | F37: 88.81 | K37: 266
A38: 13 | B38: Цена поставщика | C38: Преобразователь давления АИР-10L (Цена:4800руб:1,18:4,38) КОЭФ. К ПОЗИЦИИ: Загот.складские расходы на материалы МАТ=1,02 | D38: шт | E38: 2 | F38: 947.29 | K38: 1895
A39: 14 | B39: Цена поставщика | C39: Арматура термопреобразователя монтажная (гильза, бобышка), L=200, 250 (Цена:600руб:1,18:4,38) КОЭФ. К ПОЗИЦИИ: Загот.складские расходы на материалы МАТ=1,02 | D39: шт | E39: 6 | F39: 118.41 | K39: 710
A40: 15 | B40: Цена поставщика | C40: Счетчик электронный Меркурий 230 ART-03 (Цена:3920руб:1,18:4,38) КОЭФ. К ПОЗИЦИИ: Загот.складские расходы на материалы МАТ=1,02 | D40: шт | E40: 2 | F40: 773.63 | K40: 1547
A41: 16 | B41: ТСЦ5-500-9016-762 | C41: Ящики с понижающими трансформаторами | D41: шт | E41: 6 | F41: 752.93 | K41: 4518
A42: 17 | B42: ТСЦ5-500-9014-4 прим. | C42: Шкаф учета | D42: шт | E42: 1 | J42: 5088 | K42: 5088
A43: 18 | B43: ТСЦ5-502-0049 | C43: Кабели силовые переносные с гибкими медными жилами в резиновой оболочке марки КГ, с числом жил - 3 и сечением 1 мм2 | D43: 1000м | E43: 0.05 | F43: 5800 | K43: 290
...

Sheet 23784
A1: СОГЛАСОВАНО: | E1: ФГУП "Комбинат "Электрохимприбор" | M1: УТВЕРЖДАЮ:
G2: (наименование стройки) | M2: Зам. генерального директора
M3: Е.В.Гордеев
A4: _________________ | M4: _________________
A5: " _____ " ________________ 2012 г. | M5: "______ " __________2012 г.
G6: ЛОКАЛЬНЫЙ СМЕТНЫЙ РАСЧЕТ № 23784
G7: (локальная смета)
C9: на | D9: электроснабжение. Узел учета. Столовая № 11
G10: (наименование работ и затрат, наименование объекта)
D12: Основание: проект № ЖАЕ.10610 Тема КПМ Э6063.097 | N12: Справочно, в тыс.руб. :
D13: Сметная стоимость _______________________________________________________________________________________________ | J13: ___________________________26,337 | L13: тыс. руб. | N13: ВСЕГО: | P13: =P14+P15 -> 112.071
D14: монтажных работ _______________________________________________________________________________________________ | J14: _______________________________________________________________________________________________9,044 | L14: тыс. руб. | N14: с К=4,38 | P14: =ROUND(9.044*4.38,3) -> 39.613
D15: оборудования _______________________________________________________________________________________________ | J15: _______________________________________________________________________________________________17,293 | L15: тыс. руб. | N15: с К=4,19 | P15: =ROUND(17.293*4.19,3) -> 72.458
D16: Средства на оплату труда _______________________________________________________________________________________________ | J16: ___________________________1,275 | L16: тыс. руб.
D17: Сметная трудоемкость _______________________________________________________________________________________________ | J17: _______________________________________________________________________________________________77,51 | L17: чел.час
D18: Составлен(а) в базовых ценах 2001г.
A20: № пп | B20: Обоснова-ние | C20: Наименование | D20: Ед. изм. | E20: Кол. | F20: Стоимость единицы, руб. | J20: Общая стоимость, руб. | O20: Т/з осн. раб.на ед. | P20: Т/з осн. раб. Всего | Q20: Общая масса обору-дования, т
F21: Всего | G21: В том числе | J21: Обору-дование | K21: Всего | L21: В том числе
G22: Осн.З/п | H22: Эк.Маш | I22: З/пМех | L22: Осн.З/п | M22: Эк.Маш | N22: З/пМех
A23: 1 | B23: 2 | C23: 3 | D23: 4 | E23: 5 | F23: 6 | G23: 7 | H23: 8 | I23: 9 | J23: 10 | K23: 11 | L23: 12 | M23: 13 | N23: 14 | O23: 15 | P23: 16 | Q23: 17
A24: Раздел 1. Монтажные работы
A25: 1 | B25: ТЕРм11-02-022-04 | C25: Монтаж: расходомер ультразвуковой US-800, устанавливаемые на фланцевых соединениях, диаметр условного прохода, мм, до: 50 | D25: шт. | E25: 1 | F25: 57.28 | G25: 38.1 | H25: 8.83 | I25: 1.72 | K25: 57 | L25: 38 | M25: 9 | N25: 2 | O25: 3.09 | P25: 3.09
A26: 2 | B26: ТЕРм11-02-022-05 | C26: Монтаж: расходомер ультразвуковой US-800, устанавливаемые на фланцевых соединениях, диаметр условного прохода, мм, до: 80 | D26: шт. | E26: 1 | F26: 93.48 | G26: 50.8 | H26: 12.84 | I26: 2.5 | K26: 93 | L26: 51 | M26: 13 | N26: 3 | O26: 4.12 | P26: 4.12
A27: 3 | B27: ТЕРм11-02-022-01 | C27: Монтаж: преобразователь сопротивления, устанавливаемый на резьбовых (муфтовых) соединениях | D27: шт. | E27: 3 | F27: 12.7 | G27: 12.7 | K27: 38 | L27: 38 | O27: 1.03 | P27: 3.09
A28: 4 | B28: ТЕРм11-02-022-01 | C28: Монтаж: преобразователь давления, устанавливаемый на резьбовых (муфтовых) соединениях | D28: шт. | E28: 2 | F28: 12.7 | G28: 12.7 | K28: 25 | L28: 25 | O28: 1.03 | P28: 2.06
A29: 5 | B29: ТЕРм11-03-011-03 прим. | C29: Монтаж тепловычислителя СПТ961 | D29: компл. | E29: 1 | F29: 292.87 | G29: 171.83 | H29: 97.81 | I29: 15.67 | K29: 293 | L29: 172 | M29: 98 | N29: 16 | O29: 12.3 | P29: 12.3
A30: 6 | B30: ТЕРм10-02-016-06 | C30: Монтаж: отдельно устанавливаемый преобразователь или блок питания | D30: шт. | E30: 1 | F30: 270.07 | G30: 157.66 | H30: 33.82 | I30: 6.87 | K30: 270 | L30: 158 | M30: 34 | N30: 7 | O30: 10.1 | P30: 10.1
A31: 7 | B31: ТЕРм08-03-526-01 | C31: Монтаж: выключатели установочные автоматические однополюсный, устанавливаемый на конструкции на стене или колонне, на ток, А, до: 25 | D31: шт. | E31: 1 | F31: 184.7 | G31: 20.92 | H31: 1.66 | I31: 0.07 | K31: 185 | L31: 21 | M31: 2 | O31: 1.56 | P31: 1.56
A32: 8 | B32: ТЕРм08-03-591-08 | C32: Розетка штепсельная: неутопленного типа при открытой проводке | D32: 100 шт. | E32: 0.04 | F32: 1553.96 | G32: 603.5 | H32: 21.69 | I32: 1.48 | K32: 62 | L32: 24 | M32: 1 | O32: 43.2 | P32: 1.73
A33: 9 | B33: ТЕРм08-02-147-10 | C33: Кабели до 35 кв по установленным конструкциям и лоткам с креплением по всей длине, масса 1 м, кг, до: 1 | D33: 100 м кабеля | E33: 1.1 | F33: 1324.99 | G33: 238.66 | H33: 655.24 | I33: 79.87 | K33: 1457 | L33: 263 | M33: 721 | N33: 88 | O33: 17.6 | P33: 19.36
A34: Раздел 2. Оборудование и материалы, неучтенные в стоимости монтажных работ
A35: 10 | B35: Цена поставщика | C35: Расходомер ультразвуковой US -800 диам.40 мм (Цена:25830руб:1,18:4,19) КОЭФ. К ПОЗИЦИИ: Транспортные расходы на оборудование ПЗ=1,03; Загот.складские расходы на оборудование ПЗ=1,012 | D35: шт | E35: 1 | J35: 5446 | K35: 5446
A36: 11 | B36: Цена поставщика | C36: Расходомер ультразвуковой US -800 диам.65 мм (Цена:32061руб:1,18:4,19) КОЭФ. К ПОЗИЦИИ: Транспортные расходы на оборудование ПЗ=1,03; Загот.складские расходы на оборудование ПЗ=1,012 | D36: шт | E36: 1 | J36: 6759 | K36: 6759
A37: 12 | B37: Цена поставщика | C37: Термопреобразователь сопротивления ТС 1088 (Цена:450руб:1,18:4,38) КОЭФ. К ПОЗИЦИИ: Загот.складские расходы на материалы МАТ=1,02 | D37: шт | E37: 3 | F37: 88.81 | K37: 266
A38: 13 | B38: Цена поставщика | C38: Преобразователь давления АИР-10L (Цена:4800руб:1,18:4,38) КОЭФ. К ПОЗИЦИИ: Загот.складские расходы на материалы МАТ=1,02 | D38: шт | E38: 2 | F38: 947.29 | K38: 1895
A39: 14 | B39: Цена поставщика | C39: Арматура термопреобразователя монтажная (гильза, бобышка), L=200, 250 (Цена:600руб:1,18:4,38) КОЭФ. К ПОЗИЦИИ: Загот.складские расходы на материалы МАТ=1,02 | D39: шт | E39: 6 | F39: 118.41 | K39: 710
A40: 15 | B40: ТСЦ5-500-9014-4 прим. | C40: Шкаф учета | D40: шт | E40: 1 | J40: 5088 | K40: 5088
A41: 16 | B41: ТСЦ5-502-0049 | C41: Кабели силовые переносные с гибкими медными жилами в резиновой оболочке марки КГ, с числом жил - 3 и сечением 1 мм2 | D41: 1000м | E41: 0.04 | F41: 5800 | K41: 232
A42: 17 | B42: Цена поставщика | C42: Кабели КУПРэ 4х0,75мм2 (Цена:25200руб:1,18:4,38) КОЭФ. К ПОЗИЦИИ: Загот.складские расходы на материалы МАТ=1,02 | D42: 1000м | E42: 0.07 | F42: 4973.3 | K42: 348
A43: Итого прямые затраты по смете в ценах 2001г. | K43: 23224 | L43: 790 | M43: 878 | N43: 116 | P43: 57.41
...

Sheet 23829
A1: СОГЛАСОВАНО: | D1: ФГУП "Комбинат "Электрохимприбор" | M1: УТВЕРЖДАЮ:
G2: (наименование стройки) | M2: Зам. генерального директора
M3: Е.В.Гордеев
A4: _____________________________ | G4: ЛОКАЛЬНЫЙ СМЕТНЫЙ РАСЧЕТ № 23829 | M4: _____________________________
A5: "______ " ________________2012 г. | G5: (локальная смета) | M5: "______ " _____________2012 г.
C7: на | D7: Учёт тепла. Площадка 17 Здание 429 Столовая 11
H8: (наименование работ и затрат, наименование объекта)
D10: Основание: № 23850-10-ОВ
D11: Сметная стоимость строительных работ _______________________________________________________________________________________________ | J11: =J74/1000 -> 73.527 | L11: тыс.руб.
D12: Средства на оплату труда _______________________________________________________________________________________________ | J12: =3.018*4.38 -> 13.21884 | L12: тыс.руб.
D13: Сметная трудоемкость _______________________________________________________________________________________________ | J13: _______________________________________________________________________________________________61,38 | L13: чел.час
D14: Составлен(а) в ценах 2001 года с переводом в текущие с К=4,38
A16: № пп | B16: Обоснование | C16: Наименование | D16: Ед. изм. | E16: Кол. | F16: Стоимость единицы, руб. | J16: Общая стоимость, руб. | N16: Т/з осн. раб.на ед. | O16: Т/з осн. раб. Всего | P16: Т/з мех. на ед. | Q16: Т/з мех. Всего
F17: Всего | G17: В том числе | J17: Всего | K17: В том числе
G18: Осн.З/п | H18: Эк.Маш | I18: З/пМех | K18: Осн.З/п | L18: Эк.Маш | M18: З/пМех
A19: 1 | B19: 2 | C19: 3 | D19: 4 | E19: 5 | F19: 6 | G19: 7 | H19: 8 | I19: 9 | J19: 10 | K19: 11 | L19: 12 | M19: 13 | N19: 14 | O19: 15 | P19: 16 | Q19: 17
A20: Разборка конструкций.
A21: 1 | B21: ТЕРр65-14-04 | C21: Разборка трубопроводов из водогазопроводных труб в зданиях и сооружениях: на сварке диаметром до 100 мм | D21: 100 м трубопроводов | E21: 0.07 | F21: 863.11 | G21: 784.25 | H21: 16.86 | J21: 60 | K21: 55 | L21: 1 | N21: 65.3 | O21: 4.57
A22: 2 | B22: ТЕРр65-14-03 | C22: Разборка трубопроводов из водогазопроводных труб в зданиях и сооружениях: на сварке диаметром до 50 мм | D22: 100 м трубопроводов | E22: 0.05 | F22: 556.12 | G22: 523.64 | H22: 6.76 | J22: 28 | K22: 26 | N22: 43.6 | O22: 2.18
A23: 3 | B23: ТЕР16-05-001-02 | C23: Разборка вентилей на трубопроводах из стальных труб диаметром: до 50 мм КОЭФ. К ПОЗИЦИИ: Новый коэффициент ОЗП=0,4; ЭМ=0,4; ЗПМ=0,4; МАТ=0; ТЗ=0,4; ТЗМ=0,4 | D23: 1 шт | E23: 2 | F23: 9.36 | G23: 7.52 | H23: 1.85 | I23: 0.12 | J23: 19 | K23: 15 | L23: 4 | N23: 0.588 | O23: 1.18 | P23: 0.008 | Q23: 0.02
A24: 4 | B24: ТЕР16-05-001-02 | C24: Установка вентилей, задвижек, затворов, клапанов обратных, кранов проходных на трубопроводах из стальных труб диаметром: до 50 мм | D24: 1 шт | E24: 2 | F24: 49.82 | G24: 18.79 | H24: 4.62 | I24: 0.31 | J24: 100 | K24: 38 | L24: 9 | M24: 1 | N24: 1.47 | O24: 2.94 | P24: 0.02 | Q24: 0.04
A25: 5 | B25: ТЕР16-05-001-03 | C25: Разборка вентилей на трубопроводах из стальных труб диаметром: до 100 мм КОЭФ. К ПОЗИЦИИ: Новый коэффициент ОЗП=0,4; ЭМ=0,4; ЗПМ=0,4; МАТ=0; ТЗ=0,4; ТЗМ=0,4 | D25: 1 шт | E25: 1 | F25: 18.61 | G25: 14.88 | H25: 3.74 | I25: 0.27 | J25: 19 | K25: 15 | L25: 4 | N25: 1.164 | O25: 1.16 | P25: 0.016 | Q25: 0.02
A26: 6 | B26: ТЕР16-05-001-03 | C26: Установка вентилей, задвижек, затворов, клапанов обратных, кранов проходных на трубопроводах из стальных труб диаметром: до 100 мм | D26: 1 шт | E26: 1 | F26: 97.54 | G26: 37.19 | H26: 9.34 | I26: 0.68 | J26: 98 | K26: 37 | L26: 9 | M26: 1 | N26: 2.91 | O26: 2.91 | P26: 0.04 | Q26: 0.04
A27: 7 | B27: ТЕРр65-13-02 | C27: Разборка грязевиков | D27: 100 шт. | E27: 0.01 | F27: 1909.59 | G27: 1909.59 | J27: 19 | K27: 19 | N27: 159 | O27: 1.59
A28: Узел учета тепла
A29: 8 | B29: ТЕР16-02-004-04 | C29: Прокладка трубопроводов отопления и газоснабжения из стальных бесшовных труб диаметром: 100 мм | D29: 100 м трубопровода | E29: 0.055 | F29: 13528.89 | G29: 1097.36 | H29: 197.22 | I29: 28.58 | J29: 744 | K29: 60 | L29: 11 | M29: 2 | N29: 79.75 | O29: 4.39 | P29: 1.77 | Q29: 0.1
A30: 9 | B30: ТЕР16-02-003-06 | C30: Прокладка трубопроводов газоснабжения из стальных водогазопроводных неоцинкованных труб диаметром: 50 мм | D30: 100 м трубопровода | E30: 0.03 | F30: 6386.15 | G30: 531.01 | H30: 104.1 | I30: 17.04 | J30: 192 | K30: 16 | L30: 3 | M30: 1 | N30: 39.16 | O30: 1.17 | P30: 1.06 | Q30: 0.03
A31: 10 | B31: ТЕР16-02-003-05 | C31: Прокладка трубопроводов газоснабжения из стальных водогазопроводных неоцинкованных труб диаметром: 40 мм | D31: 100 м трубопровода | E31: 0.03 | F31: 5375.03 | G31: 419.14 | H31: 57.78 | I31: 9.6 | J31: 161 | K31: 13 | L31: 2 | N31: 30.91 | O31: 0.93 | P31: 0.59 | Q31: 0.02
A32: 11 | B32: ТЕР16-02-003-01 | C32: Прокладка трубопроводов газоснабжения из стальных водогазопроводных неоцинкованных труб диаметром: 15 мм | D32: 100 м трубопровода | E32: 0.03 | F32: 3870.62 | G32: 419.14 | H32: 57.78 | I32: 9.6 | J32: 116 | K32: 13 | L32: 2 | N32: 30.91 | O32: 0.93 | P32: 0.59 | Q32: 0.02
A33: 12 | B33: ТСЦ-300-1224 | C33: Крепления для трубопроводов: кронштейны, планки, хомуты | D33: кг | E33: 6.7 | F33: 17.02 | J33: 114
A34: 13 | B34: ТСЦ-300-1341 | C34: Вентили проходные муфтовые 15кч18п для воды, давлением 1.6 МПа (16 кгс/см2), диаметром 15 мм | D34: шт. | E34: 3 | F34: 26.18 | J34: 79
A35: 14 | B35: ТСЦ-300-1252 | C35: Краны проходные натяжные муфтовые латунные 11Б1БК для жидких сред, давлением 0.6 МПа (6 кгс/см2), диаметром 25 мм | D35: шт. | E35: 1 | F35: 37 | J35: 37
A36: 15 | B36: ТЕР16-05-001-03 | C36: Установка вентилей, задвижек, затворов, клапанов обратных, кранов проходных на трубопроводах из стальных труб диаметром: до 100 мм | D36: 1 шт | E36: 3 | F36: 97.54 | G36: 37.19 | H36: 9.34 | I36: 0.68 | J36: 293 | K36: 112 | L36: 28 | M36: 2 | N36: 2.91 | O36: 8.73 | P36: 0.04 | Q36: 0.12
A37: 16 | B37: ТСЦ-300-1117 | C37: Вентили проходные фланцевые 15Ч14БР для воды и пара, давлением 1.6 МПа 16 кгс/см2, диаметром 100 мм | D37: шт. | E37: 2 | F37: 689.45 | J37: 1379
A38: 17 | B38: ТСЦ-300-1264 | C38: Вентили проходные фланцевые 15С22НЖ для воды и пара, давлением 4 МПа (40 кгс/см2), диаметром 100 мм | D38: шт. | E38: 1 | F38: 1310 | J38: 1310
A39: 18 | B39: ТЕР16-05-001-02 | C39: Установка вентилей, задвижек, затворов, клапанов обратных, кранов проходных на трубопроводах из стальных труб диаметром: до 50 мм | D39: 1 шт | E39: 1 | F39: 49.82 | G39: 18.79 | H39: 4.62 | I39: 0.31 | J39: 50 | K39: 19 | L39: 5 | N39: 1.47 | O39: 1.47 | P39: 0.02 | Q39: 0.02
A40: 19 | B40: ТСЦ-300-1269 | C40: Вентили проходные фланцевые 15КЧ19П для воды и пара, давлением 1,6 МПа (16 кгс/см2), диаметром 50 мм | D40: шт. | E40: 1 | F40: 156.8 | J40: 157
A41: 20 | B41: ТСЦ-300-0986 | C41: Фланцы стальные плоские приварные из стали ВСт3сп2, ВСт3сп3; давлением 1.6 МПа (16 кгс/см2), диаметром 100 мм | D41: шт. | E41: 8 | F41: 83.3 | J41: 666
A42: 21 | B42: ТСЦ-300-0983 | C42: Фланцы стальные плоские приварные из стали ВСт3сп2, ВСт3сп3; давлением 1.6 МПа (16 кгс/см2), диаметром 50 мм | D42: шт. | E42: 2 | F42: 47.6 | J42: 95
A43: 22 | B43: ТЕР18-06-002-04 | C43: Установка грязевиков наружным диаметром патрубков: до 108 мм | D43: 1 шт. | E43: 2 | F43: 1393.98 | G43: 51.09 | H43: 16.11 | I43: 0.68 | J43: 2788 | K43: 102 | L43: 32 | M43: 1 | N43: 3.9 | O43: 7.8 | P43: 0.04 | Q43: 0.08
...

Sheet НМЦ
A1: г. Лесной ФГУП "Комбинат "Электрохимприбор"
A3: Расчет начальной (максимальной) цены
A5: Выполнение строительно-монтажных работ по установке узлов учета энергоресурсов
A8: Составлен в ценах по состоянию на 01.01.2000 г. с переводом в текущие | D8: руб.
A9: Наименование глав ССР, объектных сметных расчетов, локальных сметных расчетов, видов работ | B9: Сметная стоимость в базисных ценах на 01.01.2000 | C9: Текущая стоимость на момент определения начальной (максимальной) цены | D9: № обосновывающего расчета
A10: 1 | B10: 2 | C10: 3 | D10: 4
A11: Водопровод и канализацию. Площадка 8. Столовая 3. Узел учёта холодной воды. | B11: ='23776'!J42 -> 1421 | C11: ='23776'!J50 -> 6224 | D11: 23776
A12: Водопровод и канализацию. Здание 429. Столовая 11. Узел учёта холодной воды. | B12: ='23777'!J44 -> 5790 | C12: ='23777'!J52 -> 25360 | D12: 23777
A13: Электроснабжение шкафа учета. Площадка 8. Здание 53. Столовая №3 | B13: ='23780'!J40 -> 1893 | C13: ='23780'!J48 -> 8291 | D13: 23780
A14: Электроснабжение шкафа учета. Площадка 17. Здание 429. Столовая №11 | B14: ='23781'!J40 -> 2445 | C14: ='23781'!J48 -> 10709 | D14: 23781
A15: Электроснабжение. Узел учета. Столовая № 3 | B15: ='23783'!K70 -> 31446 | C15: =ROUND('23783'!P13*1000,0) -> 134697 | D15: 23783
A16: Электроснабжение. Узел учета. Столовая № 11 | B16: ='23784'!K69 -> 26337 | C16: =ROUND('23784'!P13*1000,0) -> 112071 | D16: 23784
A17: Учёт тепла. Площадка 17 Здание 429 Столовая 11 | B17: ='23829'!J66 -> 16787 | C17: ='23829'!J74 -> 73527 | D17: 23829
A18: Итого | B18: =SUM(B11:B17) -> 86119 | C18: =SUM(C11:C17) -> 370879
A20: НДС 18% | C20: =ROUND(C18*18%,2) -> 66758.22
A22: Всего | C22: =C18+C20 -> 437637.22
A25: Начальник отдела капитального строительства | D25: Л.В. Грибанова
A28: Инженер по проектно-сметной работе | D28: Т.Ш. Ковязина

Sheet Сводка затрат
A1: Приложение №__ к договору от "__"_______2012 №____
A3: СВОДКА ЗАТРАТ
A5: Выполнение строительно-монтажных работ по установке узлов учета энергоресурсов
I7: руб.
A8: № п/п | B8: № локальных сметных расчетов | C8: Наименование | D8: Стоимость в базисных ценах 2001 года | E8: в том числе: | G8: Стоимость в текущих ценах 2012 года | H8: в том числе:
E9: СМР | F9: Оборудование | H9: СМР | I9: Оборудование
A10: 1 | B10: 23776 | C10: Водопровод и канализацию. Площадка 8. Столовая 3. Узел учёта холодной воды. | D10: =SUM(E10:F10) -> 1421 | E10: ='23776'!J32+'23776'!J39+'23776'!J40 -> 1421 | F10: 0 | G10: =SUM(H10:I10) -> 6224 | H10: =ROUND(E10*4.38,0) -> 6224 | I10: =ROUND(F10*4.19,0) -> 0
A11: 2 | B11: 23777 | C11: Водопровод и канализацию. Здание 429. Столовая 11. Узел учёта холодной воды. | D11: =SUM(E11:F11) -> 5790 | E11: ='23777'!J32+'23777'!J39+'23777'!J40 -> 5790 | F11: 0 | G11: =SUM(H11:I11) -> 25360 | H11: =ROUND(E11*4.38,0) -> 25360 | I11: =ROUND(F11*4.19,0) -> 0
A12: 3 | B12: 23780 | C12: Электроснабжение шкафа учета. Площадка 8. Здание 53. Столовая №3 | D12: =SUM(E12:F12) -> 1893 | E12: ='23780'!J29+'23780'!J35+'23780'!J36 -> 1893 | F12: 0 | G12: =SUM(H12:I12) -> 8291 | H12: =ROUND(E12*4.38,0) -> 8291 | I12: =ROUND(F12*4.19,0) -> 0
A13: 4 | B13: 23781 | C13: Электроснабжение шкафа учета. Площадка 17. Здание 429. Столовая №11 | D13: =SUM(E13:F13) -> 2445 | E13: ='23781'!J29+'23781'!J35+'23781'!J36 -> 2445 | F13: 0 | G13: =SUM(H13:I13) -> 10709 | H13: =ROUND(E13*4.38,0) -> 10709 | I13: =ROUND(F13*4.19,0) -> 0
A14: 5 | B14: 23783 | C14: Электроснабжение. Узел учета. Столовая № 3 | D14: =SUM(E14:F14) -> 31446 | E14: ='23783'!K60 -> 15467 | F14: ='23783'!K61 -> 15979 | G14: =SUM(H14:I14) -> 134697 | H14: =ROUND(E14*4.38,0) -> 67745 | I14: =ROUND(F14*4.19,0) -> 66952
A15: 6 | B15: 23784 | C15: Электроснабжение. Узел учета. Столовая № 11 | D15: =SUM(E15:F15) -> 26337 | E15: ='23784'!K59 -> 9044 | F15: ='23784'!K60 -> 17293 | G15: =SUM(H15:I15) -> 112071 | H15: =ROUND(E15*4.38,0) -> 39613 | I15: =ROUND(F15*4.19,0) -> 72458
A16: 7 | B16: 23829 | C16: Учёт тепла. Площадка 17 Здание 429 Столовая 11 | D16: =SUM(E16:F16) -> 16787 | E16: ='23829'!J56+'23829'!J63+'23829'!J64 -> 16787 | F16: 0 | G16: =SUM(H16:I16) -> 73527 | H16: =ROUND(E16*4.38,0) -> 73527 | I16: =ROUND(F16*4.19,0) -> 0
C17: Итого: | D17: =SUM(D10:D16) -> 86119 | E17: =SUM(E10:E16) -> 52847 | F17: =SUM(F10:F16) -> 33272 | G17: =SUM(G10:G16) -> 370879 | H17: =SUM(H10:H16) -> 231469 | I17: =SUM(I10:I16) -> 139410
C18: НДС 18%: | G18: =ROUND(G17*18%,2) -> 66758.22 | H18: =ROUND(H17*18%,2) -> 41664.42 | I18: =ROUND(I17*18%,2) -> 25093.8
C19: Итого в текущих ценах с учетом НДС: | G19: =SUM(G17:G18) -> 437637.22 | H19: =SUM(H17:H18) -> 273133.42 | I19: =SUM(I17:I18) -> 164503.8
