Workbook
Name Constr: '16370-АО'!$A$7
Name Constr: '16370-АР'!$A$7
Name Constr: '16370-АТХ'!$A$7
Name Constr: '16370-КМ'!$A$7
Name Constr: '16370-ТХ'!$A$7
Name Constr: '16370-ЭМ'!$A$7
Name FOT: '16370-АО'!$D$19
Name FOT: '16370-АР'!$D$17
Name FOT: '16370-АТХ'!$D$19
Name FOT: '16370-КМ'!$D$17
Name FOT: '16370-ТХ'!$D$19
Name FOT: '16370-ЭМ'!$D$19
Name Ind: '16370-АО'!$H$9
Name Ind: '16370-АР'!$H$9
Name Ind: '16370-АТХ'!$H$9
Name Ind: '16370-КМ'!$H$9
Name Ind: '16370-ТХ'!$H$9
Name Ind: '16370-ЭМ'!$H$9
Name Obj: '16370-АО'!$E$12
Name Obj: '16370-АР'!$E$12
Name Obj: '16370-АТХ'!$E$12
Name Obj: '16370-КМ'!$E$12
Name Obj: '16370-ТХ'!$E$12
Name Obj: '16370-ЭМ'!$E$12
Name Obosn: '16370-АО'!$D$15
Name Obosn: '16370-АР'!$D$15
Name Obosn: '16370-АТХ'!$D$15
Name Obosn: '16370-КМ'!$D$15
Name Obosn: '16370-ТХ'!$D$15
Name Obosn: '16370-ЭМ'!$D$15
Name SmPr: '16370-АО'!$D$16
Name SmPr: '16370-АР'!$D$16
Name SmPr: '16370-АТХ'!$D$16
Name SmPr: '16370-КМ'!$D$16
Name SmPr: '16370-ТХ'!$D$16
Name SmPr: '16370-ЭМ'!$D$16
Name аааааппппппрррппппппп: #REF!
Name аааааппппппрррппппппп: #REF!
Name аараооооооооооооо: #REF!
Name аараооооооооооооо: #REF!
Name автом: #REF!
Name автом: #REF!
Name алшрльоплварл: #REF!
Name алшрльоплварл: #REF!
Name аолвлддддддддддддддддввввввввв: #REF!
Name аолвлддддддддддддддддввввввввв: #REF!
Name апарв: #REF!
Name апарв: #REF!
Name апрлдджаоырыфрпопрлпрлпрлп: #REF!
Name апрлдджаоырыфрпопрлпрлпрлп: #REF!
Name арлггаджаш: #REF!
Name арлггаджаш: #REF!
Name ароррбллтблпроорапииас: #REF!
Name ароррбллтблпроорапииас: #REF!
Name арррррблллпдрлдддддддддд: #REF!
Name арррррблллпдрлдддддддддд: #REF!
Name варпаааааааааа: #REF!
Name варпаааааааааа: #REF!
Name ввпьььььлднд: #REF!
Name ввпьььььлднд: #REF!

Sheet 16370-АО
A1: СОГЛАСОВАНО: | M1: УТВЕРЖДАЮ:
A4: _________________ | M4: _________________
A5: " _____ " ________________ 2013 г. | M5: "____" ______________2013 г.
H6: ФГУП "Комбинат "Электрохимприбор", г. Лесной
H7: (наименование стройки)
H9: ЛОКАЛЬНЫЙ СМЕТНЫЙ РАСЧЕТ № 16370-АО.СМ1 (взамен 16370-АО.СМ)
H10: (локальная смета)
A12: Контроль атмосферы. Станция газификации (техперевооружение с монтажом установки длительного хранения УДХ10-02 и газификатора ГУ-0,3/0,3"
H13: (наименование работ и затрат, наименование объекта)
D15: Основание: 16370-АО
D16: Сметная стоимость _______________________________________________________________________________________________ | J16: ___________________________50650 | L16: руб.
D17: монтажных работ _______________________________________________________________________________________________ | J17: _______________________________________________________________________________________________6546 | L17: руб.
D18: оборудования _______________________________________________________________________________________________ | J18: _______________________________________________________________________________________________44104 | L18: руб.
D19: Средства на оплату труда _______________________________________________________________________________________________ | J19: ___________________________1565 | L19: руб.
D20: Сметная трудоемкость _______________________________________________________________________________________________ | J20: _______________________________________________________________________________________________101,19 | L20: чел.час
D21: Составлен(а) в базисных ценах 2001 г.( в редакции 2009)
A24: № пп | B24: Обосно- вание | C24: Наименование | D24: Ед. изм. | E24: Кол. | F24: Стоимость единицы, руб. | J24: Общая стоимость, руб. | N24: Т/з осн. раб.на ед. | O24: Т/з осн. раб. Всего | P24: Т/з мех. на ед. | Q24: Т/з мех. Всего
F25: Всего | G25: В том числе | J25: Всего | K25: В том числе
G26: Осн.З/п | H26: Эк.Маш | I26: З/пМех | K26: Осн.З/п | L26: Эк.Маш | M26: З/пМех
A27: 1 | B27: 2 | C27: 3 | D27: 4 | E27: 5 | F27: 6 | G27: 7 | H27: 8 | I27: 9 | J27: 10 | K27: 11 | L27: 12 | M27: 13 | N27: 14 | O27: 15 | P27: 16 | Q27: 17
A28: Раздел 1. Контроль атмосферы
A29: Приборы и средства автоматизации
A30: 1 | B30: ТЕРм11-02-001-02 Постан.Правит.Свердл.обл. от 10.11.10 №1616-ПП | C30: Монтаж. Датчик-газоанализатор НР (42 руб.): 80% от ФОТ (53 руб.) СП (32 руб.): 60% от ФОТ (53 руб.) | D30: 1 шт. | E30: 2 | F30: 23.43 | G30: 21.79 | J30: 47 | K30: 44 | N30: 1.56 | O30: 3.12
A31: 2 | B31: Оборудование по прайс-листам | C31: Датчик-газоанализатор термомгнитный ДАМ ИБЯЛ.407111.002-15 | D31: шт | E31: 2 | F31: 13316,76 66155/1,18/ИндексОБ | J31: 26634
A32: 3 | B32: Оборудование по прайс-листам | C32: Вентиль точной регулировки ВТР ИБЯл.306577.002 | D32: шт | E32: 1 | F32: 732,72 3640/1,18/ИндексОБ | J32: 733
A33: 4 | B33: Оборудование по прайс-листам | C33: Индикатор расхода ИР ИБЯЛ.418622.003-05 | D33: шт | E33: 1 | F33: 106,69 530/1,18/ИндексОБ | J33: 107
A34: 5 | B34: ТЕРм10-08-003-06 Постан.Правит.Свердл.обл. от 10.11.10 №1616-ПП | C34: Монтаж блока питания и сигнализации НР (81 руб.): 80% от ФОТ (101 руб.) СП (61 руб.): 60% от ФОТ (101 руб.) | D34: 1 шт. | E34: 1 | F34: 97.17 | G34: 84.04 | H34: 0.49 | J34: 97 | K34: 84 | N34: 5.76 | O34: 5.76
A35: 6 | B35: Оборудование по прайс-листам | C35: Блок питания и сигнализации БПС-21М-2Ц | D35: шт | E35: 1 | F35: 5585,97 27750/1,18/ИндексОБ | J35: 5586
A36: 7 | B36: Оборудование по прайс-листам | C36: Вилка трехполюсная ножевая, 220 В | D36: шт | E36: 2 | F36: 17,51 87/1,18/ИндексОБ | J36: 35
A37: Электроаппараты
A38: 8 | B38: ТЕРм10-08-003-04 Постан.Правит.Свердл.обл. от 10.11.10 №1616-ПП | C38: Монтаж сигнального блока постоянного свечения НР (94 руб.): 80% от ФОТ (118 руб.) СП (71 руб.): 60% от ФОТ (118 руб.) | D38: 1 шт. | E38: 2 | F38: 55.9 | G38: 48.78 | H38: 0.37 | J38: 112 | K38: 98 | L38: 1 | N38: 3.6 | O38: 7.2
A39: 9 | B39: Оборудование по прайс-листам | C39: Сигнальный блок постоянного свечения со светодиодом 230В с линзой красного цвета XVB-C2M4 | D39: шт | E39: 2 | F39: 708,52 2982,86/ИндексОБ | J39: 1417
A40: 10 | B40: ТЕРм10-08-003-01 Постан.Правит.Свердл.обл. от 10.11.10 №1616-ПП | C40: Монтаж звуковых сигнальных устройств НР (210 руб.): 80% от ФОТ (262 руб.) СП (157 руб.): 60% от ФОТ (262 руб.) | D40: 1 шт. | E40: 2 | F40: 118.78 | G40: 108.98 | H40: 0.37 | J40: 238 | K40: 218 | L40: 1 | N40: 7.92 | O40: 15.84
A41: 11 | B41: Оборудование по прайс-листам | C41: Звуковое сигнальное устройство непрерывное 220В XVB-C9M | D41: шт | E41: 2 | F41: 913,84 3847,25/ИндексОБ | J41: 1828
A42: 12 | B42: Оборудование по прайс-листам | C42: Базовое устройство с крышкой XVB-C21 | D42: шт | E42: 2 | F42: 301,18 1267,95/ИндексОБ | J42: 602
A43: 13 | B43: ТЕРм10-08-002-03 Постан.Правит.Свердл.обл. от 10.11.10 №1616-ПП | C43: Монтаж оповещателя светового НР (27 руб.): 80% от ФОТ (34 руб.) СП (20 руб.): 60% от ФОТ (34 руб.) | D43: 1 шт. | E43: 1 | F43: 34.49 | G43: 27.97 | H43: 0.54 | J43: 34 | K43: 28 | L43: 1 | N43: 1.68 | O43: 1.68
A44: 14 | B44: Оборудование по прайс-листам | C44: Оповещатель охранно-пожарный световой "Люкс" НБО-3х1 220В | D44: шт | E44: 1 | F44: 67,08 333,25/1,18/ИндексОБ | J44: 67
A45: 15 | B45: ТЕРм10-08-003-06 Постан.Правит.Свердл.обл. от 10.11.10 №1616-ПП | C45: Монтаж источника бесперебойного питания НР (81 руб.): 80% от ФОТ (101 руб.) СП (61 руб.): 60% от ФОТ (101 руб.) | D45: 1 шт. | E45: 1 | F45: 97.17 | G45: 84.04 | H45: 0.49 | J45: 97 | K45: 84 | N45: 5.76 | O45: 5.76
A46: 16 | B46: Оборудование по прайс-листам | C46: Источник бесперебойного питания Eaton 5115 500VA | D46: шт | E46: 1 | F46: 1129,27 5610/1,18/ИндексОБ | J46: 1129
A47: Кабели и провода
...

Sheet 16370-АР
A1: СОГЛАСОВАНО: | M1: УТВЕРЖДАЮ:
A4: _________________ | M4: _________________
A5: " _____ " ________________ 2013 г. | M5: "____" ______________2013 г.
H6: ФГУП "Комбинат "Электрохимприбор", г. Лесной
H7: (наименование стройки)
H9: ЛОКАЛЬНЫЙ СМЕТНЫЙ РАСЧЕТ № 16370-АР.СМ2 (взамен 16370-АР.СМ1)
H10: (локальная смета)
A12: Архитектурные решения. Станция газификации (техперевооружение с монтажом установки длительного хранения УДХ10-02 и газификатора ГУ-0,3/0,3"
H13: (наименование работ и затрат, наименование объекта)
D15: Основание: 16370-АР
D16: Сметная стоимость строительных работ _______________________________________________________________________________________________ | J16: ___________________________38348 | L16: руб.
D17: Средства на оплату труда _______________________________________________________________________________________________ | J17: ___________________________8250 | L17: руб.
D18: Сметная трудоемкость _______________________________________________________________________________________________ | J18: _______________________________________________________________________________________________595,76 | L18: чел.час
D19: Составлен(а) в базисных ценах 2001 г.( в редакции 2009)
A22: № пп | B22: Обосно- вание | C22: Наименование | D22: Ед. изм. | E22: Кол. | F22: Стоимость единицы, руб. | J22: Общая стоимость, руб. | N22: Т/з осн. раб.на ед. | O22: Т/з осн. раб. Всего | P22: Т/з мех. на ед. | Q22: Т/з мех. Всего
F23: Всего | G23: В том числе | J23: Всего | K23: В том числе
G24: Осн.З/п | H24: Эк.Маш | I24: З/пМех | K24: Осн.З/п | L24: Эк.Маш | M24: З/пМех
A25: 1 | B25: 2 | C25: 3 | D25: 4 | E25: 5 | F25: 6 | G25: 7 | H25: 8 | I25: 9 | J25: 10 | K25: 11 | L25: 12 | M25: 13 | N25: 14 | O25: 15 | P25: 16 | Q25: 17
A26: Раздел 1. Ремонтные работы
A27: Помещение газификатора
A28: 1 | B28: ТЕР15-02-016-01 Постан.Правит.Свердл.обл. от 10.11.10 №1616-ПП | C28: Штукатурка поверхностей внутри здания цементно-известковым или цементным раствором по камню и бетону простая стен НР (2463 руб.): 105% от ФОТ (2346 руб.) СП (1290 руб.): 55% от ФОТ (2346 руб.) | D28: 100 м2 оштукатуриваемой поверхности | E28: 1,8828 188,28 / 100 | F28: 2218.68 | G28: 963.61 | H28: 173.44 | I28: 75.15 | J28: 4177 | K28: 1814 | L28: 327 | M28: 141 | N28: 75.4 | O28: 141.96 | P28: 6.07 | Q28: 11.43
A29: 2 | B29: ТЕР15-04-005-01 Постан.Правит.Свердл.обл. от 10.11.10 №1616-ПП | C29: Окраска поливинилацетатными водоэмульсионными составами простая по штукатурке и сборным конструкциям стен, подготовленным под окраску НР (455 руб.): 105% от ФОТ (433 руб.) СП (238 руб.): 55% от ФОТ (433 руб.) | D29: 100 м2 окрашиваемой поверхности | E29: 1,8828 188,28 / 100 | F29: 1320.88 | G29: 191.72 | H29: 9.14 | I29: 0.16 | J29: 2487 | K29: 361 | L29: 17 | N29: 15.18 | O29: 28.58 | P29: 0.01 | Q29: 0.02
A30: 3 | B30: ТЕР15-02-001-01 Постан.Правит.Свердл.обл. от 10.11.10 №1616-ПП | C30: Улучшенная штукатурка фасадов цементно-известковым раствором по камню стен НР (775 руб.): 105% от ФОТ (738 руб.) СП (406 руб.): 55% от ФОТ (738 руб.) | D30: 100 м2 оштукатуриваемой поверхности | E30: 0,6183 61,83 / 100 | F30: 2288.85 | G30: 960.42 | H30: 84.88 | I30: 33.39 | J30: 1415 | K30: 594 | L30: 52 | M30: 21 | N30: 70.88 | O30: 43.83 | P30: 2.78 | Q30: 1.72
A31: 4 | B31: ТЕР15-04-013-01 Постан.Правит.Свердл.обл. от 10.11.10 №1616-ПП | C31: Окраска фасадов с лесов по подготовленной поверхности известковая НР (43 руб.): 105% от ФОТ (41 руб.) СП (23 руб.): 55% от ФОТ (41 руб.) | D31: 100 м2 фасада | E31: 0,6183 61,83 / 100 | F31: 93.38 | G31: 54.58 | H31: 2.45 | J31: 58 | K31: 34 | L31: 2 | N31: 4.43 | O31: 2.74
A32: 5 | B32: ТЕРр61-4-11 Постан.Правит.Свердл.обл. от 10.11.10 №1616-ПП | C32: Ремонт штукатурки потолков по камню и бетону цементно-известковым раствором, площадью отдельных мест более 10 м2 толщиной слоя до 20 мм НР (456 руб.): 79% от ФОТ (577 руб.) СП (289 руб.): 50% от ФОТ (577 руб.) | D32: 100 м2 отремонтированной поверхности | E32: 0,2277 22,77 / 100 | F32: 4071.13 | G32: 2522.59 | H32: 29.02 | I32: 11.25 | J32: 927 | K32: 574 | L32: 7 | M32: 3 | N32: 199.73 | O32: 45.48 | P32: 0.72 | Q32: 0.16
A33: Помещение УДХ
A34: 6 | B34: ТЕР15-02-016-01 Постан.Правит.Свердл.обл. от 10.11.10 №1616-ПП | C34: Штукатурка поверхностей внутри здания цементно-известковым или цементным раствором по камню и бетону простая стен НР (413 руб.): 105% от ФОТ (393 руб.) СП (216 руб.): 55% от ФОТ (393 руб.) | D34: 100 м2 оштукатуриваемой поверхности | E34: 0,314 31,4 / 100 | F34: 2218.68 | G34: 963.61 | H34: 173.44 | I34: 75.15 | J34: 697 | K34: 303 | L34: 54 | M34: 24 | N34: 75.4 | O34: 23.68 | P34: 6.07 | Q34: 1.91
A35: 7 | B35: ТЕР15-04-005-01 Постан.Правит.Свердл.обл. от 10.11.10 №1616-ПП | C35: Окраска поливинилацетатными водоэмульсионными составами простая по штукатурке и сборным конструкциям стен, подготовленным под окраску НР (76 руб.): 105% от ФОТ (72 руб.) СП (40 руб.): 55% от ФОТ (72 руб.) | D35: 100 м2 окрашиваемой поверхности | E35: 0,314 31,4 / 100 | F35: 1320.88 | G35: 191.72 | H35: 9.14 | I35: 0.16 | J35: 415 | K35: 60 | L35: 3 | N35: 15.18 | O35: 4.77 | P35: 0.01
A36: 8 | B36: ТЕР13-06-003-01 Постан.Правит.Свердл.обл. от 10.11.10 №1616-ПП | C36: Очистка поверхности стального каркаса щетками НР (533 руб.): 90% от ФОТ (592 руб.) СП (414 руб.): 70% от ФОТ (592 руб.) | D36: 1 м2 очищаемой поверхности | E36: 43.78 | F36: 10.81 | G36: 10.81 | J36: 473 | K36: 473 | N36: 0.9 | O36: 39.4
A37: 9 | B37: ТЕР13-06-004-01 Постан.Правит.Свердл.обл. от 10.11.10 №1616-ПП | C37: Обеспыливание поверхности стального каркаса НР (59 руб.): 90% от ФОТ (66 руб.) СП (46 руб.): 70% от ФОТ (66 руб.) | D37: 1 м2 обеспыливаемой поверхности | E37: 43.78 | F37: 2.59 | G37: 1.2 | H37: 1.39 | J37: 113 | K37: 53 | L37: 60 | N37: 0.1 | O37: 4.38
A38: 10 | B38: ТЕР13-03-002-04 Постан.Правит.Свердл.обл. от 10.11.10 №1616-ПП | C38: Огрунтовка металлических поверхностей стального каркаса за один раз грунтовкой ГФ-021 НР (40 руб.): 90% от ФОТ (44 руб.) СП (31 руб.): 70% от ФОТ (44 руб.) | D38: 100 м2 окрашиваемой поверхности | E38: 0,4378 43,78 / 100 | F38: 417.46 | G38: 79.65 | H38: 10.15 | I38: 0.16 | J38: 183 | K38: 35 | L38: 4 | N38: 5.31 | O38: 2.32 | P38: 0.01
A39: 11 | B39: ТЕР13-03-004-26 Постан.Правит.Свердл.обл. от 10.11.10 №1616-ПП | C39: Окраска металлических огрунтованных поверхностей стального каркаса эмалью ПФ-115 за 2 раза (за 2 раза ПЗ=2 (ОЗП=2; ЭМ=2 к расх.; ЗПМ=2; МАТ=2 к расх.; ТЗ=2; ТЗМ=2)) НР (49 руб.): 90% от ФОТ (54 руб.) СП (38 руб.): 70% от ФОТ (54 руб.) | D39: 100 м2 окрашиваемой поверхности | E39: 0,4378 43,78 / 100 | F39: 1261.82 | G39: 97.9 | H39: 13.36 | I39: 0.32 | J39: 552 | K39: 43 | L39: 6 | N39: 7.66 | O39: 3.35 | P39: 0.02 | Q39: 0.01
A40: 12 | B40: ТЕРр61-25-1 Постан.Правит.Свердл.обл. от 10.11.10 №1616-ПП | C40: Очистка поверхности фасадов из профлиста пескоструйным аппаратом НР (224 руб.): 79% от ФОТ (284 руб.) СП (142 руб.): 50% от ФОТ (284 руб.) | D40: 100 м2 очищенной поверхности | E40: 0,804 80,4 / 100 | F40: 1206.01 | G40: 228.76 | H40: 963.08 | I40: 124.12 | J40: 970 | K40: 184 | L40: 774 | M40: 100 | N40: 18.33 | O40: 14.74 | P40: 9.16 | Q40: 7.36
A41: 13 | B41: ТЕР13-03-002-04 Постан.Правит.Свердл.обл. от 10.11.10 №1616-ПП | C41: Огрунтовка металлических поверхностей за один раз грунтовкой ГФ-021 НР (72 руб.): 90% от ФОТ (80 руб.) СП (56 руб.): 70% от ФОТ (80 руб.) | D41: 100 м2 окрашиваемой поверхности | E41: 0,804 80,4 / 100 | F41: 417.46 | G41: 79.65 | H41: 10.15 | I41: 0.16 | J41: 336 | K41: 64 | L41: 8 | N41: 5.31 | O41: 4.27 | P41: 0.01 | Q41: 0.01
A42: 14 | B42: ТЕР13-03-004-26 Постан.Правит.Свердл.обл. от 10.11.10 №1616-ПП | C42: Окраска металлических огрунтованных поверхностей эмалью ПФ-115 за 2 раза (за 2 раза ПЗ=2 (ОЗП=2; ЭМ=2 к расх.; ЗПМ=2; МАТ=2 к расх.; ТЗ=2; ТЗМ=2)) НР (88 руб.): 90% от ФОТ (98 руб.) СП (69 руб.): 70% от ФОТ (98 руб.) | D42: 100 м2 окрашиваемой поверхности | E42: 0,804 80,4 / 100 | F42: 1261.82 | G42: 97.9 | H42: 13.36 | I42: 0.32 | J42: 1015 | K42: 79 | L42: 11 | N42: 7.66 | O42: 6.16 | P42: 0.02 | Q42: 0.02
A43: 15 | B43: ТЕРр61-25-1 Постан.Правит.Свердл.обл. от 10.11.10 №1616-ПП | C43: Очистка поверхности кровельного покрытия из профлиста пескоструйным аппаратом НР (160 руб.): 79% от ФОТ (202 руб.) СП (101 руб.): 50% от ФОТ (202 руб.) | D43: 100 м2 очищенной поверхности | E43: 0,5731 57,31 / 100 | F43: 1206.01 | G43: 228.76 | H43: 963.08 | I43: 124.12 | J43: 691 | K43: 131 | L43: 552 | M43: 71 | N43: 18.33 | O43: 10.5 | P43: 9.16 | Q43: 5.25
A44: 16 | B44: ТЕР13-03-002-04 Постан.Правит.Свердл.обл. от 10.11.10 №1616-ПП | C44: Огрунтовка металлических поверхностей за один раз грунтовкой ГФ-021 НР (52 руб.): 90% от ФОТ (58 руб.) СП (41 руб.): 70% от ФОТ (58 руб.) | D44: 100 м2 окрашиваемой поверхности | E44: 0,5731 57,31 / 100 | F44: 417.46 | G44: 79.65 | H44: 10.15 | I44: 0.16 | J44: 239 | K44: 46 | L44: 6 | N44: 5.31 | O44: 3.04 | P44: 0.01 | Q44: 0.01
A45: 17 | B45: ТЕР13-03-004-26 Постан.Правит.Свердл.обл. от 10.11.10 №1616-ПП | C45: Окраска металлических огрунтованных поверхностей эмалью ПФ-115 за 2 раза (за 2 раза ПЗ=2 (ОЗП=2; ЭМ=2 к расх.; ЗПМ=2; МАТ=2 к расх.; ТЗ=2; ТЗМ=2)) НР (63 руб.): 90% от ФОТ (70 руб.) СП (49 руб.): 70% от ФОТ (70 руб.) | D45: 100 м2 окрашиваемой поверхности | E45: 0,5731 57,31 / 100 | F45: 1261.82 | G45: 97.9 | H45: 13.36 | I45: 0.32 | J45: 723 | K45: 56 | L45: 8 | N45: 7.66 | O45: 4.39 | P45: 0.02 | Q45: 0.01
A46: 18 | B46: ТЕР46-04-009-01 Постан.Правит.Свердл.обл. от 10.11.10 №1616-ПП | C46: Разборка бетонных стяжек НР (680 руб.): 110% от ФОТ (618 руб.) СП (433 руб.): 70% от ФОТ (618 руб.) | D46: 1 м3 | E46: 4,004 80,08*0,05 | F46: 495.3 | G46: 114.13 | H46: 381.17 | I46: 35.3 | J46: 1983 | K46: 457 | L46: 1526 | M46: 141 | N46: 8.93 | O46: 35.76 | P46: 2.26 | Q46: 9.05
A47: 19 | B47: ФССЦпг01-01-01-043 И1-Пр. Минрегион от 05.05.12 №189 | C47: Погрузочные работы при автомобильных перевозках: мусора строительного с погрузкой экскаваторами емкостью ковша до 0,5 м3 (ОП п.1.1.9 Прил.1Поясной коэффициент: Пермский край (кроме Красновишерского, Чердынского, Гайнского, Косинского, Кочевского районов), Республика Башкортостан, Республика Алтай, Вологодская, Кемеровская, Кировская, Курганская, Омская, Оренбургская, Новосибирская, Свердловская, Челябинская области ПЗ=1,1 (ОЗП=1,1; ЭМ=1,1; ЗПМ=1,1; МАТ=1,1)) НР 0% от ФОТ СП 0% от ФОТ | D47: 1 т груза | E47: 8,8088 4,004*2,2 | F47: 3.88 | H47: 3.88 | J47: 34 | L47: 34
...

Sheet 16370-АТХ
A1: СОГЛАСОВАНО: | M1: УТВЕРЖДАЮ:
A4: _________________ | M4: _________________
A5: " _____ " ________________ 2013 г. | M5: "____" ______________2013 г.
H6: ФГУП "Комбинат "Электрохимприбор", г. Лесной
H7: (наименование стройки)
H9: ЛОКАЛЬНЫЙ СМЕТНЫЙ РАСЧЕТ № 16370-АТХ.СМ1 (взамен 16370-АТХ.СМ)
H10: (локальная смета)
A12: Автоматизация технологического оборудования. Станция газификации (техперевооружение с монтажом установки длительного хранения УДХ10-02 и газификатора ГУ-0,3/0,3"
H13: (наименование работ и затрат, наименование объекта)
D15: Основание: 16370-АТХ
D16: Сметная стоимость _______________________________________________________________________________________________ | J16: ___________________________2044 | L16: руб.
D17: монтажных работ _______________________________________________________________________________________________ | J17: _______________________________________________________________________________________________2009 | L17: руб.
D18: оборудования _______________________________________________________________________________________________ | J18: _______________________________________________________________________________________________35 | L18: руб.
D19: Средства на оплату труда _______________________________________________________________________________________________ | J19: ___________________________287 | L19: руб.
D20: Сметная трудоемкость _______________________________________________________________________________________________ | J20: _______________________________________________________________________________________________16,59 | L20: чел.час
D21: Составлен(а) в базисных ценах 2001 г.( в редакции 2009)
A24: № пп | B24: Обосно- вание | C24: Наименование | D24: Ед. изм. | E24: Кол. | F24: Стоимость единицы, руб. | J24: Общая стоимость, руб. | N24: Т/з осн. раб.на ед. | O24: Т/з осн. раб. Всего | P24: Т/з мех. на ед. | Q24: Т/з мех. Всего
F25: Всего | G25: В том числе | J25: Всего | K25: В том числе
G26: Осн.З/п | H26: Эк.Маш | I26: З/пМех | K26: Осн.З/п | L26: Эк.Маш | M26: З/пМех
A27: 1 | B27: 2 | C27: 3 | D27: 4 | E27: 5 | F27: 6 | G27: 7 | H27: 8 | I27: 9 | J27: 10 | K27: 11 | L27: 12 | M27: 13 | N27: 14 | O27: 15 | P27: 16 | Q27: 17
A28: Раздел 1. Приборы и средства автоматизации
A29: 1 | B29: ТЕРм11-02-001-01 Постан.Правит.Свердл.обл. от 10.11.10 №1616-ПП | C29: Монтаж. Термометр технический НР (14 руб.): 80% от ФОТ (17 руб.) СП (10 руб.): 60% от ФОТ (17 руб.) | D29: 1 шт. | E29: 1 | F29: 15.88 | G29: 14.39 | J29: 16 | K29: 14 | N29: 1.03 | O29: 1.03
A30: 2 | B30: Оборудование по прайс-листам | C30: Термометр технический жидкостный ТТЖ исп. 1П-4(0...100 град.)-1-240/103 | D30: шт | E30: 1 | F30: 12,75 90/1,18/ИндексМ | J30: 13
A31: 3 | B31: Оборудование по прайс-листам | C31: Оправа защитная 2П 265/100 | D31: шт | E31: 1 | F31: 21,26 150/1,18/ИндексМ | J31: 21
A32: Итого прямые затраты по разделу в ценах 2001г. | J32: 50 | K32: 14 | O32: 1.03
A33: Итого прямые затраты по разделу с учетом коэффициентов к итогам | J33: 54 | K33: 17 | O33: 1.24
A34: Накладные расходы | J34: 14
A35: Сметная прибыль | J35: 10
A36: Итоги по разделу 1 Приборы и средства автоматизации :
A37: Итого Монтажные работы | J37: 43 | O37: 1.24
A38: Итого Оборудование | J38: 35
A39: Итого | J39: 78 | O39: 1.24
A40: В том числе:
A41: Материалы | J41: 2
A42: ФОТ | J42: 17
A43: Оборудование | J43: 35
A44: Накладные расходы | J44: 14
A45: Сметная прибыль | J45: 10
A46: Итого по разделу 1 Приборы и средства автоматизации | J46: 78 | O46: 1.24
A47: Раздел 2. Кабели и провода
...

Sheet 16370-КМ
A1: СОГЛАСОВАНО: | M1: УТВЕРЖДАЮ:
A4: _________________ | M4: _________________
A5: " _____ " ________________ 2013 г. | M5: "____" ______________2013 г.
H6: ФГУП "Комбинат "Электрохимприбор", г. Лесной
H7: (наименование стройки)
H9: ЛОКАЛЬНЫЙ СМЕТНЫЙ РАСЧЕТ № 16370-КМ.СМ1 (взамен 16370-КМ.СМ)
H10: (локальная смета)
A12: Конструкции металлические. Станция газификации (техперевооружение с монтажом установки длительного хранения УДХ10-02 и газификатора ГУ-0,3/0,3"
H13: (наименование работ и затрат, наименование объекта)
D15: Основание: 16370-КМ
D16: Сметная стоимость строительных работ _______________________________________________________________________________________________ | J16: ___________________________7417 | L16: руб.
D17: Средства на оплату труда _______________________________________________________________________________________________ | J17: ___________________________723 | L17: руб.
D18: Сметная трудоемкость _______________________________________________________________________________________________ | J18: _______________________________________________________________________________________________46,19 | L18: чел.час
D19: Составлен(а) в базисных ценах 2001 г.( в редакции 2009)
A22: № пп | B22: Обосно- вание | C22: Наименование | D22: Ед. изм. | E22: Кол. | F22: Стоимость единицы, руб. | J22: Общая стоимость, руб. | N22: Т/з осн. раб.на ед. | O22: Т/з осн. раб. Всего | P22: Т/з мех. на ед. | Q22: Т/з мех. Всего
F23: Всего | G23: В том числе | J23: Всего | K23: В том числе
G24: Осн.З/п | H24: Эк.Маш | I24: З/пМех | K24: Осн.З/п | L24: Эк.Маш | M24: З/пМех
A25: 1 | B25: 2 | C25: 3 | D25: 4 | E25: 5 | F25: 6 | G25: 7 | H25: 8 | I25: 9 | J25: 10 | K25: 11 | L25: 12 | M25: 13 | N25: 14 | O25: 15 | P25: 16 | Q25: 17
A26: Раздел 1. Монтаж металлических конструкций
A27: 1 | B27: ТЕР09-03-002-12 Постан.Правит.Свердл.обл. от 10.11.10 №1616-ПП | C27: Монтаж ригелей НР (39 руб.): 90% от ФОТ (43 руб.) СП (37 руб.): 85% от ФОТ (43 руб.) | D27: 1 т конструкций | E27: 0,11076 106,5*1,04/1000 | F27: 1348.89 | G27: 262.44 | H27: 933.9 | I27: 51.76 | J27: 149 | K27: 29 | L27: 103 | M27: 6 | N27: 18.25 | O27: 2.02 | P27: 2.57 | Q27: 0.28
A28: 2 | B28: ТСЦ-201-0621 Постан.Правит.Свердл.обл. от 10.11.10 №1616-ПП | C28: Ригели | D28: т | E28: 0,11076 106,5*1,04/1000 | F28: 8539.9 | J28: 946
A29: 3 | B29: ТЕР09-03-012-12 Постан.Правит.Свердл.обл. от 10.11.10 №1616-ПП | C29: Монтаж опорных стоек НР (21 руб.): 90% от ФОТ (23 руб.) СП (20 руб.): 85% от ФОТ (23 руб.) | D29: 1 т конструкций | E29: 0,139412 134,05*1,04/1000 | F29: 652.22 | G29: 83.23 | H29: 380.25 | I29: 39.65 | J29: 91 | K29: 12 | L29: 53 | M29: 6 | N29: 6.59 | O29: 0.92 | P29: 2.09 | Q29: 0.29
A30: 4 | B30: ТСЦ-201-0620 Постан.Правит.Свердл.обл. от 10.11.10 №1616-ПП | C30: Стойки | D30: т | E30: 0,139412 134,05*1,04/1000 | F30: 8737.6 | J30: 1218
A31: 5 | B31: ТЕР09-04-006-02 Постан.Правит.Свердл.обл. от 10.11.10 №1616-ПП | C31: Монтаж ограждающих конструкций стен из профилированного листа НР (290 руб.): 90% от ФОТ (322 руб.) СП (274 руб.): 85% от ФОТ (322 руб.) | D31: 100 м2 | E31: 0,1563 15,63 / 100 | F31: 4831.7 | G31: 1345.48 | H31: 3040.72 | I31: 313.73 | J31: 755 | K31: 210 | L31: 475 | M31: 49 | N31: 105.28 | O31: 16.46 | P31: 16.4 | Q31: 2.56
A32: 6 | B32: ТСЦ-101-3844 Постан.Правит.Свердл.обл. от 10.11.10 №1616-ПП | C32: Профилированный лист оцинкованный НС35-1000-0,8 | D32: т | E32: 0,12348 123,48/1000 | F32: 15041 | J32: 1857
A33: 7 | B33: ТЕР13-03-004-26 Постан.Правит.Свердл.обл. от 10.11.10 №1616-ПП | C33: Окраска металлических огрунтованных поверхностей эмалью ПФ-115 за 2 раза (за 2 раза ПЗ=2 (ОЗП=2; ЭМ=2 к расх.; ЗПМ=2; МАТ=2 к расх.; ТЗ=2; ТЗМ=2)) НР (10 руб.): 90% от ФОТ (11 руб.) СП (8 руб.): 70% от ФОТ (11 руб.) | D33: 100 м2 окрашиваемой поверхности | E33: 0,0961 9,61 / 100 | F33: 1261.82 | G33: 97.9 | H33: 13.36 | I33: 0.32 | J33: 121 | K33: 9 | L33: 1 | N33: 7.66 | O33: 0.74 | P33: 0.02
A34: Итого прямые затраты по разделу в ценах 2001г. | J34: 5137 | K34: 260 | L34: 632 | M34: 61 | O34: 20.14 | Q34: 3.13
A35: Итого прямые затраты по разделу с учетом коэффициентов к итогам | J35: 5328 | K35: 325 | L35: 758 | M35: 73 | O35: 25.2 | Q35: 3.76
A36: Накладные расходы | J36: 358
A37: Сметная прибыль | J37: 337
A38: Итоги по разделу 1 Монтаж металлических конструкций :
A39: Строительные металлические конструкции | J39: 5882 | O39: 24.28 | Q39: 3.76
A40: Защита строительных конструкций и оборудования от коррозии | J40: 141 | O40: 0.92
A41: Итого | J41: 6023 | O41: 25.2 | Q41: 3.76
A42: В том числе:
A43: Материалы | J43: 4245
A44: Машины и механизмы | J44: 758
A45: ФОТ | J45: 398
A46: Накладные расходы | J46: 358
A47: Сметная прибыль | J47: 337
...

Sheet 16370-ТХ
A1: СОГЛАСОВАНО: | M1: УТВЕРЖДАЮ:
A4: _________________ | M4: _________________
A5: " _____ " ________________ 2013 г. | M5: "____" ______________2013 г.
H6: ФГУП "Комбинат "Электрохимприбор", г. Лесной
H7: (наименование стройки)
H9: ЛОКАЛЬНЫЙ СМЕТНЫЙ РАСЧЕТ № 16370-ТХ.СМ2 (взамен 16370-ТХ.СМ1)
H10: (локальная смета)
A12: Технологические решения. Станция газификации (техперевооружение с монтажом установки длительного хранения УДХ10-02 и газификатора ГУ-0,3/0,3"
H13: (наименование работ и затрат, наименование объекта)
D15: Основание: 16370-ТХ
D16: Сметная стоимость _______________________________________________________________________________________________ | J16: ___________________________27230 | L16: руб.
D17: строительных работ _______________________________________________________________________________________________ | J17: _______________________________________________________________________________________________6058 | L17: руб.
D18: монтажных работ _______________________________________________________________________________________________ | J18: _______________________________________________________________________________________________21172 | L18: руб.
D19: Средства на оплату труда _______________________________________________________________________________________________ | J19: ___________________________6497 | L19: руб.
D20: Сметная трудоемкость _______________________________________________________________________________________________ | J20: _______________________________________________________________________________________________450,8 | L20: чел.час
D21: Составлен(а) в базисных ценах 2001 г.( в редакции 2009)
A24: № пп | B24: Обосно- вание | C24: Наименование | D24: Ед. изм. | E24: Кол. | F24: Стоимость единицы, руб. | J24: Общая стоимость, руб. | N24: Т/з осн. раб.на ед. | O24: Т/з осн. раб. Всего | P24: Т/з мех. на ед. | Q24: Т/з мех. Всего
F25: Всего | G25: В том числе | J25: Всего | K25: В том числе
G26: Осн.З/п | H26: Эк.Маш | I26: З/пМех | K26: Осн.З/п | L26: Эк.Маш | M26: З/пМех
A27: 1 | B27: 2 | C27: 3 | D27: 4 | E27: 5 | F27: 6 | G27: 7 | H27: 8 | I27: 9 | J27: 10 | K27: 11 | L27: 12 | M27: 13 | N27: 14 | O27: 15 | P27: 16 | Q27: 17
A28: Раздел 1. Монтажные работы
A29: 1 | B29: ТЕРм37-01-002-04 Постан.Правит.Свердл.обл. от 10.11.10 №1616-ПП | C29: Монтаж оборудования в помещении (газификатора), масса оборудования 0,47 т НР (357 руб.): 80% от ФОТ (446 руб.) СП (268 руб.): 60% от ФОТ (446 руб.) | D29: 1 шт. | E29: 1 | F29: 1139.13 | G29: 358.44 | H29: 145.13 | I29: 12.56 | J29: 1139 | K29: 358 | L29: 145 | M29: 13 | N29: 27.7 | O29: 27.7 | P29: 0.69 | Q29: 0.69
A30: 2 | B30: ТЕРм37-01-002-09 Постан.Правит.Свердл.обл. от 10.11.10 №1616-ПП | C30: Монтаж оборудования в помещении (установки длительного хранения для жидкой двуокиси углерода), масса оборудования 5,1 т НР (1878 руб.): 80% от ФОТ (2347 руб.) СП (1408 руб.): 60% от ФОТ (2347 руб.) | D30: 1 шт. | E30: 1 | F30: 4520.07 | G30: 1759.84 | H30: 1716.27 | I30: 195.83 | J30: 4520 | K30: 1760 | L30: 1716 | M30: 196 | N30: 136 | O30: 136 | P30: 10.76 | Q30: 10.76
A31: 3 | B31: ТЕРм12-12-001-04 Постан.Правит.Свердл.обл. от 10.11.10 №1616-ПП | C31: Арматура фланцевая с ручным приводом или без привода водопроводная на условное давление до 4 МПа, диаметр условного прохода 25 мм (кран шаровой Ду 25 мм) НР (39 руб.): 80% от ФОТ (49 руб.) СП (29 руб.): 60% от ФОТ (49 руб.) | D31: 1 шт. | E31: 1 | F31: 43.61 | G31: 40.65 | J31: 44 | K31: 41 | N31: 3 | O31: 3
A32: 4 | B32: ТЕРм12-01-004-01 Постан.Правит.Свердл.обл. от 10.11.10 №1616-ПП | C32: Трубопровод в помещениях или на открытых площадках в пределах цехов, монтируемый из труб и готовых деталей, на условное давление не более 2,5 МПа, диаметр труб наружный до 14 мм НР (74 руб.): 80% от ФОТ (92 руб.) СП (55 руб.): 60% от ФОТ (92 руб.) | D32: 100 м трубопровода | E32: 0,035 (2+1,5) / 100 | F32: 6485.28 | G32: 1788.6 | H32: 4579.22 | I32: 372.11 | J32: 227 | K32: 63 | L32: 160 | M32: 13 | N32: 132 | O32: 4.62 | P32: 20.8 | Q32: 0.73
A33: 5 | B33: ТСЦ-507-0386 Постан.Правит.Свердл.обл. от 10.11.10 №1616-ПП | C33: Трубы бесшовные холоднодеформированные наружным диаметром 12 мм, толщиной стенки 3,5 мм | D33: 10 м | E33: 0,2076 (2*1,038) / 10 | F33: 1410.8 | J33: 293
A34: 6 | B34: ТСЦ-507-0386 Постан.Правит.Свердл.обл. от 10.11.10 №1616-ПП | C34: Трубы бесшовные холоднодеформированные наружным диаметром 14 мм, толщиной стенки 3,5 мм | D34: 10 м | E34: 0,1557 (1,5*1,038) / 10 | F34: 1410.8 | J34: 220
A35: 7 | B35: ТЕРм12-01-004-03 Постан.Правит.Свердл.обл. от 10.11.10 №1616-ПП | C35: Трубопровод в помещениях или на открытых площадках в пределах цехов, монтируемый из труб и готовых деталей, на условное давление не более 2,5 МПа, диаметр труб наружный 21,3 мм НР (126 руб.): 80% от ФОТ (157 руб.) СП (94 руб.): 60% от ФОТ (157 руб.) | D35: 100 м трубопровода | E35: 0,0566 5,66 / 100 | F35: 6780.61 | G35: 1937.65 | H35: 4663.81 | I35: 372.11 | J35: 384 | K35: 110 | L35: 264 | M35: 21 | N35: 143 | O35: 8.09 | P35: 20.8 | Q35: 1.18
A36: 8 | B36: ТСЦ-103-0342 Постан.Правит.Свердл.обл. от 10.11.10 №1616-ПП | C36: Трубы стальные бесшовные, горячедеформированные со снятой фаской из стали марок 15, 20, 25, наружным диаметром 21,3 мм, толщина стенки 3,5 мм | D36: м | E36: 5,87508 5,66*1,038 | F36: 22.86 | J36: 134
A37: 9 | B37: ТЕРм12-01-004-04 Постан.Правит.Свердл.обл. от 10.11.10 №1616-ПП | C37: Трубопровод в помещениях или на открытых площадках в пределах цехов, монтируемый из труб и готовых деталей, на условное давление не более 2,5 МПа, диаметр труб наружный 32 мм НР (67 руб.): 80% от ФОТ (84 руб.) СП (50 руб.): 60% от ФОТ (84 руб.) | D37: 100 м трубопровода | E37: 0,0294 2,94 / 100 | F37: 6992.06 | G37: 2005.4 | H37: 4783.13 | I37: 381.99 | J37: 206 | K37: 59 | L37: 141 | M37: 11 | N37: 148 | O37: 4.35 | P37: 21.34 | Q37: 0.63
A38: 10 | B38: ТСЦ-103-0347 Постан.Правит.Свердл.обл. от 10.11.10 №1616-ПП | C38: Трубы стальные бесшовные, горячедеформированные со снятой фаской из стали марок 15, 20, 25, наружным диаметром 32 мм, толщина стенки 3,5 мм | D38: м | E38: 3,05172 2,94*1,038 | F38: 28.02 | J38: 86
A39: 11 | B39: ТЕРм12-01-004-05 Постан.Правит.Свердл.обл. от 10.11.10 №1616-ПП | C39: Трубопровод в помещениях или на открытых площадках в пределах цехов, монтируемый из труб и готовых деталей, на условное давление не более 2,5 МПа, диаметр труб наружный 38 мм НР (339 руб.): 80% от ФОТ (424 руб.) СП (254 руб.): 60% от ФОТ (424 руб.) | D39: 100 м трубопровода | E39: 0,129 12,9 / 100 | F39: 8053.5 | G39: 2289.95 | H39: 5526.25 | I39: 451.62 | J39: 1039 | K39: 295 | L39: 713 | M39: 58 | N39: 169 | O39: 21.8 | P39: 25.16 | Q39: 3.25
A40: 12 | B40: ТСЦ-103-0352 Постан.Правит.Свердл.обл. от 10.11.10 №1616-ПП | C40: Трубы стальные бесшовные, горячедеформированные со снятой фаской из стали марок 15, 20, 25, наружным диаметром 38 мм, толщина стенки 3,5 мм | D40: м | E40: 13,3902 12,9*1,038 | F40: 40.81 | J40: 546
A41: 17 | B41: ТЕР13-03-002-02 Постан.Правит.Свердл.обл. от 10.11.10 №1616-ПП | C41: Огрунтовка металлических поверхностей трубопроводов за 2 раза грунтовкой ФЛ-03К (за 2 раза ПЗ=2 (ОЗП=2; ЭМ=2 к расх.; ЗПМ=2; МАТ=2 к расх.; ТЗ=2; ТЗМ=2)) НР (5 руб.): 90% от ФОТ (5 руб.) СП (4 руб.): 70% от ФОТ (5 руб.) | D41: 100 м2 окрашиваемой поверхности | E41: 0,0235 2,35 / 100 | F41: 981.4 | G41: 159.3 | H41: 20.3 | I41: 0.32 | J41: 23 | K41: 4 | N41: 10.62 | O41: 0.25 | P41: 0.02
A42: 18 | B42: ТЕР13-03-004-06 Постан.Правит.Свердл.обл. от 10.11.10 №1616-ПП | C42: Окраска металлических огрунтованных поверхностей трубопроводов эмалью ХВ-124 за 2 раза (за 2 раза ПЗ=2 (ОЗП=2; ЭМ=2 к расх.; ЗПМ=2; МАТ=2 к расх.; ТЗ=2; ТЗМ=2)) НР (1 руб.): 90% от ФОТ (1 руб.) СП (1 руб.): 70% от ФОТ (1 руб.) | D42: 100 м2 окрашиваемой поверхности | E42: 0,0235 2,35 / 100 | F42: 1085.52 | G42: 63.14 | H42: 15.54 | I42: 0.32 | J42: 26 | K42: 1 | N42: 4.94 | O42: 0.12 | P42: 0.02
A43: 19 | B43: ТЕР26-01-008-01 Постан.Правит.Свердл.обл. от 10.11.10 №1616-ПП | C43: Изоляция трубопроводов матами и холстами из супертонкого волокна (стеклянного и базальтового), матами звукопоглощающими НР (521 руб.): 100% от ФОТ (521 руб.) СП (365 руб.): 70% от ФОТ (521 руб.) | D43: 1 м3 изоляции | E43: 0,335 6,7*0,05 | F43: 2040.75 | G43: 1296.19 | H43: 91.07 | J43: 684 | K43: 434 | L43: 31 | N43: 94.2 | O43: 31.56
A44: 20 | B44: Материалы по прайс-листам | C44: Маты базальтовые Батиз Норма 50 мм | D44: м3 | E44: 0,6901 6,7*0,05*2,06 | F44: 705,74 4980/1,18/ИндексМ | J44: 487
A45: 13 | B45: ТЕР26-01-049-02 Постан.Правит.Свердл.обл. от 10.11.10 №1616-ПП | C45: Покрытие поверхности изоляции трубопроводов сталью оцинкованной НР (235 руб.): 100% от ФОТ (235 руб.) СП (165 руб.): 70% от ФОТ (235 руб.) | D45: 100 м2 поверхности покрытия изоляции | E45: 0,0959 9,59 / 100 | F45: 16783.13 | G45: 2043.64 | H45: 811.46 | J45: 1610 | K45: 196 | L45: 78 | N45: 148.52 | O45: 14.24
A46: 21 | B46: ТСЦ-201-0889 Постан.Правит.Свердл.обл. от 10.11.10 №1616-ПП | C46: Опоры неподвижные из горячекатаных профилей для трубопроводов | D46: т | E46: 0,011024 10,6*1,04/1000 | F46: 9785 | J46: 108
A47: 22 | B47: ТЕР09-03-039-01 Постан.Правит.Свердл.обл. от 10.11.10 №1616-ПП | C47: Монтаж опорных конструкций под импульсные трубки НР (81 руб.): 90% от ФОТ (90 руб.) СП (77 руб.): 85% от ФОТ (90 руб.) | D47: 1 т конструкций | E47: 0,0705 10*7,05/1000 | F47: 1711.14 | G47: 1025.21 | H47: 386.58 | I47: 2 | J47: 121 | K47: 72 | L47: 27 | N47: 80.22 | O47: 5.66 | P47: 0.11 | Q47: 0.01
...

Sheet 16370-ЭМ
A1: СОГЛАСОВАНО: | M1: УТВЕРЖДАЮ:
A4: _________________ | M4: _________________
A5: " _____ " ________________ 2013 г. | M5: "____" ______________2013 г.
H6: ФГУП "Комбинат "Электрохимприбор", г. Лесной
H7: (наименование стройки)
H9: ЛОКАЛЬНЫЙ СМЕТНЫЙ РАСЧЕТ № 16370-ЭМ.СМ
H10: (локальная смета)
A12: Электрооборудование. Станция газификации (техперевооружение с монтажом установки длительного хранения УДХ10-02 и газификатора ГУ-0,3/0,3"
H13: (наименование работ и затрат, наименование объекта)
D15: Основание: 16370-ЭМ
D16: Сметная стоимость _______________________________________________________________________________________________ | J16: ___________________________7599 | L16: руб.
D17: монтажных работ _______________________________________________________________________________________________ | J17: _______________________________________________________________________________________________5492 | L17: руб.
D18: оборудования _______________________________________________________________________________________________ | J18: _______________________________________________________________________________________________2107 | L18: руб.
D19: Средства на оплату труда _______________________________________________________________________________________________ | J19: ___________________________858 | L19: руб.
D20: Сметная трудоемкость _______________________________________________________________________________________________ | J20: _______________________________________________________________________________________________55,14 | L20: чел.час
D21: Составлен(а) в базисных ценах 2001 г.( в редакции 2009)
A24: № пп | B24: Обосно- вание | C24: Наименование | D24: Ед. изм. | E24: Кол. | F24: Стоимость единицы, руб. | J24: Общая стоимость, руб. | N24: Т/з осн. раб.на ед. | O24: Т/з осн. раб. Всего | P24: Т/з мех. на ед. | Q24: Т/з мех. Всего
F25: Всего | G25: В том числе | J25: Всего | K25: В том числе
G26: Осн.З/п | H26: Эк.Маш | I26: З/пМех | K26: Осн.З/п | L26: Эк.Маш | M26: З/пМех
A27: 1 | B27: 2 | C27: 3 | D27: 4 | E27: 5 | F27: 6 | G27: 7 | H27: 8 | I27: 9 | J27: 10 | K27: 11 | L27: 12 | M27: 13 | N27: 14 | O27: 15 | P27: 16 | Q27: 17
A28: Раздел 1. Оборудование
A29: 1 | B29: ТЕРм08-03-573-04 Постан.Правит.Свердл.обл. от 10.11.10 №1616-ПП | C29: Шкаф (пульт) управления навесной, высота, ширина и глубина до 600х600х350 мм НР (44 руб.): 95% от ФОТ (46 руб.) СП (30 руб.): 65% от ФОТ (46 руб.) | D29: 1 шт. | E29: 1 | F29: 99.26 | G29: 33.11 | H29: 62.05 | I29: 4.71 | J29: 99 | K29: 33 | L29: 62 | M29: 5 | N29: 2.37 | O29: 2.37 | P29: 0.29 | Q29: 0.29
A30: 2 | B30: Оборудование по прайс-листам | C30: Корпус модульный пластиковый на 38 модулей, IP 55 КМПн 2/38 IEK МКР72-N-38-55 | D30: шт | E30: 1 | F30: 435 2161/1,18/ИндексОБ | J30: 435
A31: 3 | B31: ТЕРм08-03-575-01 Постан.Правит.Свердл.обл. от 10.11.10 №1616-ПП | C31: Монтаж. Выключатели автоматические НР (125 руб.): 95% от ФОТ (132 руб.) СП (86 руб.): 65% от ФОТ (132 руб.) | D31: 1 шт. | E31: 7 1+5+1 | F31: 16.3 | G31: 15.65 | J31: 114 | K31: 110 | N31: 1.12 | O31: 7.84
A32: 4 | B32: Оборудование по прайс-листам | C32: Выключатель нагрузки двухполюсный с индикатором 32А iSW32 A9S61232 | D32: шт | E32: 1 | F32: 425,29 1790,48/ИндексОБ | J32: 425
A33: 5 | B33: Оборудование по прайс-листам | C33: Выключатель автоматический 2Р, 6А iC60N A9F79206 | D33: шт | E33: 5 | F33: 150,05 631,73/ИндексОБ | J33: 750
A34: 6 | B34: Оборудование по прайс-листам | C34: Выключатель автоматический 2Р, 10А iC60N A9F79210 | D34: шт | E34: 1 | F34: 141,61 596,16/ИндексОБ | J34: 142
A35: 7 | B35: ТЕРм08-03-575-01 Постан.Правит.Свердл.обл. от 10.11.10 №1616-ПП | C35: Монтаж. Выключатели автоматические (в ЩС1) НР (18 руб.): 95% от ФОТ (19 руб.) СП (12 руб.): 65% от ФОТ (19 руб.) | D35: 1 шт. | E35: 1 | F35: 16.3 | G35: 15.65 | J35: 16 | K35: 16 | N35: 1.12 | O35: 1.12
A36: 8 | B36: Оборудование по прайс-листам | C36: Выключатель автоматический 1Р, 25А iC60N A9F79225 | D36: шт | E36: 1 | F36: 168,43 709,07/ИндексОБ | J36: 168
A37: 9 | B37: ТЕРм08-03-575-01 Постан.Правит.Свердл.обл. от 10.11.10 №1616-ПП | C37: Монтаж. Счетчик электроэнергии НР (18 руб.): 95% от ФОТ (19 руб.) СП (12 руб.): 65% от ФОТ (19 руб.) | D37: 1 шт. | E37: 1 | F37: 16.3 | G37: 15.65 | J37: 16 | K37: 16 | N37: 1.12 | O37: 1.12
A38: 10 | B38: Оборудование по прайс-листам | C38: Счетчик электроэнергии CE 101 R5 145M 1 ф, 220В 5-60А МР | D38: шт | E38: 1 | F38: 101,25 503/1,18/ИндексОБ | J38: 101
A39: Итого прямые затраты по разделу в ценах 2001г. | J39: 2266 | K39: 175 | L39: 62 | M39: 5 | O39: 12.45 | Q39: 0.29
A40: Итого прямые затраты по разделу с учетом коэффициентов к итогам | J40: 2399 | K40: 210 | L40: 74 | M40: 6 | O40: 14.94 | Q40: 0.35
A41: Накладные расходы | J41: 205
A42: Сметная прибыль | J42: 140
A43: Итоги по разделу 1 Оборудование :
A44: Итого Монтажные работы | J44: 637 | O44: 14.94 | Q44: 0.35
A45: Итого Оборудование | J45: 2107
A46: Итого | J46: 2744 | O46: 14.94 | Q46: 0.35
A47: В том числе:
...

Sheet НМЦ
A1: г. Лесной ФГУП "Комбинат "Электрохимприбор"
A3: Расчет начальной (максимальной) цены
A5: Техперевооружение станции газификации с монтажом установки длительного хранения УДХ10-02 и газификатора ГУ-0,3/0,3
A8: Составлен в ценах по состоянию на 01.01.2000 г. с переводом в текущие | D8: руб.
A9: Наименование глав ССР, объектных сметных расчетов, локальных сметных расчетов, видов работ | B9: Сметная стоимость в базисных ценах на 01.01.2000 | C9: Текущая стоимость на момент определения начальной (максимальной) цены | D9: № обосновывающего расчета
A13: 1 | B13: 2 | C13: 3 | D13: 4
A14: Контроль атмосферы | B14: ='Сводка затрат'!H14 -> 50650 | C14: =ROUND('Сводка затрат'!D14*5.98,0)+ROUND('Сводка затрат'!E14*5.98,0)+ROUND('Сводка затрат'!F14*4.21,0)+ROUND('Сводка затрат'!G14*10.48,0) -> 224823 | D14: 16370-АО.СМ1
A15: Архитектурные решения | B15: ='Сводка затрат'!H15 -> 38348 | C15: =ROUND('Сводка затрат'!D15*5.98,0)+ROUND('Сводка затрат'!E15*5.98,0)+ROUND('Сводка затрат'!F15*4.21,0)+ROUND('Сводка затрат'!G15*10.48,0) -> 229321 | D15: 16370-АР
A16: Автоматизация технологического оборудования | B16: ='Сводка затрат'!H16 -> 2044 | C16: =ROUND('Сводка затрат'!D16*5.98,0)+ROUND('Сводка затрат'!E16*5.98,0)+ROUND('Сводка затрат'!F16*4.21,0)+ROUND('Сводка затрат'!G16*10.48,0) -> 12161 | D16: 16370-АТХ
A17: Конструкции металлические | B17: ='Сводка затрат'!H17 -> 7417 | C17: =ROUND('Сводка затрат'!D17*5.98,0)+ROUND('Сводка затрат'!E17*5.98,0)+ROUND('Сводка затрат'!F17*4.21,0)+ROUND('Сводка затрат'!G17*10.48,0) -> 44354 | D17: 16370-КМ
A18: Технологические решения | B18: ='Сводка затрат'!H18 -> 27230 | C18: =ROUND('Сводка затрат'!D18*5.98,0)+ROUND('Сводка затрат'!E18*5.98,0)+ROUND('Сводка затрат'!F18*4.21,0)+ROUND('Сводка затрат'!G18*10.48,0) -> 162836 | D18: 16370-ТХ
A19: Электрооборудование | B19: ='Сводка затрат'!H19 -> 7599 | C19: =ROUND('Сводка затрат'!D19*5.98,0)+ROUND('Сводка затрат'!E19*5.98,0)+ROUND('Сводка затрат'!F19*4.21,0)+ROUND('Сводка затрат'!G19*10.48,0) -> 41712 | D19: 16370-ЭМ
A20: Итого | B20: =SUM(B14:B19) -> 133288 | C20: =SUM(C14:C19) -> 715207
A22: НДС 18% | C22: =ROUND(C20*18%,2) -> 128737.26
A24: Всего | C24: =SUM(C20:C23) -> 843944.26
A26: Начальник отдела
A27: капитального строительства | C27: В.В. Моляков
A29: Инженер по проектно-сметной работе | C29: Т.Ш. Ковязина
A32: Согласовано | C32: отдел 028

Sheet Сводка затрат
A1: Приложение №__ к договору от "__"______201_ №_______
A3: г. Лесной. ФГУП "Комбинат "Электрохимприбор"
A5: Сводка затрат
A7: Техперевооружение станции газификации с монтажом установки длительного хранения УДХ10-02 и газификатора ГУ-0,3/0,3
A10: Составлен в ценах по состоянию на 01.01.2000 г.
A11: № п/п | B11: Номера сметных расчетов и смет | C11: Наименование работ и затрат | D11: Сметная стоимость | H11: Общая сметная стоимость, руб.
D12: строительных работ | E12: монтажных работ | F12: оборудования, мебели, инвентаря | G12: прочих затрат
A13: 1 | B13: 2 | C13: 3 | D13: 4 | E13: 5 | F13: 6 | G13: 7 | H13: 8
A14: 1 | B14: 16370-АО.СМ1 | C14: Контроль атмосферы | D14: 0 | E14: ='16370-АО'!J142 -> 6546 | F14: ='16370-АО'!J154 -> 44104 | G14: 0 | H14: =SUM(D14:G14) -> 50650 | J14: =ROUND(D14*5.98,0) -> 0 | K14: =ROUND(E14*5.98,0) -> 39145 | L14: =ROUND(F14*4.21,0) -> 185678 | M14: =ROUND(G14*10.48,0) -> 0
A15: 2 | B15: 16370-АР | C15: Архитектурные решения | D15: ='16370-АР'!J133 -> 38348 | E15: 0 | F15: 0 | G15: 0 | H15: =SUM(D15:G15) -> 38348 | J15: =ROUND(D15*5.98,0) -> 229321 | K15: =ROUND(E15*5.98,0) -> 0 | L15: =ROUND(F15*4.21,0) -> 0 | M15: =ROUND(G15*10.48,0) -> 0
A16: 3 | B16: 16370-АТХ | C16: Автоматизация технологического оборудования | D16: 0 | E16: ='16370-АТХ'!J106 -> 2009 | F16: ='16370-АТХ'!J118 -> 35 | G16: 0 | H16: =SUM(D16:G16) -> 2044 | J16: =ROUND(D16*5.98,0) -> 0 | K16: =ROUND(E16*5.98,0) -> 12014 | L16: =ROUND(F16*4.21,0) -> 147 | M16: =ROUND(G16*10.48,0) -> 0
A17: 4 | B17: 16370-КМ | C17: Конструкции металлические | D17: ='16370-КМ'!J120 -> 7417 | E17: 0 | F17: 0 | G17: 0 | H17: =SUM(D17:G17) -> 7417 | J17: =ROUND(D17*5.98,0) -> 44354 | K17: =ROUND(E17*5.98,0) -> 0 | L17: =ROUND(F17*4.21,0) -> 0 | M17: =ROUND(G17*10.48,0) -> 0
A18: 5 | B18: 16370-ТХ | C18: Технологические решения | D18: ='16370-ТХ'!J145 -> 6058 | E18: ='16370-ТХ'!J158 -> 21172 | F18: 0 | G18: 0 | H18: =SUM(D18:G18) -> 27230 | J18: =ROUND(D18*5.98,0) -> 36227 | K18: =ROUND(E18*5.98,0) -> 126609 | L18: =ROUND(F18*4.21,0) -> 0 | M18: =ROUND(G18*10.48,0) -> 0
A19: 6 | B19: 16370-ЭМ | C19: Электрооборудование | D19: 0 | E19: ='16370-ЭМ'!J114 -> 5492 | F19: ='16370-ЭМ'!J120 -> 2107 | G19: 0 | H19: =SUM(D19:G19) -> 7599 | J19: =ROUND(D19*5.98,0) -> 0 | K19: =ROUND(E19*5.98,0) -> 32842 | L19: =ROUND(F19*4.21,0) -> 8870 | M19: =ROUND(G19*10.48,0) -> 0
C20: Итого в базисных ценах 2000 г. | D20: =SUM(D14:D19) -> 51823 | E20: =SUM(E14:E19) -> 35219 | F20: =SUM(F14:F19) -> 46246 | G20: =SUM(G14:G19) -> 0 | H20: =SUM(D20:G20) -> 133288 | J20: =SUM(J14:J19) -> 309902 | K20: =SUM(K14:K19) -> 210610 | L20: =SUM(L14:L19) -> 194695 | M20: =SUM(M14:M19) -> 0 | N20: =SUM(J20:M20) -> 715207
C21: Всего в ценах 2014 (Ксмр=5,98, Коб.=4,21, Кпнр=10,48) | D21: =ROUND(D20*5.98,0) -> 309902 | E21: =ROUND(E20*5.98,0) -> 210610 | F21: =ROUND(F20*4.21,0)-1 -> 194695 | G21: =ROUND(G20*10.48,0) -> 0 | H21: =SUM(D21:G21) -> 715207
C22: НДС 18% | D22: =ROUND(D21*18%,2) -> 55782.36 | E22: =ROUND(E21*18%,2) -> 37909.8 | F22: =ROUND(F21*18%,2) -> 35045.1 | G22: =ROUND(G21*18%,2) -> 0 | H22: =SUM(D22:G22) -> 128737.26
C23: Всего в ценах 2014 с НДС | D23: =SUM(D21:D22) -> 365684.36 | E23: =SUM(E21:E22) -> 248519.8 | F23: =SUM(F21:F22) -> 229740.1 | G23: =SUM(G21:G22) -> 0 | H23: =SUM(D23:G23) -> 843944.26
C27: ЗАКАЗЧИК: | H27: ПОДРЯДЧИК:
C28: Генеральный директор
C29: ФГУП "Комбинат "Электрохимприбор"
C31: __________________ А.В. Новиков
