Workbook

Sheet Смета 12 гр. по ФЕР
A1: =Source!B1 -> Smeta.RU (495) 974-1589 | I1: Приложение 1 к форме 7
B4: СМЕТА
B6: =IF(Source!G20<>"Новая локальная смета", Source!G20, "")
B8: =IF(Source!G12<>"Новый объект", Source!G12, "") -> на капитальный ремонт помещений мужских туалетов 3, 4 этажей здания учебного корпуса НИЯУ МИФИ по адресу: г.Москва,Холодильный переулок,д.1,корп.1,стр.2 | AD8: =IF(Source!G12<>"Новый объект", Source!G12, "") -> на капитальный ремонт помещений мужских туалетов 3, 4 этажей здания учебного корпуса НИЯУ МИФИ по адресу: г.Москва,Холодильный переулок,д.1,корп.1,стр.2
G13: базовая цена | I13: текущая цена
C14: Сметная стоимость | G14: =SUM(O25:O908)/1000 -> 154.05016 | I14: =(Source!F448/1000) -> 1191.6127 | K14: тыс. руб.
C15: Строительные работы | G15: =SUM(W25:W908)/1000 -> 145.51867 | I15: =(Source!F435)/1000 -> 950.80617 | K15: тыс. руб.
C16: Монтажные работы | G16: =SUM(X25:X908)/1000 -> 8.26159 | I16: =(Source!F436)/1000 -> 53.94765 | K16: тыс. руб.
C17: Оборудование | G17: =SUM(Y25:Y908)/1000 -> 0 | I17: =(Source!F427)/1000 -> 0 | K17: тыс. руб.
C18: Прочие работы | G18: =SUM(Z25:Z908)/1000 -> 0.2699 | I18: =(Source!F437+Source!F438)/1000 -> 5.08748 | K18: тыс. руб.
C19: Нормативная трудоемкость | G19: =I19 -> 2074.5168 | I19: =(Source!F440+Source!F441) -> 2074.5168 | K19: чел. -ч.
C20: Средства на оплату труда | G20: =SUM(R25:R908)/1000 -> 18.90996 | I20: =(Source!F433+ Source!F432)/1000 -> 125.1036 | K20: тыс. руб.
A22: Составлена в ценах I квартал 2018 года
A23: № п/п | B23: Шифр расценки и коды ресурсов | C23: Наименование работ и затрат | D23: Ед. изм. | E23: Кол-во единиц | F23: Цена на ед. изм. | G23: Попра-вочные коэфф. | H23: Стоимость в ценах 2001г. | I23: Пункт коэфф. пересчета | J23: Коэфф. пересчета | K23: Стоимость в текущих ценах | L23: ЗТР всего чел.-час
A24: 1 | B24: 2 | C24: 3 | D24: 4 | E24: 5 | F24: 6 | G24: 7 | H24: 8 | I24: 9 | J24: 10 | K24: 11 | L24: 12
A26: =CONCATENATE("Раздел: ",IF(Source!G24<>"Новый раздел", Source!G24, "")) -> Раздел: 1 Общестроительные работы
A27: =Source!E28 -> 1 | B27: =Source!F28 -> 46-04-012-03 | C27: =Source!G28 -> Разборка деревянных заполнений проемов дверных и воротных | D27: =Source!H28 -> 100 м2 | E27: =Source!I28 -> 0.076 | F27: =Source!AL28+Source!AM28+Source!AO28 -> 1082.58 | I27: =Source!BO28 | S27: =ROUND((Source!FX28/100)*((ROUND(Source!AF28*Source!I28, 2)+ROUND(Source!AE28*Source!I28, 2))), 2) -> 71.11 | T27: =Source!X28 -> 464.36 | U27: =ROUND((Source!FY28/100)*((ROUND(Source!AF28*Source!I28, 2)+ROUND(Source!AE28*Source!I28, 2))), 2) -> 42.74 | V27: =Source!Y28 -> 281.43
C28: ="Объем: "&Source!I28&"=7,6/"&"100" -> Объем: 0,076=7,6/100
C29: Зарплата | F29: =Source!AO28 -> 840.63 | G29: =Source!DG28 | H29: =ROUND(Source!AF28*Source!I28, 2) -> 63.89 | J29: =IF(Source!BA28<> 0, Source!BA28, 1) -> 6.53 | K29: =Source!S28 -> 417.19 | R29: =H29 -> 63.89
C30: Эксплуатация машин | F30: =Source!AM28 -> 241.95 | G30: =Source!DE28 | H30: =ROUND(Source!AD28*Source!I28, 2) -> 18.39 | J30: =IF(Source!BB28<> 0, Source!BB28, 1) -> 6.53 | K30: =Source!Q28 -> 120.07
C31: в т.ч. зарплата машинистов | F31: =Source!AN28 -> 104.49 | G31: =Source!DF28 | H31: =ROUND(Source!AE28*Source!I28, 2) -> 7.94 | J31: =IF(Source!BS28<> 0, Source!BS28, 1) -> 6.53 | K31: =Source!R28 -> 51.86 | R31: =H31 -> 7.94
C32: НР от ФОТ | D32: % | E32: =Source!BZ28 -> 110 | F32: =CONCATENATE(" )", Source!DL28, Source!FT28, "=", Source!FX28) -> )*0,9=99 | H32: =SUM(S27:S34) -> 71.11 | J32: =Source!AT28 -> 99 | K32: =SUM(T27:T34) -> 464.36
C33: СП от ФОТ | D33: % | E33: =Source!CA28 -> 70 | F33: =CONCATENATE(" )", Source!DM28, Source!FU28, "=", Source!FY28) -> )*0,85=59,5 | H33: =SUM(U27:U34) -> 42.74 | J33: =Source!AU28 -> 60 | K33: =SUM(V27:V34) -> 281.43
C34: Затраты труда | D34: чел-ч | E34: =Source!AQ28 -> 103.91 | G34: =Source!DI28 | L34: =Source!U28 -> 7.89716
G35: =H29+H30+H32+H33 -> 196.13 | J35: =K29+K30+K32+K33 -> 1283.05 | L35: =Source!U28 -> 7.89716 | O35: =G35 -> 196.13 | P35: =J35 -> 1283.05 | Q35: =L35 -> 7.89716 | W35: =IF(Source!BI28<=1,H29+H30+H32+H33, 0) -> 196.13 | X35: =IF(Source!BI28=2,H29+H30+H32+H33, 0) -> 0 | Y35: =IF(Source!BI28=3,H29+H30+H32+H33, 0) -> 0 | Z35: =IF(Source!BI28=4,H29+H30+H32+H33, 0) -> 0
A36: =Source!E29 -> 2 | B36: =Source!F29 -> 46-04-012-01 | C36: =Source!G29 -> Разборка деревянных заполнений проемов оконных с подоконными досками | D36: =Source!H29 -> 100 м2 | E36: =Source!I29 -> 0.0474 | F36: =Source!AL29+Source!AM29+Source!AO29 -> 1767.24 | I36: =Source!BO29 | S36: =ROUND((Source!FX29/100)*((ROUND(Source!AF29*Source!I29, 2)+ROUND(Source!AE29*Source!I29, 2))), 2) -> 76.48 | T36: =Source!X29 -> 499.41 | U36: =ROUND((Source!FY29/100)*((ROUND(Source!AF29*Source!I29, 2)+ROUND(Source!AE29*Source!I29, 2))), 2) -> 45.96 | V36: =Source!Y29 -> 302.67
C37: Зарплата | F37: =Source!AO29 -> 1525.29 | G37: =Source!DG29 | H37: =ROUND(Source!AF29*Source!I29, 2) -> 72.3 | J37: =IF(Source!BA29<> 0, Source!BA29, 1) -> 6.53 | K37: =Source!S29 -> 472.11 | R37: =H37 -> 72.3
C38: Эксплуатация машин | F38: =Source!AM29 -> 241.95 | G38: =Source!DE29 | H38: =ROUND(Source!AD29*Source!I29, 2) -> 11.47 | J38: =IF(Source!BB29<> 0, Source!BB29, 1) -> 6.53 | K38: =Source!Q29 -> 74.89
C39: в т.ч. зарплата машинистов | F39: =Source!AN29 -> 104.49 | G39: =Source!DF29 | H39: =ROUND(Source!AE29*Source!I29, 2) -> 4.95 | J39: =IF(Source!BS29<> 0, Source!BS29, 1) -> 6.53 | K39: =Source!R29 -> 32.34 | R39: =H39 -> 4.95
C40: НР от ФОТ | D40: % | E40: =Source!BZ29 -> 110 | F40: =CONCATENATE(" )", Source!DL29, Source!FT29, "=", Source!FX29) -> )*0,9=99 | H40: =SUM(S36:S42) -> 76.48 | J40: =Source!AT29 -> 99 | K40: =SUM(T36:T42) -> 499.41
C41: СП от ФОТ | D41: % | E41: =Source!CA29 -> 70 | F41: =CONCATENATE(" )", Source!DM29, Source!FU29, "=", Source!FY29) -> )*0,85=59,5 | H41: =SUM(U36:U42) -> 45.96 | J41: =Source!AU29 -> 60 | K41: =SUM(V36:V42) -> 302.67
C42: Затраты труда | D42: чел-ч | E42: =Source!AQ29 -> 188.54 | G42: =Source!DI29 | L42: =Source!U29 -> 8.936796
G43: =H37+H38+H40+H41 -> 206.21 | J43: =K37+K38+K40+K41 -> 1349.08 | L43: =Source!U29 -> 8.936796 | O43: =G43 -> 206.21 | P43: =J43 -> 1349.08 | Q43: =L43 -> 8.936796 | W43: =IF(Source!BI29<=1,H37+H38+H40+H41, 0) -> 206.21 | X43: =IF(Source!BI29=2,H37+H38+H40+H41, 0) -> 0 | Y43: =IF(Source!BI29=3,H37+H38+H40+H41, 0) -> 0 | Z43: =IF(Source!BI29=4,H37+H38+H40+H41, 0) -> 0
A44: =Source!E30 -> 3 | B44: =Source!F30 -> 58-20-1 | C44: =Source!G30 -> Смена обделок из листовой стали (поясков, сандриков, отливов, карнизов) шириной до 0,4 м | D44: =Source!H30 -> 100 м | E44: =Source!I30 -> 0.0264 | F44: =Source!AL30+Source!AM30+Source!AO30 -> 454.41 | I44: =Source!BO30 | S44: =ROUND((Source!FX30/100)*((ROUND(Source!AF30*Source!I30, 2)+ROUND(Source!AE30*Source!I30, 2))), 2) -> 7.78 | T44: =Source!X30 -> 50.76 | U44: =ROUND((Source!FY30/100)*((ROUND(Source!AF30*Source!I30, 2)+ROUND(Source!AE30*Source!I30, 2))), 2) -> 6.09 | V44: =Source!Y30 -> 39.75
C45: ="Объем: "&Source!I30&"=2,64/"&"100" -> Объем: 0,0264=2,64/100
C46: Зарплата | F46: =Source!AO30 -> 353.23 | G46: =Source!DG30 | H46: =ROUND(Source!AF30*Source!I30, 2) -> 9.33 | J46: =IF(Source!BA30<> 0, Source!BA30, 1) -> 6.53 | K46: =Source!S30 -> 60.89 | R46: =H46 -> 9.33
C47: Эксплуатация машин | F47: =Source!AM30 -> 5.13 | G47: =Source!DE30 | H47: =ROUND(Source!AD30*Source!I30, 2) -> 0.14 | J47: =IF(Source!BB30<> 0, Source!BB30, 1) -> 6.53 | K47: =Source!Q30 -> 0.88
C48: в т.ч. зарплата машинистов | F48: =Source!AN30 -> 1.54 | G48: =Source!DF30 | H48: =ROUND(Source!AE30*Source!I30, 2) -> 0.04 | J48: =IF(Source!BS30<> 0, Source!BS30, 1) -> 6.53 | K48: =Source!R30 -> 0.27 | R48: =H48 -> 0.04
C49: Материальные ресурсы | F49: =Source!AL30 -> 96.05 | G49: =Source!DD30 | H49: =ROUND(Source!AC30*Source!I30, 2) -> 2.54 | J49: =IF(Source!BC30<> 0, Source!BC30, 1) -> 6.53 | K49: =Source!P30 -> 16.56
C50: НР от ФОТ | D50: % | E50: =Source!BZ30 -> 83 | H50: =SUM(S44:S53) -> 7.78 | J50: =Source!AT30 -> 83 | K50: =SUM(T44:T53) -> 50.76
...

Sheet Source
A1: 0 | B1: Smeta.RU (495) 974-1589 | D1: _PS_ | F1: 0 | G1: 0 | H1: 0 | I1: Smeta.RU | K1: 0 | L1: 13277 | M1: 10
A12: 1 | B12: 508 | C12: 0 | D12: =ROW(A450) -> 450 | E12: 0 | F12: Новый объект | G12: на капитальный ремонт помещений мужских туалетов 3, 4 этажей здания учебного корпуса НИЯУ МИФИ по адресу: г.Москва,Холодильный переулок,д.1,корп.1,стр.2 | I12: 0 | K12: 0 | O12: 0 | P12: 0 | Q12: 0 | R12: 0 | V12: 0 | BH12: Сметные нормы списания | BI12: Коды ценников | BJ12: 1 | BK12: 1 | BL12: 0 | BM12: 0 | BN12: 1 | BO12: 0 | BP12: 2 | BQ12: 2 | BR12: 1 | BS12: 1 | BT12: 0 | BU12: 0 | BV12: 0 | BW12: 0 | BX12: 0 | BY12: ФЕР-2017 | BZ12: ТР для Версии 10: Центральные регионы (с учетом п-ма 2536-ИП/12/ГС от 22.03.2017 г | CA12: ФЕР-2017 | CB12: ФЕР-2017 | CC12: ФЕР-2017 | CD12: ФЕР-2017 | CE12: Поправки для ГСН 2017 от 31.03.2017 г | CF12: 0 | CG12: 0 | CH12: 8 | CK12: 4 | EC12: 0
A15: 15 | B15: 1
A18: 52 | B18: =B450 -> 508 | C18: =C450 -> 1 | D18: =D450 -> 12 | E18: =E450 -> 0 | F18: =F450 -> Новый объект | G18: =G450 -> на капитальный ремонт помещений мужских туалетов 3, 4 этажей здания учебного корпуса НИЯУ МИФИ по адресу: г.Москва,Холодильный переулок,д.1,корп.1,стр.2 | O18: =O450 -> 816002.52 | P18: =P450 -> 674187.31 | Q18: =Q450 -> 19869 | R18: =R450 -> 3157.39 | S18: =S450 -> 121946.21 | T18: =T450 -> 0 | U18: =U450 -> 2032.6534 | V18: =V450 -> 41.863432 | ... GX18: =GX450 -> 0
A20: 3 | B20: 1 | D20: =ROW(A418) -> 418 | F20: Новая локальная смета | G20: Новая локальная смета | I20: 0 | K20: 0 | V20: 0 | BX20: 0 | CF20: 0 | CG20: 0
A22: 52 | B22: =B418 -> 1 | C22: =C418 -> 3 | D22: =D418 -> 20 | E22: =E418 -> 0 | F22: =F418 -> Новая локальная смета | G22: =G418 -> Новая локальная смета | O22: =O418 -> 816002.52 | P22: =P418 -> 674187.31 | Q22: =Q418 -> 19869 | R22: =R418 -> 3157.39 | S22: =S418 -> 121946.21 | T22: =T418 -> 0 | U22: =U418 -> 2032.6534 | V22: =V418 -> 41.863432 | ... GX22: =GX418 -> 0
A24: 4 | B24: 1 | D24: =ROW(A80) -> 80 | G24: 1 Общестроительные работы | I24: 0 | K24: 0 | V24: 0 | BX24: 0 | CJ24: 0
A26: 52 | B26: =B80 -> 1 | C26: =C80 -> 4 | D26: =D80 -> 24 | E26: =E80 -> 0 | F26: =F80 | G26: =G80 -> 1 Общестроительные работы | O26: =O80 -> 507531.11 | P26: =P80 -> 416393.95 | Q26: =Q80 -> 10850.7 | R26: =R80 -> 2082.57 | S26: =S80 -> 80286.46 | T26: =T80 -> 0 | U26: =U80 -> 1368.7393 | V26: =V80 -> 29.321197 | ... GX26: =GX80 -> 0
A28: 17 | B28: 1 | C28: =ROW(SmtRes!A3) -> 3 | D28: =ROW(EtalonRes!A3) -> 3 | E28: 1 | F28: 46-04-012-03 | G28: Разборка деревянных заполнений проемов дверных и воротных | H28: 100 м2 | I28: =ROUND(7.6/100,9) -> 0.076 | J28: 0 | O28: =ROUND(CP28,2) -> 537.26 | P28: =ROUND(CQ28*I28,2) -> 0 | Q28: =ROUND(CR28*I28,2) -> 120.07 | R28: =ROUND(CS28*I28,2) -> 51.86 | S28: =ROUND(CT28*I28,2) -> 417.19 | T28: =ROUND(CU28*I28,2) -> 0 | U28: =CV28*I28 -> 7.89716 | V28: =CW28*I28 -> 0.58824 | W28: =ROUND(CX28*I28,2) -> 0 | X28: =ROUND(CY28,2) -> 464.36 | Y28: =ROUND(CZ28,2) -> 281.43 | AA28: 39083528 | AB28: =ROUND((AC28+AD28+AF28),2) -> 1082.58 | AC28: =ROUND((ES28),2) -> 0 | AD28: =ROUND((((ET28)-(EU28))+AE28),2) -> 241.95 | AE28: =ROUND((EU28),2) -> 104.49 | AF28: =ROUND((EV28),2) -> 840.63 | AG28: =ROUND((AP28),2) -> 0 | AH28: =(EW28) -> 103.91 | AI28: =(EX28) -> 7.74 | AJ28: =ROUND((AS28),2) -> 0 | AK28: 1082.58 | AL28: 0 | AM28: 241.95 | AN28: 104.49 | AO28: 840.63 | AP28: 0 | AQ28: 103.91 | AR28: 7.74 | AS28: 0 | AT28: 99 | AU28: 60 | AV28: 1 | AW28: 1 | AZ28: 6.53 | BA28: 6.53 | BB28: 6.53 | BC28: 6.53 | BH28: 0 | BI28: 1 | BJ28: ФЕР-2001, 46-04-012-03, приказ Минстроя России №1039/пр от 30.12.2016г. | BM28: 46001 | BN28: 0 | BP28: 0 | BQ28: 2 | BR28: 0 | BS28: 6.53 | BT28: 1 | BU28: 1 | BV28: 1 | BW28: 1 | BX28: 1 | BZ28: 110 | CA28: 70 | CF28: 0 | CG28: 0 | CM28: 0 | CO28: 0 | CP28: =(P28+Q28+S28) -> 537.26 | CQ28: =AC28*BC28 -> 0 | CR28: =AD28*BB28 -> 1579.9335 | CS28: =AE28*BS28 -> 682.3197 | CT28: =AF28*BA28 -> 5489.3139 | CU28: =AG28 -> 0 | CV28: =AH28 -> 103.91 | CW28: =AI28 -> 7.74 | CX28: =AJ28 -> 0 | CY28: =(((S28+R28)*AT28)/100) -> 464.3595 | CZ28: =(((S28+R28)*AU28)/100) -> 281.43 | DN28: 0 | DO28: 0 | DP28: 1 | DQ28: 1 | DU28: 1005 | DV28: 100 м2 | DW28: 100 м2 | DX28: 100 | EE28: 39174571 | EF28: 2 | EG28: Общестроительные работы | EH28: 0 | EJ28: 1 | EK28: 46001 | EL28: Реконструкция зданий и сооружений | EM28: ФЕР-46 | EQ28: 0 | ER28: 1082.58 | ES28: 0 | ET28: 241.95 | EU28: 104.49 | EV28: 840.63 | EW28: 103.91 | EX28: 7.74 | EY28: 0 | FQ28: 0 | FR28: =ROUND(IF(AND(BH28=3,BI28=3),P28,0),2) -> 0 | FS28: 0 | FT28: *0,9 | FU28: *0,85 | FX28: 99 | FY28: 59.5 | GD28: 0 | GF28: 309229644 | GG28: 1 | GH28: 1 | GI28: 4 | GJ28: 0 | GK28: =ROUND(R28*(R12)/100,2) -> 0 | GL28: =ROUND(IF(AND(BH28=3,BI28=3,FS28<>0),P28,0),2) -> 0 | GM28: =ROUND(O28+X28+Y28+GK28,2)+GX28 -> 1283.05 | GN28: =IF(OR(BI28=0,BI28=1),ROUND(O28+X28+Y28+GK28,2),0) -> 1283.05 | GO28: =IF(BI28=2,ROUND(O28+X28+Y28+GK28,2),0) -> 0 | GP28: =IF(BI28=4,ROUND(O28+X28+Y28+GK28,2)+GX28,0) -> 0 | GR28: 0 | GS28: 3 | GT28: 0 | GV28: =ROUND(GT28,2) -> 0 | GW28: 1 | GX28: =ROUND(GV28*GW28*I28,2) -> 0 | HA28: 0 | HB28: 0 | IK28: 0
A29: 17 | B29: 1 | C29: =ROW(SmtRes!A6) -> 6 | D29: =ROW(EtalonRes!A6) -> 6 | E29: 2 | F29: 46-04-012-01 | G29: Разборка деревянных заполнений проемов оконных с подоконными досками | H29: 100 м2 | I29: 0.0474 | J29: 0 | O29: =ROUND(CP29,2) -> 547 | P29: =ROUND(CQ29*I29,2) -> 0 | Q29: =ROUND(CR29*I29,2) -> 74.89 | R29: =ROUND(CS29*I29,2) -> 32.34 | S29: =ROUND(CT29*I29,2) -> 472.11 | T29: =ROUND(CU29*I29,2) -> 0 | U29: =CV29*I29 -> 8.936796 | V29: =CW29*I29 -> 0.366876 | W29: =ROUND(CX29*I29,2) -> 0 | X29: =ROUND(CY29,2) -> 499.41 | Y29: =ROUND(CZ29,2) -> 302.67 | AA29: 39083528 | AB29: =ROUND((AC29+AD29+AF29),2) -> 1767.24 | AC29: =ROUND((ES29),2) -> 0 | AD29: =ROUND((((ET29)-(EU29))+AE29),2) -> 241.95 | AE29: =ROUND((EU29),2) -> 104.49 | AF29: =ROUND((EV29),2) -> 1525.29 | AG29: =ROUND((AP29),2) -> 0 | AH29: =(EW29) -> 188.54 | AI29: =(EX29) -> 7.74 | AJ29: =ROUND((AS29),2) -> 0 | AK29: 1767.24 | AL29: 0 | AM29: 241.95 | AN29: 104.49 | AO29: 1525.29 | AP29: 0 | AQ29: 188.54 | AR29: 7.74 | AS29: 0 | AT29: 99 | AU29: 60 | AV29: 1 | AW29: 1 | AZ29: 6.53 | BA29: 6.53 | BB29: 6.53 | BC29: 6.53 | BH29: 0 | BI29: 1 | BJ29: ФЕР-2001, 46-04-012-01, приказ Минстроя России №1039/пр от 30.12.2016г. | BM29: 46001 | BN29: 0 | BP29: 0 | BQ29: 2 | BR29: 0 | BS29: 6.53 | BT29: 1 | BU29: 1 | BV29: 1 | BW29: 1 | BX29: 1 | BZ29: 110 | CA29: 70 | CF29: 0 | CG29: 0 | CM29: 0 | CO29: 0 | CP29: =(P29+Q29+S29) -> 547 | CQ29: =AC29*BC29 -> 0 | CR29: =AD29*BB29 -> 1579.9335 | CS29: =AE29*BS29 -> 682.3197 | CT29: =AF29*BA29 -> 9960.1437 | CU29: =AG29 -> 0 | CV29: =AH29 -> 188.54 | CW29: =AI29 -> 7.74 | CX29: =AJ29 -> 0 | CY29: =(((S29+R29)*AT29)/100) -> 499.4055 | CZ29: =(((S29+R29)*AU29)/100) -> 302.67 | DN29: 0 | DO29: 0 | DP29: 1 | DQ29: 1 | DU29: 1005 | DV29: 100 м2 | DW29: 100 м2 | DX29: 100 | EE29: 39174571 | EF29: 2 | EG29: Общестроительные работы | EH29: 0 | EJ29: 1 | EK29: 46001 | EL29: Реконструкция зданий и сооружений | EM29: ФЕР-46 | EQ29: 0 | ER29: 1767.24 | ES29: 0 | ET29: 241.95 | EU29: 104.49 | EV29: 1525.29 | EW29: 188.54 | EX29: 7.74 | EY29: 0 | FQ29: 0 | FR29: =ROUND(IF(AND(BH29=3,BI29=3),P29,0),2) -> 0 | FS29: 0 | FT29: *0,9 | FU29: *0,85 | FX29: 99 | FY29: 59.5 | GD29: 0 | GF29: 1630687704 | GG29: 1 | GH29: 1 | GI29: 4 | GJ29: 0 | GK29: =ROUND(R29*(R12)/100,2) -> 0 | GL29: =ROUND(IF(AND(BH29=3,BI29=3,FS29<>0),P29,0),2) -> 0 | GM29: =ROUND(O29+X29+Y29+GK29,2)+GX29 -> 1349.08 | GN29: =IF(OR(BI29=0,BI29=1),ROUND(O29+X29+Y29+GK29,2),0) -> 1349.08 | GO29: =IF(BI29=2,ROUND(O29+X29+Y29+GK29,2),0) -> 0 | GP29: =IF(BI29=4,ROUND(O29+X29+Y29+GK29,2)+GX29,0) -> 0 | GR29: 0 | GS29: 3 | GT29: 0 | GV29: =ROUND(GT29,2) -> 0 | GW29: 1 | GX29: =ROUND(GV29*GW29*I29,2) -> 0 | HA29: 0 | HB29: 0 | IK29: 0
A30: 17 | B30: 1 | C30: =ROW(SmtRes!A13) -> 13 | D30: =ROW(EtalonRes!A14) -> 14 | E30: 3 | F30: 58-20-1 | G30: Смена обделок из листовой стали (поясков, сандриков, отливов, карнизов) шириной до 0,4 м | H30: 100 м | I30: =ROUND(2.64/100,9) -> 0.0264 | J30: 0 | O30: =ROUND(CP30,2) -> 78.33 | P30: =ROUND(CQ30*I30,2) -> 16.56 | Q30: =ROUND(CR30*I30,2) -> 0.88 | R30: =ROUND(CS30*I30,2) -> 0.27 | S30: =ROUND(CT30*I30,2) -> 60.89 | T30: =ROUND(CU30*I30,2) -> 0 | U30: =CV30*I30 -> 1.093224 | V30: =CW30*I30 -> 0.003168 | W30: =ROUND(CX30*I30,2) -> 0 | X30: =ROUND(CY30,2) -> 50.76 | Y30: =ROUND(CZ30,2) -> 39.75 | AA30: 39083528 | AB30: =ROUND((AC30+AD30+AF30),2) -> 454.41 | AC30: =ROUND((ES30),2) -> 96.05 | AD30: =ROUND((((ET30)-(EU30))+AE30),2) -> 5.13 | AE30: =ROUND((EU30),2) -> 1.54 | AF30: =ROUND((EV30),2) -> 353.23 | AG30: =ROUND((AP30),2) -> 0 | AH30: =(EW30) -> 41.41 | AI30: =(EX30) -> 0.12 | AJ30: =ROUND((AS30),2) -> 0 | AK30: 454.41 | AL30: 96.05 | AM30: 5.13 | AN30: 1.54 | AO30: 353.23 | AP30: 0 | AQ30: 41.41 | AR30: 0.12 | AS30: 0 | AT30: 83 | AU30: 65 | AV30: 1 | AW30: 1 | AZ30: 6.53 | BA30: 6.53 | BB30: 6.53 | BC30: 6.53 | BH30: 0 | BI30: 1 | BJ30: ФЕР-2001, 58-20-1, приказ Минстроя России №1039/пр от 30.12.2016г. | BM30: 58001 | BN30: 0 | BP30: 0 | BQ30: 6 | BR30: 0 | BS30: 6.53 | BT30: 1 | BU30: 1 | BV30: 1 | BW30: 1 | BX30: 1 | BZ30: 83 | CA30: 65 | CF30: 0 | CG30: 0 | CM30: 0 | CO30: 0 | CP30: =(P30+Q30+S30) -> 78.33 | CQ30: =AC30*BC30 -> 627.2065 | CR30: =AD30*BB30 -> 33.4989 | CS30: =AE30*BS30 -> 10.0562 | CT30: =AF30*BA30 -> 2306.5919 | CU30: =AG30 -> 0 | CV30: =AH30 -> 41.41 | CW30: =AI30 -> 0.12 | CX30: =AJ30 -> 0 | CY30: =(((S30+R30)*AT30)/100) -> 50.7628 | CZ30: =(((S30+R30)*AU30)/100) -> 39.754 | DN30: 0 | DO30: 0 | DP30: 1 | DQ30: 1 | DU30: 1003 | DV30: 100 м | DW30: 100 м | DX30: 100 | EE30: 39174583 | EF30: 6 | EG30: Ремонтно-строительные работы | EH30: 0 | EJ30: 1 | EK30: 58001 | EL30: Крыши, кровля | EM30: рФЕР-58 | EQ30: 0 | ER30: 454.41 | ES30: 96.05 | ET30: 5.13 | EU30: 1.54 | EV30: 353.23 | EW30: 41.41 | EX30: 0.12 | EY30: 0 | FQ30: 0 | FR30: =ROUND(IF(AND(BH30=3,BI30=3),P30,0),2) -> 0 | FS30: 0 | FX30: 83 | FY30: 65 | GD30: 0 | GF30: -58071427 | GG30: 1 | GH30: 1 | GI30: 4 | GJ30: 0 | GK30: =ROUND(R30*(R12)/100,2) -> 0 | GL30: =ROUND(IF(AND(BH30=3,BI30=3,FS30<>0),P30,0),2) -> 0 | GM30: =ROUND(O30+X30+Y30+GK30,2)+GX30 -> 168.84 | GN30: =IF(OR(BI30=0,BI30=1),ROUND(O30+X30+Y30+GK30,2),0) -> 168.84 | GO30: =IF(BI30=2,ROUND(O30+X30+Y30+GK30,2),0) -> 0 | GP30: =IF(BI30=4,ROUND(O30+X30+Y30+GK30,2)+GX30,0) -> 0 | GR30: 0 | GS30: 3 | GT30: 0 | GV30: =ROUND(GT30,2) -> 0 | GW30: 1 | GX30: =ROUND(GV30*GW30*I30,2) -> 0 | HA30: 0 | HB30: 0 | IK30: 0
A31: 18 | B31: 1 | C31: 12 | E31: 3,1 | F31: 08.1.02.03-0021 | G31: Водоотлив оконный шириной планки 250 мм из оцинкованной стали с полимерным покрытием | H31: П.М | I31: =I30*J31 -> 2.64 | J31: 100 | O31: =ROUND(CP31,2) -> 455.29 | P31: =ROUND(CQ31*I31,2) -> 455.29 | Q31: =ROUND(CR31*I31,2) -> 0 | R31: =ROUND(CS31*I31,2) -> 0 | S31: =ROUND(CT31*I31,2) -> 0 | T31: =ROUND(CU31*I31,2) -> 0 | U31: =CV31*I31 -> 0 | V31: =CW31*I31 -> 0 | W31: =ROUND(CX31*I31,2) -> 0 | X31: =ROUND(CY31,2) -> 0 | Y31: =ROUND(CZ31,2) -> 0 | AA31: 39083528 | AB31: =ROUND((AC31+AD31+AF31),2) -> 26.41 | AC31: =ROUND((ES31),2) -> 26.41 | AD31: =ROUND((((ET31)-(EU31))+AE31),2) -> 0 | AE31: =ROUND((EU31),2) -> 0 | AF31: =ROUND((EV31),2) -> 0 | AG31: =ROUND((AP31),2) -> 0 | AH31: =(EW31) -> 0 | AI31: =(EX31) -> 0 | AJ31: =ROUND((AS31),2) -> 0 | AK31: 26.41 | AL31: 26.41 | AM31: 0 | AN31: 0 | AO31: 0 | AP31: 0 | AQ31: 0 | AR31: 0 | AS31: 0 | AT31: 83 | AU31: 65 | AV31: 1 | AW31: 1 | AZ31: 6.53 | BA31: 1 | BB31: 1 | BC31: 6.53 | BH31: 3 | BI31: 1 | BJ31: ФССЦ-2001, 08.1.02.03-0021, приказ Минстроя России №1039/пр от 30.12.2016г. | BM31: 58001 | BN31: 0 | BP31: 0 | BQ31: 6 | BR31: 0 | BS31: 1 | BT31: 1 | BU31: 1 | BV31: 1 | BW31: 1 | BX31: 1 | BZ31: 83 | CA31: 65 | CF31: 0 | CG31: 0 | CM31: 0 | CO31: 0 | CP31: =(P31+Q31+S31) -> 455.29 | CQ31: =AC31*BC31 -> 172.4573 | CR31: =AD31*BB31 -> 0 | CS31: =AE31*BS31 -> 0 | CT31: =AF31*BA31 -> 0 | CU31: =AG31 -> 0 | CV31: =AH31 -> 0 | CW31: =AI31 -> 0 | CX31: =AJ31 -> 0 | CY31: =(((S31+R31)*AT31)/100) -> 0 | CZ31: =(((S31+R31)*AU31)/100) -> 0 | DN31: 0 | DO31: 0 | DP31: 1 | DQ31: 1 | DU31: 1013 | DV31: П.М | DW31: П.М | DX31: 1 | EE31: 39174583 | EF31: 6 | EG31: Ремонтно-строительные работы | EH31: 0 | EJ31: 1 | EK31: 58001 | EL31: Крыши, кровля | EM31: рФЕР-58 | EQ31: 0 | ER31: 26.41 | ES31: 26.41 | ET31: 0 | EU31: 0 | EV31: 0 | EW31: 0 | EX31: 0 | FQ31: 0 | FR31: =ROUND(IF(AND(BH31=3,BI31=3),P31,0),2) -> 0 | FS31: 0 | FX31: 83 | FY31: 65 | GD31: 0 | GF31: 977476121 | GG31: 1 | GH31: 1 | GI31: 4 | GJ31: 0 | GK31: =ROUND(R31*(R12)/100,2) -> 0 | GL31: =ROUND(IF(AND(BH31=3,BI31=3,FS31<>0),P31,0),2) -> 0 | GM31: =ROUND(O31+X31+Y31+GK31,2)+GX31 -> 455.29 | GN31: =IF(OR(BI31=0,BI31=1),ROUND(O31+X31+Y31+GK31,2),0) -> 455.29 | GO31: =IF(BI31=2,ROUND(O31+X31+Y31+GK31,2),0) -> 0 | GP31: =IF(BI31=4,ROUND(O31+X31+Y31+GK31,2)+GX31,0) -> 0 | GR31: 0 | GS31: 3 | GT31: 0 | GV31: =ROUND(GT31,2) -> 0 | GW31: 1 | GX31: =ROUND(GV31*GW31*I31,2) -> 0 | HA31: 0 | HB31: 0 | IK31: 0
A32: 17 | B32: 1 | C32: =ROW(SmtRes!A18) -> 18 | D32: =ROW(EtalonRes!A19) -> 19 | E32: 4 | F32: 63-7-5 | G32: Разборка облицовки стен из керамических глазурованных плиток | H32: 100 м2 | I32: =ROUND(89.64/100,9) -> 0.8964 | J32: 0 | O32: =ROUND(CP32,2) -> 3828.18 | P32: =ROUND(CQ32*I32,2) -> 0 | Q32: =ROUND(CR32*I32,2) -> 405.41 | R32: =ROUND(CS32*I32,2) -> 27.69 | S32: =ROUND(CT32*I32,2) -> 3422.77 | T32: =ROUND(CU32*I32,2) -> 0 | U32: =CV32*I32 -> 66.60252 | V32: =CW32*I32 -> 0.31374 | W32: =ROUND(CX32*I32,2) -> 0 | X32: =ROUND(CY32,2) -> 2656.85 | Y32: =ROUND(CZ32,2) -> 1725.23 | AA32: 39083528 | AB32: =ROUND((AC32+AD32+AF32),2) -> 654 | AC32: =ROUND((ES32),2) -> 0 | AD32: =ROUND((((ET32)-(EU32))+AE32),2) -> 69.26 | AE32: =ROUND((EU32),2) -> 4.73 | AF32: =ROUND((EV32),2) -> 584.74 | AG32: =ROUND((AP32),2) -> 0 | AH32: =(EW32) -> 74.3 | AI32: =(EX32) -> 0.35 | AJ32: =ROUND((AS32),2) -> 0 | AK32: 654 | AL32: 0 | AM32: 69.26 | AN32: 4.73 | AO32: 584.74 | AP32: 0 | AQ32: 74.3 | AR32: 0.35 | AS32: 0 | AT32: 77 | AU32: 50 | AV32: 1 | AW32: 1 | AZ32: 6.53 | BA32: 6.53 | BB32: 6.53 | BC32: 6.53 | BH32: 0 | BI32: 1 | BJ32: ФЕР-2001, 63-7-5, приказ Минстроя России №1039/пр от 30.12.2016г. | BM32: 63001 | BN32: 0 | BP32: 0 | BQ32: 6 | BR32: 0 | BS32: 6.53 | BT32: 1 | BU32: 1 | BV32: 1 | BW32: 1 | BX32: 1 | BZ32: 77 | CA32: 50 | CF32: 0 | CG32: 0 | CM32: 0 | CO32: 0 | CP32: =(P32+Q32+S32) -> 3828.18 | CQ32: =AC32*BC32 -> 0 | CR32: =AD32*BB32 -> 452.2678 | CS32: =AE32*BS32 -> 30.8869 | CT32: =AF32*BA32 -> 3818.3522 | CU32: =AG32 -> 0 | CV32: =AH32 -> 74.3 | CW32: =AI32 -> 0.35 | CX32: =AJ32 -> 0 | CY32: =(((S32+R32)*AT32)/100) -> 2656.8542 | CZ32: =(((S32+R32)*AU32)/100) -> 1725.23 | DN32: 0 | DO32: 0 | DP32: 1 | DQ32: 1 | DU32: 1005 | DV32: 100 м2 | DW32: 100 м2 | DX32: 100 | EE32: 39174588 | EF32: 6 | EG32: Ремонтно-строительные работы | EH32: 0 | EJ32: 1 | EK32: 63001 | EL32: Стекольные, обойные, облицовочные работы | EM32: рФЕР-63 | EQ32: 0 | ER32: 654 | ES32: 0 | ET32: 69.26 | EU32: 4.73 | EV32: 584.74 | EW32: 74.3 | EX32: 0.35 | EY32: 0 | FQ32: 0 | FR32: =ROUND(IF(AND(BH32=3,BI32=3),P32,0),2) -> 0 | FS32: 0 | FX32: 77 | FY32: 50 | GD32: 0 | GF32: -1765919460 | GG32: 1 | GH32: 1 | GI32: 4 | GJ32: 0 | GK32: =ROUND(R32*(R12)/100,2) -> 0 | GL32: =ROUND(IF(AND(BH32=3,BI32=3,FS32<>0),P32,0),2) -> 0 | GM32: =ROUND(O32+X32+Y32+GK32,2)+GX32 -> 8210.26 | GN32: =IF(OR(BI32=0,BI32=1),ROUND(O32+X32+Y32+GK32,2),0) -> 8210.26 | GO32: =IF(BI32=2,ROUND(O32+X32+Y32+GK32,2),0) -> 0 | GP32: =IF(BI32=4,ROUND(O32+X32+Y32+GK32,2)+GX32,0) -> 0 | GR32: 0 | GS32: 3 | GT32: 0 | GV32: =ROUND(GT32,2) -> 0 | GW32: 1 | GX32: =ROUND(GV32*GW32*I32,2) -> 0 | HA32: 0 | HB32: 0 | IK32: 0
A33: 17 | B33: 1 | C33: =ROW(SmtRes!A19) -> 19 | D33: =ROW(EtalonRes!A20) -> 20 | E33: 5 | F33: 46-02-009-02 | G33: Отбивка штукатурки с поверхностей стен и потолков кирпичных | H33: 100 м2 | I33: =ROUND(210.8/100,9) -> 2.108 | J33: 0 | O33: =ROUND(CP33,2) -> 2450.21 | P33: =ROUND(CQ33*I33,2) -> 0 | Q33: =ROUND(CR33*I33,2) -> 0 | R33: =ROUND(CS33*I33,2) -> 0 | S33: =ROUND(CT33*I33,2) -> 2450.21 | T33: =ROUND(CU33*I33,2) -> 0 | U33: =CV33*I33 -> 48.10456 | V33: =CW33*I33 -> 0 | W33: =ROUND(CX33*I33,2) -> 0 | X33: =ROUND(CY33,2) -> 2425.71 | Y33: =ROUND(CZ33,2) -> 1470.13 | AA33: 39083528 | AB33: =ROUND((AC33+AD33+AF33),2) -> 178 | AC33: =ROUND((ES33),2) -> 0 | AD33: =ROUND((((ET33)-(EU33))+AE33),2) -> 0 | AE33: =ROUND((EU33),2) -> 0 | AF33: =ROUND((EV33),2) -> 178 | AG33: =ROUND((AP33),2) -> 0 | AH33: =(EW33) -> 22.82 | AI33: =(EX33) -> 0 | AJ33: =ROUND((AS33),2) -> 0 | AK33: 178 | AL33: 0 | AM33: 0 | AN33: 0 | AO33: 178 | AP33: 0 | AQ33: 22.82 | AR33: 0 | AS33: 0 | AT33: 99 | AU33: 60 | AV33: 1 | AW33: 1 | AZ33: 6.53 | BA33: 6.53 | BB33: 6.53 | BC33: 6.53 | BH33: 0 | BI33: 1 | BJ33: ФЕР-2001, 46-02-009-02, приказ Минстроя России №1039/пр от 30.12.2016г. | BM33: 46001 | BN33: 0 | BP33: 0 | BQ33: 2 | BR33: 0 | BS33: 6.53 | BT33: 1 | BU33: 1 | BV33: 1 | BW33: 1 | BX33: 1 | BZ33: 110 | CA33: 70 | CF33: 0 | CG33: 0 | CM33: 0 | CO33: 0 | CP33: =(P33+Q33+S33) -> 2450.21 | CQ33: =AC33*BC33 -> 0 | CR33: =AD33*BB33 -> 0 | CS33: =AE33*BS33 -> 0 | CT33: =AF33*BA33 -> 1162.34 | CU33: =AG33 -> 0 | CV33: =AH33 -> 22.82 | CW33: =AI33 -> 0 | CX33: =AJ33 -> 0 | CY33: =(((S33+R33)*AT33)/100) -> 2425.7079 | CZ33: =(((S33+R33)*AU33)/100) -> 1470.126 | DN33: 0 | DO33: 0 | DP33: 1 | DQ33: 1 | DU33: 1005 | DV33: 100 м2 | DW33: 100 м2 | DX33: 100 | EE33: 39174571 | EF33: 2 | EG33: Общестроительные работы | EH33: 0 | EJ33: 1 | EK33: 46001 | EL33: Реконструкция зданий и сооружений | EM33: ФЕР-46 | EQ33: 0 | ER33: 178 | ES33: 0 | ET33: 0 | EU33: 0 | EV33: 178 | EW33: 22.82 | EX33: 0 | EY33: 0 | FQ33: 0 | FR33: =ROUND(IF(AND(BH33=3,BI33=3),P33,0),2) -> 0 | FS33: 0 | FT33: *0,9 | FU33: *0,85 | FX33: 99 | FY33: 59.5 | GD33: 0 | GF33: 1716417608 | GG33: 1 | GH33: 1 | GI33: 4 | GJ33: 0 | GK33: =ROUND(R33*(R12)/100,2) -> 0 | GL33: =ROUND(IF(AND(BH33=3,BI33=3,FS33<>0),P33,0),2) -> 0 | GM33: =ROUND(O33+X33+Y33+GK33,2)+GX33 -> 6346.05 | GN33: =IF(OR(BI33=0,BI33=1),ROUND(O33+X33+Y33+GK33,2),0) -> 6346.05 | GO33: =IF(BI33=2,ROUND(O33+X33+Y33+GK33,2),0) -> 0 | GP33: =IF(BI33=4,ROUND(O33+X33+Y33+GK33,2)+GX33,0) -> 0 | GR33: 0 | GS33: 3 | GT33: 0 | GV33: =ROUND(GT33,2) -> 0 | GW33: 1 | GX33: =ROUND(GV33*GW33*I33,2) -> 0 | HA33: 0 | HB33: 0 | IK33: 0
A34: 17 | B34: 1 | C34: =ROW(SmtRes!A22) -> 22 | D34: =ROW(EtalonRes!A23) -> 23 | E34: 6 | F34: 46-04-001-04 | G34: Разборка кирпичного пъедестала | H34: м3 | I34: 8.88 | J34: 0 | O34: =ROUND(CP34,2) -> 6605.23 | P34: =ROUND(CQ34*I34,2) -> 0 | Q34: =ROUND(CR34*I34,2) -> 2371.64 | R34: =ROUND(CS34*I34,2) -> 0 | S34: =ROUND(CT34*I34,2) -> 4233.59 | T34: =ROUND(CU34*I34,2) -> 0 | U34: =CV34*I34 -> 73.1712 | V34: =CW34*I34 -> 0 | W34: =ROUND(CX34*I34,2) -> 0 | X34: =ROUND(CY34,2) -> 4191.25 | Y34: =ROUND(CZ34,2) -> 2540.15 | AA34: 39083528 | AB34: =ROUND((AC34+AD34+AF34),2) -> 113.91 | AC34: =ROUND((ES34),2) -> 0 | AD34: =ROUND((((ET34)-(EU34))+AE34),2) -> 40.9 | AE34: =ROUND((EU34),2) -> 0 | AF34: =ROUND((EV34),2) -> 73.01 | AG34: =ROUND((AP34),2) -> 0 | AH34: =(EW34) -> 8.24 | AI34: =(EX34) -> 0 | AJ34: =ROUND((AS34),2) -> 0 | AK34: 113.91 | AL34: 0 | AM34: 40.9 | AN34: 0 | AO34: 73.01 | AP34: 0 | AQ34: 8.24 | AR34: 0 | AS34: 0 | AT34: 99 | AU34: 60 | AV34: 1 | AW34: 1 | AZ34: 6.53 | BA34: 6.53 | BB34: 6.53 | BC34: 6.53 | BH34: 0 | BI34: 1 | BJ34: ФЕР-2001, 46-04-001-04, приказ Минстроя России №1039/пр от 30.12.2016г. | BM34: 46001 | BN34: 0 | BP34: 0 | BQ34: 2 | BR34: 0 | BS34: 6.53 | BT34: 1 | BU34: 1 | BV34: 1 | BW34: 1 | BX34: 1 | BZ34: 110 | CA34: 70 | CF34: 0 | CG34: 0 | CM34: 0 | CO34: 0 | CP34: =(P34+Q34+S34) -> 6605.23 | CQ34: =AC34*BC34 -> 0 | CR34: =AD34*BB34 -> 267.077 | CS34: =AE34*BS34 -> 0 | CT34: =AF34*BA34 -> 476.7553 | CU34: =AG34 -> 0 | CV34: =AH34 -> 8.24 | CW34: =AI34 -> 0 | CX34: =AJ34 -> 0 | CY34: =(((S34+R34)*AT34)/100) -> 4191.2541 | CZ34: =(((S34+R34)*AU34)/100) -> 2540.154 | DN34: 0 | DO34: 0 | DP34: 1 | DQ34: 1 | DU34: 1007 | DV34: м3 | DW34: м3 | DX34: 1 | EE34: 39174571 | EF34: 2 | EG34: Общестроительные работы | EH34: 0 | EJ34: 1 | EK34: 46001 | EL34: Реконструкция зданий и сооружений | EM34: ФЕР-46 | EQ34: 0 | ER34: 113.91 | ES34: 0 | ET34: 40.9 | EU34: 0 | EV34: 73.01 | EW34: 8.24 | EX34: 0 | EY34: 0 | FQ34: 0 | FR34: =ROUND(IF(AND(BH34=3,BI34=3),P34,0),2) -> 0 | FS34: 0 | FT34: *0,9 | FU34: *0,85 | FX34: 99 | FY34: 59.5 | GD34: 0 | GF34: -1395719548 | GG34: 1 | GH34: 1 | GI34: 4 | GJ34: 0 | GK34: =ROUND(R34*(R12)/100,2) -> 0 | GL34: =ROUND(IF(AND(BH34=3,BI34=3,FS34<>0),P34,0),2) -> 0 | GM34: =ROUND(O34+X34+Y34+GK34,2)+GX34 -> 13336.63 | GN34: =IF(OR(BI34=0,BI34=1),ROUND(O34+X34+Y34+GK34,2),0) -> 13336.63 | GO34: =IF(BI34=2,ROUND(O34+X34+Y34+GK34,2),0) -> 0 | GP34: =IF(BI34=4,ROUND(O34+X34+Y34+GK34,2)+GX34,0) -> 0 | GR34: 0 | GS34: 3 | GT34: 0 | GV34: =ROUND(GT34,2) -> 0 | GW34: 1 | GX34: =ROUND(GV34*GW34*I34,2) -> 0 | HA34: 0 | HB34: 0 | IK34: 0
A35: 17 | B35: 1 | C35: =ROW(SmtRes!A26) -> 26 | D35: =ROW(EtalonRes!A27) -> 27 | E35: 7 | F35: 57-2-3 | G35: Разборка покрытий полов из керамических плиток | H35: 100 м2 | I35: =ROUND(38.2/100,9) -> 0.382 | J35: 0 | O35: =ROUND(CP35,2) -> 1598.95 | P35: =ROUND(CQ35*I35,2) -> 0 | Q35: =ROUND(CR35*I35,2) -> 112.28 | R35: =ROUND(CS35*I35,2) -> 48.49 | S35: =ROUND(CT35*I35,2) -> 1486.67 | T35: =ROUND(CU35*I35,2) -> 0 | U35: =CV35*I35 -> 26.69034 | V35: =CW35*I35 -> 0.55008 | W35: =ROUND(CX35*I35,2) -> 0 | X35: =ROUND(CY35,2) -> 1228.13 | Y35: =ROUND(CZ35,2) -> 1043.91 | AA35: 39083528 | AB35: =ROUND((AC35+AD35+AF35),2) -> 641 | AC35: =ROUND((ES35),2) -> 0 | AD35: =ROUND((((ET35)-(EU35))+AE35),2) -> 45.01 | AE35: =ROUND((EU35),2) -> 19.44 | AF35: =ROUND((EV35),2) -> 595.99 | AG35: =ROUND((AP35),2) -> 0 | AH35: =(EW35) -> 69.87 | AI35: =(EX35) -> 1.44 | AJ35: =ROUND((AS35),2) -> 0 | AK35: 641 | AL35: 0 | AM35: 45.01 | AN35: 19.44 | AO35: 595.99 | AP35: 0 | AQ35: 69.87 | AR35: 1.44 | AS35: 0 | AT35: 80 | AU35: 68 | AV35: 1 | AW35: 1 | AZ35: 6.53 | BA35: 6.53 | BB35: 6.53 | BC35: 6.53 | BH35: 0 | BI35: 1 | BJ35: ФЕР-2001, 57-2-3, приказ Минстроя России №1039/пр от 30.12.2016г. | BM35: 57001 | BN35: 0 | BP35: 0 | BQ35: 6 | BR35: 0 | BS35: 6.53 | BT35: 1 | BU35: 1 | BV35: 1 | BW35: 1 | BX35: 1 | BZ35: 80 | CA35: 68 | CF35: 0 | CG35: 0 | CM35: 0 | CO35: 0 | CP35: =(P35+Q35+S35) -> 1598.95 | CQ35: =AC35*BC35 -> 0 | CR35: =AD35*BB35 -> 293.9153 | CS35: =AE35*BS35 -> 126.9432 | CT35: =AF35*BA35 -> 3891.8147 | CU35: =AG35 -> 0 | CV35: =AH35 -> 69.87 | CW35: =AI35 -> 1.44 | CX35: =AJ35 -> 0 | CY35: =(((S35+R35)*AT35)/100) -> 1228.128 | CZ35: =(((S35+R35)*AU35)/100) -> 1043.9088 | DN35: 0 | DO35: 0 | DP35: 1 | DQ35: 1 | DU35: 1005 | DV35: 100 м2 | DW35: 100 м2 | DX35: 100 | EE35: 39174582 | EF35: 6 | EG35: Ремонтно-строительные работы | EH35: 0 | EJ35: 1 | EK35: 57001 | EL35: Полы | EM35: рФЕР-57 | EQ35: 0 | ER35: 641 | ES35: 0 | ET35: 45.01 | EU35: 19.44 | EV35: 595.99 | EW35: 69.87 | EX35: 1.44 | EY35: 0 | FQ35: 0 | FR35: =ROUND(IF(AND(BH35=3,BI35=3),P35,0),2) -> 0 | FS35: 0 | FX35: 80 | FY35: 68 | GD35: 0 | GF35: 1406297217 | GG35: 1 | GH35: 1 | GI35: 4 | GJ35: 0 | GK35: =ROUND(R35*(R12)/100,2) -> 0 | GL35: =ROUND(IF(AND(BH35=3,BI35=3,FS35<>0),P35,0),2) -> 0 | GM35: =ROUND(O35+X35+Y35+GK35,2)+GX35 -> 3870.99 | GN35: =IF(OR(BI35=0,BI35=1),ROUND(O35+X35+Y35+GK35,2),0) -> 3870.99 | GO35: =IF(BI35=2,ROUND(O35+X35+Y35+GK35,2),0) -> 0 | GP35: =IF(BI35=4,ROUND(O35+X35+Y35+GK35,2)+GX35,0) -> 0 | GR35: 0 | GS35: 3 | GT35: 0 | GV35: =ROUND(GT35,2) -> 0 | GW35: 1 | GX35: =ROUND(GV35*GW35*I35,2) -> 0 | HA35: 0 | HB35: 0 | IK35: 0
A36: 18 | B36: 1 | C36: 26 | E36: 7,1 | F36: 01.7.07.07 | G36: Строительный мусор | H36: т | I36: =I35*J36 -> 1.9864 | J36: 5.2 | O36: =ROUND(CP36,2) -> 0 | P36: =ROUND(CQ36*I36,2) -> 0 | Q36: =ROUND(CR36*I36,2) -> 0 | R36: =ROUND(CS36*I36,2) -> 0 | S36: =ROUND(CT36*I36,2) -> 0 | T36: =ROUND(CU36*I36,2) -> 0 | U36: =CV36*I36 -> 0 | V36: =CW36*I36 -> 0 | W36: =ROUND(CX36*I36,2) -> 0 | X36: =ROUND(CY36,2) -> 0 | Y36: =ROUND(CZ36,2) -> 0 | AA36: 39083528 | AB36: =ROUND((AC36+AD36+AF36),2) -> 0 | AC36: =ROUND((ES36),2) -> 0 | AD36: =ROUND((((ET36)-(EU36))+AE36),2) -> 0 | AE36: =ROUND((EU36),2) -> 0 | AF36: =ROUND((EV36),2) -> 0 | AG36: =ROUND((AP36),2) -> 0 | AH36: =(EW36) -> 0 | AI36: =(EX36) -> 0 | AJ36: =ROUND((AS36),2) -> 0 | AK36: 0 | AL36: 0 | AM36: 0 | AN36: 0 | AO36: 0 | AP36: 0 | AQ36: 0 | AR36: 0 | AS36: 0 | AT36: 80 | AU36: 68 | AV36: 1 | AW36: 1 | AZ36: 6.53 | BA36: 1 | BB36: 1 | BC36: 6.53 | BH36: 3 | BI36: 1 | BM36: 57001 | BN36: 0 | BP36: 0 | BQ36: 6 | BR36: 0 | BS36: 1 | BT36: 1 | BU36: 1 | BV36: 1 | BW36: 1 | BX36: 1 | BZ36: 80 | CA36: 68 | CF36: 0 | CG36: 0 | CM36: 0 | CO36: 0 | CP36: =(P36+Q36+S36) -> 0 | CQ36: =AC36*BC36 -> 0 | CR36: =AD36*BB36 -> 0 | CS36: =AE36*BS36 -> 0 | CT36: =AF36*BA36 -> 0 | CU36: =AG36 -> 0 | CV36: =AH36 -> 0 | CW36: =AI36 -> 0 | CX36: =AJ36 -> 0 | CY36: =(((S36+R36)*AT36)/100) -> 0 | CZ36: =(((S36+R36)*AU36)/100) -> 0 | DN36: 0 | DO36: 0 | DP36: 1 | DQ36: 1 | DU36: 1009 | DV36: т | DW36: т | DX36: 1000 | EE36: 39174582 | EF36: 6 | EG36: Ремонтно-строительные работы | EH36: 0 | EJ36: 1 | EK36: 57001 | EL36: Полы | EM36: рФЕР-57 | EQ36: 0 | ER36: 0 | ES36: 0 | ET36: 0 | EU36: 0 | EV36: 0 | EW36: 0 | EX36: 0 | FQ36: 0 | FR36: =ROUND(IF(AND(BH36=3,BI36=3),P36,0),2) -> 0 | FS36: 0 | FX36: 80 | FY36: 68 | GD36: 0 | GF36: -179832266 | GG36: 1 | GH36: 1 | GI36: 4 | GJ36: 0 | GK36: =ROUND(R36*(R12)/100,2) -> 0 | GL36: =ROUND(IF(AND(BH36=3,BI36=3,FS36<>0),P36,0),2) -> 0 | GM36: =ROUND(O36+X36+Y36+GK36,2)+GX36 -> 0 | GN36: =IF(OR(BI36=0,BI36=1),ROUND(O36+X36+Y36+GK36,2),0) -> 0 | GO36: =IF(BI36=2,ROUND(O36+X36+Y36+GK36,2),0) -> 0 | GP36: =IF(BI36=4,ROUND(O36+X36+Y36+GK36,2)+GX36,0) -> 0 | GR36: 0 | GS36: 3 | GT36: 0 | GV36: =ROUND(GT36,2) -> 0 | GW36: 1 | GX36: =ROUND(GV36*GW36*I36,2) -> 0 | HA36: 0 | HB36: 0 | IK36: 0
A37: 17 | B37: 1 | C37: =ROW(SmtRes!A32) -> 32 | D37: =ROW(EtalonRes!A33) -> 33 | E37: 8 | F37: 57-2-4 | G37: Разборка покрытий полов цементных толщиной до 150 мм | H37: 100 м2 | I37: =ROUND(38.2/100,9) -> 0.382 | J37: 0 | O37: =ROUND(CP37,2) -> 4209.56 | P37: =ROUND(CQ37*I37,2) -> 0 | Q37: =ROUND(CR37*I37,2) -> 1843.46 | R37: =ROUND(CS37*I37,2) -> 60.62 | S37: =ROUND(CT37*I37,2) -> 2366.1 | T37: =ROUND(CU37*I37,2) -> 0 | U37: =CV37*I37 -> 42.4784 | V37: =CW37*I37 -> 0.6876 | W37: =ROUND(CX37*I37,2) -> 0 | X37: =ROUND(CY37,2) -> 1941.38 | Y37: =ROUND(CZ37,2) -> 1650.17 | AA37: 39083528 | AB37: =ROUND((AC37+AD37+AF37),2) -> 1687.56 | AC37: =ROUND((ES37),2) -> 0 | AD37: =ROUND((((ET37)-(EU37))+AE37),2) -> 739.02 | AE37: =ROUND((EU37),2) -> 24.3 | AF37: =ROUND((EV37),2) -> 948.54 | AG37: =ROUND((AP37),2) -> 0 | AH37: =(EW37) -> 111.2 | AI37: =(EX37) -> 1.8 | AJ37: =ROUND((AS37),2) -> 0 | AK37: 1687.56 | AL37: 0 | AM37: 739.02 | AN37: 24.3 | AO37: 948.54 | AP37: 0 | AQ37: 111.2 | AR37: 1.8 | AS37: 0 | AT37: 80 | AU37: 68 | AV37: 1 | AW37: 1 | AZ37: 6.53 | BA37: 6.53 | BB37: 6.53 | BC37: 6.53 | BH37: 0 | BI37: 1 | BJ37: ФЕР-2001, 57-2-4, приказ Минстроя России №1039/пр от 30.12.2016г. | BM37: 57001 | BN37: 0 | BP37: 0 | BQ37: 6 | BR37: 0 | BS37: 6.53 | BT37: 1 | BU37: 1 | BV37: 1 | BW37: 1 | BX37: 1 | BZ37: 80 | CA37: 68 | CF37: 0 | CG37: 0 | CM37: 0 | CO37: 0 | CP37: =(P37+Q37+S37) -> 4209.56 | CQ37: =AC37*BC37 -> 0 | CR37: =AD37*BB37 -> 4825.8006 | CS37: =AE37*BS37 -> 158.679 | CT37: =AF37*BA37 -> 6193.9662 | CU37: =AG37 -> 0 | CV37: =AH37 -> 111.2 | CW37: =AI37 -> 1.8 | CX37: =AJ37 -> 0 | CY37: =(((S37+R37)*AT37)/100) -> 1941.376 | CZ37: =(((S37+R37)*AU37)/100) -> 1650.1696 | DN37: 0 | DO37: 0 | DP37: 1 | DQ37: 1 | DU37: 1005 | DV37: 100 м2 | DW37: 100 м2 | DX37: 100 | EE37: 39174582 | EF37: 6 | EG37: Ремонтно-строительные работы | EH37: 0 | EJ37: 1 | EK37: 57001 | EL37: Полы | EM37: рФЕР-57 | EQ37: 0 | ER37: 1687.56 | ES37: 0 | ET37: 739.02 | EU37: 24.3 | EV37: 948.54 | EW37: 111.2 | EX37: 1.8 | EY37: 0 | FQ37: 0 | FR37: =ROUND(IF(AND(BH37=3,BI37=3),P37,0),2) -> 0 | FS37: 0 | FX37: 80 | FY37: 68 | GD37: 0 | GF37: -1288204879 | GG37: 1 | GH37: 1 | GI37: 4 | GJ37: 0 | GK37: =ROUND(R37*(R12)/100,2) -> 0 | GL37: =ROUND(IF(AND(BH37=3,BI37=3,FS37<>0),P37,0),2) -> 0 | GM37: =ROUND(O37+X37+Y37+GK37,2)+GX37 -> 7801.11 | GN37: =IF(OR(BI37=0,BI37=1),ROUND(O37+X37+Y37+GK37,2),0) -> 7801.11 | GO37: =IF(BI37=2,ROUND(O37+X37+Y37+GK37,2),0) -> 0 | GP37: =IF(BI37=4,ROUND(O37+X37+Y37+GK37,2)+GX37,0) -> 0 | GR37: 0 | GS37: 3 | GT37: 0 | GV37: =ROUND(GT37,2) -> 0 | GW37: 1 | GX37: =ROUND(GV37*GW37*I37,2) -> 0 | HA37: 0 | HB37: 0 | IK37: 0
A38: 18 | B38: 1 | C38: 32 | E38: 8,1 | F38: 01.7.07.07 | G38: Строительный мусор | H38: т | I38: =I37*J38 -> 2.5212 | J38: 6.6 | O38: =ROUND(CP38,2) -> 0 | P38: =ROUND(CQ38*I38,2) -> 0 | Q38: =ROUND(CR38*I38,2) -> 0 | R38: =ROUND(CS38*I38,2) -> 0 | S38: =ROUND(CT38*I38,2) -> 0 | T38: =ROUND(CU38*I38,2) -> 0 | U38: =CV38*I38 -> 0 | V38: =CW38*I38 -> 0 | W38: =ROUND(CX38*I38,2) -> 0 | X38: =ROUND(CY38,2) -> 0 | Y38: =ROUND(CZ38,2) -> 0 | AA38: 39083528 | AB38: =ROUND((AC38+AD38+AF38),2) -> 0 | AC38: =ROUND((ES38),2) -> 0 | AD38: =ROUND((((ET38)-(EU38))+AE38),2) -> 0 | AE38: =ROUND((EU38),2) -> 0 | AF38: =ROUND((EV38),2) -> 0 | AG38: =ROUND((AP38),2) -> 0 | AH38: =(EW38) -> 0 | AI38: =(EX38) -> 0 | AJ38: =ROUND((AS38),2) -> 0 | AK38: 0 | AL38: 0 | AM38: 0 | AN38: 0 | AO38: 0 | AP38: 0 | AQ38: 0 | AR38: 0 | AS38: 0 | AT38: 80 | AU38: 68 | AV38: 1 | AW38: 1 | AZ38: 6.53 | BA38: 1 | BB38: 1 | BC38: 6.53 | BH38: 3 | BI38: 1 | BM38: 57001 | BN38: 0 | BP38: 0 | BQ38: 6 | BR38: 0 | BS38: 1 | BT38: 1 | BU38: 1 | BV38: 1 | BW38: 1 | BX38: 1 | BZ38: 80 | CA38: 68 | CF38: 0 | CG38: 0 | CM38: 0 | CO38: 0 | CP38: =(P38+Q38+S38) -> 0 | CQ38: =AC38*BC38 -> 0 | CR38: =AD38*BB38 -> 0 | CS38: =AE38*BS38 -> 0 | CT38: =AF38*BA38 -> 0 | CU38: =AG38 -> 0 | CV38: =AH38 -> 0 | CW38: =AI38 -> 0 | CX38: =AJ38 -> 0 | CY38: =(((S38+R38)*AT38)/100) -> 0 | CZ38: =(((S38+R38)*AU38)/100) -> 0 | DN38: 0 | DO38: 0 | DP38: 1 | DQ38: 1 | DU38: 1009 | DV38: т | DW38: т | DX38: 1000 | EE38: 39174582 | EF38: 6 | EG38: Ремонтно-строительные работы | EH38: 0 | EJ38: 1 | EK38: 57001 | EL38: Полы | EM38: рФЕР-57 | EQ38: 0 | ER38: 0 | ES38: 0 | ET38: 0 | EU38: 0 | EV38: 0 | EW38: 0 | EX38: 0 | FQ38: 0 | FR38: =ROUND(IF(AND(BH38=3,BI38=3),P38,0),2) -> 0 | FS38: 0 | FX38: 80 | FY38: 68 | GD38: 0 | GF38: -179832266 | GG38: 1 | GH38: 1 | GI38: 4 | GJ38: 0 | GK38: =ROUND(R38*(R12)/100,2) -> 0 | GL38: =ROUND(IF(AND(BH38=3,BI38=3,FS38<>0),P38,0),2) -> 0 | GM38: =ROUND(O38+X38+Y38+GK38,2)+GX38 -> 0 | GN38: =IF(OR(BI38=0,BI38=1),ROUND(O38+X38+Y38+GK38,2),0) -> 0 | GO38: =IF(BI38=2,ROUND(O38+X38+Y38+GK38,2),0) -> 0 | GP38: =IF(BI38=4,ROUND(O38+X38+Y38+GK38,2)+GX38,0) -> 0 | GR38: 0 | GS38: 3 | GT38: 0 | GV38: =ROUND(GT38,2) -> 0 | GW38: 1 | GX38: =ROUND(GV38*GW38*I38,2) -> 0 | HA38: 0 | HB38: 0 | IK38: 0
A39: 17 | B39: 1 | C39: =ROW(SmtRes!A33) -> 33 | D39: =ROW(EtalonRes!A34) -> 34 | E39: 9 | F39: 13-06-003-01 | G39: Очистка поверхности щетками | H39: м2 | I39: 38.2 | J39: 0 | O39: =ROUND(CP39,2) -> 2202.61 | P39: =ROUND(CQ39*I39,2) -> 0 | Q39: =ROUND(CR39*I39,2) -> 0 | R39: =ROUND(CS39*I39,2) -> 0 | S39: =ROUND(CT39*I39,2) -> 2202.61 | T39: =ROUND(CU39*I39,2) -> 0 | U39: =CV39*I39 -> 39.537 | V39: =CW39*I39 -> 0 | W39: =ROUND(CX39*I39,2) -> 0 | X39: =ROUND(CY39,2) -> 1784.11 | Y39: =ROUND(CZ39,2) -> 1321.57 | AA39: 39083528 | AB39: =ROUND((AC39+AD39+AF39),2) -> 8.83 | AC39: =ROUND((ES39),2) -> 0 | AD39: =ROUND(((((ET39*1.25))-((EU39*1.25)))+AE39),2) -> 0 | AE39: =ROUND(((EU39*1.25)),2) -> 0 | AF39: =ROUND(((EV39*1.15)),2) -> 8.83 | AG39: =ROUND((AP39),2) -> 0 | AH39: =((EW39*1.15)) -> 1.035 | AI39: =((EX39*1.25)) -> 0 | AJ39: =ROUND((AS39),2) -> 0 | AK39: 7.68 | AL39: 0 | AM39: 0 | AN39: 0 | AO39: 7.68 | AP39: 0 | AQ39: 0.9 | AR39: 0 | AS39: 0 | AT39: 81 | AU39: 60 | AV39: 1 | AW39: 1 | AZ39: 6.53 | BA39: 6.53 | BB39: 6.53 | BC39: 6.53 | BH39: 0 | BI39: 1 | BJ39: ФЕР-2001, 13-06-003-01, приказ Минстроя России №1039/пр от 30.12.2016г. | BM39: 13001 | BN39: 0 | BP39: 0 | BQ39: 2 | BR39: 0 | BS39: 6.53 | BT39: 1 | BU39: 1 | BV39: 1 | BW39: 1 | BX39: 1 | BZ39: 90 | CA39: 70 | CF39: 0 | CG39: 0 | CM39: 0 | CN39: Поправка: МДС 81-35.2004, п.4.7 Наименование: Работы, выполняемые при реконструкции зданий и сооружений работы, аналогичные технологическим процессам в новом строительстве (в том числе возведение новых конструктивных элементов) стоимость которых определена по соответствующим сборникам ФЕР, кроме сборника № 46 «Работы при реконструкции зданий и сооружений» | CO39: 0 | CP39: =(P39+Q39+S39) -> 2202.61 | CQ39: =AC39*BC39 -> 0 | CR39: =AD39*BB39 -> 0 | CS39: =AE39*BS39 -> 0 | CT39: =AF39*BA39 -> 57.6599 | CU39: =AG39 -> 0 | CV39: =AH39 -> 1.035 | CW39: =AI39 -> 0 | CX39: =AJ39 -> 0 | CY39: =(((S39+R39)*AT39)/100) -> 1784.1141 | CZ39: =(((S39+R39)*AU39)/100) -> 1321.566 | DE39: )*1,25 | DF39: )*1,25 | DG39: )*1,15 | DI39: )*1,15 | DJ39: )*1,25 | DN39: 0 | DO39: 0 | DP39: 1 | DQ39: 1 | DU39: 1005 | DV39: м2 | DW39: м2 | DX39: 1 | EE39: 39174506 | EF39: 2 | EG39: Общестроительные работы | EH39: 0 | EJ39: 1 | EK39: 13001 | EL39: Защита строительных конструкций | EM39: ФЕР-13 | EO39: Поправка: МДС 81-35.2004, п.4.7 | EQ39: 0 | ER39: 7.68 | ES39: 0 | ET39: 0 | EU39: 0 | EV39: 7.68 | EW39: 0.9 | EX39: 0 | EY39: 0 | FQ39: 0 | FR39: =ROUND(IF(AND(BH39=3,BI39=3),P39,0),2) -> 0 | FS39: 0 | FT39: *0,9 | FU39: *0,85 | FX39: 81 | FY39: 59.5 | GD39: 0 | GF39: 1256725681 | GG39: 1 | GH39: 1 | GI39: 4 | GJ39: 0 | GK39: =ROUND(R39*(R12)/100,2) -> 0 | GL39: =ROUND(IF(AND(BH39=3,BI39=3,FS39<>0),P39,0),2) -> 0 | GM39: =ROUND(O39+X39+Y39+GK39,2)+GX39 -> 5308.29 | GN39: =IF(OR(BI39=0,BI39=1),ROUND(O39+X39+Y39+GK39,2),0) -> 5308.29 | GO39: =IF(BI39=2,ROUND(O39+X39+Y39+GK39,2),0) -> 0 | GP39: =IF(BI39=4,ROUND(O39+X39+Y39+GK39,2)+GX39,0) -> 0 | GR39: 0 | GS39: 3 | GT39: 0 | GV39: =ROUND(GT39,2) -> 0 | GW39: 1 | GX39: =ROUND(GV39*GW39*I39,2) -> 0 | HA39: 0 | HB39: 0 | IK39: 0
A40: 17 | B40: 1 | C40: =ROW(SmtRes!A44) -> 44 | D40: =ROW(EtalonRes!A45) -> 45 | E40: 10 | F40: 10-01-039-01 | G40: Установка блоков в наружных и внутренних дверных проемах в каменных стенах, площадь проема до 3 м2 | H40: 100 м2 | I40: =ROUND(7.6/100,9) -> 0.076 | J40: 0 | O40: =ROUND(CP40,2) -> 1915.13 | P40: =ROUND(CQ40*I40,2) -> 845.57 | Q40: =ROUND(CR40*I40,2) -> 600.49 | R40: =ROUND(CS40*I40,2) -> 95.47 | S40: =ROUND(CT40*I40,2) -> 469.07 | T40: =ROUND(CU40*I40,2) -> 0 | U40: =CV40*I40 -> 7.824922 | V40: =CW40*I40 -> 1.1096 | W40: =ROUND(CX40*I40,2) -> 0 | X40: =ROUND(CY40,2) -> 598.41 | Y40: =ROUND(CZ40,2) -> 304.85 | AA40: 39083528 | AB40: =ROUND((AC40+AD40+AF40),2) -> 3858.97 | AC40: =ROUND((ES40),2) -> 1703.82 | AD40: =ROUND(((((ET40*1.25))-((EU40*1.25)))+AE40),2) -> 1209.98 | AE40: =ROUND(((EU40*1.25)),2) -> 192.38 | AF40: =ROUND(((EV40*1.15)),2) -> 945.17 | AG40: =ROUND((AP40),2) -> 0 | AH40: =((EW40*1.15)) -> 102.9595 | AI40: =((EX40*1.25)) -> 14.6 | AJ40: =ROUND((AS40),2) -> 0 | AK40: 3493.69 | AL40: 1703.82 | AM40: 967.98 | AN40: 153.9 | AO40: 821.89 | AP40: 0 | AQ40: 89.53 | AR40: 11.68 | AS40: 0 | AT40: 106 | AU40: 54 | AV40: 1 | AW40: 1 | AZ40: 6.53 | BA40: 6.53 | BB40: 6.53 | BC40: 6.53 | BH40: 0 | BI40: 1 | BJ40: ФЕР-2001, 10-01-039-01, приказ Минстроя России №1039/пр от 30.12.2016г. | BM40: 10001 | BN40: 0 | BP40: 0 | BQ40: 2 | BR40: 0 | BS40: 6.53 | BT40: 1 | BU40: 1 | BV40: 1 | BW40: 1 | BX40: 1 | BZ40: 118 | CA40: 63 | CF40: 0 | CG40: 0 | CM40: 0 | CN40: Поправка: МДС 81-35.2004, п.4.7 Наименование: Работы, выполняемые при реконструкции зданий и сооружений работы, аналогичные технологическим процессам в новом строительстве (в том числе возведение новых конструктивных элементов) стоимость которых определена по соответствующим сборникам ФЕР, кроме сборника № 46 «Работы при реконструкции зданий и сооружений» | CO40: 0 | CP40: =(P40+Q40+S40) -> 1915.13 | CQ40: =AC40*BC40 -> 11125.945 | CR40: =AD40*BB40 -> 7901.1694 | CS40: =AE40*BS40 -> 1256.2414 | CT40: =AF40*BA40 -> 6171.9601 | CU40: =AG40 -> 0 | CV40: =AH40 -> 102.9595 | CW40: =AI40 -> 14.6 | CX40: =AJ40 -> 0 | CY40: =(((S40+R40)*AT40)/100) -> 598.4124 | CZ40: =(((S40+R40)*AU40)/100) -> 304.8516 | DE40: )*1,25 | DF40: )*1,25 | DG40: )*1,15 | DI40: )*1,15 | DJ40: )*1,25 | DN40: 0 | DO40: 0 | DP40: 1 | DQ40: 1 | DU40: 1005 | DV40: 100 м2 | DW40: 100 м2 | DX40: 100 | EE40: 39174503 | EF40: 2 | EG40: Общестроительные работы | EH40: 0 | EJ40: 1 | EK40: 10001 | EL40: Деревянные конструкции | EM40: ФЕР-10 | EO40: Поправка: МДС 81-35.2004, п.4.7 | EQ40: 0 | ER40: 3493.69 | ES40: 1703.82 | ET40: 967.98 | EU40: 153.9 | EV40: 821.89 | EW40: 89.53 | EX40: 11.68 | EY40: 0 | FQ40: 0 | FR40: =ROUND(IF(AND(BH40=3,BI40=3),P40,0),2) -> 0 | FS40: 0 | FT40: *0,9 | FU40: *0,85 | FX40: 106.2 | FY40: 53.55 | GD40: 0 | GF40: -2063365966 | GG40: 1 | GH40: 1 | GI40: 4 | GJ40: 0 | GK40: =ROUND(R40*(R12)/100,2) -> 0 | GL40: =ROUND(IF(AND(BH40=3,BI40=3,FS40<>0),P40,0),2) -> 0 | GM40: =ROUND(O40+X40+Y40+GK40,2)+GX40 -> 2818.39 | GN40: =IF(OR(BI40=0,BI40=1),ROUND(O40+X40+Y40+GK40,2),0) -> 2818.39 | GO40: =IF(BI40=2,ROUND(O40+X40+Y40+GK40,2),0) -> 0 | GP40: =IF(BI40=4,ROUND(O40+X40+Y40+GK40,2)+GX40,0) -> 0 | GR40: 0 | GS40: 3 | GT40: 0 | GV40: =ROUND(GT40,2) -> 0 | GW40: 1 | GX40: =ROUND(GV40*GW40*I40,2) -> 0 | HA40: 0 | HB40: 0 | IK40: 0
A41: 18 | B41: 1 | C41: 38 | E41: 10,1 | F41: 01.7.04.07-0003 | G41: Скобяные изделия для блоков входных дверей в помещение однопольных | H41: компл. | I41: =I40*J41 -> 4 | J41: 52.631579 | O41: =ROUND(CP41,2) -> 2473.04 | P41: =ROUND(CQ41*I41,2) -> 2473.04 | Q41: =ROUND(CR41*I41,2) -> 0 | R41: =ROUND(CS41*I41,2) -> 0 | S41: =ROUND(CT41*I41,2) -> 0 | T41: =ROUND(CU41*I41,2) -> 0 | U41: =CV41*I41 -> 0 | V41: =CW41*I41 -> 0 | W41: =ROUND(CX41*I41,2) -> 0 | X41: =ROUND(CY41,2) -> 0 | Y41: =ROUND(CZ41,2) -> 0 | AA41: 39083528 | AB41: =ROUND((AC41+AD41+AF41),2) -> 94.68 | AC41: =ROUND((ES41),2) -> 94.68 | AD41: =ROUND((((ET41)-(EU41))+AE41),2) -> 0 | AE41: =ROUND((EU41),2) -> 0 | AF41: =ROUND((EV41),2) -> 0 | AG41: =ROUND((AP41),2) -> 0 | AH41: =(EW41) -> 0 | AI41: =(EX41) -> 0 | AJ41: =ROUND((AS41),2) -> 0 | AK41: 94.68 | AL41: 94.68 | AM41: 0 | AN41: 0 | AO41: 0 | AP41: 0 | AQ41: 0 | AR41: 0 | AS41: 0 | AT41: 106 | AU41: 54 | AV41: 1 | AW41: 1 | AZ41: 6.53 | BA41: 1 | BB41: 1 | BC41: 6.53 | BH41: 3 | BI41: 1 | BJ41: ФССЦ-2001, 01.7.04.07-0003, приказ Минстроя России №1039/пр от 30.12.2016г. | BM41: 10001 | BN41: 0 | BP41: 0 | BQ41: 2 | BR41: 0 | BS41: 1 | BT41: 1 | BU41: 1 | BV41: 1 | BW41: 1 | BX41: 1 | BZ41: 118 | CA41: 63 | CF41: 0 | CG41: 0 | CM41: 0 | CO41: 0 | CP41: =(P41+Q41+S41) -> 2473.04 | CQ41: =AC41*BC41 -> 618.2604 | CR41: =AD41*BB41 -> 0 | CS41: =AE41*BS41 -> 0 | CT41: =AF41*BA41 -> 0 | CU41: =AG41 -> 0 | CV41: =AH41 -> 0 | CW41: =AI41 -> 0 | CX41: =AJ41 -> 0 | CY41: =(((S41+R41)*AT41)/100) -> 0 | CZ41: =(((S41+R41)*AU41)/100) -> 0 | DN41: 0 | DO41: 0 | DP41: 1 | DQ41: 1 | DU41: 1013 | DV41: компл. | DW41: компл. | DX41: 1 | EE41: 39174503 | EF41: 2 | EG41: Общестроительные работы | EH41: 0 | EJ41: 1 | EK41: 10001 | EL41: Деревянные конструкции | EM41: ФЕР-10 | EQ41: 0 | ER41: 94.68 | ES41: 94.68 | ET41: 0 | EU41: 0 | EV41: 0 | EW41: 0 | EX41: 0 | FQ41: 0 | FR41: =ROUND(IF(AND(BH41=3,BI41=3),P41,0),2) -> 0 | FS41: 0 | FT41: *0,9 | FU41: *0,85 | FX41: 106.2 | FY41: 53.55 | GD41: 0 | GF41: 602577485 | GG41: 1 | GH41: 1 | GI41: 4 | GJ41: 0 | GK41: =ROUND(R41*(R12)/100,2) -> 0 | GL41: =ROUND(IF(AND(BH41=3,BI41=3,FS41<>0),P41,0),2) -> 0 | GM41: =ROUND(O41+X41+Y41+GK41,2)+GX41 -> 2473.04 | GN41: =IF(OR(BI41=0,BI41=1),ROUND(O41+X41+Y41+GK41,2),0) -> 2473.04 | GO41: =IF(BI41=2,ROUND(O41+X41+Y41+GK41,2),0) -> 0 | GP41: =IF(BI41=4,ROUND(O41+X41+Y41+GK41,2)+GX41,0) -> 0 | GR41: 0 | GS41: 3 | GT41: 0 | GV41: =ROUND(GT41,2) -> 0 | GW41: 1 | GX41: =ROUND(GV41*GW41*I41,2) -> 0 | HA41: 0 | HB41: 0 | IK41: 0
A42: 18 | B42: 1 | C42: 42 | E42: 10,2 | F42: 11.2.02.01-0021 | G42: Блоки дверные внутренние двупольные глухие шлифованные, из массива сосны, без покрытия 1000х2000 мм | H42: м2 | I42: =I40*J42 -> 4 | J42: 52.631579 | O42: =ROUND(CP42,2) -> 25990.18 | P42: =ROUND(CQ42*I42,2) -> 25990.18 | Q42: =ROUND(CR42*I42,2) -> 0 | R42: =ROUND(CS42*I42,2) -> 0 | S42: =ROUND(CT42*I42,2) -> 0 | T42: =ROUND(CU42*I42,2) -> 0 | U42: =CV42*I42 -> 0 | V42: =CW42*I42 -> 0 | W42: =ROUND(CX42*I42,2) -> 0 | X42: =ROUND(CY42,2) -> 0 | Y42: =ROUND(CZ42,2) -> 0 | AA42: 39083528 | AB42: =ROUND((AC42+AD42+AF42),2) -> 995.03 | AC42: =ROUND((ES42),2) -> 995.03 | AD42: =ROUND((((ET42)-(EU42))+AE42),2) -> 0 | AE42: =ROUND((EU42),2) -> 0 | AF42: =ROUND((EV42),2) -> 0 | AG42: =ROUND((AP42),2) -> 0 | AH42: =(EW42) -> 0 | AI42: =(EX42) -> 0 | AJ42: =ROUND((AS42),2) -> 0 | AK42: 995.03 | AL42: 995.03 | AM42: 0 | AN42: 0 | AO42: 0 | AP42: 0 | AQ42: 0 | AR42: 0 | AS42: 0 | AT42: 106 | AU42: 54 | AV42: 1 | AW42: 1 | AZ42: 6.53 | BA42: 1 | BB42: 1 | BC42: 6.53 | BH42: 3 | BI42: 1 | BJ42: ФССЦ-2001, 11.2.02.01-0021, приказ Минстроя России №1039/пр от 30.12.2016г. | BM42: 10001 | BN42: 0 | BP42: 0 | BQ42: 2 | BR42: 0 | BS42: 1 | BT42: 1 | BU42: 1 | BV42: 1 | BW42: 1 | BX42: 1 | BZ42: 118 | CA42: 63 | CF42: 0 | CG42: 0 | CM42: 0 | CO42: 0 | CP42: =(P42+Q42+S42) -> 25990.18 | CQ42: =AC42*BC42 -> 6497.5459 | CR42: =AD42*BB42 -> 0 | CS42: =AE42*BS42 -> 0 | CT42: =AF42*BA42 -> 0 | CU42: =AG42 -> 0 | CV42: =AH42 -> 0 | CW42: =AI42 -> 0 | CX42: =AJ42 -> 0 | CY42: =(((S42+R42)*AT42)/100) -> 0 | CZ42: =(((S42+R42)*AU42)/100) -> 0 | DN42: 0 | DO42: 0 | DP42: 1 | DQ42: 1 | DU42: 1005 | DV42: м2 | DW42: м2 | DX42: 1 | EE42: 39174503 | EF42: 2 | EG42: Общестроительные работы | EH42: 0 | EJ42: 1 | EK42: 10001 | EL42: Деревянные конструкции | EM42: ФЕР-10 | EQ42: 0 | ER42: 995.03 | ES42: 995.03 | ET42: 0 | EU42: 0 | EV42: 0 | EW42: 0 | EX42: 0 | FQ42: 0 | FR42: =ROUND(IF(AND(BH42=3,BI42=3),P42,0),2) -> 0 | FS42: 0 | FT42: *0,9 | FU42: *0,85 | FX42: 106.2 | FY42: 53.55 | GD42: 0 | GF42: 1603208030 | GG42: 1 | GH42: 1 | GI42: 4 | GJ42: 0 | GK42: =ROUND(R42*(R12)/100,2) -> 0 | GL42: =ROUND(IF(AND(BH42=3,BI42=3,FS42<>0),P42,0),2) -> 0 | GM42: =ROUND(O42+X42+Y42+GK42,2)+GX42 -> 25990.18 | GN42: =IF(OR(BI42=0,BI42=1),ROUND(O42+X42+Y42+GK42,2),0) -> 25990.18 | GO42: =IF(BI42=2,ROUND(O42+X42+Y42+GK42,2),0) -> 0 | GP42: =IF(BI42=4,ROUND(O42+X42+Y42+GK42,2)+GX42,0) -> 0 | GR42: 0 | GS42: 3 | GT42: 0 | GV42: =ROUND(GT42,2) -> 0 | GW42: 1 | GX42: =ROUND(GV42*GW42*I42,2) -> 0 | HA42: 0 | HB42: 0 | IK42: 0
A43: 18 | B43: 1 | C43: 43 | E43: 10,3 | F43: 11.2.02.01-0031 | G43: Блоки дверные внутренние однопольные глухие шлифованные, из массива сосны, без покрытия 900х2000 | H43: м2 | I43: =I40*J43 -> 3.6 | J43: 47.368421 | O43: =ROUND(CP43,2) -> 21864.09 | P43: =ROUND(CQ43*I43,2) -> 21864.09 | Q43: =ROUND(CR43*I43,2) -> 0 | R43: =ROUND(CS43*I43,2) -> 0 | S43: =ROUND(CT43*I43,2) -> 0 | T43: =ROUND(CU43*I43,2) -> 0 | U43: =CV43*I43 -> 0 | V43: =CW43*I43 -> 0 | W43: =ROUND(CX43*I43,2) -> 0 | X43: =ROUND(CY43,2) -> 0 | Y43: =ROUND(CZ43,2) -> 0 | AA43: 39083528 | AB43: =ROUND((AC43+AD43+AF43),2) -> 930.07 | AC43: =ROUND((ES43),2) -> 930.07 | AD43: =ROUND((((ET43)-(EU43))+AE43),2) -> 0 | AE43: =ROUND((EU43),2) -> 0 | AF43: =ROUND((EV43),2) -> 0 | AG43: =ROUND((AP43),2) -> 0 | AH43: =(EW43) -> 0 | AI43: =(EX43) -> 0 | AJ43: =ROUND((AS43),2) -> 0 | AK43: 930.07 | AL43: 930.07 | AM43: 0 | AN43: 0 | AO43: 0 | AP43: 0 | AQ43: 0 | AR43: 0 | AS43: 0 | AT43: 106 | AU43: 54 | AV43: 1 | AW43: 1 | AZ43: 6.53 | BA43: 1 | BB43: 1 | BC43: 6.53 | BH43: 3 | BI43: 1 | BJ43: ФССЦ-2001, 11.2.02.01-0031, приказ Минстроя России №1039/пр от 30.12.2016г. | BM43: 10001 | BN43: 0 | BP43: 0 | BQ43: 2 | BR43: 0 | BS43: 1 | BT43: 1 | BU43: 1 | BV43: 1 | BW43: 1 | BX43: 1 | BZ43: 118 | CA43: 63 | CF43: 0 | CG43: 0 | CM43: 0 | CO43: 0 | CP43: =(P43+Q43+S43) -> 21864.09 | CQ43: =AC43*BC43 -> 6073.3571 | CR43: =AD43*BB43 -> 0 | CS43: =AE43*BS43 -> 0 | CT43: =AF43*BA43 -> 0 | CU43: =AG43 -> 0 | CV43: =AH43 -> 0 | CW43: =AI43 -> 0 | CX43: =AJ43 -> 0 | CY43: =(((S43+R43)*AT43)/100) -> 0 | CZ43: =(((S43+R43)*AU43)/100) -> 0 | DN43: 0 | DO43: 0 | DP43: 1 | DQ43: 1 | DU43: 1005 | DV43: м2 | DW43: м2 | DX43: 1 | EE43: 39174503 | EF43: 2 | EG43: Общестроительные работы | EH43: 0 | EJ43: 1 | EK43: 10001 | EL43: Деревянные конструкции | EM43: ФЕР-10 | EQ43: 0 | ER43: 930.07 | ES43: 930.07 | ET43: 0 | EU43: 0 | EV43: 0 | EW43: 0 | EX43: 0 | FQ43: 0 | FR43: =ROUND(IF(AND(BH43=3,BI43=3),P43,0),2) -> 0 | FS43: 0 | FT43: *0,9 | FU43: *0,85 | FX43: 106.2 | FY43: 53.55 | GD43: 0 | GF43: 655187428 | GG43: 1 | GH43: 1 | GI43: 4 | GJ43: 0 | GK43: =ROUND(R43*(R12)/100,2) -> 0 | GL43: =ROUND(IF(AND(BH43=3,BI43=3,FS43<>0),P43,0),2) -> 0 | GM43: =ROUND(O43+X43+Y43+GK43,2)+GX43 -> 21864.09 | GN43: =IF(OR(BI43=0,BI43=1),ROUND(O43+X43+Y43+GK43,2),0) -> 21864.09 | GO43: =IF(BI43=2,ROUND(O43+X43+Y43+GK43,2),0) -> 0 | GP43: =IF(BI43=4,ROUND(O43+X43+Y43+GK43,2)+GX43,0) -> 0 | GR43: 0 | GS43: 3 | GT43: 0 | GV43: =ROUND(GT43,2) -> 0 | GW43: 1 | GX43: =ROUND(GV43*GW43*I43,2) -> 0 | HA43: 0 | HB43: 0 | IK43: 0
A44: 17 | B44: 1 | C44: =ROW(SmtRes!A50) -> 50 | D44: =ROW(EtalonRes!A50) -> 50 | E44: 11 | F44: 09-04-012-02 | G44: Установка дверного доводчика к металлическим дверям | H44: ШТ | I44: 2 | J44: 0 | O44: =ROUND(CP44,2) -> 209.22 | P44: =ROUND(CQ44*I44,2) -> 9.4 | Q44: =ROUND(CR44*I44,2) -> 34.48 | R44: =ROUND(CS44*I44,2) -> 0 | S44: =ROUND(CT44*I44,2) -> 165.34 | T44: =ROUND(CU44*I44,2) -> 0 | U44: =CV44*I44 -> 2.553 | V44: =CW44*I44 -> 0 | W44: =ROUND(CX44*I44,2) -> 0 | X44: =ROUND(CY44,2) -> 133.93 | Y44: =ROUND(CZ44,2) -> 119.04 | AA44: 39083528 | AB44: =ROUND((AC44+AD44+AF44),2) -> 16.02 | AC44: =ROUND((ES44),2) -> 0.72 | AD44: =ROUND(((((ET44*1.25))-((EU44*1.25)))+AE44),2) -> 2.64 | AE44: =ROUND(((EU44*1.25)),2) -> 0 | AF44: =ROUND(((EV44*1.15)),2) -> 12.66 | AG44: =ROUND((AP44),2) -> 0 | AH44: =((EW44*1.15)) -> 1.2765 | AI44: =((EX44*1.25)) -> 0 | AJ44: =ROUND((AS44),2) -> 0 | AK44: 13.84 | AL44: 0.72 | AM44: 2.11 | AN44: 0 | AO44: 11.01 | AP44: 0 | AQ44: 1.11 | AR44: 0 | AS44: 0 | AT44: 81 | AU44: 72 | AV44: 1 | AW44: 1 | AZ44: 6.53 | BA44: 6.53 | BB44: 6.53 | BC44: 6.53 | BH44: 0 | BI44: 1 | BJ44: ФЕР-2001, 09-04-012-02, приказ Минстроя России №1039/пр от 30.12.2016г. | BM44: 9001 | BN44: 0 | BP44: 0 | BQ44: 2 | BR44: 0 | BS44: 6.53 | BT44: 1 | BU44: 1 | BV44: 1 | BW44: 1 | BX44: 1 | BZ44: 90 | CA44: 85 | CF44: 0 | CG44: 0 | CM44: 0 | CN44: Поправка: МДС 81-35.2004, п.4.7 Наименование: Работы, выполняемые при реконструкции зданий и сооружений работы, аналогичные технологическим процессам в новом строительстве (в том числе возведение новых конструктивных элементов) стоимость которых определена по соответствующим сборникам ФЕР, кроме сборника № 46 «Работы при реконструкции зданий и сооружений» | CO44: 0 | CP44: =(P44+Q44+S44) -> 209.22 | CQ44: =AC44*BC44 -> 4.7016 | CR44: =AD44*BB44 -> 17.2392 | CS44: =AE44*BS44 -> 0 | CT44: =AF44*BA44 -> 82.6698 | CU44: =AG44 -> 0 | CV44: =AH44 -> 1.2765 | CW44: =AI44 -> 0 | CX44: =AJ44 -> 0 | CY44: =(((S44+R44)*AT44)/100) -> 133.9254 | CZ44: =(((S44+R44)*AU44)/100) -> 119.0448 | DE44: )*1,25 | DF44: )*1,25 | DG44: )*1,15 | DI44: )*1,15 | DJ44: )*1,25 | DN44: 0 | DO44: 0 | DP44: 1 | DQ44: 1 | DU44: 1013 | DV44: ШТ | DW44: ШТ | DX44: 1 | EE44: 39174502 | EF44: 2 | EG44: Общестроительные работы | EH44: 0 | EJ44: 1 | EK44: 9001 | EL44: Металлические конструкции | EM44: ФЕР-09 | EO44: Поправка: МДС 81-35.2004, п.4.7 | EQ44: 0 | ER44: 13.84 | ES44: 0.72 | ET44: 2.11 | EU44: 0 | EV44: 11.01 | EW44: 1.11 | EX44: 0 | EY44: 0 | FQ44: 0 | FR44: =ROUND(IF(AND(BH44=3,BI44=3),P44,0),2) -> 0 | FS44: 0 | FT44: *0,9 | FU44: *0,85 | FX44: 81 | FY44: 72.25 | GD44: 0 | GF44: -418508909 | GG44: 1 | GH44: 1 | GI44: 4 | GJ44: 0 | GK44: =ROUND(R44*(R12)/100,2) -> 0 | GL44: =ROUND(IF(AND(BH44=3,BI44=3,FS44<>0),P44,0),2) -> 0 | GM44: =ROUND(O44+X44+Y44+GK44,2)+GX44 -> 462.19 | GN44: =IF(OR(BI44=0,BI44=1),ROUND(O44+X44+Y44+GK44,2),0) -> 462.19 | GO44: =IF(BI44=2,ROUND(O44+X44+Y44+GK44,2),0) -> 0 | GP44: =IF(BI44=4,ROUND(O44+X44+Y44+GK44,2)+GX44,0) -> 0 | GR44: 0 | GS44: 3 | GT44: 0 | GV44: =ROUND(GT44,2) -> 0 | GW44: 1 | GX44: =ROUND(GV44*GW44*I44,2) -> 0 | HA44: 0 | HB44: 0 | IK44: 0
A45: 18 | B45: 1 | C45: 47 | E45: 11,1 | F45: 01.7.04.01-0002 | G45: Доводчик дверной гидравлический TS-68 с зубчатым приводом (нагрузка до 90 кг) | H45: шт. | I45: =I44*J45 -> 2 | J45: 1 | O45: =ROUND(CP45,2) -> 3555.19 | P45: =ROUND(CQ45*I45,2) -> 3555.19 | Q45: =ROUND(CR45*I45,2) -> 0 | R45: =ROUND(CS45*I45,2) -> 0 | S45: =ROUND(CT45*I45,2) -> 0 | T45: =ROUND(CU45*I45,2) -> 0 | U45: =CV45*I45 -> 0 | V45: =CW45*I45 -> 0 | W45: =ROUND(CX45*I45,2) -> 0 | X45: =ROUND(CY45,2) -> 0 | Y45: =ROUND(CZ45,2) -> 0 | AA45: 39083528 | AB45: =ROUND((AC45+AD45+AF45),2) -> 272.22 | AC45: =ROUND((ES45),2) -> 272.22 | AD45: =ROUND((((ET45)-(EU45))+AE45),2) -> 0 | AE45: =ROUND((EU45),2) -> 0 | AF45: =ROUND((EV45),2) -> 0 | AG45: =ROUND((AP45),2) -> 0 | AH45: =(EW45) -> 0 | AI45: =(EX45) -> 0 | AJ45: =ROUND((AS45),2) -> 0 | AK45: 272.22 | AL45: 272.22 | AM45: 0 | AN45: 0 | AO45: 0 | AP45: 0 | AQ45: 0 | AR45: 0 | AS45: 0 | AT45: 81 | AU45: 72 | AV45: 1 | AW45: 1 | AZ45: 6.53 | BA45: 1 | BB45: 1 | BC45: 6.53 | BH45: 3 | BI45: 1 | BJ45: ФССЦ-2001, 01.7.04.01-0002, приказ Минстроя России №1039/пр от 30.12.2016г. | BM45: 9001 | BN45: 0 | BP45: 0 | BQ45: 2 | BR45: 0 | BS45: 1 | BT45: 1 | BU45: 1 | BV45: 1 | BW45: 1 | BX45: 1 | BZ45: 90 | CA45: 85 | CF45: 0 | CG45: 0 | CM45: 0 | CO45: 0 | CP45: =(P45+Q45+S45) -> 3555.19 | CQ45: =AC45*BC45 -> 1777.5966 | CR45: =AD45*BB45 -> 0 | CS45: =AE45*BS45 -> 0 | CT45: =AF45*BA45 -> 0 | CU45: =AG45 -> 0 | CV45: =AH45 -> 0 | CW45: =AI45 -> 0 | CX45: =AJ45 -> 0 | CY45: =(((S45+R45)*AT45)/100) -> 0 | CZ45: =(((S45+R45)*AU45)/100) -> 0 | DN45: 0 | DO45: 0 | DP45: 1 | DQ45: 1 | DU45: 1010 | DV45: шт. | DW45: шт. | DX45: 1 | EE45: 39174502 | EF45: 2 | EG45: Общестроительные работы | EH45: 0 | EJ45: 1 | EK45: 9001 | EL45: Металлические конструкции | EM45: ФЕР-09 | EQ45: 0 | ER45: 272.22 | ES45: 272.22 | ET45: 0 | EU45: 0 | EV45: 0 | EW45: 0 | EX45: 0 | FQ45: 0 | FR45: =ROUND(IF(AND(BH45=3,BI45=3),P45,0),2) -> 0 | FS45: 0 | FT45: *0,9 | FU45: *0,85 | FX45: 81 | FY45: 72.25 | GD45: 0 | GF45: 735354979 | GG45: 1 | GH45: 1 | GI45: 4 | GJ45: 0 | GK45: =ROUND(R45*(R12)/100,2) -> 0 | GL45: =ROUND(IF(AND(BH45=3,BI45=3,FS45<>0),P45,0),2) -> 0 | GM45: =ROUND(O45+X45+Y45+GK45,2)+GX45 -> 3555.19 | GN45: =IF(OR(BI45=0,BI45=1),ROUND(O45+X45+Y45+GK45,2),0) -> 3555.19 | GO45: =IF(BI45=2,ROUND(O45+X45+Y45+GK45,2),0) -> 0 | GP45: =IF(BI45=4,ROUND(O45+X45+Y45+GK45,2)+GX45,0) -> 0 | GR45: 0 | GS45: 3 | GT45: 0 | GV45: =ROUND(GT45,2) -> 0 | GW45: 1 | GX45: =ROUND(GV45*GW45*I45,2) -> 0 | HA45: 0 | HB45: 0 | IK45: 0
