Workbook
Name Constr: '23727'!$A$1
Name Constr: '23857'!$A$7
Name Constr: '23938'!$A$1
Name Constr: '24221'!$A$7
Name Constr: '24289'!$A$7
Name Constr: '24659'!$A$1
Name Constr: '24671'!$A$1
Name Constr: '24715'!$A$1
Name Constr: '24780'!$A$1
Name Constr: '24798'!$A$1
Name Constr: '24817'!$A$1
Name Constr: '24865'!$A$1
Name Constr: '24903'!$A$1
Name FOT: '23727'!$D$17
Name FOT: '23857'!$D$17
Name FOT: '23938'!$D$17
Name FOT: '24221'!$D$15
Name FOT: '24289'!$D$17
Name FOT: '24659'!$D$18
Name FOT: '24671'!$D$18
Name FOT: '24715'!$D$18
Name FOT: '24780'!$D$18
Name FOT: '24798'!$D$18
Name FOT: '24817'!$D$18
Name FOT: '24865'!$D$18
Name FOT: '24903'!$D$18
Name Ind: '23727'!$G$9
Name Ind: '23857'!$H$9
Name Ind: '23938'!#REF!
Name Ind: '24221'!$H$9
Name Ind: '24289'!$H$9
Name Ind: '24659'!$G$9
Name Ind: '24671'!$G$9
Name Ind: '24715'!$G$9
Name Ind: '24780'!$G$9
Name Ind: '24798'!$G$9
Name Ind: '24817'!$G$9
Name Ind: '24865'!$G$9
Name Ind: '24903'!$G$9
Name Obj: '23727'!$D$11
Name Obj: '23857'!#REF!
Name Obj: '23938'!$D$10
Name Obj: '24221'!#REF!
Name Obj: '24289'!#REF!
Name Obj: '24659'!#REF!
Name Obj: '24671'!#REF!
Name Obj: '24715'!#REF!
Name Obj: '24780'!#REF!
Name Obj: '24798'!#REF!
Name Obj: '24817'!#REF!
Name Obj: '24865'!$D$11
Name Obj: '24903'!#REF!
Name Obosn: '23727'!$D$12
Name Obosn: '23857'!$D$13
Name Obosn: '23938'!$D$13
Name Obosn: '24221'!$D$13
Name Obosn: '24289'!$D$13
Name Obosn: '24659'!$D$13
Name Obosn: '24671'!$D$13
Name Obosn: '24715'!$D$13

Sheet 23727
A1: СОГЛАСОВАНО: | E1: ФГУП "Комбинат "Электрохимприбор" | M1: УТВЕРЖДАЮ:
G2: (наименование стройки) | M2: Зам. генерального директора
M3: Е.В.Гордеев
A4: _________________ | M4: _________________
A5: " _____ " ________________ 2013 г. | M5: "______ " __________2013 г.
G6: ЛОКАЛЬНЫЙ СМЕТНЫЙ РАСЧЕТ № 23727-П13
G7: (пересчет сметы № 23727)
D9: на монтаж АПС и СОУЭ. Здание 411. Инв.№ 5500453
H10: (наименование работ и затрат, наименование объекта)
D12: Основание: проект № 23769-10-СС Тема КПМ Т6228.220 | N12: Справочно, в тыс.руб. :
D13: Сметная стоимость _______________________________________________________________________________________________ | J13: ___________________________23,501 | L13: тыс. руб. | N13: ВСЕГО: | P13: =P14+P15+P16 -> 134.83551
D14: монтажных работ _______________________________________________________________________________________________ | J14: _______________________________________________________________________________________________16,120 | L14: тыс. руб. | N14: с К=5,56 | P14: =16.12*5.56 -> 89.6272
D15: прочих (ПНР "в холостую") _______________________________________________________________________________________________ | J15: _______________________________________________________________________________________________2,784 | L15: тыс. руб. | N15: с К=9,32 | P15: =9.32*2.784 -> 25.94688
D16: оборудования _______________________________________________________________________________________________ | J16: _______________________________________________________________________________________________4,597 | L16: тыс. руб. | N16: с К=4,19 | P16: =4.19*4.597 -> 19.26143
D17: Средства на оплату труда _______________________________________________________________________________________________ | J17: ___________________________5,352 | L17: тыс. руб. | N17: с К=5,56 | P17: =5.352*5.56 -> 29.75712
D18: Сметная трудоемкость _______________________________________________________________________________________________ | J18: _______________________________________________________________________________________________357,76 | L18: чел.час
D19: Материалы ______________________________________ | K19: =K94/1000 -> 5.977 | L19: тыс.руб. | N19: с К=5,56 | P19: =K19*5.56 -> 33.23212
D20: Составлен(а) в базовых ценах 2001г. в редакции 2009г.
A22: № пп | B22: Обоснова-ние | C22: Наименование | D22: Ед. изм. | E22: Кол. | F22: Стоимость единицы, руб. | J22: Общая стоимость, руб. | O22: Т/з осн. раб.на ед. | P22: Т/з осн. раб. Всего | Q22: Общая масса обору-дования, т
F23: Всего | G23: В том числе | J23: Обору-дование | K23: Всего | L23: В том числе
G24: Осн.З/п | H24: Эк.Маш | I24: З/пМех | L24: Осн.З/п | M24: Эк.Маш | N24: З/пМех
A25: 1 | B25: 2 | C25: 3 | D25: 4 | E25: 5 | F25: 6 | G25: 7 | H25: 8 | I25: 9 | J25: 10 | K25: 11 | L25: 12 | M25: 13 | N25: 14 | O25: 15 | P25: 16 | Q25: 17
A26: Раздел 1. Монтажные работы
A27: 1 | B27: Цена поставщика | C27: ППК "Сигнал-10" (Ц:3698,10руб:1,18:4,19) | D27: шт | E27: 1 | J27: 728 | K27: 728
A28: 2 | B28: ТЕРм10-08-001-06 | C28: Приборы приемно-контрольные сигнальные, концентратор блок базовый на 10 лучей | D28: 1 шт. | E28: 1 | F28: 79.87 | G28: 68.02 | H28: 0.46 | K28: 80 | L28: 68 | O28: 4.8 | P28: 4.8
A29: 3 | B29: Цена поставщика | C29: ИБП "СКАТ-1200Д" (Ц:3910руб:1,18:4,19) | D29: шт | E29: 1 | J29: 791 | K29: 791
A30: 4 | B30: ТЕРм10-02-016-06 | C30: Отдельно устанавливаемый преобразователь или блок питания | D30: 1 шт. | E30: 1 | F30: 256.7 | G30: 157.76 | H30: 33.83 | I30: 6.87 | K30: 257 | L30: 158 | M30: 34 | N30: 7 | O30: 10.1 | P30: 10.1
A31: 5 | B31: Цена поставщика | C31: АКБ 12в 26 А/ч (Ц:2952,40руб:1,18:5.56) | D31: шт | E31: 1 | F31: 450.01 | K31: 450
A32: 6 | B32: Цена поставщика | C32: Пульт контроля и управления С2000-БИ (Ц:4336,20руб:1,18:4,19) | D32: 1 шт. | E32: 1 | J32: 877 | K32: 877
A33: 7 | B33: ТЕРм10-08-001-13 | C33: Монтаж: пульт контроля и управления С2000-БИ | D33: 1 шт. | E33: 1 | F33: 64.92 | G33: 57.52 | H33: 0.37 | K33: 65 | L33: 58 | O33: 4 | P33: 4
A34: 8 | B34: Цена поставщика | C34: Преобразователь интерфейса RS-232 – RS-485, повторитель интерфейса RS-485 с гальванической развязкой, разделитель интерфейса. От +1 до +45С. С2000-ПИ (Ц:3443,80руб:1,18:4,19) | D34: 1 шт. | E34: 1 | J34: 697 | K34: 697
A35: 9 | B35: ТЕРм10-08-001-13 | C35: Монтаж преобразователя интерфейсов | D35: 1 шт. | E35: 1 | F35: 64.92 | G35: 57.52 | H35: 0.37 | K35: 65 | L35: 58 | O35: 4 | P35: 4
A36: 10 | B36: Цена поставщика | C36: Извещатель ИП-212-45 (Ц:240,79руб :1,18:5,56) | D36: шт | E36: 38 | F36: 36.7 | K36: 1395
A37: 11 | B37: ТЕРм10-08-002-02 | C37: Извещатель ПС автоматический дымовой, фотоэлектрический, радиоизотопный, световой в нормальном исполнении | D37: 1 шт. | E37: 34 | F37: 28.38 | G37: 22.76 | H37: 0.46 | K37: 965 | L37: 774 | M37: 16 | O37: 1.68 | P37: 57.12
A38: 12 | B38: Цена поставщика | C38: Извещатель пожарный ручной "ИПР-3СУ" (Ц:171,93руб :1,18:5,56) | D38: шт | E38: 3 | F38: 26.21 | K38: 79
A39: 13 | B39: ТЕРм10-04-066-05 прим. | C39: Монтаж: извещатель ручной | D39: 1 шт. | E39: 3 | F39: 13.89 | G39: 12.78 | K39: 42 | L39: 38 | O39: 1 | P39: 3
A40: 14 | B40: Цена поставщика | C40: Сирена "Колибри" (Ц:189,97руб :1,18:5,56) | D40: шт | E40: 3 | F40: 28.96 | K40: 87
A41: 15 | B41: Цена поставщика | C41: Сирена "ТОН-1С-12" (Ц:274,56руб :1,18:5,56) | D41: шт | E41: 1 | F41: 41.85 | K41: 42
A42: 16 | B42: ТЕРм10-04-066-05 | C42: Монтаж: оповещатель звуковой | D42: 1 шт. | E42: 4 | F42: 13.89 | G42: 12.78 | K42: 56 | L42: 51 | O42: 1 | P42: 4
A43: 17 | B43: Цена поставщика | C43: Оповещатель световой "Блик-С12" (Ц:219,12руб :1,18:5,56) | D43: шт | E43: 4 | F43: 33.4 | K43: 134
...

Sheet 23857
A1: СОГЛАСОВАНО: | E1: ФГУП "Комбинат "Электрохимприбор" | M1: УТВЕРЖДАЮ:
G2: (наименование стройки) | M2: Зам. генерального директора
M3: Е.В.Гордеев
A4: _________________ | M4: _________________
A5: " _____ " ________________ 2013 г. | M5: "______ " __________2013 г.
G6: ЛОКАЛЬНЫЙ СМЕТНЫЙ РАСЧЕТ № 23857-П13
G7: (пересчет сметы № 23857)
C9: на | D9: монтаж СОУЭ, системы отключения вентиляции при пожаре. Здание 292. Инв. № 7612877
D10: Раздел: Система оповещения и управления эвакуацией людей при пожаре
G11: (наименование работ и затрат, наименование объекта)
D13: Основание: проект №23854-10-СС Тема КПМ Т6243.220 | N13: Справочно, в тыс.руб. :
D14: Сметная стоимость _______________________________________________________________________________________________ | J14: ___________________________152,475 | L14: тыс. руб. | N14: ВСЕГО: | P14: =P15+P16 -> 866.51212
D15: монтажных работ _______________________________________________________________________________________________ | J15: _______________________________________________________________________________________________147,488 | L15: тыс. руб. | N15: с К=5,56 | P15: =147.488*5.56 -> 820.03328
D16: прочих (ПНР "в холостую") _______________________________________________________________________________________________ | J16: _______________________________________________________________________________________________4,987 | L16: тыс. руб. | N16: с К=9,32 | P16: =4.987*9.32 -> 46.47884
D17: Средства на оплату труда _______________________________________________________________________________________________ | J17: ___________________________29,598 | L17: тыс. руб. | N17: с К=5,56 | P17: =29.598*5.56 -> 164.56488
D18: Сметная трудоемкость _______________________________________________________________________________________________ | J18: _______________________________________________________________________________________________2078,05 | L18: чел.час
D19: Составлен(а) в базовых ценах 2001г. в редакции 2009г.
A21: № пп | B21: Обоснование | C21: Наименование | D21: Ед. изм. | E21: Кол. | F21: Стоимость единицы, руб. | J21: Общая стоимость, руб. | N21: Т/з осн. раб.на ед. | O21: Т/з осн. раб. Всего | P21: Т/з мех. на ед. | Q21: Т/з мех. Всего
F22: Всего | G22: В том числе | J22: Всего | K22: В том числе
G23: Осн.З/п | H23: Эк.Маш | I23: З/пМех | K23: Осн.З/п | L23: Эк.Маш | M23: З/пМех
A24: 1 | B24: 2 | C24: 3 | D24: 4 | E24: 5 | F24: 6 | G24: 7 | H24: 8 | I24: 9 | J24: 10 | K24: 11 | L24: 12 | M24: 13 | N24: 14 | O24: 15 | P24: 16 | Q24: 17
A25: Раздел 1. Монтажные работы
A26: 1 | B26: ФССЦ-509-1778 | C26: Источник бесперебойного питания СКАТ-1200, без аккумулятора КОЭФ. К ПОЗИЦИИ: Приведение расценок ФЕР к территориальному уровню (Письмо УРЦЦС Ц-297 от 12.04.2011) ОЗП=1,41; ЭМ=1,242; ЗПМ=1,41; МАТ=1,052 | D26: шт. | E26: 2 | F26: 1335.61 | J26: 2671
A27: 2 | B27: ТЕРм10-02-016-06 | C27: Монтаж: преобразователь или блок питания | D27: 1 шт. | E27: 2 | F27: 256.7 | G27: 157.76 | H27: 33.83 | I27: 6.87 | J27: 513 | K27: 316 | L27: 68 | M27: 14 | N27: 10.1 | O27: 20.2 | P27: 0.44 | Q27: 0.88
A28: 3 | B28: ФССЦ-509-1810 | C28: Батарея аккумуляторная АКБ-7 12В/7 А/ч КОЭФ. К ПОЗИЦИИ: Приведение расценок ФЕР к территориальному уровню (Письмо УРЦЦС Ц-297 от 12.04.2011) ОЗП=1,41; ЭМ=1,242; ЗПМ=1,41; МАТ=1,052 | D28: шт. | E28: 2 | F28: 81.53 | J28: 163
A29: 4 | B29: ФССЦ-509-1930 прим. | C29: Оповещатель комбинированный светозвуковой МАЯК 12-3М КОЭФ. К ПОЗИЦИИ: Приведение расценок ФЕР к территориальному уровню (Письмо УРЦЦС Ц-297 от 12.04.2011) ОЗП=1,41; ЭМ=1,242; ЗПМ=1,41; МАТ=1,052 | D29: шт. | E29: 19 | F29: 47.67 | J29: 906
A30: 5 | B30: ТЕРм10-04-066-06 | C30: Монтаж оповещателя светового Маяк | D30: 1 шт. | E30: 17 | F30: 98.76 | G30: 74.88 | J30: 1679 | K30: 1273 | N30: 6 | O30: 102
A31: 6 | B31: ФССЦ-509-1919 | C31: Извещатель охранный для закрытых помещений, совмещенный СОВА-3 КОЭФ. К ПОЗИЦИИ: Приведение расценок ФЕР к территориальному уровню (Письмо УРЦЦС Ц-297 от 12.04.2011) ОЗП=1,41; ЭМ=1,242; ЗПМ=1,41; МАТ=1,052 | D31: шт. | E31: 6 | F31: 459.6 | J31: 2758
A32: 7 | B32: ФССЦ-509-1919 | C32: Извещатель охранный для закрытых помещений, совмещенный СОВА КОЭФ. К ПОЗИЦИИ: Приведение расценок ФЕР к территориальному уровню (Письмо УРЦЦС Ц-297 от 12.04.2011) ОЗП=1,41; ЭМ=1,242; ЗПМ=1,41; МАТ=1,052 | D32: шт. | E32: 10 | F32: 459.6 | J32: 4596
A33: 8 | B33: ТЕРм10-04-066-06 прим. | C33: Монтаж оповещателя комбинированного | D33: 1 шт. | E33: 16 | F33: 98.76 | G33: 74.88 | J33: 1580 | K33: 1198 | N33: 6 | O33: 96
A34: 9 | B34: Цена поставщика | C34: Оповещатель световой "Блик-С12" (Ц:219,12руб :1,18:5,56) | D34: шт | E34: 32 | F34: 33.4 | J34: 1069
A35: 10 | B35: Цена поставщика | C35: Оповещатель световой "Блик-С24" (Ц:219,12руб :1,18:5,56) | D35: шт | E35: 15 | F35: 33.4 | J35: 501
A36: 11 | B36: ТЕРм10-04-066-06 | C36: Монтаж оповещателя светового | D36: 1 шт. | E36: 44 | F36: 98.76 | G36: 74.88 | J36: 4345 | K36: 3295 | N36: 6 | O36: 264
A37: 12 | B37: ТСЦ-503-0455 | C37: Коробка телефонная распределительная марки КРТ-10 | D37: шт. | E37: 5 | F37: 55.3 | J37: 277
A38: 13 | B38: ТЕРм10-06-034-12 | C38: Коробка распределительная настенная на кабеле с пластмассовой оболочкой | D38: 1 коробка | E38: 5 | F38: 85.55 | G38: 27.1 | H38: 42.92 | I38: 5.31 | J38: 428 | K38: 136 | L38: 215 | M38: 27 | N38: 2 | O38: 10 | P38: 0.34 | Q38: 1.7
A39: 14 | B39: ФССЦ-503-0541 прим. | C39: Разветвительная коробка КЗНС-08 КОЭФ. К ПОЗИЦИИ: Приведение расценок ФЕР к территориальному уровню (Письмо УРЦЦС Ц-297 от 12.04.2011) ОЗП=1,41; ЭМ=1,242; ЗПМ=1,41; МАТ=1,052 | D39: шт. | E39: 22 | F39: 499.42 | J39: 10987
A40: 15 | B40: ТЕРм08-03-545-05 | C40: Коробка с зажимами, устанавливаемая на конструкции на стене или колонне, для кабелей или проводов сечением до 10 мм2, с количеством зажимов до 4 | D40: 1 шт. | E40: 22 | F40: 137.5 | G40: 31.8 | H40: 2.36 | J40: 3025 | K40: 700 | L40: 52 | N40: 2.4 | O40: 52.8
A41: 16 | B41: ТЕРм08-02-399-01 | C41: Провод в коробах, сечением до 6 мм2 | D41: 100 м | E41: 15 | F41: 189.23 | G41: 46.64 | H41: 56.09 | I41: 24.55 | J41: 2838 | K41: 700 | L41: 841 | M41: 368 | N41: 3.52 | O41: 52.8 | P41: 1.57 | Q41: 23.55
A42: 17 | B42: Цена поставщика | C42: Провода кроссовые станционные с изоляцией из поливинилхлоридного пластиката марки ПКСВ с двумя медными однопроволочными жилами диаметром 1,5 мм (Ц:7070руб:1,18:5,56) | D42: 1000 м | E42: 1.1 | F42: 1077.61 | J42: 1185
A43: 18 | B43: Цена поставщика | C43: Провода марки ТСВ 10х2х0,5 (Ц:23710руб:1,18:5,56) | D43: 1000 м | E43: 0.4 | F43: 36125.17 | J43: 14450
...

Sheet 23938
A1: СОГЛАСОВАНО: | E1: ФГУП "Комбинат "Электрохимприбор" | M1: УТВЕРЖДАЮ:
G2: (наименование стройки) | M2: Зам. генерального директора
M3: Е.В.Гордеев
A4: _________________ | M4: _________________
A5: " _____ " ________________ 2013 г. | M5: "______ " __________2013 г.
G6: ЛОКАЛЬНЫЙ СМЕТНЫЙ РАСЧЕТ № 23938-П13
G7: (пересчет сметы № 23938)
C9: на | D9: монтаж СОУЭ, системы отключения вентиляции при пожаре. Здание 292. Инв. № 7612877
D10: Раздел: электроснабжение огнезадерживающих клапанов.
G11: (наименование работ и затрат, наименование объекта)
D13: Основание: проект № 23926-11-ЭМ "И" Тема КПМ Т6243.220 | N13: Справочно, в тыс.руб. :
D14: Сметная стоимость _______________________________________________________________________________________________ | J14: ___________________________160,906 | L14: тыс. руб. | N14: ВСЕГО: | P14: =P15+P16 -> 731.21691
D15: монтажных работ _______________________________________________________________________________________________ | J15: _______________________________________________________________________________________________41,621 | L15: тыс. руб. | N15: с К=5,56 | P15: =41.621*5.56 -> 231.41276
D16: оборудования _______________________________________________________________________________________________ | J16: _______________________________________________________________________________________________119,285 | L16: тыс. руб. | N16: с К=4,19 | P16: =119.285*4.19 -> 499.80415
D17: Средства на оплату труда _______________________________________________________________________________________________ | J17: ___________________________5,393 | L17: тыс. руб. | N17: с К=5,56 | P17: =5.393*5.56 -> 29.98508
D18: Сметная трудоемкость _______________________________________________________________________________________________ | J18: _______________________________________________________________________________________________274,74 | L18: чел.час
D19: Составлен(а) в базовых ценах 2001г. в редакции 2009г.
A21: № пп | B21: Обоснова-ние | C21: Наименование | D21: Ед. изм. | E21: Кол. | F21: Стоимость единицы, руб. | J21: Общая стоимость, руб. | O21: Т/з осн. раб.на ед. | P21: Т/з осн. раб. Всего | Q21: Общая масса обору-дования, т
F22: Всего | G22: В том числе | J22: Обору-дование | K22: Всего | L22: В том числе
G23: Осн.З/п | H23: Эк.Маш | I23: З/пМех | L23: Осн.З/п | M23: Эк.Маш | N23: З/пМех
A24: 1 | B24: 2 | C24: 3 | D24: 4 | E24: 5 | F24: 6 | G24: 7 | H24: 8 | I24: 9 | J24: 10 | K24: 11 | L24: 12 | M24: 13 | N24: 14 | O24: 15 | P24: 16 | Q24: 17
A25: Раздел 1. Монтажные работы
A26: 1 | B26: ФССЦ-501-8443 | C26: Кабель силовой с медными жилами с поливинилхлоридной изоляцией и оболочкой, не распространяющий горение марки ВВГнг, напряжением 0,66 кВ, с числом жил - 3 и сечением 2,5 мм2 КОЭФ. К ПОЗИЦИИ: Приведение расценок ФЕР к территориальному уровню (Письмо УРЦЦС Ц-297 от 12.04.2011) ОЗП=1,41; ЭМ=1,242; ЗПМ=1,41; МАТ=1,052 | D26: 1000 м | E26: 0.612 | F26: 5064.35 | K26: 3099
A27: 2 | B27: ТСЦ-501-0796 | C27: Кабели контрольные с медными жилами с поливинилхлоридной изоляцией и оболочкой марки КВВГ, с числом жил - 4 и сечением 1 мм2 | D27: 1000 м | E27: 0.0306 | F27: 6929 | K27: 212
A28: 3 | B28: ТЕРм08-02-148-01 | C28: Кабель до 35 кВ в проложенных трубах, блоках и коробах, масса 1 м кабеля до 1 кг | D28: 100 м кабеля | E28: 0.5 | F28: 798.84 | G28: 168.02 | H28: 544.81 | I28: 57.87 | K28: 399 | L28: 84 | M28: 272 | N28: 29 | O28: 12.4 | P28: 6.2
A29: 4 | B29: ТЕРм08-02-146-01 | C29: Кабель до 35 кВ с креплением накладными скобами, масса 1 м кабеля до 0,5 кг | D29: 100 м кабеля | E29: 5.8 | F29: 2828.73 | G29: 199.19 | H29: 1292.95 | I29: 147.72 | K29: 16407 | L29: 1155 | M29: 7499 | N29: 857 | O29: 14.7 | P29: 85.26
A30: 5 | B30: ТЕРм08-02-407-01 | C30: Труба стальная по установленным конструкциям, по стенам с креплением скобами, диаметр до 25 мм | D30: 100 м | E30: 0.5 | F30: 2527.2 | G30: 408.1 | H30: 897.93 | I30: 320.97 | K30: 1264 | L30: 204 | M30: 449 | N30: 160 | O30: 30.8 | P30: 15.4
A31: 6 | B31: ТЕРм08-02-158-04 | C31: Заделка концевая сухая для контрольного кабеля сечением одной жилы до 2,5 мм2, количество жил до 4 | D31: 1 шт. | E31: 42 | F31: 38.4 | G31: 3.52 | H31: 2.92 | I31: 0.18 | K31: 1613 | L31: 148 | M31: 123 | N31: 8 | O31: 0.26 | P31: 10.92
A32: 7 | B32: ТЕРм08-02-144-01 | C32: Присоединение к зажимам жил проводов или кабелей сечением до 2,5 мм2 | D32: 100 шт. | E32: 1.26 | F32: 165.85 | G32: 162.6 | K32: 209 | L32: 205 | O32: 12 | P32: 15.12
A33: 8 | B33: ТЕРм08-03-481-20 | C33: Подготовка электрической машины переменного тока с короткозамкнутым ротором, со щитовыми подшипниками, поступающей в собранном виде, к испытанию, сдаче под наладку и пуску, присоединение к электрической сети, масса до 0,15 т | D33: 1 шт. | E33: 37 | F33: 94.2 | G33: 16.9 | H33: 0.99 | K33: 3485 | L33: 625 | M33: 37 | O33: 1.21 | P33: 44.77
A34: 9 | B34: Цена поставщика | C34: Устройство сигнально-пусковое УСПП "Диабаз-БМ" НС 199.000.04 (Ц:565805,98:1,18:4,19) счет № 02-9050-42 от 11.12.2012г. | D34: шт | E34: 1 | J34: 114438 | K34: 114438
A35: 10 | B35: ТЕРм10-08-001-01 прим. | C35: Монтаж: устройство сигнально-пусковое УСПП "Диабаз-БМ" | D35: 1 шт. | E35: 1 | F35: 117.52 | G35: 102.02 | H35: 0.46 | K35: 118 | L35: 102 | O35: 7.2 | P35: 7.2
A36: 11 | B36: ТСЦ-103-0001 | C36: Трубы стальные сварные водогазопроводные с резьбой черные легкие (неоцинкованные) диаметр условного прохода 15 мм, толщина стенки 2,5 мм | D36: м | E36: 3.6 | F36: 12.41 | K36: 45
A37: 12 | B37: ТЕРм08-02-407-06 | C37: Монтаж: труба стальная (гильза) | D37: 100 м | E37: 0.036 | F37: 1621.52 | G37: 251.75 | H37: 175.48 | I37: 8.55 | K37: 58 | L37: 9 | M37: 6 | O37: 19 | P37: 0.68
A38: 13 | B38: ТСЦ-103-0002 | C38: Трубы стальные сварные водогазопроводные с резьбой черные легкие (неоцинкованные) диаметр условного прохода 20 мм, толщина стенки 2,5 мм | D38: м | E38: 50 | F38: 14.72 | K38: 736
A39: 14 | B39: ТЕРм08-02-407-06 | C39: Труба стальная по установленным конструкциям, в готовых бороздах, по основанию пола, диаметр до 25 мм | D39: 100 м | E39: 0.5 | F39: 1621.52 | G39: 251.75 | H39: 175.48 | I39: 8.55 | K39: 811 | L39: 126 | M39: 88 | N39: 4 | O39: 19 | P39: 9.5
A40: 15 | B40: ТЕРм08-02-155-01 | C40: Герметизация проходов при вводе кабелей во взрывоопасные помещения уплотнительной массой | D40: 1 проход кабеля | E40: 18 | F40: 22.58 | G40: 6.37 | K40: 406 | L40: 115 | O40: 0.47 | P40: 8.46
A41: Итого прямые затраты по смете в ценах 2001г. | K41: 143300 | L41: 2773 | M41: 8474 | N41: 1058 | P41: 203.51
A42: Итого прямые затраты по смете с учетом коэффициентов к итогам | K42: 152305 | L42: 3904 | M42: 11501 | N42: 1489 | P42: 274.74
A43: В том числе, справочно:
...

Sheet 24221
A1: СОГЛАСОВАНО: | E1: ФГУП "Комбинат "Электрохимприбор" | M1: УТВЕРЖДАЮ:
G2: (наименование стройки) | M2: Зам. генерального директора
M3: Е.В.Гордеев
A4: _________________ | M4: _________________
A5: " _____ " ________________ 2013 г. | M5: "______ " __________2013 г.
G6: ЛОКАЛЬНЫЙ СМЕТНЫЙ РАСЧЕТ № 24221-П13
G7: (пересчет сметы № 24221)
C9: на | D9: монтаж СОУЭ, системы отключения вентиляции при пожаре. Здание 292. Инв. № 7612877
D10: Раздел: управление пожарной автоматикой
G11: (наименование работ и затрат, наименование объекта)
D13: Основание: проект № 22262-04-АЭЛ "И" Тема КПМ Т6243.220 | N13: Справочно, в тыс.руб. :
D14: Сметная стоимость монтажных работ _______________________________________________________________________________________________ | J14: ___________________________187,278 | L14: тыс. руб. | N14: ВСЕГО: | P14: =187.278*5.56 -> 1041.2657
D15: Средства на оплату труда _______________________________________________________________________________________________ | J15: ___________________________20,280 | L15: тыс. руб. | N15: с К=5,56 | P15: =20.28*5.56 -> 112.7568
D16: Сметная трудоемкость _______________________________________________________________________________________________ | J16: _______________________________________________________________________________________________960,78 | L16: чел.час
D17: Составлен(а) в базовых ценах 2001г. в редакции 2009г.
A19: № пп | B19: Обоснование | C19: Наименование | D19: Ед. изм. | E19: Кол. | F19: Стоимость единицы, руб. | J19: Общая стоимость, руб. | N19: Т/з осн. раб.на ед. | O19: Т/з осн. раб. Всего | P19: Т/з мех. на ед. | Q19: Т/з мех. Всего
F20: Всего | G20: В том числе | J20: Всего | K20: В том числе
G21: Осн.З/п | H21: Эк.Маш | I21: З/пМех | K21: Осн.З/п | L21: Эк.Маш | M21: З/пМех
A22: 1 | B22: 2 | C22: 3 | D22: 4 | E22: 5 | F22: 6 | G22: 7 | H22: 8 | I22: 9 | J22: 10 | K22: 11 | L22: 12 | M22: 13 | N22: 14 | O22: 15 | P22: 16 | Q22: 17
A23: Раздел 1. Монтажные работы
A24: 1 | B24: ФССЦ-503-0533 | C24: Разветвительная коробка У-614 КОЭФ. К ПОЗИЦИИ: Приведение расценок ФЕР к территориальному уровню (Письмо УРЦЦС Ц-297 от 12.04.2011) ОЗП=1,41; ЭМ=1,242; ЗПМ=1,41; МАТ=1,052 | D24: шт. | E24: 10 | F24: 336.38 | J24: 3364
A25: 2 | B25: ТЕРм08-03-545-01 | C25: Коробка (ящик) с зажимами для кабелей и проводов сечением до 6 мм2, устанавливаемая на конструкции на стене или колонне, количество зажимов до 10 | D25: 1 шт. | E25: 10 | F25: 160.78 | G25: 43.86 | H25: 2.36 | J25: 1608 | K25: 439 | L25: 24 | N25: 3.31 | O25: 33.1
A26: 3 | B26: ФССЦ-503-0534 | C26: Разветвительная коробка У-615 КОЭФ. К ПОЗИЦИИ: Приведение расценок ФЕР к территориальному уровню (Письмо УРЦЦС Ц-297 от 12.04.2011) ОЗП=1,41; ЭМ=1,242; ЗПМ=1,41; МАТ=1,052 | D26: шт. | E26: 8 | F26: 588.54 | J26: 4708
A27: 4 | B27: ТЕРм08-03-545-02 | C27: Коробка (ящик) с зажимами для кабелей и проводов сечением до 6 мм2, устанавливаемая на конструкции на стене или колонне, количество зажимов до 20 | D27: 1 шт. | E27: 8 | F27: 260.86 | G27: 69.28 | H27: 3.07 | J27: 2087 | K27: 554 | L27: 25 | N27: 5.17 | O27: 41.36
A28: 5 | B28: ТСЦ-103-0002 | C28: Трубы стальные сварные водогазопроводные с резьбой черные легкие (неоцинкованные) диаметр условного прохода 20 мм, толщина стенки 2,5 мм | D28: м | E28: 100 | F28: 14.72 | J28: 1472
A29: 6 | B29: ТЕРм08-02-407-01 | C29: Труба стальная по установленным конструкциям, по стенам с креплением скобами, диаметр до 25 мм | D29: 100 м | E29: 1 | F29: 2527.2 | G29: 408.1 | H29: 897.93 | I29: 320.97 | J29: 2527 | K29: 408 | L29: 898 | M29: 321 | N29: 30.8 | O29: 30.8 | P29: 20.47 | Q29: 20.47
A30: 7 | B30: ТЕРм08-02-146-02 | C30: Кабель до 35 кВ с креплением накладными скобами, масса 1 м кабеля до 1 кг КОЭФ. К ПОЗИЦИИ: 0.6 При производстве работ на высоте свыше расстояний, указанных в вводных указаниях к разделам: св.2 до 8м ОЗП=1,05; ТЗ=1,05 | D30: 100 м кабеля | E30: 25.58 | F30: 3072.43 | G30: 237.6 | H30: 1497.69 | I30: 168.84 | J30: 78593 | K30: 6078 | L30: 38311 | M30: 4319 | N30: 17.54 | O30: 448.67 | P30: 9.55 | Q30: 244.29
A31: 8 | B31: ТЕРм08-02-148-01 | C31: Кабель до 35 кВ в проложенных трубах, блоках и коробах, масса 1 м кабеля до 1 кг | D31: 100 м кабеля | E31: 2.16 | F31: 798.84 | G31: 168.02 | H31: 544.81 | I31: 57.87 | J31: 1725 | K31: 363 | L31: 1177 | M31: 125 | N31: 12.4 | O31: 26.78 | P31: 3.39 | Q31: 7.32
A32: 9 | B32: ТЕРм08-02-158-04 | C32: Заделка концевая сухая для контрольного кабеля сечением одной жилы до 2,5 мм2, количество жил до 4 | D32: 1 шт. | E32: 64 | F32: 38.4 | G32: 3.52 | H32: 2.92 | I32: 0.18 | J32: 2458 | K32: 225 | L32: 187 | M32: 12 | N32: 0.26 | O32: 16.64 | P32: 0.01 | Q32: 0.64
A33: 10 | B33: ТЕРм08-02-158-06 | C33: Заделка концевая сухая для контрольного кабеля сечением одной жилы до 2,5 мм2, количество жил до 10 | D33: 1 шт. | E33: 10 | F33: 44.11 | G33: 7.05 | H33: 2.92 | I33: 0.18 | J33: 441 | K33: 71 | L33: 29 | M33: 2 | N33: 0.52 | O33: 5.2 | P33: 0.01 | Q33: 0.1
A34: 11 | B34: ТЕРм08-02-158-07 | C34: Заделка концевая сухая для контрольного кабеля сечением одной жилы до 2,5 мм2, количество жил до 14 | D34: 1 шт. | E34: 34 | F34: 46.46 | G34: 9.35 | H34: 2.92 | I34: 0.18 | J34: 1580 | K34: 318 | L34: 99 | M34: 6 | N34: 0.69 | O34: 23.46 | P34: 0.01 | Q34: 0.34
A35: 12 | B35: ТЕРм08-02-144-01 | C35: Присоединение к зажимам жил проводов или кабелей сечением до 2,5 мм2 | D35: 100 шт. | E35: 7.14 | F35: 165.85 | G35: 162.6 | J35: 1184 | K35: 1161 | N35: 12 | O35: 85.68
A36: 13 | B36: Цена поставщика | C36: Кабель судовой марки КНР с медными жилами: сечение жилы 1,0 мм2, 2 жилы (Цена:50800руб:1,18:4,38) | D36: км | E36: 1.85 | F36: 9828.96 | J36: 18184
A37: 14 | B37: Цена поставщика | C37: Кабели марок КУПР с неэкранированными жилами: сечение жилы 1,0 мм2, 4 жил (Цена:37490руб:1,18:4,38) | D37: км | E37: 0.18 | F37: 7253.7 | J37: 1306
A38: 15 | B38: Цена поставщика | C38: Кабели марок КУПР с неэкранированными жилами: сечение жилы 1,0 мм2, 7 жил (Цена:47590руб:1,18:4,38) | D38: км | E38: 0.08 | F38: 9207.88 | J38: 737
A39: 16 | B39: Цена поставщика | C39: Кабели марок КУПР с неэкранированными жилами: сечение жилы 1,0 мм2, 14 жил (Цена:80530руб:1,18:4,38) | D39: км | E39: 0.88 | F39: 15581.22 | J39: 13711
A40: Итого прямые затраты по смете в ценах 2001г. | J40: 135685 | K40: 9617 | L40: 40750 | M40: 4785 | O40: 711.69 | Q40: 273.16
A41: Итого прямые затраты по смете с учетом коэффициентов к итогам | J41: 154830 | K41: 13542 | L41: 55291 | M41: 6738 | O41: 960.78 | Q41: 368.77
A42: В том числе, справочно:
A43: Районный к-т 4,3% (Поз. 2, 4, 6-12) | J43: 620 | K43: 414 | L43: 206 | M43: 206
...

Sheet 24289
A1: СОГЛАСОВАНО: | E1: ФГУП "Комбинат "Электрохимприбор" | M1: УТВЕРЖДАЮ:
G2: (наименование стройки) | M2: Зам. генерального директора
M3: Е.В.Гордеев
A4: _________________ | M4: _________________
A5: " _____ " ________________ 2013 г. | M5: "______ " __________2013 г.
G6: ЛОКАЛЬНЫЙ СМЕТНЫЙ РАСЧЕТ № 24289-П13
G7: (пересчет сметы № 24289)
C9: на | D9: монтаж СОУЭ, системы отключения вентиляции при пожаре. Здание 292. Инв. № 7612877
D10: Раздел: управление пожарной автоматикой
G11: (наименование работ и затрат, наименование объекта)
D13: Основание: проект № ЖАЕ 10120 Тема КПМ Т6243.220 | N13: Справочно, в тыс.руб. :
D14: Сметная стоимость _______________________________________________________________________________________________ | J14: 9.494 | L14: тыс. руб. | N14: ВСЕГО: | P14: =P15+P16 -> 49.50138
D15: монтажных работ _______________________________________________________________________________________________ | J15: 7.096 | L15: тыс. руб. | N15: с К=5,56 | P15: =7.096*5.56 -> 39.45376
D16: оборудования _______________________________________________________________________________________________ | J16: 2.398 | L16: тыс. руб. | N16: с К=4,19 | P16: =4.19*2.398 -> 10.04762
D17: Средства на оплату труда _______________________________________________________________________________________________ | J17: ___________________________1,457 | L17: тыс. руб. | N17: с К=5,56 | P17: =1.457*5.56 -> 8.10092
D18: Сметная трудоемкость _______________________________________________________________________________________________ | J18: _______________________________________________________________________________________________108,59 | L18: чел.час
D19: Составлен(а) в базовых ценах 2001г. в редакции 2009г.
A21: № пп | B21: Обоснование | C21: Наименование | D21: Ед. изм. | E21: Кол. | F21: Стоимость единицы, руб. | J21: Общая стоимость, руб. | N21: Т/з осн. раб.на ед. | O21: Т/з осн. раб. Всего | P21: Т/з мех. на ед. | Q21: Т/з мех. Всего
F22: Всего | G22: В том числе | J22: Всего | K22: В том числе
G23: Осн.З/п | H23: Эк.Маш | I23: З/пМех | K23: Осн.З/п | L23: Эк.Маш | M23: З/пМех
A24: 1 | B24: 2 | C24: 3 | D24: 4 | E24: 5 | F24: 6 | G24: 7 | H24: 8 | I24: 9 | J24: 10 | K24: 11 | L24: 12 | M24: 13 | N24: 14 | O24: 15 | P24: 16 | Q24: 17
A25: Раздел 1. Монтажные работы
A26: 1 | B26: ФССЦ-509-1778 | C26: Источник бесперебойного питания СКАТ-1200, без аккумулятора КОЭФ. К ПОЗИЦИИ: Приведение расценок ФЕР к территориальному уровню (Письмо УРЦЦС Ц-297 от 12.04.2011) ОЗП=1,41; ЭМ=1,242; ЗПМ=1,41; МАТ=1,052 | D26: шт. | E26: 1 | F26: 1335.61 | J26: 1336
A27: 2 | B27: ТЕРм10-02-016-06 прим. | C27: Монтаж: резервированный источник питания | D27: 1 шт. | E27: 1 | F27: 256.7 | G27: 157.76 | H27: 33.83 | I27: 6.87 | J27: 257 | K27: 158 | L27: 34 | M27: 7 | N27: 10.1 | O27: 10.1 | P27: 0.44 | Q27: 0.44
A28: 3 | B28: ФССЦ-509-1811 | C28: Батарея аккумуляторная АКБ-12 12В/12 А/ч КОЭФ. К ПОЗИЦИИ: Приведение расценок ФЕР к территориальному уровню (Письмо УРЦЦС Ц-297 от 12.04.2011) ОЗП=1,41; ЭМ=1,242; ЗПМ=1,41; МАТ=1,052 | D28: шт. | E28: 2 | F28: 163.06 | J28: 326
A29: 4 | B29: ФССЦ-503-0438 прим. | C29: Бокс металлический размером 600х300х155 мм КОЭФ. К ПОЗИЦИИ: Приведение расценок ФЕР к территориальному уровню (Письмо УРЦЦС Ц-297 от 12.04.2011) ОЗП=1,41; ЭМ=1,242; ЗПМ=1,41; МАТ=1,052 | D29: шт. | E29: 1 | F29: 871.75 | J29: 872
A30: 5 | B30: ТЕРм08-03-573-04 | C30: Монтаж: шкаф (пульт) управления навесной, высота, ширина и глубина до 600х600х350 мм | D30: 1 шт. | E30: 1 | F30: 99.26 | G30: 33.11 | H30: 62.05 | I30: 4.71 | J30: 99 | K30: 33 | L30: 62 | M30: 5 | N30: 2.37 | O30: 2.37 | P30: 0.29 | Q30: 0.29
A31: 6 | B31: ТСЦ-509-1032 | C31: Кронштейн | D31: компл. | E31: 1 | F31: 186.08 | J31: 186
A32: 7 | B32: ТСЦ-509-0224 прим. | C32: Клемма | D32: уп | E32: 1 | F32: 77.79 | J32: 78
A33: 8 | B33: ТСЦ-509-0245 прим. | C33: Оконечный стопор | D33: комп-кт | E33: 1 | F33: 177.71 | J33: 178
A34: 9 | B34: ТЕРм11-01-001-01 прим. | C34: Монтаж: оконечный стопор | D34: 1 шт. | E34: 1 | F34: 34.2 | G34: 6.41 | H34: 7.18 | I34: 0.81 | J34: 34 | K34: 6 | L34: 7 | M34: 1 | N34: 0.52 | O34: 0.52 | P34: 0.06 | Q34: 0.06
A35: 10 | B35: ТСЦ-509-0210 | C35: Вилка | D35: шт. | E35: 1 | F35: 46.81 | J35: 47
A36: 11 | B36: ТЕРм08-03-545-05 прим. | C36: Монтаж вилки | D36: 1 шт. | E36: 1 | F36: 137.5 | G36: 31.8 | H36: 2.36 | J36: 138 | K36: 32 | L36: 2 | N36: 2.4 | O36: 2.4
A37: 12 | B37: ТСЦ-509-0158 | C37: Плакат по ТБ | D37: 100 шт. | E37: 0.01 | F37: 4296.64 | J37: 43
A38: 13 | B38: ТСЦ-509-0064 | C38: Профиль монтажный (DIN-рейка) | D38: м | E38: 2 | F38: 51.17 | J38: 102
A39: 14 | B39: ТЕРм10-01-039-02 прим. | C39: Монтаж DIN-рейки | D39: 1 м | E39: 2 | F39: 19.2 | G39: 13.09 | H39: 3.08 | I39: 0.62 | J39: 38 | K39: 26 | L39: 6 | M39: 1 | N39: 1.09 | O39: 2.18 | P39: 0.04 | Q39: 0.08
A40: 15 | B40: ТСЦ-509-0587 прим. | C40: Блок (реле Finder; модуль Finder; модуль индикации Finder) | D40: шт. | E40: 30 | J40: 2398
A41: 16 | B41: ТЕРм10-01-039-06 | C41: Реле, ключ, кнопка и др. с подготовкой места установки | D41: 1 шт. | E41: 30 | F41: 24.5 | G41: 24.02 | J41: 735 | K41: 721 | N41: 2 | O41: 60
A42: 17 | B42: ТСЦ-502-0578 | C42: Провода монтажные с волокнистой или пленочной и поливинилхлоридной изоляцией марки МГШВ экранированные с двумя жилами из медной луженной проволоки сечением 0,50 мм | D42: 1000 м | E42: 0.03 | F42: 1853.8 | J42: 56
A43: 18 | B43: ТСЦ-501-0625 | C43: Кабели силовые переносные с гибкими медными жилами в резиновой оболочке марки КГ, с числом жил - 3 и сечением 1 мм2 | D43: 1000 м | E43: 0.001 | F43: 5800 | J43: 6
...

Sheet 24659
A1: СОГЛАСОВАНО: | E1: ФГУП "Комбинат "Электрохимприбор" | M1: УТВЕРЖДАЮ:
G2: (наименование стройки) | M2: Зам. генерального директора
M3: Е.В.Гордеев
A4: _________________ | M4: _________________
A5: " _____ " ________________ 2013 г. | M5: "______ " __________2013 г.
G6: ЛОКАЛЬНЫЙ СМЕТНЫЙ РАСЧЕТ № 24659-П13
G7: (пересчет сметы № 24659)
C9: на | D9: Монтаж автоматических установок пожаротушения с подключением к существующей АПС
D10: в помещении большой окрасочной камеры. Здание 142 участок 2. Инв. № 6200279
H11: (наименование работ и затрат, наименование объекта)
D13: Основание: проект № 24420-12-ПТ Тема КПМ Т6270.121Н | N13: Справочно, в тыс.руб. :
D14: Сметная стоимость _______________________________________________________________________________________________ | J14: ___________________________143,066 | L14: тыс. руб. | N14: ВСЕГО: | P14: =P15+P16+P17 -> 750.3091
D15: монтажных работ _______________________________________________________________________________________________ | J15: _______________________________________________________________________________________________103,899 | L15: тыс. руб. | N15: с К=5,56 | P15: =103.899*5.56 -> 577.67844
D16: прочих (ПНР "в холостую") _______________________________________________________________________________________________ | J16: _______________________________________________________________________________________________1,661 | L16: тыс. руб. | N16: с К=9,32 | P16: =1.661*9.32 -> 15.48052
D17: оборудования _______________________________________________________________________________________________ | J17: _______________________________________________________________________________________________37,506 | L17: тыс. руб. | N17: с К=4,19 | P17: =37.506*4.19 -> 157.15014
D18: Средства на оплату труда _______________________________________________________________________________________________ | J18: ___________________________12,385 | L18: тыс. руб. | N18: с К=5,56 | P18: =12.385*5.56 -> 68.8606
D19: Сметная трудоемкость _______________________________________________________________________________________________ | J19: _______________________________________________________________________________________________789,13 | L19: чел.час
D20: Материалы ______________________________________ | K20: =K128/1000 -> 72.564 | L20: тыс.руб. | N20: с К=5,56 | P20: =K20*5.56 -> 403.45584
D21: Составлен(а) в базовых ценах 2001г. в редакции 2009г.
A23: № пп | B23: Обоснова-ние | C23: Наименование | D23: Ед. изм. | E23: Кол. | F23: Стоимость единицы, руб. | J23: Общая стоимость, руб. | O23: Т/з осн. раб.на ед. | P23: Т/з осн. раб. Всего | Q23: Общая масса обору-дования, т
F24: Всего | G24: В том числе | J24: Обору-дование | K24: Всего | L24: В том числе
G25: Осн.З/п | H25: Эк.Маш | I25: З/пМех | L25: Осн.З/п | M25: Эк.Маш | N25: З/пМех
A26: 1 | B26: 2 | C26: 3 | D26: 4 | E26: 5 | F26: 6 | G26: 7 | H26: 8 | I26: 9 | J26: 10 | K26: 11 | L26: 12 | M26: 13 | N26: 14 | O26: 15 | P26: 16 | Q26: 17
A27: Раздел 1. Замена извещателей в малярном отделении
A28: 1 | B28: ТЕРм10-08-003-07 | C28: Демонтаж извещателей пламени "Спектрон 101" КОЭФ. К ПОЗИЦИИ: демонтаж ОЗП=0,3; ЭМ=0,3 к расх.; ЗПМ=0,3; МАТ=0 к расх.; ТЗ=0,3; ТЗМ=0,3 | D28: 1 компл. | E28: 6 | F28: 26.64 | G28: 26.34 | H28: 0.3 | K28: 160 | L28: 158 | M28: 2 | O28: 1.94 | P28: 11.64
A29: 2 | B29: Цена поставщика | C29: Извещатель пламени т.Пульсар 3-015 НК (Ц:16697руб :1,18:4,19) | D29: шт | E29: 7 | J29: 23640 | K29: 23640
A30: 3 | B30: ТЕРм10-08-003-07 | C30: Монтаж извещателей пламени "Пульсар 3-015" | D30: 1 компл. | E30: 6 | F30: 104.48 | G30: 87.8 | H30: 1 | K30: 627 | L30: 527 | M30: 6 | O30: 6.48 | P30: 38.88
A31: 4 | B31: Цена поставщика | C31: Кабель оптоволоконный в металлорукаве для извещателя пламени пожарный "Пульсар 3-015 (Ц:944руб :1,18:5,56) | D31: м | E31: 175 | F31: 143.88 | K31: 25179
A32: 5 | B32: ТЕРм10-01-055-02 | C32: Прокладка оптоволоконного кабеля в металлорукаве для "ПУЛЬСАР 3-015" | D32: 100 м кабеля | E32: 1.5 | F32: 1837.57 | G32: 474.14 | H32: 129.78 | I32: 23.9 | K32: 2756 | L32: 711 | M32: 195 | N32: 36 | O32: 37.1 | P32: 55.65
A33: 6 | B33: Цена поставщика | C33: Источник питания СКАТ2400М (Ц:3175руб:1,18:4,19) | D33: 1 шт. | E33: 1 | J33: 642 | K33: 642
A34: 7 | B34: ТЕРм10-02-016-06 | C34: Монтаж: преобразователь или блок питания | D34: 1 шт. | E34: 1 | F34: 256.7 | G34: 157.76 | H34: 33.83 | I34: 6.87 | K34: 257 | L34: 158 | M34: 34 | N34: 7 | O34: 10.1 | P34: 10.1
A35: 8 | B35: Цена поставщика | C35: АКБ 12в 4,5 А/ч (Ц:429,77руб:1,18:5.56) | D35: шт | E35: 2 | F35: 65.51 | K35: 131
A36: 9 | B36: Цена поставщика | C36: Кабель КПСнг(А)-FRLS 1х2х0,5 (Ц:26709руб :1,18:5,56) | D36: 1000 м | E36: 0.2193 | F36: 4071 | K36: 893
A37: 10 | B37: ТЕРм10-01-055-02 | C37: Прокладка кабеля, масса 1 м до 1 кг, по стене кирпичной | D37: 100 м кабеля | E37: 2.15 | F37: 1837.57 | G37: 474.14 | H37: 129.78 | I37: 23.9 | K37: 3951 | L37: 1019 | M37: 279 | N37: 51 | O37: 37.1 | P37: 79.77
A38: 11 | B38: Цена поставщика | C38: Реле промежуточное РПУ-2М211 6022 (Ц:505руб :1,18:5,56) | D38: шт | E38: 1 | F38: 76.97 | K38: 77
A39: 12 | B39: ТЕРм10-04-030-02 | C39: Дополнительная установка на пультах и панелях реле | D39: 1 шт. | E39: 1 | F39: 6.52 | G39: 6.39 | K39: 7 | L39: 6 | O39: 0.5 | P39: 0.5
A40: 13 | B40: ТСЦ-509-7053 | C40: Микровыключатели | D40: шт. | E40: 1 | F40: 27.16 | K40: 27
A41: 14 | B41: ТЕРм10-04-030-03 | C41: Дополнительная установка на пультах и панелях кнопки | D41: 1 шт. | E41: 1 | F41: 11.74 | G41: 11.51 | K41: 12 | L41: 12 | O41: 1 | P41: 1
A42: 15 | B42: Цена поставщика | C42: Блок защиты от скачков напряжения "Альбатрос-500" (Ц:528руб:1,18:5,56) | D42: шт | E42: 1 | F42: 80.48 | K42: 80
A43: 16 | B43: ТЕРм10-08-003-03 | C43: Монтаж: блок защиты от скачков напряжения "АЛЬБАТРОС-500" | D43: 1 шт. | E43: 1 | F43: 59.97 | G43: 51.77 | H43: 0.37 | K43: 60 | L43: 52 | O43: 3.6 | P43: 3.6
...

Sheet 24671
A1: СОГЛАСОВАНО: | E1: ФГУП "Комбинат "Электрохимприбор" | M1: УТВЕРЖДАЮ:
G2: (наименование стройки) | M2: Зам. генерального директора
M3: Е.В.Гордеев
A4: _________________ | M4: _________________
A5: " _____ " ________________ 2012 г. | M5: "______ " __________2012 г.
G6: ЛОКАЛЬНЫЙ СМЕТНЫЙ РАСЧЕТ № 24671
G7: (локальная смета)
C9: на | D9: автоматическую установку пожарной сигнализации и СОУЭ. Отключение вентсистем
E10: Площадка 1. Здание 301
H11: (наименование работ и затрат, наименование объекта)
D13: Основание: проект № 24447-12-ПТ Тема КПМ Т6267.121Н | N13: Справочно, в тыс.руб. :
D14: Сметная стоимость _______________________________________________________________________________________________ | J14: ___________________________193,899 | L14: тыс. руб. | N14: ВСЕГО: | P14: =P15+P16+P17 -> 983.55208
D15: монтажных работ _______________________________________________________________________________________________ | J15: _______________________________________________________________________________________________94,058 | L15: тыс. руб. | N15: с К=5,56 | P15: =94.058*5.56 -> 522.96248
D16: прочих (ПНР "в холостую") _______________________________________________________________________________________________ | J16: _______________________________________________________________________________________________8,237 | L16: тыс. руб. | N16: с К=9,32 | P16: =8.237*9.32 -> 76.76884
D17: оборудования _______________________________________________________________________________________________ | J17: _______________________________________________________________________________________________91,604 | L17: тыс. руб. | N17: с К=4,19 | P17: =91.604*4.19 -> 383.82076
D18: Средства на оплату труда _______________________________________________________________________________________________ | J18: ___________________________22,507 | L18: тыс. руб. | N18: с К=5,56 | P18: =22.507*5.56 -> 125.13892
D19: Сметная трудоемкость _______________________________________________________________________________________________ | J19: _______________________________________________________________________________________________1483,93 | L19: чел.час
D20: Материалы ______________________________________ | K20: =K128/1000 -> 44.184 | L20: тыс.руб. | N20: с К=5,56 | P20: =K20*5.56 -> 245.66304
D21: Составлен(а) в базовых ценах 2001г. в редакции 2009г.
A23: № пп | B23: Обоснова-ние | C23: Наименование | D23: Ед. изм. | E23: Кол. | F23: Стоимость единицы, руб. | J23: Общая стоимость, руб. | O23: Т/з осн. раб.на ед. | P23: Т/з осн. раб. Всего | Q23: Общая масса обору-дования, т
F24: Всего | G24: В том числе | J24: Обору-дование | K24: Всего | L24: В том числе
G25: Осн.З/п | H25: Эк.Маш | I25: З/пМех | L25: Осн.З/п | M25: Эк.Маш | N25: З/пМех
A26: 1 | B26: 2 | C26: 3 | D26: 4 | E26: 5 | F26: 6 | G26: 7 | H26: 8 | I26: 9 | J26: 10 | K26: 11 | L26: 12 | M26: 13 | N26: 14 | O26: 15 | P26: 16 | Q26: 17
A27: Раздел 1. Монтажные работы
A28: 1 | B28: Цена поставщика | C28: ППКОПУ 03041-4-1 "Юнитроник-496" (Ц:14240руб :1,18:4,19) | D28: шт | E28: 1 | J28: 2880 | K28: 2880
A29: 2 | B29: ТЕРм10-08-001-01 | C29: Приборы ПС приемно-контрольные, пусковые, концентратор блок базовый на 10 лучей "Юнитроник-496" | D29: 1 шт. | E29: 1 | F29: 117.52 | G29: 102.02 | H29: 0.46 | K29: 118 | L29: 102 | O29: 7.2 | P29: 7.2
A30: 3 | B30: Цена поставщика | C30: Источник питания СКАТ2400И7 (Ц:4752руб:1,18:4,19) | D30: 1 шт. | E30: 1 | J30: 961 | K30: 961
A31: 4 | B31: ТЕРм10-02-016-06 | C31: Монтаж: преобразователь или блок питания | D31: 1 шт. | E31: 1 | F31: 256.7 | G31: 157.76 | H31: 33.83 | I31: 6.87 | K31: 257 | L31: 158 | M31: 34 | N31: 7 | O31: 10.1 | P31: 10.1
A32: 5 | B32: Цена поставщика | C32: АКБ 12в 4,5 А/ч (Ц:429,77руб:1,18:5.56) | D32: шт | E32: 1 | F32: 65.51 | K32: 66
A33: 6 | B33: Цена поставщика | C33: Метка пожарная адресная МА-7ТСН (Ц:590руб :1,18:4,19) | D33: шт | E33: 19 | J33: 2267 | K33: 2267
A34: 7 | B34: Цена поставщика | C34: Метка адресная управляющая "МА-4У" (Ц:3520руб :1,18:4,19) | D34: шт | E34: 3 | J34: 698 | K34: 698
A35: 8 | B35: Цена поставщика | C35: Метка адресная управляющая "МА-У" (Ц:1750руб :1,18:4,19) | D35: шт | E35: 11 | J35: 2559 | K35: 2559
A36: 9 | B36: Цена поставщика | C36: Метка адресная управляющая "МА-УОП" (Ц:1150руб :1,18:4,19) | D36: шт | E36: 2 | J36: 465 | K36: 465
A37: 10 | B37: ТЕРм10-08-003-05 прим. | C37: Монтаж: метка адресная "Юнитроник" "МА-УОП"; "МА-4У"; "МА-У"; "МА-7ТСН" | D37: 1 шт. | E37: 31 | F37: 86.32 | G37: 78.05 | H37: 0.37 | K37: 2676 | L37: 2420 | M37: 11 | O37: 5.76 | P37: 178.56
A38: 11 | B38: Цена поставщика | C38: Дымовой извещатель "ИП-212-92" (Ц:595руб :1,18:5,56) | D38: шт | E38: 59 | F38: 90.69 | K38: 5351
A39: 12 | B39: ТЕРм10-08-002-02 | C39: Извещатель ПС автоматический дымовой, фотоэлектрический, радиоизотопный, световой в нормальном исполнении | D39: 1 шт. | E39: 54 | F39: 28.38 | G39: 22.76 | H39: 0.46 | K39: 1533 | L39: 1229 | M39: 25 | O39: 1.68 | P39: 90.72
A40: 13 | B40: Цена поставщика | C40: Извещатель пламени т.Пульсар 3-015 НК (Ц:16697руб :1,18:4,19) | D40: шт | E40: 23 | J40: 77673 | K40: 77673
A41: 14 | B41: ТЕРм10-08-003-07 | C41: Монтаж извещателей пламени "Пульсар 3-015" | D41: 1 компл. | E41: 21 | F41: 104.48 | G41: 87.8 | H41: 1 | K41: 2194 | L41: 1844 | M41: 21 | O41: 6.48 | P41: 136.08
A42: 15 | B42: Цена поставщика | C42: Кабель оптоволоконный в металлорукаве для извещателя пламени пожарный "Пульсар 3-015 (Ц:944руб :1,18:5,56) | D42: м | E42: 70 | F42: 143.88 | K42: 10072
A43: 16 | B43: Цена поставщика | C43: Муфта герметизирующая для извещателя пламени (Ц:900руб :1,18:5,56) | D43: шт | E43: 21 | F43: 137.18 | K43: 2881
...

Sheet 24715
A1: СОГЛАСОВАНО: | E1: ФГУП "Комбинат "Электрохимприбор" | M1: УТВЕРЖДАЮ:
G2: (наименование стройки) | M2: Зам. генерального директора
M3: Е.В.Гордеев
A4: _________________ | M4: _________________
A5: " _____ " ________________ 2012 г. | M5: "______ " __________2012 г.
G6: ЛОКАЛЬНЫЙ СМЕТНЫЙ РАСЧЕТ № 24715
G7: (локальная смета)
C9: на | D9: автоматическую установку пожарной сигнализации и СОУЭ. Отключение вентиляции
E10: Площадка 1. АБК здания 141. МСП121. Инв.№ 5700278
H11: (наименование работ и затрат, наименование объекта)
D13: Основание: проект № 24480-12-ПТ Тема КПМ Т6274.121 | N13: Справочно, в тыс.руб. :
D14: Сметная стоимость _______________________________________________________________________________________________ | J14: ___________________________94,898 | L14: тыс. руб. | N14: ВСЕГО: | P14: =P15+P16+P17 -> 558.44825
D15: монтажных работ _______________________________________________________________________________________________ | J15: _______________________________________________________________________________________________79,238 | L15: тыс. руб. | N15: с К=5,56 | P15: =79.238*5.56 -> 440.56328
D16: прочих (ПНР "в холостую") _______________________________________________________________________________________________ | J16: _______________________________________________________________________________________________10,189 | L16: тыс. руб. | N16: с К=9,32 | P16: =10.189*9.32 -> 94.96148
D17: оборудования _______________________________________________________________________________________________ | J17: _______________________________________________________________________________________________5,471 | L17: тыс. руб. | N17: с К=4,19 | P17: =5.471*4.19 -> 22.92349
D18: Средства на оплату труда _______________________________________________________________________________________________ | J18: ___________________________19,886 | L18: тыс. руб. | N18: с К=4,19 | P18: =19.886*5.56 -> 110.56616
D19: Сметная трудоемкость _______________________________________________________________________________________________ | J19: _______________________________________________________________________________________________1321,8 | L19: чел.час
D20: Материалы ______________________________________ | K20: =K121/1000 -> 40.541 | L20: тыс.руб. | N20: с К=5,56 | P20: =K20*5.56 -> 225.40796
D21: Составлен(а) в базовых ценах 2001г. в редакции 2009г.
A23: № пп | B23: Обоснова-ние | C23: Наименование | D23: Ед. изм. | E23: Кол. | F23: Стоимость единицы, руб. | J23: Общая стоимость, руб. | O23: Т/з осн. раб.на ед. | P23: Т/з осн. раб. Всего | Q23: Общая масса обору-дования, т
F24: Всего | G24: В том числе | J24: Обору-дование | K24: Всего | L24: В том числе
G25: Осн.З/п | H25: Эк.Маш | I25: З/пМех | L25: Осн.З/п | M25: Эк.Маш | N25: З/пМех
A26: 1 | B26: 2 | C26: 3 | D26: 4 | E26: 5 | F26: 6 | G26: 7 | H26: 8 | I26: 9 | J26: 10 | K26: 11 | L26: 12 | M26: 13 | N26: 14 | O26: 15 | P26: 16 | Q26: 17
A27: Раздел 1. Демонтажные работы
A28: 1 | B28: ТЕРм10-08-002-02 | C28: Демонтаж извещателя ИП-104 КОЭФ. К ПОЗИЦИИ: демонтаж ОЗП=0,4; ЭМ=0,4 к расх.; ЗПМ=0,4; МАТ=0 к расх.; ТЗ=0,4; ТЗМ=0,4 | D28: 1 шт. | E28: 40 | F28: 9.29 | G28: 9.11 | H28: 0.18 | K28: 372 | L28: 365 | M28: 7 | O28: 0.67 | P28: 26.8
A29: 2 | B29: ТЕРр67-3-1 | C29: Демонтаж кабеля | D29: 100 м | E29: 7 | F29: 106.34 | G29: 105.94 | H29: 0.4 | I29: 0.16 | K29: 744 | L29: 742 | M29: 2 | N29: 1 | O29: 9.64 | P29: 67.48
A30: Раздел 2. Монтажные работы
A31: 3 | B31: Цена поставщика | C31: ППКОПУ 03041-4-1 "Юнитроник-496" (Ц:14240руб :1,18:4,19) | D31: шт | E31: 1 | J31: 2880 | K31: 2880
A32: 4 | B32: ТЕРм10-08-001-01 | C32: Приборы ПС приемно-контрольные, пусковые, концентратор блок базовый на 10 лучей "Юнитроник-496" | D32: 1 шт. | E32: 1 | F32: 117.52 | G32: 102.02 | H32: 0.46 | K32: 118 | L32: 102 | O32: 7.2 | P32: 7.2
A33: 5 | B33: Цена поставщика | C33: Источник питания СКАТ2400М (Ц:3175руб:1,18:4,19) | D33: 1 шт. | E33: 1 | J33: 642 | K33: 642
A34: 6 | B34: ТЕРм10-02-016-06 | C34: Монтаж: преобразователь или блок питания | D34: 1 шт. | E34: 1 | F34: 256.7 | G34: 157.76 | H34: 33.83 | I34: 6.87 | K34: 257 | L34: 158 | M34: 34 | N34: 7 | O34: 10.1 | P34: 10.1
A35: 7 | B35: Цена поставщика | C35: АКБ 12в 4,5 А/ч (Ц:429,77руб:1,18:5.56) | D35: шт | E35: 1 | F35: 65.51 | K35: 66
A36: 8 | B36: Цена поставщика | C36: АКБ 12в 7,0 А/ч (Ц:551,65руб:1,18:5.56) | D36: шт | E36: 1 | F36: 84.08 | K36: 84
A37: 9 | B37: Цена поставщика | C37: Метка пожарная адресная МА-7ТС24 (Ц:590руб :1,18:4,19) | D37: шт | E37: 10 | J37: 1193 | K37: 1193
A38: 10 | B38: Цена поставщика | C38: Метка адресная управляющая "МА-УОП" (Ц:1150руб :1,18:4,19) | D38: шт | E38: 1 | J38: 233 | K38: 233
A39: 11 | B39: ТЕРм10-08-003-05 прим. | C39: Монтаж: метка адресная "Юнитроник" "МА-УОП"; "МА-7ТС24" | D39: 1 шт. | E39: 10 | F39: 86.32 | G39: 78.05 | H39: 0.37 | K39: 863 | L39: 781 | M39: 4 | O39: 5.76 | P39: 57.6
A40: 12 | B40: Цена поставщика | C40: Дымовой извещатель "ИП-212-92" (Ц:595руб :1,18:5,56) | D40: шт | E40: 155 | F40: 90.69 | K40: 14057
A41: 13 | B41: ТЕРм10-08-002-02 | C41: Извещатель ПС автоматический дымовой, фотоэлектрический, радиоизотопный, световой в нормальном исполнении | D41: 1 шт. | E41: 141 | F41: 28.38 | G41: 22.76 | H41: 0.46 | K41: 4002 | L41: 3209 | M41: 65 | O41: 1.68 | P41: 236.88
A42: 14 | B42: Цена поставщика | C42: Извещатель пожарный тепловой взрывозащищенный ИП 101-7е (комп.06) (Ц:3744руб:1,18:5,56) | D42: шт | E42: 3 | F42: 570.66 | K42: 1712
A43: 15 | B43: ТЕРм10-08-002-03 | C43: Извещатель ПС автоматический тепловой, дымовой, световой во взрывозащищенном исполнении | D43: 1 шт. | E43: 2 | F43: 34.49 | G43: 27.97 | H43: 0.54 | K43: 69 | L43: 56 | M43: 1 | O43: 1.68 | P43: 3.36
...

Sheet 24780
A1: СОГЛАСОВАНО: | E1: ФГУП "Комбинат "Электрохимприбор" | M1: УТВЕРЖДАЮ:
G2: (наименование стройки) | M2: Зам. генерального директора
M3: Е.В.Гордеев
A4: _________________ | M4: _________________
A5: " _____ " ________________ 2013 г. | M5: "______ " __________2013 г.
G6: ЛОКАЛЬНЫЙ СМЕТНЫЙ РАСЧЕТ № 24780
G7: (локальная смета)
C9: на | D9: автоматическую установку пожарной сигнализации и СОУЭ. Отключение вентиляции
E10: Площадка 1. Цех 005. Здание 141. Инв.№ 5700278
H11: (наименование работ и затрат, наименование объекта)
D13: Основание: проект № 24530-13-ПС Тема КПМ Т6177.005 | N13: Справочно, в тыс.руб. :
D14: Сметная стоимость _______________________________________________________________________________________________ | J14: ___________________________47,797 | L14: тыс. руб. | N14: ВСЕГО: | P14: =P15+P16+P17 -> 275.07786
D15: монтажных работ _______________________________________________________________________________________________ | J15: _______________________________________________________________________________________________37,979 | L15: тыс. руб. | N15: с К=5,56 | P15: =5.56*37.979 -> 211.16324
D16: прочих (ПНР "в холостую") _______________________________________________________________________________________________ | J16: _______________________________________________________________________________________________4,440 | L16: тыс. руб. | N16: с К=9,32 | P16: =9.32*4.44 -> 41.3808
D17: оборудования _______________________________________________________________________________________________ | J17: _______________________________________________________________________________________________5,378 | L17: тыс. руб. | N17: с К=4,19 | P17: =4.19*5.378 -> 22.53382
D18: Средства на оплату труда _______________________________________________________________________________________________ | J18: ___________________________10,461 | L18: тыс. руб. | N18: с К=5,56 | P18: =5.56*10.461 -> 58.16316
D19: Сметная трудоемкость _______________________________________________________________________________________________ | J19: _______________________________________________________________________________________________709,72 | L19: чел.час
D20: Материалы ______________________________________ | K20: =K113/1000 -> 16.291 | L20: тыс.руб. | N20: с К=5,56 | P20: =K20*5.56 -> 90.57796
D21: Составлен(а) в базовых ценах 2001г. в редакции 2009г.
A23: № пп | B23: Обоснова-ние | C23: Наименование | D23: Ед. изм. | E23: Кол. | F23: Стоимость единицы, руб. | J23: Общая стоимость, руб. | O23: Т/з осн. раб.на ед. | P23: Т/з осн. раб. Всего | Q23: Общая масса обору-дования, т
F24: Всего | G24: В том числе | J24: Обору-дование | K24: Всего | L24: В том числе
G25: Осн.З/п | H25: Эк.Маш | I25: З/пМех | L25: Осн.З/п | M25: Эк.Маш | N25: З/пМех
A26: 1 | B26: 2 | C26: 3 | D26: 4 | E26: 5 | F26: 6 | G26: 7 | H26: 8 | I26: 9 | J26: 10 | K26: 11 | L26: 12 | M26: 13 | N26: 14 | O26: 15 | P26: 16 | Q26: 17
A27: Раздел 1. Монтажные работы
A28: 1 | B28: Цена поставщика | C28: ППКОПУ 03041-4-1 "Юнитроник-496" (Ц:14240руб :1,18:4,19) | D28: шт | E28: 1 | J28: 2880 | K28: 2880
A29: 2 | B29: ТЕРм10-08-001-01 | C29: Приборы ПС приемно-контрольные, пусковые, концентратор блок базовый на 10 лучей "Юнитроник-496" | D29: 1 шт. | E29: 1 | F29: 117.52 | G29: 102.02 | H29: 0.46 | K29: 118 | L29: 102 | O29: 7.2 | P29: 7.2
A30: 3 | B30: Цена поставщика | C30: АКБ 12в 7,0 А/ч (Ц:399руб :1,18:5,56) | D30: шт. | E30: 1 | F30: 60.82 | K30: 61
A31: 4 | B31: Цена поставщика | C31: Источник питания СКАТ2400М (Ц:3175руб:1,18:4,19) | D31: 1 шт. | E31: 1 | J31: 642 | K31: 642
A32: 5 | B32: ТЕРм10-02-016-06 | C32: Монтаж: преобразователь или блок питания | D32: 1 шт. | E32: 1 | F32: 256.7 | G32: 157.76 | H32: 33.83 | I32: 6.87 | K32: 257 | L32: 158 | M32: 34 | N32: 7 | O32: 10.1 | P32: 10.1
A33: 6 | B33: Цена поставщика | C33: Метка пожарная адресная МА-7ТСН (Ц:590руб :1,18:4,19) | D33: шт | E33: 6 | J33: 716 | K33: 716
A34: 7 | B34: Цена поставщика | C34: Метка адресная управляющая "МА-4У" (Ц:3520руб :1,18:4,19) | D34: шт | E34: 2 | J34: 465 | K34: 465
A35: 8 | B35: Цена поставщика | C35: Метка адресная управляющая "МА-УОП" (Ц:1150руб :1,18:4,19) | D35: шт | E35: 1 | J35: 233 | K35: 233
A36: 9 | B36: ТЕРм10-08-003-05 прим. | C36: Монтаж: метка адресная "Юнитроник" | D36: 1 шт. | E36: 7 | F36: 86.32 | G36: 78.05 | H36: 0.37 | K36: 604 | L36: 546 | M36: 3 | O36: 5.76 | P36: 40.32
A37: 10 | B37: Цена поставщика | C37: Дымовой извещатель "ИП-212-92" (Ц:595руб :1,18:5,56) | D37: шт | E37: 21 | F37: 90.69 | K37: 1904
A38: 11 | B38: ТЕРм10-08-002-02 | C38: Извещатель ПС автоматический дымовой, фотоэлектрический, радиоизотопный, световой в нормальном исполнении | D38: 1 шт. | E38: 19 | F38: 28.38 | G38: 22.76 | H38: 0.46 | K38: 539 | L38: 432 | M38: 9 | O38: 1.68 | P38: 31.92
A39: 12 | B39: Цена поставщика | C39: Извещатель пожарный ручной "ИПР-3СУ" (Ц:171,93руб :1,18:5,56) | D39: шт | E39: 6 | F39: 26.21 | K39: 157
A40: 13 | B40: ТЕРм10-04-066-05 | C40: Монтаж: извещатель пожарный ручной | D40: 1 шт. | E40: 5 | F40: 13.89 | G40: 12.78 | K40: 69 | L40: 64 | O40: 1 | P40: 5
A41: 14 | B41: Цена поставщика | C41: Светоуказатель Выход "Люкс-24" (Ц:165руб :1,18:5,56) | D41: шт | E41: 10 | F41: 25.15 | K41: 252
A42: 15 | B42: ТЕРм10-04-066-06 | C42: Монтаж: оповещатель световой | D42: 1 шт. | E42: 9 | F42: 98.76 | G42: 74.88 | K42: 889 | L42: 674 | O42: 6 | P42: 54
A43: 16 | B43: Цена поставщика | C43: Оповещатель звуковой "Антишок" (Ц:520,20руб :1,18:5,56) | D43: шт | E43: 9 | F43: 79.26 | K43: 713
...

Sheet 24798
A1: СОГЛАСОВАНО: | E1: ФГУП "Комбинат "Электрохимприбор" | M1: УТВЕРЖДАЮ:
G2: (наименование стройки) | M2: Зам. генерального директора
M3: Е.В.Гордеев
A4: _________________ | M4: _________________
A5: " _____ " ________________ 2013 г. | M5: "______ " __________2013 г.
G6: ЛОКАЛЬНЫЙ СМЕТНЫЙ РАСЧЕТ № 24798
G7: (локальная смета)
C9: на | D9: автоматическую установку пожарной сигнализации и СОУЭ.
E10: Площадка 6. Здание 714.
H11: (наименование работ и затрат, наименование объекта)
D13: Основание: проект № 24531-13-ПС Тема КПМ Т6265.015 | N13: Справочно, в тыс.руб. :
D14: Сметная стоимость _______________________________________________________________________________________________ | J14: ___________________________55,584 | L14: тыс. руб. | N14: ВСЕГО: | P14: =P15+P16+P17 -> 302.17915
D15: монтажных работ _______________________________________________________________________________________________ | J15: _______________________________________________________________________________________________36,851 | L15: тыс. руб. | N15: с К=5,56 | P15: =36.851*5.56 -> 204.89156
D16: прочих (ПНР "в холостую") _______________________________________________________________________________________________ | J16: _______________________________________________________________________________________________3,664 | L16: тыс. руб. | N16: с К=9,32 | P16: =9.32*3.664 -> 34.14848
D17: оборудования _______________________________________________________________________________________________ | J17: _______________________________________________________________________________________________15,069 | L17: тыс. руб. | N17: с К=4,19 | P17: =4.19*15.069 -> 63.13911
D18: Средства на оплату труда _______________________________________________________________________________________________ | J18: ___________________________6,794 | L18: тыс. руб. | N18: с К=5,56 | P18: =5.56*6.794 -> 37.77464
D19: Сметная трудоемкость _______________________________________________________________________________________________ | J19: _______________________________________________________________________________________________436,28 | L19: чел.час
D20: Материалы ______________________________________ | K20: =K115/1000 -> 23.825 | L20: тыс.руб. | N20: с К=5,56 | P20: =K20*5.56 -> 132.467
D21: Составлен(а) в базовых ценах 2001г. в редакции 2009г.
A23: № пп | B23: Обоснова-ние | C23: Наименование | D23: Ед. изм. | E23: Кол. | F23: Стоимость единицы, руб. | J23: Общая стоимость, руб. | O23: Т/з осн. раб.на ед. | P23: Т/з осн. раб. Всего | Q23: Общая масса обору-дования, т
F24: Всего | G24: В том числе | J24: Обору-дование | K24: Всего | L24: В том числе
G25: Осн.З/п | H25: Эк.Маш | I25: З/пМех | L25: Осн.З/п | M25: Эк.Маш | N25: З/пМех
A26: 1 | B26: 2 | C26: 3 | D26: 4 | E26: 5 | F26: 6 | G26: 7 | H26: 8 | I26: 9 | J26: 10 | K26: 11 | L26: 12 | M26: 13 | N26: 14 | O26: 15 | P26: 16 | Q26: 17
A27: Раздел 1. Монтажные работы
A28: 1 | B28: Цена поставщика | C28: Пульт контроля и управления С2000-М (Ц:6504,30руб:1,18:4,19) | D28: 1 шт. | E28: 1 | J28: 1316 | K28: 1316
A29: 2 | B29: ТЕРм10-08-001-13 | C29: Монтаж: пульт контроля и управления С2000-М | D29: 1 шт. | E29: 1 | F29: 64.92 | G29: 57.52 | H29: 0.37 | K29: 65 | L29: 58 | O29: 4 | P29: 4
A30: 3 | B30: Цена поставщика | C30: Контроль по двухпроводной линии С2000-КДЛ-2И (Ц:2168,10руб:1,18:4,19) | D30: 1 шт. | E30: 2 | J30: 877 | K30: 877
A31: 4 | B31: ТЕРм10-08-001-13 | C31: Монтаж: контроллер С2000-КДЛ-2И | D31: 1 шт. | E31: 2 | F31: 64.92 | G31: 57.52 | H31: 0.37 | K31: 130 | L31: 115 | M31: 1 | O31: 4 | P31: 8
A32: 5 | B32: Цена поставщика | C32: Адресный релейный блок на два реле С2000-СП2 (Ц:1084,16руб:1,18:4,19) | D32: 1 шт. | E32: 2 | J32: 439 | K32: 439
A33: 6 | B33: ТЕРм10-08-001-13 | C33: Монтаж: блок сигнально-пусковой С2000-СП2 | D33: 1 шт. | E33: 2 | F33: 64.92 | G33: 57.52 | H33: 0.37 | K33: 130 | L33: 115 | M33: 1 | O33: 4 | P33: 8
A34: 7 | B34: Цена поставщика | C34: Преобразователь интерфейса RS-232 – RS-485 С2000-Ethernet (Ц:3143.80руб:1,18:4,19) | D34: 1 шт. | E34: 1 | J34: 636 | K34: 636
