Workbook
Name Constr: '24627'!$A$7
Name Constr: '24957'!$A$7
Name Constr: '7076'!$A$7
Name FOT: '24627'!$D$14
Name FOT: '24957'!$D$13
Name FOT: '7076'!$D$19
Name Ind: '24627'!$H$9
Name Ind: '24957'!$H$9
Name Ind: '7076'!$H$9
Name Obj: '24627'!#REF!
Name Obj: '24957'!#REF!
Name Obj: '7076'!$E$12
Name Obosn: '24627'!$D$12
Name Obosn: '24957'!$D$11
Name Obosn: '7076'!$D$15
Name SmPr: '24627'!$D$13
Name SmPr: '24957'!$D$12
Name SmPr: '7076'!$D$16
Name аааааппппппрррппппппп: #REF!
Name аааааппппппрррппппппп: #REF!
Name аараооооооооооооо: #REF!
Name аараооооооооооооо: #REF!
Name автом: #REF!
Name автом: #REF!
Name алшрльоплварл: #REF!
Name алшрльоплварл: #REF!
Name аолвлддддддддддддддддввввввввв: #REF!
Name аолвлддддддддддддддддввввввввв: #REF!
Name апарв: #REF!
Name апарв: #REF!
Name апрлдджаоырыфрпопрлпрлпрлп: #REF!
Name апрлдджаоырыфрпопрлпрлпрлп: #REF!
Name арлггаджаш: #REF!
Name арлггаджаш: #REF!
Name ароррбллтблпроорапииас: #REF!
Name ароррбллтблпроорапииас: #REF!
Name арррррблллпдрлдддддддддд: #REF!
Name арррррблллпдрлдддддддддд: #REF!
Name варпаааааааааа: #REF!
Name варпаааааааааа: #REF!
Name ввпьььььлднд: #REF!
Name ввпьььььлднд: #REF!
Name вед: #REF!
Name вед: #REF!
Name вертикальная: #REF!
Name вертикальная: #REF!
Name вертикплан: #REF!
Name вертикплан: #REF!
Name волен: #REF!
Name волен: #REF!
Name вп: #REF!
Name вп: #REF!
Name впырпфдыпл: #REF!
Name впырпфдыпл: #REF!
Name впьглорьтитттттттттт: #REF!
Name впьглорьтитттттттттт: #REF!
Name всввввввввввввввввввввввввв: #REF!
Name всввввввввввввввввввввввввв: #REF!
Name выб: #REF!
Name выб: #REF!

Sheet 24627
A1: СОГЛАСОВАНО: | E1: ФГУП "Комбинат "Электрохимприбор" | M1: УТВЕРЖДАЮ:
G2: (наименование стройки) | M2: Зам.генерального директора
A3: _________________ | N3: Е.В. Гордеев
A4: " _____ " ________________ 2014 г. | M4: __________________
G5: ЛОКАЛЬНЫЙ СМЕТНЫЙ РАСЧЕТ № 24627 | M5: "______ " __________2014 г.
G6: (локальная смета)
C8: на | D8: реконструкцию фасада здания 292 А/3. Инв. № 9112536
E9: Раздел: установка металлических решеток на окна.
E10: (наименование работ и затрат, наименование объекта)
D12: Основание: проект № 24408-12-АС
D13: Сметная стоимость строительных работ _______________________________________________________________________________________________ | J13: ___________________________170,631 | L13: тыс. руб.
D14: Средства на оплату труда _______________________________________________________________________________________________ | J14: ___________________________10,515 | L14: тыс. руб.
D15: Сметная трудоемкость _______________________________________________________________________________________________ | J15: _______________________________________________________________________________________________699,62 | L15: чел.час
D16: Составлен(а) в базовых ценах 2001г. в редакции 2009г.
A18: № пп | B18: Обоснование | C18: Наименование | D18: Ед. изм. | E18: Кол. | F18: Стоимость единицы, руб. | J18: Общая стоимость, руб. | N18: Т/з осн. раб.на ед. | O18: Т/з осн. раб. Всего | P18: Т/з мех. на ед. | Q18: Т/з мех. Всего
F19: Всего | G19: В том числе | J19: Всего | K19: В том числе
G20: Осн.З/п | H20: Эк.Маш | I20: З/пМех | K20: Осн.З/п | L20: Эк.Маш | M20: З/пМех
A21: 1 | B21: 2 | C21: 3 | D21: 4 | E21: 5 | F21: 6 | G21: 7 | H21: 8 | I21: 9 | J21: 10 | K21: 11 | L21: 12 | M21: 13 | N21: 14 | O21: 15 | P21: 16 | Q21: 17
A22: 1 | B22: ТЕР46-03-002-01 | C22: Сверление кольцевыми алмазными сверлами в железобетонных конструкциях горизонтальных отверстий глубиной 200 мм диаметром 20 мм | D22: 100 отверстий | E22: 3.04 | F22: 3025.12 | G22: 315.72 | H22: 1103.35 | I22: 298.1 | J22: 9196 | K22: 960 | L22: 3354 | M22: 906 | N22: 23.3 | O22: 70.83 | P22: 22 | Q22: 66.88
A23: 2 | B23: ТЕР46-03-001-01 | C23: Сверление кольцевыми алмазными сверлами в железобетонных конструкциях вертикальных отверстий глубиной 200 мм диаметром 20 мм | D23: 100 отверстий | E23: 2.26 | F23: 2712.24 | G23: 234.42 | H23: 872.51 | I23: 222.22 | J23: 6130 | K23: 530 | L23: 1972 | M23: 502 | N23: 17.3 | O23: 39.1 | P23: 16.4 | Q23: 37.06
A24: 3 | B24: ТЕР09-06-001-02 | C24: Установка решеток | D24: 1 т | E24: 8.133 | F24: 886.85 | G24: 609.99 | H24: 152.41 | I24: 2.18 | J24: 7213 | K24: 4961 | L24: 1240 | M24: 18 | N24: 50.79 | O24: 413.08 | P24: 0.12 | Q24: 0.98
A25: 4 | B25: ТСЦ-201-0848 | C25: Конструкции стальные индивидуальные решетчатые сварные массой 0,1-0,5 т | D25: т | E25: 8.133 | F25: 15079 | J25: 122638
A26: 5 | B26: ТЕР13-03-002-04 | C26: Огрунтовка металлических поверхностей за один раз грунтовкой ГФ-021 | D26: 100 м2 | E26: 2.53 | F26: 417.46 | G26: 79.65 | H26: 10.15 | I26: 0.16 | J26: 1056 | K26: 202 | L26: 26 | N26: 5.31 | O26: 13.43 | P26: 0.01 | Q26: 0.03
A27: 6 | B27: ТЕР13-03-004-26 | C27: Окраска металлических огрунтованных поверхностей эмалью КОЭФ. К ПОЗИЦИИ: Количество окрасок ПЗ=2 (ОЗП=2; ЭМ=2 к расх.; ЗПМ=2; МАТ=2 к расх.; ТЗ=2; ТЗМ=2) | D27: 100 м2 | E27: 2.53 | F27: 1261.82 | G27: 97.9 | H27: 13.36 | I27: 0.32 | J27: 3192 | K27: 248 | L27: 34 | M27: 1 | N27: 7.66 | O27: 19.38 | P27: 0.02 | Q27: 0.05
A28: Итого прямые затраты по смете в ценах 2001г. | J28: 149425 | K28: 6901 | L28: 6626 | M28: 1427 | O28: 555.82 | Q28: 105
A29: Итого прямые затраты по смете с учетом коэффициентов к итогам | J29: 152172 | K29: 9017 | L29: 7257 | M29: 1498 | O29: 699.62 | Q29: 105.47
A30: В том числе, справочно:
A31: Районный к-т 4,3% (Поз. 1-3, 5-6) | J31: 358 | K31: 297 | L31: 61 | M31: 61
A32: При ремонте зданий и сооружений работы, аналогичные технологическим процессам в новом строительстве ОЗП=1,15; ЭМ=1,25; ЗПМ=1,25; ТЗ=1,15; ТЗМ=1,25 (Поз. 3, 5-6) | J32: 1171 | K32: 846 | L32: 325 | M32: 5 | O32: 66.8835 | Q32: 0.265
A33: 4. Производство работ на открытых и полуоткрытых производственных площадках в стесненных условиях ОЗП=1,15; ЭМ=1,15; ЗПМ=1,15; ТЗ=1,15; ТЗМ=1,15 (Поз. 3, 5-6) | J33: 1218 | K33: 973 | L33: 244 | M33: 4 | O33: 76.9155 | Q33: 0.1995
A34: Накладные расходы | J34: 10068
A35: В том числе, справочно:
A36: 90% ФОТ (от 7492) (Поз. 3, 5-6) | J36: 6743
A37: 110% ФОТ (от 3023) (Поз. 1-2) | J37: 3325
A38: Сметная прибыль | J38: 8391
A39: В том числе, справочно:
A40: 70% ФОТ (от 3644) (Поз. 1-2, 5-6) | J40: 2551
A41: 85% ФОТ (от 6871) (Поз. 3) | J41: 5840
A42: Итоги по смете:
A43: Итого | J43: 170631 | O43: 699.62 | Q43: 105.47
...

Sheet 24957
A1: СОГЛАСОВАНО: | E1: ФГУП "Комбинат "Электрохимприбор" | M1: УТВЕРЖДАЮ:
G2: (наименование стройки) | M2: Зам.генерального директора
A3: _________________ | N3: Е.В. Гордеев
A4: " _____ " ________________ 2014 г. | M4: __________________
G5: ЛОКАЛЬНЫЙ СМЕТНЫЙ РАСЧЕТ № 24957 | M5: "______ " __________2014 г.
G6: (локальная смета)
C8: на | D8: реконструкцию фасада здания 292 А/3. Инв. № 9112536
E9: (наименование работ и затрат, наименование объекта)
D11: Основание: 24544-13-АС
D12: Сметная стоимость строительных работ _______________________________________________________________________________________________ | J12: ___________________________725,123 | L12: тыс. руб.
D13: Средства на оплату труда _______________________________________________________________________________________________ | J13: ___________________________106,188 | L13: тыс. руб.
D14: Сметная трудоемкость _______________________________________________________________________________________________ | J14: _______________________________________________________________________________________________7766,65 | L14: чел.час
D15: Составлен(а) в базовых ценах 2001г. в редакции 2009г.
A17: № пп | B17: Обоснование | C17: Наименование | D17: Ед. изм. | E17: Кол. | F17: Стоимость единицы, руб. | J17: Общая стоимость, руб. | N17: Т/з осн. раб.на ед. | O17: Т/з осн. раб. Всего | P17: Т/з мех. на ед. | Q17: Т/з мех. Всего
F18: Всего | G18: В том числе | J18: Всего | K18: В том числе
G19: Осн.З/п | H19: Эк.Маш | I19: З/пМех | K19: Осн.З/п | L19: Эк.Маш | M19: З/пМех
A20: 1 | B20: 2 | C20: 3 | D20: 4 | E20: 5 | F20: 6 | G20: 7 | H20: 8 | I20: 9 | J20: 10 | K20: 11 | L20: 12 | M20: 13 | N20: 14 | O20: 15 | P20: 16 | Q20: 17
A21: Раздел 1. Разборка конструкций
A22: 1 | B22: ТЕР46-04-012-02 | C22: Разборка деревянных заполнений проемов оконных без подоконных досок | D22: 100 м2 | E22: 1.864 | F22: 2281.38 | G22: 1969.46 | H22: 311.92 | I22: 120.9 | J22: 4252 | K22: 3671 | L22: 581 | M22: 225 | N22: 172.76 | O22: 322.02 | P22: 7.74 | Q22: 14.43
A23: 2 | B23: ТЕР46-04-012-01 | C23: Разборка деревянных заполнений проемов оконных с подоконными досками | D23: 100 м2 | E23: 0.799 | F23: 2461.28 | G23: 2149.36 | H23: 311.92 | I23: 120.9 | J23: 1967 | K23: 1718 | L23: 249 | M23: 97 | N23: 188.54 | O23: 150.64 | P23: 7.74 | Q23: 6.18
A24: 3 | B24: ТЕРр58-20-1 | C24: Смена обделок из листовой стали (поясков, сандриков, отливов, карнизов) шириной до 0,4 м | D24: 100 м | E24: 1.227 | F24: 3839.29 | G24: 497.33 | H24: 7.59 | I24: 1.25 | J24: 4711 | K24: 610 | L24: 9 | M24: 2 | N24: 41.41 | O24: 50.81 | P24: 0.08 | Q24: 0.1
A25: 4 | B25: СЦП1-1-27-А | C25: Погрузочные работы при автомобильных перевозках: мусор строительный КОЭФ. К ПОЗИЦИИ: Коэффициент техн.часть п.3 ПЗ=1,025 (ОЗП=1,025; ЭМ=1,025 к расх.; ЗПМ=1,025; МАТ=1,025 к расх.; ТЗ=1,025; ТЗМ=1,025) | D25: т | E25: 19 | F25: 2.77 | G25: 2.77 | J25: 53 | K25: 53
A26: 5 | B26: СЦП3-3-40-1 | C26: Перевозка грузов (строительного мусора) автомобилями-самосвалами: расстояние 40 км, класс груза I КОЭФ. К ПОЗИЦИИ: При перевозке грузов к провозной плате (тарифам) применять поправочный коэффициент ПЗ=1,37 (ОЗП=1,37; ЭМ=1,37 к расх.; ЗПМ=1,37; МАТ=1,37 к расх.; ТЗ=1,37; ТЗМ=1,37) | D26: т | E26: 19 | F26: 52.85 | H26: 52.85 | J26: 1004 | L26: 1004
A27: Раздел 2. Общестроительные работы
A28: 6 | B28: ТЕР10-01-034-01 | C28: Установка в зданиях оконных блоков из ПВХ профилей глухих с площадью проема до 2 м2 | D28: 100 м2 | E28: 0.007 | F28: 14505.05 | G28: 2103.64 | H28: 548.1 | I28: 27.49 | J28: 102 | K28: 15 | L28: 4 | N28: 170.75 | O28: 1.2 | P28: 1.76 | Q28: 0.01
A29: 7 | B29: Цена поставщика | C29: Оконный блок ПВХ: Ок-5 (цена: 1822:5,56х1,02) | D29: шт. | E29: 1 | F29: 334,25 1822/5,56*1,02 | J29: 334
A30: 8 | B30: ТЕР10-01-034-06 | C30: Установка в зданиях оконных блоков из ПВХ профилей поворотных (откидных, поворотно-откидных) с площадью проема более 2 м2 двухстворчатых | D30: 100 м2 | E30: 0.158 | F30: 11246.07 | G30: 1795.27 | H30: 527.48 | I30: 10.31 | J30: 1777 | K30: 284 | L30: 83 | M30: 2 | N30: 145.72 | O30: 23.02 | P30: 0.66 | Q30: 0.1
A31: 9 | B31: Цена поставщика | C31: Оконный блок ПВХ: Ок-4 (цена: 9871:5,56х1,02) | D31: шт. | E31: 2 | F31: 1810,87 9871/5,56*1,02 | J31: 3622
A32: 10 | B32: Цена поставщика | C32: Оконный блок ПВХ: Ок-6 (цена: 8877:5,56х1,02) | D32: шт. | E32: 2 | F32: 1628,51 8877/5,56*1,02 | J32: 3257
A33: 11 | B33: ТЕР10-01-034-08 | C33: Установка в зданиях оконных блоков из ПВХ профилей поворотных (откидных, поворотно-откидных) с площадью проема более 2 м2 трехстворчатых, в том числе при наличии створок глухого остекления | D33: 100 м2 | E33: 2.5 | F33: 11557.22 | G33: 1837.65 | H33: 534.04 | I33: 10.31 | J33: 28893 | K33: 4594 | L33: 1335 | M33: 26 | N33: 149.16 | O33: 372.9 | P33: 0.66 | Q33: 1.65
A34: 12 | B34: Цена поставщика | C34: Оконный блок ПВХ: Ок-1 (цена: 19832:5,56х1,02) | D34: шт. | E34: 13 | F34: 3638,24 (9819+194+9819)/5,56*1,02 | J34: 47297
A35: 13 | B35: Цена поставщика | C35: Оконный блок ПВХ: Ок-2 (цена: 20244:5,56х1,02) | D35: шт. | E35: 1 | F35: 3713,83 (9819+194+10231)/5,56*1,02 | J35: 3714
A36: 14 | B36: Цена поставщика | C36: Оконный блок ПВХ: Ок-3 (цена: 19428:5,56х1,02) | D36: шт. | E36: 4 | F36: 3564,13 (9819+194+9415)/5,56*1,02 | J36: 14257
A37: 15 | B37: Цена поставщика | C37: Оконный блок ПВХ: Ок-7 (цена: 26216:5,56х1,02) | D37: шт. | E37: 2 | F37: 4809,41 (8579+8576+8667+197*2)/5,56*1,02 | J37: 9619
A38: 16 | B38: Цена поставщика | C38: Оконный блок ПВХ: Ок-8 (цена: 38183:5,56х1,02) | D38: шт. | E38: 5 | F38: 7004,8 (13714*2+449*2+9857)/5,56*1,02 | J38: 35024
A39: 17 | B39: Цена поставщика | C39: Оконный блок ПВХ: Ок-9 (цена: 16093:5,56х1,02) | D39: шт. | E39: 1 | F39: 2952,31 16093/5,56*1,02 | J39: 2952
A40: 18 | B40: ТЕР20-02-003-02 прим. | C40: Установка решеток жалюзийных стальных неподвижных односекционных | D40: 1 решетка | E40: 5 | F40: 21.93 | G40: 14.78 | H40: 2.94 | J40: 110 | K40: 74 | L40: 15 | N40: 1.17 | O40: 5.85
A41: 19 | B41: Цена поставщика | C41: Решетки вентиляционные алюминиевые "АРКТОС" типа АРН размером 1250х450 мм (Ц:6647руб:1,18:5,56х1,02) | D41: шт. | E41: 1 | F41: 1033,4 6647/1,18/5,56*1,02 | J41: 1033
A42: 20 | B42: Цена поставщика | C42: Решетки вентиляционные алюминиевые "АРКТОС" типа АРН размером 1250х1200 мм (Ц:13391руб:1,18:5,56х1,02) | D42: шт. | E42: 4 | F42: 2081,88 13391/1,18/5,56*1,02 | J42: 8328
A43: 21 | B43: ТСЦ-101-3198 | C43: Винты самонарезающие остроконечные 4,8х70мм | D43: 100 шт. | E43: 1.34 | F43: 32.67 | J43: 44
...

Sheet 7076
A1: СОГЛАСОВАНО: | M1: УТВЕРЖДАЮ:
A4: _________________ | M4: _________________
A5: " _____ " ________________ 2014 г. | M5: "____" ______________2014 г.
H6: ФГУП"Комбинат"Электрохимприбор"
H7: (наименование стройки)
H9: ЛОКАЛЬНЫЙ СМЕТНЫЙ РАСЧЕТ № 7076
H10: (локальная смета)
C12: на | D12: Реконструкция фасада здания 292А/3 (инв.№ 9109052). Устройство защитного козырька
H13: (наименование работ и затрат, наименование объекта)
D15: Основание: техническое решение от 22.02.2013 № 072-15/554
D16: Сметная стоимость _______________________________________________________________________________________________ | J16: ___________________________4,682 | L16: тыс. руб.
D17: строительных работ _______________________________________________________________________________________________ | J17: _______________________________________________________________________________________________3,380 | L17: тыс. руб.
D18: монтажных работ _______________________________________________________________________________________________ | J18: _______________________________________________________________________________________________1,302 | L18: тыс. руб.
D19: Средства на оплату труда _______________________________________________________________________________________________ | J19: ___________________________0,610 | L19: тыс. руб.
D20: Сметная трудоемкость _______________________________________________________________________________________________ | J20: _______________________________________________________________________________________________44,66 | L20: чел.час
D21: Составлен(а) в базовых ценах 2001 г. (в редакции 2009г.)
A24: № пп | B24: Обоснование | C24: Наименование | D24: Ед. изм. | E24: Кол. | F24: Стоимость единицы, руб. | J24: Общая стоимость, руб. | N24: Т/з осн. раб.на ед. | O24: Т/з осн. раб. Всего | P24: Т/з мех. на ед. | Q24: Т/з мех. Всего
F25: Всего | G25: В том числе | J25: Всего | K25: В том числе
G26: Осн.З/п | H26: Эк.Маш | I26: З/пМех | K26: Осн.З/п | L26: Эк.Маш | M26: З/пМех
A27: 1 | B27: 2 | C27: 3 | D27: 4 | E27: 5 | F27: 6 | G27: 7 | H27: 8 | I27: 9 | J27: 10 | K27: 11 | L27: 12 | M27: 13 | N27: 14 | O27: 15 | P27: 16 | Q27: 17
A28: Раздел 1.
A29: 1 | B29: ТЕРм38-01-006-08 | C29: Изготовление кронштейнов из уголков КОЭФ. К ПОЗИЦИИ: ОЗП=1,45; ТЗ=1,45 НР (161 руб.): 66% от ФОТ СП (159 руб.): 65% от ФОТ | D29: 1 т конструкций | E29: 0,08055 0,03678+0,04377 | F29: 11336.71 | G29: 2497.63 | H29: 2301.71 | I29: 19.94 | J29: 913 | K29: 201 | L29: 185 | M29: 2 | N29: 188.5 | O29: 15.18 | P29: 1.3 | Q29: 0.1
A30: 2 | B30: ТСЦ-101-2880 | C30: Болт М10х20 с гайкой | D30: шт. | E30: 26 | F30: 3.46 | J30: 90
A31: 3 | B31: ТЕР13-03-002-04 | C31: Огрунтовка металлических поверхностей за один раз грунтовкой ГФ-021 КОЭФ. К ПОЗИЦИИ: п.1.9 ТЧ При нанесении лакокрасочных материалов ручным способом ОЗП=1,1; ТЗ=1,1 НР (5 руб.): 90% от ФОТ СП (4 руб.): 70% от ФОТ | D31: 100 м2 окрашиваемой поверхности | E31: 0,0419 4,19/100 | F31: 425.43 | G31: 87.62 | H31: 10.15 | I31: 0.16 | J31: 18 | K31: 4 | N31: 5.84 | O31: 0.24 | P31: 0.01
A32: 4 | B32: ТЕР13-03-004-26 | C32: Окраска металлических огрунтованных поверхностей эмалью ПФ-115 за 2 раза КОЭФ. К ПОЗИЦИИ: п.1.9 ТЧ При нанесении лакокрасочных материалов ручным способом ОЗП=1,1; ТЗ=1,1; ПЗ=2 (ОЗП=2; ЭМ=2 к расх.; ЗПМ=2; МАТ=2 к расх.; ТЗ=2; ТЗМ=2) НР (5 руб.): 90% от ФОТ СП (4 руб.): 70% от ФОТ | D32: 100 м2 окрашиваемой поверхности | E32: 0,0419 4,19/100 | F32: 1271.61 | G32: 107.69 | H32: 13.36 | I32: 0.32 | J32: 54 | K32: 5 | L32: 1 | N32: 8.43 | O32: 0.35 | P32: 0.02
A33: 5 | B33: ТЕР15-01-064-01 | C33: Демонтаж стен фасадов зданий искусственными плитами типа <ФАССТ> на металлическом каркасе КОЭФ. К ПОЗИЦИИ: Демонтаж (разборка) конструкций ОЗП=0,8; ЭМ=0,8 к расх.; ЗПМ=0,8; МАТ=0 к расх.; ТЗ=0,8; ТЗМ=0,8 НР (23 руб.): 105% от ФОТ СП (12 руб.): 55% от ФОТ | D33: 100 м2 поверхности облицовки | E33: 0,00624 0,624/100 | F33: 3031.23 | G33: 2926.8 | H33: 104.43 | I33: 5.75 | J33: 19 | K33: 18 | L33: 1 | N33: 216 | O33: 1.35 | P33: 0.37
A34: 6 | B34: ТЕР26-01-039-01 | C34: Демонтаж изоляции из волокнистых и зернистых материалов насухо КОЭФ. К ПОЗИЦИИ: Демонтаж (разборка) ОЗП=0,8; ЭМ=0,8 к расх.; ЗПМ=0,8; МАТ=0 к расх.; ТЗ=0,8; ТЗМ=0,8 НР (8 руб.): 100% от ФОТ СП (6 руб.): 70% от ФОТ | D34: 1 м3 изоляции | E34: 0,0624 0,624*0,1 | F34: 167.52 | G34: 110.79 | H34: 56.73 | J34: 11 | K34: 7 | L34: 4 | N34: 8.46 | O34: 0.53
A35: 7 | B35: ТЕР09-06-001-02 прим. | C35: Монтаж: кронштейнов НР (53 руб.): 90% от ФОТ СП (50 руб.): 85% от ФОТ | D35: 1 т конструкций | E35: 0,08055 0,03678+0,04377 | F35: 886.85 | G35: 609.99 | H35: 152.41 | I35: 2.18 | J35: 71 | K35: 49 | L35: 12 | N35: 50.79 | O35: 4.09 | P35: 0.12 | Q35: 0.01
A36: 8 | B36: ТЕРр69-2-1 | C36: Сверление отверстий в кирпичных стенах электроперфоратором диаметром до 20 мм, толщина стен 0,5 кирпича НР (16 руб.): 78% от ФОТ СП (11 руб.): 50% от ФОТ | D36: 100 отверстий | E36: 0,26 26/100 | F36: 83.02 | G36: 65.93 | H36: 17.09 | J36: 21 | K36: 17 | L36: 4 | N36: 5.49 | O36: 1.43
A37: 9 | B37: ТЕР09-05-003-01 прим. | C37: Установка анкера НР (43 руб.): 90% от ФОТ СП (41 руб.): 85% от ФОТ | D37: 100 шт. болтов | E37: 0,26 26/100 | F37: 155.36 | G37: 152.08 | H37: 3.28 | J37: 41 | K37: 40 | L37: 1 | N37: 11.9 | O37: 3.09
A38: 10 | B38: ТСЦ-101-2591 прим. | C38: Анкер- шпилька "HILTI" HSA M12х120 мм | D38: шт. | E38: 26 | F38: 9.28 | J38: 241
A39: 11 | B39: ТЕР12-01-007-08 | C39: Устройство кровель из оцинкованной стали без настенных желобов НР (122 руб.): 120% от ФОТ СП (66 руб.): 65% от ФОТ | D39: 100 м2 кровли | E39: 0,072 7,2/100 | F39: 19583.41 | G39: 1161.06 | H39: 131.89 | I39: 9.1 | J39: 1410 | K39: 84 | L39: 9 | M39: 1 | N39: 90.85 | O39: 6.54 | P39: 0.5 | Q39: 0.04
A40: 12 | B40: ТСЦ-101-1750 прим. | C40: Саморезы | D40: 10 шт. | E40: 10,1 (26+75)/10 | F40: 3.5 | J40: 35
A41: 13 | B41: ТЕР07-01-037-03 | C41: Герметизация мастикой швов горизонтальных НР (68 руб.): 130% от ФОТ СП (44 руб.): 85% от ФОТ | D41: 100 м шва | E41: 0,21 21/100 | F41: 1411.52 | G41: 203.2 | H41: 415.57 | J41: 296 | K41: 43 | L41: 87 | N41: 15.9 | O41: 3.34
A42: 14 | B42: ТЕР15-01-064-01 | C42: Облицовка стен фасадов зданий искусственными плитами типа <ФАССТ> на металлическом каркасе НР (34 руб.): 105% от ФОТ СП (18 руб.): 55% от ФОТ | D42: 100 м2 поверхности облицовки | E42: 0.0075 | F42: 29957.57 | G42: 3658.5 | H42: 130.54 | I42: 7.19 | J42: 224 | K42: 27 | L42: 1 | N42: 270 | O42: 2.03 | P42: 0.46
A43: 15 | B43: ТЕР26-01-039-01 | C43: Изоляция изделиями из волокнистых и зернистых материалов насухо НР (10 руб.): 100% от ФОТ СП (7 руб.): 70% от ФОТ | D43: 1 м3 изоляции | E43: 0,0624 0,624*0,1 | F43: 1892.72 | G43: 138.49 | H43: 70.91 | J43: 118 | K43: 9 | L43: 4 | N43: 10.58 | O43: 0.66
A44: ИТОГИ ПО СМЕТЕ:
A45: Итого прямые затраты по смете в ценах 2001г. | J45: 3562 | K45: 504 | L45: 309 | M45: 3 | O45: 38.83 | Q45: 0.15
A46: Итого прямые затраты по смете с учетом коэффициентов к итогам | J46: 3711 | K46: 607 | L46: 355 | M46: 3 | O46: 44.66 | Q46: 0.18
A47: В том числе, справочно:
...

Sheet НМЦ
A1: г. Лесной ФГУП "Комбинат "Электрохимприбор"
A3: Расчет начальной (максимальной) цены
A5: Выполнение строительно-монтажных работ по реконструкции фасада здания 292 А/3
A8: Составлен в ценах по состоянию на 01.01.2000 г. с переводом в текущие | D8: руб.
A9: Наименование глав ССР, объектных сметных расчетов, локальных сметных расчетов, видов работ | B9: Сметная стоимость в базисных ценах на 01.01.2000 | C9: Текущая стоимость на момент определения начальной (максимальной) цены | D9: № обосновывающего расчета
A13: 1 | B13: 2 | C13: 3 | D13: 4
A14: Реконструкция фасада здания 292 А/3. Установка металлических решеток на окна. | B14: ='Сводка затрат'!H13 -> 170631 | C14: =ROUND('Сводка затрат'!D13*5.98,0)+ROUND('Сводка затрат'!E13*5.98,0)+ROUND('Сводка затрат'!F13*4.21,0)+ROUND('Сводка затрат'!G13*10.48,0) -> 1020373 | D14: 24627
A15: Реконструкция фасада здания 292 А/3. | B15: ='Сводка затрат'!H14 -> 725123 | C15: =ROUND('Сводка затрат'!D14*5.98,0)+ROUND('Сводка затрат'!E14*5.98,0)+ROUND('Сводка затрат'!F14*4.21,0)+ROUND('Сводка затрат'!G14*10.48,0) -> 4336236 | D15: 24957
A16: Устройство защитного козырька | B16: ='Сводка затрат'!H15 -> 4682 | C16: =ROUND('Сводка затрат'!D15*5.98,0)+ROUND('Сводка затрат'!E15*5.98,0)+ROUND('Сводка затрат'!F15*4.21,0)+ROUND('Сводка затрат'!G15*10.48,0) -> 27998 | D16: 7076
A17: Итого | B17: =SUM(B14:B16) -> 900436 | C17: =SUM(C14:C16) -> 5384607
A19: НДС 18% | C19: =ROUND(C17*18%,2) -> 969229.26
A21: Всего | C21: =SUM(C17:C20) -> 6353836.3
A24: Начальник отдела
A25: капитального строительства | C25: В.В. Моляков
A27: Инженер по проектно-сметной работе | C27: Т.Ш. Ковязина
A30: Согласовано | C30: отдел 028

Sheet Сводка затрат
A1: Приложение №__ к договору от "__"______2014 №_______
A3: г. Лесной. ФГУП "Комбинат "Электрохимприбор"
A5: Сводка затрат
A7: Выполнение строительно-монтажных работ по реконструкции фасада здания 292 А/3
A9: Составлен в ценах по состоянию на 01.01.2000 г.
A10: № п/п | B10: Номера сметных расчетов и смет | C10: Наименование работ и затрат | D10: Сметная стоимость | H10: Общая сметная стоимость, руб.
D11: строительных работ | E11: монтажных работ | F11: оборудования, мебели, инвентаря | G11: прочих затрат
A12: 1 | B12: 2 | C12: 3 | D12: 4 | E12: 5 | F12: 6 | G12: 7 | H12: 8
A13: 1 | B13: 24627 | C13: Реконструкция фасада здания 292 А/3. Установка металлических решеток на окна. | D13: ='24627'!J50 -> 170631 | E13: 0 | F13: 0 | G13: 0 | H13: =SUM(D13:G13) -> 170631 | J13: =ROUND(D13*5.98,0) -> 1020373 | K13: =ROUND(E13*5.98,0) -> 0 | L13: =ROUND(F13*4.21,0) -> 0 | M13: =ROUND(G13*10.48,0) -> 0 | N13: =SUM(J13:M13) -> 1020373
A14: 2 | B14: 24957 | C14: Реконструкция фасада здания 292 А/3. | D14: ='24957'!J88 -> 725123 | E14: 0 | F14: 0 | G14: 0 | H14: =SUM(D14:G14) -> 725123 | J14: =ROUND(D14*5.98,0) -> 4336236 | K14: =ROUND(E14*5.98,0) -> 0 | L14: =ROUND(F14*4.21,0) -> 0 | M14: =ROUND(G14*10.48,0) -> 0 | N14: =SUM(J14:M14) -> 4336236
A15: 3 | B15: 7076 | C15: Устройство защитного козырька | D15: ='7076'!J53 -> 3380 | E15: ='7076'!J54 -> 1302 | F15: 0 | G15: 0 | H15: =SUM(D15:G15) -> 4682 | J15: =ROUND(D15*5.98,0) -> 20212 | K15: =ROUND(E15*5.98,0) -> 7786 | L15: =ROUND(F15*4.21,0) -> 0 | M15: =ROUND(G15*10.48,0) -> 0 | N15: =SUM(J15:M15) -> 27998
C16: Итого в базисных ценах 2000 г. | D16: =SUM(D13:D15) -> 899134 | E16: =SUM(E13:E15) -> 1302 | F16: =SUM(F13:F15) -> 0 | G16: =SUM(G13:G15) -> 0 | H16: =SUM(D16:G16) -> 900436 | J16: =SUM(J13:J15) -> 5376821 | K16: =SUM(K13:K15) -> 7786 | L16: =SUM(L13:L15) -> 0 | M16: =SUM(M13:M15) -> 0 | N16: =SUM(N13:N15) -> 5384607
C17: Всего в ценах 2014 (Ксмр=5,98, Коб.=4,21, Кпнр.=10,48) | D17: =ROUND(D16*5.98,0) -> 5376821 | E17: =ROUND(E16*5.98,0) -> 7786 | F17: =ROUND(F16*4.21,0) -> 0 | G17: =ROUND(G16*10.48,0) -> 0 | H17: =SUM(D17:G17) -> 5384607
C18: НДС 18% | D18: =ROUND(D17*18%,2) -> 967827.78 | E18: =ROUND(E17*18%,2) -> 1401.48 | F18: =ROUND(F17*18%,2) -> 0 | G18: =ROUND(G17*18%,2) -> 0 | H18: =SUM(D18:G18) -> 969229.26
C19: Всего в ценах 2014 с НДС | D19: =SUM(D17:D18) -> 6344648.8 | E19: =SUM(E17:E18) -> 9187.48 | F19: =SUM(F17:F18) -> 0 | G19: =SUM(G17:G18) -> 0 | H19: =SUM(D19:G19) -> 6353836.3
C23: ЗАКАЗЧИК: | H23: ПОДРЯДЧИК:
C24: Генеральный директор
C25: ФГУП "Комбинат "Электрохимприбор"
C27: __________________ А.В. Новиков
