Workbook
Name Constr: '24579'!$A$1
Name Constr: '24597'!$A$7
Name Constr: '24601'!$A$7
Name Constr: '24603'!$A$1
Name Constr: '24632'!$A$1
Name Constr: '24845'!$A$7
Name Constr: '6925 вывести остаток'!$A$1
Name FOT: '24579'!$D$15
Name FOT: '24597'!$D$14
Name FOT: '24601'!$D$14
Name FOT: '24603'!$D$17
Name FOT: '24632'!$D$18
Name FOT: '24845'!$D$16
Name FOT: '6925 вывести остаток'!$C$17
Name Ind: '24579'!$G$9
Name Ind: '24597'!$H$9
Name Ind: '24601'!$H$9
Name Ind: '24603'!$G$9
Name Ind: '24632'!$G$9
Name Ind: '24845'!$H$9
Name Ind: '6925 вывести остаток'!$D$9
Name Obj: '24579'!#REF!
Name Obj: '24597'!$E$12
Name Obj: '24601'!$E$12
Name Obj: '24603'!#REF!
Name Obj: '24632'!#REF!
Name Obj: '24845'!#REF!
Name Obj: '6925 вывести остаток'!#REF!
Name Obosn: '24579'!#REF!
Name Obosn: '24597'!#REF!
Name Obosn: '24601'!#REF!
Name Obosn: '24603'!$D$13
Name Obosn: '24632'!$D$13
Name Obosn: '24845'!$D$12
Name Obosn: '6925 вывести остаток'!$C$15
Name SmPr: '24579'!$D$11
Name SmPr: '24597'!$D$13
Name SmPr: '24601'!$D$13
Name SmPr: '24603'!$D$14
Name SmPr: '24632'!$D$14
Name SmPr: '24845'!$D$13
Name SmPr: '6925 вывести остаток'!$C$16
Name аааааппппппрррппппппп: #REF!
Name аааааппппппрррппппппп: #REF!
Name аараооооооооооооо: #REF!
Name аараооооооооооооо: #REF!
Name автом: #REF!
Name автом: #REF!
Name алшрльоплварл: #REF!
Name алшрльоплварл: #REF!
Name аолвлддддддддддддддддввввввввв: #REF!
Name аолвлддддддддддддддддввввввввв: #REF!
Name апарв: #REF!
Name апарв: #REF!
Name апрлдджаоырыфрпопрлпрлпрлп: #REF!
Name апрлдджаоырыфрпопрлпрлпрлп: #REF!
Name арлггаджаш: #REF!
Name арлггаджаш: #REF!
Name ароррбллтблпроорапииас: #REF!
Name ароррбллтблпроорапииас: #REF!

Sheet 24579
A1: СОГЛАСОВАНО: | E1: ФГУП "Комбинат "Электрохимприбор" | M1: УТВЕРЖДАЮ:
G2: (наименование стройки) | M2: Зам. генерального директора
A3: _____________________________ | M3: Е.В.Гордеев
A4: " _____ " ________________ 2013г. | G4: ЛОКАЛЬНЫЙ СМЕТНЫЙ РАСЧЕТ № 24579-П13
G5: (Пересчёт сметы 24579) | M5: "______ " __________2013 г.
C7: на | D7: Отопление и вентиляцию. Площадка 6 Строительство здания 637 подготовки зарядов.
G8: (наименование работ и затрат, наименование объекта)
D10: Основание: проект № 24381-12-ОВ | N10: Справочно, в тыс.руб. :
D11: Сметная стоимость _______________________________________________________________________________________________ | J11: ___________________________113,779 | L11: тыс. руб. | N11: с К=5,56 | P11: =ROUND(P12+P13+P14,3) -> 551.046
D12: строительных работ _______________________________________________________________________________________________ | J12: _______________________________________________________________________________________________52,375 | L12: тыс. руб. | N12: с К=5,56 | P12: =ROUND(52.375*5.56,3) -> 291.205
D13: монтажных работ _______________________________________________________________________________________________ | J13: _______________________________________________________________________________________________1,867 | L13: тыс. руб. | N13: с К=5,56 | P13: =ROUND(1.867*5.56,3) -> 10.381
D14: оборудования _______________________________________________________________________________________________ | J14: _______________________________________________________________________________________________59,537 | L14: тыс. руб. | N14: с К=4,19 | P14: =ROUND(59.537*4.19,3) -> 249.46
D15: Средства на оплату труда _______________________________________________________________________________________________ | J15: ___________________________3,683 | L15: тыс. руб. | N15: с К=5,56 | P15: =ROUND(3.683*5.56,3) -> 20.477
D16: Сметная трудоемкость _______________________________________________________________________________________________ | J16: _______________________________________________________________________________________________272,31 | L16: чел.час
D17: Материалы ___________________________________________________________ | J17: =K124/1000 -> 42.131 | L17: тыс.руб. | N17: с К=5,56 | P17: =ROUND(42.131*5.56,3) -> 234.248
D18: Составлен(а) в базовых ценах 2001г. в редакции 2009г.
A20: № пп | B20: Обоснова-ние | C20: Наименование | D20: Ед. изм. | E20: Кол. | F20: Стоимость единицы, руб. | J20: Общая стоимость, руб. | O20: Т/з осн. раб.на ед. | P20: Т/з осн. раб. Всего | Q20: Общая масса обору-дования, т
F21: Всего | G21: В том числе | J21: Обору-дование | K21: Всего | L21: В том числе
G22: Осн.З/п | H22: Эк.Маш | I22: З/пМех | L22: Осн.З/п | M22: Эк.Маш | N22: З/пМех
A23: 1 | B23: 2 | C23: 3 | D23: 4 | E23: 5 | F23: 6 | G23: 7 | H23: 8 | I23: 9 | J23: 10 | K23: 11 | L23: 12 | M23: 13 | N23: 14 | O23: 15 | P23: 16 | Q23: 17
A24: Раздел 1. Система П-1.
A25: 1 | B25: ТЕР20-06-002-01 прим. | C25: Установка кондиционера КВЦК "Сахара" | D25: 1 компл. | E25: 2 | F25: 965.62 | G25: 565.61 | H25: 115.2 | I25: 4 | K25: 1931 | L25: 1131 | M25: 230 | N25: 8 | O25: 43.71 | P25: 87.42
A26: 2 | B26: ТЕРм08-01-102-01 прим. | C26: Монтаж комплекта автоматики. | D26: 1 компл. | E26: 2 | F26: 569.9 | G26: 197.83 | H26: 233.8 | I26: 14.56 | K26: 1140 | L26: 396 | M26: 468 | N26: 29 | O26: 14.6 | P26: 29.2
A27: 3 | B27: ТЕР20-02-006-07 | C27: Установка клапанов периметром до 1600 мм | D27: 1 шт. | E27: 1 | F27: 38.44 | G27: 23.24 | H27: 2.24 | K27: 38 | L27: 23 | M27: 2 | O27: 1.84 | P27: 1.84
A28: 4 | B28: ТЕР20-06-005-01 | C28: Установка фильтров | D28: 1 фильтр | E28: 1 | F28: 189.88 | G28: 137.67 | H28: 13.46 | I28: 0.36 | K28: 190 | L28: 138 | M28: 13 | O28: 10.16 | P28: 10.16
A29: 5 | B29: ТЕР20-06-006-01 | C29: Установка воздухонагревателей однорядных для обводного канала производительностью до 10 тыс.м3/час | D29: 1 воздухонагреватель | E29: 1 | F29: 241.84 | G29: 108.4 | H29: 17.96 | I29: 0.73 | K29: 242 | L29: 108 | M29: 18 | N29: 1 | O29: 8 | P29: 8
A30: 6 | B30: ТЕР20-03-001-01 | C30: Установка вентиляторов | D30: 1 вентилятор | E30: 1 | F30: 100.35 | G30: 78.55 | H30: 6.66 | I30: 0.18 | K30: 100 | L30: 79 | M30: 7 | O30: 6.54 | P30: 6.54
A31: 7 | B31: Цена поставщика. | C31: Стоимость кондиционера КВЦК "Сахара-С" комплектом автоматики. (Цена:139801: 1,18:4,19*1,012*1,03*1,01=29768,25) | D31: компл. | E31: 2 | J31: 59537 | K31: 59537
A32: 8 | B32: ТЕР20-02-003-02 прим. | C32: Установка сетки №20-1,6 | D32: 1 решетка | E32: 1 | F32: 21.93 | G32: 14.78 | H32: 2.94 | K32: 22 | L32: 15 | M32: 3 | O32: 1.17 | P32: 1.17
A33: Уд | B33: 1. 301-0596 | C33: Решетки жалюзийные неподвижные односекционные марка СТД 302, размер 150х580 мм | D33: м2 | E33: 0,09 0,09 | F33: 630.7 | K33: 56.76
A34: 9 | B34: ТСЦ-101-3885 прим. | C34: Сетка диаметром №20-1,6 210х450 | D34: м2 | E34: 0.095 | F34: 40.71 | K34: 4
A35: 10 | B35: ТЕР20-02-002-01 | C35: Установка решеток жалюзийных площадью в свету до 0,5 м2 | D35: 1 решетка | E35: 8 | F35: 24.67 | G35: 18.44 | H35: 2.94 | K35: 197 | L35: 148 | M35: 24 | O35: 1.46 | P35: 11.68
A36: 11 | B36: Цена поставщика. | C36: Решетка наружная АРН+С 400х350 (Цена:2071,00:1,18:4,42*1,02=405,02) | D36: шт | E36: 1 | F36: 405.02 | K36: 405
A37: 12 | B37: Цена поставщика. | C37: Решетка наружная АМН-К 250х150 (Цена:230,00:1,18:4,42*1,02=44,98) | D37: шт | E37: 6 | F37: 44.98 | K37: 270
A38: 13 | B38: ТСЦ-301-0603 прим. | C38: Сетка с движком 250х100 | D38: м2 | E38: 0.025 | F38: 164.22 | K38: 4
A39: 14 | B39: ТЕР20-02-006-01 прим. | C39: Установка клапана противопожарного КЛОП-1 с приводом диаметром до 250 мм | D39: 1 шт. | E39: 1 | F39: 39.9 | G39: 20.59 | H39: 2.09 | K39: 40 | L39: 21 | M39: 2 | O39: 1.63 | P39: 1.63
A40: 15 | B40: Цена поставщика. | C40: Стоимость клапана КЛОП-1 с приводом. (Цена: 12040,00:4,42*1,02=2778,46) | D40: 1шт | E40: 1 | F40: 2778.46 | K40: 2778
A41: 16 | B41: ТЕР20-02-014-02 | C41: Установка шумоглушителей вентиляционных трубчатых круглого сечения типа ГТК 1-2, диаметр обечайки 200 мм | D41: 1 шт. | E41: 1 | F41: 21.17 | G41: 13.6 | H41: 1.86 | K41: 21 | L41: 14 | M41: 2 | O41: 1.09 | P41: 1.09
A42: 17 | B42: Цена поставщика. | C42: Шумоглушитель ГТК 1-2 ф200/ф400 (Цена:1913,09:1,18:4,42*1,02=374,14) | D42: шт | E42: 1 | F42: 374.14 | K42: 374
A43: 18 | B43: ТЕР20-02-004-01 | C43: Установка клапанов обратных диаметром до 355 мм | D43: 1 клапан | E43: 3 | F43: 24.14 | G43: 12.85 | H43: 1.84 | K43: 72 | L43: 39 | M43: 6 | O43: 1.03 | P43: 3.09
...

Sheet 24597
A1: СОГЛАСОВАНО: | E1: ФГУП "Комбинат "Электрохимприбор" | M1: УТВЕРЖДАЮ:
G2: (наименование стройки) | M2: Зам.генерального директора
A3: _________________ | N3: Е.В. Гордеев
A4: " _____ " ________________ 2013 г. | M4: __________________
G5: ЛОКАЛЬНЫЙ СМЕТНЫЙ РАСЧЕТ № 24597-П13 | M5: "______ " __________2013 г.
G6: (локальная смета)
D8: на строительство здания 637 подготовки зарядов пл.6. Раздел: генплан
E9: (наименование работ и затрат, наименование объекта)
D12: Основание: проект № 24380-12-ГП/ДСП | N12: Справочно, в тыс.руб. :
D13: Сметная стоимость строительных работ _______________________________________________________________________________________________ | J13: ___________________________224,557 | L13: тыс. руб. | N13: с К=5,56 | P13: =224.557*5.56 -> 1248.5369
D14: Средства на оплату труда _______________________________________________________________________________________________ | J14: ___________________________6,744 | L14: тыс. руб. | N14: с К=5,56 | P14: =6.744*5.56 -> 37.49664
D15: Сметная трудоемкость _______________________________________________________________________________________________ | J15: _______________________________________________________________________________________________229,81 | L15: чел.час
D16: Материалы ____________________________________________________________ | K16: 285,422 тыс.руб. | N16: с К=5,56 | P16: =285.422*5.56 -> 1586.9463
D17: Составлен(а) в базовых ценах 2001г. в редакции 2009г.
A19: № пп | B19: Обоснование | C19: Наименование | D19: Ед. изм. | E19: Кол. | F19: Стоимость единицы, руб. | J19: Общая стоимость, руб. | N19: Т/з осн. раб.на ед. | O19: Т/з осн. раб. Всего | P19: Т/з мех. на ед. | Q19: Т/з мех. Всего
F20: Всего | G20: В том числе | J20: Всего | K20: В том числе
G21: Осн.З/п | H21: Эк.Маш | I21: З/пМех | K21: Осн.З/п | L21: Эк.Маш | M21: З/пМех
A22: 1 | B22: 2 | C22: 3 | D22: 4 | E22: 5 | F22: 6 | G22: 7 | H22: 8 | I22: 9 | J22: 10 | K22: 11 | L22: 12 | M22: 13 | N22: 14 | O22: 15 | P22: 16 | Q22: 17
A23: Раздел 1. Подготовительные работы
A24: 1 | B24: ТЕР01-02-114-02 | C24: Корчевка кустарника и мелколесья в грунтах естественного залегания корчевателями-собирателями на тракторе мощностью 79 кВт (108 л.с.), кустарник и мелколесье средние | D24: 1 га | E24: 0.032 | F24: 806.45 | H24: 806.45 | I24: 108.19 | J24: 26 | L24: 26 | M24: 3 | P24: 7.4 | Q24: 0.24
A25: 2 | B25: ТЕР01-02-116-02 | C25: Сгребание срезанного или выкорчеванного кустарника и мелколесья кустарниковыми граблями на тракторе 79 (108) кВт (л.с.) с перемещением до 20 м, кустарник и мелколесье: средние | D25: 1 га | E25: 0.032 | F25: 264 | H25: 264 | I25: 43.94 | J25: 8 | L25: 8 | M25: 1 | P25: 2.6 | Q25: 0.08
A26: 3 | B26: ТЕР01-02-122-02 | C26: Перетряхивание валов из кустарника, мелколесья и корней корчевателями-собирателями на тракторе мощностью 59 кВт (80 л.с.), кустарник и мелколесье средние | D26: 1 га | E26: 0.032 | F26: 163.44 | H26: 163.44 | I26: 25.34 | J26: 5 | L26: 5 | M26: 1 | P26: 1.87 | Q26: 0.06
A27: 4 | B27: СЦП1-1-27-А | C27: Погрузочные работы при автомобильных перевозках: мусор строительный (кустарник) | D27: т | E27: 0.24 | F27: 2.7 | J27: 1 | L27: 1
A28: 5 | B28: СЦП3-3-5-1 | C28: Перевозка грузов автомобилями-самосвалами (работающими вне карьеров): расстояние 5 км, класс груза I КОЭФ. К ПОЗИЦИИ: 17 При перевозке грузов к провозной плате (тарифам) применять поправочный коэффициент ПЗ=1,37 (ОЗП=1,37; ЭМ=1,37 к расх.; ЗПМ=1,37; МАТ=1,37 к расх.; ТЗ=1,37; ТЗМ=1,37) | D28: т | E28: 0.24 | F28: 10.58 | H28: 10.58 | J28: 3 | L28: 3
A29: Раздел 2. Земляные работы
A30: 6 | B30: ТЕР01-01-030-06 | C30: Разработка грунта (срезка растит. слоя) с перемещением до 10 м бульдозерами мощностью 79 кВт (108 л.с.), группа грунтов 2 | D30: 1000 м3 | E30: 0.135 | F30: 798.73 | H30: 798.73 | I30: 126.73 | J30: 108 | L30: 108 | M30: 17 | P30: 7.49 | Q30: 1.01
A31: 7 | B31: ТЕР01-01-030-14 | C31: При перемещении грунта на каждые последующие 10 м добавлять к расценке 01-01-030-06 | D31: 1000 м3 | E31: 0.135 | F31: 632.38 | H31: 632.38 | I31: 100.34 | J31: 85 | L31: 85 | M31: 14 | P31: 5.93 | Q31: 0.8
A32: 8 | B32: ТЕР01-01-036-02 | C32: Планировка площадей бульдозерами мощностью 79 кВт (108 л.с.) | D32: 1000 м2 | E32: 0.902 | F32: 26.66 | H32: 26.66 | I32: 4.23 | J32: 24 | L32: 24 | M32: 4 | P32: 0.25 | Q32: 0.23
A33: 9 | B33: ТЕР01-01-030-06 | C33: Рытье корыта под дорожную одежду бульдозерами мощностью 79 кВт (108 л.с.), группа грунтов 2 | D33: 1000 м3 | E33: 0.63 | F33: 798.73 | H33: 798.73 | I33: 126.73 | J33: 503 | L33: 503 | M33: 80 | P33: 7.49 | Q33: 4.72
A34: 10 | B34: ТЕР01-01-030-14 | C34: При перемещении грунта на каждые последующие 10 м добавлять к расценке 01-01-030-06 | D34: 1000 м3 | E34: 0.631 | F34: 632.38 | H34: 632.38 | I34: 100.34 | J34: 399 | L34: 399 | M34: 63 | P34: 5.93 | Q34: 3.74
A35: 11 | B35: ТЕР01-01-013-08 | C35: Разработка грунта с погрузкой на автомобили-самосвалы экскаваторами с ковшом вместимостью 0,65 (0,5-1) м3, группа грунтов: 2 (водоотводная канава) | D35: 1000 м3 | E35: 0.132 | F35: 4450.03 | G35: 125.4 | H35: 4321.08 | I35: 559.22 | J35: 587 | K35: 17 | L35: 570 | M35: 74 | N35: 11.41 | O35: 1.51 | P35: 33.09 | Q35: 4.37
A36: 12 | B36: ТЕР01-01-013-08 | C36: Разработка грунта с погрузкой на автомобили-самосвалы экскаваторами с ковшом вместимостью 0,65 (0,5-1) м3, группа грунтов: 2 (лишний грунт) | D36: 1000 м3 | E36: 0.766 | F36: 4450.03 | G36: 125.4 | H36: 4321.08 | I36: 559.22 | J36: 3409 | K36: 96 | L36: 3310 | M36: 428 | N36: 11.41 | O36: 8.74 | P36: 33.09 | Q36: 25.35
A37: 13 | B37: СЦП3-3-5-1 | C37: Перевозка грузов автомобилями-самосвалами (работающими вне карьеров): расстояние 5 км, класс груза I КОЭФ. К ПОЗИЦИИ: 17 При перевозке грузов к провозной плате (тарифам) применять поправочный коэффициент ПЗ=1,37 (ОЗП=1,37; ЭМ=1,37 к расх.; ЗПМ=1,37; МАТ=1,37 к расх.; ТЗ=1,37; ТЗМ=1,37) | D37: т | E37: 1533.4 | F37: 10.58 | H37: 10.58 | J37: 16223 | L37: 16223
A38: Раздел 3. Устройство дорожной одежды
A39: 14 | B39: ТЕР01-02-003-05 | C39: Уплотнение грунта вибрационными катками 2,2 т на первый проход по одному следу при толщине слоя 50 см | D39: 1000 м3 | E39: 0.3 | F39: 821.85 | H39: 821.85 | I39: 137.27 | J39: 247 | L39: 247 | M39: 41 | P39: 8.2 | Q39: 2.46
A40: 15 | B40: ТЕР01-02-003-11 | C40: На каждый последующий проход по одному следу добавлять к расценке 01-02-003-05 КОЭФ. К ПОЗИЦИИ: Новый коэффициент ПЗ=7 (ОЗП=7; ЭМ=7 к расх.; ЗПМ=7; МАТ=7 к расх.; ТЗ=7; ТЗМ=7) | D40: 1000 м3 | E40: 0.3 | F40: 482.79 | H40: 482.79 | I40: 124.67 | J40: 145 | L40: 145 | M40: 37 | P40: 7.98 | Q40: 2.39
A41: 16 | B41: ТЕР27-04-005-01 прим. | C41: Устройство оснований толщиной 15 см из скального грунта при укатке каменных материалов однослойных | D41: 1000 м2 | E41: 0.595 | F41: 6525.89 | G41: 429.21 | H41: 5950.28 | I41: 827.17 | J41: 3883 | K41: 255 | L41: 3540 | M41: 492 | N41: 37.29 | O41: 22.19 | P41: 49.92 | Q41: 29.7
A42: 17 | B42: ТЕР27-04-005-04 | C42: На каждый 1 см изменения толщины слоя добавлять или исключать к расценке 27-04-005-01 КОЭФ. К ПОЗИЦИИ: на увеличение толщины слоя ПЗ=35 (ОЗП=35; ЭМ=35 к расх.; ЗПМ=35; МАТ=35 к расх.; ТЗ=35; ТЗМ=35) | D42: 1000 м2 | E42: 0.595 | F42: 8710.45 | H42: 8710.45 | I42: 1409.1 | J42: 5183 | L42: 5183 | M42: 838 | P42: 87.85 | Q42: 52.27
A43: 18 | B43: ТСЦ-408-0426 прим. | C43: Скальный грунт, фракции 120-150 мм | D43: м3 | E43: 374.9 | F43: 119.83 | J43: 44924
A44: 19 | B44: ТЕР27-04-005-01 | C44: Устройство оснований толщиной 15 см из щебня фракции 40-70 мм при укатке каменных материалов с пределом прочности на сжатие свыше 98,1 МПа (1000 кгс/см2) однослойных | D44: 1000 м2 | E44: 0.595 | F44: 32528.99 | G44: 429.21 | H44: 5950.28 | I44: 827.17 | J44: 19355 | K44: 255 | L44: 3540 | M44: 492 | N44: 37.29 | O44: 22.19 | P44: 49.92 | Q44: 29.7
...

Sheet 24601
A1: СОГЛАСОВАНО: | E1: ФГУП "Комбинат "Электрохимприбор" | M1: УТВЕРЖДАЮ:
E2: (наименование стройки) | M2: Зам.генерального директора
A3: _________________ | N3: Е.В. Гордеев
A4: " _____ " ________________ 2013 г. | M4: __________________
G5: ЛОКАЛЬНЫЙ СМЕТНЫЙ РАСЧЕТ № 24601-П13 | M5: "______ " __________2013 г.
G6: (локальная смета)
C8: на | D8: строительство здания 637 подготовки зараядов пл.6. Раздел: архитектурно-строительный
E9: (наименование работ и затрат, наименование объекта)
D12: Основание: проект № 24376-12-АС | N12: Справочно, в тыс.руб. :
D13: Сметная стоимость строительных работ _______________________________________________________________________________________________ | J13: ___________________________510,943 | L13: тыс. руб. | N13: с К=5,56 | P13: =510.943*5.56 -> 2840.8431
D14: Средства на оплату труда _______________________________________________________________________________________________ | J14: ___________________________36,817 | L14: тыс. руб. | N14: с К=5,56 | P14: =36.817*5.56 -> 204.70252
D15: Сметная трудоемкость _______________________________________________________________________________________________ | J15: _______________________________________________________________________________________________2604,05 | L15: чел.час
D16: Материалы ____________________________________________________________ | K16: 377,448 тыс.руб. | N16: с К=5,56 | P16: =377.448*5.56 -> 2098.6109
D17: Составлен(а) в базовых ценах 2001г. в редакции 2009г.
A19: № пп | B19: Обоснование | C19: Наименование | D19: Ед. изм. | E19: Кол. | F19: Стоимость единицы, руб. | J19: Общая стоимость, руб. | N19: Т/з осн. раб.на ед. | O19: Т/з осн. раб. Всего | P19: Т/з мех. на ед. | Q19: Т/з мех. Всего
F20: Всего | G20: В том числе | J20: Всего | K20: В том числе
G21: Осн.З/п | H21: Эк.Маш | I21: З/пМех | K21: Осн.З/п | L21: Эк.Маш | M21: З/пМех
A22: 1 | B22: 2 | C22: 3 | D22: 4 | E22: 5 | F22: 6 | G22: 7 | H22: 8 | I22: 9 | J22: 10 | K22: 11 | L22: 12 | M22: 13 | N22: 14 | O22: 15 | P22: 16 | Q22: 17
A23: Раздел 1. Фундаменты
A24: под стены
A25: 1 | B25: ТЕР01-01-003-09 | C25: Разработка грунта в отвал экскаваторами «драглайн» или «обратная лопата» с ковшом вместимостью 0,65 (0,5-1) м3, группа грунтов 3 | D25: 1000 м3 | E25: 0.226 | F25: 4796.33 | G25: 145.29 | H25: 4651.04 | I25: 489.16 | J25: 1084 | K25: 33 | L25: 1051 | M25: 111 | N25: 13.22 | O25: 2.99 | P25: 28.91 | Q25: 6.53
A26: 2 | B26: ТЕР01-02-057-02 | C26: Разработка грунта вручную в траншеях глубиной до 2 м без креплений с откосами, группа грунтов 2 КОЭФ. К ПОЗИЦИИ: Доработка вручную, зачистка дна и стенок с выкидкой грунта в котлованах и траншеях, разработанных механизированным способом ОЗП=1,2; ТЗ=1,2 | D26: 100 м3 | E26: 0.068 | F26: 2030.95 | G26: 2030.95 | J26: 138 | K26: 138 | N26: 184.8 | O26: 12.57
A27: 3 | B27: ТЕР08-01-002-02 | C27: Устройство основания под фундаменты щебеночного | D27: 1 м3 | E27: 0.0053 | F27: 288.26 | G27: 27.62 | H27: 67.69 | I27: 7.48 | J27: 2 | N27: 2.4 | O27: 0.01 | P27: 0.54
A28: 4 | B28: ТЕР06-01-001-22 | C28: Устройство ленточных фундаментов железобетонных при ширине по верху до 1000 мм | D28: 100 м3 | E28: 0.435 | F28: 79747.23 | G28: 5566.58 | H28: 8517.37 | I28: 523.04 | J28: 34690 | K28: 2421 | L28: 3705 | M28: 228 | N28: 446.04 | O28: 194.03 | P28: 28.77 | Q28: 12.52
A29: 5 | B29: ТСЦ-204-0825 | C29: Каркасы металлические | D29: т | E29: 2.37 | F29: 7470.18 | J29: 17704
A30: 6 | B30: ТСЦ-204-0048 | C30: Надбавки к ценам заготовок за сборку и сварку каркасов и сеток пространственных, диаметром 10 мм | D30: т | E30: 2.37 | F30: 3396.2 | J30: 8049
A31: 7 | B31: ТЕР08-01-003-07 | C31: Гидроизоляция боковая обмазочная битумная в 2 слоя по бетону | D31: 100 м2 | E31: 1.85 | F31: 1496.69 | G31: 284.08 | H31: 104.01 | J31: 2769 | K31: 526 | L31: 192 | N31: 21.2 | O31: 39.22
A32: 8 | B32: ТЕР08-01-003-03 | C32: Гидроизоляция стен, фундаментов горизонтальная оклеечная в 2 слоя | D32: 100 м2 | E32: 0.27 | F32: 4988.12 | G32: 241.4 | H32: 220.12 | J32: 1347 | K32: 65 | L32: 59 | N32: 20.1 | O32: 5.43
A33: 9 | B33: ТЕР01-01-033-01 | C33: Засыпка траншей и котлованов с перемещением грунта до 5 м бульдозерами мощностью 59 кВт (80 л.с.), группа грунтов 1 | D33: 1000 м3 | E33: 0.1825 | F33: 704.9 | H33: 704.9 | I33: 118.71 | J33: 129 | L33: 129 | M33: 22 | P33: 7.6 | Q33: 1.39
A34: 10 | B34: ТЕР01-02-005-01 | C34: Уплотнение грунта пневматическими трамбовками, группа грунтов 1-2 | D34: 100 м3 | E34: 1.825 | F34: 604.71 | G34: 150.49 | H34: 454.22 | I34: 47.48 | J34: 1104 | K34: 275 | L34: 829 | M34: 87 | N34: 12.53 | O34: 22.87 | P34: 3.04 | Q34: 5.55
A35: 11 | B35: ТЕР01-01-013-01 | C35: Разработка грунта с погрузкой на автомобили-самосвалы экскаваторами с ковшом вместимостью 1 (1-1,2) м3, группа грунтов 1 | D35: 1000 м3 | E35: 0.044 | F35: 3222.6 | G35: 70.34 | H35: 3148.43 | I35: 524.17 | J35: 142 | K35: 3 | L35: 139 | M35: 23 | N35: 6.4 | O35: 0.28 | P35: 32.72 | Q35: 1.44
A36: 12 | B36: СЦП3-3-10-1 | C36: Перевозка грузов автомобилями-самосвалами: расстояние 10 км, класс груза I КОЭФ. К ПОЗИЦИИ: При перевозке грузов к провозной плате (тарифам) применять поправочный коэффициент ПЗ=1,37 (ОЗП=1,37; ЭМ=1,37 к расх.; ЗПМ=1,37; МАТ=1,37 к расх.; ТЗ=1,37; ТЗМ=1,37) | D36: т | E36: 88 | F36: 18.37 | H36: 18.37 | J36: 1617 | L36: 1617
A37: 13 | B37: ТЕР01-01-016-01 | C37: Работа на отвале, группа грунтов 1 | D37: 1000 м3 | E37: 0.044 | F37: 391.87 | G37: 32.86 | H37: 356.46 | I37: 55.16 | J37: 17 | K37: 1 | L37: 16 | M37: 2 | N37: 2.99 | O37: 0.13 | P37: 3.26 | Q37: 0.14
A38: под перегородку толщиной 120 мм
A39: 14 | B39: ТЕР08-01-002-02 | C39: Устройство основания под фундаменты щебеночного | D39: 1 м3 | E39: 0.05 | F39: 288.26 | G39: 27.62 | H39: 67.69 | I39: 7.48 | J39: 14 | K39: 1 | L39: 3 | N39: 2.4 | O39: 0.12 | P39: 0.54 | Q39: 0.03
A40: 15 | B40: ТЕР06-01-001-16 | C40: Устройство фундаментов под кирпичные перегородки толщиной 120 мм | D40: 100 м3 | E40: 0.002 | F40: 10431.98 | G40: 2650.13 | H40: 7038.24 | I40: 496.22 | J40: 21 | K40: 5 | L40: 14 | M40: 1 | N40: 220.66 | O40: 0.44 | P40: 27.31 | Q40: 0.05
A41: 16 | B41: ТСЦ-401-0064 | C41: Бетон тяжелый, крупность заполнителя 20 мм, класс В10 (М150) | D41: м3 | E41: 0.203 | F41: 562.22 | J41: 114
A42: 17 | B42: ТСЦ-204-0013 | C42: Горячекатаная арматурная сталь периодического профиля класса А-II, диаметром 14 мм | D42: т | E42: 0.006 | F42: 4445.05 | J42: 27
A43: 18 | B43: ТЕР08-01-003-03 | C43: Гидроизоляция стен, фундаментов горизонтальная оклеечная в 2 слоя | D43: 100 м2 | E43: 0.003 | F43: 3626.32 | G43: 241.4 | H43: 220.12 | J43: 11 | K43: 1 | L43: 1 | N43: 20.1 | O43: 0.06
A44: 19 | B44: ТСЦ-101-1746 | C44: Рубероид кровельный с мелкой посыпкой РМ-350 | D44: м2 | E44: 0.66 | F44: 6.95 | J44: 5
...

Sheet 24603
A1: СОГЛАСОВАНО: | E1: ФГУП "Комбинат "Электрохимприбор" | M1: УТВЕРЖДАЮ:
G2: (наименование стройки) | M2: Зам. генерального директора
M3: Е.В.Гордеев
A4: _________________ | M4: _________________
A5: " _____ " ________________ 2013 г. | M5: "______ " __________2013 г.
G6: ЛОКАЛЬНЫЙ СМЕТНЫЙ РАСЧЕТ № 24603-П13
G7: (локальная смета)
C9: на | D9: Строительство здания 637 подготовки зарядов пл. 6.
D10: Раздел: Электроснабжение. Электрооборудование.
G11: (наименование работ и затрат, наименование объекта)
D13: Основание: проект № 24400-12-ЭМ | N13: Справочно, в тыс.руб. :
D14: Сметная стоимость _______________________________________________________________________________________________ | J14: ___________________________55,680 | L14: тыс. руб. | N14: ВСЕГО: | P14: =P15+P16 -> 302.23486
D15: монтажных работ _______________________________________________________________________________________________ | J15: _______________________________________________________________________________________________50,318 | L15: тыс. руб. | N15: с К=5,56 | P15: =50.318*5.56 -> 279.76808
D16: оборудования _______________________________________________________________________________________________ | J16: _______________________________________________________________________________________________5,362 | L16: тыс. руб. | N16: с К=4,19 | P16: =5.362*4.19 -> 22.46678
D17: Средства на оплату труда _______________________________________________________________________________________________ | J17: ___________________________4,956 | L17: тыс. руб. | N17: с К=5,56 | P17: =4.956*5.56 -> 27.55536
D18: Сметная трудоемкость _______________________________________________________________________________________________ | J18: _______________________________________________________________________________________________280,23 | L18: чел.час
D19: Материалы ______________________________________ | K19: =K153/1000 -> 30.67 | L19: тыс.руб. | N19: с К=5,56 | P19: =K19*5.56 -> 170.5252
D20: Составлен(а) в базовых ценах 2001г. в редакции 2009г.
A22: № пп | B22: Обоснова-ние | C22: Наименование | D22: Ед. изм. | E22: Кол. | F22: Стоимость единицы, руб. | J22: Общая стоимость, руб. | O22: Т/з осн. раб.на ед. | P22: Т/з осн. раб. Всего | Q22: Общая масса обору-дования, т
F23: Всего | G23: В том числе | J23: Обору-дование | K23: Всего | L23: В том числе
G24: Осн.З/п | H24: Эк.Маш | I24: З/пМех | L24: Осн.З/п | M24: Эк.Маш | N24: З/пМех
A25: 1 | B25: 2 | C25: 3 | D25: 4 | E25: 5 | F25: 6 | G25: 7 | H25: 8 | I25: 9 | J25: 10 | K25: 11 | L25: 12 | M25: 13 | N25: 14 | O25: 15 | P25: 16 | Q25: 17
A26: Раздел 1. Монтажные работы
A27: 1 | B27: ТЕРм08-03-599-10 | C27: Щитки осветительные, устанавливаемые на стене распорными дюбелями, масса щитка до 15 кг | D27: 1 шт. | E27: 1 | F27: 128.26 | G27: 58.25 | H27: 7.85 | I27: 0.36 | K27: 128 | L27: 58 | M27: 8 | O27: 4.17 | P27: 4.17
A28: 3 | B28: ТЕРм08-03-599-10 | C28: Щитки осветительные, устанавливаемые на стене распорными дюбелями, масса щитка до 15 кг | D28: 1 шт. | E28: 1 | F28: 128.26 | G28: 58.25 | H28: 7.85 | I28: 0.36 | K28: 128 | L28: 58 | M28: 8 | O28: 4.17 | P28: 4.17
A29: Щит ЩС в комплекте:
A30: 4 | B30: Цена поставщика | C30: Бокс ЩРН-24модуля навесной пластик IP54 ИЭК MKP11-N-24-54-Z MKM11-N-24-54-Z (Ц:1709,46руб:1,18:4,42) | D30: шт. | E30: 1 | F30: 327.76 | K30: 328
A31: 5 | B31: Цена поставщика | C31: Авт. выкл. ВА47-29 3Р 40А 4,5кА х-ка В ИЭК MVA20-3-040-B (Ц:178,85руб:1,18:4,42) | D31: шт. | E31: 1 | F31: 34.29 | K31: 34
A32: 6 | B32: Цена поставщика | C32: Авт. выкл. ВА47-29 3Р 32А 4,5кА х-ка В ИЭК MVA20-3-032-B (Ц:178,85руб:1,18:4,42) | D32: шт. | E32: 1 | F32: 34.29 | K32: 34
A33: 7 | B33: Цена поставщика | C33: Авт. выкл. ВА47-29 3Р 16А 4,5кА х-ка В ИЭК MVA20-3-016-B (Ц:173,05руб:1,18:4,42) | D33: шт. | E33: 4 | F33: 33.18 | K33: 133
A34: 8 | B34: Цена поставщика | C34: Авт. выкл. ВА47-29 1Р 16А 4,5кА х-ка В ИЭК MVA20-1-016-B (Ц:54,78руб:1,18:4,42) | D34: шт. | E34: 6 | F34: 10.5 | K34: 63
A35: 9 | B35: ТЕРм08-03-573-05 | C35: Шкаф (пульт) управления навесной, высота, ширина и глубина до 900х600х500 мм РУСМ 5113-1774Б | D35: 1 шт. | E35: 2 | F35: 126.83 | G35: 33.11 | H35: 89.04 | I35: 6.72 | K35: 254 | L35: 66 | M35: 178 | N35: 13 | O35: 2.37 | P35: 4.74
A36: 10 | B36: ТСЦ-503-0522 прим. | C36: Устройство комплектное низковольтное управления и распределения электроэнергии РУСМ 5113-1774Б | D36: шт. | E36: 2 | J36: 2110 | K36: 2110
A37: 11 | B37: Цена поставщика | C37: Винтовой зажим с предохранителем, со световой индикацией SFR/PT (Ц:150руб:1,18:4,42) | D37: шт. | E37: 1 | F37: 28.76 | K37: 29
A38: 12 | B38: ТЕРм11-01-001-01 | C38: Монтаж: рейка в шкафу | D38: 1 шт. | E38: 1 | F38: 34.2 | G38: 6.41 | H38: 7.18 | I38: 0.81 | K38: 34 | L38: 6 | M38: 7 | N38: 1 | O38: 0.52 | P38: 0.52
A39: 13 | B39: Цена поставщика | C39: Рейка типа PR/З (Ц:250руб:1,18:4,42) | D39: шт. | E39: 1 | F39: 47.93 | K39: 48
A40: 14 | B40: ТЕРм08-03-573-04 | C40: Шкаф (пульт) управления навесной, высота, ширина и глубина до 600х600х350 мм ШВ 1 | D40: 1 шт. | E40: 1 | F40: 99.26 | G40: 33.11 | H40: 62.05 | I40: 4.71 | K40: 99 | L40: 33 | M40: 62 | N40: 5 | O40: 2.37 | P40: 2.37
A41: Шкаф вентиляции ШВ 1 в комплекте:
A42: 15 | B42: Цена поставщика | C42: Корпус металлический ЩМП-1-0 74 У2 IP54 YKM40-01-54 (Ц:2789,51руб:1,18:4,42) | D42: шт. | E42: 1 | F42: 534.84 | K42: 535
A43: 16 | B43: Цена поставщика | C43: Реле контроля трехфазного напряжения ЕЛ-12М-15 (Ц:992руб:1,18:4,42) | D43: шт. | E43: 2 | F43: 190.2 | K43: 380
...

Sheet 24632
A1: СОГЛАСОВАНО: | E1: ФГУП "Комбинат "Электрохимприбор" | M1: УТВЕРЖДАЮ:
G2: (наименование стройки) | M2: Зам. генерального директора
M3: Е.В.Гордеев
A4: _________________ | M4: _________________
A5: " _____ " ________________ 2013 г. | M5: "______ " __________2013 г.
G6: ЛОКАЛЬНЫЙ СМЕТНЫЙ РАСЧЕТ № 24632-П13
G7: (локальная смета)
C9: на | D9: Строительство здания 637 подготовки зарядов пл. 6.
D10: Раздел: автоматическая установка пожарной сигнализации и СОУЭ.
G11: (наименование работ и затрат, наименование объекта)
D13: Основание: проект №24411-12-ПС | N13: Справочно, в тыс.руб. :
D14: Сметная стоимость _______________________________________________________________________________________________ | J14: ___________________________26,463 | L14: тыс. руб. | N14: ВСЕГО: | P14: =P15+P16+P17 -> 147.45975
D15: монтажных работ _______________________________________________________________________________________________ | J15: _______________________________________________________________________________________________17,343 | L15: тыс. руб. | N15: с К=5,56 | P15: =17.343*5.56 -> 96.42708
D16: прочих (ПНР "в холостую") _______________________________________________________________________________________________ | J16: _______________________________________________________________________________________________2,499 | L16: тыс. руб. | N16: с К=9,32 | P16: =2.499*9.32 -> 23.29068
D17: оборудования _______________________________________________________________________________________________ | J17: _______________________________________________________________________________________________6,621 | L17: тыс. руб. | N17: с К=4,19 | P17: =4.19*6.621 -> 27.74199
D18: Средства на оплату труда _______________________________________________________________________________________________ | J18: ___________________________3,425 | L18: тыс. руб. | N18: с К=5,56 | P18: =5.56*3.425 -> 19.043
D19: Сметная трудоемкость _______________________________________________________________________________________________ | J19: _______________________________________________________________________________________________209,51 | L19: чел.час
D20: Материалы ______________________________________ | K20: =K101/1000 -> 11.447 | L20: тыс.руб. | N20: с К=5,56 | P20: =K20*5.56 -> 63.64532
D21: Составлен(а) в базовых ценах 2001г. в редакции 2009г.
A23: № пп | B23: Обоснова-ние | C23: Наименование | D23: Ед. изм. | E23: Кол. | F23: Стоимость единицы, руб. | J23: Общая стоимость, руб. | O23: Т/з осн. раб.на ед. | P23: Т/з осн. раб. Всего | Q23: Общая масса обору-дования, т
F24: Всего | G24: В том числе | J24: Обору-дование | K24: Всего | L24: В том числе
G25: Осн.З/п | H25: Эк.Маш | I25: З/пМех | L25: Осн.З/п | M25: Эк.Маш | N25: З/пМех
A26: 1 | B26: 2 | C26: 3 | D26: 4 | E26: 5 | F26: 6 | G26: 7 | H26: 8 | I26: 9 | J26: 10 | K26: 11 | L26: 12 | M26: 13 | N26: 14 | O26: 15 | P26: 16 | Q26: 17
A27: Раздел 1. Объектовое оборудование (диспетчерская в зд 363)
A28: 1 | B28: Цена поставщика | C28: Пульт контроля и управления ПКУ "С2000М" (Ц:6504,30руб :1,18:4,19) | D28: шт | E28: 1 | J28: 1316 | K28: 1316
A29: 2 | B29: ТЕРм10-08-001-13 | C29: Монтаж: пульт контроля и управления ПКУ "С2000М" | D29: 1 шт. | E29: 1 | F29: 64.92 | G29: 57.52 | H29: 0.37 | K29: 65 | L29: 58 | O29: 4 | P29: 4
A30: 3 | B30: ТЕРм10-03-001-04 | C30: Монтаж: радиомодем Риф Файндер RF-801 | D30: 1 шт. | E30: 1 | F30: 34.97 | G30: 27.5 | H30: 6.92 | I30: 1.41 | K30: 35 | L30: 28 | M30: 7 | N30: 1 | O30: 2.29 | P30: 2.29
A31: 4 | B31: Цена поставщика | C31: Радиомодем Риф Файндер RF-801 (Ц:5040руб :1,18:4,04х1,02) | D31: шт | E31: 1 | F31: 1078.37 | K31: 1078
A32: 5 | B32: Цена поставщика | C32: Источник бесперебойного питания СКАТ-1200Д исп.02 (Ц:3910руб :1,18:4,19) | D32: шт | E32: 1 | J32: 791 | K32: 791
A33: 6 | B33: ТЕРм10-02-016-06 | C33: Отдельно устанавливаемый преобразователь или блок питания | D33: 1 шт. | E33: 1 | F33: 256.7 | G33: 157.76 | H33: 33.83 | I33: 6.87 | K33: 257 | L33: 158 | M33: 34 | N33: 7 | O33: 10.1 | P33: 10.1
A34: 7 | B34: Цена поставщика | C34: АКБ 12в 26,0 А/ч (Ц:2860руб:1,18: 4,42) | D34: шт | E34: 1 | F34: 548.35 | K34: 548
A35: 8 | B35: Цена поставщика | C35: Релейный модуль РМ-03 исп.12VDC (Ц:360руб :1,18:4,42) | D35: шт | E35: 1 | F35: 69.02 | K35: 69
A36: 9 | B36: ТЕРм11-03-001-01 | C36: Монтаж: релейный модуль РМ-03 | D36: 1 шт. | E36: 1 | F36: 8.41 | G36: 7.26 | K36: 8 | L36: 7 | O36: 0.52 | P36: 0.52
A37: 10 | B37: Цена поставщика | C37: Кабель антенный высокочастотный RG213U (50Ом) (Ц:205.93руб :1,18:4,42) | D37: м | E37: 102 | F37: 39.48 | K37: 4027
A38: 11 | B38: ТЕРм10-01-055-02 | C38: Прокладка кабеля, масса 1 м до 1 кг, по стене кирпичной | D38: 100 м кабеля | E38: 1 | F38: 1837.57 | G38: 474.14 | H38: 129.78 | I38: 23.9 | K38: 1838 | L38: 474 | M38: 130 | N38: 24 | O38: 37.1 | P38: 37.1
A39: 12 | B39: ТЕРм10-01-051-33 | C39: Разделка и включение кабеля или провода однопарного высокочастотного | D39: 10 концов кабеля | E39: 0.2 | F39: 70.49 | G39: 69.11 | K39: 14 | L39: 14 | O39: 5.1 | P39: 1.02
A40: 13 | B40: Цена поставщика | C40: ВЧ-кабельный разъём N-111B (Ц:100руб :1,18:4,42) | D40: шт | E40: 1 | F40: 19.17 | K40: 19
A41: 14 | B41: Цена поставщика | C41: ВЧ-кабельный разъём N-211B (Ц:122руб :1,18:4,42) | D41: шт | E41: 1 | F41: 23.39 | K41: 23
A42: 15 | B42: Цена поставщика | C42: Антенна АК-433 (Ц:1500руб :1,18:4,19) | D42: шт | E42: 1 | J42: 303 | K42: 303
A43: 16 | B43: ТЕРм10-04-088-01 | C43: Монтаж: антенна | D43: шт. | E43: 1 | F43: 213.25 | G43: 135.5 | K43: 213 | L43: 136 | O43: 10 | P43: 10
...

Sheet 24845
A1: СОГЛАСОВАНО: | E1: ФГУП "Комбинат "Электрохимприбор" | M1: УТВЕРЖДАЮ:
G2: (наименование стройки) | M2: Зам. генерального директора
M3: Е.В.Гордеев
A4: _________________ | M4: _________________
A5: " _____ " ________________ 2013 г. | M5: "______ " __________2013 г.
G6: ЛОКАЛЬНЫЙ СМЕТНЫЙ РАСЧЕТ № 24845
G7: (локальная смета)
C9: на | D9: Силовое электрооборудование.Строительство здания 637 подготовки зарядов.
H10: (наименование работ и затрат, наименование объекта)
D12: Основание: проект № 24597-13-ЭМ | N12: Справочно, в тыс.руб. :
D13: Сметная стоимость _______________________________________________________________________________________________ | J13: ___________________________6,008 | L13: тыс. руб. | N13: ВСЕГО: | P13: =P14+P15 -> 33.40448
D14: строительных работ _______________________________________________________________________________________________ | J14: _______________________________________________________________________________________________2,675 | L14: тыс. руб. | N14: с К=5,56 | P14: =2.675*5.56 -> 14.873
D15: монтажных работ _______________________________________________________________________________________________ | J15: _______________________________________________________________________________________________3,333 | L15: тыс. руб. | N15: с К=5,56 | P15: =3.333*5.56 -> 18.53148
D16: Средства на оплату труда _______________________________________________________________________________________________ | J16: ___________________________1,725 | L16: тыс. руб.
D17: Сметная трудоемкость _______________________________________________________________________________________________ | J17: _______________________________________________________________________________________________137,51 | L17: чел.час
D18: Материалы ______________________________________ | K18: =J48*4.42/1000 -> 7.79246 | L18: тыс.руб. | N18: с К=5,56 | P18: =K18*5.56 -> 43.326078
D19: Составлен(а) в базовых ценах 2001г. в редакции 2009г.
A21: № пп | B21: Обоснование | C21: Наименование | D21: Ед. изм. | E21: Кол. | F21: Стоимость единицы, руб. | J21: Общая стоимость, руб. | N21: Т/з осн. раб.на ед. | O21: Т/з осн. раб. Всего | P21: Т/з мех. на ед. | Q21: Т/з мех. Всего
F22: Всего | G22: В том числе | J22: Всего | K22: В том числе
G23: Осн.З/п | H23: Эк.Маш | I23: З/пМех | K23: Осн.З/п | L23: Эк.Маш | M23: З/пМех
A24: 1 | B24: 2 | C24: 3 | D24: 4 | E24: 5 | F24: 6 | G24: 7 | H24: 8 | I24: 9 | J24: 10 | K24: 11 | L24: 12 | M24: 13 | N24: 14 | O24: 15 | P24: 16 | Q24: 17
A25: 1 | B25: ТЕРм08-02-472-06 | C25: Проводник заземляющий открыто по строительным основаниям из полосовой стали сечением 100 мм2 КОЭФ. К ПОЗИЦИИ: 1.8.3.ОП При производстве работ на высоте свыше расстояний, указанных в вводных указаниях к разделам сборника: при высоте свыше 8 до 15 м ОЗП=1,1; ТЗ=1,1 | D25: 100 м | E25: 0.95 | F25: 1376.57 | G25: 276.93 | H25: 85.67 | I25: 3.46 | J25: 1308 | K25: 263 | L25: 81 | M25: 3 | N25: 20.9 | O25: 19.86 | P25: 0.19 | Q25: 0.18
A26: 2 | B26: ТЕРм08-02-472-02 | C26: Заземлитель горизонтальный из стали полосовой сечением 160 мм2 в траншее | D26: 100 м | E26: 0.55 | F26: 1242.52 | G26: 219.95 | H26: 92.37 | I26: 4 | J26: 683 | K26: 121 | L26: 51 | M26: 2 | N26: 16.6 | O26: 9.13 | P26: 0.22 | Q26: 0.12
A27: 3 | B27: ТЕРм08-02-471-01 | C27: Заземлитель вертикальный из угловой стали размером 50х50х5 мм | D27: 10 шт. | E27: 0.4 | F27: 933.5 | G27: 141.78 | H27: 71.23 | I27: 3.46 | J27: 373 | K27: 57 | L27: 28 | M27: 1 | N27: 10.7 | O27: 4.28 | P27: 0.19 | Q27: 0.08
A28: 4 | B28: ТЕР01-02-055-03 | C28: Разработка грунта вручную с креплениями в траншеях шириной до 2 м, глубиной до 2 м, группа грунтов 3 | D28: 100 м3 грунта | E28: 0.23 | F28: 3283.18 | G28: 3283.18 | J28: 755 | K28: 755 | N28: 278 | O28: 63.94
A29: 5 | B29: ТЕР01-02-061-02 | C29: Засыпка вручную траншей, пазух котлованов и ям, группа грунтов 2 | D29: 100 м3 грунта | E29: 0.23 | F29: 1027.4 | G29: 1027.4 | J29: 236 | K29: 236 | N29: 97.2 | O29: 22.36
A30: Итого прямые затраты по смете в ценах 2001г. | J30: 3355 | K30: 1432 | L30: 160 | M30: 6 | O30: 119.57 | Q30: 0.38
A31: Итого прямые затраты по смете с учетом коэффициентов к итогам | J31: 3665 | K31: 1718 | L31: 184 | M31: 7 | O31: 137.51 | Q31: 0.44
A32: В том числе, справочно:
A33: Районный к-т 4,3% (Поз. 4-5, 1-3) | J33: 62 | K33: 62
A34: 4. Производство монтажных работ на открытых и полуоткрытых производственных площадках в стесненных условиях ОЗП=1,15; ЭМ=1,15; ЗПМ=1,15; ТЗ=1,15; ТЗМ=1,15 (Поз. 4-5, 1-3) | J34: 248 | K34: 224 | L34: 24 | M34: 1 | O34: 17.9355 | Q34: 0.057
A35: Накладные расходы | J35: 1460
A36: В том числе, справочно:
A37: 80% ФОТ (от 1189) (Поз. 4-5) | J37: 951
A38: 95% ФОТ (от 536) (Поз. 1-3) | J38: 509
A39: Сметная прибыль | J39: 883
A40: В том числе, справочно:
A41: 45% ФОТ (от 1189) (Поз. 4-5) | J41: 535
A42: 65% ФОТ (от 536) (Поз. 1-3) | J42: 348
A43: Итоги по смете:
...

Sheet 6925 вывести остаток
A1: СОГЛАСОВАНО: | J1: УТВЕРЖДАЮ:
A4: ________________ | J4: ________________
A5: " _____ " ________________ 201_ г. | J5: "______ " _______________201_ г.
C6: ФГУП "Комбинат "Электрохимприбор"
C7: (наименование стройки)
D9: ЛОКАЛЬНЫЙ СМЕТНЫЙ РАСЧЕТ № 6925
D10: (локальная смета)
B12: на | C12: выполнение строительно-монтажных работ по устройству проездов и стоянок, площадка 6
E13: (наименование работ и затрат, наименование объекта)
C15: Основание: проект №23054-08-ГП
C16: Сметная стоимость строительных работ _______________________________________________________________________________________________ | E16: ___________________________515,587 | G16: тыс. руб.
C17: Средства на оплату труда _______________________________________________________________________________________________ | E17: ___________________________20,317 | G17: тыс. руб.
C18: Сметная трудоемкость _______________________________________________________________________________________________ | E18: _______________________________________________________________________________________________1145,63 | G18: чел.час
C19: Составлен в ценах 2001года (в редакции 2009 г.)
A22: № пп | B22: Обоснование | C22: Наименование | D22: Ед. изм. | E22: Кол. | F22: Стоимость единицы, руб. | J22: Общая стоимость, руб.
F23: Всего | G23: В том числе | J23: Всего | K23: В том числе
G24: Осн.З/п | H24: Эк.Маш. | I24: З/пМех | K24: Осн.З/п | L24: Эк.Маш. | M24: З/пМех
A25: 1 | B25: 2 | C25: 3 | D25: 4 | E25: 5 | F25: 6 | G25: 7 | H25: 8 | I25: 9 | J25: 10 | K25: 11 | L25: 12 | M25: 13
A26: Раздел 1. Стоянка №1
A27: 1 | B27: ТЕР27-04-001-04 | C27: Устройство подстилающих и выравнивающих слоев оснований из щебня | D27: 100 м3 материала основания (в плотном теле) | E27: 5.75 | F27: 4139.32 | G27: 275.77 | H27: 3829.39 | I27: 349.58 | J27: 23801 | K27: 1586 | L27: 22019 | M27: 2010
A28: 2 | B28: ТСЦ-408-0014 | C28: Щебень из природного камня для строительных работ марка 800, фракция 10-20 мм | D28: м3 | E28: 7,245 5,75*1,26 | F28: 143.29 | J28: 1038
A29: 3 | B29: ТЕР27-06-001-03 | C29: Устройство дорожных покрытий из сборных прямоугольных железобетонных плит площадью до 10,5 м2 | D29: 100 м3 сборных железобетонных плит | E29: 0.0972 | F29: 15092.14 | G29: 1848.64 | H29: 9786.17 | I29: 853.26 | J29: 1467 | K29: 180 | L29: 951 | M29: 83
A30: 4 | B30: ТСЦ-403-0549 | C30: Плиты железобетонные проезжей части | D30: м3 | E30: 9.72 | F30: 3021.55 | J30: 29369
A31: 5 | B31: ТЕР27-06-017-01 | C31: Устройство оснований городских проездов толщиной слоя 16 см | D31: 1000 м2 основания | E31: 0.141 | F31: 124604.74 | G31: 3717.07 | H31: 2958.93 | I31: 278.84 | J31: 17569 | K31: 524 | L31: 417 | M31: 39
A32: 6 | B32: ТЕР27-06-017-02 | C32: На каждый 1 см изменения толщины слоя добавлять к расценке 27-06-017-01 КОЭФ. К ПОЗИЦИИ: ПЗ=9 (ОЗП=9; ЭМ=9 к расх.; ЗПМ=9; МАТ=9 к расх.; ТЗ=9; ТЗМ=9) | D32: 1000 м2 основания | E32: 0.141 | F32: 63663.21 | G32: 625.32 | H32: 52.38 | I32: 3.24 | J32: 8977 | K32: 88 | L32: 7
A33: 7 | B33: ТЕР06-01-015-10 | C33: Армирование подстилающих слоев и набетонок | D33: 1 т | E33: 0.753 | F33: 438.07 | G33: 157.75 | H33: 44.41 | I33: 2.91 | J33: 330 | K33: 119 | L33: 33 | M33: 2
A34: 8 | B34: ТСЦ-204-0066 | C34: Арматура-сетка из арматурной стали класса А-I диаметром 12-14 мм | D34: т | E34: 0.753 | F34: 6299.31 | J34: 4743
A35: 9 | B35: ТЕР27-06-026-01 | C35: Розлив вяжущих материалов (0,8 кг/м2) | D35: 1 т | E35: 0,3384 0,423*0,8 | F35: 2017.46 | H35: 46.53 | I35: 11.16 | J35: 683 | L35: 16 | M35: 4
A36: 10 | B36: ТЕР27-06-020-02 | C36: Устройство покрытия толщиной 4 см из горячих асфальтобетонных смесей плотных мелкозернистых типа АБВ, плотность каменных материалов 3 т/м3 и более | D36: 1000 м2 покрытия | E36: 0.423 | F36: 60371.45 | G36: 518.97 | H36: 2984 | I36: 322.26 | J36: 25537 | K36: 220 | L36: 1262 | M36: 136
A37: 11 | B37: ТЕР27-06-021-02 | C37: На каждые 0,5 см изменения толщины покрытия добавлять или исключать к расценке 27-06-020-02 КОЭФ. К ПОЗИЦИИ: ПЗ=2 (ОЗП=2; ЭМ=2 к расх.; ЗПМ=2; МАТ=2 к расх.; ТЗ=2; ТЗМ=2) | D37: 1000 м2 покрытия | E37: 0.423 | F37: 14223.54 | G37: 2.44 | H37: 6.26 | J37: 6017 | K37: 1 | L37: 3
A38: 12 | B38: ТЕР27-06-022-07 | C38: Одиночная поверхностная обработка усовершенствованных покрытий битумом с применением щебня | D38: 1000 м2 покрытия | E38: 0.423 | F38: 5815.85 | G38: 200.81 | H38: 834.34 | I38: 112.19 | J38: 2460 | K38: 85 | L38: 353 | M38: 47
A39: 13 | B39: ТЕР27-02-010-01 | C39: Установка бортовых камней бетонных при цементобетонных покрытиях | D39: 100 м бортового камня | E39: 0,43 43/100 | F39: 3353.64 | G39: 906.11 | H39: 91.05 | I39: 12.38 | J39: 1442 | K39: 390 | L39: 39 | M39: 5
A40: 14 | B40: ТСЦ-403-8021 | C40: Камни бортовые БР 100.30.15 / бетон В30 (М400), объем 0,043 м3/ (ГОСТ 6665-91) | D40: шт. | E40: 43 | F40: 59.88 | J40: 2575
A41: Итого прямые затраты по разделу в ценах 2001г. | J41: 126008 | K41: 3193 | L41: 25100 | M41: 2326
A42: Итого прямые затраты по разделу с учетом коэффициентов к итогам | J42: 137770 | K42: 3830 | L42: 36225 | M42: 2790
A43: Накладные расходы | J43: 9347
A44: Сметная прибыль | J44: 6245
A45: Итого по разделу 1 Стоянка №1 | J45: 153362
A46: Раздел 2. Стоянка №2
A47: 15 | B47: ТЕР27-04-001-04 | C47: Устройство подстилающих и выравнивающих слоев оснований из скального грунта толщ. 400 мм | D47: 100 м3 материала основания (в плотном теле) | E47: 0.279 | F47: 4139.32 | G47: 275.77 | H47: 3829.39 | I47: 349.58 | J47: 1155 | K47: 77 | L47: 1068 | M47: 98
...

Sheet НМЦ
A1: г. Лесной ФГУП "Комбинат "Электрохимприбор"
A3: Расчет начальной (максимальной) цены
A5: Выполнение работ по строительству здания 637 и благоустройству 6 площадки
A8: Составлен в ценах по состоянию на 01.01.2000 г. с переводом в текущие | D8: руб.
A9: Наименование глав ССР, объектных сметных расчетов, локальных сметных расчетов, видов работ | B9: Сметная стоимость в базисных ценах на 01.01.2000 | C9: Текущая стоимость на момент определения начальной (максимальной) цены | D9: № обосновывающего расчета
A13: 1 | B13: 2 | C13: 3 | D13: 4
A14: Строительство здания 637 подготовки зарядов пл.6. Раздел: отопление и вентиляция | B14: ='Сводка затрат'!H14 -> 113779 | C14: =ROUND('Сводка затрат'!D14*5.56,0)+ROUND('Сводка затрат'!E14*5.56,0)+ROUND('Сводка затрат'!F14*4.19,0)+ROUND('Сводка затрат'!G14*9.32,0) -> 551046 | D14: 24579-П13
A15: Строительство здания 637 подготовки зарядов пл.6. Раздел: генплан | B15: ='Сводка затрат'!H15 -> 224557 | C15: =ROUND('Сводка затрат'!D15*5.56,0)+ROUND('Сводка затрат'!E15*5.56,0)+ROUND('Сводка затрат'!F15*4.19,0)+ROUND('Сводка затрат'!G15*9.32,0) -> 1248537 | D15: 24597-П13
A16: Строительство здания 637 подготовки зараядов пл.6. Раздел: архитектурно-строительный | B16: ='Сводка затрат'!H16 -> 510943 | C16: =ROUND('Сводка затрат'!D16*5.56,0)+ROUND('Сводка затрат'!E16*5.56,0)+ROUND('Сводка затрат'!F16*4.19,0)+ROUND('Сводка затрат'!G16*9.32,0) -> 2840843 | D16: 24601-П13
A17: Строительство здания 637 подготовки зарядов пл. 6. Раздел: Электроснабжение. Электрооборудование. | B17: ='Сводка затрат'!H17 -> 55680 | C17: =ROUND('Сводка затрат'!D17*5.56,0)+ROUND('Сводка затрат'!E17*5.56,0)+ROUND('Сводка затрат'!F17*4.19,0)+ROUND('Сводка затрат'!G17*9.32,0) -> 302235 | D17: 24603-П13
A18: Строительство здания 637 подготовки зарядов пл. 6. Раздел: автоматическая установка пожарной сигнализации и СОУЭ. | B18: ='Сводка затрат'!H18 -> 26463 | C18: =ROUND('Сводка затрат'!D18*5.56,0)+ROUND('Сводка затрат'!E18*5.56,0)+ROUND('Сводка затрат'!F18*4.19,0)+ROUND('Сводка затрат'!G18*9.32,0) -> 147460 | D18: 24632-П13
A19: Силовое электрооборудование. Строительство здания 637 подготовки зарядов. | B19: ='Сводка затрат'!H19 -> 6008 | C19: =ROUND('Сводка затрат'!D19*5.56,0)+ROUND('Сводка затрат'!E19*5.56,0)+ROUND('Сводка затрат'!F19*4.19,0)+ROUND('Сводка затрат'!G19*9.32,0) -> 33404 | D19: 24845
A20: Выполнение строительно-монтажных работ по устройству проездов и стоянок, площадка 6 | B20: ='Сводка затрат'!H20 -> 415466 | C20: =ROUND('Сводка затрат'!D20*5.56,0)+ROUND('Сводка затрат'!E20*5.56,0)+ROUND('Сводка затрат'!F20*4.19,0)+ROUND('Сводка затрат'!G20*9.32,0) -> 2309991 | D20: 6925
A21: Итого | B21: =SUM(B14:B20) -> 1352896 | C21: =SUM(C14:C20) -> 7433516
A23: Зимнее удорожание 3,2%×1,1=3,52% | B23: ='Сводка затрат'!H22 -> 30392 | C23: =ROUND('Сводка затрат'!D22*5.56,0)+ROUND('Сводка затрат'!E22*5.56,0)+ROUND('Сводка затрат'!F22*4.19,0)+ROUND('Сводка затрат'!G22*9.32,0)+1 -> 168980
A25: Итого с зимним удорожанием: | B25: =SUM(B21:B23) -> 1383288 | C25: =SUM(C21:C23) -> 7602496
A27: НДС 18% | C27: =ROUND(C25*18%,2) -> 1368449.3
A29: Всего | C29: =SUM(C25:C28) -> 8970945.3
A32: Начальник отдела
A33: капитального строительства | C33: В.В. Моляков
A35: Инженер по проектно-сметной работе | C35: Т.Ш. Ковязина
A38: Согласовано | C38: отдел 028

Sheet Сводка затрат
A1: Приложение №__ к договору от "__"______2013 №_______
A3: г. Лесной. ФГУП "Комбинат "Электрохимприбор"
A5: Сводка затрат
A7: Выполнение работ по строительству здания 637 и благоустройству 6 площадки
A10: Составлен в ценах по состоянию на 01.01.2000 г.
A11: № п/п | B11: Номера сметных расчетов и смет | C11: Наименование работ и затрат | D11: Сметная стоимость | H11: Общая сметная стоимость, руб.
D12: строительных работ | E12: монтажных работ | F12: оборудования, мебели, инвентаря | G12: прочих затрат
A13: 1 | B13: 2 | C13: 3 | D13: 4 | E13: 5 | F13: 6 | G13: 7 | H13: 8
A14: 1 | B14: 24579-П13 | C14: Строительство здания 637 подготовки зарядов пл.6. Раздел: отопление и вентиляция | D14: ='24579'!K119 -> 52375 | E14: ='24579'!K120 -> 1867 | F14: ='24579'!K121 -> 59537 | G14: 0 | H14: =SUM(D14:G14) -> 113779
A15: 2 | B15: 24597-П13 | C15: Строительство здания 637 подготовки зарядов пл.6. Раздел: генплан | D15: ='24597'!J80 -> 224557 | E15: 0 | F15: 0 | G15: 0 | H15: =SUM(D15:G15) -> 224557
A16: 3 | B16: 24601-П13 | C16: Строительство здания 637 подготовки зараядов пл.6. Раздел: архитектурно-строительный | D16: ='24601'!J196 -> 510943 | E16: 0 | F16: 0 | G16: 0 | H16: =SUM(D16:G16) -> 510943
A17: 4 | B17: 24603-П13 | C17: Строительство здания 637 подготовки зарядов пл. 6. Раздел: Электроснабжение. Электрооборудование. | D17: 0 | E17: ='24603'!K149 -> 50318 | F17: ='24603'!K150 -> 5362 | G17: 0 | H17: =SUM(D17:G17) -> 55680
A18: 5 | B18: 24632-П13 | C18: Строительство здания 637 подготовки зарядов пл. 6. Раздел: автоматическая установка пожарной сигнализации и СОУЭ. | D18: 0 | E18: ='24632'!K96 -> 17343 | F18: ='24632'!K97 -> 6621 | G18: ='24632'!K98 -> 2499 | H18: =SUM(D18:G18) -> 26463
A19: 6 | B19: 24845 | C19: Силовое электрооборудование. Строительство здания 637 подготовки зарядов. | D19: ='24845'!J44 -> 2675 | E19: ='24845'!J45 -> 3333 | F19: 0 | G19: 0 | H19: =SUM(D19:G19) -> 6008
A20: 7 | B20: 6925 | C20: Выполнение строительно-монтажных работ по устройству проездов и стоянок, площадка 6 | D20: 415466 | E20: 0 | F20: 0 | G20: 0 | H20: =SUM(D20:G20) -> 415466
C21: Итого в базисных ценах 2000 г. | D21: =SUM(D14:D20) -> 1206016 | E21: =SUM(E14:E20) -> 72861 | F21: =SUM(F14:F20) -> 71520 | G21: =SUM(G14:G20) -> 2499 | H21: =SUM(D21:G21) -> 1352896
C22: Зимнее удорожание 3,2%×1,1=3,52% | D22: =ROUND(SUM(D14:D19)*3.52%,0) -> 27827 | E22: =ROUND(SUM(E14:E19)*3.52%,0) -> 2565 | F22: 0 | G22: 0 | H22: =SUM(D22:G22) -> 30392
C23: Итого с зимним удорожанием: | D23: =SUM(D21:D22) -> 1233843 | E23: =SUM(E21:E22) -> 75426 | F23: =SUM(F21:F22) -> 71520 | G23: =SUM(G21:G22) -> 2499 | H23: =SUM(D23:G23) -> 1383288
C24: Всего в ценах 2013 (Ксмр=5,56, Коб.=4,19, Кпнр=9,32) | D24: =ROUND(D23*5.56,0) -> 6860167 | E24: =ROUND(E23*5.56,0) -> 419369 | F24: =ROUND(F23*4.19,0) -> 299669 | G24: =ROUND(G23*9.32,0) -> 23291 | H24: =SUM(D24:G24) -> 7602496
C25: НДС 18% | D25: =ROUND(D24*18%,2) -> 1234830.1 | E25: =ROUND(E24*18%,2) -> 75486.42 | F25: =ROUND(F24*18%,2) -> 53940.42 | G25: =ROUND(G24*18%,2) -> 4192.38 | H25: =SUM(D25:G25) -> 1368449.3
C26: Всего в ценах 2013 с НДС | D26: =SUM(D24:D25) -> 8094997.1 | E26: =SUM(E24:E25) -> 494855.42 | F26: =SUM(F24:F25) -> 353609.42 | G26: =SUM(G24:G25) -> 27483.38 | H26: =SUM(D26:G26) -> 8970945.3
C30: ЗАКАЗЧИК: | H30: ПОДРЯДЧИК:
C31: Генеральный директор
C32: ФГУП "Комбинат "Электрохимприбор"
C34: __________________ А.В. Новиков
