Workbook

Sheet 11-графка c показом НР и СП 
A1: =Source!B1 -> АтомСмета | K1: Форма 4
A3: Наименование стройки: | C3: Ростовская АЭС. Энергоблок №4. Глава 2. Основные объекты строительства (ОСР №02-09). Машинное отделение
A6: =CONCATENATE( "Локальная смета ", Source!F20) -> Локальная смета №2-2-6/с изм.1
A7: =[1]Source!G20 -> на строительные работы фундамента турбоагрегата К-1100-60/1500-2М+ТВВ-1000-4УЗ. Верхнее строение.
B8: Планы на отм. +1,740; +5,140; +15,000. Закладные детали для вибродатчиков и термопар
C9: (Данная смета аннулирует ранее выданную смету № 2-2-6/с на сумму 777,28 тыс.грн).
A10: Основание: | C10: =Source!J20 -> 001-60-012-КЖ
A11: Составлена в ценах | C11: на 01.01.2000г. по ТЕР для Ростовской обл. | D11: =IF(AND(Source!P12<>0,Source!Q12<>0),Source!P12,IF(Source!AF12=0,"",Source!AF12))
G12: Сметная стоимость | J12: =(Source!F135/1000) -> 783.20941 | K12: тыс.руб
G13: Нормативная трудоемкость | J13: 5909 | K13: чел.-ч
G14: Сметная заработная плата | J14: 52.33 | K14: тыс.руб
E15: Стоимость ед, руб. | G15: Общая стоимость, руб. | J15: Затраты труда рабо-
A16: № | B16: Шифр и № | C16: Наименование работ и затрат, | D16: Коли- | F16: Экспл. | I16: Экспл. | J16: чих, чел.-ч., не заня-
A17: п/п | B17: позиции | C17: единица измерения | D17: чество | E17: Всего | F17: машин | G17: Всего | H17: зар.платы | I17: машин | J17: тых обсл. машин
B18: норматива | E18: Основной | F18: в т.ч. | I18: в т.ч. | J18: обслуж. машины
E19: зар.платы | F19: зарплаты | I19: зарплаты | J19: на един. | K19: всего
A20: 1 | B20: 2 | C20: 3 | D20: 4 | E20: 5 | F20: 6 | G20: 7 | H20: 8 | I20: 9 | J20: 10 | K20: 11
A21: =Source!E24 -> 1 | B21: =Source!F24 -> 06-01-015-7 | C21: =Source!G24 -> Установка закладных деталей весом: до 4 кг | D21: =Source!I24 -> 0.273 | E21: =ROUND(Source!AB24,2) -> 10888.06 | F21: =Source!AD24 -> 30.57 | G21: =Source!O24 -> 2972.44 | H21: =Source!S24 -> 534.39 | I21: =Source!Q24 -> 8.35 | J21: =ROUND(Source!AH24,2) -> 215.82 | K21: =Source!U24 -> 58.91886
C22: =Source!H24 -> 1Т | E22: =ROUND(Source!AF24,2) -> 1957.49 | F22: =Source!AE24 -> 3.74 | I22: =Source!R24 -> 1.02 | J22: =ROUND(Source!AI24,2) -> 0.36 | K22: =Source!V24 -> 0.09828
C23: % НР | D23: =Source!AT24 -> 105 | G23: =Source!X24 -> 562.18
C24: % СП | D24: =Source!AU24 -> 65 | G24: =Source!Y24 -> 348.02
A26: =Source!E25 -> 2 | B26: =Source!F25 -> 06-01-015-8 | C26: =Source!G25 -> Установка закладных деталей весом: до 20 кг | D26: =Source!I25 -> 36.153 | E26: =ROUND(Source!AB25,2) -> 9503.98 | F26: =Source!AD25 -> 30.57 | G26: =Source!O25 -> 343597.39 | H26: =Source!S25 -> 20730.49 | I26: =Source!Q25 -> 1105.2 | J26: =ROUND(Source!AH25,2) -> 63.22 | K26: =Source!U25 -> 2285.5927
C27: =Source!H25 -> 1Т | E27: =ROUND(Source!AF25,2) -> 573.41 | F27: =Source!AE25 -> 3.74 | I27: =Source!R25 -> 135.21 | J27: =ROUND(Source!AI25,2) -> 0.36 | K27: =Source!V25 -> 13.01508
C28: % НР | D28: =Source!AT25 -> 105 | G28: =Source!X25 -> 21908.99
C29: % СП | D29: =Source!AU25 -> 65 | G29: =Source!Y25 -> 13562.71
A31: =Source!E26 -> 3 | B31: =Source!F26 -> 06-01-015-9 | C31: =Source!G26 -> Установка закладных деталей весом: более 20 кг | D31: =Source!I26 -> 14.557 | E31: =ROUND(Source!AB26,2) -> 9128.3 | F31: =Source!AD26 -> 30.57 | G31: =Source!O26 -> 132880.67 | H31: =Source!S26 -> 2878.36 | I31: =Source!Q26 -> 445.01 | J31: =ROUND(Source!AH26,2) -> 21.8 | K31: =Source!U26 -> 317.3426
C32: =Source!H26 -> 1Т | E32: =ROUND(Source!AF26,2) -> 197.73 | F32: =Source!AE26 -> 3.74 | I32: =Source!R26 -> 54.44 | J32: =ROUND(Source!AI26,2) -> 0.36 | K32: =Source!V26 -> 5.24052
C33: % НР | D33: =Source!AT26 -> 105 | G33: =Source!X26 -> 3079.44
C34: % СП | D34: =Source!AU26 -> 65 | G34: =Source!Y26 -> 1906.32
A36: =Source!E27 -> 4 | B36: =Source!F27 -> 09-06-024-13 | C36: =Source!G27 -> Монтаж кронштейнов | D36: =Source!I27 -> 0.867 | E36: =ROUND(Source!AB27,2) -> 684.79 | F36: =Source!AD27 -> 260.72 | G36: =Source!O27 -> 593.71 | H36: =Source!S27 -> 330.03 | I36: =Source!Q27 -> 226.04 | J36: =ROUND(Source!AH27,2) -> 39.57 | K36: =Source!U27 -> 34.30719
C37: =Source!H27 -> 1Т | E37: =ROUND(Source!AF27,2) -> 380.66 | F37: =Source!AE27 -> 23.48 | I37: =Source!R27 -> 20.36 | J37: =ROUND(Source!AI27,2) -> 2.26 | K37: =Source!V27 -> 1.95942
C38: % НР | D38: =Source!AT27 -> 90 | G38: =Source!X27 -> 315.35
C39: % СП | D39: =Source!AU27 -> 85 | G39: =Source!Y27 -> 297.83
A41: =Source!E28 -> 5 | B41: =Source!F28 -> 201-0664 | C41: =Source!G28 -> Стоимость кронштейнов | D41: =Source!I28 -> 0.867 | E41: =ROUND(Source!AB28,2) -> 9045 | F41: =Source!AD28 -> 0 | G41: =Source!O28 -> 7842.02 | H41: =Source!S28 -> 0 | I41: =Source!Q28 -> 0 | J41: =ROUND(Source!AH28,2) -> 0 | K41: =Source!U28 -> 0
C42: =Source!H28 -> т | E42: =ROUND(Source!AF28,2) -> 0 | F42: =Source!AE28 -> 0 | I42: =Source!R28 -> 0 | J42: =ROUND(Source!AI28,2) -> 0 | K42: =Source!V28 -> 0
A43: =Source!E29 -> 6 | B43: =Source!F29 -> 06-01-015-6 Прим. | C43: =Source!G29 -> Установка стальных труб | D43: =Source!I29 -> 4.097 | E43: =ROUND(Source!AB29,2) -> 9863.35 | F43: =Source!AD29 -> 438.57 | G43: =Source!O29 -> 40410.14 | H43: =Source!S29 -> 1825.99 | I43: =Source!Q29 -> 1796.82 | J43: =ROUND(Source!AH29,2) -> 46.33 | K43: =Source!U29 -> 189.81401
C44: =Source!H29 -> 1Т | E44: =ROUND(Source!AF29,2) -> 445.69 | F44: =Source!AE29 -> 45.45 | I44: =Source!R29 -> 186.21 | J44: =ROUND(Source!AI29,2) -> 4.38 | K44: =Source!V29 -> 17.94486
C45: % НР | D45: =Source!AT29 -> 105 | G45: =Source!X29 -> 2112.81
C46: % СП | D46: =Source!AU29 -> 65 | G46: =Source!Y29 -> 1307.93
A48: =Source!E30 -> 7 | B48: =Source!F30 -> 201-9002 | C48: =Source!G30 -> Конструкции металлические | D48: =Source!I30 -> -4.097 | E48: =ROUND(Source!AB30,2) -> 8909 | F48: =Source!AD30 -> 0 | G48: =Source!O30 -> -36500.17 | H48: =Source!S30 -> 0 | I48: =Source!Q30 -> 0 | J48: =ROUND(Source!AH30,2) -> 0 | K48: =Source!U30 -> 0
...

Sheet Source
A1: 0 | B1: АтомСмета | D1: _PS_ | F1: 0 | G1: 3 | H1: 0 | I1: АтомСмета | K1: 0 | L1: 29258
A12: 1 | B12: 1 | C12: 0 | D12: =ROW(A140) -> 140 | E12: 0 | F12: №2-2-6/с | G12: №2-2-6/с. Фундамент турбоагрегата. Верхнее строение. Закладные детали для вибродатчиков и термопар | I12: 0 | J12: 001-60-012-КЖ | P12: 0 | Q12: 0 | V12: -3 | X12: 2 | Y12: 2 | Z12: 1 | AA12: 1 | AC12: 0 | AD12: 2 | AE12: 0 | AF12: 0 | AG12: 0 | AH12: 40 | AI12: 0 | AJ12: 0 | AK12: 0 | AN12: 0 | BA12: 0 | BB12: 0 | BC12: 0 | BD12: 25553902 | BE12: Сметные нормы списания | BF12: Коды ценников | BG12: 16689361 | BH12: 0 | BI12: 1 | BK12: 1 | BL12: 1 | BM12: 1 | BN12: 1 | BO12: 0 | BP12: -1 | BR12: 2 | BT12: 0 | BU12: 1 | BV12: 1 | BW12: 0 | BX12: 0 | BY12: 0 | BZ12: 0 | CA12: 21535330 | CB12: 21535323 | CC12: 21535321 | CD12: 21535317 | CE12: 0 | CF12: 0 | CJ12: 0 | CK12: 21550311 | CL12: ТЕР - Ростовская область | CM12: Типовой расчёт для норм 2001 года АТОМНЫЕ ЭЛЕКТРОСТАНЦИИ МДС 81.33-2004 и МДС 81.25-99 без параметров | CN12: ТЕР-Ростов | CO12: ТЕР-Ростов | CP12: ТЕР-Ростов | CQ12: ТЕР-Ростов | CR12: Поправки для ТЕР 21_04 (Ростов) | CS12: 20085202 | CT12: 0 | CU12: 0 | CV12: 0 | CW12: 0 | CX12: 0 | CY12: 0
A15: 15 | B15: 1
A18: 52 | B18: =B140 -> 1 | C18: =C140 -> 1 | D18: =D140 -> 12 | E18: =E140 -> 0 | F18: =F140 -> №2-2-6/с | G18: =G140 -> №2-2-6/с. Фундамент турбоагрегата. Верхнее строение. Закладные детали для вибродатчиков и термопар | H18: =H140 -> 0 | I18: =I140 -> 0 | ... AM18: =AM140 -> 0
G19: 0
A20: 3 | B20: 1 | D20: =ROW(A76) -> 76 | F20: №2-2-6/с изм.1 | G20: на строительные работы | J20: 001-60-012-КЖ | R20: Т.И. Конозобко | S20: Р. Карпович | T20: Д.В. Карпович | X20: 2 | AJ20: 0 | AK20: 0 | AL20: -1 | BE20: {C220A64C-681F-4DB5-93CB-59341401C1A8} | BF20: 0 | BG20: 0
A22: 52 | B22: =B76 -> 1 | C22: =C76 -> 3 | D22: =D76 -> 20 | E22: =E76 -> 0 | F22: =F76 -> №2-2-6/с изм.1 | G22: =G76 -> на строительные работы | H22: =H76 -> 0 | I22: =I76 -> 0 | ... AM22: =AM76 -> 0
A24: 17 | B24: 1 | C24: =ROW(SmtRes!A5) -> 5 | D24: =ROW(EtalonRes!A5) -> 5 | E24: 1 | F24: 06-01-015-7 | G24: Установка закладных деталей весом: до 4 кг | H24: 1Т | I24: 0.273 | J24: 0 | O24: =ROUND(CP24,2) -> 2972.44 | P24: =ROUND(CQ24*I24,2) -> 2429.7 | Q24: =ROUND(CR24*I24,2) -> 8.35 | R24: =ROUND(CS24*I24,2) -> 1.02 | S24: =ROUND(CT24*I24,2) -> 534.39 | T24: =ROUND(CU24*I24,2) -> 0 | U24: =CV24*I24 -> 58.91886 | V24: =CW24*I24 -> 0.09828 | W24: =ROUND(CX24*I24,2) -> 0 | X24: =ROUND(CY24,2) -> 562.18 | Y24: =ROUND(CZ24,2) -> 348.02 | AA24: 0 | AB24: =(AC24+AD24+AF24) -> 10888.06 | AC24: =(ES24) -> 8900 | AD24: =(ET24) -> 30.57 | AE24: =(EU24) -> 3.74 | AF24: =(EV24) -> 1957.49 | AG24: =(AP24) -> 0 | AH24: =(EW24) -> 215.82 | AI24: =(EX24) -> 0.36 | AJ24: =(AS24) -> 0 | AK24: 10888.06 | AL24: 8900 | AM24: 30.57 | AN24: 3.74 | AO24: 1957.49 | AP24: 0 | AQ24: 215.82 | AR24: 0.36 | AS24: 0 | AT24: =BZ24 -> 105 | AU24: =CA24 -> 65 | AV24: 1 | AW24: 1 | AX24: 1 | AY24: 1 | AZ24: 1 | BA24: 1 | BB24: 1 | BC24: 1 | BH24: 0 | BI24: 1 | BJ24: ТЕР Ростовской обл,сб.06,гл.01,табл.015,поз.7 | BM24: 10 | BN24: 0 | BP24: 0 | BQ24: 2 | BR24: 0 | BS24: 1 | BT24: 1 | BU24: 1 | BV24: 1 | BW24: 1 | BX24: 1 | BZ24: 105 | CA24: 65 | CF24: 0 | CG24: 0 | CM24: 0 | CO24: 0 | CP24: =(P24+Q24+S24) -> 2972.44 | CQ24: =(AC24)*BC24 -> 8900 | CR24: =(AD24)*BB24 -> 30.57 | CS24: =(AE24)*BS24 -> 3.74 | CT24: =(AF24)*BA24 -> 1957.49 | CU24: =(AG24)*BT24 -> 0 | CV24: =(AH24)*BU24 -> 215.82 | CW24: =(AI24)*BV24 -> 0.36 | CX24: =(AJ24)*BW24 -> 0 | CY24: =(((S24+R24)*BZ24)/100) -> 562.1805 | CZ24: =(((S24+R24)*CA24)/100) -> 348.0165 | DN24: 0 | DO24: 0 | DP24: 1 | DQ24: 1 | DR24: 1 | DS24: 1 | DT24: 1 | DU24: 1013 | DV24: 1Т | DW24: 1Т | DX24: 1 | EE24: 16689382 | EF24: 2 | EG24: Общестроительные работы | EH24: 0 | EJ24: 1 | EK24: 10 | EL24: Бетонные и железобетонные монолитные конструкции в промышленном строительстве | EM24: 6-1 | EP24: Вырезка и заделка отверстий в опалубке, установка и закрепление закладных деталей . | EQ24: 0 | ER24: 10888.06 | ES24: 8900 | ET24: 30.57 | EU24: 3.74 | EV24: 1957.49 | EW24: 215.82 | EX24: 0.36 | EY24: 0
A25: 17 | B25: 1 | C25: =ROW(SmtRes!A10) -> 10 | D25: =ROW(EtalonRes!A10) -> 10 | E25: 2 | F25: 06-01-015-8 | G25: Установка закладных деталей весом: до 20 кг | H25: 1Т | I25: 36.153 | J25: 0 | O25: =ROUND(CP25,2) -> 343597.39 | P25: =ROUND(CQ25*I25,2) -> 321761.7 | Q25: =ROUND(CR25*I25,2) -> 1105.2 | R25: =ROUND(CS25*I25,2) -> 135.21 | S25: =ROUND(CT25*I25,2) -> 20730.49 | T25: =ROUND(CU25*I25,2) -> 0 | U25: =CV25*I25 -> 2285.5927 | V25: =CW25*I25 -> 13.01508 | W25: =ROUND(CX25*I25,2) -> 0 | X25: =ROUND(CY25,2) -> 21908.99 | Y25: =ROUND(CZ25,2) -> 13562.71 | AA25: 0 | AB25: =(AC25+AD25+AF25) -> 9503.98 | AC25: =(ES25) -> 8900 | AD25: =(ET25) -> 30.57 | AE25: =(EU25) -> 3.74 | AF25: =(EV25) -> 573.41 | AG25: =(AP25) -> 0 | AH25: =(EW25) -> 63.22 | AI25: =(EX25) -> 0.36 | AJ25: =(AS25) -> 0 | AK25: 9503.98 | AL25: 8900 | AM25: 30.57 | AN25: 3.74 | AO25: 573.41 | AP25: 0 | AQ25: 63.22 | AR25: 0.36 | AS25: 0 | AT25: =BZ25 -> 105 | AU25: =CA25 -> 65 | AV25: 1 | AW25: 1 | AX25: 1 | AY25: 1 | AZ25: 1 | BA25: 1 | BB25: 1 | BC25: 1 | BH25: 0 | BI25: 1 | BJ25: ТЕР Ростовской обл,сб.06,гл.01,табл.015,поз.8 | BM25: 10 | BN25: 0 | BP25: 0 | BQ25: 2 | BR25: 0 | BS25: 1 | BT25: 1 | BU25: 1 | BV25: 1 | BW25: 1 | BX25: 1 | BZ25: 105 | CA25: 65 | CF25: 0 | CG25: 0 | CM25: 0 | CO25: 0 | CP25: =(P25+Q25+S25) -> 343597.39 | CQ25: =(AC25)*BC25 -> 8900 | CR25: =(AD25)*BB25 -> 30.57 | CS25: =(AE25)*BS25 -> 3.74 | CT25: =(AF25)*BA25 -> 573.41 | CU25: =(AG25)*BT25 -> 0 | CV25: =(AH25)*BU25 -> 63.22 | CW25: =(AI25)*BV25 -> 0.36 | CX25: =(AJ25)*BW25 -> 0 | CY25: =(((S25+R25)*BZ25)/100) -> 21908.985 | CZ25: =(((S25+R25)*CA25)/100) -> 13562.705 | DN25: 0 | DO25: 0 | DP25: 1 | DQ25: 1 | DR25: 1 | DS25: 1 | DT25: 1 | DU25: 1013 | DV25: 1Т | DW25: 1Т | DX25: 1 | EE25: 16689382 | EF25: 2 | EG25: Общестроительные работы | EH25: 0 | EJ25: 1 | EK25: 10 | EL25: Бетонные и железобетонные монолитные конструкции в промышленном строительстве | EM25: 6-1 | EP25: Вырезка и заделка отверстий в опалубке, установка и закрепление закладных деталей . | EQ25: 0 | ER25: 9503.98 | ES25: 8900 | ET25: 30.57 | EU25: 3.74 | EV25: 573.41 | EW25: 63.22 | EX25: 0.36 | EY25: 0
A26: 17 | B26: 1 | C26: =ROW(SmtRes!A15) -> 15 | D26: =ROW(EtalonRes!A15) -> 15 | E26: 3 | F26: 06-01-015-9 | G26: Установка закладных деталей весом: более 20 кг | H26: 1Т | I26: 14.557 | J26: 0 | O26: =ROUND(CP26,2) -> 132880.67 | P26: =ROUND(CQ26*I26,2) -> 129557.3 | Q26: =ROUND(CR26*I26,2) -> 445.01 | R26: =ROUND(CS26*I26,2) -> 54.44 | S26: =ROUND(CT26*I26,2) -> 2878.36 | T26: =ROUND(CU26*I26,2) -> 0 | U26: =CV26*I26 -> 317.3426 | V26: =CW26*I26 -> 5.24052 | W26: =ROUND(CX26*I26,2) -> 0 | X26: =ROUND(CY26,2) -> 3079.44 | Y26: =ROUND(CZ26,2) -> 1906.32 | AA26: 0 | AB26: =(AC26+AD26+AF26) -> 9128.3 | AC26: =(ES26) -> 8900 | AD26: =(ET26) -> 30.57 | AE26: =(EU26) -> 3.74 | AF26: =(EV26) -> 197.73 | AG26: =(AP26) -> 0 | AH26: =(EW26) -> 21.8 | AI26: =(EX26) -> 0.36 | AJ26: =(AS26) -> 0 | AK26: 9128.3 | AL26: 8900 | AM26: 30.57 | AN26: 3.74 | AO26: 197.73 | AP26: 0 | AQ26: 21.8 | AR26: 0.36 | AS26: 0 | AT26: =BZ26 -> 105 | AU26: =CA26 -> 65 | AV26: 1 | AW26: 1 | AX26: 1 | AY26: 1 | AZ26: 1 | BA26: 1 | BB26: 1 | BC26: 1 | BH26: 0 | BI26: 1 | BJ26: ТЕР Ростовской обл,сб.06,гл.01,табл.015,поз.9 | BM26: 10 | BN26: 0 | BP26: 0 | BQ26: 2 | BR26: 0 | BS26: 1 | BT26: 1 | BU26: 1 | BV26: 1 | BW26: 1 | BX26: 1 | BZ26: 105 | CA26: 65 | CF26: 0 | CG26: 0 | CM26: 0 | CO26: 0 | CP26: =(P26+Q26+S26) -> 132880.67 | CQ26: =(AC26)*BC26 -> 8900 | CR26: =(AD26)*BB26 -> 30.57 | CS26: =(AE26)*BS26 -> 3.74 | CT26: =(AF26)*BA26 -> 197.73 | CU26: =(AG26)*BT26 -> 0 | CV26: =(AH26)*BU26 -> 21.8 | CW26: =(AI26)*BV26 -> 0.36 | CX26: =(AJ26)*BW26 -> 0 | CY26: =(((S26+R26)*BZ26)/100) -> 3079.44 | CZ26: =(((S26+R26)*CA26)/100) -> 1906.32 | DN26: 0 | DO26: 0 | DP26: 1 | DQ26: 1 | DR26: 1 | DS26: 1 | DT26: 1 | DU26: 1013 | DV26: 1Т | DW26: 1Т | DX26: 1 | EE26: 16689382 | EF26: 2 | EG26: Общестроительные работы | EH26: 0 | EJ26: 1 | EK26: 10 | EL26: Бетонные и железобетонные монолитные конструкции в промышленном строительстве | EM26: 6-1 | EP26: Вырезка и заделка отверстий в опалубке, установка и закрепление закладных деталей . | EQ26: 0 | ER26: 9128.3 | ES26: 8900 | ET26: 30.57 | EU26: 3.74 | EV26: 197.73 | EW26: 21.8 | EX26: 0.36 | EY26: 0
A27: 17 | B27: 1 | C27: =ROW(SmtRes!A34) -> 34 | D27: =ROW(EtalonRes!A34) -> 34 | E27: 4 | F27: 09-06-024-13 | G27: Монтаж кронштейнов | H27: 1Т | I27: 0.867 | J27: 0 | O27: =ROUND(CP27,2) -> 593.71 | P27: =ROUND(CQ27*I27,2) -> 37.64 | Q27: =ROUND(CR27*I27,2) -> 226.04 | R27: =ROUND(CS27*I27,2) -> 20.36 | S27: =ROUND(CT27*I27,2) -> 330.03 | T27: =ROUND(CU27*I27,2) -> 0 | U27: =CV27*I27 -> 34.30719 | V27: =CW27*I27 -> 1.95942 | W27: =ROUND(CX27*I27,2) -> 0 | X27: =ROUND(CY27,2) -> 315.35 | Y27: =ROUND(CZ27,2) -> 297.83 | AA27: 0 | AB27: =(AC27+AD27+AF27) -> 684.79 | AC27: =(ES27) -> 43.41 | AD27: =(ET27) -> 260.72 | AE27: =(EU27) -> 23.48 | AF27: =(EV27) -> 380.66 | AG27: =(AP27) -> 0 | AH27: =(EW27) -> 39.57 | AI27: =(EX27) -> 2.26 | AJ27: =(AS27) -> 0 | AK27: 684.79 | AL27: 43.41 | AM27: 260.72 | AN27: 23.48 | AO27: 380.66 | AP27: 0 | AQ27: 39.57 | AR27: 2.26 | AS27: 0 | AT27: =BZ27 -> 90 | AU27: =CA27 -> 85 | AV27: 1 | AW27: 1 | AX27: 1 | AY27: 1 | AZ27: 1 | BA27: 1 | BB27: 1 | BC27: 1 | BH27: 0 | BI27: 1 | BJ27: ТЕР Ростовской обл,сб.09,гл.06,табл.024,поз.13 | BM27: 15 | BN27: 0 | BP27: 0 | BQ27: 2 | BR27: 0 | BS27: 1 | BT27: 1 | BU27: 1 | BV27: 1 | BW27: 1 | BX27: 1 | BZ27: 90 | CA27: 85 | CF27: 0 | CG27: 0 | CM27: 0 | CO27: 0 | CP27: =(P27+Q27+S27) -> 593.71 | CQ27: =(AC27)*BC27 -> 43.41 | CR27: =(AD27)*BB27 -> 260.72 | CS27: =(AE27)*BS27 -> 23.48 | CT27: =(AF27)*BA27 -> 380.66 | CU27: =(AG27)*BT27 -> 0 | CV27: =(AH27)*BU27 -> 39.57 | CW27: =(AI27)*BV27 -> 2.26 | CX27: =(AJ27)*BW27 -> 0 | CY27: =(((S27+R27)*BZ27)/100) -> 315.351 | CZ27: =(((S27+R27)*CA27)/100) -> 297.8315 | DN27: 0 | DO27: 0 | DP27: 1 | DQ27: 1 | DR27: 1 | DS27: 1 | DT27: 1 | DU27: 1013 | DV27: 1Т | DW27: 1Т | DX27: 1 | EE27: 16689386 | EF27: 2 | EG27: Общестроительные работы | EH27: 0 | EJ27: 1 | EK27: 15 | EL27: Металлические конструкции | EM27: 9 | EP27: Установка и крепление стальнных конструкций. Устройство подмостей. Антикоррозийная защита стальных конструкций. | EQ27: 0 | ER27: 684.79 | ES27: 43.41 | ET27: 260.72 | EU27: 23.48 | EV27: 380.66 | EW27: 39.57 | EX27: 2.26 | EY27: 0
A28: 17 | B28: 1 | E28: 5 | F28: 201-0664 | G28: Стоимость кронштейнов | H28: т | I28: 0.867 | J28: 0 | O28: =ROUND(CP28,2) -> 7842.02 | P28: =ROUND(CQ28*I28,2) -> 7842.02 | Q28: =ROUND(CR28*I28,2) -> 0 | R28: =ROUND(CS28*I28,2) -> 0 | S28: =ROUND(CT28*I28,2) -> 0 | T28: =ROUND(CU28*I28,2) -> 0 | U28: =CV28*I28 -> 0 | V28: =CW28*I28 -> 0 | W28: =ROUND(CX28*I28,2) -> 0 | X28: =ROUND(CY28,2) -> 0 | Y28: =ROUND(CZ28,2) -> 0 | AA28: 0 | AB28: =(AC28+AD28+AF28) -> 9045 | AC28: =(ES28) -> 9045 | AD28: =(ET28) -> 0 | AE28: =(EU28) -> 0 | AF28: =(EV28) -> 0 | AG28: =(AP28) -> 0 | AH28: =(EW28) -> 0 | AI28: =(EX28) -> 0 | AJ28: =(AS28) -> 0 | AK28: 9045 | AL28: 9045 | AM28: 0 | AN28: 0 | AO28: 0 | AP28: 0 | AQ28: 0 | AR28: 0 | AS28: 0 | AT28: =BZ28 -> 0 | AU28: =CA28 -> 0 | AV28: 1 | AW28: 1 | AX28: 1 | AY28: 1 | AZ28: 1 | BA28: 1 | BB28: 1 | BC28: 1 | BH28: 3 | BI28: 1 | BJ28: ССЦ Ростовской обл, сб.201, поз.0664 | BM28: 1100 | BN28: 0 | BP28: 0 | BQ28: 8 | BR28: 0 | BS28: 1 | BT28: 1 | BU28: 1 | BV28: 1 | BW28: 1 | BX28: 1 | BZ28: 0 | CA28: 0 | CF28: 0 | CG28: 0 | CM28: 0 | CO28: 0 | CP28: =(P28+Q28+S28) -> 7842.02 | CQ28: =(AC28)*BC28 -> 9045 | CR28: =(AD28)*BB28 -> 0 | CS28: =(AE28)*BS28 -> 0 | CT28: =(AF28)*BA28 -> 0 | CU28: =(AG28)*BT28 -> 0 | CV28: =(AH28)*BU28 -> 0 | CW28: =(AI28)*BV28 -> 0 | CX28: =(AJ28)*BW28 -> 0 | CY28: =(((S28+R28)*BZ28)/100) -> 0 | CZ28: =(((S28+R28)*CA28)/100) -> 0 | DN28: 0 | DO28: 0 | DP28: 1 | DQ28: 1 | DR28: 1 | DS28: 1 | DT28: 1 | DU28: 1009 | DV28: т | DW28: т | DX28: 1000 | EE28: 16689463 | EF28: 8 | EG28: Материалы | EH28: 0 | EJ28: 1 | EK28: 1100 | EL28: Материалы, изделия и конструкции | EM28: материалы | EQ28: 0 | ER28: 9045 | ES28: 9045 | ET28: 0 | EU28: 0 | EV28: 0 | EW28: 0 | EX28: 0 | EY28: 0
A29: 17 | B29: 1 | C29: =ROW(SmtRes!A41) -> 41 | D29: =ROW(EtalonRes!A41) -> 41 | E29: 6 | F29: 06-01-015-6 Прим. | G29: Установка стальных труб | H29: 1Т | I29: 4.097 | J29: 0 | O29: =ROUND(CP29,2) -> 40410.14 | P29: =ROUND(CQ29*I29,2) -> 36787.33 | Q29: =ROUND(CR29*I29,2) -> 1796.82 | R29: =ROUND(CS29*I29,2) -> 186.21 | S29: =ROUND(CT29*I29,2) -> 1825.99 | T29: =ROUND(CU29*I29,2) -> 0 | U29: =CV29*I29 -> 189.81401 | V29: =CW29*I29 -> 17.94486 | W29: =ROUND(CX29*I29,2) -> 0 | X29: =ROUND(CY29,2) -> 2112.81 | Y29: =ROUND(CZ29,2) -> 1307.93 | AA29: 0 | AB29: =(AC29+AD29+AF29) -> 9863.35 | AC29: =(ES29) -> 8979.09 | AD29: =(ET29) -> 438.57 | AE29: =(EU29) -> 45.45 | AF29: =(EV29) -> 445.69 | AG29: =(AP29) -> 0 | AH29: =(EW29) -> 46.33 | AI29: =(EX29) -> 4.38 | AJ29: =(AS29) -> 0 | AK29: 9863.35 | AL29: 8979.09 | AM29: 438.57 | AN29: 45.45 | AO29: 445.69 | AP29: 0 | AQ29: 46.33 | AR29: 4.38 | AS29: 0 | AT29: =BZ29 -> 105 | AU29: =CA29 -> 65 | AV29: 1 | AW29: 1 | AX29: 1 | AY29: 1 | AZ29: 1 | BA29: 1 | BB29: 1 | BC29: 1 | BH29: 0 | BI29: 1 | BJ29: ТЕР Ростовской обл,сб.06,гл.01,табл.015,поз.6 | BM29: 10 | BN29: 0 | BP29: 0 | BQ29: 2 | BR29: 0 | BS29: 1 | BT29: 1 | BU29: 1 | BV29: 1 | BW29: 1 | BX29: 1 | BZ29: 105 | CA29: 65 | CF29: 0 | CG29: 0 | CM29: 0 | CO29: 0 | CP29: =(P29+Q29+S29) -> 40410.14 | CQ29: =(AC29)*BC29 -> 8979.09 | CR29: =(AD29)*BB29 -> 438.57 | CS29: =(AE29)*BS29 -> 45.45 | CT29: =(AF29)*BA29 -> 445.69 | CU29: =(AG29)*BT29 -> 0 | CV29: =(AH29)*BU29 -> 46.33 | CW29: =(AI29)*BV29 -> 4.38 | CX29: =(AJ29)*BW29 -> 0 | CY29: =(((S29+R29)*BZ29)/100) -> 2112.81 | CZ29: =(((S29+R29)*CA29)/100) -> 1307.93 | DN29: 0 | DO29: 0 | DP29: 1 | DQ29: 1 | DR29: 1 | DS29: 1 | DT29: 1 | DU29: 1013 | DV29: 1Т | DW29: 1Т | DX29: 1 | EE29: 16689382 | EF29: 2 | EG29: Общестроительные работы | EH29: 0 | EJ29: 1 | EK29: 10 | EL29: Бетонные и железобетонные монолитные конструкции в промышленном строительстве | EM29: 6-1 | EQ29: 0 | ER29: 9863.35 | ES29: 8979.09 | ET29: 438.57 | EU29: 45.45 | EV29: 445.69 | EW29: 46.33 | EX29: 4.38 | EY29: 0
A30: 17 | B30: 1 | E30: 7 | F30: 201-9002 | G30: Конструкции металлические | H30: т | I30: -4.097 | J30: 0 | O30: =ROUND(CP30,2) -> -36500.17 | P30: =ROUND(CQ30*I30,2) -> -36500.17 | Q30: =ROUND(CR30*I30,2) -> 0 | R30: =ROUND(CS30*I30,2) -> 0 | S30: =ROUND(CT30*I30,2) -> 0 | T30: =ROUND(CU30*I30,2) -> 0 | U30: =CV30*I30 -> 0 | V30: =CW30*I30 -> 0 | W30: =ROUND(CX30*I30,2) -> 0 | X30: =ROUND(CY30,2) -> 0 | Y30: =ROUND(CZ30,2) -> 0 | AA30: 0 | AB30: =(AC30+AD30+AF30) -> 8909 | AC30: =(ES30) -> 8909 | AD30: =(ET30) -> 0 | AE30: =(EU30) -> 0 | AF30: =(EV30) -> 0 | AG30: =(AP30) -> 0 | AH30: =(EW30) -> 0 | AI30: =(EX30) -> 0 | AJ30: =(AS30) -> 0 | AK30: 8909 | AL30: 8909 | AM30: 0 | AN30: 0 | AO30: 0 | AP30: 0 | AQ30: 0 | AR30: 0 | AS30: 0 | AT30: =BZ30 -> 0 | AU30: =CA30 -> 0 | AV30: 1 | AW30: 1 | AX30: 1 | AY30: 1 | AZ30: 1 | BA30: 1 | BB30: 1 | BC30: 1 | BH30: 3 | BI30: 1 | BJ30: ССЦ Ростовской обл, сб.201, поз.9002 | BM30: 1100 | BN30: 0 | BP30: 0 | BQ30: 8 | BR30: 0 | BS30: 1 | BT30: 1 | BU30: 1 | BV30: 1 | BW30: 1 | BX30: 1 | BZ30: 0 | CA30: 0 | CF30: 0 | CG30: 0 | CM30: 0 | CO30: 0 | CP30: =(P30+Q30+S30) -> -36500.17 | CQ30: =(AC30)*BC30 -> 8909 | CR30: =(AD30)*BB30 -> 0 | CS30: =(AE30)*BS30 -> 0 | CT30: =(AF30)*BA30 -> 0 | CU30: =(AG30)*BT30 -> 0 | CV30: =(AH30)*BU30 -> 0 | CW30: =(AI30)*BV30 -> 0 | CX30: =(AJ30)*BW30 -> 0 | CY30: =(((S30+R30)*BZ30)/100) -> 0 | CZ30: =(((S30+R30)*CA30)/100) -> 0 | DN30: 0 | DO30: 0 | DP30: 1 | DQ30: 1 | DR30: 1 | DS30: 1 | DT30: 1 | DU30: 1009 | DV30: т | DW30: т | DX30: 1000 | EE30: 16689463 | EF30: 8 | EG30: Материалы | EH30: 0 | EJ30: 1 | EK30: 1100 | EL30: Материалы, изделия и конструкции | EM30: материалы | EQ30: 0 | ER30: 8909 | ES30: 8909 | ET30: 0 | EU30: 0 | EV30: 0 | EW30: 0 | EX30: 0 | EY30: 0
A31: 17 | B31: 1 | E31: 8 | F31: 103-0356 | G31: Трубы стальные бесшовные, горячедеформированные наружный диаметр 57 мм толщина стенки 3 мм | H31: м | I31: 137.96 | J31: 0 | O31: =ROUND(CP31,2) -> 4166.39 | P31: =ROUND(CQ31*I31,2) -> 4166.39 | Q31: =ROUND(CR31*I31,2) -> 0 | R31: =ROUND(CS31*I31,2) -> 0 | S31: =ROUND(CT31*I31,2) -> 0 | T31: =ROUND(CU31*I31,2) -> 0 | U31: =CV31*I31 -> 0 | V31: =CW31*I31 -> 0 | W31: =ROUND(CX31*I31,2) -> 0 | X31: =ROUND(CY31,2) -> 0 | Y31: =ROUND(CZ31,2) -> 0 | AA31: 0 | AB31: =(AC31+AD31+AF31) -> 30.2 | AC31: =(ES31) -> 30.2 | AD31: =(ET31) -> 0 | AE31: =(EU31) -> 0 | AF31: =(EV31) -> 0 | AG31: =(AP31) -> 0 | AH31: =(EW31) -> 0 | AI31: =(EX31) -> 0 | AJ31: =(AS31) -> 0 | AK31: 30.2 | AL31: 30.2 | AM31: 0 | AN31: 0 | AO31: 0 | AP31: 0 | AQ31: 0 | AR31: 0 | AS31: 0 | AT31: =BZ31 -> 0 | AU31: =CA31 -> 0 | AV31: 1 | AW31: 1 | AX31: 1 | AY31: 1 | AZ31: 1 | BA31: 1 | BB31: 1 | BC31: 1 | BH31: 3 | BI31: 1 | BJ31: ССЦ Ростовской обл, сб.103, поз.0356 | BM31: 1100 | BN31: 0 | BP31: 0 | BQ31: 8 | BR31: 0 | BS31: 1 | BT31: 1 | BU31: 1 | BV31: 1 | BW31: 1 | BX31: 1 | BZ31: 0 | CA31: 0 | CF31: 0 | CG31: 0 | CM31: 0 | CO31: 0 | CP31: =(P31+Q31+S31) -> 4166.39 | CQ31: =(AC31)*BC31 -> 30.2 | CR31: =(AD31)*BB31 -> 0 | CS31: =(AE31)*BS31 -> 0 | CT31: =(AF31)*BA31 -> 0 | CU31: =(AG31)*BT31 -> 0 | CV31: =(AH31)*BU31 -> 0 | CW31: =(AI31)*BV31 -> 0 | CX31: =(AJ31)*BW31 -> 0 | CY31: =(((S31+R31)*BZ31)/100) -> 0 | CZ31: =(((S31+R31)*CA31)/100) -> 0 | DN31: 0 | DO31: 0 | DP31: 1 | DQ31: 1 | DR31: 1 | DS31: 1 | DT31: 1 | DU31: 1003 | DV31: м | DW31: м | DX31: 1 | EE31: 16689463 | EF31: 8 | EG31: Материалы | EH31: 0 | EJ31: 1 | EK31: 1100 | EL31: Материалы, изделия и конструкции | EM31: материалы | EQ31: 0 | ER31: 30.2 | ES31: 30.2 | ET31: 0 | EU31: 0 | EV31: 0 | EW31: 0 | EX31: 0 | EY31: 0
A32: 17 | B32: 1 | E32: 9 | F32: 103-0176 | G32: Трубы стальные сварные электросварные наружный диаметр 159 мм, толщина стенки 4.5 мм | H32: м | I32: 168.38 | J32: 0 | O32: =ROUND(CP32,2) -> 21215.88 | P32: =ROUND(CQ32*I32,2) -> 21215.88 | Q32: =ROUND(CR32*I32,2) -> 0 | R32: =ROUND(CS32*I32,2) -> 0 | S32: =ROUND(CT32*I32,2) -> 0 | T32: =ROUND(CU32*I32,2) -> 0 | U32: =CV32*I32 -> 0 | V32: =CW32*I32 -> 0 | W32: =ROUND(CX32*I32,2) -> 0 | X32: =ROUND(CY32,2) -> 0 | Y32: =ROUND(CZ32,2) -> 0 | AA32: 0 | AB32: =(AC32+AD32+AF32) -> 126 | AC32: =(ES32) -> 126 | AD32: =(ET32) -> 0 | AE32: =(EU32) -> 0 | AF32: =(EV32) -> 0 | AG32: =(AP32) -> 0 | AH32: =(EW32) -> 0 | AI32: =(EX32) -> 0 | AJ32: =(AS32) -> 0 | AK32: 126 | AL32: 126 | AM32: 0 | AN32: 0 | AO32: 0 | AP32: 0 | AQ32: 0 | AR32: 0 | AS32: 0 | AT32: =BZ32 -> 0 | AU32: =CA32 -> 0 | AV32: 1 | AW32: 1 | AX32: 1 | AY32: 1 | AZ32: 1 | BA32: 1 | BB32: 1 | BC32: 1 | BH32: 3 | BI32: 1 | BJ32: ССЦ Ростовской обл, сб.103, поз.0176 | BM32: 1100 | BN32: 0 | BP32: 0 | BQ32: 8 | BR32: 0 | BS32: 1 | BT32: 1 | BU32: 1 | BV32: 1 | BW32: 1 | BX32: 1 | BZ32: 0 | CA32: 0 | CF32: 0 | CG32: 0 | CM32: 0 | CO32: 0 | CP32: =(P32+Q32+S32) -> 21215.88 | CQ32: =(AC32)*BC32 -> 126 | CR32: =(AD32)*BB32 -> 0 | CS32: =(AE32)*BS32 -> 0 | CT32: =(AF32)*BA32 -> 0 | CU32: =(AG32)*BT32 -> 0 | CV32: =(AH32)*BU32 -> 0 | CW32: =(AI32)*BV32 -> 0 | CX32: =(AJ32)*BW32 -> 0 | CY32: =(((S32+R32)*BZ32)/100) -> 0 | CZ32: =(((S32+R32)*CA32)/100) -> 0 | DN32: 0 | DO32: 0 | DP32: 1 | DQ32: 1 | DR32: 1 | DS32: 1 | DT32: 1 | DU32: 1003 | DV32: м | DW32: м | DX32: 1 | EE32: 16689463 | EF32: 8 | EG32: Материалы | EH32: 0 | EJ32: 1 | EK32: 1100 | EL32: Материалы, изделия и конструкции | EM32: материалы | EQ32: 0 | ER32: 126 | ES32: 126 | ET32: 0 | EU32: 0 | EV32: 0 | EW32: 0 | EX32: 0 | EY32: 0
A33: 17 | B33: 1 | E33: 10 | F33: 103-0161 | G33: Трубы стальные сварные электросварные прямошовные со снятой фаской диаметром от 20 до 377 мм из стали марок бст2кп-бст2пс-бст4пс наружный диаметр 108 мм толщина стенки 4 мм | H33: м | I33: 60 | J33: 0 | O33: =ROUND(CP33,2) -> 4200 | P33: =ROUND(CQ33*I33,2) -> 4200 | Q33: =ROUND(CR33*I33,2) -> 0 | R33: =ROUND(CS33*I33,2) -> 0 | S33: =ROUND(CT33*I33,2) -> 0 | T33: =ROUND(CU33*I33,2) -> 0 | U33: =CV33*I33 -> 0 | V33: =CW33*I33 -> 0 | W33: =ROUND(CX33*I33,2) -> 0 | X33: =ROUND(CY33,2) -> 0 | Y33: =ROUND(CZ33,2) -> 0 | AA33: 0 | AB33: =(AC33+AD33+AF33) -> 70 | AC33: =(ES33) -> 70 | AD33: =(ET33) -> 0 | AE33: =(EU33) -> 0 | AF33: =(EV33) -> 0 | AG33: =(AP33) -> 0 | AH33: =(EW33) -> 0 | AI33: =(EX33) -> 0 | AJ33: =(AS33) -> 0 | AK33: 70 | AL33: 70 | AM33: 0 | AN33: 0 | AO33: 0 | AP33: 0 | AQ33: 0 | AR33: 0 | AS33: 0 | AT33: =BZ33 -> 0 | AU33: =CA33 -> 0 | AV33: 1 | AW33: 1 | AX33: 1 | AY33: 1 | AZ33: 1 | BA33: 1 | BB33: 1 | BC33: 1 | BH33: 3 | BI33: 1 | BJ33: ССЦ Ростовской обл, сб.103, поз.0161 | BM33: 1100 | BN33: 0 | BP33: 0 | BQ33: 8 | BR33: 0 | BS33: 1 | BT33: 1 | BU33: 1 | BV33: 1 | BW33: 1 | BX33: 1 | BZ33: 0 | CA33: 0 | CF33: 0 | CG33: 0 | CM33: 0 | CO33: 0 | CP33: =(P33+Q33+S33) -> 4200 | CQ33: =(AC33)*BC33 -> 70 | CR33: =(AD33)*BB33 -> 0 | CS33: =(AE33)*BS33 -> 0 | CT33: =(AF33)*BA33 -> 0 | CU33: =(AG33)*BT33 -> 0 | CV33: =(AH33)*BU33 -> 0 | CW33: =(AI33)*BV33 -> 0 | CX33: =(AJ33)*BW33 -> 0 | CY33: =(((S33+R33)*BZ33)/100) -> 0 | CZ33: =(((S33+R33)*CA33)/100) -> 0 | DN33: 0 | DO33: 0 | DP33: 1 | DQ33: 1 | DR33: 1 | DS33: 1 | DT33: 1 | DU33: 1003 | DV33: м | DW33: м | DX33: 1 | EE33: 16689463 | EF33: 8 | EG33: Материалы | EH33: 0 | EJ33: 1 | EK33: 1100 | EL33: Материалы, изделия и конструкции | EM33: материалы | EQ33: 0 | ER33: 70 | ES33: 70 | ET33: 0 | EU33: 0 | EV33: 0 | EW33: 0 | EX33: 0 | EY33: 0
A34: 17 | B34: 1 | C34: =ROW(SmtRes!A47) -> 47 | D34: =ROW(EtalonRes!A47) -> 47 | E34: 11 | F34: 07-01-044-3 | G34: Установка монтажных изделий массой: до 20 кг | H34: 1Т | I34: 0.569 | J34: 0 | O34: =ROUND(CP34,2) -> 5070.53 | P34: =ROUND(CQ34*I34,2) -> 4687.08 | Q34: =ROUND(CR34*I34,2) -> 135.38 | R34: =ROUND(CS34*I34,2) -> 6 | S34: =ROUND(CT34*I34,2) -> 248.07 | T34: =ROUND(CU34*I34,2) -> 0 | U34: =CV34*I34 -> 24.2963 | V34: =CW34*I34 -> 0.58607 | W34: =ROUND(CX34*I34,2) -> 0 | X34: =ROUND(CY34,2) -> 330.29 | Y34: =ROUND(CZ34,2) -> 215.96 | AA34: 0 | AB34: =(AC34+AD34+AF34) -> 8911.29 | AC34: =(ES34) -> 8237.4 | AD34: =(ET34) -> 237.92 | AE34: =(EU34) -> 10.55 | AF34: =(EV34) -> 435.97 | AG34: =(AP34) -> 0 | AH34: =(EW34) -> 42.7 | AI34: =(EX34) -> 1.03 | AJ34: =(AS34) -> 0 | AK34: 8911.29 | AL34: 8237.4 | AM34: 237.92 | AN34: 10.55 | AO34: 435.97 | AP34: 0 | AQ34: 42.7 | AR34: 1.03 | AS34: 0 | AT34: =BZ34 -> 130 | AU34: =CA34 -> 85 | AV34: 1 | AW34: 1 | AX34: 1 | AY34: 1 | AZ34: 1 | BA34: 1 | BB34: 1 | BC34: 1 | BH34: 0 | BI34: 1 | BJ34: ТЕР Ростовской обл,сб.07,гл.01,табл.044,поз.3 | BM34: 11 | BN34: 0 | BP34: 0 | BQ34: 2 | BR34: 0 | BS34: 1 | BT34: 1 | BU34: 1 | BV34: 1 | BW34: 1 | BX34: 1 | BZ34: 130 | CA34: 85 | CF34: 0 | CG34: 0 | CM34: 0 | CO34: 0 | CP34: =(P34+Q34+S34) -> 5070.53 | CQ34: =(AC34)*BC34 -> 8237.4 | CR34: =(AD34)*BB34 -> 237.92 | CS34: =(AE34)*BS34 -> 10.55 | CT34: =(AF34)*BA34 -> 435.97 | CU34: =(AG34)*BT34 -> 0 | CV34: =(AH34)*BU34 -> 42.7 | CW34: =(AI34)*BV34 -> 1.03 | CX34: =(AJ34)*BW34 -> 0 | CY34: =(((S34+R34)*BZ34)/100) -> 330.291 | CZ34: =(((S34+R34)*CA34)/100) -> 215.9595 | DN34: 0 | DO34: 0 | DP34: 1 | DQ34: 1 | DR34: 1 | DS34: 1 | DT34: 1 | DU34: 1013 | DV34: 1Т | DW34: 1Т | DX34: 1 | EE34: 16689383 | EF34: 2 | EG34: Общестроительные работы | EH34: 0 | EJ34: 1 | EK34: 11 | EL34: Бетонные и железобетонные сборные конструкции в промышленном строительстве | EM34: 7-1 | EP34: Установка и сварка стальных крепежных элементов. | EQ34: 0 | ER34: 8911.29 | ES34: 8237.4 | ET34: 237.92 | EU34: 10.55 | EV34: 435.97 | EW34: 42.7 | EX34: 1.03 | EY34: 0
A35: 17 | B35: 1 | C35: =ROW(SmtRes!A53) -> 53 | D35: =ROW(EtalonRes!A53) -> 53 | E35: 12 | F35: 07-01-044-4 | G35: Установка монтажных изделий массой: более 20 кг | H35: 1Т | I35: 0.338 | J35: 0 | O35: =ROUND(CP35,2) -> 2937 | P35: =ROUND(CQ35*I35,2) -> 2750.91 | Q35: =ROUND(CR35*I35,2) -> 77.73 | R35: =ROUND(CS35*I35,2) -> 3.53 | S35: =ROUND(CT35*I35,2) -> 108.36 | T35: =ROUND(CU35*I35,2) -> 0 | U35: =CV35*I35 -> 10.6132 | V35: =CW35*I35 -> 0.34476 | W35: =ROUND(CX35*I35,2) -> 0 | X35: =ROUND(CY35,2) -> 145.46 | Y35: =ROUND(CZ35,2) -> 95.11 | AA35: 0 | AB35: =(AC35+AD35+AF35) -> 8689.36 | AC35: =(ES35) -> 8138.8 | AD35: =(ET35) -> 229.97 | AE35: =(EU35) -> 10.44 | AF35: =(EV35) -> 320.59 | AG35: =(AP35) -> 0 | AH35: =(EW35) -> 31.4 | AI35: =(EX35) -> 1.02 | AJ35: =(AS35) -> 0 | AK35: 8689.36 | AL35: 8138.8 | AM35: 229.97 | AN35: 10.44 | AO35: 320.59 | AP35: 0 | AQ35: 31.4 | AR35: 1.02 | AS35: 0 | AT35: =BZ35 -> 130 | AU35: =CA35 -> 85 | AV35: 1 | AW35: 1 | AX35: 1 | AY35: 1 | AZ35: 1 | BA35: 1 | BB35: 1 | BC35: 1 | BH35: 0 | BI35: 1 | BJ35: ТЕР Ростовской обл,сб.07,гл.01,табл.044,поз.4 | BM35: 11 | BN35: 0 | BP35: 0 | BQ35: 2 | BR35: 0 | BS35: 1 | BT35: 1 | BU35: 1 | BV35: 1 | BW35: 1 | BX35: 1 | BZ35: 130 | CA35: 85 | CF35: 0 | CG35: 0 | CM35: 0 | CO35: 0 | CP35: =(P35+Q35+S35) -> 2937 | CQ35: =(AC35)*BC35 -> 8138.8 | CR35: =(AD35)*BB35 -> 229.97 | CS35: =(AE35)*BS35 -> 10.44 | CT35: =(AF35)*BA35 -> 320.59 | CU35: =(AG35)*BT35 -> 0 | CV35: =(AH35)*BU35 -> 31.4 | CW35: =(AI35)*BV35 -> 1.02 | CX35: =(AJ35)*BW35 -> 0 | CY35: =(((S35+R35)*BZ35)/100) -> 145.457 | CZ35: =(((S35+R35)*CA35)/100) -> 95.1065 | DN35: 0 | DO35: 0 | DP35: 1 | DQ35: 1 | DR35: 1 | DS35: 1 | DT35: 1 | DU35: 1013 | DV35: 1Т | DW35: 1Т | DX35: 1 | EE35: 16689383 | EF35: 2 | EG35: Общестроительные работы | EH35: 0 | EJ35: 1 | EK35: 11 | EL35: Бетонные и железобетонные сборные конструкции в промышленном строительстве | EM35: 7-1 | EP35: Установка и сварка стальных крепежных элементов. | EQ35: 0 | ER35: 8689.36 | ES35: 8138.8 | ET35: 229.97 | EU35: 10.44 | EV35: 320.59 | EW35: 31.4 | EX35: 1.02 | EY35: 0
A36: 17 | B36: 1 | C36: =ROW(SmtRes!A61) -> 61 | D36: =ROW(EtalonRes!A61) -> 61 | E36: 13 | F36: 06-01-015-4 | G36: Установка анкерных болтов: при бетонировании на поддерживающие конструкции | H36: 1Т | I36: 7.481 | J36: 0 | O36: =ROUND(CP36,2) -> 85227.22 | P36: =ROUND(CQ36*I36,2) -> 82250.45 | Q36: =ROUND(CR36*I36,2) -> 528.61 | R36: =ROUND(CS36*I36,2) -> 49.22 | S36: =ROUND(CT36*I36,2) -> 2448.16 | T36: =ROUND(CU36*I36,2) -> 0 | U36: =CV36*I36 -> 269.91448 | V36: =CW36*I36 -> 4.71303 | W36: =ROUND(CX36*I36,2) -> 0 | X36: =ROUND(CY36,2) -> 2622.25 | Y36: =ROUND(CZ36,2) -> 1623.3 | AA36: 0 | AB36: =(AC36+AD36+AF36) -> 11392.49 | AC36: =(ES36) -> 10994.58 | AD36: =(ET36) -> 70.66 | AE36: =(EU36) -> 6.58 | AF36: =(EV36) -> 327.25 | AG36: =(AP36) -> 0 | AH36: =(EW36) -> 36.08 | AI36: =(EX36) -> 0.63 | AJ36: =(AS36) -> 0 | AK36: 11392.49 | AL36: 10994.58 | AM36: 70.66 | AN36: 6.58 | AO36: 327.25 | AP36: 0 | AQ36: 36.08 | AR36: 0.63 | AS36: 0 | AT36: =BZ36 -> 105 | AU36: =CA36 -> 65 | AV36: 1 | AW36: 1 | AX36: 1 | AY36: 1 | AZ36: 1 | BA36: 1 | BB36: 1 | BC36: 1 | BH36: 0 | BI36: 1 | BJ36: ТЕР Ростовской обл,сб.06,гл.01,табл.015,поз.4 | BM36: 10 | BN36: 0 | BP36: 0 | BQ36: 2 | BR36: 0 | BS36: 1 | BT36: 1 | BU36: 1 | BV36: 1 | BW36: 1 | BX36: 1 | BZ36: 105 | CA36: 65 | CF36: 0 | CG36: 0 | CM36: 0 | CO36: 0 | CP36: =(P36+Q36+S36) -> 85227.22 | CQ36: =(AC36)*BC36 -> 10994.58 | CR36: =(AD36)*BB36 -> 70.66 | CS36: =(AE36)*BS36 -> 6.58 | CT36: =(AF36)*BA36 -> 327.25 | CU36: =(AG36)*BT36 -> 0 | CV36: =(AH36)*BU36 -> 36.08 | CW36: =(AI36)*BV36 -> 0.63 | CX36: =(AJ36)*BW36 -> 0 | CY36: =(((S36+R36)*BZ36)/100) -> 2622.249 | CZ36: =(((S36+R36)*CA36)/100) -> 1623.297 | DN36: 0 | DO36: 0 | DP36: 1 | DQ36: 1 | DR36: 1 | DS36: 1 | DT36: 1 | DU36: 1013 | DV36: 1Т | DW36: 1Т | DX36: 1 | EE36: 16689382 | EF36: 2 | EG36: Общестроительные работы | EH36: 0 | EJ36: 1 | EK36: 10 | EL36: Бетонные и железобетонные монолитные конструкции в промышленном строительстве | EM36: 6-1 | EP36: Установка кондукторов (шаблонов) с выверкой, закреплением и разборкой . Установка анкерных болтов с выверкой и закреплением . Установка фиксирующих элементов, остающихся в теле бетона с закреплением . | EQ36: 0 | ER36: 11392.49 | ES36: 10994.58 | ET36: 70.66 | EU36: 6.58 | EV36: 327.25 | EW36: 36.08 | EX36: 0.63 | EY36: 0
A37: 17 | B37: 1 | C37: =ROW(SmtRes!A67) -> 67 | D37: =ROW(EtalonRes!A67) -> 67 | E37: 14 | F37: 06-01-015-10 Прим. | G37: Установка арматуры д=10 мм класса А-III отдельными стержнями | H37: 1Т | I37: 0.628 | J37: 0 | O37: =ROUND(CP37,2) -> 3095.86 | P37: =ROUND(CQ37*I37,2) -> 3005.3 | Q37: =ROUND(CR37*I37,2) -> 20.31 | R37: =ROUND(CS37*I37,2) -> 2.48 | S37: =ROUND(CT37*I37,2) -> 70.25 | T37: =ROUND(CU37*I37,2) -> 0 | U37: =CV37*I37 -> 7.93792 | V37: =CW37*I37 -> 0.23864 | W37: =ROUND(CX37*I37,2) -> 0 | X37: =ROUND(CY37,2) -> 76.37 | Y37: =ROUND(CZ37,2) -> 47.27 | AA37: 0 | AB37: =(AC37+AD37+AF37) -> 4929.71 | AC37: =(ES37) -> 4785.51 | AD37: =(ET37) -> 32.34 | AE37: =(EU37) -> 3.95 | AF37: =(EV37) -> 111.86 | AG37: =(AP37) -> 0 | AH37: =(EW37) -> 12.64 | AI37: =(EX37) -> 0.38 | AJ37: =(AS37) -> 0 | AK37: 4929.71 | AL37: 4785.51 | AM37: 32.34 | AN37: 3.95 | AO37: 111.86 | AP37: 0 | AQ37: 12.64 | AR37: 0.38 | AS37: 0 | AT37: =BZ37 -> 105 | AU37: =CA37 -> 65 | AV37: 1 | AW37: 1 | AX37: 1 | AY37: 1 | AZ37: 1 | BA37: 1 | BB37: 1 | BC37: 1 | BH37: 0 | BI37: 1 | BJ37: ТЕР Ростовской обл,сб.06,гл.01,табл.015,поз.10 | BM37: 10 | BN37: 0 | BP37: 0 | BQ37: 2 | BR37: 0 | BS37: 1 | BT37: 1 | BU37: 1 | BV37: 1 | BW37: 1 | BX37: 1 | BZ37: 105 | CA37: 65 | CF37: 0 | CG37: 0 | CM37: 0 | CO37: 0 | CP37: =(P37+Q37+S37) -> 3095.86 | CQ37: =(AC37)*BC37 -> 4785.51 | CR37: =(AD37)*BB37 -> 32.34 | CS37: =(AE37)*BS37 -> 3.95 | CT37: =(AF37)*BA37 -> 111.86 | CU37: =(AG37)*BT37 -> 0 | CV37: =(AH37)*BU37 -> 12.64 | CW37: =(AI37)*BV37 -> 0.38 | CX37: =(AJ37)*BW37 -> 0 | CY37: =(((S37+R37)*BZ37)/100) -> 76.3665 | CZ37: =(((S37+R37)*CA37)/100) -> 47.2745 | DN37: 0 | DO37: 0 | DP37: 1 | DQ37: 1 | DR37: 1 | DS37: 1 | DT37: 1 | DU37: 1013 | DV37: 1Т | DW37: 1Т | DX37: 1 | EE37: 16689382 | EF37: 2 | EG37: Общестроительные работы | EH37: 0 | EJ37: 1 | EK37: 10 | EL37: Бетонные и железобетонные монолитные конструкции в промышленном строительстве | EM37: 6-1 | EQ37: 0 | ER37: 4929.71 | ES37: 4785.51 | ET37: 32.34 | EU37: 3.95 | EV37: 111.86 | EW37: 12.64 | EX37: 0.38 | EY37: 0
A38: 17 | B38: 1 | E38: 15 | F38: 204-0100 | G38: Горячекатаная арматурная сталь класса А-l, А-ll, А-lll | H38: т | I38: -0.628 | J38: 0 | O38: =ROUND(CP38,2) -> -2888.17 | P38: =ROUND(CQ38*I38,2) -> -2888.17 | Q38: =ROUND(CR38*I38,2) -> 0 | R38: =ROUND(CS38*I38,2) -> 0 | S38: =ROUND(CT38*I38,2) -> 0 | T38: =ROUND(CU38*I38,2) -> 0 | U38: =CV38*I38 -> 0 | V38: =CW38*I38 -> 0 | W38: =ROUND(CX38*I38,2) -> 0 | X38: =ROUND(CY38,2) -> 0 | Y38: =ROUND(CZ38,2) -> 0 | AA38: 0 | AB38: =(AC38+AD38+AF38) -> 4599 | AC38: =(ES38) -> 4599 | AD38: =(ET38) -> 0 | AE38: =(EU38) -> 0 | AF38: =(EV38) -> 0 | AG38: =(AP38) -> 0 | AH38: =(EW38) -> 0 | AI38: =(EX38) -> 0 | AJ38: =(AS38) -> 0 | AK38: 4599 | AL38: 4599 | AM38: 0 | AN38: 0 | AO38: 0 | AP38: 0 | AQ38: 0 | AR38: 0 | AS38: 0 | AT38: =BZ38 -> 0 | AU38: =CA38 -> 0 | AV38: 1 | AW38: 1 | AX38: 1 | AY38: 1 | AZ38: 1 | BA38: 1 | BB38: 1 | BC38: 1 | BH38: 3 | BI38: 1 | BJ38: ССЦ Ростовской обл, сб.204, поз.0100 | BM38: 1100 | BN38: 0 | BO38: 204-0100 | BP38: 1 | BQ38: 8 | BR38: 0 | BS38: 1 | BT38: 1 | BU38: 1 | BV38: 1 | BW38: 1 | BX38: 1 | BZ38: 0 | CA38: 0 | CF38: 0 | CG38: 0 | CM38: 0 | CO38: 0 | CP38: =(P38+Q38+S38) -> -2888.17 | CQ38: =(AC38)*BC38 -> 4599 | CR38: =(AD38)*BB38 -> 0 | CS38: =(AE38)*BS38 -> 0 | CT38: =(AF38)*BA38 -> 0 | CU38: =(AG38)*BT38 -> 0 | CV38: =(AH38)*BU38 -> 0 | CW38: =(AI38)*BV38 -> 0 | CX38: =(AJ38)*BW38 -> 0 | CY38: =(((S38+R38)*BZ38)/100) -> 0 | CZ38: =(((S38+R38)*CA38)/100) -> 0 | DN38: 0 | DO38: 0 | DP38: 1 | DQ38: 1 | DR38: 1 | DS38: 1 | DT38: 1 | DU38: 1009 | DV38: т | DW38: т | DX38: 1000 | EE38: 16689463 | EF38: 8 | EG38: Материалы | EH38: 0 | EJ38: 1 | EK38: 1100 | EL38: Материалы, изделия и конструкции | EM38: материалы | EQ38: 0 | ER38: 4599 | ES38: 4599 | ET38: 0 | EU38: 0 | EV38: 0 | EW38: 0 | EX38: 0 | EY38: 0
A39: 17 | B39: 1 | E39: 16 | F39: 204-0021 | G39: Горячекатаная арматурная сталь: периодического профиля класса А-III диаметром, 10 мм | H39: т | I39: 0.628 | J39: 0 | O39: =ROUND(CP39,2) -> 2874.36 | P39: =ROUND(CQ39*I39,2) -> 2874.36 | Q39: =ROUND(CR39*I39,2) -> 0 | R39: =ROUND(CS39*I39,2) -> 0 | S39: =ROUND(CT39*I39,2) -> 0 | T39: =ROUND(CU39*I39,2) -> 0 | U39: =CV39*I39 -> 0 | V39: =CW39*I39 -> 0 | W39: =ROUND(CX39*I39,2) -> 0 | X39: =ROUND(CY39,2) -> 0 | Y39: =ROUND(CZ39,2) -> 0 | AA39: 0 | AB39: =(AC39+AD39+AF39) -> 4577 | AC39: =(ES39) -> 4577 | AD39: =(ET39) -> 0 | AE39: =(EU39) -> 0 | AF39: =(EV39) -> 0 | AG39: =(AP39) -> 0 | AH39: =(EW39) -> 0 | AI39: =(EX39) -> 0 | AJ39: =(AS39) -> 0 | AK39: 4577 | AL39: 4577 | AM39: 0 | AN39: 0 | AO39: 0 | AP39: 0 | AQ39: 0 | AR39: 0 | AS39: 0 | AT39: =BZ39 -> 0 | AU39: =CA39 -> 0 | AV39: 1 | AW39: 1 | AX39: 1 | AY39: 1 | AZ39: 1 | BA39: 1 | BB39: 1 | BC39: 1 | BH39: 3 | BI39: 1 | BJ39: ССЦ Ростовской обл, сб.204, поз.0021 | BM39: 1100 | BN39: 0 | BP39: 0 | BQ39: 8 | BR39: 0 | BS39: 1 | BT39: 1 | BU39: 1 | BV39: 1 | BW39: 1 | BX39: 1 | BZ39: 0 | CA39: 0 | CF39: 0 | CG39: 0 | CM39: 0 | CO39: 0 | CP39: =(P39+Q39+S39) -> 2874.36 | CQ39: =(AC39)*BC39 -> 4577 | CR39: =(AD39)*BB39 -> 0 | CS39: =(AE39)*BS39 -> 0 | CT39: =(AF39)*BA39 -> 0 | CU39: =(AG39)*BT39 -> 0 | CV39: =(AH39)*BU39 -> 0 | CW39: =(AI39)*BV39 -> 0 | CX39: =(AJ39)*BW39 -> 0 | CY39: =(((S39+R39)*BZ39)/100) -> 0 | CZ39: =(((S39+R39)*CA39)/100) -> 0 | DN39: 0 | DO39: 0 | DP39: 1 | DQ39: 1 | DR39: 1 | DS39: 1 | DT39: 1 | DU39: 1009 | DV39: т | DW39: т | DX39: 1000 | EE39: 16689463 | EF39: 8 | EG39: Материалы | EH39: 0 | EJ39: 1 | EK39: 1100 | EL39: Материалы, изделия и конструкции | EM39: материалы | EQ39: 0 | ER39: 4577 | ES39: 4577 | ET39: 0 | EU39: 0 | EV39: 0 | EW39: 0 | EX39: 0 | EY39: 0
A40: 17 | B40: 1 | C40: =ROW(SmtRes!A75) -> 75 | D40: =ROW(EtalonRes!A75) -> 75 | E40: 17 | F40: 13-03-002-4 | G40: Огрунтовка закладных деталей и монтажных изделий за один раз: грунтовкой гф-021 | H40: 100М2 | I40: 16.59 | J40: 0 | O40: =ROUND(CP40,2) -> 5309.3 | P40: =ROUND(CQ40*I40,2) -> 4221.82 | Q40: =ROUND(CR40*I40,2) -> 150.14 | R40: =ROUND(CS40*I40,2) -> 3.48 | S40: =ROUND(CT40*I40,2) -> 937.34 | T40: =ROUND(CU40*I40,2) -> 0 | U40: =CV40*I40 -> 88.0929 | V40: =CW40*I40 -> 0.3318 | W40: =ROUND(CX40*I40,2) -> 0 | X40: =ROUND(CY40,2) -> 846.74 | Y40: =ROUND(CZ40,2) -> 658.57 | AA40: 0 | AB40: =(AC40+AD40+AF40) -> 320.03 | AC40: =(ES40) -> 254.48 | AD40: =(ET40) -> 9.05 | AE40: =(EU40) -> 0.21 | AF40: =(EV40) -> 56.5 | AG40: =(AP40) -> 0 | AH40: =(EW40) -> 5.31 | AI40: =(EX40) -> 0.02 | AJ40: =(AS40) -> 0 | AK40: 320.03 | AL40: 254.48 | AM40: 9.05 | AN40: 0.21 | AO40: 56.5 | AP40: 0 | AQ40: 5.31 | AR40: 0.02 | AS40: 0 | AT40: =BZ40 -> 90 | AU40: =CA40 -> 70 | AV40: 1 | AW40: 1 | AX40: 1 | AY40: 1 | AZ40: 1 | BA40: 1 | BB40: 1 | BC40: 1 | BH40: 0 | BI40: 1 | BJ40: ТЕР Ростовской обл,сб.13,гл.03,табл.002,поз.4 | BM40: 19 | BN40: 0 | BP40: 0 | BQ40: 2 | BR40: 0 | BS40: 1 | BT40: 1 | BU40: 1 | BV40: 1 | BW40: 1 | BX40: 1 | BZ40: 90 | CA40: 70 | CF40: 0 | CG40: 0 | CM40: 0 | CO40: 0 | CP40: =(P40+Q40+S40) -> 5309.3 | CQ40: =(AC40)*BC40 -> 254.48 | CR40: =(AD40)*BB40 -> 9.05 | CS40: =(AE40)*BS40 -> 0.21 | CT40: =(AF40)*BA40 -> 56.5 | CU40: =(AG40)*BT40 -> 0 | CV40: =(AH40)*BU40 -> 5.31 | CW40: =(AI40)*BV40 -> 0.02 | CX40: =(AJ40)*BW40 -> 0 | CY40: =(((S40+R40)*BZ40)/100) -> 846.738 | CZ40: =(((S40+R40)*CA40)/100) -> 658.574 | DN40: 0 | DO40: 0 | DP40: 1 | DQ40: 1 | DR40: 1 | DS40: 1 | DT40: 1 | DU40: 1013 | DV40: 100М2 | DW40: 100М2 | DX40: 1 | EE40: 16689390 | EF40: 2 | EG40: Общестроительные работы | EH40: 0 | EJ40: 1 | EK40: 19 | EL40: Защита строительных конструкций и оборудования от коррозии | EM40: 13 | EP40: Подготовка окрасочных агрегатов. Приготовление грунтовочных составов. Нанесение грунта. Промывка, очистка окрасочных агрегатов и шлангов. Контроль качества. | EQ40: 0 | ER40: 320.03 | ES40: 254.48 | ET40: 9.05 | EU40: 0.21 | EV40: 56.5 | EW40: 5.31 | EX40: 0.02 | EY40: 0
A41: 17 | B41: 1 | C41: =ROW(SmtRes!A83) -> 83 | D41: =ROW(EtalonRes!A83) -> 83 | E41: 18 | F41: 13-03-004-26 | G41: Окраска металлических огрунтованных поверхностей: эмалью пф-133 за 2 раза | H41: 100М2 | I41: 16.59 | J41: 0 | O41: =ROUND(CP41,2) -> 13634.32 | P41: =ROUND(CQ41*I41,2) -> 12287.55 | Q41: =ROUND(CR41*I41,2) -> 194.1 | R41: =ROUND(CS41*I41,2) -> 6.97 | S41: =ROUND(CT41*I41,2) -> 1152.67 | T41: =ROUND(CU41*I41,2) -> 0 | U41: =CV41*I41 -> 127.0794 | V41: =CW41*I41 -> 0.6636 | W41: =ROUND(CX41*I41,2) -> 0 | X41: =ROUND(CY41,2) -> 1043.68 | Y41: =ROUND(CZ41,2) -> 811.75 | AA41: 0 | AB41: =(AC41+AD41+AF41) -> 821.84 | AC41: =((ES41*2)) -> 740.66 | AD41: =((ET41*2)) -> 11.7 | AE41: =((EU41*2)) -> 0.42 | AF41: =((EV41*2)) -> 69.48 | AG41: =(AP41) -> 0 | AH41: =((EW41*2)) -> 7.66 | AI41: =((EX41*2)) -> 0.04 | AJ41: =(AS41) -> 0 | AK41: 410.92 | AL41: 370.33 | AM41: 5.85 | AN41: 0.21 | AO41: 34.74 | AP41: 0 | AQ41: 3.83 | AR41: 0.02 | AS41: 0 | AT41: =BZ41 -> 90 | AU41: =CA41 -> 70 | AV41: 1 | AW41: 1 | AX41: 1 | AY41: 1 | AZ41: 1 | BA41: 1 | BB41: 1 | BC41: 1 | BH41: 0 | BI41: 1 | BJ41: ТЕР Ростовской обл,сб.13,гл.03,табл.004,поз.26 | BM41: 19 | BN41: 0 | BP41: 0 | BQ41: 2 | BR41: 0 | BS41: 1 | BT41: 1 | BU41: 1 | BV41: 1 | BW41: 1 | BX41: 1 | BZ41: 90 | CA41: 70 | CF41: 0 | CG41: 0 | CM41: 0 | CO41: 0 | CP41: =(P41+Q41+S41) -> 13634.32 | CQ41: =(AC41)*BC41 -> 740.66 | CR41: =(AD41)*BB41 -> 11.7 | CS41: =(AE41)*BS41 -> 0.42 | CT41: =(AF41)*BA41 -> 69.48 | CU41: =(AG41)*BT41 -> 0 | CV41: =(AH41)*BU41 -> 7.66 | CW41: =(AI41)*BV41 -> 0.04 | CX41: =(AJ41)*BW41 -> 0 | CY41: =(((S41+R41)*BZ41)/100) -> 1043.676 | CZ41: =(((S41+R41)*CA41)/100) -> 811.748 | DD41: )*2 | DE41: )*2 | DF41: )*2 | DG41: )*2 | DI41: )*2 | DJ41: )*2 | DN41: 0 | DO41: 0 | DP41: 1 | DQ41: 1 | DR41: 1 | DS41: 1 | DT41: 1 | DU41: 1013 | DV41: 100М2 | DW41: 100М2 | DX41: 1 | EE41: 16689390 | EF41: 2 | EG41: Общестроительные работы | EH41: 0 | EJ41: 1 | EK41: 19 | EL41: Защита строительных конструкций и оборудования от коррозии | EM41: 13 | EO41: к=2 | EP41: Подготовка окрасочных агрегатов. Приготовление состава. Нанесение окрасочного состава. Промывка, очистка окрасочных агрегатов и шлангов. Контроль качества. | EQ41: 512 | ER41: 410.92 | ES41: 370.33 | ET41: 5.85 | EU41: 0.21 | EV41: 34.74 | EW41: 3.83 | EX41: 0.02 | EY41: 0
A42: 17 | B42: 1 | C42: =ROW(SmtRes!A91) -> 91 | D42: =ROW(EtalonRes!A91) -> 91 | E42: 19 | F42: 13-03-004-23 | G42: Окраска внутренней поверхности труб кузбасслаком | H42: 100М2 | I42: 0.41 | J42: 0 | O42: =ROUND(CP42,2) -> 217.96 | P42: =ROUND(CQ42*I42,2) -> 202.48 | Q42: =ROUND(CR42*I42,2) -> 4.77 | R42: =ROUND(CS42*I42,2) -> 0.13 | S42: =ROUND(CT42*I42,2) -> 10.71 | T42: =ROUND(CU42*I42,2) -> 0 | U42: =CV42*I42 -> 1.1808 | V42: =CW42*I42 -> 0.0123 | W42: =ROUND(CX42*I42,2) -> 0 | X42: =ROUND(CY42,2) -> 9.76 | Y42: =ROUND(CZ42,2) -> 7.59 | AA42: 0 | AB42: =(AC42+AD42+AF42) -> 531.61 | AC42: =(ES42) -> 493.86 | AD42: =(ET42) -> 11.63 | AE42: =(EU42) -> 0.31 | AF42: =(EV42) -> 26.12 | AG42: =(AP42) -> 0 | AH42: =(EW42) -> 2.88 | AI42: =(EX42) -> 0.03 | AJ42: =(AS42) -> 0 | AK42: 531.61 | AL42: 493.86 | AM42: 11.63 | AN42: 0.31 | AO42: 26.12 | AP42: 0 | AQ42: 2.88 | AR42: 0.03 | AS42: 0 | AT42: =BZ42 -> 90 | AU42: =CA42 -> 70 | AV42: 1 | AW42: 1 | AX42: 1 | AY42: 1 | AZ42: 1 | BA42: 1 | BB42: 1 | BC42: 1 | BH42: 0 | BI42: 1 | BJ42: ТЕР Ростовской обл,сб.13,гл.03,табл.004,поз.23 | BM42: 19 | BN42: 0 | BP42: 0 | BQ42: 2 | BR42: 0 | BS42: 1 | BT42: 1 | BU42: 1 | BV42: 1 | BW42: 1 | BX42: 1 | BZ42: 90 | CA42: 70 | CF42: 0 | CG42: 0 | CM42: 0 | CO42: 0 | CP42: =(P42+Q42+S42) -> 217.96 | CQ42: =(AC42)*BC42 -> 493.86 | CR42: =(AD42)*BB42 -> 11.63 | CS42: =(AE42)*BS42 -> 0.31 | CT42: =(AF42)*BA42 -> 26.12 | CU42: =(AG42)*BT42 -> 0 | CV42: =(AH42)*BU42 -> 2.88 | CW42: =(AI42)*BV42 -> 0.03 | CX42: =(AJ42)*BW42 -> 0 | CY42: =(((S42+R42)*BZ42)/100) -> 9.756 | CZ42: =(((S42+R42)*CA42)/100) -> 7.588 | DN42: 0 | DO42: 0 | DP42: 1 | DQ42: 1 | DR42: 1 | DS42: 1 | DT42: 1 | DU42: 1013 | DV42: 100М2 | DW42: 100М2 | DX42: 1 | EE42: 16689390 | EF42: 2 | EG42: Общестроительные работы | EH42: 0 | EJ42: 1 | EK42: 19 | EL42: Защита строительных конструкций и оборудования от коррозии | EM42: 13 | EP42: Подготовка окрасочных агрегатов. Приготовление состава. Нанесение окрасочного состава. Промывка, очистка окрасочных агрегатов и шлангов. Контроль качества. | EQ42: 0 | ER42: 531.61 | ES42: 493.86 | ET42: 11.63 | EU42: 0.31 | EV42: 26.12 | EW42: 2.88 | EX42: 0.03 | EY42: 0
A43: 17 | B43: 1 | C43: =ROW(SmtRes!A97) -> 97 | D43: =ROW(EtalonRes!A97) -> 97 | E43: 20 | F43: 11-01-011-1 | G43: Устройство стяжек: цементных толщиной 20 мм (по проекту 40 мм) из раствора М100 | H43: 100М2 | I43: 4.1523 | J43: 0 | O43: =ROUND(CP43,2) -> 5116.59 | P43: =ROUND(CQ43*I43,2) -> 3694.51 | Q43: =ROUND(CR43*I43,2) -> 121.12 | R43: =ROUND(CS43*I43,2) -> 55.81 | S43: =ROUND(CT43*I43,2) -> 1300.96 | T43: =ROUND(CU43*I43,2) -> 0 | U43: =CV43*I43 -> 164.05737 | V43: =CW43*I43 -> 5.273421 | W43: =ROUND(CX43*I43,2) -> 0 | X43: =ROUND(CY43,2) -> 1668.83 | Y43: =ROUND(CZ43,2) -> 1017.58 | AA43: 0 | AB43: =(AC43+AD43+AF43) -> 1232.23 | AC43: =(ES43) -> 889.75 | AD43: =(ET43) -> 29.17 | AE43: =(EU43) -> 13.44 | AF43: =(EV43) -> 313.31 | AG43: =(AP43) -> 0 | AH43: =(EW43) -> 39.51 | AI43: =(EX43) -> 1.27 | AJ43: =(AS43) -> 0 | AK43: 1232.23 | AL43: 889.75 | AM43: 29.17 | AN43: 13.44 | AO43: 313.31 | AP43: 0 | AQ43: 39.51 | AR43: 1.27 | AS43: 0 | AT43: =BZ43 -> 123 | AU43: =CA43 -> 75 | AV43: 1 | AW43: 1 | AX43: 1 | AY43: 1 | AZ43: 1 | BA43: 1 | BB43: 1 | BC43: 1 | BH43: 0 | BI43: 1 | BJ43: ТЕР Ростовской обл,сб.11,гл.01,табл.011,поз.1 | BM43: 17 | BN43: 0 | BP43: 0 | BQ43: 2 | BR43: 0 | BS43: 1 | BT43: 1 | BU43: 1 | BV43: 1 | BW43: 1 | BX43: 1 | BZ43: 123 | CA43: 75 | CF43: 0 | CG43: 0 | CM43: 0 | CO43: 0 | CP43: =(P43+Q43+S43) -> 5116.59 | CQ43: =(AC43)*BC43 -> 889.75 | CR43: =(AD43)*BB43 -> 29.17 | CS43: =(AE43)*BS43 -> 13.44 | CT43: =(AF43)*BA43 -> 313.31 | CU43: =(AG43)*BT43 -> 0 | CV43: =(AH43)*BU43 -> 39.51 | CW43: =(AI43)*BV43 -> 1.27 | CX43: =(AJ43)*BW43 -> 0 | CY43: =(((S43+R43)*BZ43)/100) -> 1668.8271 | CZ43: =(((S43+R43)*CA43)/100) -> 1017.5775 | DN43: 0 | DO43: 0 | DP43: 1 | DQ43: 1 | DR43: 1 | DS43: 1 | DT43: 1 | DU43: 1013 | DV43: 100М2 | DW43: 100М2 | DX43: 1 | EE43: 16689388 | EF43: 2 | EG43: Общестроительные работы | EH43: 0 | EJ43: 1 | EK43: 17 | EL43: Полы | EM43: 11 | EP43: Подготовка основания. Укладка и разравнивание слоя раствора . Уход за стяжкой . | EQ43: 0 | ER43: 1232.23 | ES43: 889.75 | ET43: 29.17 | EU43: 13.44 | EV43: 313.31 | EW43: 39.51 | EX43: 1.27 | EY43: 0
A44: 17 | B44: 1 | E44: 21 | F44: 402-0005 | G44: Раствор готовый кладочный цементный, марка 150 (Расход 2,04:100х415,23=8,47) | H44: м3 | I44: -8.47 | J44: 0 | O44: =ROUND(CP44,2) -> -3599.75 | P44: =ROUND(CQ44*I44,2) -> -3599.75 | Q44: =ROUND(CR44*I44,2) -> 0 | R44: =ROUND(CS44*I44,2) -> 0 | S44: =ROUND(CT44*I44,2) -> 0 | T44: =ROUND(CU44*I44,2) -> 0 | U44: =CV44*I44 -> 0 | V44: =CW44*I44 -> 0 | W44: =ROUND(CX44*I44,2) -> 0 | X44: =ROUND(CY44,2) -> 0 | Y44: =ROUND(CZ44,2) -> 0 | AA44: 0 | AB44: =(AC44+AD44+AF44) -> 425 | AC44: =(ES44) -> 425 | AD44: =(ET44) -> 0 | AE44: =(EU44) -> 0 | AF44: =(EV44) -> 0 | AG44: =(AP44) -> 0 | AH44: =(EW44) -> 0 | AI44: =(EX44) -> 0 | AJ44: =(AS44) -> 0 | AK44: 425 | AL44: 425 | AM44: 0 | AN44: 0 | AO44: 0 | AP44: 0 | AQ44: 0 | AR44: 0 | AS44: 0 | AT44: =BZ44 -> 0 | AU44: =CA44 -> 0 | AV44: 1 | AW44: 1 | AX44: 1 | AY44: 1 | AZ44: 1 | BA44: 1 | BB44: 1 | BC44: 1 | BH44: 3 | BI44: 1 | BJ44: ССЦ Ростовской обл, сб.402, поз.0005 | BM44: 1100 | BN44: 0 | BP44: 0 | BQ44: 8 | BR44: 0 | BS44: 1 | BT44: 1 | BU44: 1 | BV44: 1 | BW44: 1 | BX44: 1 | BZ44: 0 | CA44: 0 | CF44: 0 | CG44: 0 | CM44: 0 | CO44: 0 | CP44: =(P44+Q44+S44) -> -3599.75 | CQ44: =(AC44)*BC44 -> 425 | CR44: =(AD44)*BB44 -> 0 | CS44: =(AE44)*BS44 -> 0 | CT44: =(AF44)*BA44 -> 0 | CU44: =(AG44)*BT44 -> 0 | CV44: =(AH44)*BU44 -> 0 | CW44: =(AI44)*BV44 -> 0 | CX44: =(AJ44)*BW44 -> 0 | CY44: =(((S44+R44)*BZ44)/100) -> 0 | CZ44: =(((S44+R44)*CA44)/100) -> 0 | DN44: 0 | DO44: 0 | DP44: 1 | DQ44: 1 | DR44: 1 | DS44: 1 | DT44: 1 | DU44: 1007 | DV44: м3 | DW44: м3 | DX44: 1 | EE44: 16689463 | EF44: 8 | EG44: Материалы | EH44: 0 | EJ44: 1 | EK44: 1100 | EL44: Материалы, изделия и конструкции | EM44: материалы | EQ44: 0 | ER44: 425 | ES44: 425 | ET44: 0 | EU44: 0 | EV44: 0 | EW44: 0 | EX44: 0 | EY44: 0
A45: 17 | B45: 1 | E45: 22 | F45: 402-0004 | G45: Раствор готовый кладочный цементный, марка 100 (Расход 2,04:100х415,23=8,47) | H45: м3 | I45: 8.47 | J45: 0 | O45: =ROUND(CP45,2) -> 3337.18 | P45: =ROUND(CQ45*I45,2) -> 3337.18 | Q45: =ROUND(CR45*I45,2) -> 0 | R45: =ROUND(CS45*I45,2) -> 0 | S45: =ROUND(CT45*I45,2) -> 0 | T45: =ROUND(CU45*I45,2) -> 0 | U45: =CV45*I45 -> 0 | V45: =CW45*I45 -> 0 | W45: =ROUND(CX45*I45,2) -> 0 | X45: =ROUND(CY45,2) -> 0 | Y45: =ROUND(CZ45,2) -> 0 | AA45: 0 | AB45: =(AC45+AD45+AF45) -> 394 | AC45: =(ES45) -> 394 | AD45: =(ET45) -> 0 | AE45: =(EU45) -> 0 | AF45: =(EV45) -> 0 | AG45: =(AP45) -> 0 | AH45: =(EW45) -> 0 | AI45: =(EX45) -> 0 | AJ45: =(AS45) -> 0 | AK45: 394 | AL45: 394 | AM45: 0 | AN45: 0 | AO45: 0 | AP45: 0 | AQ45: 0 | AR45: 0 | AS45: 0 | AT45: =BZ45 -> 0 | AU45: =CA45 -> 0 | AV45: 1 | AW45: 1 | AX45: 1 | AY45: 1 | AZ45: 1 | BA45: 1 | BB45: 1 | BC45: 1 | BH45: 3 | BI45: 1 | BJ45: ССЦ Ростовской обл, сб.402, поз.0004 | BM45: 1100 | BN45: 0 | BP45: 0 | BQ45: 8 | BR45: 0 | BS45: 1 | BT45: 1 | BU45: 1 | BV45: 1 | BW45: 1 | BX45: 1 | BZ45: 0 | CA45: 0 | CF45: 0 | CG45: 0 | CM45: 0 | CO45: 0 | CP45: =(P45+Q45+S45) -> 3337.18 | CQ45: =(AC45)*BC45 -> 394 | CR45: =(AD45)*BB45 -> 0 | CS45: =(AE45)*BS45 -> 0 | CT45: =(AF45)*BA45 -> 0 | CU45: =(AG45)*BT45 -> 0 | CV45: =(AH45)*BU45 -> 0 | CW45: =(AI45)*BV45 -> 0 | CX45: =(AJ45)*BW45 -> 0 | CY45: =(((S45+R45)*BZ45)/100) -> 0 | CZ45: =(((S45+R45)*CA45)/100) -> 0 | DN45: 0 | DO45: 0 | DP45: 1 | DQ45: 1 | DR45: 1 | DS45: 1 | DT45: 1 | DU45: 1007 | DV45: м3 | DW45: м3 | DX45: 1 | EE45: 16689463 | EF45: 8 | EG45: Материалы | EH45: 0 | EJ45: 1 | EK45: 1100 | EL45: Материалы, изделия и конструкции | EM45: материалы | EQ45: 0 | ER45: 394 | ES45: 394 | ET45: 0 | EU45: 0 | EV45: 0 | EW45: 0 | EX45: 0 | EY45: 0
A46: 17 | B46: 1 | C46: =ROW(SmtRes!A102) -> 102 | D46: =ROW(EtalonRes!A102) -> 102 | E46: 23 | F46: 11-01-011-2 | G46: Устройство стяжек: цементных на каждые 5 мм изменения толщины стяжки добавлять или исключать к норме 11-01-011-01 | H46: 100М2 | I46: 4.1523 | J46: 0 | O46: =ROUND(CP46,2) -> 3752.85 | P46: =ROUND(CQ46*I46,2) -> 3600.04 | Q46: =ROUND(CR46*I46,2) -> 86.87 | R46: =ROUND(CS46*I46,2) -> 36.87 | S46: =ROUND(CT46*I46,2) -> 65.94 | T46: =ROUND(CU46*I46,2) -> 0 | U46: =CV46*I46 -> 8.3046 | V46: =CW46*I46 -> 3.487932 | W46: =ROUND(CX46*I46,2) -> 0 | X46: =ROUND(CY46,2) -> 126.46 | Y46: =ROUND(CZ46,2) -> 77.11 | AA46: 0 | AB46: =(AC46+AD46+AF46) -> 903.8 | AC46: =((ES46*4)) -> 867 | AD46: =((ET46*4)) -> 20.92 | AE46: =((EU46*4)) -> 8.88 | AF46: =((EV46*4)) -> 15.88 | AG46: =(AP46) -> 0 | AH46: =((EW46*4)) -> 2 | AI46: =((EX46*4)) -> 0.84 | AJ46: =(AS46) -> 0 | AK46: 225.95 | AL46: 216.75 | AM46: 5.23 | AN46: 2.22 | AO46: 3.97 | AP46: 0 | AQ46: 0.5 | AR46: 0.21 | AS46: 0 | AT46: =BZ46 -> 123 | AU46: =CA46 -> 75 | AV46: 1 | AW46: 1 | AX46: 1 | AY46: 1 | AZ46: 1 | BA46: 1 | BB46: 1 | BC46: 1 | BH46: 0 | BI46: 1 | BJ46: ТЕР Ростовской обл,сб.11,гл.01,табл.011,поз.2 | BM46: 17 | BN46: 0 | BP46: 0 | BQ46: 2 | BR46: 0 | BS46: 1 | BT46: 1 | BU46: 1 | BV46: 1 | BW46: 1 | BX46: 1 | BZ46: 123 | CA46: 75 | CF46: 0 | CG46: 0 | CM46: 0 | CO46: 0 | CP46: =(P46+Q46+S46) -> 3752.85 | CQ46: =(AC46)*BC46 -> 867 | CR46: =(AD46)*BB46 -> 20.92 | CS46: =(AE46)*BS46 -> 8.88 | CT46: =(AF46)*BA46 -> 15.88 | CU46: =(AG46)*BT46 -> 0 | CV46: =(AH46)*BU46 -> 2 | CW46: =(AI46)*BV46 -> 0.84 | CX46: =(AJ46)*BW46 -> 0 | CY46: =(((S46+R46)*BZ46)/100) -> 126.4563 | CZ46: =(((S46+R46)*CA46)/100) -> 77.1075 | DD46: )*4 | DE46: )*4 | DF46: )*4 | DG46: )*4 | DI46: )*4 | DJ46: )*4 | DN46: 0 | DO46: 0 | DP46: 1 | DQ46: 1 | DR46: 1 | DS46: 1 | DT46: 1 | DU46: 1013 | DV46: 100М2 | DW46: 100М2 | DX46: 1 | EE46: 16689388 | EF46: 2 | EG46: Общестроительные работы | EH46: 0 | EJ46: 1 | EK46: 17 | EL46: Полы | EM46: 11 | EO46: к=4 | EP46: Подготовка основания. Укладка и разравнивание слоя раствора . | EQ46: 512 | ER46: 225.95 | ES46: 216.75 | ET46: 5.23 | EU46: 2.22 | EV46: 3.97 | EW46: 0.5 | EX46: 0.21 | EY46: 0
A47: 17 | B47: 1 | E47: 24 | F47: 402-0005 | G47: Раствор готовый кладочный цементный, марка 150 (Расход (0,51:100х4)415,23=8,47) | H47: м3 | I47: -8.47 | J47: 0 | O47: =ROUND(CP47,2) -> -3599.75 | P47: =ROUND(CQ47*I47,2) -> -3599.75 | Q47: =ROUND(CR47*I47,2) -> 0 | R47: =ROUND(CS47*I47,2) -> 0 | S47: =ROUND(CT47*I47,2) -> 0 | T47: =ROUND(CU47*I47,2) -> 0 | U47: =CV47*I47 -> 0 | V47: =CW47*I47 -> 0 | W47: =ROUND(CX47*I47,2) -> 0 | X47: =ROUND(CY47,2) -> 0 | Y47: =ROUND(CZ47,2) -> 0 | AA47: 0 | AB47: =(AC47+AD47+AF47) -> 425 | AC47: =(ES47) -> 425 | AD47: =(ET47) -> 0 | AE47: =(EU47) -> 0 | AF47: =(EV47) -> 0 | AG47: =(AP47) -> 0 | AH47: =(EW47) -> 0 | AI47: =(EX47) -> 0 | AJ47: =(AS47) -> 0 | AK47: 425 | AL47: 425 | AM47: 0 | AN47: 0 | AO47: 0 | AP47: 0 | AQ47: 0 | AR47: 0 | AS47: 0 | AT47: =BZ47 -> 0 | AU47: =CA47 -> 0 | AV47: 1 | AW47: 1 | AX47: 1 | AY47: 1 | AZ47: 1 | BA47: 1 | BB47: 1 | BC47: 1 | BH47: 3 | BI47: 1 | BJ47: ССЦ Ростовской обл, сб.402, поз.0005 | BM47: 1100 | BN47: 0 | BP47: 0 | BQ47: 8 | BR47: 0 | BS47: 1 | BT47: 1 | BU47: 1 | BV47: 1 | BW47: 1 | BX47: 1 | BZ47: 0 | CA47: 0 | CF47: 0 | CG47: 0 | CM47: 0 | CO47: 0 | CP47: =(P47+Q47+S47) -> -3599.75 | CQ47: =(AC47)*BC47 -> 425 | CR47: =(AD47)*BB47 -> 0 | CS47: =(AE47)*BS47 -> 0 | CT47: =(AF47)*BA47 -> 0 | CU47: =(AG47)*BT47 -> 0 | CV47: =(AH47)*BU47 -> 0 | CW47: =(AI47)*BV47 -> 0 | CX47: =(AJ47)*BW47 -> 0 | CY47: =(((S47+R47)*BZ47)/100) -> 0 | CZ47: =(((S47+R47)*CA47)/100) -> 0 | DN47: 0 | DO47: 0 | DP47: 1 | DQ47: 1 | DR47: 1 | DS47: 1 | DT47: 1 | DU47: 1007 | DV47: м3 | DW47: м3 | DX47: 1 | EE47: 16689463 | EF47: 8 | EG47: Материалы | EH47: 0 | EJ47: 1 | EK47: 1100 | EL47: Материалы, изделия и конструкции | EM47: материалы | EQ47: 0 | ER47: 425 | ES47: 425 | ET47: 0 | EU47: 0 | EV47: 0 | EW47: 0 | EX47: 0 | EY47: 0
A48: 17 | B48: 1 | E48: 25 | F48: 402-0004 | G48: Раствор готовый кладочный цементный, марка 100 (Расход (0,51:100х4)х415,23=8,47) | H48: м3 | I48: 8.47 | J48: 0 | O48: =ROUND(CP48,2) -> 3337.18 | P48: =ROUND(CQ48*I48,2) -> 3337.18 | Q48: =ROUND(CR48*I48,2) -> 0 | R48: =ROUND(CS48*I48,2) -> 0 | S48: =ROUND(CT48*I48,2) -> 0 | T48: =ROUND(CU48*I48,2) -> 0 | U48: =CV48*I48 -> 0 | V48: =CW48*I48 -> 0 | W48: =ROUND(CX48*I48,2) -> 0 | X48: =ROUND(CY48,2) -> 0 | Y48: =ROUND(CZ48,2) -> 0 | AA48: 0 | AB48: =(AC48+AD48+AF48) -> 394 | AC48: =(ES48) -> 394 | AD48: =(ET48) -> 0 | AE48: =(EU48) -> 0 | AF48: =(EV48) -> 0 | AG48: =(AP48) -> 0 | AH48: =(EW48) -> 0 | AI48: =(EX48) -> 0 | AJ48: =(AS48) -> 0 | AK48: 394 | AL48: 394 | AM48: 0 | AN48: 0 | AO48: 0 | AP48: 0 | AQ48: 0 | AR48: 0 | AS48: 0 | AT48: =BZ48 -> 0 | AU48: =CA48 -> 0 | AV48: 1 | AW48: 1 | AX48: 1 | AY48: 1 | AZ48: 1 | BA48: 1 | BB48: 1 | BC48: 1 | BH48: 3 | BI48: 1 | BJ48: ССЦ Ростовской обл, сб.402, поз.0004 | BM48: 1100 | BN48: 0 | BP48: 0 | BQ48: 8 | BR48: 0 | BS48: 1 | BT48: 1 | BU48: 1 | BV48: 1 | BW48: 1 | BX48: 1 | BZ48: 0 | CA48: 0 | CF48: 0 | CG48: 0 | CM48: 0 | CO48: 0 | CP48: =(P48+Q48+S48) -> 3337.18 | CQ48: =(AC48)*BC48 -> 394 | CR48: =(AD48)*BB48 -> 0 | CS48: =(AE48)*BS48 -> 0 | CT48: =(AF48)*BA48 -> 0 | CU48: =(AG48)*BT48 -> 0 | CV48: =(AH48)*BU48 -> 0 | CW48: =(AI48)*BV48 -> 0 | CX48: =(AJ48)*BW48 -> 0 | CY48: =(((S48+R48)*BZ48)/100) -> 0 | CZ48: =(((S48+R48)*CA48)/100) -> 0 | DN48: 0 | DO48: 0 | DP48: 1 | DQ48: 1 | DR48: 1 | DS48: 1 | DT48: 1 | DU48: 1007 | DV48: м3 | DW48: м3 | DX48: 1 | EE48: 16689463 | EF48: 8 | EG48: Материалы | EH48: 0 | EJ48: 1 | EK48: 1100 | EL48: Материалы, изделия и конструкции | EM48: материалы | EQ48: 0 | ER48: 394 | ES48: 394 | ET48: 0 | EU48: 0 | EV48: 0 | EW48: 0 | EX48: 0 | EY48: 0
